{"text_format":"1","workbook":"xlsx","n_sheets":25,"sheets":["Qualifications","Overview","Results","Calculations-->","Calculation","Variance","Lookup","Regression parameter results-->","All cause parameters","Cancer parameters","Heart parameters","Pulmonary parameters","Stroke parameters","Means parameters","Deaths and Exposures","Death counts-->","1980-1983","1984-1987","1988-1991","1992-1995","1996-1999","2000-2003","2004-2007","2008-11 (NLMS)","2008-11 (MDAC)"],"not_rendered":{"charts":0,"images":0,"macros":1,"external_links":2,"defined_names":68,"comments":0,"pivot_tables":0},"unopened":[],"bounds":{"document_bytes":16777216,"sheet_cells":100000,"rows_first":2000,"rows_last":500,"rows_between":2000,"halvings":0,"cell_chars":16384,"cell_head_chars":4096},"cells_cut":0,"cells_raw":0,"read":"whole","date_system":"1900"}

{"sheet":"Qualifications","index":0,"n_rows":25,"n_cols":2,"rows_kept":25,"cut":false,"hidden":false,"merged":[[24,1,27,10],[5,1,7,10],[9,1,12,10],[17,1,18,10],[20,1,22,10],[14,1,15,10]]}
[]
["SOA MI Trends"]
["Detailed model parameter results"]
["Qualifications"]
[]
[null,"Oliver Wyman was commissioned by the Society of Actuaries to identify how mortality improvement varies by key drivers. The primary audience for this report includes actuaries and members of the public interested in how mortality is changing over time. There are no third party beneficiaries with respect to this documents, and Oliver Wyman does not accept any liability to any third party."]
[]
[]
[]
[null,"Information furnished by others, upon which all or portions of this documents are based, is believed to be reliable but has not been independently verified, unless otherwise expressly indicated. Public information and industry and statistical data are from sources we deem to be reliable; however, we make no representation as to the accuracy or completeness of such information. Any predictions based on this documents are subject to inherent risks and uncertainties. Oliver Wyman accepts no responsibility for actual results or future events."]
[]
[]
[]
[]
[null,"Oliver Wyman shall not have any liability to any third party in respect of this report or any actions taken or decisions made as a consequence of the results, advice or recommendations set forth herein."]
[]
[]
[null,"The opinions expressed in this document are valid only for the purpose stated herein and as of the date of this document. No obligation is assumed to revise this report to reflect changes, events, or conditions, which occur subsequent to the date hereof."]
[]
[]
[null,"This document does not represent investment advice nor does it provide an opinion regarding the fairness of any transaction to any and all parties. In addition, this document does not represent legal, medical, accounting, safety, or other specialized advice. For any such advice, Oliver Wyman recommends seeking and obtaining advice from a qualified professional."]
[]
[]
[]
[null,"Any opinions and conclusions expressed herein are those of the authors and do not necessarily reflect the views of the U.S. Census Bureau. All results have been reviewed to ensure that no confidential information is disclosed. The statistical summaries reported in this document have been cleared by the Census Bureau's Disclosure Review Board release authorization numbers CBDRB-FY22-CES004-012, CBDRB-FY22-CES004-014, CBDRB-FY22-CES004-015, CBDRB-FY22-CES004-016, CBDRB-FY22-CES004-037, and CBDRB-FY22-CES004-038."]

{"sheet":"Overview","index":1,"n_rows":44,"n_cols":4,"rows_kept":44,"cut":false,"hidden":false,"merged":[[20,2,20,12],[21,2,21,11],[27,2,33,12],[35,2,43,12],[23,2,23,12],[24,2,24,12]]}
[]
["SOA MI Trends"]
["Detailed model parameter results"]
["Overview"]
[]
[null,"User input"]
[]
[null,"Sex","Male","sex"]
[null,"Smoker Status","Not Asked","smoker_status"]
[null,"Income Decile",10,"income_decile"]
[null,"Education","High School diploma","education"]
[null,"Race/Ethnicity","White Non-Hispanic","race"]
[null,"Employment Status","Employed","employment_status"]
[null,"Marital Status","Married","marital_status"]
[null,"Occupation","Professional","occupation"]
[null,"Cause of Death","All cause","cause_of_death"]
[]
[]
[null,"Tab","Description"]
[null,"Qualifications","Legal"]
[null,"Overview","User input and description of conents"]
[null,"Results","Output with the following exhibits:\n 1. Smoothed mortality for each regression\n 2. Mortality improvement between each regression\n 3. Annualized mortality improvement\n 4. 75% confidence interval radii for each mortality improvement point estimate"]
[null,"Calculations-->","Spacer"]
[null,"Calculation","Dynamic processing tab that selects regression parameters based on user input and translates them to smoothed mortality and mortality improvement. \nFor more detail on the calculations, see the accompanying report. \nPassword protected to prevent inadvertent edits. Password = SOAMI2022"]
[null,"Variance","Dynamic processing tab used to populate static tables representing the 75% confidence interval for each mortality improvement point estimate\nPassword protected to prevent inadvertent edits. Password = SOAMI2022"]
[null,"Lookup","Support tab"]
[null,"Regression parameter results-->","Spacer"]
[null,"All cause parameters","Parameters provided by the US Census"]
[null,"Cancer parameters"]
[null,"Heart parameters"]
[null,"Pulmonary parameters"]
[null,"Stroke parameters"]
[null,"Means parameters"]
[null,"Deaths and Exposures"]
[null,"Death counts-->","Spacer"]
[null,"1980-1983","Death counts provided by the US Census"]
[null,"1984-1987"]
[null,"1988-1991"]
[null,"1992-1995"]
[null,"1996-1999"]
[null,"2000-2003"]
[null,"2004-2007"]
[null,"2008-11 (NLMS)"]
[null,"2008-11 (MDAC)"]

{"sheet":"Results","index":2,"n_rows":345,"n_cols":11,"rows_kept":345,"cut":false,"hidden":false,"merged":[]}
[]
["SOA MI Trends"]
["Detailed model parameter results"]
["Results"]
[]
[null,"User selections"]
[null,{"$f":"Overview!B8","v":"Sex"},{"$f":"Overview!C8","v":"Male"}]
[null,{"$f":"Overview!B9","v":"Smoker Status"},{"$f":"Overview!C9","v":"Not Asked"}]
[null,{"$f":"Overview!B10","v":"Income Decile"},{"$f":"Overview!C10","v":10}]
[null,{"$f":"Overview!B11","v":"Education"},{"$f":"Overview!C11","v":"High School diploma"}]
[null,{"$f":"Overview!B12","v":"Race/Ethnicity"},{"$f":"Overview!C12","v":"White Non-Hispanic"}]
[null,{"$f":"Overview!B13","v":"Employment Status"},{"$f":"Overview!C13","v":"Employed"}]
[null,{"$f":"Overview!B14","v":"Marital Status"},{"$f":"Overview!C14","v":"Married"}]
[null,{"$f":"Overview!B15","v":"Occupation"},{"$f":"Overview!C15","v":"Professional"}]
[null,{"$f":"Overview!B16","v":"Cause of Death"},{"$f":"Overview!C16","v":"All cause"}]
[]
[null,{"$f":"Calculation!CF6","v":"Smoothed mortality (all cause, cancer, and heart)"}]
[null,null,{"$f":"Calculation!CG7","v":"1980-1983"},{"$f":"Calculation!CH7","v":"1984-1987"},{"$f":"Calculation!CI7","v":"1988-1991"},{"$f":"Calculation!CJ7","v":"1992-1995"},{"$f":"Calculation!CK7","v":"1996-1999"},{"$f":"Calculation!CL7","v":"2000-2003"},{"$f":"Calculation!CM7","v":"2004-2007"},{"$f":"Calculation!CN7","v":"2008-11 (NLMS)"},{"$f":"Calculation!CO7","v":"2008-11 (MDAC)"}]
[null,"40-44",{"$f":"Calculation!CG8","v":5.1759690119610145E-3},{"$f":"Calculation!CH8","v":5.1122839485001591E-3},{"$f":"Calculation!CI8","v":4.9389535109672141E-3},{"$f":"Calculation!CJ8","v":4.680425242522746E-3},{"$f":"Calculation!CK8","v":4.3830487803024534E-3},{"$f":"Calculation!CL8","v":4.0995462263145634E-3},{"$f":"Calculation!CM8","v":3.8678060618775332E-3},{"$f":"Calculation!CN8","v":3.7122093145676993E-3},{"$f":"Calculation!CO8","v":3.6374357446877564E-3}]
[null,"45-49",{"$f":"Calculation!CG9","v":8.036138626242537E-3},{"$f":"Calculation!CH9","v":7.846023921448746E-3},{"$f":"Calculation!CI9","v":7.5156540525739392E-3},{"$f":"Calculation!CJ9","v":7.069736883008727E-3},{"$f":"Calculation!CK9","v":6.5698712098063569E-3},{"$f":"Calculation!CL9","v":6.0938120269768293E-3},{"$f":"Calculation!CM9","v":5.7050250331323405E-3},{"$f":"Calculation!CN9","v":5.4442326593183042E-3},{"$f":"Calculation!CO9","v":5.3248360453217484E-3}]
[null,"50-54",{"$f":"Calculation!CG10","v":1.2673641228468176E-2},{"$f":"Calculation!CH10","v":1.2257943958373253E-2},{"$f":"Calculation!CI10","v":1.1568493719259812E-2},{"$f":"Calculation!CJ10","v":1.0670953302849416E-2},{"$f":"Calculation!CK10","v":9.6939197843188048E-3},{"$f":"Calculation!CL10","v":8.8130367994641648E-3},{"$f":"Calculation!CM10","v":8.1709753334354724E-3},{"$f":"Calculation!CN10","v":7.8549189320661992E-3},{"$f":"Calculation!CO10","v":7.8968944701264549E-3}]
[null,"55-59",{"$f":"Calculation!CG11","v":1.8464094831235397E-2},{"$f":"Calculation!CH11","v":1.8106517516151544E-2},{"$f":"Calculation!CI11","v":1.7227209918633878E-2},{"$f":"Calculation!CJ11","v":1.5929462868818786E-2},{"$f":"Calculation!CK11","v":1.442491091878513E-2},{"$f":"Calculation!CL11","v":1.2982139426174077E-2},{"$f":"Calculation!CM11","v":1.1831331996306099E-2},{"$f":"Calculation!CN11","v":1.1112488214439661E-2},{"$f":"Calculation!CO11","v":1.0869989082732193E-2}]
[null,"60-64",{"$f":"Calculation!CG12","v":2.4878649074701553E-2},{"$f":"Calculation!CH12","v":2.4305903430726476E-2},{"$f":"Calculation!CI12","v":2.3016991186592266E-2},{"$f":"Calculation!CJ12","v":2.113928853285554E-2},{"$f":"Calculation!CK12","v":1.8951664498396741E-2},{"$f":"Calculation!CL12","v":1.6851346031826944E-2},{"$f":"Calculation!CM12","v":1.5196168214735874E-2},{"$f":"Calculation!CN12","v":1.420764847594461E-2},{"$f":"Calculation!CO12","v":1.3961362442318744E-2}]
[null,"65-69",{"$f":"Calculation!CG13","v":3.0946430295210249E-2},{"$f":"Calculation!CH13","v":3.1030863093165974E-2},{"$f":"Calculation!CI13","v":3.0032833697315357E-2},{"$f":"Calculation!CJ13","v":2.8090401567466103E-2},{"$f":"Calculation!CK13","v":2.5517010137445995E-2},{"$f":"Calculation!CL13","v":2.2822456998878738E-2},{"$f":"Calculation!CM13","v":2.0505265075523596E-2},{"$f":"Calculation!CN13","v":1.890046487281111E-2},{"$f":"Calculation!CO13","v":1.8129802502510707E-2}]
[null,"70-74",{"$f":"Calculation!CG14","v":4.2777005328360651E-2},{"$f":"Calculation!CH14","v":4.3591139537386685E-2},{"$f":"Calculation!CI14","v":4.2738404094725645E-2},{"$f":"Calculation!CJ14","v":4.0425113296843805E-2},{"$f":"Calculation!CK14","v":3.7080176923173128E-2},{"$f":"Calculation!CL14","v":3.3362910363405572E-2},{"$f":"Calculation!CM14","v":2.9915406633895129E-2},{"$f":"Calculation!CN14","v":2.7173047542005401E-2},{"$f":"Calculation!CO14","v":2.5292982384203702E-2}]
[null,"75-79",{"$f":"Calculation!CG15","v":6.2120179830571588E-2},{"$f":"Calculation!CH15","v":6.3812132543514921E-2},{"$f":"Calculation!CI15","v":6.2895869211130342E-2},{"$f":"Calculation!CJ15","v":5.9656010014601732E-2},{"$f":"Calculation!CK15","v":5.4759983886933275E-2},{"$f":"Calculation!CL15","v":4.9365656867512236E-2},{"$f":"Calculation!CM15","v":4.4629868473083964E-2},{"$f":"Calculation!CN15","v":4.1354061471807486E-2},{"$f":"Calculation!CO15","v":3.9836229950728066E-2}]
[null,"80-84",{"$f":"Calculation!CG16","v":8.9829635764361454E-2},{"$f":"Calculation!CH16","v":9.337541906128502E-2},{"$f":"Calculation!CI16","v":9.2591826364097171E-2},{"$f":"Calculation!CJ16","v":8.8073401309309754E-2},{"$f":"Calculation!CK16","v":8.1056684565262022E-2},{"$f":"Calculation!CL16","v":7.3447301940151033E-2},{"$f":"Calculation!CM16","v":6.708572759364459E-2},{"$f":"Calculation!CN16","v":6.3261471412346643E-2},{"$f":"Calculation!CO16","v":6.247081416769866E-2}]
[null,"85+",{"$f":"Calculation!CG17","v":0.13170733031752546},{"$f":"Calculation!CH17","v":0.13515668937185546},{"$f":"Calculation!CI17","v":0.13346220622739682},{"$f":"Calculation!CJ17","v":0.12745065351455048},{"$f":"Calculation!CK17","v":0.1189984912967787},{"$f":"Calculation!CL17","v":0.11089372394196134},{"$f":"Calculation!CM17","v":0.10569858604726853},{"$f":"Calculation!CN17","v":0.10509238829529745},{"$f":"Calculation!CO17","v":0.10970606621224874}]
[]
[null,{"$f":"Calculation!CF20","v":"Smoothed mortality (pulmonary and stroke)"}]
[null,null,{"$f":"Calculation!CG21","v":"1980-1983"},{"$f":"Calculation!CH21","v":"1984-1987"},{"$f":"Calculation!CI21","v":"1988-1991"},{"$f":"Calculation!CJ21","v":"1992-1995"},{"$f":"Calculation!CK21","v":"1996-1999"},{"$f":"Calculation!CL21","v":"2000-2003"},{"$f":"Calculation!CM21","v":"2008-11 (MDAC)"}]
[null,"40-44",{"$f":"Calculation!CG22","v":5.1330410367643985E-3},{"$f":"Calculation!CH22","v":5.1442091787018401E-3},{"$f":"Calculation!CI22","v":5.0276136041794671E-3},{"$f":"Calculation!CJ22","v":4.79801988484842E-3},{"$f":"Calculation!CK22","v":4.4789924956162314E-3},{"$f":"Calculation!CL22","v":4.0902035003557357E-3},{"$f":"Calculation!CM22","v":3.6360118435902942E-3}]
[null,"45-49",{"$f":"Calculation!CG23","v":7.9690315543311623E-3},{"$f":"Calculation!CH23","v":7.8961800776661158E-3},{"$f":"Calculation!CI23","v":7.6513478035163431E-3},{"$f":"Calculation!CJ23","v":7.2464674898175289E-3},{"$f":"Calculation!CK23","v":6.7094279352983748E-3},{"$f":"Calculation!CL23","v":6.0670387694833003E-3},{"$f":"Calculation!CM23","v":5.3289311905217332E-3}]
[null,"50-54",{"$f":"Calculation!CG24","v":1.2562581661666374E-2},{"$f":"Calculation!CH24","v":1.2304940071597298E-2},{"$f":"Calculation!CI24","v":1.1766824929863562E-2},{"$f":"Calculation!CJ24","v":1.0988428888737094E-2},{"$f":"Calculation!CK24","v":1.0036161173545317E-2},{"$f":"Calculation!CL24","v":8.9867393658630574E-3},{"$f":"Calculation!CM24","v":7.8744317497721119E-3}]
[null,"55-59",{"$f":"Calculation!CG25","v":1.8249841990438168E-2},{"$f":"Calculation!CH25","v":1.8245249579286627E-2},{"$f":"Calculation!CI25","v":1.764683878203227E-2},{"$f":"Calculation!CJ25","v":1.6512849475553204E-2},{"$f":"Calculation!CK25","v":1.494363959716777E-2},{"$f":"Calculation!CL25","v":1.3037868944444701E-2},{"$f":"Calculation!CM25","v":1.0841947812324051E-2}]
[null,"60-64",{"$f":"Calculation!CG26","v":2.4558590596175683E-2},{"$f":"Calculation!CH26","v":2.44963127966547E-2},{"$f":"Calculation!CI26","v":2.3626654284518003E-2},{"$f":"Calculation!CJ26","v":2.2014396184796624E-2},{"$f":"Calculation!CK26","v":1.9777876658139744E-2},{"$f":"Calculation!CL26","v":1.7057962035426911E-2},{"$f":"Calculation!CM26","v":1.3928492108941825E-2}]
[null,"65-69",{"$f":"Calculation!CG27","v":3.0440550147694936E-2},{"$f":"Calculation!CH27","v":3.1372242062966946E-2},{"$f":"Calculation!CI27","v":3.1017369468766324E-2},{"$f":"Calculation!CJ27","v":2.9426108440874579E-2},{"$f":"Calculation!CK27","v":2.6682371292786344E-2},{"$f":"Calculation!CL27","v":2.2918189532887479E-2},{"$f":"Calculation!CM27","v":1.8207079578870678E-2}]
[null,"70-74",{"$f":"Calculation!CG28","v":4.2035195456064565E-2},{"$f":"Calculation!CH28","v":4.4194636564743595E-2},{"$f":"Calculation!CI28","v":4.4260504437620037E-2},{"$f":"Calculation!CJ28","v":4.2309567742750694E-2},{"$f":"Calculation!CK28","v":3.8444503755592919E-2},{"$f":"Calculation!CL28","v":3.2804566164172357E-2},{"$f":"Calculation!CM28","v":2.5460875732966522E-2}]
[null,"75-79",{"$f":"Calculation!CG29","v":6.0965647465596629E-2},{"$f":"Calculation!CH29","v":6.4531601047365925E-2},{"$f":"Calculation!CI29","v":6.5091709924918348E-2},{"$f":"Calculation!CJ29","v":6.2735346588490282E-2},{"$f":"Calculation!CK29","v":5.7611584203139526E-2},{"$f":"Calculation!CL29","v":5.0006163532454274E-2},{"$f":"Calculation!CM29","v":4.0079979504012903E-2}]
[null,"80-84",{"$f":"Calculation!CG30","v":8.8170062056547205E-2},{"$f":"Calculation!CH30","v":9.415690153511766E-2},{"$f":"Calculation!CI30","v":9.5566507790350627E-2},{"$f":"Calculation!CJ30","v":9.2680373568307439E-2},{"$f":"Calculation!CK30","v":8.5929284125363201E-2},{"$f":"Calculation!CL30","v":7.5878218116460769E-2},{"$f":"Calculation!CM30","v":6.28162423408095E-2}]
[null,"85+",{"$f":"Calculation!CG31","v":0.13008146073857599},{"$f":"Calculation!CH31","v":0.13512196515076241},{"$f":"Calculation!CI31","v":0.13579930675869145},{"$f":"Calculation!CJ31","v":0.13259088391490786},{"$f":"Calculation!CK31","v":0.12642885059886536},{"$f":"Calculation!CL31","v":0.11848470157468902},{"$f":"Calculation!CM31","v":0.1093895641487492}]
[]
[null,{"$f":"Calculation!CQ6","v":"Mortality improvement (all cause, cancer, heart)"}]
[null,null,"1987.5-1991.5","1991.5-1995.5","1995.5-1999.5","1999.5-2003.5","2003.5-2006","2006-2008","2008-2010","2010-2012"]
[null,"40-44",{"$f":"Calculation!CR8","v":3.090292510111059E-3},{"$f":"Calculation!CS8","v":8.5861249024634656E-3},{"$f":"Calculation!CT8","v":1.3351196267507803E-2},{"$f":"Calculation!CU8","v":1.6277176155970796E-2},{"$f":"Calculation!CV8","v":2.6392762798748248E-2},{"$f":"Calculation!CW8","v":2.8675259079229187E-2},{"$f":"Calculation!CX8","v":2.0320809582963006E-2},{"$f":"Calculation!CY8","v":1.0122535902521546E-2}]
[null,"45-49",{"$f":"Calculation!CR9","v":5.9675730786953318E-3},{"$f":"Calculation!CS9","v":1.0697085933658479E-2},{"$f":"Calculation!CT9","v":1.5174880553466275E-2},{"$f":"Calculation!CU9","v":1.8165244712000872E-2},{"$f":"Calculation!CV9","v":2.9640015232249795E-2},{"$f":"Calculation!CW9","v":3.2425864943714688E-2},{"$f":"Calculation!CX9","v":2.3123727576128572E-2},{"$f":"Calculation!CY9","v":1.1026210367812816E-2}]
[null,"50-54",{"$f":"Calculation!CR10","v":8.3028715744294379E-3},{"$f":"Calculation!CS10","v":1.4367998071656451E-2},{"$f":"Calculation!CT10","v":1.9987531731815888E-2},{"$f":"Calculation!CU10","v":2.3720768591920849E-2},{"$f":"Calculation!CV10","v":3.738978777334756E-2},{"$f":"Calculation!CW10","v":3.7115583746786807E-2},{"$f":"Calculation!CX10","v":1.9530916545466237E-2},{"$f":"Calculation!CY10","v":-2.6683667887443807E-3}]
[null,"55-59",{"$f":"Calculation!CR11","v":4.8770854821674758E-3},{"$f":"Calculation!CS11","v":1.2368338356067765E-2},{"$f":"Calculation!CT11","v":1.9389483409656183E-2},{"$f":"Calculation!CU11","v":2.4498364221857694E-2},{"$f":"Calculation!CV11","v":4.1276767402708137E-2},{"$f":"Calculation!CW11","v":4.5351078960269131E-2},{"$f":"Calculation!CX11","v":3.0854829042244236E-2},{"$f":"Calculation!CY11","v":1.0971293249460001E-2}]
[null,"60-64",{"$f":"Calculation!CR12","v":5.8057581641398626E-3},{"$f":"Calculation!CS12","v":1.3529287730888795E-2},{"$f":"Calculation!CT12","v":2.1050128355686093E-2},{"$f":"Calculation!CU12","v":2.6940833396906894E-2},{"$f":"Calculation!CV12","v":4.5897805237302913E-2},{"$f":"Calculation!CW12","v":5.0380229356208561E-2},{"$f":"Calculation!CX12","v":3.3072180573522347E-2},{"$f":"Calculation!CY12","v":8.7052657984201254E-3}]
[null,"65-69",{"$f":"Calculation!CR13","v":-6.8139158894076068E-4},{"$f":"Calculation!CS13","v":8.1394570447610448E-3},{"$f":"Calculation!CT13","v":1.6576891545168393E-2},{"$f":"Calculation!CU13","v":2.3734460772335986E-2},{"$f":"Calculation!CV13","v":4.365840678638766E-2},{"$f":"Calculation!CW13","v":5.2124069782376714E-2},{"$f":"Calculation!CX13","v":3.9928563200836154E-2},{"$f":"Calculation!CY13","v":2.0599562933347859E-2}]
[null,"70-74",{"$f":"Calculation!CR14","v":-4.7244272186974801E-3},{"$f":"Calculation!CS14","v":4.9268228816916615E-3},{"$f":"Calculation!CT14","v":1.3815355130621931E-2},{"$f":"Calculation!CU14","v":2.1360731790317722E-2},{"$f":"Calculation!CV14","v":4.1374775696987554E-2},{"$f":"Calculation!CW14","v":5.3075199930066264E-2},{"$f":"Calculation!CX14","v":4.6936759787800986E-2},{"$f":"Calculation!CY14","v":3.5214325093643195E-2}]
[null,"75-79",{"$f":"Calculation!CR15","v":-6.7407282191005446E-3},{"$f":"Calculation!CS15","v":3.6091832591578221E-3},{"$f":"Calculation!CT15","v":1.3134379024940634E-2},{"$f":"Calculation!CU15","v":2.1181256360442324E-2},{"$f":"Calculation!CV15","v":4.0633292164357182E-2},{"$f":"Calculation!CW15","v":4.9175544509681313E-2},{"$f":"Calculation!CX15","v":3.7399060936809225E-2},{"$f":"Calculation!CY15","v":1.8523216831231148E-2}]
[null,"80-84",{"$f":"Calculation!CR16","v":-9.7252839007062608E-3},{"$f":"Calculation!CS16","v":2.1045976800029287E-3},{"$f":"Calculation!CT16","v":1.2429679628346735E-2},{"$f":"Calculation!CU16","v":2.0541551182395201E-2},{"$f":"Calculation!CV16","v":3.8664889196159624E-2},{"$f":"Calculation!CW16","v":4.4287769546290767E-2},{"$f":"Calculation!CX16","v":2.8920966648606772E-2},{"$f":"Calculation!CY16","v":6.2687702592418848E-3}]
[null,"85+",{"$f":"Calculation!CR17","v":-6.4840563124863859E-3},{"$f":"Calculation!CS17","v":3.1491382954978997E-3},{"$f":"Calculation!CT17","v":1.1456142848095374E-2},{"$f":"Calculation!CU17","v":1.700830833775846E-2},{"$f":"Calculation!CV17","v":2.7821068597194021E-2},{"$f":"Calculation!CW17","v":2.3704910511195054E-2},{"$f":"Calculation!CX17","v":2.8717007270877559E-3},{"$f":"Calculation!CY17","v":-2.171481420056276E-2}]
[]
[null,{"$f":"Calculation!CQ20","v":"Mortality improvement (Pulmonary and Stroke)"}]
[null,null,"1987.5-1991.5","1991.5-1995.5","1995.5-1999.5","1999.5-2003.5","2003.5-2006","2006-2012"]
[null,"40-44",{"$f":"Calculation!CR22","v":-5.4349075465931485E-4},{"$f":"Calculation!CS22","v":5.7151589225302724E-3},{"$f":"Calculation!CT22","v":1.1617521873959036E-2},{"$f":"Calculation!CU22","v":1.7054196630775786E-2},{"$f":"Calculation!CV22","v":3.5669656355230117E-2},{"$f":"Calculation!CW22","v":1.9426703367004805E-2}]
[null,"45-49",{"$f":"Calculation!CR23","v":2.2933327806792247E-3},{"$f":"Calculation!CS23","v":7.8434018011092066E-3},{"$f":"Calculation!CT23","v":1.3499973948217558E-2},{"$f":"Calculation!CU23","v":1.9066003841938017E-2},{"$f":"Calculation!CV23","v":3.9457664341151055E-2},{"$f":"Calculation!CW23","v":2.1387954572880452E-2}]
[null,"50-54",{"$f":"Calculation!CR24","v":5.1670726779834419E-3},{"$f":"Calculation!CS24","v":1.1116917325469378E-2},{"$f":"Calculation!CT24","v":1.6964780944834112E-2},{"$f":"Calculation!CU24","v":2.2407173055689955E-2},{"$f":"Calculation!CV24","v":4.3216212430863266E-2},{"$f":"Calculation!CW24","v":2.1780807267866908E-2}]
[null,"55-59",{"$f":"Calculation!CR25","v":6.2916223910636226E-5},{"$f":"Calculation!CS25","v":8.302365314647342E-3},{"$f":"Calculation!CT25","v":1.6467362739878699E-2},{"$f":"Calculation!CU25","v":2.4654261650575382E-2},{"$f":"Calculation!CV25","v":5.3108777981608957E-2},{"$f":"Calculation!CW25","v":3.0271595334300794E-2}]
[null,"60-64",{"$f":"Calculation!CR26","v":6.3457541033429266E-4},{"$f":"Calculation!CS26","v":8.9960696780170268E-3},{"$f":"Calculation!CT26","v":1.7514526452821477E-2},{"$f":"Calculation!CU26","v":2.6427671664880803E-2},{"$f":"Calculation!CV26","v":5.7461732624110806E-2},{"$f":"Calculation!CW26","v":3.3215913585724621E-2}]
[null,"65-69",{"$f":"Calculation!CR27","v":-7.5654457601572744E-3},{"$f":"Calculation!CS27","v":2.8399941140326845E-3},{"$f":"Calculation!CT27","v":1.3079961612423197E-2},{"$f":"Calculation!CU27","v":2.4172847971532962E-2},{"$f":"Calculation!CV27","v":5.9015752069300764E-2},{"$f":"Calculation!CW27","v":3.7627220423479546E-2}]
[null,"70-74",{"$f":"Calculation!CR28","v":-1.2602799944039678E-2},{"$f":"Calculation!CS28","v":-3.7239298876645677E-4},{"$f":"Calculation!CT28","v":1.1206603762844436E-2},{"$f":"Calculation!CU28","v":2.366486641901222E-2},{"$f":"Calculation!CV28","v":6.1487598610458938E-2},{"$f":"Calculation!CW28","v":4.135788067051549E-2}]
[null,"75-79",{"$f":"Calculation!CR29","v":-1.4312581379408273E-2},{"$f":"Calculation!CS29","v":-2.1628743611981083E-3},{"$f":"Calculation!CT29","v":9.1756858895375437E-3},{"$f":"Calculation!CU29","v":2.1075091881389008E-2},{"$f":"Calculation!CV29","v":5.5057270903443589E-2},{"$f":"Calculation!CW29","v":3.620650151988114E-2}]
[null,"80-84",{"$f":"Calculation!CR30","v":-1.6559382299058845E-2},{"$f":"Calculation!CS30","v":-3.721875471993874E-3},{"$f":"Calculation!CT30","v":7.6371108005935939E-3},{"$f":"Calculation!CU30","v":1.8730377345459903E-2},{"$f":"Calculation!CV30","v":4.8540357166643955E-2},{"$f":"Calculation!CW30","v":3.0995475291538566E-2}]
[null,"85+",{"$f":"Calculation!CR31","v":-9.5495438866231019E-3},{"$f":"Calculation!CS31","v":-1.2508551934689027E-3},{"$f":"Calculation!CT31","v":5.9596165150966884E-3},{"$f":"Calculation!CU31","v":1.1826664308389634E-2},{"$f":"Calculation!CV31","v":2.5624319709109278E-2},{"$f":"Calculation!CW31","v":1.3223188195268687E-2}]
[]
[null,"Annualized mortality improvement"]
[null,null,"Annualized MI","Annualized MI (smoothed)"]
[null,"40-44",{"$f":"1-(Calculation!CD8/Calculation!BV8)^(1/24.5)","v":1.2907574386349263E-2},{"$f":"IF(OR(cause_of_death=\"Pulmonary\",cause_of_death=\"Stroke\"),1-(Calculation!CM22/Calculation!CG22)^(1/24.5),1-(Calculation!CO8/Calculation!CG8)^(1/24.5))","v":1.4294707784482052E-2}]
[null,"45-49",{"$f":"1-(Calculation!CD9/Calculation!BV9)^(1/24.5)","v":1.5603282351219439E-2},{"$f":"IF(OR(cause_of_death=\"Pulmonary\",cause_of_death=\"Stroke\"),1-(Calculation!CM23/Calculation!CG23)^(1/24.5),1-(Calculation!CO9/Calculation!CG9)^(1/24.5))","v":1.6658333471132436E-2}]
[null,"50-54",{"$f":"1-(Calculation!CD10/Calculation!BV10)^(1/24.5)","v":1.7357559665788558E-2},{"$f":"IF(OR(cause_of_death=\"Pulmonary\",cause_of_death=\"Stroke\"),1-(Calculation!CM24/Calculation!CG24)^(1/24.5),1-(Calculation!CO10/Calculation!CG10)^(1/24.5))","v":1.912314540728377E-2}]
[null,"55-59",{"$f":"1-(Calculation!CD11/Calculation!BV11)^(1/24.5)","v":1.951699678272234E-2},{"$f":"IF(OR(cause_of_death=\"Pulmonary\",cause_of_death=\"Stroke\"),1-(Calculation!CM25/Calculation!CG25)^(1/24.5),1-(Calculation!CO11/Calculation!CG11)^(1/24.5))","v":2.139324869204895E-2}]
[null,"60-64",{"$f":"1-(Calculation!CD12/Calculation!BV12)^(1/24.5)","v":2.14360625597253E-2},{"$f":"IF(OR(cause_of_death=\"Pulmonary\",cause_of_death=\"Stroke\"),1-(Calculation!CM26/Calculation!CG26)^(1/24.5),1-(Calculation!CO12/Calculation!CG12)^(1/24.5))","v":2.3304414477736346E-2}]
[null,"65-69",{"$f":"1-(Calculation!CD13/Calculation!BV13)^(1/24.5)","v":1.97730895046897E-2},{"$f":"IF(OR(cause_of_death=\"Pulmonary\",cause_of_death=\"Stroke\"),1-(Calculation!CM27/Calculation!CG27)^(1/24.5),1-(Calculation!CO13/Calculation!CG13)^(1/24.5))","v":2.1588079639245694E-2}]
[null,"70-74",{"$f":"1-(Calculation!CD14/Calculation!BV14)^(1/24.5)","v":1.9352902223634394E-2},{"$f":"IF(OR(cause_of_death=\"Pulmonary\",cause_of_death=\"Stroke\"),1-(Calculation!CM28/Calculation!CG28)^(1/24.5),1-(Calculation!CO14/Calculation!CG14)^(1/24.5))","v":2.1219536123945004E-2}]
[null,"75-79",{"$f":"1-(Calculation!CD15/Calculation!BV15)^(1/24.5)","v":1.6045157183900982E-2},{"$f":"IF(OR(cause_of_death=\"Pulmonary\",cause_of_death=\"Stroke\"),1-(Calculation!CM29/Calculation!CG29)^(1/24.5),1-(Calculation!CO15/Calculation!CG15)^(1/24.5))","v":1.7971013108640799E-2}]
[null,"80-84",{"$f":"1-(Calculation!CD16/Calculation!BV16)^(1/24.5)","v":1.218209715546692E-2},{"$f":"IF(OR(cause_of_death=\"Pulmonary\",cause_of_death=\"Stroke\"),1-(Calculation!CM30/Calculation!CG30)^(1/24.5),1-(Calculation!CO16/Calculation!CG16)^(1/24.5))","v":1.4715770007927009E-2}]
[null,"85+",{"$f":"1-(Calculation!CD17/Calculation!BV17)^(1/24.5)","v":5.1822083804538011E-3},{"$f":"IF(OR(cause_of_death=\"Pulmonary\",cause_of_death=\"Stroke\"),1-(Calculation!CM31/Calculation!CG31)^(1/24.5),1-(Calculation!CO17/Calculation!CG17)^(1/24.5))","v":7.4325512627140267E-3}]
[]
[null,"75% confidence interval radius (all cause)"]
[null,null,"1987.5-1991.5","1991.5-1995.5","1995.5-1999.5","1999.5-2003.5","2003.5-2006","2006-2008","2008-2010","2010-2012"]
[null,"age 40-44 ",{"$f":"IFERROR(Variance!W123,\"N/A\")","v":4.7655059949461558E-2},{"$f":"IFERROR(Variance!X123,\"N/A\")","v":5.580431795929048E-2},{"$f":"IFERROR(Variance!Y123,\"N/A\")","v":5.2232873586098662E-2},{"$f":"IFERROR(Variance!Z123,\"N/A\")","v":5.0646596537171421E-2},{"$f":"IFERROR(Variance!AA123,\"N/A\")","v":4.9217770609948995E-2},{"$f":"IFERROR(Variance!AB123,\"N/A\")","v":5.0499856737119722E-2},{"$f":"IFERROR(Variance!AC123,\"N/A\")","v":8.2235582730296145E-2},{"$f":"IFERROR(Variance!AD123,\"N/A\")","v":7.5439152373238963E-2}]
[null,"age 45-49 ",{"$f":"IFERROR(Variance!W124,\"N/A\")","v":4.1214423456965139E-2},{"$f":"IFERROR(Variance!X124,\"N/A\")","v":4.9489148403356699E-2},{"$f":"IFERROR(Variance!Y124,\"N/A\")","v":4.6675898039931114E-2},{"$f":"IFERROR(Variance!Z124,\"N/A\")","v":4.3532408627002327E-2},{"$f":"IFERROR(Variance!AA124,\"N/A\")","v":4.1742972433910501E-2},{"$f":"IFERROR(Variance!AB124,\"N/A\")","v":4.3269495942312615E-2},{"$f":"IFERROR(Variance!AC124,\"N/A\")","v":6.4694517762236045E-2},{"$f":"IFERROR(Variance!AD124,\"N/A\")","v":5.83685341440663E-2}]
[null,"age 50-54 ",{"$f":"IFERROR(Variance!W125,\"N/A\")","v":3.2184251197592793E-2},{"$f":"IFERROR(Variance!X125,\"N/A\")","v":4.0451355595601313E-2},{"$f":"IFERROR(Variance!Y125,\"N/A\")","v":3.9138163210874925E-2},{"$f":"IFERROR(Variance!Z125,\"N/A\")","v":3.8002731494160065E-2},{"$f":"IFERROR(Variance!AA125,\"N/A\")","v":3.7580694225189407E-2},{"$f":"IFERROR(Variance!AB125,\"N/A\")","v":3.7939582743742581E-2},{"$f":"IFERROR(Variance!AC125,\"N/A\")","v":6.3261740077650175E-2},{"$f":"IFERROR(Variance!AD125,\"N/A\")","v":5.9560917392577392E-2}]
[null,"age 55-59 ",{"$f":"IFERROR(Variance!W126,\"N/A\")","v":2.6116484972192027E-2},{"$f":"IFERROR(Variance!X126,\"N/A\")","v":3.2901988610522487E-2},{"$f":"IFERROR(Variance!Y126,\"N/A\")","v":3.3405171137470963E-2},{"$f":"IFERROR(Variance!Z126,\"N/A\")","v":3.4093743667625943E-2},{"$f":"IFERROR(Variance!AA126,\"N/A\")","v":3.45794376344256E-2},{"$f":"IFERROR(Variance!AB126,\"N/A\")","v":3.4682695453995993E-2},{"$f":"IFERROR(Variance!AC126,\"N/A\")","v":5.0457937872370691E-2},{"$f":"IFERROR(Variance!AD126,\"N/A\")","v":4.5983730030349286E-2}]
[null,"age 60-64",{"$f":"IFERROR(Variance!W127,\"N/A\")","v":2.2406733871224611E-2},{"$f":"IFERROR(Variance!X127,\"N/A\")","v":2.7130483462150665E-2},{"$f":"IFERROR(Variance!Y127,\"N/A\")","v":2.7403391309387352E-2},{"$f":"IFERROR(Variance!Z127,\"N/A\")","v":2.8737625697017776E-2},{"$f":"IFERROR(Variance!AA127,\"N/A\")","v":2.9983791156871879E-2},{"$f":"IFERROR(Variance!AB127,\"N/A\")","v":3.195761509817667E-2},{"$f":"IFERROR(Variance!AC127,\"N/A\")","v":4.7549198701376645E-2},{"$f":"IFERROR(Variance!AD127,\"N/A\")","v":4.3470108980746547E-2}]
[null,"age 65-69 (age group) ",{"$f":"IFERROR(Variance!W128,\"N/A\")","v":2.0540595475350427E-2},{"$f":"IFERROR(Variance!X128,\"N/A\")","v":2.422407710976086E-2},{"$f":"IFERROR(Variance!Y128,\"N/A\")","v":2.3692867746898945E-2},{"$f":"IFERROR(Variance!Z128,\"N/A\")","v":2.4183520557182321E-2},{"$f":"IFERROR(Variance!AA128,\"N/A\")","v":2.5943666022891741E-2},{"$f":"IFERROR(Variance!AB128,\"N/A\")","v":2.9037567867196613E-2},{"$f":"IFERROR(Variance!AC128,\"N/A\")","v":4.4185569640336958E-2},{"$f":"IFERROR(Variance!AD128,\"N/A\")","v":4.020455123189981E-2}]
[null,"age 70-74 ",{"$f":"IFERROR(Variance!W129,\"N/A\")","v":1.9912686142818988E-2},{"$f":"IFERROR(Variance!X129,\"N/A\")","v":2.3309404056658614E-2},{"$f":"IFERROR(Variance!Y129,\"N/A\")","v":2.2113178633859244E-2},{"$f":"IFERROR(Variance!Z129,\"N/A\")","v":2.1460399132949268E-2},{"$f":"IFERROR(Variance!AA129,\"N/A\")","v":2.258887105440556E-2},{"$f":"IFERROR(Variance!AB129,\"N/A\")","v":2.5725860428447763E-2},{"$f":"IFERROR(Variance!AC129,\"N/A\")","v":4.1005681421879693E-2},{"$f":"IFERROR(Variance!AD129,\"N/A\")","v":3.7164219158800589E-2}]
[null,"age 75-79 ",{"$f":"IFERROR(Variance!W130,\"N/A\")","v":2.1115058200594589E-2},{"$f":"IFERROR(Variance!X130,\"N/A\")","v":2.4467718674424231E-2},{"$f":"IFERROR(Variance!Y130,\"N/A\")","v":2.2549035288245069E-2},{"$f":"IFERROR(Variance!Z130,\"N/A\")","v":2.1094488520839925E-2},{"$f":"IFERROR(Variance!AA130,\"N/A\")","v":2.1318509782958323E-2},{"$f":"IFERROR(Variance!AB130,\"N/A\")","v":2.3218986986833109E-2},{"$f":"IFERROR(Variance!AC130,\"N/A\")","v":3.7004772088449149E-2},{"$f":"IFERROR(Variance!AD130,\"N/A\")","v":3.4127613063575771E-2}]
[null,"age 80-84 ",{"$f":"IFERROR(Variance!W131,\"N/A\")","v":2.4658080280368862E-2},{"$f":"IFERROR(Variance!X131,\"N/A\")","v":2.835475658644223E-2},{"$f":"IFERROR(Variance!Y131,\"N/A\")","v":2.5476225479506492E-2},{"$f":"IFERROR(Variance!Z131,\"N/A\")","v":2.3315508459499375E-2},{"$f":"IFERROR(Variance!AA131,\"N/A\")","v":2.2523298014053283E-2},{"$f":"IFERROR(Variance!AB131,\"N/A\")","v":2.362876797692717E-2},{"$f":"IFERROR(Variance!AC131,\"N/A\")","v":3.6909391484772854E-2},{"$f":"IFERROR(Variance!AD131,\"N/A\")","v":3.3849355223164825E-2}]
[null,"age 85+",{"$f":"IFERROR(Variance!W132,\"N/A\")","v":2.8680734794075926E-2},{"$f":"IFERROR(Variance!X132,\"N/A\")","v":3.3417923898618737E-2},{"$f":"IFERROR(Variance!Y132,\"N/A\")","v":3.0040523540449646E-2},{"$f":"IFERROR(Variance!Z132,\"N/A\")","v":2.6847975065982892E-2},{"$f":"IFERROR(Variance!AA132,\"N/A\")","v":2.8426527903027684E-2},{"$f":"IFERROR(Variance!AB132,\"N/A\")","v":2.771418090094787E-2},{"$f":"IFERROR(Variance!AC132,\"N/A\")","v":3.3295807761648089E-2},{"$f":"IFERROR(Variance!AD132,\"N/A\")","v":2.9835302032779367E-2}]
[null,"Male (Sex)",{"$f":"IFERROR(Variance!W133,\"N/A\")","v":1.0269917946791914E-2},{"$f":"IFERROR(Variance!X133,\"N/A\")","v":1.2329770109536623E-2},{"$f":"IFERROR(Variance!Y133,\"N/A\")","v":1.1958135181892234E-2},{"$f":"IFERROR(Variance!Z133,\"N/A\")","v":1.1728965489766109E-2},{"$f":"IFERROR(Variance!AA133,\"N/A\")","v":1.1717984482016053E-2},{"$f":"IFERROR(Variance!AB133,\"N/A\")","v":1.2292233584487897E-2},{"$f":"IFERROR(Variance!AC133,\"N/A\")","v":1.8976331011670511E-2},{"$f":"IFERROR(Variance!AD133,\"N/A\")","v":1.7421392098374816E-2}]
[null,"Female       ",{"$f":"IFERROR(Variance!W134,\"N/A\")","v":1.1605857010912587E-2},{"$f":"IFERROR(Variance!X134,\"N/A\")","v":1.3485414065377644E-2},{"$f":"IFERROR(Variance!Y134,\"N/A\")","v":1.2557838815678141E-2},{"$f":"IFERROR(Variance!Z134,\"N/A\")","v":1.2042563384319756E-2},{"$f":"IFERROR(Variance!AA134,\"N/A\")","v":1.1994900624271021E-2},{"$f":"IFERROR(Variance!AB134,\"N/A\")","v":1.2547754770845977E-2},{"$f":"IFERROR(Variance!AC134,\"N/A\")","v":1.9452954482768545E-2},{"$f":"IFERROR(Variance!AD134,\"N/A\")","v":1.750195515003573E-2}]
[null,"1-Never  ","N/A","N/A","N/A",{"$f":"IFERROR(Variance!Z135,\"N/A\")","v":1.6754344873626956E-2},{"$f":"IFERROR(Variance!AA135,\"N/A\")","v":1.4857239041585741E-2},{"$f":"IFERROR(Variance!AB135,\"N/A\")","v":2.0377603183400778E-2},{"$f":"IFERROR(Variance!AC135,\"N/A\")","v":4.7252601986739987E-2},"N/A"]
[null,"2-Current","N/A","N/A","N/A",{"$f":"IFERROR(Variance!Z136,\"N/A\")","v":2.7618180480998344E-2},{"$f":"IFERROR(Variance!AA136,\"N/A\")","v":2.3685315535613333E-2},{"$f":"IFERROR(Variance!AB136,\"N/A\")","v":3.0683781036385388E-2},{"$f":"IFERROR(Variance!AC136,\"N/A\")","v":6.5742821553730388E-2},"N/A"]
[null,"3-Former ","N/A","N/A","N/A",{"$f":"IFERROR(Variance!Z137,\"N/A\")","v":1.9045805651365343E-2},{"$f":"IFERROR(Variance!AA137,\"N/A\")","v":1.658555108515531E-2},{"$f":"IFERROR(Variance!AB137,\"N/A\")","v":2.2805448285952216E-2},{"$f":"IFERROR(Variance!AC137,\"N/A\")","v":5.2499707478061625E-2},"N/A"]
[null,"4-Not_Asked (smoker)",{"$f":"IFERROR(Variance!W138,\"N/A\")","v":7.4331757833602892E-3},{"$f":"IFERROR(Variance!X138,\"N/A\")","v":8.8453290711548119E-3},{"$f":"IFERROR(Variance!Y138,\"N/A\")","v":9.8025021680151741E-3},{"$f":"IFERROR(Variance!Z138,\"N/A\")","v":1.202091209182074E-2},{"$f":"IFERROR(Variance!AA138,\"N/A\")","v":1.5126550192970066E-2},{"$f":"IFERROR(Variance!AB138,\"N/A\")","v":1.4303765726339915E-2},{"$f":"IFERROR(Variance!AC138,\"N/A\")","v":1.5385060262869323E-2},{"$f":"IFERROR(Variance!AD138,\"N/A\")","v":1.3844544133073426E-2}]
[null,"1-Married (marital status)",{"$f":"IFERROR(Variance!W139,\"N/A\")","v":9.7522646228137312E-3},{"$f":"IFERROR(Variance!X139,\"N/A\")","v":1.1661234829824136E-2},{"$f":"IFERROR(Variance!Y139,\"N/A\")","v":1.1319604783443942E-2},{"$f":"IFERROR(Variance!Z139,\"N/A\")","v":1.1268739097454215E-2},{"$f":"IFERROR(Variance!AA139,\"N/A\")","v":1.1400628204120283E-2},{"$f":"IFERROR(Variance!AB139,\"N/A\")","v":1.2359247739372012E-2},{"$f":"IFERROR(Variance!AC139,\"N/A\")","v":2.0075982150077009E-2},{"$f":"IFERROR(Variance!AD139,\"N/A\")","v":1.8499255766356682E-2}]
[null,"2-Widowed    ",{"$f":"IFERROR(Variance!W140,\"N/A\")","v":1.3910908201259996E-2},{"$f":"IFERROR(Variance!X140,\"N/A\")","v":1.6552763629244075E-2},{"$f":"IFERROR(Variance!Y140,\"N/A\")","v":1.5641379030553817E-2},{"$f":"IFERROR(Variance!Z140,\"N/A\")","v":1.5095650312981915E-2},{"$f":"IFERROR(Variance!AA140,\"N/A\")","v":1.5530678957401846E-2},{"$f":"IFERROR(Variance!AB140,\"N/A\")","v":1.6640263436396813E-2},{"$f":"IFERROR(Variance!AC140,\"N/A\")","v":2.5896264543505739E-2},{"$f":"IFERROR(Variance!AD140,\"N/A\")","v":2.4702344763509423E-2}]
[null,"3-Divorced   ",{"$f":"IFERROR(Variance!W141,\"N/A\")","v":3.0481858550673532E-2},{"$f":"IFERROR(Variance!X141,\"N/A\")","v":3.4740968323751606E-2},{"$f":"IFERROR(Variance!Y141,\"N/A\")","v":3.117682430557223E-2},{"$f":"IFERROR(Variance!Z141,\"N/A\")","v":2.805684909859562E-2},{"$f":"IFERROR(Variance!AA141,\"N/A\")","v":2.630314244054377E-2},{"$f":"IFERROR(Variance!AB141,\"N/A\")","v":2.6457573271971548E-2},{"$f":"IFERROR(Variance!AC141,\"N/A\")","v":4.0196100284093657E-2},{"$f":"IFERROR(Variance!AD141,\"N/A\")","v":3.7863522831856088E-2}]
[null,"4-Separated  ",{"$f":"IFERROR(Variance!W142,\"N/A\")","v":5.7769908450664466E-2},{"$f":"IFERROR(Variance!X142,\"N/A\")","v":6.8612412925850089E-2},{"$f":"IFERROR(Variance!Y142,\"N/A\")","v":6.4109725237160173E-2},{"$f":"IFERROR(Variance!Z142,\"N/A\")","v":6.3047605606334045E-2},{"$f":"IFERROR(Variance!AA142,\"N/A\")","v":6.5303948644674301E-2},{"$f":"IFERROR(Variance!AB142,\"N/A\")","v":6.549311828626822E-2},{"$f":"IFERROR(Variance!AC142,\"N/A\")","v":9.9144336469239799E-2},{"$f":"IFERROR(Variance!AD142,\"N/A\")","v":9.4473172731345992E-2}]
[null,"5-NeverMar.  ",{"$f":"IFERROR(Variance!W143,\"N/A\")","v":3.0081657205321098E-2},{"$f":"IFERROR(Variance!X143,\"N/A\")","v":3.6829455559611479E-2},{"$f":"IFERROR(Variance!Y143,\"N/A\")","v":3.57143379454542E-2},{"$f":"IFERROR(Variance!Z143,\"N/A\")","v":3.4843665640423689E-2},{"$f":"IFERROR(Variance!AA143,\"N/A\")","v":3.4623411851030572E-2},{"$f":"IFERROR(Variance!AB143,\"N/A\")","v":3.4826244067873484E-2},{"$f":"IFERROR(Variance!AC143,\"N/A\")","v":5.1479529765894587E-2},{"$f":"IFERROR(Variance!AD143,\"N/A\")","v":4.7915719034558227E-2}]
[null,"1-Lowest inc.  ",{"$f":"IFERROR(Variance!W144,\"N/A\")","v":1.7338981215798827E-2},{"$f":"IFERROR(Variance!X144,\"N/A\")","v":2.159783668143761E-2},{"$f":"IFERROR(Variance!Y144,\"N/A\")","v":2.0157959392646668E-2},{"$f":"IFERROR(Variance!Z144,\"N/A\")","v":1.9415082993280548E-2},{"$f":"IFERROR(Variance!AA144,\"N/A\")","v":2.0030383663678528E-2},{"$f":"IFERROR(Variance!AB144,\"N/A\")","v":2.0651437754405241E-2},{"$f":"IFERROR(Variance!AC144,\"N/A\")","v":3.1218991688807984E-2},{"$f":"IFERROR(Variance!AD144,\"N/A\")","v":2.984448949953962E-2}]
[null,"2-Second dec.  ",{"$f":"IFERROR(Variance!W145,\"N/A\")","v":1.6462943450585472E-2},{"$f":"IFERROR(Variance!X145,\"N/A\")","v":2.0404731954927285E-2},{"$f":"IFERROR(Variance!Y145,\"N/A\")","v":1.918398633134185E-2},{"$f":"IFERROR(Variance!Z145,\"N/A\")","v":1.8463977456242689E-2},{"$f":"IFERROR(Variance!AA145,\"N/A\")","v":1.8680254681934169E-2},{"$f":"IFERROR(Variance!AB145,\"N/A\")","v":2.0066636643540414E-2},{"$f":"IFERROR(Variance!AC145,\"N/A\")","v":3.1652812674041506E-2},{"$f":"IFERROR(Variance!AD145,\"N/A\")","v":2.9830204518875636E-2}]
[null,"3-Third dec.   ",{"$f":"IFERROR(Variance!W146,\"N/A\")","v":2.0566875400274107E-2},{"$f":"IFERROR(Variance!X146,\"N/A\")","v":2.2912119935260041E-2},{"$f":"IFERROR(Variance!Y146,\"N/A\")","v":2.1554123742415544E-2},{"$f":"IFERROR(Variance!Z146,\"N/A\")","v":2.0840389691463145E-2},{"$f":"IFERROR(Variance!AA146,\"N/A\")","v":2.1329016048696553E-2},{"$f":"IFERROR(Variance!AB146,\"N/A\")","v":2.2608023053564422E-2},{"$f":"IFERROR(Variance!AC146,\"N/A\")","v":3.6822921490251168E-2},{"$f":"IFERROR(Variance!AD146,\"N/A\")","v":3.4821997249997232E-2}]
[null,"4-Fourth dec.  ",{"$f":"IFERROR(Variance!W147,\"N/A\")","v":2.2180281876275576E-2},{"$f":"IFERROR(Variance!X147,\"N/A\")","v":2.5846868531511104E-2},{"$f":"IFERROR(Variance!Y147,\"N/A\")","v":2.4896719460686827E-2},{"$f":"IFERROR(Variance!Z147,\"N/A\")","v":2.4357541474325121E-2},{"$f":"IFERROR(Variance!AA147,\"N/A\")","v":2.4412966320626544E-2},{"$f":"IFERROR(Variance!AB147,\"N/A\")","v":2.6541180100591588E-2},{"$f":"IFERROR(Variance!AC147,\"N/A\")","v":4.3961442118558271E-2},{"$f":"IFERROR(Variance!AD147,\"N/A\")","v":4.100711730877566E-2}]
[null,"5-Fifth dec.   ",{"$f":"IFERROR(Variance!W148,\"N/A\")","v":2.5065728741540724E-2},{"$f":"IFERROR(Variance!X148,\"N/A\")","v":2.9859460031103912E-2},{"$f":"IFERROR(Variance!Y148,\"N/A\")","v":2.8383923369341774E-2},{"$f":"IFERROR(Variance!Z148,\"N/A\")","v":2.804830677952554E-2},{"$f":"IFERROR(Variance!AA148,\"N/A\")","v":2.8002633544528203E-2},{"$f":"IFERROR(Variance!AB148,\"N/A\")","v":3.0540611329762879E-2},{"$f":"IFERROR(Variance!AC148,\"N/A\")","v":4.9180218439192749E-2},{"$f":"IFERROR(Variance!AD148,\"N/A\")","v":4.5139346356428772E-2}]
[null,"6-Sixth dec.   ",{"$f":"IFERROR(Variance!W149,\"N/A\")","v":2.7693369262277015E-2},{"$f":"IFERROR(Variance!X149,\"N/A\")","v":3.2159741010819837E-2},{"$f":"IFERROR(Variance!Y149,\"N/A\")","v":3.127083347466432E-2},{"$f":"IFERROR(Variance!Z149,\"N/A\")","v":3.0914466346744662E-2},{"$f":"IFERROR(Variance!AA149,\"N/A\")","v":3.1254837435752976E-2},{"$f":"IFERROR(Variance!AB149,\"N/A\")","v":3.3849522597241527E-2},{"$f":"IFERROR(Variance!AC149,\"N/A\")","v":5.5218008170044929E-2},{"$f":"IFERROR(Variance!AD149,\"N/A\")","v":5.1683141088855744E-2}]
[null,"7-Seventh dec. ",{"$f":"IFERROR(Variance!W150,\"N/A\")","v":3.7959346783788331E-2},{"$f":"IFERROR(Variance!X150,\"N/A\")","v":3.4929175966716276E-2},{"$f":"IFERROR(Variance!Y150,\"N/A\")","v":3.4576753683228649E-2},{"$f":"IFERROR(Variance!Z150,\"N/A\")","v":3.381808471104198E-2},{"$f":"IFERROR(Variance!AA150,\"N/A\")","v":3.2938233673886791E-2},{"$f":"IFERROR(Variance!AB150,\"N/A\")","v":3.5136605484718482E-2},{"$f":"IFERROR(Variance!AC150,\"N/A\")","v":5.5927081510275652E-2},{"$f":"IFERROR(Variance!AD150,\"N/A\")","v":5.1388147762235346E-2}]
[null,"8-Eighth dec.  ",{"$f":"IFERROR(Variance!W151,\"N/A\")","v":3.0933747679912669E-2},{"$f":"IFERROR(Variance!X151,\"N/A\")","v":3.9340362893984883E-2},{"$f":"IFERROR(Variance!Y151,\"N/A\")","v":3.8834356724503249E-2},{"$f":"IFERROR(Variance!Z151,\"N/A\")","v":3.8816132386653483E-2},{"$f":"IFERROR(Variance!AA151,\"N/A\")","v":3.8214783212905397E-2},{"$f":"IFERROR(Variance!AB151,\"N/A\")","v":4.1254982811705386E-2},{"$f":"IFERROR(Variance!AC151,\"N/A\")","v":6.2510510004420469E-2},{"$f":"IFERROR(Variance!AD151,\"N/A\")","v":5.6315370078012947E-2}]
[null,"9-Ninth dec.   ",{"$f":"IFERROR(Variance!W152,\"N/A\")","v":4.3954043850367677E-2},{"$f":"IFERROR(Variance!X152,\"N/A\")","v":3.8651746779093291E-2},{"$f":"IFERROR(Variance!Y152,\"N/A\")","v":3.8658463342255818E-2},{"$f":"IFERROR(Variance!Z152,\"N/A\")","v":3.811114225785011E-2},{"$f":"IFERROR(Variance!AA152,\"N/A\")","v":3.632615172430767E-2},{"$f":"IFERROR(Variance!AB152,\"N/A\")","v":3.7674809478324564E-2},{"$f":"IFERROR(Variance!AC152,\"N/A\")","v":5.583228694437932E-2},{"$f":"IFERROR(Variance!AD152,\"N/A\")","v":5.0026248718360096E-2}]
[null,"10-Highest dec. (family income in 2008$)",{"$f":"IFERROR(Variance!W153,\"N/A\")","v":3.8598287364479365E-2},{"$f":"IFERROR(Variance!X153,\"N/A\")","v":4.1994861996070526E-2},{"$f":"IFERROR(Variance!Y153,\"N/A\")","v":4.0390411124365477E-2},{"$f":"IFERROR(Variance!Z153,\"N/A\")","v":3.9172077329889754E-2},{"$f":"IFERROR(Variance!AA153,\"N/A\")","v":3.7183215942114857E-2},{"$f":"IFERROR(Variance!AB153,\"N/A\")","v":3.8426543060671156E-2},{"$f":"IFERROR(Variance!AC153,\"N/A\")","v":6.1033422814331953E-2},{"$f":"IFERROR(Variance!AD153,\"N/A\")","v":5.6267687391054297E-2}]
[null,"1-Dropout      ",{"$f":"IFERROR(Variance!W154,\"N/A\")","v":1.0350587519746405E-2},{"$f":"IFERROR(Variance!X154,\"N/A\")","v":1.2884725662664029E-2},{"$f":"IFERROR(Variance!Y154,\"N/A\")","v":1.2928518517349467E-2},{"$f":"IFERROR(Variance!Z154,\"N/A\")","v":1.3390997494461036E-2},{"$f":"IFERROR(Variance!AA154,\"N/A\")","v":1.4180886794781817E-2},{"$f":"IFERROR(Variance!AB154,\"N/A\")","v":1.5622253718716977E-2},{"$f":"IFERROR(Variance!AC154,\"N/A\")","v":2.5494443565093238E-2},{"$f":"IFERROR(Variance!AD154,\"N/A\")","v":2.3770255194772032E-2}]
[null,"2-H.S.Diploma (education)      ",{"$f":"IFERROR(Variance!W155,\"N/A\")","v":1.386552287119535E-2},{"$f":"IFERROR(Variance!X155,\"N/A\")","v":1.5744145137806226E-2},{"$f":"IFERROR(Variance!Y155,\"N/A\")","v":1.4747729480786132E-2},{"$f":"IFERROR(Variance!Z155,\"N/A\")","v":1.4257951000705737E-2},{"$f":"IFERROR(Variance!AA155,\"N/A\")","v":1.4024012554387042E-2},{"$f":"IFERROR(Variance!AB155,\"N/A\")","v":1.4593329117381955E-2},{"$f":"IFERROR(Variance!AC155,\"N/A\")","v":2.2275722491313696E-2},{"$f":"IFERROR(Variance!AD155,\"N/A\")","v":2.042132776056392E-2}]
[null,"3-SomeColl/AA  ",{"$f":"IFERROR(Variance!W156,\"N/A\")","v":2.3080263522628978E-2},{"$f":"IFERROR(Variance!X156,\"N/A\")","v":2.6646239998996426E-2},{"$f":"IFERROR(Variance!Y156,\"N/A\")","v":2.3318955454593084E-2},{"$f":"IFERROR(Variance!Z156,\"N/A\")","v":2.0131974196074712E-2},{"$f":"IFERROR(Variance!AA156,\"N/A\")","v":1.9369581095618888E-2},{"$f":"IFERROR(Variance!AB156,\"N/A\")","v":1.987984067860946E-2},{"$f":"IFERROR(Variance!AC156,\"N/A\")","v":3.0521407902953508E-2},{"$f":"IFERROR(Variance!AD156,\"N/A\")","v":2.8063403041551929E-2}]
[null,"4-4yr.Degree   ",{"$f":"IFERROR(Variance!W157,\"N/A\")","v":3.1840637476309379E-2},{"$f":"IFERROR(Variance!X157,\"N/A\")","v":3.6449453928745545E-2},{"$f":"IFERROR(Variance!Y157,\"N/A\")","v":3.2756426441729276E-2},{"$f":"IFERROR(Variance!Z157,\"N/A\")","v":2.889236086737736E-2},{"$f":"IFERROR(Variance!AA157,\"N/A\")","v":2.7121740644435993E-2},{"$f":"IFERROR(Variance!AB157,\"N/A\")","v":2.7863338886791999E-2},{"$f":"IFERROR(Variance!AC157,\"N/A\")","v":4.3625454965045024E-2},{"$f":"IFERROR(Variance!AD157,\"N/A\")","v":4.030783501111003E-2}]
[null,"5-Grad.Degree  ",{"$f":"IFERROR(Variance!W158,\"N/A\")","v":3.9378850274811021E-2},{"$f":"IFERROR(Variance!X158,\"N/A\")","v":4.3509266394330906E-2},{"$f":"IFERROR(Variance!Y158,\"N/A\")","v":3.992386635918669E-2},{"$f":"IFERROR(Variance!Z158,\"N/A\")","v":3.8525437855945199E-2},{"$f":"IFERROR(Variance!AA158,\"N/A\")","v":3.6719421329812284E-2},{"$f":"IFERROR(Variance!AB158,\"N/A\")","v":3.6965847419272758E-2},{"$f":"IFERROR(Variance!AC158,\"N/A\")","v":5.8455796616557344E-2},{"$f":"IFERROR(Variance!AD158,\"N/A\")","v":5.4494835724148871E-2}]
[null,"1-White NH (ethnic/race)     ",{"$f":"IFERROR(Variance!W159,\"N/A\")","v":1.0307149761464978E-2},{"$f":"IFERROR(Variance!X159,\"N/A\")","v":1.1500425702661838E-2},{"$f":"IFERROR(Variance!Y159,\"N/A\")","v":9.3801857382252649E-3},{"$f":"IFERROR(Variance!Z159,\"N/A\")","v":9.2012588068740506E-3},{"$f":"IFERROR(Variance!AA159,\"N/A\")","v":9.3878120406242372E-3},{"$f":"IFERROR(Variance!AB159,\"N/A\")","v":1.0210403017617636E-2},{"$f":"IFERROR(Variance!AC159,\"N/A\")","v":1.6203020817961308E-2},{"$f":"IFERROR(Variance!AD159,\"N/A\")","v":1.4920187788883453E-2}]
[null,"2-Black NH     ",{"$f":"IFERROR(Variance!W160,\"N/A\")","v":2.9467339181949454E-2},{"$f":"IFERROR(Variance!X160,\"N/A\")","v":3.4232913829908659E-2},{"$f":"IFERROR(Variance!Y160,\"N/A\")","v":2.8873890346214976E-2},{"$f":"IFERROR(Variance!Z160,\"N/A\")","v":2.7389632170787048E-2},{"$f":"IFERROR(Variance!AA160,\"N/A\")","v":2.6226752200548577E-2},{"$f":"IFERROR(Variance!AB160,\"N/A\")","v":2.3685496160184429E-2},{"$f":"IFERROR(Variance!AC160,\"N/A\")","v":3.3179962531114215E-2},{"$f":"IFERROR(Variance!AD160,\"N/A\")","v":3.0949460839150785E-2}]
[null,"3-Asian NH     ",{"$f":"IFERROR(Variance!W161,\"N/A\")","v":9.7361511450442528E-2},{"$f":"IFERROR(Variance!X161,\"N/A\")","v":0.10748364853627095},{"$f":"IFERROR(Variance!Y161,\"N/A\")","v":8.1125104355807359E-2},{"$f":"IFERROR(Variance!Z161,\"N/A\")","v":7.278440415882044E-2},{"$f":"IFERROR(Variance!AA161,\"N/A\")","v":6.462154322523854E-2},{"$f":"IFERROR(Variance!AB161,\"N/A\")","v":5.6834586685878923E-2},{"$f":"IFERROR(Variance!AC161,\"N/A\")","v":8.6574293041606493E-2},{"$f":"IFERROR(Variance!AD161,\"N/A\")","v":8.3503608709579208E-2}]
[null,"4-Hispanic     ",{"$f":"IFERROR(Variance!W162,\"N/A\")","v":4.1135581080094206E-2},{"$f":"IFERROR(Variance!X162,\"N/A\")","v":4.3085136003485618E-2},{"$f":"IFERROR(Variance!Y162,\"N/A\")","v":3.7577370685085189E-2},{"$f":"IFERROR(Variance!Z162,\"N/A\")","v":3.2953284452640147E-2},{"$f":"IFERROR(Variance!AA162,\"N/A\")","v":3.0500112257123086E-2},{"$f":"IFERROR(Variance!AB162,\"N/A\")","v":3.1932501126338698E-2},{"$f":"IFERROR(Variance!AC162,\"N/A\")","v":5.1602242728071672E-2},{"$f":"IFERROR(Variance!AD162,\"N/A\")","v":4.9377457441802171E-2}]
[null,"5-Other NH     ",{"$f":"IFERROR(Variance!W163,\"N/A\")","v":2.6424531699522375E-2},{"$f":"IFERROR(Variance!X163,\"N/A\")","v":3.0371793854564778E-2},{"$f":"IFERROR(Variance!Y163,\"N/A\")","v":3.9929457853231008E-2},{"$f":"IFERROR(Variance!Z163,\"N/A\")","v":4.0789688377095491E-2},{"$f":"IFERROR(Variance!AA163,\"N/A\")","v":3.994673636724403E-2},{"$f":"IFERROR(Variance!AB163,\"N/A\")","v":4.4502859574479636E-2},{"$f":"IFERROR(Variance!AC163,\"N/A\")","v":7.7345030642871529E-2},{"$f":"IFERROR(Variance!AD163,\"N/A\")","v":7.2195924445650053E-2}]
[null,"1-Employed  (Labor force)",{"$f":"IFERROR(Variance!W164,\"N/A\")","v":1.5991412565272208E-2},{"$f":"IFERROR(Variance!X164,\"N/A\")","v":1.9275664539020743E-2},{"$f":"IFERROR(Variance!Y164,\"N/A\")","v":1.8928744683608778E-2},{"$f":"IFERROR(Variance!Z164,\"N/A\")","v":1.8813709601023142E-2},{"$f":"IFERROR(Variance!AA164,\"N/A\")","v":1.8366127515319682E-2},{"$f":"IFERROR(Variance!AB164,\"N/A\")","v":1.9825285738899235E-2},{"$f":"IFERROR(Variance!AC164,\"N/A\")","v":3.4476310030566268E-2},{"$f":"IFERROR(Variance!AD164,\"N/A\")","v":3.2339668284234034E-2}]
[null,"2-Unemployed   ",{"$f":"IFERROR(Variance!W165,\"N/A\")","v":6.5972344316953535E-2},{"$f":"IFERROR(Variance!X165,\"N/A\")","v":8.5617219648528087E-2},{"$f":"IFERROR(Variance!Y165,\"N/A\")","v":8.2557781380733941E-2},{"$f":"IFERROR(Variance!Z165,\"N/A\")","v":8.4490358285719921E-2},{"$f":"IFERROR(Variance!AA165,\"N/A\")","v":8.74312068783165E-2},{"$f":"IFERROR(Variance!AB165,\"N/A\")","v":8.6136268014651879E-2},{"$f":"IFERROR(Variance!AC165,\"N/A\")","v":0.1268892285988569},{"$f":"IFERROR(Variance!AD165,\"N/A\")","v":0.11251229788510053}]
[null,"3-NILF         ",{"$f":"IFERROR(Variance!W166,\"N/A\")","v":8.6836979333206592E-3},{"$f":"IFERROR(Variance!X166,\"N/A\")","v":1.0344839405614854E-2},{"$f":"IFERROR(Variance!Y166,\"N/A\")","v":9.8712797218226365E-3},{"$f":"IFERROR(Variance!Z166,\"N/A\")","v":9.607918499563951E-3},{"$f":"IFERROR(Variance!AA166,\"N/A\")","v":9.7280841408046194E-3},{"$f":"IFERROR(Variance!AB166,\"N/A\")","v":1.0192182347060057E-2},{"$f":"IFERROR(Variance!AC166,\"N/A\")","v":1.5291322644765272E-2},{"$f":"IFERROR(Variance!AD166,\"N/A\")","v":1.3571158811588284E-2}]
[null,"1-Prof./Managerial (occ.)",{"$f":"IFERROR(Variance!W167,\"N/A\")","v":4.4804736614963175E-2},{"$f":"IFERROR(Variance!X167,\"N/A\")","v":5.1996762016871333E-2},{"$f":"IFERROR(Variance!Y167,\"N/A\")","v":5.0062806654568262E-2},{"$f":"IFERROR(Variance!Z167,\"N/A\")","v":4.9522003247956421E-2},{"$f":"IFERROR(Variance!AA167,\"N/A\")","v":4.769503176649395E-2},{"$f":"IFERROR(Variance!AB167,\"N/A\")","v":5.0679094604581296E-2},{"$f":"IFERROR(Variance!AC167,\"N/A\")","v":7.9747885599139284E-2},{"$f":"IFERROR(Variance!AD167,\"N/A\")","v":7.2410317847350872E-2}]
[null,"2-Sklld/Sales  ",{"$f":"IFERROR(Variance!W168,\"N/A\")","v":2.702802001665015E-2},{"$f":"IFERROR(Variance!X168,\"N/A\")","v":3.2375542842422403E-2},{"$f":"IFERROR(Variance!Y168,\"N/A\")","v":3.2069058516404937E-2},{"$f":"IFERROR(Variance!Z168,\"N/A\")","v":3.2647591468646237E-2},{"$f":"IFERROR(Variance!AA168,\"N/A\")","v":3.30280428308726E-2},{"$f":"IFERROR(Variance!AB168,\"N/A\")","v":3.8966348191626116E-2},{"$f":"IFERROR(Variance!AC168,\"N/A\")","v":6.9605785174298787E-2},{"$f":"IFERROR(Variance!AD168,\"N/A\")","v":6.5134192127061272E-2}]
[null,"3-BlueCol.Lgt  ",{"$f":"IFERROR(Variance!W169,\"N/A\")","v":3.2013772801869927E-2},{"$f":"IFERROR(Variance!X169,\"N/A\")","v":3.9130470756204398E-2},{"$f":"IFERROR(Variance!Y169,\"N/A\")","v":3.8815295334430913E-2},{"$f":"IFERROR(Variance!Z169,\"N/A\")","v":4.0596584491730307E-2},{"$f":"IFERROR(Variance!AA169,\"N/A\")","v":4.0430787789801456E-2},{"$f":"IFERROR(Variance!AB169,\"N/A\")","v":4.0648891838997406E-2},{"$f":"IFERROR(Variance!AC169,\"N/A\")","v":6.9193740957990246E-2},{"$f":"IFERROR(Variance!AD169,\"N/A\")","v":6.4844631216200668E-2}]
[null,"4-BlueCol.Hvy  ",{"$f":"IFERROR(Variance!W170,\"N/A\")","v":2.3353592929359221E-2},{"$f":"IFERROR(Variance!X170,\"N/A\")","v":2.8940573716991241E-2},{"$f":"IFERROR(Variance!Y170,\"N/A\")","v":2.9713822252063052E-2},{"$f":"IFERROR(Variance!Z170,\"N/A\")","v":3.1175087562812155E-2},{"$f":"IFERROR(Variance!AA170,\"N/A\")","v":3.1625566347491092E-2},{"$f":"IFERROR(Variance!AB170,\"N/A\")","v":3.4377083208653812E-2},{"$f":"IFERROR(Variance!AC170,\"N/A\")","v":6.0651491186027966E-2},{"$f":"IFERROR(Variance!AD170,\"N/A\")","v":5.7157344433780004E-2}]
[null,"5-Medical.Occ  ",{"$f":"IFERROR(Variance!W171,\"N/A\")","v":6.5581715033192461E-2},{"$f":"IFERROR(Variance!X171,\"N/A\")","v":8.1329108284891274E-2},{"$f":"IFERROR(Variance!Y171,\"N/A\")","v":7.9504931044300078E-2},{"$f":"IFERROR(Variance!Z171,\"N/A\")","v":7.6226502037500629E-2},{"$f":"IFERROR(Variance!AA171,\"N/A\")","v":7.5082966365805165E-2},{"$f":"IFERROR(Variance!AB171,\"N/A\")","v":8.3263320113662387E-2},{"$f":"IFERROR(Variance!AC171,\"N/A\")","v":0.14221045931333803},{"$f":"IFERROR(Variance!AD171,\"N/A\")","v":0.13235741430243619}]
[null,"6-N/A          ",{"$f":"IFERROR(Variance!W172,\"N/A\")","v":8.5692418776011237E-3},{"$f":"IFERROR(Variance!X172,\"N/A\")","v":1.0143302709322054E-2},{"$f":"IFERROR(Variance!Y172,\"N/A\")","v":9.613058748364196E-3},{"$f":"IFERROR(Variance!Z172,\"N/A\")","v":9.3082358809455576E-3},{"$f":"IFERROR(Variance!AA172,\"N/A\")","v":9.4513287249931924E-3},{"$f":"IFERROR(Variance!AB172,\"N/A\")","v":9.9823978112579814E-3},{"$f":"IFERROR(Variance!AC172,\"N/A\")","v":1.5332408345102857E-2},{"$f":"IFERROR(Variance!AD172,\"N/A\")","v":1.4155634405261399E-2}]
[]
[null,"75% confidence interval radius (cancer)"]
[null,null,"1987.5-1991.5","1991.5-1995.5","1995.5-1999.5","1999.5-2003.5","2003.5-2006","2006-2008","2008-2010","2010-2012"]
[null,"age 40-44 ",{"$f":"IFERROR(Variance!W176,\"N/A\")","v":8.9508859389191439E-2},{"$f":"IFERROR(Variance!X176,\"N/A\")","v":0.10060059595223883},{"$f":"IFERROR(Variance!Y176,\"N/A\")","v":9.4463206925069598E-2},{"$f":"IFERROR(Variance!Z176,\"N/A\")","v":9.4060694778360265E-2},{"$f":"IFERROR(Variance!AA176,\"N/A\")","v":9.104912875026093E-2},{"$f":"IFERROR(Variance!AB176,\"N/A\")","v":0.10186971999058425},{"$f":"IFERROR(Variance!AC176,\"N/A\")","v":0.15731033672515601},{"$f":"IFERROR(Variance!AD176,\"N/A\")","v":0.13948152239659173}]
[null,"age 45-49 ",{"$f":"IFERROR(Variance!W177,\"N/A\")","v":7.8775747381688341E-2},{"$f":"IFERROR(Variance!X177,\"N/A\")","v":8.7438165262987533E-2},{"$f":"IFERROR(Variance!Y177,\"N/A\")","v":7.8137310976164776E-2},{"$f":"IFERROR(Variance!Z177,\"N/A\")","v":7.5472283363013162E-2},{"$f":"IFERROR(Variance!AA177,\"N/A\")","v":7.2814458066878154E-2},{"$f":"IFERROR(Variance!AB177,\"N/A\")","v":7.6376328622500572E-2},{"$f":"IFERROR(Variance!AC177,\"N/A\")","v":0.12348704900656736},{"$f":"IFERROR(Variance!AD177,\"N/A\")","v":0.1123786742392138}]
[null,"age 50-54 ",{"$f":"IFERROR(Variance!W178,\"N/A\")","v":6.1495330131064722E-2},{"$f":"IFERROR(Variance!X178,\"N/A\")","v":7.1369486297936324E-2},{"$f":"IFERROR(Variance!Y178,\"N/A\")","v":6.6198940814999233E-2},{"$f":"IFERROR(Variance!Z178,\"N/A\")","v":6.5350157524026453E-2},{"$f":"IFERROR(Variance!AA178,\"N/A\")","v":6.4376281475915592E-2},{"$f":"IFERROR(Variance!AB178,\"N/A\")","v":6.3095686948105439E-2},{"$f":"IFERROR(Variance!AC178,\"N/A\")","v":9.4761778455355189E-2},{"$f":"IFERROR(Variance!AD178,\"N/A\")","v":8.4387701471288656E-2}]
[null,"age 55-59 ",{"$f":"IFERROR(Variance!W179,\"N/A\")","v":4.9633347462789752E-2},{"$f":"IFERROR(Variance!X179,\"N/A\")","v":5.9529771099883153E-2},{"$f":"IFERROR(Variance!Y179,\"N/A\")","v":5.8712344476857282E-2},{"$f":"IFERROR(Variance!Z179,\"N/A\")","v":5.6753434774176471E-2},{"$f":"IFERROR(Variance!AA179,\"N/A\")","v":5.5670382862207206E-2},{"$f":"IFERROR(Variance!AB179,\"N/A\")","v":5.6107521827550771E-2},{"$f":"IFERROR(Variance!AC179,\"N/A\")","v":7.8936122862984209E-2},{"$f":"IFERROR(Variance!AD179,\"N/A\")","v":6.856872233001042E-2}]
[null,"age 60-64",{"$f":"IFERROR(Variance!W180,\"N/A\")","v":4.6357207362377022E-2},{"$f":"IFERROR(Variance!X180,\"N/A\")","v":5.1562387831676479E-2},{"$f":"IFERROR(Variance!Y180,\"N/A\")","v":4.9836846818431174E-2},{"$f":"IFERROR(Variance!Z180,\"N/A\")","v":4.9607007391904039E-2},{"$f":"IFERROR(Variance!AA180,\"N/A\")","v":4.9803527470508646E-2},{"$f":"IFERROR(Variance!AB180,\"N/A\")","v":5.3817153538181617E-2},{"$f":"IFERROR(Variance!AC180,\"N/A\")","v":7.8183607851815023E-2},{"$f":"IFERROR(Variance!AD180,\"N/A\")","v":6.7009713896331632E-2}]
[null,"age 65-69 (age group) ",{"$f":"IFERROR(Variance!W181,\"N/A\")","v":4.5919790328895163E-2},{"$f":"IFERROR(Variance!X181,\"N/A\")","v":4.928060359497851E-2},{"$f":"IFERROR(Variance!Y181,\"N/A\")","v":4.5786511291662425E-2},{"$f":"IFERROR(Variance!Z181,\"N/A\")","v":4.565690793328004E-2},{"$f":"IFERROR(Variance!AA181,\"N/A\")","v":4.7543658208632066E-2},{"$f":"IFERROR(Variance!AB181,\"N/A\")","v":4.8904821540662446E-2},{"$f":"IFERROR(Variance!AC181,\"N/A\")","v":7.5932147171522898E-2},{"$f":"IFERROR(Variance!AD181,\"N/A\")","v":6.7416505954922712E-2}]
[null,"age 70-74 ",{"$f":"IFERROR(Variance!W182,\"N/A\")","v":4.8198729383847838E-2},{"$f":"IFERROR(Variance!X182,\"N/A\")","v":5.1885250354210384E-2},{"$f":"IFERROR(Variance!Y182,\"N/A\")","v":4.6289702018976336E-2},{"$f":"IFERROR(Variance!Z182,\"N/A\")","v":4.4155906030604763E-2},{"$f":"IFERROR(Variance!AA182,\"N/A\")","v":4.5856825521270947E-2},{"$f":"IFERROR(Variance!AB182,\"N/A\")","v":4.7877348471813602E-2},{"$f":"IFERROR(Variance!AC182,\"N/A\")","v":6.7881663885453442E-2},{"$f":"IFERROR(Variance!AD182,\"N/A\")","v":5.7223992828597213E-2}]
[null,"age 75-79 ",{"$f":"IFERROR(Variance!W183,\"N/A\")","v":5.8224762012533501E-2},{"$f":"IFERROR(Variance!X183,\"N/A\")","v":6.111737228998175E-2},{"$f":"IFERROR(Variance!Y183,\"N/A\")","v":5.4459526247617455E-2},{"$f":"IFERROR(Variance!Z183,\"N/A\")","v":5.0532843582432325E-2},{"$f":"IFERROR(Variance!AA183,\"N/A\")","v":4.808253956240735E-2},{"$f":"IFERROR(Variance!AB183,\"N/A\")","v":4.859191631967498E-2},{"$f":"IFERROR(Variance!AC183,\"N/A\")","v":6.9358095898890207E-2},{"$f":"IFERROR(Variance!AD183,\"N/A\")","v":5.9088769666792322E-2}]
[null,"age 80-84 ",{"$f":"IFERROR(Variance!W184,\"N/A\")","v":8.085493330190488E-2},{"$f":"IFERROR(Variance!X184,\"N/A\")","v":8.5861310034035909E-2},{"$f":"IFERROR(Variance!Y184,\"N/A\")","v":7.316314210540327E-2},{"$f":"IFERROR(Variance!Z184,\"N/A\")","v":6.3933797008739121E-2},{"$f":"IFERROR(Variance!AA184,\"N/A\")","v":5.9801128395246865E-2},{"$f":"IFERROR(Variance!AB184,\"N/A\")","v":5.8087844057993797E-2},{"$f":"IFERROR(Variance!AC184,\"N/A\")","v":8.3018563826032551E-2},{"$f":"IFERROR(Variance!AD184,\"N/A\")","v":7.1614315186129179E-2}]
[null,"age 85+",{"$f":"IFERROR(Variance!W185,\"N/A\")","v":0.10049657254428991},{"$f":"IFERROR(Variance!X185,\"N/A\")","v":0.11900112328670835},{"$f":"IFERROR(Variance!Y185,\"N/A\")","v":0.10406534192434495},{"$f":"IFERROR(Variance!Z185,\"N/A\")","v":8.7180294126907754E-2},{"$f":"IFERROR(Variance!AA185,\"N/A\")","v":9.2640005482799687E-2},{"$f":"IFERROR(Variance!AB185,\"N/A\")","v":8.3223239191167725E-2},{"$f":"IFERROR(Variance!AC185,\"N/A\")","v":8.9016491142774046E-2},{"$f":"IFERROR(Variance!AD185,\"N/A\")","v":7.4426303466316415E-2}]
[null,"Male (Sex)",{"$f":"IFERROR(Variance!W186,\"N/A\")","v":2.4446406468751632E-2},{"$f":"IFERROR(Variance!X186,\"N/A\")","v":2.6658857488673419E-2},{"$f":"IFERROR(Variance!Y186,\"N/A\")","v":2.4620118643266953E-2},{"$f":"IFERROR(Variance!Z186,\"N/A\")","v":2.4095246300297125E-2},{"$f":"IFERROR(Variance!AA186,\"N/A\")","v":2.3382312436767406E-2},{"$f":"IFERROR(Variance!AB186,\"N/A\")","v":2.3554920670106647E-2},{"$f":"IFERROR(Variance!AC186,\"N/A\")","v":3.4490986960814103E-2},{"$f":"IFERROR(Variance!AD186,\"N/A\")","v":2.9891700753286041E-2}]
[null,"Female       ",{"$f":"IFERROR(Variance!W187,\"N/A\")","v":2.8902669985594393E-2},{"$f":"IFERROR(Variance!X187,\"N/A\")","v":3.0294955085787209E-2},{"$f":"IFERROR(Variance!Y187,\"N/A\")","v":2.7083887946976148E-2},{"$f":"IFERROR(Variance!Z187,\"N/A\")","v":2.5862598334812418E-2},{"$f":"IFERROR(Variance!AA187,\"N/A\")","v":2.5165351239087964E-2},{"$f":"IFERROR(Variance!AB187,\"N/A\")","v":2.5550748236475199E-2},{"$f":"IFERROR(Variance!AC187,\"N/A\")","v":3.6913438362119168E-2},{"$f":"IFERROR(Variance!AD187,\"N/A\")","v":3.1338098884859382E-2}]
[null,"1-Never  ","N/A","N/A","N/A",{"$f":"IFERROR(Variance!Z188,\"N/A\")","v":3.892399962613223E-2},{"$f":"IFERROR(Variance!AA188,\"N/A\")","v":3.3774830725834454E-2},{"$f":"IFERROR(Variance!AB188,\"N/A\")","v":4.4378381400222024E-2},{"$f":"IFERROR(Variance!AC188,\"N/A\")","v":0.10207608402610983},"N/A"]
[null,"2-Current","N/A","N/A","N/A",{"$f":"IFERROR(Variance!Z189,\"N/A\")","v":5.1506862253523404E-2},{"$f":"IFERROR(Variance!AA189,\"N/A\")","v":4.2733529761198624E-2},{"$f":"IFERROR(Variance!AB189,\"N/A\")","v":5.1362303600530755E-2},{"$f":"IFERROR(Variance!AC189,\"N/A\")","v":0.10825507383859755},"N/A"]
[null,"3-Former ","N/A","N/A","N/A",{"$f":"IFERROR(Variance!Z190,\"N/A\")","v":4.0402412818521825E-2},{"$f":"IFERROR(Variance!AA190,\"N/A\")","v":3.4599346693905519E-2},{"$f":"IFERROR(Variance!AB190,\"N/A\")","v":4.2965233949095849E-2},{"$f":"IFERROR(Variance!AC190,\"N/A\")","v":8.8988779349322145E-2},"N/A"]
[null,"4-Not_Asked (smoker)",{"$f":"IFERROR(Variance!W191,\"N/A\")","v":1.7780073284357847E-2},{"$f":"IFERROR(Variance!X191,\"N/A\")","v":1.949090991542117E-2},{"$f":"IFERROR(Variance!Y191,\"N/A\")","v":2.1001180843203994E-2},{"$f":"IFERROR(Variance!Z191,\"N/A\")","v":2.5078238753056942E-2},{"$f":"IFERROR(Variance!AA191,\"N/A\")","v":3.0907177872338518E-2},{"$f":"IFERROR(Variance!AB191,\"N/A\")","v":2.8489538075891187E-2},{"$f":"IFERROR(Variance!AC191,\"N/A\")","v":2.8943430398136936E-2},{"$f":"IFERROR(Variance!AD191,\"N/A\")","v":2.4614988148006226E-2}]
[null,"1-Married (marital status)",{"$f":"IFERROR(Variance!W192,\"N/A\")","v":2.1872210929574021E-2},{"$f":"IFERROR(Variance!X192,\"N/A\")","v":2.4154533825233519E-2},{"$f":"IFERROR(Variance!Y192,\"N/A\")","v":2.2495665883851063E-2},{"$f":"IFERROR(Variance!Z192,\"N/A\")","v":2.2085101259045541E-2},{"$f":"IFERROR(Variance!AA192,\"N/A\")","v":2.1841039906438327E-2},{"$f":"IFERROR(Variance!AB192,\"N/A\")","v":2.2645865454785204E-2},{"$f":"IFERROR(Variance!AC192,\"N/A\")","v":3.4379368202767067E-2},{"$f":"IFERROR(Variance!AD192,\"N/A\")","v":2.9880282174294691E-2}]
[null,"2-Widowed    ",{"$f":"IFERROR(Variance!W193,\"N/A\")","v":3.9967161591506678E-2},{"$f":"IFERROR(Variance!X193,\"N/A\")","v":4.2343762335181827E-2},{"$f":"IFERROR(Variance!Y193,\"N/A\")","v":3.8142665571649845E-2},{"$f":"IFERROR(Variance!Z193,\"N/A\")","v":3.6564412595318195E-2},{"$f":"IFERROR(Variance!AA193,\"N/A\")","v":3.6592571203137268E-2},{"$f":"IFERROR(Variance!AB193,\"N/A\")","v":3.6539556806686073E-2},{"$f":"IFERROR(Variance!AC193,\"N/A\")","v":5.1495740429104889E-2},{"$f":"IFERROR(Variance!AD193,\"N/A\")","v":4.6593105946425802E-2}]
[null,"3-Divorced   ",{"$f":"IFERROR(Variance!W194,\"N/A\")","v":7.0395128469758331E-2},{"$f":"IFERROR(Variance!X194,\"N/A\")","v":7.4062726349905891E-2},{"$f":"IFERROR(Variance!Y194,\"N/A\")","v":6.2171564419713103E-2},{"$f":"IFERROR(Variance!Z194,\"N/A\")","v":5.5340189680529658E-2},{"$f":"IFERROR(Variance!AA194,\"N/A\")","v":5.1592197746372866E-2},{"$f":"IFERROR(Variance!AB194,\"N/A\")","v":5.0618678654155952E-2},{"$f":"IFERROR(Variance!AC194,\"N/A\")","v":7.1820077350297676E-2},{"$f":"IFERROR(Variance!AD194,\"N/A\")","v":6.4360836862307022E-2}]
[null,"4-Separated  ",{"$f":"IFERROR(Variance!W195,\"N/A\")","v":0.12111798840753628},{"$f":"IFERROR(Variance!X195,\"N/A\")","v":0.13881948475193698},{"$f":"IFERROR(Variance!Y195,\"N/A\")","v":0.13034822015580863},{"$f":"IFERROR(Variance!Z195,\"N/A\")","v":0.12432609940511152},{"$f":"IFERROR(Variance!AA195,\"N/A\")","v":0.12985545087283931},{"$f":"IFERROR(Variance!AB195,\"N/A\")","v":0.13195747955789797},{"$f":"IFERROR(Variance!AC195,\"N/A\")","v":0.18105766945648974},{"$f":"IFERROR(Variance!AD195,\"N/A\")","v":0.16659255704894085}]
[null,"5-NeverMar.  ",{"$f":"IFERROR(Variance!W196,\"N/A\")","v":7.645169725182259E-2},{"$f":"IFERROR(Variance!X196,\"N/A\")","v":8.9476892988146553E-2},{"$f":"IFERROR(Variance!Y196,\"N/A\")","v":8.1644779895851866E-2},{"$f":"IFERROR(Variance!Z196,\"N/A\")","v":8.1047055588885489E-2},{"$f":"IFERROR(Variance!AA196,\"N/A\")","v":8.044890846161673E-2},{"$f":"IFERROR(Variance!AB196,\"N/A\")","v":7.3802576607719675E-2},{"$f":"IFERROR(Variance!AC196,\"N/A\")","v":9.9435319808772321E-2},{"$f":"IFERROR(Variance!AD196,\"N/A\")","v":8.7283359894733709E-2}]
[null,"1-Lowest inc.  ",{"$f":"IFERROR(Variance!W197,\"N/A\")","v":4.5010529676362258E-2},{"$f":"IFERROR(Variance!X197,\"N/A\")","v":5.3813261798408014E-2},{"$f":"IFERROR(Variance!Y197,\"N/A\")","v":4.8994401361454859E-2},{"$f":"IFERROR(Variance!Z197,\"N/A\")","v":4.6060017458565597E-2},{"$f":"IFERROR(Variance!AA197,\"N/A\")","v":4.7645668838499217E-2},{"$f":"IFERROR(Variance!AB197,\"N/A\")","v":4.651834069497144E-2},{"$f":"IFERROR(Variance!AC197,\"N/A\")","v":6.7978547670533185E-2},{"$f":"IFERROR(Variance!AD197,\"N/A\")","v":6.217544811279526E-2}]
[null,"2-Second dec.  ",{"$f":"IFERROR(Variance!W198,\"N/A\")","v":4.1271594129874911E-2},{"$f":"IFERROR(Variance!X198,\"N/A\")","v":4.8452420956438681E-2},{"$f":"IFERROR(Variance!Y198,\"N/A\")","v":4.4359446585074118E-2},{"$f":"IFERROR(Variance!Z198,\"N/A\")","v":4.250554536751866E-2},{"$f":"IFERROR(Variance!AA198,\"N/A\")","v":4.1885445077817572E-2},{"$f":"IFERROR(Variance!AB198,\"N/A\")","v":4.2586588271021214E-2},{"$f":"IFERROR(Variance!AC198,\"N/A\")","v":6.2081802161506973E-2},{"$f":"IFERROR(Variance!AD198,\"N/A\")","v":5.5084674387263742E-2}]
[null,"3-Third dec.   ",{"$f":"IFERROR(Variance!W199,\"N/A\")","v":4.8818227151139468E-2},{"$f":"IFERROR(Variance!X199,\"N/A\")","v":5.1802591997384385E-2},{"$f":"IFERROR(Variance!Y199,\"N/A\")","v":4.7238563657901751E-2},{"$f":"IFERROR(Variance!Z199,\"N/A\")","v":4.6501638641052487E-2},{"$f":"IFERROR(Variance!AA199,\"N/A\")","v":4.599463995128468E-2},{"$f":"IFERROR(Variance!AB199,\"N/A\")","v":4.5976319544239815E-2},{"$f":"IFERROR(Variance!AC199,\"N/A\")","v":6.8684857412477679E-2},{"$f":"IFERROR(Variance!AD199,\"N/A\")","v":6.0709998280657831E-2}]
[null,"4-Fourth dec.  ",{"$f":"IFERROR(Variance!W200,\"N/A\")","v":5.3145918553558116E-2},{"$f":"IFERROR(Variance!X200,\"N/A\")","v":5.6831124584614486E-2},{"$f":"IFERROR(Variance!Y200,\"N/A\")","v":5.1955350679516038E-2},{"$f":"IFERROR(Variance!Z200,\"N/A\")","v":5.1357126385247906E-2},{"$f":"IFERROR(Variance!AA200,\"N/A\")","v":5.0181069356970899E-2},{"$f":"IFERROR(Variance!AB200,\"N/A\")","v":5.2229222112063857E-2},{"$f":"IFERROR(Variance!AC200,\"N/A\")","v":8.0218898251310858E-2},{"$f":"IFERROR(Variance!AD200,\"N/A\")","v":7.0814153140217245E-2}]
[null,"5-Fifth dec.   ",{"$f":"IFERROR(Variance!W201,\"N/A\")","v":5.5055740678748195E-2},{"$f":"IFERROR(Variance!X201,\"N/A\")","v":6.1248592576422858E-2},{"$f":"IFERROR(Variance!Y201,\"N/A\")","v":5.5918241895621966E-2},{"$f":"IFERROR(Variance!Z201,\"N/A\")","v":5.6184796133563357E-2},{"$f":"IFERROR(Variance!AA201,\"N/A\")","v":5.6594453030966337E-2},{"$f":"IFERROR(Variance!AB201,\"N/A\")","v":6.0073313178266849E-2},{"$f":"IFERROR(Variance!AC201,\"N/A\")","v":9.6763456618525312E-2},{"$f":"IFERROR(Variance!AD201,\"N/A\")","v":8.6725917284913967E-2}]
[null,"6-Sixth dec.   ",{"$f":"IFERROR(Variance!W202,\"N/A\")","v":5.7373718864016203E-2},{"$f":"IFERROR(Variance!X202,\"N/A\")","v":6.4091448520679245E-2},{"$f":"IFERROR(Variance!Y202,\"N/A\")","v":6.1779931009007236E-2},{"$f":"IFERROR(Variance!Z202,\"N/A\")","v":6.273108612518942E-2},{"$f":"IFERROR(Variance!AA202,\"N/A\")","v":6.0831235066606565E-2},{"$f":"IFERROR(Variance!AB202,\"N/A\")","v":6.1571963705969686E-2},{"$f":"IFERROR(Variance!AC202,\"N/A\")","v":9.4911210514512151E-2},{"$f":"IFERROR(Variance!AD202,\"N/A\")","v":8.2942272736711245E-2}]
[null,"7-Seventh dec. ",{"$f":"IFERROR(Variance!W203,\"N/A\")","v":7.8390971409020571E-2},{"$f":"IFERROR(Variance!X203,\"N/A\")","v":7.0360395581455959E-2},{"$f":"IFERROR(Variance!Y203,\"N/A\")","v":6.8011630392742356E-2},{"$f":"IFERROR(Variance!Z203,\"N/A\")","v":6.5063063187501421E-2},{"$f":"IFERROR(Variance!AA203,\"N/A\")","v":6.1073519998684558E-2},{"$f":"IFERROR(Variance!AB203,\"N/A\")","v":6.4980537707378605E-2},{"$f":"IFERROR(Variance!AC203,\"N/A\")","v":0.10087526845110276},{"$f":"IFERROR(Variance!AD203,\"N/A\")","v":8.7424621105204908E-2}]
[null,"8-Eighth dec.  ",{"$f":"IFERROR(Variance!W204,\"N/A\")","v":5.9720851239797069E-2},{"$f":"IFERROR(Variance!X204,\"N/A\")","v":7.2982126660251542E-2},{"$f":"IFERROR(Variance!Y204,\"N/A\")","v":7.364813825946552E-2},{"$f":"IFERROR(Variance!Z204,\"N/A\")","v":7.4286890904563238E-2},{"$f":"IFERROR(Variance!AA204,\"N/A\")","v":7.017547655218187E-2},{"$f":"IFERROR(Variance!AB204,\"N/A\")","v":7.2790167183007265E-2},{"$f":"IFERROR(Variance!AC204,\"N/A\")","v":0.1138408386928314},{"$f":"IFERROR(Variance!AD204,\"N/A\")","v":0.10036561312302715}]
[null,"9-Ninth dec.   ",{"$f":"IFERROR(Variance!W205,\"N/A\")","v":8.0572748002728692E-2},{"$f":"IFERROR(Variance!X205,\"N/A\")","v":7.034472894700676E-2},{"$f":"IFERROR(Variance!Y205,\"N/A\")","v":6.8765204941044517E-2},{"$f":"IFERROR(Variance!Z205,\"N/A\")","v":6.8492853990157337E-2},{"$f":"IFERROR(Variance!AA205,\"N/A\")","v":6.6682326579761253E-2},{"$f":"IFERROR(Variance!AB205,\"N/A\")","v":6.7506002136758142E-2},{"$f":"IFERROR(Variance!AC205,\"N/A\")","v":0.1028335147877167},{"$f":"IFERROR(Variance!AD205,\"N/A\")","v":9.0236182480868704E-2}]
[null,"10-Highest dec. (family income in 2008$)",{"$f":"IFERROR(Variance!W206,\"N/A\")","v":8.2503880653911829E-2},{"$f":"IFERROR(Variance!X206,\"N/A\")","v":8.3666226350750009E-2},{"$f":"IFERROR(Variance!Y206,\"N/A\")","v":7.4684150564494067E-2},{"$f":"IFERROR(Variance!Z206,\"N/A\")","v":7.1794495563155258E-2},{"$f":"IFERROR(Variance!AA206,\"N/A\")","v":6.7504676346816311E-2},{"$f":"IFERROR(Variance!AB206,\"N/A\")","v":6.5304400930246878E-2},{"$f":"IFERROR(Variance!AC206,\"N/A\")","v":9.8926033641889011E-2},{"$f":"IFERROR(Variance!AD206,\"N/A\")","v":8.6528037323745588E-2}]
[null,"1-Dropout      ",{"$f":"IFERROR(Variance!W207,\"N/A\")","v":2.6865543929611393E-2},{"$f":"IFERROR(Variance!X207,\"N/A\")","v":3.0595867558870962E-2},{"$f":"IFERROR(Variance!Y207,\"N/A\")","v":2.9527322504288918E-2},{"$f":"IFERROR(Variance!Z207,\"N/A\")","v":3.0030883592692407E-2},{"$f":"IFERROR(Variance!AA207,\"N/A\")","v":3.1412563516295337E-2},{"$f":"IFERROR(Variance!AB207,\"N/A\")","v":3.3225059913863361E-2},{"$f":"IFERROR(Variance!AC207,\"N/A\")","v":5.0003041538489501E-2},{"$f":"IFERROR(Variance!AD207,\"N/A\")","v":4.4025412477724853E-2}]
[null,"2-H.S.Diploma (education)      ",{"$f":"IFERROR(Variance!W208,\"N/A\")","v":3.1169495398727688E-2},{"$f":"IFERROR(Variance!X208,\"N/A\")","v":3.3184610393595208E-2},{"$f":"IFERROR(Variance!Y208,\"N/A\")","v":3.0385100357957953E-2},{"$f":"IFERROR(Variance!Z208,\"N/A\")","v":2.9187255529663551E-2},{"$f":"IFERROR(Variance!AA208,\"N/A\")","v":2.8083071494771416E-2},{"$f":"IFERROR(Variance!AB208,\"N/A\")","v":2.8210057823461657E-2},{"$f":"IFERROR(Variance!AC208,\"N/A\")","v":4.0502565277875574E-2},{"$f":"IFERROR(Variance!AD208,\"N/A\")","v":3.4995599275090918E-2}]
[null,"3-SomeColl/AA  ",{"$f":"IFERROR(Variance!W209,\"N/A\")","v":5.1032861558927833E-2},{"$f":"IFERROR(Variance!X209,\"N/A\")","v":5.5311498437742225E-2},{"$f":"IFERROR(Variance!Y209,\"N/A\")","v":4.7654249438426985E-2},{"$f":"IFERROR(Variance!Z209,\"N/A\")","v":4.0787231214119833E-2},{"$f":"IFERROR(Variance!AA209,\"N/A\")","v":3.7939110263293795E-2},{"$f":"IFERROR(Variance!AB209,\"N/A\")","v":3.7388308037314105E-2},{"$f":"IFERROR(Variance!AC209,\"N/A\")","v":5.4192065910306418E-2},{"$f":"IFERROR(Variance!AD209,\"N/A\")","v":4.6751033336138684E-2}]
[null,"4-4yr.Degree   ",{"$f":"IFERROR(Variance!W210,\"N/A\")","v":7.8621977912837843E-2},{"$f":"IFERROR(Variance!X210,\"N/A\")","v":7.8364764868667988E-2},{"$f":"IFERROR(Variance!Y210,\"N/A\")","v":6.4754961680731346E-2},{"$f":"IFERROR(Variance!Z210,\"N/A\")","v":5.9006741645882696E-2},{"$f":"IFERROR(Variance!AA210,\"N/A\")","v":5.3753242831672599E-2},{"$f":"IFERROR(Variance!AB210,\"N/A\")","v":5.1875712354895999E-2},{"$f":"IFERROR(Variance!AC210,\"N/A\")","v":7.5364134984542336E-2},{"$f":"IFERROR(Variance!AD210,\"N/A\")","v":6.5654595087194761E-2}]
[null,"5-Grad.Degree  ",{"$f":"IFERROR(Variance!W211,\"N/A\")","v":8.9788609280757395E-2},{"$f":"IFERROR(Variance!X211,\"N/A\")","v":9.1566006499542954E-2},{"$f":"IFERROR(Variance!Y211,\"N/A\")","v":7.6480204771821381E-2},{"$f":"IFERROR(Variance!Z211,\"N/A\")","v":7.3673176620698708E-2},{"$f":"IFERROR(Variance!AA211,\"N/A\")","v":7.2022197108206787E-2},{"$f":"IFERROR(Variance!AB211,\"N/A\")","v":6.9511920647890232E-2},{"$f":"IFERROR(Variance!AC211,\"N/A\")","v":0.10108341124276321},{"$f":"IFERROR(Variance!AD211,\"N/A\")","v":8.880023537538069E-2}]
[null,"1-White NH (ethnic/race)     ",{"$f":"IFERROR(Variance!W212,\"N/A\")","v":2.4765564065830765E-2},{"$f":"IFERROR(Variance!X212,\"N/A\")","v":2.5633309636444754E-2},{"$f":"IFERROR(Variance!Y212,\"N/A\")","v":1.9944423687056224E-2},{"$f":"IFERROR(Variance!Z212,\"N/A\")","v":1.9386163874032518E-2},{"$f":"IFERROR(Variance!AA212,\"N/A\")","v":1.925602767693518E-2},{"$f":"IFERROR(Variance!AB212,\"N/A\")","v":1.9963378259603936E-2},{"$f":"IFERROR(Variance!AC212,\"N/A\")","v":2.9657833736774674E-2},{"$f":"IFERROR(Variance!AD212,\"N/A\")","v":2.5729160437519046E-2}]
[null,"2-Black NH     ",{"$f":"IFERROR(Variance!W213,\"N/A\")","v":7.2284991979012114E-2},{"$f":"IFERROR(Variance!X213,\"N/A\")","v":7.5856482057051769E-2},{"$f":"IFERROR(Variance!Y213,\"N/A\")","v":5.9466355145939391E-2},{"$f":"IFERROR(Variance!Z213,\"N/A\")","v":5.5589202514621711E-2},{"$f":"IFERROR(Variance!AA213,\"N/A\")","v":5.3135382895379682E-2},{"$f":"IFERROR(Variance!AB213,\"N/A\")","v":4.7253382377059429E-2},{"$f":"IFERROR(Variance!AC213,\"N/A\")","v":6.4407893915518113E-2},{"$f":"IFERROR(Variance!AD213,\"N/A\")","v":5.7622884096156415E-2}]
[null,"3-Asian NH     ",{"$f":"IFERROR(Variance!W214,\"N/A\")","v":0.21384926042351685},{"$f":"IFERROR(Variance!X214,\"N/A\")","v":0.22700828875977835},{"$f":"IFERROR(Variance!Y214,\"N/A\")","v":0.16853890588422113},{"$f":"IFERROR(Variance!Z214,\"N/A\")","v":0.14610172318432887},{"$f":"IFERROR(Variance!AA214,\"N/A\")","v":0.12853475127130073},{"$f":"IFERROR(Variance!AB214,\"N/A\")","v":0.12114086936454818},{"$f":"IFERROR(Variance!AC214,\"N/A\")","v":0.17048592642337529},{"$f":"IFERROR(Variance!AD214,\"N/A\")","v":0.15420385585721039}]
[null,"4-Hispanic     ",{"$f":"IFERROR(Variance!W215,\"N/A\")","v":0.10617776886099073},{"$f":"IFERROR(Variance!X215,\"N/A\")","v":0.102908919888358},{"$f":"IFERROR(Variance!Y215,\"N/A\")","v":8.5903831310135209E-2},{"$f":"IFERROR(Variance!Z215,\"N/A\")","v":7.308872551668763E-2},{"$f":"IFERROR(Variance!AA215,\"N/A\")","v":6.9018234100464981E-2},{"$f":"IFERROR(Variance!AB215,\"N/A\")","v":6.7653898489024492E-2},{"$f":"IFERROR(Variance!AC215,\"N/A\")","v":0.10100661540882606},{"$f":"IFERROR(Variance!AD215,\"N/A\")","v":9.1537414089789396E-2}]
[null,"5-Other NH     ",{"$f":"IFERROR(Variance!W216,\"N/A\")","v":7.1246574145919422E-2},{"$f":"IFERROR(Variance!X216,\"N/A\")","v":6.9941317764524516E-2},{"$f":"IFERROR(Variance!Y216,\"N/A\")","v":8.6495861997882423E-2},{"$f":"IFERROR(Variance!Z216,\"N/A\")","v":8.3947444014508141E-2},{"$f":"IFERROR(Variance!AA216,\"N/A\")","v":7.9003952740172384E-2},{"$f":"IFERROR(Variance!AB216,\"N/A\")","v":8.2563315911325375E-2},{"$f":"IFERROR(Variance!AC216,\"N/A\")","v":0.1308319047064653},{"$f":"IFERROR(Variance!AD216,\"N/A\")","v":0.11579186789570914}]
[null,"1-Employed  (Labor force)",{"$f":"IFERROR(Variance!W217,\"N/A\")","v":3.2017654870177999E-2},{"$f":"IFERROR(Variance!X217,\"N/A\")","v":3.5710477178003262E-2},{"$f":"IFERROR(Variance!Y217,\"N/A\")","v":3.3507745793152903E-2},{"$f":"IFERROR(Variance!Z217,\"N/A\")","v":3.2470832552134316E-2},{"$f":"IFERROR(Variance!AA217,\"N/A\")","v":3.0907782820471724E-2},{"$f":"IFERROR(Variance!AB217,\"N/A\")","v":3.2330643542475009E-2},{"$f":"IFERROR(Variance!AC217,\"N/A\")","v":5.318288706277996E-2},{"$f":"IFERROR(Variance!AD217,\"N/A\")","v":4.7094590080474549E-2}]
[null,"2-Unemployed   ",{"$f":"IFERROR(Variance!W218,\"N/A\")","v":0.14376740187733808},{"$f":"IFERROR(Variance!X218,\"N/A\")","v":0.17586290951099603},{"$f":"IFERROR(Variance!Y218,\"N/A\")","v":0.16118380362356496},{"$f":"IFERROR(Variance!Z218,\"N/A\")","v":0.15387396962056377},{"$f":"IFERROR(Variance!AA218,\"N/A\")","v":0.15806470838577036},{"$f":"IFERROR(Variance!AB218,\"N/A\")","v":0.16083084387264196},{"$f":"IFERROR(Variance!AC218,\"N/A\")","v":"N/A"},{"$f":"IFERROR(Variance!AD218,\"N/A\")","v":"N/A"}]
[null,"3-NILF         ",{"$f":"IFERROR(Variance!W219,\"N/A\")","v":2.1397580727147852E-2},{"$f":"IFERROR(Variance!X219,\"N/A\")","v":2.4032661594132684E-2},{"$f":"IFERROR(Variance!Y219,\"N/A\")","v":2.2408171131563376E-2},{"$f":"IFERROR(Variance!Z219,\"N/A\")","v":2.1972196565544357E-2},{"$f":"IFERROR(Variance!AA219,\"N/A\")","v":2.1596726760509236E-2},{"$f":"IFERROR(Variance!AB219,\"N/A\")","v":2.1319509519537552E-2},{"$f":"IFERROR(Variance!AC219,\"N/A\")","v":2.8525457201411978E-2},{"$f":"IFERROR(Variance!AD219,\"N/A\")","v":2.227203579343864E-2}]
[null,"1-Prof./Managerial (occ.)",{"$f":"IFERROR(Variance!W220,\"N/A\")","v":8.5884629290781611E-2},{"$f":"IFERROR(Variance!X220,\"N/A\")","v":9.144324223570359E-2},{"$f":"IFERROR(Variance!Y220,\"N/A\")","v":8.4738263363533892E-2},{"$f":"IFERROR(Variance!Z220,\"N/A\")","v":8.2509838443430225E-2},{"$f":"IFERROR(Variance!AA220,\"N/A\")","v":8.1819791128285815E-2},{"$f":"IFERROR(Variance!AB220,\"N/A\")","v":7.9391110097269388E-2},{"$f":"IFERROR(Variance!AC220,\"N/A\")","v":0.11933706802985693},{"$f":"IFERROR(Variance!AD220,\"N/A\")","v":0.10549343129950005}]
[null,"2-Sklld/Sales  ",{"$f":"IFERROR(Variance!W221,\"N/A\")","v":4.7922274141894837E-2},{"$f":"IFERROR(Variance!X221,\"N/A\")","v":5.5930073259437149E-2},{"$f":"IFERROR(Variance!Y221,\"N/A\")","v":5.6297614714708503E-2},{"$f":"IFERROR(Variance!Z221,\"N/A\")","v":5.7817715537409296E-2},{"$f":"IFERROR(Variance!AA221,\"N/A\")","v":5.7112964743111679E-2},{"$f":"IFERROR(Variance!AB221,\"N/A\")","v":6.132731602680868E-2},{"$f":"IFERROR(Variance!AC221,\"N/A\")","v":0.10789144049615546},{"$f":"IFERROR(Variance!AD221,\"N/A\")","v":9.8478324893440938E-2}]
[null,"3-BlueCol.Lgt  ",{"$f":"IFERROR(Variance!W222,\"N/A\")","v":5.8279610483008365E-2},{"$f":"IFERROR(Variance!X222,\"N/A\")","v":6.8092746721552369E-2},{"$f":"IFERROR(Variance!Y222,\"N/A\")","v":6.7195478899395825E-2},{"$f":"IFERROR(Variance!Z222,\"N/A\")","v":7.1384639397430949E-2},{"$f":"IFERROR(Variance!AA222,\"N/A\")","v":6.8859502001799258E-2},{"$f":"IFERROR(Variance!AB222,\"N/A\")","v":6.8386281454477421E-2},{"$f":"IFERROR(Variance!AC222,\"N/A\")","v":0.11143524889706848},{"$f":"IFERROR(Variance!AD222,\"N/A\")","v":0.10106416688192564}]
[null,"4-BlueCol.Hvy  ",{"$f":"IFERROR(Variance!W223,\"N/A\")","v":4.4997182581464158E-2},{"$f":"IFERROR(Variance!X223,\"N/A\")","v":5.3014171451654914E-2},{"$f":"IFERROR(Variance!Y223,\"N/A\")","v":5.3315523143614596E-2},{"$f":"IFERROR(Variance!Z223,\"N/A\")","v":5.6465141051942953E-2},{"$f":"IFERROR(Variance!AA223,\"N/A\")","v":5.6582760737803287E-2},{"$f":"IFERROR(Variance!AB223,\"N/A\")","v":6.0702708466119727E-2},{"$f":"IFERROR(Variance!AC223,\"N/A\")","v":0.10231907729483727},{"$f":"IFERROR(Variance!AD223,\"N/A\")","v":9.2909174820673748E-2}]
[null,"5-Medical.Occ  ",{"$f":"IFERROR(Variance!W224,\"N/A\")","v":0.11538519213843322},{"$f":"IFERROR(Variance!X224,\"N/A\")","v":0.14061177530048177},{"$f":"IFERROR(Variance!Y224,\"N/A\")","v":0.13660150419248099},{"$f":"IFERROR(Variance!Z224,\"N/A\")","v":0.13516680012980195},{"$f":"IFERROR(Variance!AA224,\"N/A\")","v":0.13233592011191425},{"$f":"IFERROR(Variance!AB224,\"N/A\")","v":0.13337656980154192},{"$f":"IFERROR(Variance!AC224,\"N/A\")","v":0.22528180485022534},{"$f":"IFERROR(Variance!AD224,\"N/A\")","v":0.20820446472861664}]
[null,"6-N/A          ",{"$f":"IFERROR(Variance!W225,\"N/A\")","v":2.0979645820057308E-2},{"$f":"IFERROR(Variance!X225,\"N/A\")","v":2.3209683796841532E-2},{"$f":"IFERROR(Variance!Y225,\"N/A\")","v":2.1124944602924856E-2},{"$f":"IFERROR(Variance!Z225,\"N/A\")","v":2.011276700352289E-2},{"$f":"IFERROR(Variance!AA225,\"N/A\")","v":2.0009565490006383E-2},{"$f":"IFERROR(Variance!AB225,\"N/A\")","v":2.0675316053572011E-2},{"$f":"IFERROR(Variance!AC225,\"N/A\")","v":3.1538051140051607E-2},{"$f":"IFERROR(Variance!AD225,\"N/A\")","v":2.9413141684843439E-2}]
[]
[null,"75% confidence interval radius (heart)"]
[null,null,"1987.5-1991.5","1991.5-1995.5","1995.5-1999.5","1999.5-2003.5","2003.5-2006","2006-2008","2008-2010","2010-2012"]
[null,"age 40-44 ",{"$f":"IFERROR(Variance!W229,\"N/A\")","v":7.5239908877504424E-2},{"$f":"IFERROR(Variance!X229,\"N/A\")","v":9.3124578862666285E-2},{"$f":"IFERROR(Variance!Y229,\"N/A\")","v":9.5128902523942419E-2},{"$f":"IFERROR(Variance!Z229,\"N/A\")","v":0.10715186448204821},{"$f":"IFERROR(Variance!AA229,\"N/A\")","v":0.1067766030893751},{"$f":"IFERROR(Variance!AB229,\"N/A\")","v":0.12112496749761394},{"$f":"IFERROR(Variance!AC229,\"N/A\")","v":0.24305323596759093},{"$f":"IFERROR(Variance!AD229,\"N/A\")","v":0.23331258592978138}]
[null,"age 45-49 ",{"$f":"IFERROR(Variance!W230,\"N/A\")","v":6.465482539599228E-2},{"$f":"IFERROR(Variance!X230,\"N/A\")","v":8.0791358559765922E-2},{"$f":"IFERROR(Variance!Y230,\"N/A\")","v":8.2508485101219206E-2},{"$f":"IFERROR(Variance!Z230,\"N/A\")","v":8.3353767150828914E-2},{"$f":"IFERROR(Variance!AA230,\"N/A\")","v":8.6878826578477453E-2},{"$f":"IFERROR(Variance!AB230,\"N/A\")","v":9.7801360861305003E-2},{"$f":"IFERROR(Variance!AC230,\"N/A\")","v":0.15342038517414314},{"$f":"IFERROR(Variance!AD230,\"N/A\")","v":0.14134363219051885}]
[null,"age 50-54 ",{"$f":"IFERROR(Variance!W231,\"N/A\")","v":5.1000727529312867E-2},{"$f":"IFERROR(Variance!X231,\"N/A\")","v":6.5217366449035946E-2},{"$f":"IFERROR(Variance!Y231,\"N/A\")","v":6.7498886931649404E-2},{"$f":"IFERROR(Variance!Z231,\"N/A\")","v":6.933040651604111E-2},{"$f":"IFERROR(Variance!AA231,\"N/A\")","v":7.4269351925963692E-2},{"$f":"IFERROR(Variance!AB231,\"N/A\")","v":8.2444968993549722E-2},{"$f":"IFERROR(Variance!AC231,\"N/A\")","v":0.13588265101582422},{"$f":"IFERROR(Variance!AD231,\"N/A\")","v":0.1300917507063836}]
[null,"age 55-59 ",{"$f":"IFERROR(Variance!W232,\"N/A\")","v":3.9119819308102016E-2},{"$f":"IFERROR(Variance!X232,\"N/A\")","v":5.1740745299021035E-2},{"$f":"IFERROR(Variance!Y232,\"N/A\")","v":5.4845457242345567E-2},{"$f":"IFERROR(Variance!Z232,\"N/A\")","v":5.960159941469792E-2},{"$f":"IFERROR(Variance!AA232,\"N/A\")","v":6.4334802670550043E-2},{"$f":"IFERROR(Variance!AB232,\"N/A\")","v":7.0618060773747771E-2},{"$f":"IFERROR(Variance!AC232,\"N/A\")","v":0.11155438915501482},{"$f":"IFERROR(Variance!AD232,\"N/A\")","v":0.10515608868092689}]
[null,"age 60-64",{"$f":"IFERROR(Variance!W233,\"N/A\")","v":3.2209604822524128E-2},{"$f":"IFERROR(Variance!X233,\"N/A\")","v":4.0855979278010414E-2},{"$f":"IFERROR(Variance!Y233,\"N/A\")","v":4.3775260108462034E-2},{"$f":"IFERROR(Variance!Z233,\"N/A\")","v":5.1183370472096451E-2},{"$f":"IFERROR(Variance!AA233,\"N/A\")","v":5.9352612383523413E-2},{"$f":"IFERROR(Variance!AB233,\"N/A\")","v":6.9523230024568547E-2},{"$f":"IFERROR(Variance!AC233,\"N/A\")","v":0.11926187972593108},{"$f":"IFERROR(Variance!AD233,\"N/A\")","v":0.1173826608398708}]
[null,"age 65-69 (age group) ",{"$f":"IFERROR(Variance!W234,\"N/A\")","v":2.805705800875315E-2},{"$f":"IFERROR(Variance!X234,\"N/A\")","v":3.5167029397236857E-2},{"$f":"IFERROR(Variance!Y234,\"N/A\")","v":3.7248916916006403E-2},{"$f":"IFERROR(Variance!Z234,\"N/A\")","v":4.2355987555528878E-2},{"$f":"IFERROR(Variance!AA234,\"N/A\")","v":4.9257507289835155E-2},{"$f":"IFERROR(Variance!AB234,\"N/A\")","v":5.7838244973521774E-2},{"$f":"IFERROR(Variance!AC234,\"N/A\")","v":0.10076938397681716},{"$f":"IFERROR(Variance!AD234,\"N/A\")","v":9.822195114707083E-2}]
[null,"age 70-74 ",{"$f":"IFERROR(Variance!W235,\"N/A\")","v":2.6569460674043158E-2},{"$f":"IFERROR(Variance!X235,\"N/A\")","v":3.2767128416091779E-2},{"$f":"IFERROR(Variance!Y235,\"N/A\")","v":3.3450126008724879E-2},{"$f":"IFERROR(Variance!Z235,\"N/A\")","v":3.5309456941957904E-2},{"$f":"IFERROR(Variance!AA235,\"N/A\")","v":4.0605865230426155E-2},{"$f":"IFERROR(Variance!AB235,\"N/A\")","v":5.1371835123871841E-2},{"$f":"IFERROR(Variance!AC235,\"N/A\")","v":8.3678892851718062E-2},{"$f":"IFERROR(Variance!AD235,\"N/A\")","v":7.9129133143838501E-2}]
[null,"age 75-79 ",{"$f":"IFERROR(Variance!W236,\"N/A\")","v":2.7852890667452869E-2},{"$f":"IFERROR(Variance!X236,\"N/A\")","v":3.3803729759658743E-2},{"$f":"IFERROR(Variance!Y236,\"N/A\")","v":3.313036617688863E-2},{"$f":"IFERROR(Variance!Z236,\"N/A\")","v":3.3754213008356362E-2},{"$f":"IFERROR(Variance!AA236,\"N/A\")","v":3.6537826322123865E-2},{"$f":"IFERROR(Variance!AB236,\"N/A\")","v":4.423313773693606E-2},{"$f":"IFERROR(Variance!AC236,\"N/A\")","v":8.2125628446989868E-2},{"$f":"IFERROR(Variance!AD236,\"N/A\")","v":8.1242202071905287E-2}]
[null,"age 80-84 ",{"$f":"IFERROR(Variance!W237,\"N/A\")","v":3.1364672574049256E-2},{"$f":"IFERROR(Variance!X237,\"N/A\")","v":3.8102814523186611E-2},{"$f":"IFERROR(Variance!Y237,\"N/A\")","v":3.6546217935048822E-2},{"$f":"IFERROR(Variance!Z237,\"N/A\")","v":3.5391697165103847E-2},{"$f":"IFERROR(Variance!AA237,\"N/A\")","v":3.6364680558816379E-2},{"$f":"IFERROR(Variance!AB237,\"N/A\")","v":4.1683649500090625E-2},{"$f":"IFERROR(Variance!AC237,\"N/A\")","v":7.3602947564418889E-2},{"$f":"IFERROR(Variance!AD237,\"N/A\")","v":7.1744327231172161E-2}]
[null,"age 85+",{"$f":"IFERROR(Variance!W238,\"N/A\")","v":3.5587977301408454E-2},{"$f":"IFERROR(Variance!X238,\"N/A\")","v":4.3435150690916087E-2},{"$f":"IFERROR(Variance!Y238,\"N/A\")","v":4.1545134491718469E-2},{"$f":"IFERROR(Variance!Z238,\"N/A\")","v":3.9627249907895401E-2},{"$f":"IFERROR(Variance!AA238,\"N/A\")","v":4.5351649519655736E-2},{"$f":"IFERROR(Variance!AB238,\"N/A\")","v":4.7308604770306649E-2},{"$f":"IFERROR(Variance!AC238,\"N/A\")","v":6.1311959510308531E-2},{"$f":"IFERROR(Variance!AD238,\"N/A\")","v":5.6702592460215619E-2}]
[null,"Male (Sex)",{"$f":"IFERROR(Variance!W239,\"N/A\")","v":1.3941945282721314E-2},{"$f":"IFERROR(Variance!X239,\"N/A\")","v":1.7362513266137927E-2},{"$f":"IFERROR(Variance!Y239,\"N/A\")","v":1.7762623793606346E-2},{"$f":"IFERROR(Variance!Z239,\"N/A\")","v":1.8815841720637737E-2},{"$f":"IFERROR(Variance!AA239,\"N/A\")","v":2.0293530621378328E-2},{"$f":"IFERROR(Variance!AB239,\"N/A\")","v":2.3352649578200213E-2},{"$f":"IFERROR(Variance!AC239,\"N/A\")","v":3.949404415667248E-2},{"$f":"IFERROR(Variance!AD239,\"N/A\")","v":3.8055698089044639E-2}]
[null,"Female       ",{"$f":"IFERROR(Variance!W240,\"N/A\")","v":1.8719965313269145E-2},{"$f":"IFERROR(Variance!X240,\"N/A\")","v":2.1358181589486096E-2},{"$f":"IFERROR(Variance!Y240,\"N/A\")","v":1.9693826661119598E-2},{"$f":"IFERROR(Variance!Z240,\"N/A\")","v":1.9026749520996668E-2},{"$f":"IFERROR(Variance!AA240,\"N/A\")","v":1.9347073456452014E-2},{"$f":"IFERROR(Variance!AB240,\"N/A\")","v":2.1173176540606638E-2},{"$f":"IFERROR(Variance!AC240,\"N/A\")","v":3.5533243250908161E-2},{"$f":"IFERROR(Variance!AD240,\"N/A\")","v":3.6049808830507228E-2}]
[null,"1-Never  ","N/A","N/A","N/A",{"$f":"IFERROR(Variance!Z241,\"N/A\")","v":2.5637354752304931E-2},{"$f":"IFERROR(Variance!AA241,\"N/A\")","v":2.4677528259560776E-2},{"$f":"IFERROR(Variance!AB241,\"N/A\")","v":3.8150851040677294E-2},{"$f":"IFERROR(Variance!AC241,\"N/A\")","v":8.7607802816282956E-2},"N/A"]
[null,"2-Current","N/A","N/A","N/A",{"$f":"IFERROR(Variance!Z242,\"N/A\")","v":4.872368193926857E-2},{"$f":"IFERROR(Variance!AA242,\"N/A\")","v":4.5931325661907392E-2},{"$f":"IFERROR(Variance!AB242,\"N/A\")","v":6.9630852540567459E-2},{"$f":"IFERROR(Variance!AC242,\"N/A\")","v":0.13897217338134768},"N/A"]
[null,"3-Former ","N/A","N/A","N/A",{"$f":"IFERROR(Variance!Z243,\"N/A\")","v":3.1385952537786331E-2},{"$f":"IFERROR(Variance!AA243,\"N/A\")","v":2.973223580897932E-2},{"$f":"IFERROR(Variance!AB243,\"N/A\")","v":4.419208034101238E-2},{"$f":"IFERROR(Variance!AC243,\"N/A\")","v":0.11552061816312653},"N/A"]
[null,"4-Not_Asked (smoker)",{"$f":"IFERROR(Variance!W244,\"N/A\")","v":1.005759106930228E-2},{"$f":"IFERROR(Variance!X244,\"N/A\")","v":1.2580380766990267E-2},{"$f":"IFERROR(Variance!Y244,\"N/A\")","v":1.4928897198135234E-2},{"$f":"IFERROR(Variance!Z244,\"N/A\")","v":1.9587685637637846E-2},{"$f":"IFERROR(Variance!AA244,\"N/A\")","v":2.6728965105661941E-2},{"$f":"IFERROR(Variance!AB244,\"N/A\")","v":2.7220390905357009E-2},{"$f":"IFERROR(Variance!AC244,\"N/A\")","v":3.2310130407459677E-2},{"$f":"IFERROR(Variance!AD244,\"N/A\")","v":3.0635595766642983E-2}]
[null,"1-Married (marital status)",{"$f":"IFERROR(Variance!W245,\"N/A\")","v":1.3472360447289278E-2},{"$f":"IFERROR(Variance!X245,\"N/A\")","v":1.6947028718354594E-2},{"$f":"IFERROR(Variance!Y245,\"N/A\")","v":1.7445424728133999E-2},{"$f":"IFERROR(Variance!Z245,\"N/A\")","v":1.8670286266167128E-2},{"$f":"IFERROR(Variance!AA245,\"N/A\")","v":2.0689681355450205E-2},{"$f":"IFERROR(Variance!AB245,\"N/A\")","v":2.446427802850331E-2},{"$f":"IFERROR(Variance!AC245,\"N/A\")","v":4.4410431460690701E-2},{"$f":"IFERROR(Variance!AD245,\"N/A\")","v":4.3326359202809944E-2}]
[null,"2-Widowed    ",{"$f":"IFERROR(Variance!W246,\"N/A\")","v":1.8121295589652239E-2},{"$f":"IFERROR(Variance!X246,\"N/A\")","v":2.2706295606812438E-2},{"$f":"IFERROR(Variance!Y246,\"N/A\")","v":2.2506264545213255E-2},{"$f":"IFERROR(Variance!Z246,\"N/A\")","v":2.2949226294891854E-2},{"$f":"IFERROR(Variance!AA246,\"N/A\")","v":2.5717687543034027E-2},{"$f":"IFERROR(Variance!AB246,\"N/A\")","v":3.0442474440014387E-2},{"$f":"IFERROR(Variance!AC246,\"N/A\")","v":5.2621700956469897E-2},{"$f":"IFERROR(Variance!AD246,\"N/A\")","v":5.2624468050305462E-2}]
[null,"3-Divorced   ",{"$f":"IFERROR(Variance!W247,\"N/A\")","v":4.4958189439625158E-2},{"$f":"IFERROR(Variance!X247,\"N/A\")","v":5.2521883226330841E-2},{"$f":"IFERROR(Variance!Y247,\"N/A\")","v":5.0999125490366788E-2},{"$f":"IFERROR(Variance!Z247,\"N/A\")","v":5.0058353703358753E-2},{"$f":"IFERROR(Variance!AA247,\"N/A\")","v":4.9606581489349079E-2},{"$f":"IFERROR(Variance!AB247,\"N/A\")","v":5.4016984944697352E-2},{"$f":"IFERROR(Variance!AC247,\"N/A\")","v":8.8301367789962101E-2},{"$f":"IFERROR(Variance!AD247,\"N/A\")","v":8.5759400389512144E-2}]
[null,"4-Separated  ",{"$f":"IFERROR(Variance!W248,\"N/A\")","v":9.1430192516725878E-2},{"$f":"IFERROR(Variance!X248,\"N/A\")","v":0.11491287543989707},{"$f":"IFERROR(Variance!Y248,\"N/A\")","v":0.10549163301860105},{"$f":"IFERROR(Variance!Z248,\"N/A\")","v":0.1096812735134189},{"$f":"IFERROR(Variance!AA248,\"N/A\")","v":0.12462248956471281},{"$f":"IFERROR(Variance!AB248,\"N/A\")","v":0.12275023003646135},{"$f":"IFERROR(Variance!AC248,\"N/A\")","v":0.21181813674136016},{"$f":"IFERROR(Variance!AD248,\"N/A\")","v":0.20664786471748209}]
[null,"5-NeverMar.  ",{"$f":"IFERROR(Variance!W249,\"N/A\")","v":4.1758848267285306E-2},{"$f":"IFERROR(Variance!X249,\"N/A\")","v":5.2757491146270513E-2},{"$f":"IFERROR(Variance!Y249,\"N/A\")","v":5.3472817034759978E-2},{"$f":"IFERROR(Variance!Z249,\"N/A\")","v":5.3985754612672375E-2},{"$f":"IFERROR(Variance!AA249,\"N/A\")","v":5.7687689525110566E-2},{"$f":"IFERROR(Variance!AB249,\"N/A\")","v":6.6500022812318108E-2},{"$f":"IFERROR(Variance!AC249,\"N/A\")","v":0.1069693181536719},{"$f":"IFERROR(Variance!AD249,\"N/A\")","v":0.10393584108814055}]
[null,"1-Lowest inc.  ",{"$f":"IFERROR(Variance!W250,\"N/A\")","v":2.2744095399140424E-2},{"$f":"IFERROR(Variance!X250,\"N/A\")","v":3.017287491919737E-2},{"$f":"IFERROR(Variance!Y250,\"N/A\")","v":3.0525568060951767E-2},{"$f":"IFERROR(Variance!Z250,\"N/A\")","v":3.2083740379688995E-2},{"$f":"IFERROR(Variance!AA250,\"N/A\")","v":3.5041547731794929E-2},{"$f":"IFERROR(Variance!AB250,\"N/A\")","v":3.8171407760553638E-2},{"$f":"IFERROR(Variance!AC250,\"N/A\")","v":6.1632051359241408E-2},{"$f":"IFERROR(Variance!AD250,\"N/A\")","v":5.9331857095573232E-2}]
[null,"2-Second dec.  ",{"$f":"IFERROR(Variance!W251,\"N/A\")","v":2.1979920356739041E-2},{"$f":"IFERROR(Variance!X251,\"N/A\")","v":2.8760467916593837E-2},{"$f":"IFERROR(Variance!Y251,\"N/A\")","v":2.8792246242271904E-2},{"$f":"IFERROR(Variance!Z251,\"N/A\")","v":2.9508333118868805E-2},{"$f":"IFERROR(Variance!AA251,\"N/A\")","v":3.1902238456089776E-2},{"$f":"IFERROR(Variance!AB251,\"N/A\")","v":3.6500776553102895E-2},{"$f":"IFERROR(Variance!AC251,\"N/A\")","v":6.3920693391031014E-2},{"$f":"IFERROR(Variance!AD251,\"N/A\")","v":6.2749933785199483E-2}]
[null,"3-Third dec.   ",{"$f":"IFERROR(Variance!W252,\"N/A\")","v":2.8120868442804921E-2},{"$f":"IFERROR(Variance!X252,\"N/A\")","v":3.2652742940251139E-2},{"$f":"IFERROR(Variance!Y252,\"N/A\")","v":3.2541255927916651E-2},{"$f":"IFERROR(Variance!Z252,\"N/A\")","v":3.3868074822346453E-2},{"$f":"IFERROR(Variance!AA252,\"N/A\")","v":3.752301894269891E-2},{"$f":"IFERROR(Variance!AB252,\"N/A\")","v":4.2308677794877396E-2},{"$f":"IFERROR(Variance!AC252,\"N/A\")","v":7.8093079098599485E-2},{"$f":"IFERROR(Variance!AD252,\"N/A\")","v":7.7151923623079821E-2}]
[null,"4-Fourth dec.  ",{"$f":"IFERROR(Variance!W253,\"N/A\")","v":3.0114769506617081E-2},{"$f":"IFERROR(Variance!X253,\"N/A\")","v":3.6709679519443025E-2},{"$f":"IFERROR(Variance!Y253,\"N/A\")","v":3.8294715564326051E-2},{"$f":"IFERROR(Variance!Z253,\"N/A\")","v":4.0494170561274405E-2},{"$f":"IFERROR(Variance!AA253,\"N/A\")","v":4.3440245168689683E-2},{"$f":"IFERROR(Variance!AB253,\"N/A\")","v":5.2899684208431448E-2},{"$f":"IFERROR(Variance!AC253,\"N/A\")","v":8.558399769075252E-2},{"$f":"IFERROR(Variance!AD253,\"N/A\")","v":7.9912723973053795E-2}]
[null,"5-Fifth dec.   ",{"$f":"IFERROR(Variance!W254,\"N/A\")","v":3.4620962573230364E-2},{"$f":"IFERROR(Variance!X254,\"N/A\")","v":4.3386494369941866E-2},{"$f":"IFERROR(Variance!Y254,\"N/A\")","v":4.3676863467921705E-2},{"$f":"IFERROR(Variance!Z254,\"N/A\")","v":4.6344450372956279E-2},{"$f":"IFERROR(Variance!AA254,\"N/A\")","v":4.9172231115725738E-2},{"$f":"IFERROR(Variance!AB254,\"N/A\")","v":5.7040807468600498E-2},{"$f":"IFERROR(Variance!AC254,\"N/A\")","v":9.8806569606406686E-2},{"$f":"IFERROR(Variance!AD254,\"N/A\")","v":9.337202337097425E-2}]
[null,"6-Sixth dec.   ",{"$f":"IFERROR(Variance!W255,\"N/A\")","v":3.9764978964788512E-2},{"$f":"IFERROR(Variance!X255,\"N/A\")","v":4.818352639967384E-2},{"$f":"IFERROR(Variance!Y255,\"N/A\")","v":4.9218055637856147E-2},{"$f":"IFERROR(Variance!Z255,\"N/A\")","v":5.1666212370585829E-2},{"$f":"IFERROR(Variance!AA255,\"N/A\")","v":5.7476255757611644E-2},{"$f":"IFERROR(Variance!AB255,\"N/A\")","v":6.5006561475713917E-2},{"$f":"IFERROR(Variance!AC255,\"N/A\")","v":0.12669542488479302},{"$f":"IFERROR(Variance!AD255,\"N/A\")","v":0.12372795296677422}]
[null,"7-Seventh dec. ",{"$f":"IFERROR(Variance!W256,\"N/A\")","v":5.2011780335588863E-2},{"$f":"IFERROR(Variance!X256,\"N/A\")","v":5.0496060496855087E-2},{"$f":"IFERROR(Variance!Y256,\"N/A\")","v":5.3257981619933864E-2},{"$f":"IFERROR(Variance!Z256,\"N/A\")","v":5.7747993851228287E-2},{"$f":"IFERROR(Variance!AA256,\"N/A\")","v":6.1661669710156262E-2},{"$f":"IFERROR(Variance!AB256,\"N/A\")","v":7.1229789242711714E-2},{"$f":"IFERROR(Variance!AC256,\"N/A\")","v":0.11917249953763134},{"$f":"IFERROR(Variance!AD256,\"N/A\")","v":0.11249189668269638}]
[null,"8-Eighth dec.  ",{"$f":"IFERROR(Variance!W257,\"N/A\")","v":4.2461525779860149E-2},{"$f":"IFERROR(Variance!X257,\"N/A\")","v":5.8527660181105882E-2},{"$f":"IFERROR(Variance!Y257,\"N/A\")","v":6.2755674513253507E-2},{"$f":"IFERROR(Variance!Z257,\"N/A\")","v":6.8758973522175637E-2},{"$f":"IFERROR(Variance!AA257,\"N/A\")","v":7.170011140274149E-2},{"$f":"IFERROR(Variance!AB257,\"N/A\")","v":8.0649250734444497E-2},{"$f":"IFERROR(Variance!AC257,\"N/A\")","v":0.12375837887149428},{"$f":"IFERROR(Variance!AD257,\"N/A\")","v":0.11282200707105937}]
[null,"9-Ninth dec.   ",{"$f":"IFERROR(Variance!W258,\"N/A\")","v":6.6751548466346122E-2},{"$f":"IFERROR(Variance!X258,\"N/A\")","v":6.2876840961372749E-2},{"$f":"IFERROR(Variance!Y258,\"N/A\")","v":6.6542865708930657E-2},{"$f":"IFERROR(Variance!Z258,\"N/A\")","v":6.7180747192603016E-2},{"$f":"IFERROR(Variance!AA258,\"N/A\")","v":6.8348536908155066E-2},{"$f":"IFERROR(Variance!AB258,\"N/A\")","v":7.2555339774900196E-2},{"$f":"IFERROR(Variance!AC258,\"N/A\")","v":0.119121400648209},{"$f":"IFERROR(Variance!AD258,\"N/A\")","v":0.11058561000349067}]
[null,"10-Highest dec. (family income in 2008$)",{"$f":"IFERROR(Variance!W259,\"N/A\")","v":5.6268716275829793E-2},{"$f":"IFERROR(Variance!X259,\"N/A\")","v":6.5563516093725877E-2},{"$f":"IFERROR(Variance!Y259,\"N/A\")","v":6.8082639836165651E-2},{"$f":"IFERROR(Variance!Z259,\"N/A\")","v":7.044144536776327E-2},{"$f":"IFERROR(Variance!AA259,\"N/A\")","v":7.059729063395058E-2},{"$f":"IFERROR(Variance!AB259,\"N/A\")","v":8.0194472457232963E-2},{"$f":"IFERROR(Variance!AC259,\"N/A\")","v":0.14178546500636779},{"$f":"IFERROR(Variance!AD259,\"N/A\")","v":0.13717843931634394}]
[null,"1-Dropout      ",{"$f":"IFERROR(Variance!W260,\"N/A\")","v":1.3482478876041162E-2},{"$f":"IFERROR(Variance!X260,\"N/A\")","v":1.7716432108467191E-2},{"$f":"IFERROR(Variance!Y260,\"N/A\")","v":1.9019714503024272E-2},{"$f":"IFERROR(Variance!Z260,\"N/A\")","v":2.1217314196223767E-2},{"$f":"IFERROR(Variance!AA260,\"N/A\")","v":2.4423129981969421E-2},{"$f":"IFERROR(Variance!AB260,\"N/A\")","v":2.8733595036454014E-2},{"$f":"IFERROR(Variance!AC260,\"N/A\")","v":4.9563251478162505E-2},{"$f":"IFERROR(Variance!AD260,\"N/A\")","v":4.7677080588640251E-2}]
[null,"2-H.S.Diploma (education)      ",{"$f":"IFERROR(Variance!W261,\"N/A\")","v":1.9144362645498247E-2},{"$f":"IFERROR(Variance!X261,\"N/A\")","v":2.2780744159363649E-2},{"$f":"IFERROR(Variance!Y261,\"N/A\")","v":2.2699788851793634E-2},{"$f":"IFERROR(Variance!Z261,\"N/A\")","v":2.3791645748413155E-2},{"$f":"IFERROR(Variance!AA261,\"N/A\")","v":2.5238579616388604E-2},{"$f":"IFERROR(Variance!AB261,\"N/A\")","v":2.8372010801391477E-2},{"$f":"IFERROR(Variance!AC261,\"N/A\")","v":4.7512794050530709E-2},{"$f":"IFERROR(Variance!AD261,\"N/A\")","v":4.5841673090963979E-2}]
[null,"3-SomeColl/AA  ",{"$f":"IFERROR(Variance!W262,\"N/A\")","v":3.3309576923335027E-2},{"$f":"IFERROR(Variance!X262,\"N/A\")","v":4.0255429730392069E-2},{"$f":"IFERROR(Variance!Y262,\"N/A\")","v":3.7351099979060116E-2},{"$f":"IFERROR(Variance!Z262,\"N/A\")","v":3.4328351833119726E-2},{"$f":"IFERROR(Variance!AA262,\"N/A\")","v":3.5387872916762118E-2},{"$f":"IFERROR(Variance!AB262,\"N/A\")","v":4.029190032993861E-2},{"$f":"IFERROR(Variance!AC262,\"N/A\")","v":6.4519612041239627E-2},{"$f":"IFERROR(Variance!AD262,\"N/A\")","v":6.1018201673527062E-2}]
[null,"4-4yr.Degree   ",{"$f":"IFERROR(Variance!W263,\"N/A\")","v":4.3284212204831272E-2},{"$f":"IFERROR(Variance!X263,\"N/A\")","v":5.3979634838121307E-2},{"$f":"IFERROR(Variance!Y263,\"N/A\")","v":5.2576080507414073E-2},{"$f":"IFERROR(Variance!Z263,\"N/A\")","v":4.9192852387428626E-2},{"$f":"IFERROR(Variance!AA263,\"N/A\")","v":5.0028755356497694E-2},{"$f":"IFERROR(Variance!AB263,\"N/A\")","v":5.5862144452468114E-2},{"$f":"IFERROR(Variance!AC263,\"N/A\")","v":9.5427767810020658E-2},{"$f":"IFERROR(Variance!AD263,\"N/A\")","v":9.2221881408108913E-2}]
[null,"5-Grad.Degree  ",{"$f":"IFERROR(Variance!W264,\"N/A\")","v":5.6110597374886342E-2},{"$f":"IFERROR(Variance!X264,\"N/A\")","v":6.3872098443860201E-2},{"$f":"IFERROR(Variance!Y264,\"N/A\")","v":6.2763301337887212E-2},{"$f":"IFERROR(Variance!Z264,\"N/A\")","v":6.3060584467822894E-2},{"$f":"IFERROR(Variance!AA264,\"N/A\")","v":6.4395634751175629E-2},{"$f":"IFERROR(Variance!AB264,\"N/A\")","v":6.9911742103602792E-2},{"$f":"IFERROR(Variance!AC264,\"N/A\")","v":0.12032708299196901},{"$f":"IFERROR(Variance!AD264,\"N/A\")","v":0.11962960003457938}]
[null,"1-White NH (ethnic/race)     ",{"$f":"IFERROR(Variance!W265,\"N/A\")","v":1.3835658392366831E-2},{"$f":"IFERROR(Variance!X265,\"N/A\")","v":1.620328720316665E-2},{"$f":"IFERROR(Variance!Y265,\"N/A\")","v":1.4234653927038736E-2},{"$f":"IFERROR(Variance!Z265,\"N/A\")","v":1.4990131320869911E-2},{"$f":"IFERROR(Variance!AA265,\"N/A\")","v":1.6576545910081605E-2},{"$f":"IFERROR(Variance!AB265,\"N/A\")","v":1.9442798848475652E-2},{"$f":"IFERROR(Variance!AC265,\"N/A\")","v":3.327675137021547E-2},{"$f":"IFERROR(Variance!AD265,\"N/A\")","v":3.2183529123292157E-2}]
[null,"2-Black NH     ",{"$f":"IFERROR(Variance!W266,\"N/A\")","v":4.2575895573478656E-2},{"$f":"IFERROR(Variance!X266,\"N/A\")","v":5.0805872157489732E-2},{"$f":"IFERROR(Variance!Y266,\"N/A\")","v":4.4492237298595021E-2},{"$f":"IFERROR(Variance!Z266,\"N/A\")","v":4.5416992738583059E-2},{"$f":"IFERROR(Variance!AA266,\"N/A\")","v":4.6066993290820139E-2},{"$f":"IFERROR(Variance!AB266,\"N/A\")","v":4.4120692121251054E-2},{"$f":"IFERROR(Variance!AC266,\"N/A\")","v":6.9299394454204813E-2},{"$f":"IFERROR(Variance!AD266,\"N/A\")","v":6.8594499022622157E-2}]
[null,"3-Asian NH     ",{"$f":"IFERROR(Variance!W267,\"N/A\")","v":0.14837056555522748},{"$f":"IFERROR(Variance!X267,\"N/A\")","v":0.1705812393315701},{"$f":"IFERROR(Variance!Y267,\"N/A\")","v":0.12646230173955683},{"$f":"IFERROR(Variance!Z267,\"N/A\")","v":0.11846363981936953},{"$f":"IFERROR(Variance!AA267,\"N/A\")","v":0.12387420394395846},{"$f":"IFERROR(Variance!AB267,\"N/A\")","v":0.12053808609015061},{"$f":"IFERROR(Variance!AC267,\"N/A\")","v":0.19703711774672256},{"$f":"IFERROR(Variance!AD267,\"N/A\")","v":0.19446877322789718}]
[null,"4-Hispanic     ",{"$f":"IFERROR(Variance!W268,\"N/A\")","v":5.7619999872985425E-2},{"$f":"IFERROR(Variance!X268,\"N/A\")","v":6.3332422742478689E-2},{"$f":"IFERROR(Variance!Y268,\"N/A\")","v":5.961960670798163E-2},{"$f":"IFERROR(Variance!Z268,\"N/A\")","v":5.6982389000823155E-2},{"$f":"IFERROR(Variance!AA268,\"N/A\")","v":5.4977559501503494E-2},{"$f":"IFERROR(Variance!AB268,\"N/A\")","v":6.0842236430593888E-2},{"$f":"IFERROR(Variance!AC268,\"N/A\")","v":0.11091664422811395},{"$f":"IFERROR(Variance!AD268,\"N/A\")","v":0.11215835142937233}]
[null,"5-Other NH     ",{"$f":"IFERROR(Variance!W269,\"N/A\")","v":3.6676814807988525E-2},{"$f":"IFERROR(Variance!X269,\"N/A\")","v":4.6604220565989223E-2},{"$f":"IFERROR(Variance!Y269,\"N/A\")","v":6.6086046544133276E-2},{"$f":"IFERROR(Variance!Z269,\"N/A\")","v":6.8229546230798868E-2},{"$f":"IFERROR(Variance!AA269,\"N/A\")","v":6.8623767803524319E-2},{"$f":"IFERROR(Variance!AB269,\"N/A\")","v":9.3834064964579231E-2},{"$f":"IFERROR(Variance!AC269,\"N/A\")","v":0.16187272886104476},{"$f":"IFERROR(Variance!AD269,\"N/A\")","v":0.15340425296860363}]
[null,"1-Employed  (Labor force)",{"$f":"IFERROR(Variance!W270,\"N/A\")","v":2.2942319878686234E-2},{"$f":"IFERROR(Variance!X270,\"N/A\")","v":2.9015077016748089E-2},{"$f":"IFERROR(Variance!Y270,\"N/A\")","v":3.0438691460109499E-2},{"$f":"IFERROR(Variance!Z270,\"N/A\")","v":3.2778571338863284E-2},{"$f":"IFERROR(Variance!AA270,\"N/A\")","v":3.5092937540128398E-2},{"$f":"IFERROR(Variance!AB270,\"N/A\")","v":4.2210743539867868E-2},{"$f":"IFERROR(Variance!AC270,\"N/A\")","v":8.0290116814887041E-2},{"$f":"IFERROR(Variance!AD270,\"N/A\")","v":7.9010208583705513E-2}]
[null,"2-Unemployed   ",{"$f":"IFERROR(Variance!W271,\"N/A\")","v":9.6258872856537864E-2},{"$f":"IFERROR(Variance!X271,\"N/A\")","v":0.12551069977355389},{"$f":"IFERROR(Variance!Y271,\"N/A\")","v":0.12968455970852288},{"$f":"IFERROR(Variance!Z271,\"N/A\")","v":0.16560128698809662},{"$f":"IFERROR(Variance!AA271,\"N/A\")","v":0.18885961626445433},{"$f":"IFERROR(Variance!AB271,\"N/A\")","v":0.19672148636126482},{"$f":"IFERROR(Variance!AC271,\"N/A\")","v":"N/A"},{"$f":"IFERROR(Variance!AD271,\"N/A\")","v":"N/A"}]
[null,"3-NILF         ",{"$f":"IFERROR(Variance!W272,\"N/A\")","v":1.092481016039157E-2},{"$f":"IFERROR(Variance!X272,\"N/A\")","v":1.3784092052794341E-2},{"$f":"IFERROR(Variance!Y272,\"N/A\")","v":1.4265714949453114E-2},{"$f":"IFERROR(Variance!Z272,\"N/A\")","v":1.5444797904636173E-2},{"$f":"IFERROR(Variance!AA272,\"N/A\")","v":1.7459299742759081E-2},{"$f":"IFERROR(Variance!AB272,\"N/A\")","v":2.0157918295925874E-2},{"$f":"IFERROR(Variance!AC272,\"N/A\")","v":3.2564751306373221E-2},{"$f":"IFERROR(Variance!AD272,\"N/A\")","v":2.9735978372396936E-2}]
[null,"1-Prof./Managerial (occ.)",{"$f":"IFERROR(Variance!W273,\"N/A\")","v":6.3386785998702788E-2},{"$f":"IFERROR(Variance!X273,\"N/A\")","v":7.6347752865452673E-2},{"$f":"IFERROR(Variance!Y273,\"N/A\")","v":8.1988889152060443E-2},{"$f":"IFERROR(Variance!Z273,\"N/A\")","v":9.5914703629319101E-2},{"$f":"IFERROR(Variance!AA273,\"N/A\")","v":9.661601463203677E-2},{"$f":"IFERROR(Variance!AB273,\"N/A\")","v":0.10826038651916678},{"$f":"IFERROR(Variance!AC273,\"N/A\")","v":0.18679090770833648},{"$f":"IFERROR(Variance!AD273,\"N/A\")","v":0.17688756566167377}]
[null,"2-Sklld/Sales  ",{"$f":"IFERROR(Variance!W274,\"N/A\")","v":4.2153098967617916E-2},{"$f":"IFERROR(Variance!X274,\"N/A\")","v":5.3140894732807357E-2},{"$f":"IFERROR(Variance!Y274,\"N/A\")","v":5.6854136636997871E-2},{"$f":"IFERROR(Variance!Z274,\"N/A\")","v":6.0347920513631456E-2},{"$f":"IFERROR(Variance!AA274,\"N/A\")","v":6.5804514886724674E-2},{"$f":"IFERROR(Variance!AB274,\"N/A\")","v":8.2282254232239671E-2},{"$f":"IFERROR(Variance!AC274,\"N/A\")","v":0.1556458660362999},{"$f":"IFERROR(Variance!AD274,\"N/A\")","v":0.14964959620007998}]
[null,"3-BlueCol.Lgt  ",{"$f":"IFERROR(Variance!W275,\"N/A\")","v":4.8903961162824472E-2},{"$f":"IFERROR(Variance!X275,\"N/A\")","v":6.3535738335457517E-2},{"$f":"IFERROR(Variance!Y275,\"N/A\")","v":6.6074087635933254E-2},{"$f":"IFERROR(Variance!Z275,\"N/A\")","v":7.2160034890739189E-2},{"$f":"IFERROR(Variance!AA275,\"N/A\")","v":7.8368491932615109E-2},{"$f":"IFERROR(Variance!AB275,\"N/A\")","v":8.5786413471492365E-2},{"$f":"IFERROR(Variance!AC275,\"N/A\")","v":0.15086255252357852},{"$f":"IFERROR(Variance!AD275,\"N/A\")","v":0.14122808580145754}]
[null,"4-BlueCol.Hvy  ",{"$f":"IFERROR(Variance!W276,\"N/A\")","v":3.4852801679261129E-2},{"$f":"IFERROR(Variance!X276,\"N/A\")","v":4.4442312908152745E-2},{"$f":"IFERROR(Variance!Y276,\"N/A\")","v":4.9056460238922406E-2},{"$f":"IFERROR(Variance!Z276,\"N/A\")","v":5.6782851282483143E-2},{"$f":"IFERROR(Variance!AA276,\"N/A\")","v":6.1793339681218709E-2},{"$f":"IFERROR(Variance!AB276,\"N/A\")","v":7.1300013436993076E-2},{"$f":"IFERROR(Variance!AC276,\"N/A\")","v":0.12677520122741456},{"$f":"IFERROR(Variance!AD276,\"N/A\")","v":0.12207111534757144}]
[null,"5-Medical.Occ  ",{"$f":"IFERROR(Variance!W277,\"N/A\")","v":0.10687916883401566},{"$f":"IFERROR(Variance!X277,\"N/A\")","v":0.14268762093012394},{"$f":"IFERROR(Variance!Y277,\"N/A\")","v":0.14845632908233791},{"$f":"IFERROR(Variance!Z277,\"N/A\")","v":0.15622985870404793},{"$f":"IFERROR(Variance!AA277,\"N/A\")","v":0.16405820979073349},{"$f":"IFERROR(Variance!AB277,\"N/A\")","v":0.18401326606412027},{"$f":"IFERROR(Variance!AC277,\"N/A\")","v":"N/A"},{"$f":"IFERROR(Variance!AD277,\"N/A\")","v":"N/A"}]
[null,"6-N/A          ",{"$f":"IFERROR(Variance!W278,\"N/A\")","v":1.2703899815371839E-2},{"$f":"IFERROR(Variance!X278,\"N/A\")","v":1.5780417289193403E-2},{"$f":"IFERROR(Variance!Y278,\"N/A\")","v":1.5786747776242858E-2},{"$f":"IFERROR(Variance!Z278,\"N/A\")","v":1.6192717932061271E-2},{"$f":"IFERROR(Variance!AA278,\"N/A\")","v":1.7160987167504714E-2},{"$f":"IFERROR(Variance!AB278,\"N/A\")","v":1.83257732679287E-2},{"$f":"IFERROR(Variance!AC278,\"N/A\")","v":2.7915322832309748E-2},{"$f":"IFERROR(Variance!AD278,\"N/A\")","v":2.4635929617615949E-2}]
[]
[null,"75% confidence interval radius (pulmonary)"]
[null,null,"1987.5-1991.5","1991.5-1995.5","1995.5-1999.5","1999.5-2003.5","2003.5-2006","2006-2012"]
[null,"age 40-44 ",{"$f":"IFERROR(Variance!W388,\"N/A\")","v":"N/A"},{"$f":"IFERROR(Variance!X388,\"N/A\")","v":"N/A"},{"$f":"IFERROR(Variance!Y388,\"N/A\")","v":"N/A"},{"$f":"IFERROR(Variance!Z388,\"N/A\")","v":"N/A"},{"$f":"IFERROR(Variance!AA388,\"N/A\")","v":"N/A"},{"$f":"IFERROR(Variance!AB388,\"N/A\")","v":0.23377990350443467}]
[null,"age 45-49 ",{"$f":"IFERROR(Variance!W389,\"N/A\")","v":0.30958937767333033},{"$f":"IFERROR(Variance!X389,\"N/A\")","v":0.34855584354653851},{"$f":"IFERROR(Variance!Y389,\"N/A\")","v":"N/A"},{"$f":"IFERROR(Variance!Z389,\"N/A\")","v":"N/A"},{"$f":"IFERROR(Variance!AA389,\"N/A\")","v":0.27450070481123723},{"$f":"IFERROR(Variance!AB389,\"N/A\")","v":0.17942245967155163}]
[null,"age 50-54 ",{"$f":"IFERROR(Variance!W390,\"N/A\")","v":0.17283115812940578},{"$f":"IFERROR(Variance!X390,\"N/A\")","v":0.21903993895798635},{"$f":"IFERROR(Variance!Y390,\"N/A\")","v":0.21721900535614119},{"$f":"IFERROR(Variance!Z390,\"N/A\")","v":0.21006685192482202},{"$f":"IFERROR(Variance!AA390,\"N/A\")","v":0.22460049450107927},{"$f":"IFERROR(Variance!AB390,\"N/A\")","v":0.18064987323935569}]
[null,"age 55-59 ",{"$f":"IFERROR(Variance!W391,\"N/A\")","v":0.15094725047437269},{"$f":"IFERROR(Variance!X391,\"N/A\")","v":0.17712936755106046},{"$f":"IFERROR(Variance!Y391,\"N/A\")","v":0.16516940468125493},{"$f":"IFERROR(Variance!Z391,\"N/A\")","v":0.15188645257807157},{"$f":"IFERROR(Variance!AA391,\"N/A\")","v":0.14760195839339404},{"$f":"IFERROR(Variance!AB391,\"N/A\")","v":9.8968056472272359E-2}]
[null,"age 60-64",{"$f":"IFERROR(Variance!W392,\"N/A\")","v":0.11574760016149283},{"$f":"IFERROR(Variance!X392,\"N/A\")","v":0.14043740743414668},{"$f":"IFERROR(Variance!Y392,\"N/A\")","v":0.13109388455720986},{"$f":"IFERROR(Variance!Z392,\"N/A\")","v":0.12019037765425773},{"$f":"IFERROR(Variance!AA392,\"N/A\")","v":0.12513229462048192},{"$f":"IFERROR(Variance!AB392,\"N/A\")","v":8.5738831001393165E-2}]
[null,"age 65-69 (age group) ",{"$f":"IFERROR(Variance!W393,\"N/A\")","v":0.10028823365825562},{"$f":"IFERROR(Variance!X393,\"N/A\")","v":0.10781812658101991},{"$f":"IFERROR(Variance!Y393,\"N/A\")","v":0.10369274008561913},{"$f":"IFERROR(Variance!Z393,\"N/A\")","v":9.4526189077053402E-2},{"$f":"IFERROR(Variance!AA393,\"N/A\")","v":9.6487976631315808E-2},{"$f":"IFERROR(Variance!AB393,\"N/A\")","v":7.0834695822411781E-2}]
[null,"age 70-74 ",{"$f":"IFERROR(Variance!W394,\"N/A\")","v":0.1196691839571928},{"$f":"IFERROR(Variance!X394,\"N/A\")","v":0.11842352852468879},{"$f":"IFERROR(Variance!Y394,\"N/A\")","v":0.10059093669224362},{"$f":"IFERROR(Variance!Z394,\"N/A\")","v":9.0698949092836517E-2},{"$f":"IFERROR(Variance!AA394,\"N/A\")","v":8.9265308460124565E-2},{"$f":"IFERROR(Variance!AB394,\"N/A\")","v":5.9674375070046505E-2}]
[null,"age 75-79 ",{"$f":"IFERROR(Variance!W395,\"N/A\")","v":0.17799182804302793},{"$f":"IFERROR(Variance!X395,\"N/A\")","v":0.14759570470359493},{"$f":"IFERROR(Variance!Y395,\"N/A\")","v":0.11380975605311493},{"$f":"IFERROR(Variance!Z395,\"N/A\")","v":9.2483455931202288E-2},{"$f":"IFERROR(Variance!AA395,\"N/A\")","v":9.0099458981024769E-2},{"$f":"IFERROR(Variance!AB395,\"N/A\")","v":5.9638357819998024E-2}]
[null,"age 80-84 ",{"$f":"IFERROR(Variance!W396,\"N/A\")","v":0.24935093900390401},{"$f":"IFERROR(Variance!X396,\"N/A\")","v":0.18528214959484748},{"$f":"IFERROR(Variance!Y396,\"N/A\")","v":0.13719290381911931},{"$f":"IFERROR(Variance!Z396,\"N/A\")","v":0.10678659550001901},{"$f":"IFERROR(Variance!AA396,\"N/A\")","v":9.7919754230539252E-2},{"$f":"IFERROR(Variance!AB396,\"N/A\")","v":6.012197881952426E-2}]
[null,"age 85+",{"$f":"IFERROR(Variance!W397,\"N/A\")","v":0.43840742305957536},{"$f":"IFERROR(Variance!X397,\"N/A\")","v":0.28199413792500883},{"$f":"IFERROR(Variance!Y397,\"N/A\")","v":0.22668050756100872},{"$f":"IFERROR(Variance!Z397,\"N/A\")","v":0.17474074917048235},{"$f":"IFERROR(Variance!AA397,\"N/A\")","v":0.14928180386681397},{"$f":"IFERROR(Variance!AB397,\"N/A\")","v":0.10221079400268314}]
[null,"Male (Sex)",{"$f":"IFERROR(Variance!W398,\"N/A\")","v":5.820045637849329E-2},{"$f":"IFERROR(Variance!X398,\"N/A\")","v":6.4049220862534922E-2},{"$f":"IFERROR(Variance!Y398,\"N/A\")","v":5.8725015697562499E-2},{"$f":"IFERROR(Variance!Z398,\"N/A\")","v":5.4212530717536282E-2},{"$f":"IFERROR(Variance!AA398,\"N/A\")","v":5.2626919365636952E-2},{"$f":"IFERROR(Variance!AB398,\"N/A\")","v":3.5897145281241077E-2}]
[null,"Female       ",{"$f":"IFERROR(Variance!W399,\"N/A\")","v":0.12165671756840607},{"$f":"IFERROR(Variance!X399,\"N/A\")","v":8.3172658684875223E-2},{"$f":"IFERROR(Variance!Y399,\"N/A\")","v":6.5193236523629572E-2},{"$f":"IFERROR(Variance!Z399,\"N/A\")","v":5.6815678683802412E-2},{"$f":"IFERROR(Variance!AA399,\"N/A\")","v":5.2651666432805437E-2},{"$f":"IFERROR(Variance!AB399,\"N/A\")","v":3.4590732003320371E-2}]
[null,"1-Never  ",{"$f":"IFERROR(Variance!W400,\"N/A\")","v":"N/A"},{"$f":"IFERROR(Variance!X400,\"N/A\")","v":"N/A"},{"$f":"IFERROR(Variance!Y400,\"N/A\")","v":"N/A"},{"$f":"IFERROR(Variance!Z400,\"N/A\")","v":0.12299246496652103},{"$f":"IFERROR(Variance!AA400,\"N/A\")","v":9.6054695175683699E-2},{"$f":"IFERROR(Variance!AB400,\"N/A\")","v":"N/A"}]
[null,"2-Current",{"$f":"IFERROR(Variance!W401,\"N/A\")","v":"N/A"},{"$f":"IFERROR(Variance!X401,\"N/A\")","v":"N/A"},{"$f":"IFERROR(Variance!Y401,\"N/A\")","v":"N/A"},{"$f":"IFERROR(Variance!Z401,\"N/A\")","v":9.0641088480856793E-2},{"$f":"IFERROR(Variance!AA401,\"N/A\")","v":7.3513652517801467E-2},{"$f":"IFERROR(Variance!AB401,\"N/A\")","v":"N/A"}]
[null,"3-Former ",{"$f":"IFERROR(Variance!W402,\"N/A\")","v":"N/A"},{"$f":"IFERROR(Variance!X402,\"N/A\")","v":"N/A"},{"$f":"IFERROR(Variance!Y402,\"N/A\")","v":"N/A"},{"$f":"IFERROR(Variance!Z402,\"N/A\")","v":7.5055933637923247E-2},{"$f":"IFERROR(Variance!AA402,\"N/A\")","v":5.9497833494732991E-2},{"$f":"IFERROR(Variance!AB402,\"N/A\")","v":"N/A"}]
[null,"4-Not_Asked (smoker)",{"$f":"IFERROR(Variance!W403,\"N/A\")","v":4.3560469271891313E-2},{"$f":"IFERROR(Variance!X403,\"N/A\")","v":4.6154225193703748E-2},{"$f":"IFERROR(Variance!Y403,\"N/A\")","v":4.9165690457108994E-2},{"$f":"IFERROR(Variance!Z403,\"N/A\")","v":5.7067833699905757E-2},{"$f":"IFERROR(Variance!AA403,\"N/A\")","v":7.2427683423482866E-2},{"$f":"IFERROR(Variance!AB403,\"N/A\")","v":5.4382713804586605E-2}]
[null,"1-Married (marital status)",{"$f":"IFERROR(Variance!W404,\"N/A\")","v":5.6273987227396162E-2},{"$f":"IFERROR(Variance!X404,\"N/A\")","v":6.1351042113035881E-2},{"$f":"IFERROR(Variance!Y404,\"N/A\")","v":5.6344061059611428E-2},{"$f":"IFERROR(Variance!Z404,\"N/A\")","v":5.1765674576435633E-2},{"$f":"IFERROR(Variance!AA404,\"N/A\")","v":5.1447481969099776E-2},{"$f":"IFERROR(Variance!AB404,\"N/A\")","v":3.5383940032899769E-2}]
[null,"2-Widowed    ",{"$f":"IFERROR(Variance!W405,\"N/A\")","v":8.2128201487300823E-2},{"$f":"IFERROR(Variance!X405,\"N/A\")","v":8.9404644587873477E-2},{"$f":"IFERROR(Variance!Y405,\"N/A\")","v":7.7184887751396522E-2},{"$f":"IFERROR(Variance!Z405,\"N/A\")","v":7.0026102761064093E-2},{"$f":"IFERROR(Variance!AA405,\"N/A\")","v":6.922760187443229E-2},{"$f":"IFERROR(Variance!AB405,\"N/A\")","v":5.4961607449906122E-2}]
[null,"3-Divorced   ",{"$f":"IFERROR(Variance!W406,\"N/A\")","v":0.12762477680424278},{"$f":"IFERROR(Variance!X406,\"N/A\")","v":0.15709343255966376},{"$f":"IFERROR(Variance!Y406,\"N/A\")","v":0.15062986756830757},{"$f":"IFERROR(Variance!Z406,\"N/A\")","v":0.12699320874556766},{"$f":"IFERROR(Variance!AA406,\"N/A\")","v":0.10953476526469869},{"$f":"IFERROR(Variance!AB406,\"N/A\")","v":8.7125450740850041E-2}]
[null,"4-Separated  ",{"$f":"IFERROR(Variance!W407,\"N/A\")","v":"N/A"},{"$f":"IFERROR(Variance!X407,\"N/A\")","v":"N/A"},{"$f":"IFERROR(Variance!Y407,\"N/A\")","v":0.31508427626768709},{"$f":"IFERROR(Variance!Z407,\"N/A\")","v":0.30952084507696498},{"$f":"IFERROR(Variance!AA407,\"N/A\")","v":0.30112188545834828},{"$f":"IFERROR(Variance!AB407,\"N/A\")","v":0.23841206852450567}]
[null,"5-NeverMar.  ",{"$f":"IFERROR(Variance!W408,\"N/A\")","v":0.1873339220702831},{"$f":"IFERROR(Variance!X408,\"N/A\")","v":0.21376965846638901},{"$f":"IFERROR(Variance!Y408,\"N/A\")","v":0.21893807438254712},{"$f":"IFERROR(Variance!Z408,\"N/A\")","v":0.19408938992411953},{"$f":"IFERROR(Variance!AA408,\"N/A\")","v":0.18277948558468984},{"$f":"IFERROR(Variance!AB408,\"N/A\")","v":0.14407869107050034}]
[null,"1-Lowest inc.  ",{"$f":"IFERROR(Variance!W409,\"N/A\")","v":8.6817675645395706E-2},{"$f":"IFERROR(Variance!X409,\"N/A\")","v":0.10712678358829575},{"$f":"IFERROR(Variance!Y409,\"N/A\")","v":9.7907453195290581E-2},{"$f":"IFERROR(Variance!Z409,\"N/A\")","v":8.4055341157710114E-2},{"$f":"IFERROR(Variance!AA409,\"N/A\")","v":8.4483033322300213E-2},{"$f":"IFERROR(Variance!AB409,\"N/A\")","v":6.7596563249909342E-2}]
[null,"2-Second dec.  ",{"$f":"IFERROR(Variance!W410,\"N/A\")","v":7.7538114431278116E-2},{"$f":"IFERROR(Variance!X410,\"N/A\")","v":9.6520735239286101E-2},{"$f":"IFERROR(Variance!Y410,\"N/A\")","v":9.0350740935700807E-2},{"$f":"IFERROR(Variance!Z410,\"N/A\")","v":8.6732074802800485E-2},{"$f":"IFERROR(Variance!AA410,\"N/A\")","v":8.4334025567905979E-2},{"$f":"IFERROR(Variance!AB410,\"N/A\")","v":6.0863831728029769E-2}]
[null,"3-Third dec.   ",{"$f":"IFERROR(Variance!W411,\"N/A\")","v":9.9046975918824387E-2},{"$f":"IFERROR(Variance!X411,\"N/A\")","v":0.11086684782471769},{"$f":"IFERROR(Variance!Y411,\"N/A\")","v":0.10253854715021855},{"$f":"IFERROR(Variance!Z411,\"N/A\")","v":9.8035436951447008E-2},{"$f":"IFERROR(Variance!AA411,\"N/A\")","v":0.10136509857584085},{"$f":"IFERROR(Variance!AB411,\"N/A\")","v":7.5274651440640425E-2}]
[null,"4-Fourth dec.  ",{"$f":"IFERROR(Variance!W412,\"N/A\")","v":0.10220108364183389},{"$f":"IFERROR(Variance!X412,\"N/A\")","v":0.11257734699802378},{"$f":"IFERROR(Variance!Y412,\"N/A\")","v":0.10969964294145723},{"$f":"IFERROR(Variance!Z412,\"N/A\")","v":0.10486328724433833},{"$f":"IFERROR(Variance!AA412,\"N/A\")","v":0.10093428137741368},{"$f":"IFERROR(Variance!AB412,\"N/A\")","v":7.5394288612750854E-2}]
[null,"5-Fifth dec.   ",{"$f":"IFERROR(Variance!W413,\"N/A\")","v":0.14240199158729921},{"$f":"IFERROR(Variance!X413,\"N/A\")","v":0.14821064944588455},{"$f":"IFERROR(Variance!Y413,\"N/A\")","v":0.13710692437077121},{"$f":"IFERROR(Variance!Z413,\"N/A\")","v":0.12632295203353397},{"$f":"IFERROR(Variance!AA413,\"N/A\")","v":0.12096979960389692},{"$f":"IFERROR(Variance!AB413,\"N/A\")","v":8.6824086034297476E-2}]
[null,"6-Sixth dec.   ",{"$f":"IFERROR(Variance!W414,\"N/A\")","v":0.13975863012937595},{"$f":"IFERROR(Variance!X414,\"N/A\")","v":0.15984795426241005},{"$f":"IFERROR(Variance!Y414,\"N/A\")","v":0.15887134112903645},{"$f":"IFERROR(Variance!Z414,\"N/A\")","v":0.15648652233763874},{"$f":"IFERROR(Variance!AA414,\"N/A\")","v":0.15024508060090017},{"$f":"IFERROR(Variance!AB414,\"N/A\")","v":0.10642311993741528}]
[null,"7-Seventh dec. ",{"$f":"IFERROR(Variance!W415,\"N/A\")","v":0.21036307334148424},{"$f":"IFERROR(Variance!X415,\"N/A\")","v":0.18091799540792711},{"$f":"IFERROR(Variance!Y415,\"N/A\")","v":0.16293052530272756},{"$f":"IFERROR(Variance!Z415,\"N/A\")","v":0.14922897847346461},{"$f":"IFERROR(Variance!AA415,\"N/A\")","v":0.15643101694939543},{"$f":"IFERROR(Variance!AB415,\"N/A\")","v":0.11459739780800408}]
[null,"8-Eighth dec.  ",{"$f":"IFERROR(Variance!W416,\"N/A\")","v":0.18134362513244645},{"$f":"IFERROR(Variance!X416,\"N/A\")","v":0.22352451278428159},{"$f":"IFERROR(Variance!Y416,\"N/A\")","v":0.21335043886620647},{"$f":"IFERROR(Variance!Z416,\"N/A\")","v":0.18285277848920639},{"$f":"IFERROR(Variance!AA416,\"N/A\")","v":0.17108046605722119},{"$f":"IFERROR(Variance!AB416,\"N/A\")","v":0.12942509137751423}]
[null,"9-Ninth dec.   ",{"$f":"IFERROR(Variance!W417,\"N/A\")","v":0.24896107717569502},{"$f":"IFERROR(Variance!X417,\"N/A\")","v":0.22163774582648452},{"$f":"IFERROR(Variance!Y417,\"N/A\")","v":0.21290586663916419},{"$f":"IFERROR(Variance!Z417,\"N/A\")","v":0.21686819546017724},{"$f":"IFERROR(Variance!AA417,\"N/A\")","v":0.20813450801195021},{"$f":"IFERROR(Variance!AB417,\"N/A\")","v":0.1432204293348667}]
[null,"10-Highest dec. (family income in 2008$)",{"$f":"IFERROR(Variance!W418,\"N/A\")","v":0.29113642333820178},{"$f":"IFERROR(Variance!X418,\"N/A\")","v":0.2556797198665644},{"$f":"IFERROR(Variance!Y418,\"N/A\")","v":0.23470691721467934},{"$f":"IFERROR(Variance!Z418,\"N/A\")","v":0.20700399887223869},{"$f":"IFERROR(Variance!AA418,\"N/A\")","v":0.17627452799227253},{"$f":"IFERROR(Variance!AB418,\"N/A\")","v":0.12901086414521992}]
[null,"1-Dropout      ",{"$f":"IFERROR(Variance!W419,\"N/A\")","v":6.1235785641482764E-2},{"$f":"IFERROR(Variance!X419,\"N/A\")","v":6.8850496718823581E-2},{"$f":"IFERROR(Variance!Y419,\"N/A\")","v":6.3829655739939831E-2},{"$f":"IFERROR(Variance!Z419,\"N/A\")","v":6.109161799596604E-2},{"$f":"IFERROR(Variance!AA419,\"N/A\")","v":6.1548034646340184E-2},{"$f":"IFERROR(Variance!AB419,\"N/A\")","v":4.382486027781568E-2}]
[null,"2-H.S.Diploma (education)      ",{"$f":"IFERROR(Variance!W420,\"N/A\")","v":8.3693664452380412E-2},{"$f":"IFERROR(Variance!X420,\"N/A\")","v":8.3159456146291277E-2},{"$f":"IFERROR(Variance!Y420,\"N/A\")","v":6.9355675616092752E-2},{"$f":"IFERROR(Variance!Z420,\"N/A\")","v":6.1572757149793211E-2},{"$f":"IFERROR(Variance!AA420,\"N/A\")","v":6.0998916755357499E-2},{"$f":"IFERROR(Variance!AB420,\"N/A\")","v":4.2937903454638653E-2}]
[null,"3-SomeColl/AA  ",{"$f":"IFERROR(Variance!W421,\"N/A\")","v":0.13951638904213051},{"$f":"IFERROR(Variance!X421,\"N/A\")","v":0.14544493467914424},{"$f":"IFERROR(Variance!Y421,\"N/A\")","v":0.11747012213881027},{"$f":"IFERROR(Variance!Z421,\"N/A\")","v":9.6070987902195884E-2},{"$f":"IFERROR(Variance!AA421,\"N/A\")","v":8.9775371814059507E-2},{"$f":"IFERROR(Variance!AB421,\"N/A\")","v":5.7095302418933673E-2}]
[null,"4-4yr.Degree   ",{"$f":"IFERROR(Variance!W422,\"N/A\")","v":0.18967339191667218},{"$f":"IFERROR(Variance!X422,\"N/A\")","v":0.19439519049978993},{"$f":"IFERROR(Variance!Y422,\"N/A\")","v":0.17747393321202143},{"$f":"IFERROR(Variance!Z422,\"N/A\")","v":0.14922153749916051},{"$f":"IFERROR(Variance!AA422,\"N/A\")","v":0.13136036740165621},{"$f":"IFERROR(Variance!AB422,\"N/A\")","v":8.3403042906636179E-2}]
[null,"5-Grad.Degree  ",{"$f":"IFERROR(Variance!W423,\"N/A\")","v":0.26122248524230218},{"$f":"IFERROR(Variance!X423,\"N/A\")","v":0.24768761668151765},{"$f":"IFERROR(Variance!Y423,\"N/A\")","v":0.2640874925671704},{"$f":"IFERROR(Variance!Z423,\"N/A\")","v":0.2386628379272987},{"$f":"IFERROR(Variance!AA423,\"N/A\")","v":0.1929518482392564},{"$f":"IFERROR(Variance!AB423,\"N/A\")","v":0.11945986725268688}]
[null,"1-White NH (ethnic/race)     ",{"$f":"IFERROR(Variance!W424,\"N/A\")","v":5.9429014611247333E-2},{"$f":"IFERROR(Variance!X424,\"N/A\")","v":5.9041072764426127E-2},{"$f":"IFERROR(Variance!Y424,\"N/A\")","v":4.3852414993986732E-2},{"$f":"IFERROR(Variance!Z424,\"N/A\")","v":3.9618065681073247E-2},{"$f":"IFERROR(Variance!AA424,\"N/A\")","v":3.8719269476937448E-2},{"$f":"IFERROR(Variance!AB424,\"N/A\")","v":2.6890824802379112E-2}]
[null,"2-Black NH     ",{"$f":"IFERROR(Variance!W425,\"N/A\")","v":0.25594649595020247},{"$f":"IFERROR(Variance!X425,\"N/A\")","v":0.27749570672100926},{"$f":"IFERROR(Variance!Y425,\"N/A\")","v":0.20520331709288156},{"$f":"IFERROR(Variance!Z425,\"N/A\")","v":0.17337910814509772},{"$f":"IFERROR(Variance!AA425,\"N/A\")","v":0.14869185831363013},{"$f":"IFERROR(Variance!AB425,\"N/A\")","v":9.7662768831514757E-2}]
[null,"3-Asian NH     ",{"$f":"IFERROR(Variance!W426,\"N/A\")","v":"N/A"},{"$f":"IFERROR(Variance!X426,\"N/A\")","v":"N/A"},{"$f":"IFERROR(Variance!Y426,\"N/A\")","v":"N/A"},{"$f":"IFERROR(Variance!Z426,\"N/A\")","v":"N/A"},{"$f":"IFERROR(Variance!AA426,\"N/A\")","v":"N/A"},{"$f":"IFERROR(Variance!AB426,\"N/A\")","v":"N/A"}]
[null,"4-Hispanic     ",{"$f":"IFERROR(Variance!W427,\"N/A\")","v":0.26979655345698483},{"$f":"IFERROR(Variance!X427,\"N/A\")","v":0.28917552822105058},{"$f":"IFERROR(Variance!Y427,\"N/A\")","v":0.24465644654326277},{"$f":"IFERROR(Variance!Z427,\"N/A\")","v":0.1932352807131503},{"$f":"IFERROR(Variance!AA427,\"N/A\")","v":0.18673955868481334},{"$f":"IFERROR(Variance!AB427,\"N/A\")","v":0.11810977129197413}]
[null,"5-Other NH     ",{"$f":"IFERROR(Variance!W428,\"N/A\")","v":0.15643894773364675},{"$f":"IFERROR(Variance!X428,\"N/A\")","v":0.15347889784888991},{"$f":"IFERROR(Variance!Y428,\"N/A\")","v":0.19163500571775879},{"$f":"IFERROR(Variance!Z428,\"N/A\")","v":0.17692776533097751},{"$f":"IFERROR(Variance!AA428,\"N/A\")","v":0.16496678221326722},{"$f":"IFERROR(Variance!AB428,\"N/A\")","v":0.12714082686975076}]
[null,"1-Employed  (Labor force)",{"$f":"IFERROR(Variance!W429,\"N/A\")","v":0.11324569083189347},{"$f":"IFERROR(Variance!X429,\"N/A\")","v":0.12234577526778986},{"$f":"IFERROR(Variance!Y429,\"N/A\")","v":0.11224262684140726},{"$f":"IFERROR(Variance!Z429,\"N/A\")","v":0.10343148699939618},{"$f":"IFERROR(Variance!AA429,\"N/A\")","v":9.592476503579668E-2},{"$f":"IFERROR(Variance!AB429,\"N/A\")","v":6.6731456429247632E-2}]
[null,"2-Unemployed   ",{"$f":"IFERROR(Variance!W430,\"N/A\")","v":"N/A"},{"$f":"IFERROR(Variance!X430,\"N/A\")","v":"N/A"},{"$f":"IFERROR(Variance!Y430,\"N/A\")","v":"N/A"},{"$f":"IFERROR(Variance!Z430,\"N/A\")","v":"N/A"},{"$f":"IFERROR(Variance!AA430,\"N/A\")","v":"N/A"},{"$f":"IFERROR(Variance!AB430,\"N/A\")","v":"N/A"}]
[null,"3-NILF         ",{"$f":"IFERROR(Variance!W431,\"N/A\")","v":4.4932206345313024E-2},{"$f":"IFERROR(Variance!X431,\"N/A\")","v":4.9712976131459481E-2},{"$f":"IFERROR(Variance!Y431,\"N/A\")","v":4.440531573500664E-2},{"$f":"IFERROR(Variance!Z431,\"N/A\")","v":4.0213707824328454E-2},{"$f":"IFERROR(Variance!AA431,\"N/A\")","v":4.008233001753829E-2},{"$f":"IFERROR(Variance!AB431,\"N/A\")","v":3.0878034406760162E-2}]
[null,"1-Prof./Managerial (occ.)",{"$f":"IFERROR(Variance!W432,\"N/A\")","v":0.32820161925800301},{"$f":"IFERROR(Variance!X432,\"N/A\")","v":0.33413861970501257},{"$f":"IFERROR(Variance!Y432,\"N/A\")","v":"N/A"},{"$f":"IFERROR(Variance!Z432,\"N/A\")","v":"N/A"},{"$f":"IFERROR(Variance!AA432,\"N/A\")","v":"N/A"},{"$f":"IFERROR(Variance!AB432,\"N/A\")","v":"N/A"}]
[null,"2-Sklld/Sales  ",{"$f":"IFERROR(Variance!W433,\"N/A\")","v":0.19823349159862344},{"$f":"IFERROR(Variance!X433,\"N/A\")","v":0.22136908309512551},{"$f":"IFERROR(Variance!Y433,\"N/A\")","v":0.20647380589678124},{"$f":"IFERROR(Variance!Z433,\"N/A\")","v":0.17553494116660806},{"$f":"IFERROR(Variance!AA433,\"N/A\")","v":0.17048758360208369},{"$f":"IFERROR(Variance!AB433,\"N/A\")","v":0.11535412992685791}]
[null,"3-BlueCol.Lgt  ",{"$f":"IFERROR(Variance!W434,\"N/A\")","v":0.26381245176136603},{"$f":"IFERROR(Variance!X434,\"N/A\")","v":0.25084873898614296},{"$f":"IFERROR(Variance!Y434,\"N/A\")","v":0.22051641365022756},{"$f":"IFERROR(Variance!Z434,\"N/A\")","v":0.21290116982899965},{"$f":"IFERROR(Variance!AA434,\"N/A\")","v":0.20858421183091871},{"$f":"IFERROR(Variance!AB434,\"N/A\")","v":0.13568756566980578}]
[null,"4-BlueCol.Hvy  ",{"$f":"IFERROR(Variance!W435,\"N/A\")","v":0.21174920906401504},{"$f":"IFERROR(Variance!X435,\"N/A\")","v":0.18895395585330546},{"$f":"IFERROR(Variance!Y435,\"N/A\")","v":0.18274347206200303},{"$f":"IFERROR(Variance!Z435,\"N/A\")","v":0.17474341399841009},{"$f":"IFERROR(Variance!AA435,\"N/A\")","v":0.15740115669475432},{"$f":"IFERROR(Variance!AB435,\"N/A\")","v":9.6978091031362998E-2}]
[null,"5-Medical.Occ  ",{"$f":"IFERROR(Variance!W436,\"N/A\")","v":"N/A"},{"$f":"IFERROR(Variance!X436,\"N/A\")","v":"N/A"},{"$f":"IFERROR(Variance!Y436,\"N/A\")","v":"N/A"},{"$f":"IFERROR(Variance!Z436,\"N/A\")","v":"N/A"},{"$f":"IFERROR(Variance!AA436,\"N/A\")","v":"N/A"},{"$f":"IFERROR(Variance!AB436,\"N/A\")","v":"N/A"}]
[null,"6-N/A          ",{"$f":"IFERROR(Variance!W437,\"N/A\")","v":6.5927600228906758E-2},{"$f":"IFERROR(Variance!X437,\"N/A\")","v":5.6928009397337651E-2},{"$f":"IFERROR(Variance!Y437,\"N/A\")","v":4.7983296885467409E-2},{"$f":"IFERROR(Variance!Z437,\"N/A\")","v":4.2344277518013354E-2},{"$f":"IFERROR(Variance!AA437,\"N/A\")","v":4.0097039719724496E-2},{"$f":"IFERROR(Variance!AB437,\"N/A\")","v":2.2878134393795796E-2}]
[]
[null,"75% confidence interval radius (stroke)"]
[null,null,"1987.5-1991.5","1991.5-1995.5","1995.5-1999.5","1999.5-2003.5","2003.5-2006","2006-2012"]
[null,"age 40-44 ",{"$f":"IFERROR(Variance!W441,\"N/A\")","v":0.27024202466888225},{"$f":"IFERROR(Variance!X441,\"N/A\")","v":0.28379401513606173},{"$f":"IFERROR(Variance!Y441,\"N/A\")","v":0.23761651047204435},{"$f":"IFERROR(Variance!Z441,\"N/A\")","v":"N/A"},{"$f":"IFERROR(Variance!AA441,\"N/A\")","v":"N/A"},{"$f":"IFERROR(Variance!AB441,\"N/A\")","v":0.15726845466778647}]
[null,"age 45-49 ",{"$f":"IFERROR(Variance!W442,\"N/A\")","v":0.21680024862694972},{"$f":"IFERROR(Variance!X442,\"N/A\")","v":0.26204770986287379},{"$f":"IFERROR(Variance!Y442,\"N/A\")","v":0.23967999417080046},{"$f":"IFERROR(Variance!Z442,\"N/A\")","v":0.26491311829057945},{"$f":"IFERROR(Variance!AA442,\"N/A\")","v":0.25197273235764189},{"$f":"IFERROR(Variance!AB442,\"N/A\")","v":0.1593381029871781}]
[null,"age 50-54 ",{"$f":"IFERROR(Variance!W443,\"N/A\")","v":0.12567636387980272},{"$f":"IFERROR(Variance!X443,\"N/A\")","v":0.18899869917119011},{"$f":"IFERROR(Variance!Y443,\"N/A\")","v":0.22709487828938138},{"$f":"IFERROR(Variance!Z443,\"N/A\")","v":0.236026090381729},{"$f":"IFERROR(Variance!AA443,\"N/A\")","v":0.21534705911716243},{"$f":"IFERROR(Variance!AB443,\"N/A\")","v":0.14362795585288984}]
[null,"age 55-59 ",{"$f":"IFERROR(Variance!W444,\"N/A\")","v":0.13519504254719139},{"$f":"IFERROR(Variance!X444,\"N/A\")","v":0.16617395793183451},{"$f":"IFERROR(Variance!Y444,\"N/A\")","v":0.16839068565826182},{"$f":"IFERROR(Variance!Z444,\"N/A\")","v":0.16430598060460605},{"$f":"IFERROR(Variance!AA444,\"N/A\")","v":0.1648550100289832},{"$f":"IFERROR(Variance!AB444,\"N/A\")","v":0.11821137156565267}]
[null,"age 60-64",{"$f":"IFERROR(Variance!W445,\"N/A\")","v":8.2504431245273679E-2},{"$f":"IFERROR(Variance!X445,\"N/A\")","v":0.11094024694154409},{"$f":"IFERROR(Variance!Y445,\"N/A\")","v":0.12706210446900568},{"$f":"IFERROR(Variance!Z445,\"N/A\")","v":0.14022414798618463},{"$f":"IFERROR(Variance!AA445,\"N/A\")","v":0.1505272898960863},{"$f":"IFERROR(Variance!AB445,\"N/A\")","v":0.11555608248153752}]
[null,"age 65-69 (age group) ",{"$f":"IFERROR(Variance!W446,\"N/A\")","v":7.5334671665995764E-2},{"$f":"IFERROR(Variance!X446,\"N/A\")","v":9.8732341440053439E-2},{"$f":"IFERROR(Variance!Y446,\"N/A\")","v":9.6883890881361026E-2},{"$f":"IFERROR(Variance!Z446,\"N/A\")","v":0.10409498215389587},{"$f":"IFERROR(Variance!AA446,\"N/A\")","v":0.1165842363300516},{"$f":"IFERROR(Variance!AB446,\"N/A\")","v":8.1277997359804302E-2}]
[null,"age 70-74 ",{"$f":"IFERROR(Variance!W447,\"N/A\")","v":6.573451672903606E-2},{"$f":"IFERROR(Variance!X447,\"N/A\")","v":7.9140549928652992E-2},{"$f":"IFERROR(Variance!Y447,\"N/A\")","v":7.6166203901359322E-2},{"$f":"IFERROR(Variance!Z447,\"N/A\")","v":7.5792972360585964E-2},{"$f":"IFERROR(Variance!AA447,\"N/A\")","v":8.6206367300949036E-2},{"$f":"IFERROR(Variance!AB447,\"N/A\")","v":6.3211960747524151E-2}]
[null,"age 75-79 ",{"$f":"IFERROR(Variance!W448,\"N/A\")","v":6.2099680926844869E-2},{"$f":"IFERROR(Variance!X448,\"N/A\")","v":7.4457014481396785E-2},{"$f":"IFERROR(Variance!Y448,\"N/A\")","v":7.2561368212921612E-2},{"$f":"IFERROR(Variance!Z448,\"N/A\")","v":7.214794264814875E-2},{"$f":"IFERROR(Variance!AA448,\"N/A\")","v":7.3111457490498147E-2},{"$f":"IFERROR(Variance!AB448,\"N/A\")","v":5.3024832631142563E-2}]
[null,"age 80-84 ",{"$f":"IFERROR(Variance!W449,\"N/A\")","v":7.3148453122346885E-2},{"$f":"IFERROR(Variance!X449,\"N/A\")","v":8.4492966999100902E-2},{"$f":"IFERROR(Variance!Y449,\"N/A\")","v":7.7229849220262492E-2},{"$f":"IFERROR(Variance!Z449,\"N/A\")","v":7.1663037300342569E-2},{"$f":"IFERROR(Variance!AA449,\"N/A\")","v":7.1477547654204943E-2},{"$f":"IFERROR(Variance!AB449,\"N/A\")","v":5.0779046375409601E-2}]
[null,"age 85+",{"$f":"IFERROR(Variance!W450,\"N/A\")","v":7.7814872160225368E-2},{"$f":"IFERROR(Variance!X450,\"N/A\")","v":9.3032322332027878E-2},{"$f":"IFERROR(Variance!Y450,\"N/A\")","v":8.620852033507144E-2},{"$f":"IFERROR(Variance!Z450,\"N/A\")","v":8.869015774324937E-2},{"$f":"IFERROR(Variance!AA450,\"N/A\")","v":9.7008049109526637E-2},{"$f":"IFERROR(Variance!AB450,\"N/A\")","v":6.9865697028508048E-2}]
[null,"Male (Sex)",{"$f":"IFERROR(Variance!W451,\"N/A\")","v":3.9720353608485401E-2},{"$f":"IFERROR(Variance!X451,\"N/A\")","v":4.9280171250576411E-2},{"$f":"IFERROR(Variance!Y451,\"N/A\")","v":4.8511926182799113E-2},{"$f":"IFERROR(Variance!Z451,\"N/A\")","v":4.9485629978812985E-2},{"$f":"IFERROR(Variance!AA451,\"N/A\")","v":5.0038593876845353E-2},{"$f":"IFERROR(Variance!AB451,\"N/A\")","v":3.3699137890602117E-2}]
[null,"Female       ",{"$f":"IFERROR(Variance!W452,\"N/A\")","v":3.5530886312943898E-2},{"$f":"IFERROR(Variance!X452,\"N/A\")","v":4.2694050761209343E-2},{"$f":"IFERROR(Variance!Y452,\"N/A\")","v":4.1268203905864956E-2},{"$f":"IFERROR(Variance!Z452,\"N/A\")","v":4.1739812777010804E-2},{"$f":"IFERROR(Variance!AA452,\"N/A\")","v":4.2650380110398615E-2},{"$f":"IFERROR(Variance!AB452,\"N/A\")","v":2.925115359865154E-2}]
[null,"1-Never  ",{"$f":"IFERROR(Variance!W453,\"N/A\")","v":"N/A"},{"$f":"IFERROR(Variance!X453,\"N/A\")","v":"N/A"},{"$f":"IFERROR(Variance!Y453,\"N/A\")","v":"N/A"},{"$f":"IFERROR(Variance!Z453,\"N/A\")","v":5.9557150510556281E-2},{"$f":"IFERROR(Variance!AA453,\"N/A\")","v":5.3661501462474469E-2},{"$f":"IFERROR(Variance!AB453,\"N/A\")","v":"N/A"}]
[null,"2-Current",{"$f":"IFERROR(Variance!W454,\"N/A\")","v":"N/A"},{"$f":"IFERROR(Variance!X454,\"N/A\")","v":"N/A"},{"$f":"IFERROR(Variance!Y454,\"N/A\")","v":"N/A"},{"$f":"IFERROR(Variance!Z454,\"N/A\")","v":0.12488153309920753},{"$f":"IFERROR(Variance!AA454,\"N/A\")","v":0.11493264361524161},{"$f":"IFERROR(Variance!AB454,\"N/A\")","v":"N/A"}]
[null,"3-Former ",{"$f":"IFERROR(Variance!W455,\"N/A\")","v":"N/A"},{"$f":"IFERROR(Variance!X455,\"N/A\")","v":"N/A"},{"$f":"IFERROR(Variance!Y455,\"N/A\")","v":"N/A"},{"$f":"IFERROR(Variance!Z455,\"N/A\")","v":7.3127720477769401E-2},{"$f":"IFERROR(Variance!AA455,\"N/A\")","v":6.5387734251804649E-2},{"$f":"IFERROR(Variance!AB455,\"N/A\")","v":"N/A"}]
[null,"4-Not_Asked (smoker)",{"$f":"IFERROR(Variance!W456,\"N/A\")","v":2.5687574957327798E-2},{"$f":"IFERROR(Variance!X456,\"N/A\")","v":3.1562233733173295E-2},{"$f":"IFERROR(Variance!Y456,\"N/A\")","v":3.6648617816590533E-2},{"$f":"IFERROR(Variance!Z456,\"N/A\")","v":4.7206018615665722E-2},{"$f":"IFERROR(Variance!AA456,\"N/A\")","v":6.1168326835878181E-2},{"$f":"IFERROR(Variance!AB456,\"N/A\")","v":4.5396770901469145E-2}]
[null,"1-Married (marital status)",{"$f":"IFERROR(Variance!W457,\"N/A\")","v":3.5570427652400281E-2},{"$f":"IFERROR(Variance!X457,\"N/A\")","v":4.4067267248716555E-2},{"$f":"IFERROR(Variance!Y457,\"N/A\")","v":4.4110413829989106E-2},{"$f":"IFERROR(Variance!Z457,\"N/A\")","v":4.4127784286621764E-2},{"$f":"IFERROR(Variance!AA457,\"N/A\")","v":4.5537368760551658E-2},{"$f":"IFERROR(Variance!AB457,\"N/A\")","v":3.1580081112514438E-2}]
[null,"2-Widowed    ",{"$f":"IFERROR(Variance!W458,\"N/A\")","v":4.1665799110552272E-2},{"$f":"IFERROR(Variance!X458,\"N/A\")","v":5.1143461904391681E-2},{"$f":"IFERROR(Variance!Y458,\"N/A\")","v":4.9968652260027946E-2},{"$f":"IFERROR(Variance!Z458,\"N/A\")","v":5.1299595065609473E-2},{"$f":"IFERROR(Variance!AA458,\"N/A\")","v":5.5219804045227423E-2},{"$f":"IFERROR(Variance!AB458,\"N/A\")","v":4.4809878301779592E-2}]
[null,"3-Divorced   ",{"$f":"IFERROR(Variance!W459,\"N/A\")","v":0.12002309601723263},{"$f":"IFERROR(Variance!X459,\"N/A\")","v":0.14534384017431187},{"$f":"IFERROR(Variance!Y459,\"N/A\")","v":0.12963642446809492},{"$f":"IFERROR(Variance!Z459,\"N/A\")","v":0.12151280293814776},{"$f":"IFERROR(Variance!AA459,\"N/A\")","v":0.11740760068379587},{"$f":"IFERROR(Variance!AB459,\"N/A\")","v":8.3143093942004531E-2}]
[null,"4-Separated  ",{"$f":"IFERROR(Variance!W460,\"N/A\")","v":0.2221095352900119},{"$f":"IFERROR(Variance!X460,\"N/A\")","v":0.27520903659535045},{"$f":"IFERROR(Variance!Y460,\"N/A\")","v":0.27419018180473276},{"$f":"IFERROR(Variance!Z460,\"N/A\")","v":"N/A"},{"$f":"IFERROR(Variance!AA460,\"N/A\")","v":"N/A"},{"$f":"IFERROR(Variance!AB460,\"N/A\")","v":0.1958609889139149}]
[null,"5-NeverMar.  ",{"$f":"IFERROR(Variance!W461,\"N/A\")","v":9.3259718292863933E-2},{"$f":"IFERROR(Variance!X461,\"N/A\")","v":0.11911959227060843},{"$f":"IFERROR(Variance!Y461,\"N/A\")","v":0.1260858616153504},{"$f":"IFERROR(Variance!Z461,\"N/A\")","v":0.17351154703117305},{"$f":"IFERROR(Variance!AA461,\"N/A\")","v":0.18436865788024537},{"$f":"IFERROR(Variance!AB461,\"N/A\")","v":0.12278347887320065}]
[null,"1-Lowest inc.  ",{"$f":"IFERROR(Variance!W462,\"N/A\")","v":5.6077711758268062E-2},{"$f":"IFERROR(Variance!X462,\"N/A\")","v":7.2357720805838313E-2},{"$f":"IFERROR(Variance!Y462,\"N/A\")","v":6.7485131947515334E-2},{"$f":"IFERROR(Variance!Z462,\"N/A\")","v":7.0727222448159932E-2},{"$f":"IFERROR(Variance!AA462,\"N/A\")","v":7.8702356919494829E-2},{"$f":"IFERROR(Variance!AB462,\"N/A\")","v":6.4688238696803582E-2}]
[null,"2-Second dec.  ",{"$f":"IFERROR(Variance!W463,\"N/A\")","v":5.332015982795215E-2},{"$f":"IFERROR(Variance!X463,\"N/A\")","v":6.7514072818522536E-2},{"$f":"IFERROR(Variance!Y463,\"N/A\")","v":6.4888602164719769E-2},{"$f":"IFERROR(Variance!Z463,\"N/A\")","v":6.6549110373129342E-2},{"$f":"IFERROR(Variance!AA463,\"N/A\")","v":7.0392078830785118E-2},{"$f":"IFERROR(Variance!AB463,\"N/A\")","v":5.36864747532858E-2}]
[null,"3-Third dec.   ",{"$f":"IFERROR(Variance!W464,\"N/A\")","v":6.4141773685386178E-2},{"$f":"IFERROR(Variance!X464,\"N/A\")","v":7.3088242697290029E-2},{"$f":"IFERROR(Variance!Y464,\"N/A\")","v":7.3420387233390047E-2},{"$f":"IFERROR(Variance!Z464,\"N/A\")","v":7.6556364598869622E-2},{"$f":"IFERROR(Variance!AA464,\"N/A\")","v":7.8950319036044631E-2},{"$f":"IFERROR(Variance!AB464,\"N/A\")","v":5.7775629830240788E-2}]
[null,"4-Fourth dec.  ",{"$f":"IFERROR(Variance!W465,\"N/A\")","v":7.7004332528671421E-2},{"$f":"IFERROR(Variance!X465,\"N/A\")","v":9.3609594559497605E-2},{"$f":"IFERROR(Variance!Y465,\"N/A\")","v":8.8271323800149321E-2},{"$f":"IFERROR(Variance!Z465,\"N/A\")","v":8.694472368381824E-2},{"$f":"IFERROR(Variance!AA465,\"N/A\")","v":9.1616240412704719E-2},{"$f":"IFERROR(Variance!AB465,\"N/A\")","v":6.7898020716550156E-2}]
[null,"5-Fifth dec.   ",{"$f":"IFERROR(Variance!W466,\"N/A\")","v":8.3649181057650679E-2},{"$f":"IFERROR(Variance!X466,\"N/A\")","v":0.10950316268921932},{"$f":"IFERROR(Variance!Y466,\"N/A\")","v":0.10795569247339931},{"$f":"IFERROR(Variance!Z466,\"N/A\")","v":0.10717439237996816},{"$f":"IFERROR(Variance!AA466,\"N/A\")","v":0.11336256787117539},{"$f":"IFERROR(Variance!AB466,\"N/A\")","v":8.0038892654698407E-2}]
[null,"6-Sixth dec.   ",{"$f":"IFERROR(Variance!W467,\"N/A\")","v":9.8059103996372007E-2},{"$f":"IFERROR(Variance!X467,\"N/A\")","v":0.11654240465545529},{"$f":"IFERROR(Variance!Y467,\"N/A\")","v":0.11824202795354175},{"$f":"IFERROR(Variance!Z467,\"N/A\")","v":0.12541527949326714},{"$f":"IFERROR(Variance!AA467,\"N/A\")","v":0.13466913054264465},{"$f":"IFERROR(Variance!AB467,\"N/A\")","v":0.10090454829327351}]
[null,"7-Seventh dec. ",{"$f":"IFERROR(Variance!W468,\"N/A\")","v":0.13482216311072637},{"$f":"IFERROR(Variance!X468,\"N/A\")","v":0.13001476310967022},{"$f":"IFERROR(Variance!Y468,\"N/A\")","v":0.13381503676145579},{"$f":"IFERROR(Variance!Z468,\"N/A\")","v":0.13015451254955646},{"$f":"IFERROR(Variance!AA468,\"N/A\")","v":0.12941924347610226},{"$f":"IFERROR(Variance!AB468,\"N/A\")","v":9.211709550549832E-2}]
[null,"8-Eighth dec.  ",{"$f":"IFERROR(Variance!W469,\"N/A\")","v":0.12758346867212406},{"$f":"IFERROR(Variance!X469,\"N/A\")","v":0.15392690281876978},{"$f":"IFERROR(Variance!Y469,\"N/A\")","v":0.1466390545389466},{"$f":"IFERROR(Variance!Z469,\"N/A\")","v":0.16626265038349464},{"$f":"IFERROR(Variance!AA469,\"N/A\")","v":0.16792621819319561},{"$f":"IFERROR(Variance!AB469,\"N/A\")","v":0.11288362073542699}]
[null,"9-Ninth dec.   ",{"$f":"IFERROR(Variance!W470,\"N/A\")","v":0.18669962249187783},{"$f":"IFERROR(Variance!X470,\"N/A\")","v":0.15939755785557122},{"$f":"IFERROR(Variance!Y470,\"N/A\")","v":0.1599923072030881},{"$f":"IFERROR(Variance!Z470,\"N/A\")","v":0.15894488602619503},{"$f":"IFERROR(Variance!AA470,\"N/A\")","v":0.15648587304083475},{"$f":"IFERROR(Variance!AB470,\"N/A\")","v":0.10567073903656554}]
[null,"10-Highest dec. (family income in 2008$)",{"$f":"IFERROR(Variance!W471,\"N/A\")","v":0.14033426950035133},{"$f":"IFERROR(Variance!X471,\"N/A\")","v":0.17396842743743729},{"$f":"IFERROR(Variance!Y471,\"N/A\")","v":0.17165044778373037},{"$f":"IFERROR(Variance!Z471,\"N/A\")","v":0.154283065042052},{"$f":"IFERROR(Variance!AA471,\"N/A\")","v":0.14695062241426587},{"$f":"IFERROR(Variance!AB471,\"N/A\")","v":9.9260352936239998E-2}]
[null,"1-Dropout      ",{"$f":"IFERROR(Variance!W472,\"N/A\")","v":3.4683451166054466E-2},{"$f":"IFERROR(Variance!X472,\"N/A\")","v":4.3548095132905702E-2},{"$f":"IFERROR(Variance!Y472,\"N/A\")","v":4.4926235031592127E-2},{"$f":"IFERROR(Variance!Z472,\"N/A\")","v":5.0180860333090833E-2},{"$f":"IFERROR(Variance!AA472,\"N/A\")","v":5.535649679862404E-2},{"$f":"IFERROR(Variance!AB472,\"N/A\")","v":4.0176208040401631E-2}]
[null,"2-H.S.Diploma (education)      ",{"$f":"IFERROR(Variance!W473,\"N/A\")","v":5.0673147672801552E-2},{"$f":"IFERROR(Variance!X473,\"N/A\")","v":5.8398428113818304E-2},{"$f":"IFERROR(Variance!Y473,\"N/A\")","v":5.4580273029746836E-2},{"$f":"IFERROR(Variance!Z473,\"N/A\")","v":5.4180797932153954E-2},{"$f":"IFERROR(Variance!AA473,\"N/A\")","v":5.4541402000074811E-2},{"$f":"IFERROR(Variance!AB473,\"N/A\")","v":3.7795051042718748E-2}]
[null,"3-SomeColl/AA  ",{"$f":"IFERROR(Variance!W474,\"N/A\")","v":8.0543394958124057E-2},{"$f":"IFERROR(Variance!X474,\"N/A\")","v":9.6682559200128249E-2},{"$f":"IFERROR(Variance!Y474,\"N/A\")","v":8.5931620716579199E-2},{"$f":"IFERROR(Variance!Z474,\"N/A\")","v":7.6278763945657482E-2},{"$f":"IFERROR(Variance!AA474,\"N/A\")","v":7.661562205788866E-2},{"$f":"IFERROR(Variance!AB474,\"N/A\")","v":5.0917068961978278E-2}]
[null,"4-4yr.Degree   ",{"$f":"IFERROR(Variance!W475,\"N/A\")","v":0.11103818235982228},{"$f":"IFERROR(Variance!X475,\"N/A\")","v":0.13532912262337499},{"$f":"IFERROR(Variance!Y475,\"N/A\")","v":0.12777433106797931},{"$f":"IFERROR(Variance!Z475,\"N/A\")","v":0.11544894510447108},{"$f":"IFERROR(Variance!AA475,\"N/A\")","v":0.11046602394915334},{"$f":"IFERROR(Variance!AB475,\"N/A\")","v":7.0075042953236161E-2}]
[null,"5-Grad.Degree  ",{"$f":"IFERROR(Variance!W476,\"N/A\")","v":0.15965108481592594},{"$f":"IFERROR(Variance!X476,\"N/A\")","v":0.16762766341986138},{"$f":"IFERROR(Variance!Y476,\"N/A\")","v":0.14646351534914573},{"$f":"IFERROR(Variance!Z476,\"N/A\")","v":0.16214558772356774},{"$f":"IFERROR(Variance!AA476,\"N/A\")","v":0.1527171870018145},{"$f":"IFERROR(Variance!AB476,\"N/A\")","v":9.2564162472715317E-2}]
[null,"1-White NH (ethnic/race)     ",{"$f":"IFERROR(Variance!W477,\"N/A\")","v":3.5379939769503141E-2},{"$f":"IFERROR(Variance!X477,\"N/A\")","v":4.1157410698995762E-2},{"$f":"IFERROR(Variance!Y477,\"N/A\")","v":3.5144648569452944E-2},{"$f":"IFERROR(Variance!Z477,\"N/A\")","v":3.5556680400585586E-2},{"$f":"IFERROR(Variance!AA477,\"N/A\")","v":3.7493185469890285E-2},{"$f":"IFERROR(Variance!AB477,\"N/A\")","v":2.6597167322251529E-2}]
[null,"2-Black NH     ",{"$f":"IFERROR(Variance!W478,\"N/A\")","v":0.10080225263798455},{"$f":"IFERROR(Variance!X478,\"N/A\")","v":0.125982328629971},{"$f":"IFERROR(Variance!Y478,\"N/A\")","v":0.10874431066888578},{"$f":"IFERROR(Variance!Z478,\"N/A\")","v":0.10488752099190106},{"$f":"IFERROR(Variance!AA478,\"N/A\")","v":9.9844093251317392E-2},{"$f":"IFERROR(Variance!AB478,\"N/A\")","v":6.3150528240741771E-2}]
[null,"3-Asian NH     ",{"$f":"IFERROR(Variance!W479,\"N/A\")","v":"N/A"},{"$f":"IFERROR(Variance!X479,\"N/A\")","v":"N/A"},{"$f":"IFERROR(Variance!Y479,\"N/A\")","v":0.28857874011885365},{"$f":"IFERROR(Variance!Z479,\"N/A\")","v":0.27658550405604576},{"$f":"IFERROR(Variance!AA479,\"N/A\")","v":0.24380366800370407},{"$f":"IFERROR(Variance!AB479,\"N/A\")","v":0.15797895859239033}]
[null,"4-Hispanic     ",{"$f":"IFERROR(Variance!W480,\"N/A\")","v":0.2030205396412694},{"$f":"IFERROR(Variance!X480,\"N/A\")","v":0.19814826065773292},{"$f":"IFERROR(Variance!Y480,\"N/A\")","v":0.15542109225849543},{"$f":"IFERROR(Variance!Z480,\"N/A\")","v":0.13183500441107032},{"$f":"IFERROR(Variance!AA480,\"N/A\")","v":0.11724211244713073},{"$f":"IFERROR(Variance!AB480,\"N/A\")","v":7.4477885366703106E-2}]
[null,"5-Other NH     ",{"$f":"IFERROR(Variance!W481,\"N/A\")","v":9.3180024306260323E-2},{"$f":"IFERROR(Variance!X481,\"N/A\")","v":0.10273101159150017},{"$f":"IFERROR(Variance!Y481,\"N/A\")","v":0.13977325129406226},{"$f":"IFERROR(Variance!Z481,\"N/A\")","v":0.16334386947377602},{"$f":"IFERROR(Variance!AA481,\"N/A\")","v":0.16213802619881545},{"$f":"IFERROR(Variance!AB481,\"N/A\")","v":0.12360489364763716}]
[null,"1-Employed  (Labor force)",{"$f":"IFERROR(Variance!W482,\"N/A\")","v":7.0148696861715501E-2},{"$f":"IFERROR(Variance!X482,\"N/A\")","v":8.5193945500254734E-2},{"$f":"IFERROR(Variance!Y482,\"N/A\")","v":9.0612154846827789E-2},{"$f":"IFERROR(Variance!Z482,\"N/A\")","v":9.3249443371632476E-2},{"$f":"IFERROR(Variance!AA482,\"N/A\")","v":8.2918980569385528E-2},{"$f":"IFERROR(Variance!AB482,\"N/A\")","v":5.3920475247576337E-2}]
[null,"2-Unemployed   ",{"$f":"IFERROR(Variance!W483,\"N/A\")","v":0.25257141931610105},{"$f":"IFERROR(Variance!X483,\"N/A\")","v":"N/A"},{"$f":"IFERROR(Variance!Y483,\"N/A\")","v":"N/A"},{"$f":"IFERROR(Variance!Z483,\"N/A\")","v":"N/A"},{"$f":"IFERROR(Variance!AA483,\"N/A\")","v":"N/A"},{"$f":"IFERROR(Variance!AB483,\"N/A\")","v":"N/A"}]
[null,"3-NILF         ",{"$f":"IFERROR(Variance!W484,\"N/A\")","v":3.2856021322741555E-2},{"$f":"IFERROR(Variance!X484,\"N/A\")","v":3.8480653278960018E-2},{"$f":"IFERROR(Variance!Y484,\"N/A\")","v":3.6099802283646627E-2},{"$f":"IFERROR(Variance!Z484,\"N/A\")","v":3.5403405701594393E-2},{"$f":"IFERROR(Variance!AA484,\"N/A\")","v":3.5053868877926865E-2},{"$f":"IFERROR(Variance!AB484,\"N/A\")","v":2.0852394032983182E-2}]
[null,"1-Prof./Managerial (occ.)",{"$f":"IFERROR(Variance!W485,\"N/A\")","v":0.19144792577311187},{"$f":"IFERROR(Variance!X485,\"N/A\")","v":0.24558016134967706},{"$f":"IFERROR(Variance!Y485,\"N/A\")","v":0.26532758278045532},{"$f":"IFERROR(Variance!Z485,\"N/A\")","v":0.25537391951394278},{"$f":"IFERROR(Variance!AA485,\"N/A\")","v":0.24425004058795557},{"$f":"IFERROR(Variance!AB485,\"N/A\")","v":0.16382212742429489}]
[null,"2-Sklld/Sales  ",{"$f":"IFERROR(Variance!W486,\"N/A\")","v":0.12125538127089015},{"$f":"IFERROR(Variance!X486,\"N/A\")","v":0.15095013861421616},{"$f":"IFERROR(Variance!Y486,\"N/A\")","v":0.1538644944664932},{"$f":"IFERROR(Variance!Z486,\"N/A\")","v":0.14950380972282498},{"$f":"IFERROR(Variance!AA486,\"N/A\")","v":0.13826014780660834},{"$f":"IFERROR(Variance!AB486,\"N/A\")","v":8.6038134711779027E-2}]
[null,"3-BlueCol.Lgt  ",{"$f":"IFERROR(Variance!W487,\"N/A\")","v":0.17064822229614612},{"$f":"IFERROR(Variance!X487,\"N/A\")","v":0.19425667053147003},{"$f":"IFERROR(Variance!Y487,\"N/A\")","v":0.17255267481510514},{"$f":"IFERROR(Variance!Z487,\"N/A\")","v":0.18136454589598935},{"$f":"IFERROR(Variance!AA487,\"N/A\")","v":0.17307395186755128},{"$f":"IFERROR(Variance!AB487,\"N/A\")","v":0.10046406574197038}]
[null,"4-BlueCol.Hvy  ",{"$f":"IFERROR(Variance!W488,\"N/A\")","v":0.1077134168352875},{"$f":"IFERROR(Variance!X488,\"N/A\")","v":0.12657719081191857},{"$f":"IFERROR(Variance!Y488,\"N/A\")","v":0.14653870103360928},{"$f":"IFERROR(Variance!Z488,\"N/A\")","v":0.15709576001200376},{"$f":"IFERROR(Variance!AA488,\"N/A\")","v":0.13951158850545725},{"$f":"IFERROR(Variance!AB488,\"N/A\")","v":8.8317701561441114E-2}]
[null,"5-Medical.Occ  ",{"$f":"IFERROR(Variance!W489,\"N/A\")","v":"N/A"},{"$f":"IFERROR(Variance!X489,\"N/A\")","v":"N/A"},{"$f":"IFERROR(Variance!Y489,\"N/A\")","v":"N/A"},{"$f":"IFERROR(Variance!Z489,\"N/A\")","v":"N/A"},{"$f":"IFERROR(Variance!AA489,\"N/A\")","v":"N/A"},{"$f":"IFERROR(Variance!AB489,\"N/A\")","v":"N/A"}]
[null,"6-N/A          ",{"$f":"IFERROR(Variance!W490,\"N/A\")","v":3.3133616192878995E-2},{"$f":"IFERROR(Variance!X490,\"N/A\")","v":3.7664002528592484E-2},{"$f":"IFERROR(Variance!Y490,\"N/A\")","v":3.3799681858623816E-2},{"$f":"IFERROR(Variance!Z490,\"N/A\")","v":3.2062888402472747E-2},{"$f":"IFERROR(Variance!AA490,\"N/A\")","v":3.1948540245458595E-2},{"$f":"IFERROR(Variance!AB490,\"N/A\")","v":2.1175981076665271E-2}]

{"sheet":"Calculations-->","index":3,"n_rows":0,"n_cols":0,"rows_kept":0,"cut":false,"hidden":false,"merged":[]}

{"sheet":"Calculation","index":4,"n_rows":59,"n_cols":103,"rows_kept":59,"cut":false,"hidden":false,"merged":[]}
[]
["SOA MI Trends"]
["Detailed model parameter results",null,null,null,null,null,null,null,null,null,null,null,null,null,null,null,null,null,null,null,null,null,null,null,null,null,null,null,null,null,null,null,null,null,null,null,null,null,null,null,null,null,null,null,null,null,null,null,null,null,null,null,null,null,null,null,null,null,null,null,null,null,null,null,null,null,null,null,null,null,null,null,null,null,null,null,null,null,null,null,null,null,null,"Order",3]
["Calculation",null,null,null,null,null,null,null,null,null,null,null,null,null,null,null,null,null,null,null,null,null,null,null,null,null,null,null,null,null,null,null,null,null,null,null,null,null,null,null,null,null,null,null,null,null,null,null,null,null,null,null,null,null,null,null,null,null,null,null,null,null,null,null,null,null,null,null,null,null,null,null,null,null,null,null,null,null,null,null,null,null,null,"Balance",10]
[null,null,null,null,null,null,null,null,null,null,null,null,null,null,null,null,null,null,null,null,null,null,null,null,null,null,null,null,null,null,null,null,null,null,null,null,null,null,null,null,null,null,null,null,null,null,null,null,null,null,null,null,null,null,null,null,null,null,null,null,null,null,null,null,null,null,null,null,null,null,null,null,null,null,null,null,null,null,null,null,null,null,null,"Deaths",{"$f":"INDIRECT(\"'\"&cause_of_death&\" parameters'!\"&R6&\"59\")","v":56000},{"$f":"INDIRECT(\"'\"&cause_of_death&\" parameters'!\"&S6&\"59\")","v":21500},{"$f":"INDIRECT(\"'\"&cause_of_death&\" parameters'!\"&T6&\"59\")","v":20000},{"$f":"INDIRECT(\"'\"&cause_of_death&\" parameters'!\"&U6&\"59\")","v":22500},{"$f":"INDIRECT(\"'\"&cause_of_death&\" parameters'!\"&V6&\"59\")","v":17500},{"$f":"INDIRECT(\"'\"&cause_of_death&\" parameters'!\"&W6&\"59\")","v":18500},{"$f":"INDIRECT(\"'\"&cause_of_death&\" parameters'!\"&X6&\"59\")","v":14000},{"$f":"INDIRECT(\"'\"&cause_of_death&\" parameters'!\"&Y6&\"59\")","v":5000},{"$f":"INDIRECT(\"'\"&cause_of_death&\" parameters'!\"&Z6&\"59\")","v":155000},null,"MI years",{"$f":"BL16","v":4},{"$f":"BM16","v":4},4,4,2.5,2,2,2]
[null,"Means lookup",null,null,null,null,null,null,null,null,null,null,null,null,"Parameter lookup",null,{"$f":"Overview!C16","v":"All cause"},"C","D","E","F","G","H","I","J","K",null,"At the means",null,null,null,null,null,null,null,null,null,null,null,"B'X",null,null,null,null,null,null,null,null,null,null,"HR(B'X)",null,null,null,null,null,null,null,null,null,null,"Intermediate mortality calculations",null,null,null,{"$f":"cause_of_death","v":"All cause"},null,null,null,null,null,null,"Modeled mortality (all cause, cancer, and heart)",null,null,null,null,null,null,null,null,null,null,"Smoothed mortality (all cause, cancer, and heart)",null,null,null,null,null,null,null,null,null,null,"Mortality improvement (all cause, cancer, heart)"]
[null,"Variables",null,"1980-1983","1984-1987","1988-1991","1992-1995","1996-1999","2000-2003","2004-2007","2008-11 (NLMS)","2008-11 (MDAC)",null,null,null,null,"Indicator","1980-1983","1984-1987","1988-1991","1992-1995","1996-1999","2000-2003","2004-2007","2008-11 (NLMS)","2008-11 (MDAC)",null,null,null,"1980-1983","1984-1987","1988-1991","1992-1995","1996-1999","2000-2003","2004-2007","2008-11 (NLMS)","2008-11 (MDAC)",null,null,"1980-1983","1984-1987","1988-1991","1992-1995","1996-1999","2000-2003","2004-2007","2008-11 (NLMS)","2008-11 (MDAC)",null,null,"1980-1983","1984-1987","1988-1991","1992-1995","1996-1999","2000-2003","2004-2007","2008-11 (NLMS)","2008-11 (MDAC)",null,null,"1980-1983","1984-1987","1988-1991","1992-1995","1996-1999","2000-2003","2004-2007","2008-11 (NLMS)","2008-11 (MDAC)",null,null,"1980-1983","1984-1987","1988-1991","1992-1995","1996-1999","2000-2003","2004-2007","2008-11 (NLMS)","2008-11 (MDAC)",null,null,"1980-1983","1984-1987","1988-1991","1992-1995","1996-1999","2000-2003","2004-2007","2008-11 (NLMS)","2008-11 (MDAC)",null,null,"1987.5-1991.5","1991.5-1995.5","1995.5-1999.5","1999.5-2003.5","2003.5-2006","2006-2008","2008-2010","2010-2012"]
[null,"Age","40-44",{"$f":"'Means parameters'!C7","v":14.88},{"$f":"'Means parameters'!D7","v":16.45},{"$f":"'Means parameters'!E7","v":18.36},{"$f":"'Means parameters'!F7","v":19.399999999999999},{"$f":"'Means parameters'!G7","v":19.66},{"$f":"'Means parameters'!H7","v":18.97},{"$f":"'Means parameters'!I7","v":17.07},{"$f":"'Means parameters'!J7","v":15.04},{"$f":"'Means parameters'!K7","v":17.260000000000002},null,7,"Age","40-44",null,{"$f":"INDIRECT(\"'\"&$Q$6&\" parameters'!\"&R$6&$N8)","v":-1.79},{"$f":"INDIRECT(\"'\"&$Q$6&\" parameters'!\"&S$6&$N8)","v":-1.7709999999999999},{"$f":"INDIRECT(\"'\"&$Q$6&\" parameters'!\"&T$6&$N8)","v":-1.768},{"$f":"INDIRECT(\"'\"&$Q$6&\" parameters'!\"&U$6&$N8)","v":-1.897},{"$f":"INDIRECT(\"'\"&$Q$6&\" parameters'!\"&V$6&$N8)","v":-1.829},{"$f":"INDIRECT(\"'\"&$Q$6&\" parameters'!\"&W$6&$N8)","v":-1.5880000000000001},{"$f":"INDIRECT(\"'\"&$Q$6&\" parameters'!\"&X$6&$N8)","v":-1.6240000000000001},{"$f":"INDIRECT(\"'\"&$Q$6&\" parameters'!\"&Y$6&$N8)","v":-1.3169999999999999},{"$f":"INDIRECT(\"'\"&$Q$6&\" parameters'!\"&Z$6&$N8)","v":-1.619},null,"Age","40-44",{"$f":"D8/100*R8","v":-0.26635200000000003},{"$f":"E8/100*S8","v":-0.29132949999999996},{"$f":"F8/100*T8","v":-0.32460479999999997},{"$f":"G8/100*U8","v":-0.36801799999999996},{"$f":"H8/100*V8","v":-0.3595814},{"$f":"I8/100*W8","v":-0.3012436},{"$f":"J8/100*X8","v":-0.27721679999999999},{"$f":"K8/100*Y8","v":-0.19807679999999997},{"$f":"L8/100*Z8","v":-0.2794394},null,"40-44",{"$f":"R$58+R8","v":-1.79},{"$f":"S$58+S8","v":-1.7709999999999999},{"$f":"T$58+T8","v":-1.768},{"$f":"U$58+U8","v":-1.897},{"$f":"V$58+V8","v":-1.829},{"$f":"W$58+W8","v":-1.5880000000000001},{"$f":"X$58+X8","v":-1.6240000000000001},{"$f":"Y$58+Y8","v":-1.3169999999999999},{"$f":"Z$58+Z8","v":-1.619},null,"40-44",{"$f":"EXP(AO8)","v":0.16696016966704069},{"$f":"EXP(AP8)","v":0.17016274097469672},{"$f":"EXP(AQ8)","v":0.17067399569626215},{"$f":"EXP(AR8)","v":0.15001799881265335},{"$f":"EXP(AS8)","v":0.16057406157647411},{"$f":"EXP(AT8)","v":0.20433387108094214},{"$f":"EXP(AU8)","v":0.19710868536806264},0.26793791118361776,0.19809669676503922,null,"Deaths/Exposure",{"$f":"INDEX('Deaths and Exposures'!$C$7:$K$11,MATCH(Calculation!$BN$6,'Deaths and Exposures'!$B$7:$B$11,0),MATCH(BK$7,'Deaths and Exposures'!$C$6:$K$6,0))","v":0.22189999999999999},{"$f":"INDEX('Deaths and Exposures'!$C$7:$K$11,MATCH(Calculation!$BN$6,'Deaths and Exposures'!$B$7:$B$11,0),MATCH(BL$7,'Deaths and Exposures'!$C$6:$K$6,0))","v":0.2263},{"$f":"INDEX('Deaths and Exposures'!$C$7:$K$11,MATCH(Calculation!$BN$6,'Deaths and Exposures'!$B$7:$B$11,0),MATCH(BM$7,'Deaths and Exposures'!$C$6:$K$6,0))","v":0.22559999999999999},{"$f":"INDEX('Deaths and Exposures'!$C$7:$K$11,MATCH(Calculation!$BN$6,'Deaths and Exposures'!$B$7:$B$11,0),MATCH(BN$7,'Deaths and Exposures'!$C$6:$K$6,0))","v":0.20019999999999999},{"$f":"INDEX('Deaths and Exposures'!$C$7:$K$11,MATCH(Calculation!$BN$6,'Deaths and Exposures'!$B$7:$B$11,0),MATCH(BO$7,'Deaths and Exposures'!$C$6:$K$6,0))","v":0.16839999999999999},{"$f":"INDEX('Deaths and Exposures'!$C$7:$K$11,MATCH(Calculation!$BN$6,'Deaths and Exposures'!$B$7:$B$11,0),MATCH(BP$7,'Deaths and Exposures'!$C$6:$K$6,0))","v":0.14419999999999999},{"$f":"INDEX('Deaths and Exposures'!$C$7:$K$11,MATCH(Calculation!$BN$6,'Deaths and Exposures'!$B$7:$B$11,0),MATCH(BQ$7,'Deaths and Exposures'!$C$6:$K$6,0))","v":8.473E-2},{"$f":"INDEX('Deaths and Exposures'!$C$7:$K$11,MATCH(Calculation!$BN$6,'Deaths and Exposures'!$B$7:$B$11,0),MATCH(BR$7,'Deaths and Exposures'!$C$6:$K$6,0))","v":3.0640000000000001E-2},{"$f":"INDEX('Deaths and Exposures'!$C$7:$K$11,MATCH(Calculation!$BN$6,'Deaths and Exposures'!$B$7:$B$11,0),MATCH(BS$7,'Deaths and Exposures'!$C$6:$K$6,0))","v":8.8169999999999998E-2},null,"40-44",{"$f":"BK$12*AZ8/AD$59","v":5.0158958126954086E-3},{"$f":"BL$12*BA8/AE$59","v":5.5726295544009756E-3},{"$f":"BM$12*BB8/AF$59","v":5.1769968094485218E-3},{"$f":"BN$12*BC8/AG$59","v":4.7729304589031376E-3},{"$f":"BO$12*BD8/AH$59","v":3.910944441998767E-3},{"$f":"BP$12*BE8/AI$59","v":4.2485908844602759E-3},{"$f":"BQ$12*BF8/AJ$59","v":3.3121667153845078E-3},{"$f":"BR$12*BG8/AK$59","v":4.4706040702396825E-3},{"$f":"BS$12*BH8/AL$59","v":3.6485061454038042E-3},null,"40-44",{"$f":"GRADRANGE(BV8:CD8,$CG$5:$CO$5,$CG$3,$CG$4)","v":5.1759690119610145E-3},5.1122839485001591E-3,4.9389535109672141E-3,4.680425242522746E-3,4.3830487803024534E-3,4.0995462263145634E-3,3.8678060618775332E-3,3.7122093145676993E-3,3.6374357446877564E-3,null,"40-44",{"$f":"1-(CH8/CG8)^(1/CR$5)","v":3.090292510111059E-3},{"$f":"1-(CI8/CH8)^(1/CS$5)","v":8.5861249024634656E-3},1.3351196267507803E-2,1.6277176155970796E-2,2.6392762798748248E-2,2.8675259079229187E-2,2.0320809582963006E-2,1.0122535902521546E-2]
[null,null,"45-49",{"$f":"'Means parameters'!C8","v":13.71},{"$f":"'Means parameters'!D8","v":13.58},{"$f":"'Means parameters'!E8","v":14.63},{"$f":"'Means parameters'!F8","v":16.22},{"$f":"'Means parameters'!G8","v":17.09},{"$f":"'Means parameters'!H8","v":17.29},{"$f":"'Means parameters'!I8","v":17.100000000000001},{"$f":"'Means parameters'!J8","v":16.399999999999999},{"$f":"'Means parameters'!K8","v":17.89},null,{"$f":"N8+1","v":8},null,"45-49",null,{"$f":"INDIRECT(\"'\"&$Q$6&\" parameters'!\"&R$6&$N9)","v":-1.339},{"$f":"INDIRECT(\"'\"&$Q$6&\" parameters'!\"&S$6&$N9)","v":-1.4019999999999999},{"$f":"INDIRECT(\"'\"&$Q$6&\" parameters'!\"&T$6&$N9)","v":-1.3180000000000001},{"$f":"INDIRECT(\"'\"&$Q$6&\" parameters'!\"&U$6&$N9)","v":-1.482},{"$f":"INDIRECT(\"'\"&$Q$6&\" parameters'!\"&V$6&$N9)","v":-1.383},{"$f":"INDIRECT(\"'\"&$Q$6&\" parameters'!\"&W$6&$N9)","v":-1.24},{"$f":"INDIRECT(\"'\"&$Q$6&\" parameters'!\"&X$6&$N9)","v":-1.169},{"$f":"INDIRECT(\"'\"&$Q$6&\" parameters'!\"&Y$6&$N9)","v":-1.113},{"$f":"INDIRECT(\"'\"&$Q$6&\" parameters'!\"&Z$6&$N9)","v":-1.2350000000000001},null,null,"45-49",{"$f":"D9/100*R9","v":-0.18357689999999999},-0.19039159999999999,-0.19282340000000003,-0.24038039999999997,-0.2363547,-0.214396,-0.19989900000000002,-0.18253199999999997,-0.22094150000000001,null,"45-49",{"$f":"R$58+R9","v":-1.339},-1.4019999999999999,-1.3180000000000001,-1.482,-1.383,-1.24,-1.169,-1.113,-1.2350000000000001,null,"45-49",0.26210764521539248,0.24610426287901954,0.26767010719674456,0.22718286797905665,0.25082494837281111,0.28938421793905061,0.31067746344196184,0.3285717657253846,0.29083476236785155,null,"Exposure Potential",11,11,11,11,11,10.039999999999999,6.25,2.2599999999999998,6.77,null,"45-49",{"$f":"BK$12*AZ9/AD$59","v":7.8743609492801965E-3},8.0596250444016186E-3,8.1191471805018411E-3,7.227986234320782E-3,6.10909650115617E-3,6.016991426524133E-3,5.2205490169601821E-3,5.4822935161687415E-3,5.3565376663233201E-3,null,"45-49",{"$f":"GRADRANGE(BV9:CD9,$CG$5:$CO$5,$CG$3,$CG$4)","v":8.036138626242537E-3},7.846023921448746E-3,7.5156540525739392E-3,7.069736883008727E-3,6.5698712098063569E-3,6.0938120269768293E-3,5.7050250331323405E-3,5.4442326593183042E-3,5.3248360453217484E-3,null,"45-49",{"$f":"1-(CH9/CG9)^(1/CR$5)","v":5.9675730786953318E-3},{"$f":"1-(CI9/CH9)^(1/CS$5)","v":1.0697085933658479E-2},{"$f":"1-(CJ9/CI9)^(1/CT$5)","v":1.5174880553466275E-2},{"$f":"1-(CK9/CJ9)^(1/CU$5)","v":1.8165244712000872E-2},{"$f":"1-(CL9/CK9)^(1/CV$5)","v":2.9640015232249795E-2},{"$f":"1-(CM9/CL9)^(1/CW$5)","v":3.2425864943714688E-2},{"$f":"1-(CN9/CM9)^(1/CX$5)","v":2.3123727576128572E-2},{"$f":"1-(CO9/CN9)^(1/CY$5)","v":1.1026210367812816E-2}]
[null,null,"50-54",{"$f":"'Means parameters'!C9","v":14.26},{"$f":"'Means parameters'!D9","v":12.69},{"$f":"'Means parameters'!E9","v":12.24},{"$f":"'Means parameters'!F9","v":12.79},{"$f":"'Means parameters'!G9","v":13.69},{"$f":"'Means parameters'!H9","v":15},{"$f":"'Means parameters'!I9","v":15.35},{"$f":"'Means parameters'!J9","v":15.73},{"$f":"'Means parameters'!K9","v":16.29},null,{"$f":"N9+1","v":9},null,"50-54",null,{"$f":"INDIRECT(\"'\"&$Q$6&\" parameters'!\"&R$6&$N10)","v":-0.89759999999999995},{"$f":"INDIRECT(\"'\"&$Q$6&\" parameters'!\"&S$6&$N10)","v":-0.89180000000000004},{"$f":"INDIRECT(\"'\"&$Q$6&\" parameters'!\"&T$6&$N10)","v":-0.94330000000000003},{"$f":"INDIRECT(\"'\"&$Q$6&\" parameters'!\"&U$6&$N10)","v":-0.999},{"$f":"INDIRECT(\"'\"&$Q$6&\" parameters'!\"&V$6&$N10)","v":-1.054},{"$f":"INDIRECT(\"'\"&$Q$6&\" parameters'!\"&W$6&$N10)","v":-0.91110000000000002},{"$f":"INDIRECT(\"'\"&$Q$6&\" parameters'!\"&X$6&$N10)","v":-0.79690000000000005},{"$f":"INDIRECT(\"'\"&$Q$6&\" parameters'!\"&Y$6&$N10)","v":-0.84009999999999996},{"$f":"INDIRECT(\"'\"&$Q$6&\" parameters'!\"&Z$6&$N10)","v":-0.83730000000000004},null,null,"50-54",-0.12799775999999999,-0.11316941999999999,-0.11545992000000001,-0.1277721,-0.14429259999999999,-0.13666500000000001,-0.12232415000000001,-0.13214772999999999,-0.13639617000000001,null,"50-54",-0.89759999999999995,-0.89180000000000004,-0.94330000000000003,-0.999,-1.054,-0.91110000000000002,-0.79690000000000005,-0.84009999999999996,-0.83730000000000004,null,"50-54",0.40754659878189542,0.40991723726073287,0.38934088813266504,0.3682475046136629,0.34854079388776399,0.40208169082508577,0.4507240451643808,0.43166735453521748,0.43287771684437892,null,"Survivorship n yr",{"$f":"(1-BK8)","v":0.77810000000000001},0.77370000000000005,0.77439999999999998,0.79980000000000007,0.83160000000000001,0.85580000000000001,{"$f":"(1-BQ8)","v":0.91527000000000003},0.96936,0.91183000000000003,null,"50-54",1.2243706282672214E-2,1.3424307213981912E-2,1.1809745986364127E-2,1.1716059040226167E-2,8.4890652156543647E-3,8.360241977558084E-3,7.5738579323852296E-3,7.2024665104306147E-3,7.9726569695826189E-3,null,"50-54",{"$f":"GRADRANGE(BV10:CD10,$CG$5:$CO$5,$CG$3,$CG$4)","v":1.2673641228468176E-2},1.2257943958373253E-2,1.1568493719259812E-2,1.0670953302849416E-2,9.6939197843188048E-3,8.8130367994641648E-3,8.1709753334354724E-3,7.8549189320661992E-3,7.8968944701264549E-3,null,"50-54",8.3028715744294379E-3,1.4367998071656451E-2,1.9987531731815888E-2,2.3720768591920849E-2,3.738978777334756E-2,3.7115583746786807E-2,1.9530916545466237E-2,-2.6683667887443807E-3]
[null,null,"55-59",{"$f":"'Means parameters'!C10","v":14.16},{"$f":"'Means parameters'!D10","v":13.12},{"$f":"'Means parameters'!E10","v":11.54},{"$f":"'Means parameters'!F10","v":10.66},{"$f":"'Means parameters'!G10","v":10.99},{"$f":"'Means parameters'!H10","v":11.8},{"$f":"'Means parameters'!I10","v":13.25},{"$f":"'Means parameters'!J10","v":13.71},{"$f":"'Means parameters'!K10","v":13.68},null,10,null,"55-59",null,{"$f":"INDIRECT(\"'\"&$Q$6&\" parameters'!\"&R$6&$N11)","v":-0.52410000000000001},{"$f":"INDIRECT(\"'\"&$Q$6&\" parameters'!\"&S$6&$N11)","v":-0.50409999999999999},{"$f":"INDIRECT(\"'\"&$Q$6&\" parameters'!\"&T$6&$N11)","v":-0.50739999999999996},{"$f":"INDIRECT(\"'\"&$Q$6&\" parameters'!\"&U$6&$N11)","v":-0.64780000000000004},{"$f":"INDIRECT(\"'\"&$Q$6&\" parameters'!\"&V$6&$N11)","v":-0.58919999999999995},{"$f":"INDIRECT(\"'\"&$Q$6&\" parameters'!\"&W$6&$N11)","v":-0.5444},{"$f":"INDIRECT(\"'\"&$Q$6&\" parameters'!\"&X$6&$N11)","v":-0.4849},{"$f":"INDIRECT(\"'\"&$Q$6&\" parameters'!\"&Y$6&$N11)","v":-0.36220000000000002},{"$f":"INDIRECT(\"'\"&$Q$6&\" parameters'!\"&Z$6&$N11)","v":-0.51770000000000005},null,null,"55-59",-7.4212559999999997E-2,-6.6137919999999989E-2,-5.8553959999999988E-2,-6.9055480000000002E-2,-6.4753079999999991E-2,-6.423920000000001E-2,-6.4249250000000008E-2,-4.965762E-2,-7.0821360000000014E-2,null,"55-59",-0.52410000000000001,-0.50409999999999999,-0.50739999999999996,-0.64780000000000004,-0.58919999999999995,-0.5444,-0.4849,-0.36220000000000002,-0.51770000000000005,null,"55-59",0.59208800384655791,0.60404897493802534,0.60205889875242991,0.52319554174763705,0.55477092399433781,0.58018979280224869,0.61575876956255016,0.69614312529292166,0.59588951894365727,null,"Survivorship 1 yr",{"$f":"BK10^(1/BK9)","v":0.97744904958378265},{"$f":"BL10^(1/BL9)","v":0.97694527344838344},0.9770255935885771,0.97989632129969417,0.98337575868856575,{"$f":"BP10^(1/BP9)","v":0.98460983958133097},{"$f":"BQ10^(1/BQ9)","v":0.98593407463201443},0.98632480089132868,0.98645859053311735,null,"55-59",1.7787785824389984E-2,1.9781893208606703E-2,1.8262049735381456E-2,1.6645842211827983E-2,1.3512009601531172E-2,1.2063536269912301E-2,1.0347061558666637E-2,1.1615303992092155E-2,1.0974976399663742E-2,null,"55-59",{"$f":"GRADRANGE(BV11:CD11,$CG$5:$CO$5,$CG$3,$CG$4)","v":1.8464094831235397E-2},1.8106517516151544E-2,1.7227209918633878E-2,1.5929462868818786E-2,1.442491091878513E-2,1.2982139426174077E-2,1.1831331996306099E-2,1.1112488214439661E-2,1.0869989082732193E-2,null,"55-59",4.8770854821674758E-3,1.2368338356067765E-2,1.9389483409656183E-2,2.4498364221857694E-2,4.1276767402708137E-2,4.5351078960269131E-2,3.0854829042244236E-2,1.0971293249460001E-2]
[null,null,"60-64",{"$f":"'Means parameters'!C11","v":12.52},{"$f":"'Means parameters'!D11","v":12.55},{"$f":"'Means parameters'!E11","v":11.6},{"$f":"'Means parameters'!F11","v":10.19},{"$f":"'Means parameters'!G11","v":9.19},{"$f":"'Means parameters'!H11","v":9.2100000000000009},{"$f":"'Means parameters'!I11","v":10.130000000000001},{"$f":"'Means parameters'!J11","v":11.52},{"$f":"'Means parameters'!K11","v":11.12},null,11,null,"60-64",null,{"$f":"INDIRECT(\"'\"&$Q$6&\" parameters'!\"&R$6&$N12)","v":-0.22270000000000001},{"$f":"INDIRECT(\"'\"&$Q$6&\" parameters'!\"&S$6&$N12)","v":-0.22819999999999999},{"$f":"INDIRECT(\"'\"&$Q$6&\" parameters'!\"&T$6&$N12)","v":-0.23139999999999999},{"$f":"INDIRECT(\"'\"&$Q$6&\" parameters'!\"&U$6&$N12)","v":-0.31709999999999999},{"$f":"INDIRECT(\"'\"&$Q$6&\" parameters'!\"&V$6&$N12)","v":-0.32050000000000001},{"$f":"INDIRECT(\"'\"&$Q$6&\" parameters'!\"&W$6&$N12)","v":-0.31850000000000001},{"$f":"INDIRECT(\"'\"&$Q$6&\" parameters'!\"&X$6&$N12)","v":-0.24890000000000001},{"$f":"INDIRECT(\"'\"&$Q$6&\" parameters'!\"&Y$6&$N12)","v":-0.188},{"$f":"INDIRECT(\"'\"&$Q$6&\" parameters'!\"&Z$6&$N12)","v":-0.26429999999999998},null,null,"60-64",-2.7882040000000004E-2,-2.8639099999999997E-2,-2.6842399999999999E-2,-3.2312489999999999E-2,-2.945395E-2,-2.9333850000000005E-2,-2.5213570000000001E-2,-2.1657599999999999E-2,-2.9390159999999995E-2,null,"60-64",-0.22270000000000001,-0.22819999999999999,-0.23139999999999999,-0.31709999999999999,-0.32050000000000001,-0.31850000000000001,-0.24890000000000001,-0.188,-0.26429999999999998,null,"60-64",0.80035491975811157,0.79596505090491043,0.79342203373952025,0.72825792569172154,0.72578605330865753,0.72723907795558018,0.77965793528006866,0.8286147072326806,0.7677431821501628,null,"Mortality",{"$f":"1-BK11","v":2.2550950416217352E-2},{"$f":"1-BL11","v":2.3054726551616556E-2},2.2974406411422899E-2,2.0103678700305827E-2,1.6624241311434251E-2,1.539016041866903E-2,{"$f":"1-BQ11","v":1.4065925367985566E-2},1.3675199108671321E-2,1.3541409466882648E-2,null,"60-64",2.404463830319991E-2,2.6066918889150709E-2,2.4066603236532834E-2,2.3170049347295101E-2,1.7677256858299389E-2,1.5121043325222591E-2,1.3101183531298967E-2,1.3825622012393221E-2,1.4140143495119056E-2,null,"60-64",{"$f":"GRADRANGE(BV12:CD12,$CG$5:$CO$5,$CG$3,$CG$4)","v":2.4878649074701553E-2},2.4305903430726476E-2,2.3016991186592266E-2,2.113928853285554E-2,1.8951664498396741E-2,1.6851346031826944E-2,1.5196168214735874E-2,1.420764847594461E-2,1.3961362442318744E-2,null,"60-64",5.8057581641398626E-3,1.3529287730888795E-2,2.1050128355686093E-2,2.6940833396906894E-2,4.5897805237302913E-2,5.0380229356208561E-2,3.3072180573522347E-2,8.7052657984201254E-3]
[null,null,"65-69",{"$f":"'Means parameters'!C12","v":10.79},{"$f":"'Means parameters'!D12","v":10.93},{"$f":"'Means parameters'!E12","v":10.82},{"$f":"'Means parameters'!F12","v":9.75},{"$f":"'Means parameters'!G12","v":8.7100000000000009},{"$f":"'Means parameters'!H12","v":7.87},{"$f":"'Means parameters'!I12","v":7.88},{"$f":"'Means parameters'!J12","v":8.5500000000000007},{"$f":"'Means parameters'!K12","v":8.1},null,12,null,"65-69",null,{"$f":"INDIRECT(\"'\"&$Q$6&\" parameters'!\"&R$6&$N13)","v":0},{"$f":"INDIRECT(\"'\"&$Q$6&\" parameters'!\"&S$6&$N13)","v":0},{"$f":"INDIRECT(\"'\"&$Q$6&\" parameters'!\"&T$6&$N13)","v":0},{"$f":"INDIRECT(\"'\"&$Q$6&\" parameters'!\"&U$6&$N13)","v":0},{"$f":"INDIRECT(\"'\"&$Q$6&\" parameters'!\"&V$6&$N13)","v":0},{"$f":"INDIRECT(\"'\"&$Q$6&\" parameters'!\"&W$6&$N13)","v":0},{"$f":"INDIRECT(\"'\"&$Q$6&\" parameters'!\"&X$6&$N13)","v":0},{"$f":"INDIRECT(\"'\"&$Q$6&\" parameters'!\"&Y$6&$N13)","v":0},{"$f":"INDIRECT(\"'\"&$Q$6&\" parameters'!\"&Z$6&$N13)","v":0},null,null,"65-69",0,0,0,0,0,0,0,0,0,null,"65-69",0,0,0,0,0,0,0,0,0,null,"65-69",1,1,1,1,1,1,1,1,1,null,"Starting year (1/1)",1980,{"$f":"BK13+4","v":1984},{"$f":"BL13+4","v":1988},1992,1996,2000,{"$f":"BP13+4","v":2004},{"$f":"BQ13+4","v":2008},{"$f":"BR13+4","v":2012},null,"65-69",3.0042469546469251E-2,3.2748823405645708E-2,3.0332663088650593E-2,3.1815718758278509E-2,2.4356016180958107E-2,2.0792396590858374E-2,1.6803758338703706E-2,1.6685224015111393E-2,1.8417804057234057E-2,null,"65-69",{"$f":"GRADRANGE(BV13:CD13,$CG$5:$CO$5,$CG$3,$CG$4)","v":3.0946430295210249E-2},3.1030863093165974E-2,3.0032833697315357E-2,2.8090401567466103E-2,2.5517010137445995E-2,2.2822456998878738E-2,2.0505265075523596E-2,1.890046487281111E-2,1.8129802502510707E-2,null,"65-69",-6.8139158894076068E-4,8.1394570447610448E-3,1.6576891545168393E-2,2.3734460772335986E-2,4.365840678638766E-2,5.2124069782376714E-2,3.9928563200836154E-2,2.0599562933347859E-2]
[null,null,"70-74",{"$f":"'Means parameters'!C13","v":8.43},{"$f":"'Means parameters'!D13","v":8.61},{"$f":"'Means parameters'!E13","v":8.4600000000000009},{"$f":"'Means parameters'!F13","v":8.44},{"$f":"'Means parameters'!G13","v":7.82},{"$f":"'Means parameters'!H13","v":7.04},{"$f":"'Means parameters'!I13","v":6.4},{"$f":"'Means parameters'!J13","v":6.39},{"$f":"'Means parameters'!K13","v":5.97},null,13,null,"70-74",null,{"$f":"INDIRECT(\"'\"&$Q$6&\" parameters'!\"&R$6&$N14)","v":0.32129999999999997},{"$f":"INDIRECT(\"'\"&$Q$6&\" parameters'!\"&S$6&$N14)","v":0.35770000000000002},{"$f":"INDIRECT(\"'\"&$Q$6&\" parameters'!\"&T$6&$N14)","v":0.34649999999999997},{"$f":"INDIRECT(\"'\"&$Q$6&\" parameters'!\"&U$6&$N14)","v":0.33750000000000002},{"$f":"INDIRECT(\"'\"&$Q$6&\" parameters'!\"&V$6&$N14)","v":0.38690000000000002},{"$f":"INDIRECT(\"'\"&$Q$6&\" parameters'!\"&W$6&$N14)","v":0.4002},{"$f":"INDIRECT(\"'\"&$Q$6&\" parameters'!\"&X$6&$N14)","v":0.3921},{"$f":"INDIRECT(\"'\"&$Q$6&\" parameters'!\"&Y$6&$N14)","v":0.38529999999999998},{"$f":"INDIRECT(\"'\"&$Q$6&\" parameters'!\"&Z$6&$N14)","v":0.33179999999999998},null,null,"70-74",2.7085589999999996E-2,3.0797970000000001E-2,2.93139E-2,2.8484999999999996E-2,3.0255580000000004E-2,2.8174080000000001E-2,2.5094399999999999E-2,2.4620669999999997E-2,1.9808459999999996E-2,null,"70-74",0.32129999999999997,0.35770000000000002,0.34649999999999997,0.33750000000000002,0.38690000000000002,0.4002,0.3921,0.38529999999999998,0.33179999999999998,null,"70-74",1.3789191946069768,1.4300365451582704,1.4141094938303624,1.4014396083919731,1.4724092429865452,1.4921230924192816,1.480085712573364,1.4700552718768349,1.3934741258160128,null,"Ending Year (1/1)",{"$f":"1984+11","v":1995},{"$f":"BK14+4","v":1999},2003,2007,2011,2012,2012,2012,2012,null,"70-74",4.1426137911022003E-2,4.6832014281007882E-2,4.2893706846818605E-2,4.4587808437310986E-2,3.5862023347172575E-2,3.1024815099959722E-2,2.487100263465088E-2,2.4528201525860476E-2,2.5664733408104844E-2,null,"70-74",{"$f":"GRADRANGE(BV14:CD14,$CG$5:$CO$5,$CG$3,$CG$4)","v":4.2777005328360651E-2},4.3591139537386685E-2,4.2738404094725645E-2,4.0425113296843805E-2,3.7080176923173128E-2,3.3362910363405572E-2,2.9915406633895129E-2,2.7173047542005401E-2,2.5292982384203702E-2,null,"70-74",-4.7244272186974801E-3,4.9268228816916615E-3,1.3815355130621931E-2,2.1360731790317722E-2,4.1374775696987554E-2,5.3075199930066264E-2,4.6936759787800986E-2,3.5214325093643195E-2]
[null,null,"75-79",{"$f":"'Means parameters'!C14","v":5.71},{"$f":"'Means parameters'!D14","v":6.04},{"$f":"'Means parameters'!E14","v":6.2},{"$f":"'Means parameters'!F14","v":5.97},{"$f":"'Means parameters'!G14","v":6.21},{"$f":"'Means parameters'!H14","v":6.13},{"$f":"'Means parameters'!I14","v":5.79},{"$f":"'Means parameters'!J14","v":5.38},{"$f":"'Means parameters'!K14","v":4.5999999999999996},null,14,null,"75-79",null,{"$f":"INDIRECT(\"'\"&$Q$6&\" parameters'!\"&R$6&$N15)","v":0.69599999999999995},{"$f":"INDIRECT(\"'\"&$Q$6&\" parameters'!\"&S$6&$N15)","v":0.7157},{"$f":"INDIRECT(\"'\"&$Q$6&\" parameters'!\"&T$6&$N15)","v":0.72650000000000003},{"$f":"INDIRECT(\"'\"&$Q$6&\" parameters'!\"&U$6&$N15)","v":0.7802},{"$f":"INDIRECT(\"'\"&$Q$6&\" parameters'!\"&V$6&$N15)","v":0.75629999999999997},{"$f":"INDIRECT(\"'\"&$Q$6&\" parameters'!\"&W$6&$N15)","v":0.7782},{"$f":"INDIRECT(\"'\"&$Q$6&\" parameters'!\"&X$6&$N15)","v":0.74429999999999996},{"$f":"INDIRECT(\"'\"&$Q$6&\" parameters'!\"&Y$6&$N15)","v":0.72840000000000005},{"$f":"INDIRECT(\"'\"&$Q$6&\" parameters'!\"&Z$6&$N15)","v":0.78900000000000003},null,null,"75-79",3.9741599999999995E-2,4.3228280000000001E-2,4.5043E-2,4.6577939999999998E-2,4.6966229999999998E-2,4.7703660000000002E-2,4.3094969999999996E-2,3.9187920000000001E-2,3.6294E-2,null,"75-79",0.69599999999999995,0.7157,0.72650000000000003,0.7802,0.75629999999999997,0.7782,0.74429999999999996,0.72840000000000005,0.78900000000000003,null,"75-79",2.0057137852036884,2.045618113878755,2.0678305206007708,2.181908603583655,2.1303792169467108,2.1775491472859372,2.104967441933995,2.0717631333890001,2.201194131160753,null,"Midpoint",{"$f":"(BK13+BK14)/2","v":1987.5},{"$f":"(BL13+BL14)/2","v":1991.5},1995.5,1999.5,2003.5,2006,{"$f":"(BQ13+BQ14)/2","v":2008},2010,2012,null,"75-79",6.0256595310915373E-2,6.6991586366805397E-2,6.2722806505812134E-2,6.9418990487885759E-2,5.1887550679530957E-2,4.5276465466454682E-2,3.5371364205098177E-2,3.4567831986844579E-2,4.0541162199652314E-2,null,"75-79",{"$f":"GRADRANGE(BV15:CD15,$CG$5:$CO$5,$CG$3,$CG$4)","v":6.2120179830571588E-2},6.3812132543514921E-2,6.2895869211130342E-2,5.9656010014601732E-2,5.4759983886933275E-2,4.9365656867512236E-2,4.4629868473083964E-2,4.1354061471807486E-2,3.9836229950728066E-2,null,"75-79",-6.7407282191005446E-3,3.6091832591578221E-3,1.3134379024940634E-2,2.1181256360442324E-2,4.0633292164357182E-2,4.9175544509681313E-2,3.7399060936809225E-2,1.8523216831231148E-2]
[null,null,"80-84",{"$f":"'Means parameters'!C15","v":3.41},{"$f":"'Means parameters'!D15","v":3.63},{"$f":"'Means parameters'!E15","v":3.71},{"$f":"'Means parameters'!F15","v":3.9},{"$f":"'Means parameters'!G15","v":3.96},{"$f":"'Means parameters'!H15","v":4.6100000000000003},{"$f":"'Means parameters'!I15","v":4.0999999999999996},{"$f":"'Means parameters'!J15","v":4.04},{"$f":"'Means parameters'!K15","v":3.05},null,15,null,"80-84",null,{"$f":"INDIRECT(\"'\"&$Q$6&\" parameters'!\"&R$6&$N16)","v":1.0509999999999999},{"$f":"INDIRECT(\"'\"&$Q$6&\" parameters'!\"&S$6&$N16)","v":1.143},{"$f":"INDIRECT(\"'\"&$Q$6&\" parameters'!\"&T$6&$N16)","v":1.1200000000000001},{"$f":"INDIRECT(\"'\"&$Q$6&\" parameters'!\"&U$6&$N16)","v":1.1499999999999999},{"$f":"INDIRECT(\"'\"&$Q$6&\" parameters'!\"&V$6&$N16)","v":1.1359999999999999},{"$f":"INDIRECT(\"'\"&$Q$6&\" parameters'!\"&W$6&$N16)","v":1.194},{"$f":"INDIRECT(\"'\"&$Q$6&\" parameters'!\"&X$6&$N16)","v":1.1479999999999999},{"$f":"INDIRECT(\"'\"&$Q$6&\" parameters'!\"&Y$6&$N16)","v":1.07},{"$f":"INDIRECT(\"'\"&$Q$6&\" parameters'!\"&Z$6&$N16)","v":1.24},null,null,"80-84",3.5839099999999999E-2,4.1490899999999997E-2,4.1552000000000006E-2,4.4849999999999994E-2,4.4985599999999994E-2,5.5043399999999999E-2,4.7067999999999992E-2,4.3228000000000003E-2,3.7819999999999999E-2,null,"80-84",1.0509999999999999,1.143,1.1200000000000001,1.1499999999999999,1.1359999999999999,1.194,1.1479999999999999,1.07,1.24,null,"80-84",2.8605101984831802,3.1361627548203743,3.0648542032930024,3.1581929096897672,3.1142862725534619,3.3002558639595994,3.1518828360473878,2.9153794999769969,3.4556134647626755,null,"MI years",null,{"$f":"BL15-BK15","v":4},{"$f":"BM15-BL15","v":4},4,4,2.5,{"$f":"BQ15-BP15","v":2},{"$f":"BR15-BQ15","v":2},{"$f":"BS15-BR15","v":2},null,"80-84",8.5936790525295653E-2,0.1027056402289758,9.2965189964321279E-2,0.10048017739907891,7.585160684644783E-2,6.8620228774753933E-2,5.2963477488848373E-2,4.8643760046179631E-2,6.3644811691538641E-2,null,"80-84",{"$f":"GRADRANGE(BV16:CD16,$CG$5:$CO$5,$CG$3,$CG$4)","v":8.9829635764361454E-2},9.337541906128502E-2,9.2591826364097171E-2,8.8073401309309754E-2,8.1056684565262022E-2,7.3447301940151033E-2,6.708572759364459E-2,6.3261471412346643E-2,6.247081416769866E-2,null,"80-84",-9.7252839007062608E-3,2.1045976800029287E-3,1.2429679628346735E-2,2.0541551182395201E-2,3.8664889196159624E-2,4.4287769546290767E-2,2.8920966648606772E-2,6.2687702592418848E-3]
[null,null,"85+",{"$f":"'Means parameters'!C16","v":2.13},{"$f":"'Means parameters'!D16","v":2.4},{"$f":"'Means parameters'!E16","v":2.44},{"$f":"'Means parameters'!F16","v":2.69},{"$f":"'Means parameters'!G16","v":2.67},{"$f":"'Means parameters'!H16","v":2.09},{"$f":"'Means parameters'!I16","v":2.93},{"$f":"'Means parameters'!J16","v":3.24},{"$f":"'Means parameters'!K16","v":2.04},null,16,null,"85+",null,{"$f":"INDIRECT(\"'\"&$Q$6&\" parameters'!\"&R$6&$N17)","v":1.4359999999999999},{"$f":"INDIRECT(\"'\"&$Q$6&\" parameters'!\"&S$6&$N17)","v":1.4910000000000001},{"$f":"INDIRECT(\"'\"&$Q$6&\" parameters'!\"&T$6&$N17)","v":1.53},{"$f":"INDIRECT(\"'\"&$Q$6&\" parameters'!\"&U$6&$N17)","v":1.508},{"$f":"INDIRECT(\"'\"&$Q$6&\" parameters'!\"&V$6&$N17)","v":1.498},{"$f":"INDIRECT(\"'\"&$Q$6&\" parameters'!\"&W$6&$N17)","v":1.5820000000000001},{"$f":"INDIRECT(\"'\"&$Q$6&\" parameters'!\"&X$6&$N17)","v":1.6830000000000001},{"$f":"INDIRECT(\"'\"&$Q$6&\" parameters'!\"&Y$6&$N17)","v":1.679},{"$f":"INDIRECT(\"'\"&$Q$6&\" parameters'!\"&Z$6&$N17)","v":1.798},null,null,"85+",3.0586799999999997E-2,3.5784000000000003E-2,3.7331999999999997E-2,4.0565200000000003E-2,3.99966E-2,3.3063799999999997E-2,4.9311900000000006E-2,5.4399600000000013E-2,3.6679200000000002E-2,null,"85+",1.4359999999999999,1.4910000000000001,1.53,1.508,1.498,1.5820000000000001,1.6830000000000001,1.679,1.798,null,"85+",4.2038467543193319,4.4415348338101293,4.6181768222997812,4.5176863801545881,4.4727346496029305,4.8646754392480434,5.3816768082003321,5.3601930970348031,6.0375602607168846,null,null,null,null,null,null,null,null,null,null,null,null,"85+",0.12629393809466213,0.14545503992247188,0.14008160163463426,0.14373343930910365,0.10893799749886096,0.10114826101865347,9.0432396542004675E-2,8.9436022588279401E-2,0.11119860186562655,null,"85+",{"$f":"GRADRANGE(BV17:CD17,$CG$5:$CO$5,$CG$3,$CG$4)","v":0.13170733031752546},0.13515668937185546,0.13346220622739682,0.12745065351455048,0.1189984912967787,0.11089372394196134,0.10569858604726853,0.10509238829529745,0.10970606621224874,null,"85+",-6.4840563124863859E-3,3.1491382954978997E-3,1.1456142848095374E-2,1.700830833775846E-2,2.7821068597194021E-2,2.3704910511195054E-2,2.8717007270877559E-3,-2.171481420056276E-2]
[null,"Gender","Male",{"$f":"'Means parameters'!C17","v":45.7},{"$f":"'Means parameters'!D17","v":45.78},{"$f":"'Means parameters'!E17","v":46.08},{"$f":"'Means parameters'!F17","v":46.36},{"$f":"'Means parameters'!G17","v":46.66},{"$f":"'Means parameters'!H17","v":46.87},{"$f":"'Means parameters'!I17","v":46.97},{"$f":"'Means parameters'!J17","v":47.16},{"$f":"'Means parameters'!K17","v":47.82},null,17,"Gender","Male",{"$f":"IF(sex=P18,1,0)","v":1},{"$f":"INDIRECT(\"'\"&$Q$6&\" parameters'!\"&R$6&$N18)","v":0},{"$f":"INDIRECT(\"'\"&$Q$6&\" parameters'!\"&S$6&$N18)","v":0},{"$f":"INDIRECT(\"'\"&$Q$6&\" parameters'!\"&T$6&$N18)","v":0},{"$f":"INDIRECT(\"'\"&$Q$6&\" parameters'!\"&U$6&$N18)","v":0},{"$f":"INDIRECT(\"'\"&$Q$6&\" parameters'!\"&V$6&$N18)","v":0},{"$f":"INDIRECT(\"'\"&$Q$6&\" parameters'!\"&W$6&$N18)","v":0},{"$f":"INDIRECT(\"'\"&$Q$6&\" parameters'!\"&X$6&$N18)","v":0},{"$f":"INDIRECT(\"'\"&$Q$6&\" parameters'!\"&Y$6&$N18)","v":0},{"$f":"INDIRECT(\"'\"&$Q$6&\" parameters'!\"&Z$6&$N18)","v":0},null,"Gender","Male",0,0,0,0,0,0,0,0,0]
[null,null,"Female",{"$f":"'Means parameters'!C18","v":54.3},{"$f":"'Means parameters'!D18","v":54.22},{"$f":"'Means parameters'!E18","v":53.92},{"$f":"'Means parameters'!F18","v":53.64},{"$f":"'Means parameters'!G18","v":53.34},{"$f":"'Means parameters'!H18","v":53.13},{"$f":"'Means parameters'!I18","v":53.03},{"$f":"'Means parameters'!J18","v":52.84},{"$f":"'Means parameters'!K18","v":52.18},null,18,null,"Female",{"$f":"IF(sex=P19,1,0)","v":0},{"$f":"INDIRECT(\"'\"&$Q$6&\" parameters'!\"&R$6&$N19)","v":-0.71360000000000001},{"$f":"INDIRECT(\"'\"&$Q$6&\" parameters'!\"&S$6&$N19)","v":-0.69650000000000001},{"$f":"INDIRECT(\"'\"&$Q$6&\" parameters'!\"&T$6&$N19)","v":-0.6099},{"$f":"INDIRECT(\"'\"&$Q$6&\" parameters'!\"&U$6&$N19)","v":-0.52059999999999995},{"$f":"INDIRECT(\"'\"&$Q$6&\" parameters'!\"&V$6&$N19)","v":-0.48809999999999998},{"$f":"INDIRECT(\"'\"&$Q$6&\" parameters'!\"&W$6&$N19)","v":-0.39360000000000001},{"$f":"INDIRECT(\"'\"&$Q$6&\" parameters'!\"&X$6&$N19)","v":-0.499},{"$f":"INDIRECT(\"'\"&$Q$6&\" parameters'!\"&Y$6&$N19)","v":-0.55940000000000001},{"$f":"INDIRECT(\"'\"&$Q$6&\" parameters'!\"&Z$6&$N19)","v":-0.49530000000000002},null,null,"Female",-0.38748479999999996,-0.37764230000000004,-0.32885808,-0.27924983999999997,-0.26035253999999997,-0.20911968,-0.26461970000000001,-0.29558696000000001,-0.25844754000000003,null,null,null,null,null,null,null,null,null,null,null,null,null,null,null,null,null,null,null,null,null,null,null,null,null,null,null,null,null,null,null,null,null,null,null,null,null,null,null,null,null,null,null,null,null,"Deaths",{"$f":"CG5","v":56000},21500,20000,22500,17500,18500,{"$f":"CO5","v":155000},null,null,null,"MI years",{"$f":"CR5","v":4},{"$f":"CS5","v":4},4,4,2.5,{"$f":"SUM(CW5:CY5)","v":6}]
[null,"Smoker status","Never",0,0,0,{"$f":"'Means parameters'!F19","v":23.03},{"$f":"'Means parameters'!G19","v":29.37},{"$f":"'Means parameters'!H19","v":39.14},{"$f":"'Means parameters'!I19","v":19.43},{"$f":"'Means parameters'!J19","v":21.08},0,null,19,"Smoker status","Never",{"$f":"IF(smoker_status=P20,1,0)","v":0},{"$f":"INDIRECT(\"'\"&$Q$6&\" parameters'!\"&R$6&$N20)","v":0},{"$f":"INDIRECT(\"'\"&$Q$6&\" parameters'!\"&S$6&$N20)","v":0},{"$f":"INDIRECT(\"'\"&$Q$6&\" parameters'!\"&T$6&$N20)","v":0},{"$f":"INDIRECT(\"'\"&$Q$6&\" parameters'!\"&U$6&$N20)","v":-0.27629999999999999},{"$f":"INDIRECT(\"'\"&$Q$6&\" parameters'!\"&V$6&$N20)","v":-0.2291},{"$f":"INDIRECT(\"'\"&$Q$6&\" parameters'!\"&W$6&$N20)","v":-0.20949999999999999},{"$f":"INDIRECT(\"'\"&$Q$6&\" parameters'!\"&X$6&$N20)","v":-0.3196},{"$f":"INDIRECT(\"'\"&$Q$6&\" parameters'!\"&Y$6&$N20)","v":-0.70889999999999997},{"$f":"INDIRECT(\"'\"&$Q$6&\" parameters'!\"&Z$6&$N20)","v":0},null,"Smoker status","Never",0,0,0,-6.3631889999999997E-2,-6.7286670000000007E-2,-8.1998299999999996E-2,-6.2098279999999999E-2,-0.14943611999999998,0,null,null,null,null,null,null,null,null,null,null,null,null,null,null,null,null,null,null,null,null,null,null,null,null,null,null,null,null,null,null,null,null,null,null,"Modeled mortality (pulmonary and stroke)",null,null,null,null,null,null,null,null,null,null,"Smoothed mortality (pulmonary and stroke)",null,null,null,null,null,null,null,null,null,null,"Mortality improvement (Pulmonary and Stroke)"]
[null,"","Current",0,0,0,{"$f":"'Means parameters'!F20","v":9.82},{"$f":"'Means parameters'!G20","v":11.2},{"$f":"'Means parameters'!H20","v":13.27},{"$f":"'Means parameters'!I20","v":5.5},{"$f":"'Means parameters'!J20","v":4.8600000000000003},0,null,20,"","Current",{"$f":"IF(smoker_status=P21,1,0)","v":0},{"$f":"INDIRECT(\"'\"&$Q$6&\" parameters'!\"&R$6&$N21)","v":0},{"$f":"INDIRECT(\"'\"&$Q$6&\" parameters'!\"&S$6&$N21)","v":0},{"$f":"INDIRECT(\"'\"&$Q$6&\" parameters'!\"&T$6&$N21)","v":0},{"$f":"INDIRECT(\"'\"&$Q$6&\" parameters'!\"&U$6&$N21)","v":0.38200000000000001},{"$f":"INDIRECT(\"'\"&$Q$6&\" parameters'!\"&V$6&$N21)","v":0.4491},{"$f":"INDIRECT(\"'\"&$Q$6&\" parameters'!\"&W$6&$N21)","v":0.4955},{"$f":"INDIRECT(\"'\"&$Q$6&\" parameters'!\"&X$6&$N21)","v":0.38800000000000001},{"$f":"INDIRECT(\"'\"&$Q$6&\" parameters'!\"&Y$6&$N21)","v":-1.09E-2},{"$f":"INDIRECT(\"'\"&$Q$6&\" parameters'!\"&Z$6&$N21)","v":0},null,"","Current",0,0,0,3.7512400000000001E-2,5.0299199999999995E-2,6.5752849999999988E-2,2.1340000000000001E-2,-5.2974000000000001E-4,0,null,null,null,null,null,null,null,null,null,null,null,null,null,null,null,null,null,null,null,null,null,null,null,null,null,null,null,null,null,null,null,null,null,null,null,"1980-1983","1984-1987","1988-1991","1992-1995","1996-1999","2000-2003","2008-11 (MDAC)",null,null,null,null,"1980-1983","1984-1987","1988-1991","1992-1995","1996-1999","2000-2003","2008-11 (MDAC)",null,null,null,null,"1987.5-1991.5","1991.5-1995.5","1995.5-1999.5","1999.5-2003.5","2003.5-2006","2006-2012"]
[null,"","Former",0,0,0,{"$f":"'Means parameters'!F21","v":15.29},{"$f":"'Means parameters'!G21","v":17.38},{"$f":"'Means parameters'!H21","v":21.71},{"$f":"'Means parameters'!I21","v":9.0399999999999991},{"$f":"'Means parameters'!J21","v":8.31},0,null,21,"","Former",{"$f":"IF(smoker_status=P22,1,0)","v":0},{"$f":"INDIRECT(\"'\"&$Q$6&\" parameters'!\"&R$6&$N22)","v":0},{"$f":"INDIRECT(\"'\"&$Q$6&\" parameters'!\"&S$6&$N22)","v":0},{"$f":"INDIRECT(\"'\"&$Q$6&\" parameters'!\"&T$6&$N22)","v":0},{"$f":"INDIRECT(\"'\"&$Q$6&\" parameters'!\"&U$6&$N22)","v":-3.1699999999999999E-2},{"$f":"INDIRECT(\"'\"&$Q$6&\" parameters'!\"&V$6&$N22)","v":3.2300000000000002E-2},{"$f":"INDIRECT(\"'\"&$Q$6&\" parameters'!\"&W$6&$N22)","v":7.3599999999999999E-2},{"$f":"INDIRECT(\"'\"&$Q$6&\" parameters'!\"&X$6&$N22)","v":-2.98E-2},{"$f":"INDIRECT(\"'\"&$Q$6&\" parameters'!\"&Y$6&$N22)","v":-0.65059999999999996},{"$f":"INDIRECT(\"'\"&$Q$6&\" parameters'!\"&Z$6&$N22)","v":0},null,"","Former",0,0,0,-4.8469299999999993E-3,5.6137399999999999E-3,1.5978559999999999E-2,-2.6939199999999998E-3,-5.4064859999999999E-2,0,null,null,null,null,null,null,null,null,null,null,null,null,null,null,null,null,null,null,null,null,null,null,null,null,null,null,null,null,null,null,null,null,null,null,"40-44",{"$f":"BV8","v":5.0158958126954086E-3},5.5726295544009756E-3,5.1769968094485218E-3,4.7729304589031376E-3,3.910944441998767E-3,4.2485908844602759E-3,{"$f":"CD8","v":3.6485061454038042E-3},null,null,null,"40-44",{"$f":"GRADRANGE(BV22:CB22,$CG$19:$CM$19,$CG$3,$CG$4)","v":5.1330410367643985E-3},5.1442091787018401E-3,5.0276136041794671E-3,4.79801988484842E-3,4.4789924956162314E-3,4.0902035003557357E-3,3.6360118435902942E-3,null,null,null,"40-44",{"$f":"1-(CH22/CG22)^(1/CR$19)","v":-5.4349075465931485E-4},{"$f":"1-(CI22/CH22)^(1/CS$19)","v":5.7151589225302724E-3},1.1617521873959036E-2,1.7054196630775786E-2,3.5669656355230117E-2,1.9426703367004805E-2]
[null,null,"Not Asked",0,0,0,{"$f":"'Means parameters'!F22","v":51.86},{"$f":"'Means parameters'!G22","v":42.05},{"$f":"'Means parameters'!H22","v":25.89},{"$f":"'Means parameters'!I22","v":66.03},{"$f":"'Means parameters'!J22","v":65.739999999999995},0,null,22,null,"Not Asked",{"$f":"IF(smoker_status=P23,1,0)","v":1},{"$f":"INDIRECT(\"'\"&$Q$6&\" parameters'!\"&R$6&$N23)","v":0},{"$f":"INDIRECT(\"'\"&$Q$6&\" parameters'!\"&S$6&$N23)","v":0},{"$f":"INDIRECT(\"'\"&$Q$6&\" parameters'!\"&T$6&$N23)","v":0},{"$f":"INDIRECT(\"'\"&$Q$6&\" parameters'!\"&U$6&$N23)","v":0},{"$f":"INDIRECT(\"'\"&$Q$6&\" parameters'!\"&V$6&$N23)","v":0},{"$f":"INDIRECT(\"'\"&$Q$6&\" parameters'!\"&W$6&$N23)","v":0},{"$f":"INDIRECT(\"'\"&$Q$6&\" parameters'!\"&X$6&$N23)","v":0},{"$f":"INDIRECT(\"'\"&$Q$6&\" parameters'!\"&Y$6&$N23)","v":0},{"$f":"INDIRECT(\"'\"&$Q$6&\" parameters'!\"&Z$6&$N23)","v":0},null,null,"Not Asked",0,0,0,0,0,0,0,0,0,null,null,null,null,null,null,null,null,null,null,null,null,null,null,null,null,null,null,null,null,null,null,null,null,null,null,null,null,null,null,null,null,null,null,"45-49",7.8743609492801965E-3,8.0596250444016186E-3,8.1191471805018411E-3,7.227986234320782E-3,6.10909650115617E-3,6.016991426524133E-3,5.3565376663233201E-3,null,null,null,"45-49",{"$f":"GRADRANGE(BV23:CB23,$CG$19:$CM$19,$CG$3,$CG$4)","v":7.9690315543311623E-3},7.8961800776661158E-3,7.6513478035163431E-3,7.2464674898175289E-3,6.7094279352983748E-3,6.0670387694833003E-3,5.3289311905217332E-3,null,null,null,"45-49",{"$f":"1-(CH23/CG23)^(1/CR$19)","v":2.2933327806792247E-3},{"$f":"1-(CI23/CH23)^(1/CS$19)","v":7.8434018011092066E-3},{"$f":"1-(CJ23/CI23)^(1/CT$19)","v":1.3499973948217558E-2},{"$f":"1-(CK23/CJ23)^(1/CU$19)","v":1.9066003841938017E-2},{"$f":"1-(CL23/CK23)^(1/CV$19)","v":3.9457664341151055E-2},{"$f":"1-(CM23/CL23)^(1/CW$19)","v":2.1387954572880452E-2}]
[null,"Income Decile",1,{"$f":"'Means parameters'!C28","v":12.08},{"$f":"'Means parameters'!D28","v":10.33},{"$f":"'Means parameters'!E28","v":9.4700000000000006},{"$f":"'Means parameters'!F28","v":10.18},{"$f":"'Means parameters'!G28","v":9.3000000000000007},{"$f":"'Means parameters'!H28","v":9.02},{"$f":"'Means parameters'!I28","v":9.5},{"$f":"'Means parameters'!J28","v":9.49},{"$f":"'Means parameters'!K28","v":5.36},null,28,"Income Decile",1,{"$f":"IF(income_decile=P24,1,0)","v":0},{"$f":"INDIRECT(\"'\"&$Q$6&\" parameters'!\"&R$6&$N24)","v":0.31290000000000001},{"$f":"INDIRECT(\"'\"&$Q$6&\" parameters'!\"&S$6&$N24)","v":0.25230000000000002},{"$f":"INDIRECT(\"'\"&$Q$6&\" parameters'!\"&T$6&$N24)","v":0.40360000000000001},{"$f":"INDIRECT(\"'\"&$Q$6&\" parameters'!\"&U$6&$N24)","v":0.24329999999999999},{"$f":"INDIRECT(\"'\"&$Q$6&\" parameters'!\"&V$6&$N24)","v":0.4073},{"$f":"INDIRECT(\"'\"&$Q$6&\" parameters'!\"&W$6&$N24)","v":0.2039},{"$f":"INDIRECT(\"'\"&$Q$6&\" parameters'!\"&X$6&$N24)","v":0.29120000000000001},{"$f":"INDIRECT(\"'\"&$Q$6&\" parameters'!\"&Y$6&$N24)","v":0.32969999999999999},{"$f":"INDIRECT(\"'\"&$Q$6&\" parameters'!\"&Z$6&$N24)","v":0.35749999999999998},null,"Income Decile",1,3.7798320000000003E-2,2.6062590000000004E-2,3.8220920000000005E-2,2.4767939999999999E-2,3.7878900000000007E-2,1.839178E-2,2.7664000000000001E-2,3.1288530000000002E-2,1.9161999999999998E-2,null,null,null,null,null,null,null,null,null,null,null,null,null,null,null,null,null,null,null,null,null,null,null,null,null,null,null,null,null,null,null,null,null,null,"50-54",1.2243706282672214E-2,1.3424307213981912E-2,1.1809745986364127E-2,1.1716059040226167E-2,8.4890652156543647E-3,8.360241977558084E-3,7.9726569695826189E-3,null,null,null,"50-54",{"$f":"GRADRANGE(BV24:CB24,$CG$19:$CM$19,$CG$3,$CG$4)","v":1.2562581661666374E-2},1.2304940071597298E-2,1.1766824929863562E-2,1.0988428888737094E-2,1.0036161173545317E-2,8.9867393658630574E-3,7.8744317497721119E-3,null,null,null,"50-54",5.1670726779834419E-3,1.1116917325469378E-2,1.6964780944834112E-2,2.2407173055689955E-2,4.3216212430863266E-2,2.1780807267866908E-2]
[null,null,2,{"$f":"'Means parameters'!C29","v":15.16},{"$f":"'Means parameters'!D29","v":11.1},{"$f":"'Means parameters'!E29","v":10.41},{"$f":"'Means parameters'!F29","v":11.06},{"$f":"'Means parameters'!G29","v":10.57},{"$f":"'Means parameters'!H29","v":10.3},{"$f":"'Means parameters'!I29","v":10.32},{"$f":"'Means parameters'!J29","v":10.23},{"$f":"'Means parameters'!K29","v":8.44},null,29,null,2,0,{"$f":"INDIRECT(\"'\"&$Q$6&\" parameters'!\"&R$6&$N25)","v":0.3221},{"$f":"INDIRECT(\"'\"&$Q$6&\" parameters'!\"&S$6&$N25)","v":0.26169999999999999},{"$f":"INDIRECT(\"'\"&$Q$6&\" parameters'!\"&T$6&$N25)","v":0.41439999999999999},{"$f":"INDIRECT(\"'\"&$Q$6&\" parameters'!\"&U$6&$N25)","v":0.22070000000000001},{"$f":"INDIRECT(\"'\"&$Q$6&\" parameters'!\"&V$6&$N25)","v":0.35649999999999998},{"$f":"INDIRECT(\"'\"&$Q$6&\" parameters'!\"&W$6&$N25)","v":0.24540000000000001},{"$f":"INDIRECT(\"'\"&$Q$6&\" parameters'!\"&X$6&$N25)","v":0.2346},{"$f":"INDIRECT(\"'\"&$Q$6&\" parameters'!\"&Y$6&$N25)","v":0.25230000000000002},{"$f":"INDIRECT(\"'\"&$Q$6&\" parameters'!\"&Z$6&$N25)","v":0.38080000000000003},null,null,2,4.8830360000000003E-2,2.90487E-2,4.3139039999999997E-2,2.4409420000000001E-2,3.7682050000000002E-2,2.5276200000000002E-2,2.4210720000000002E-2,2.5810290000000003E-2,3.2139519999999998E-2,null,null,null,null,null,null,null,null,null,null,null,null,null,null,null,null,null,null,null,null,null,null,null,null,null,null,null,null,null,null,null,null,null,null,"55-59",1.7787785824389984E-2,1.9781893208606703E-2,1.8262049735381456E-2,1.6645842211827983E-2,1.3512009601531172E-2,1.2063536269912301E-2,1.0974976399663742E-2,null,null,null,"55-59",{"$f":"GRADRANGE(BV25:CB25,$CG$19:$CM$19,$CG$3,$CG$4)","v":1.8249841990438168E-2},1.8245249579286627E-2,1.764683878203227E-2,1.6512849475553204E-2,1.494363959716777E-2,1.3037868944444701E-2,1.0841947812324051E-2,null,null,null,"55-59",6.2916223910636226E-5,8.302365314647342E-3,1.6467362739878699E-2,2.4654261650575382E-2,5.3108777981608957E-2,3.0271595334300794E-2]
[null,null,3,{"$f":"'Means parameters'!C30","v":9.17},{"$f":"'Means parameters'!D30","v":10.58},{"$f":"'Means parameters'!E30","v":10.43},{"$f":"'Means parameters'!F30","v":10.92},{"$f":"'Means parameters'!G30","v":10.19},{"$f":"'Means parameters'!H30","v":9.8800000000000008},{"$f":"'Means parameters'!I30","v":10.32},{"$f":"'Means parameters'!J30","v":10.28},{"$f":"'Means parameters'!K30","v":9.9499999999999993},null,30,null,3,0,{"$f":"INDIRECT(\"'\"&$Q$6&\" parameters'!\"&R$6&$N26)","v":0.25640000000000002},{"$f":"INDIRECT(\"'\"&$Q$6&\" parameters'!\"&S$6&$N26)","v":0.25119999999999998},{"$f":"INDIRECT(\"'\"&$Q$6&\" parameters'!\"&T$6&$N26)","v":0.30940000000000001},{"$f":"INDIRECT(\"'\"&$Q$6&\" parameters'!\"&U$6&$N26)","v":0.20250000000000001},{"$f":"INDIRECT(\"'\"&$Q$6&\" parameters'!\"&V$6&$N26)","v":0.35680000000000001},{"$f":"INDIRECT(\"'\"&$Q$6&\" parameters'!\"&W$6&$N26)","v":0.16689999999999999},{"$f":"INDIRECT(\"'\"&$Q$6&\" parameters'!\"&X$6&$N26)","v":0.2661},{"$f":"INDIRECT(\"'\"&$Q$6&\" parameters'!\"&Y$6&$N26)","v":0.20469999999999999},{"$f":"INDIRECT(\"'\"&$Q$6&\" parameters'!\"&Z$6&$N26)","v":0.32590000000000002},null,null,3,2.3511880000000002E-2,2.657696E-2,3.2270420000000001E-2,2.2113000000000004E-2,3.6357919999999995E-2,1.6489720000000003E-2,2.746152E-2,2.1043159999999998E-2,3.2427049999999999E-2,null,null,null,null,null,null,null,null,null,null,null,null,null,null,null,null,null,null,null,null,null,null,null,null,null,null,null,null,null,null,null,null,null,null,"60-64",2.404463830319991E-2,2.6066918889150709E-2,2.4066603236532834E-2,2.3170049347295101E-2,1.7677256858299389E-2,1.5121043325222591E-2,1.4140143495119056E-2,null,null,null,"60-64",{"$f":"GRADRANGE(BV26:CB26,$CG$19:$CM$19,$CG$3,$CG$4)","v":2.4558590596175683E-2},2.44963127966547E-2,2.3626654284518003E-2,2.2014396184796624E-2,1.9777876658139744E-2,1.7057962035426911E-2,1.3928492108941825E-2,null,null,null,"60-64",6.3457541033429266E-4,8.9960696780170268E-3,1.7514526452821477E-2,2.6427671664880803E-2,5.7461732624110806E-2,3.3215913585724621E-2]
[null,null,4,{"$f":"'Means parameters'!C31","v":9.7200000000000006},{"$f":"'Means parameters'!D31","v":10.01},{"$f":"'Means parameters'!E31","v":9.8800000000000008},{"$f":"'Means parameters'!F31","v":9.85},{"$f":"'Means parameters'!G31","v":9.67},{"$f":"'Means parameters'!H31","v":9.7100000000000009},{"$f":"'Means parameters'!I31","v":9.3699999999999992},{"$f":"'Means parameters'!J31","v":9.5500000000000007},{"$f":"'Means parameters'!K31","v":11.17},null,31,null,4,0,{"$f":"INDIRECT(\"'\"&$Q$6&\" parameters'!\"&R$6&$N27)","v":0.21590000000000001},{"$f":"INDIRECT(\"'\"&$Q$6&\" parameters'!\"&S$6&$N27)","v":0.17829999999999999},{"$f":"INDIRECT(\"'\"&$Q$6&\" parameters'!\"&T$6&$N27)","v":0.27410000000000001},{"$f":"INDIRECT(\"'\"&$Q$6&\" parameters'!\"&U$6&$N27)","v":0.1535},{"$f":"INDIRECT(\"'\"&$Q$6&\" parameters'!\"&V$6&$N27)","v":0.31440000000000001},{"$f":"INDIRECT(\"'\"&$Q$6&\" parameters'!\"&W$6&$N27)","v":0.15959999999999999},{"$f":"INDIRECT(\"'\"&$Q$6&\" parameters'!\"&X$6&$N27)","v":0.27050000000000002},{"$f":"INDIRECT(\"'\"&$Q$6&\" parameters'!\"&Y$6&$N27)","v":0.15190000000000001},{"$f":"INDIRECT(\"'\"&$Q$6&\" parameters'!\"&Z$6&$N27)","v":0.30590000000000001},null,null,4,2.0985480000000004E-2,1.7847829999999999E-2,2.7081080000000004E-2,1.5119749999999998E-2,3.0402479999999999E-2,1.5497159999999999E-2,2.534585E-2,1.4506450000000001E-2,3.4169029999999996E-2,null,null,null,null,null,null,null,null,null,null,null,null,null,null,null,null,null,null,null,null,null,null,null,null,null,null,null,null,null,null,null,null,null,null,"65-69",3.0042469546469251E-2,3.2748823405645708E-2,3.0332663088650593E-2,3.1815718758278509E-2,2.4356016180958107E-2,2.0792396590858374E-2,1.8417804057234057E-2,null,null,null,"65-69",{"$f":"GRADRANGE(BV27:CB27,$CG$19:$CM$19,$CG$3,$CG$4)","v":3.0440550147694936E-2},3.1372242062966946E-2,3.1017369468766324E-2,2.9426108440874579E-2,2.6682371292786344E-2,2.2918189532887479E-2,1.8207079578870678E-2,null,null,null,"65-69",-7.5654457601572744E-3,2.8399941140326845E-3,1.3079961612423197E-2,2.4172847971532962E-2,5.9015752069300764E-2,3.7627220423479546E-2]
[null,null,5,{"$f":"'Means parameters'!C32","v":10.94},{"$f":"'Means parameters'!D32","v":9.18},{"$f":"'Means parameters'!E32","v":9.34},{"$f":"'Means parameters'!F32","v":9.4700000000000006},{"$f":"'Means parameters'!G32","v":9},{"$f":"'Means parameters'!H32","v":9},{"$f":"'Means parameters'!I32","v":8.69},{"$f":"'Means parameters'!J32","v":8.99},{"$f":"'Means parameters'!K32","v":10.91},null,32,null,5,0,{"$f":"INDIRECT(\"'\"&$Q$6&\" parameters'!\"&R$6&$N28)","v":0.1963},{"$f":"INDIRECT(\"'\"&$Q$6&\" parameters'!\"&S$6&$N28)","v":0.14130000000000001},{"$f":"INDIRECT(\"'\"&$Q$6&\" parameters'!\"&T$6&$N28)","v":0.26989999999999997},{"$f":"INDIRECT(\"'\"&$Q$6&\" parameters'!\"&U$6&$N28)","v":0.1532},{"$f":"INDIRECT(\"'\"&$Q$6&\" parameters'!\"&V$6&$N28)","v":0.29160000000000003},{"$f":"INDIRECT(\"'\"&$Q$6&\" parameters'!\"&W$6&$N28)","v":0.1946},{"$f":"INDIRECT(\"'\"&$Q$6&\" parameters'!\"&X$6&$N28)","v":0.20979999999999999},{"$f":"INDIRECT(\"'\"&$Q$6&\" parameters'!\"&Y$6&$N28)","v":0.2319},{"$f":"INDIRECT(\"'\"&$Q$6&\" parameters'!\"&Z$6&$N28)","v":0.2722},null,null,5,2.147522E-2,1.297134E-2,2.5208659999999997E-2,1.4508040000000002E-2,2.6244E-2,1.7513999999999998E-2,1.8231619999999997E-2,2.0847810000000001E-2,2.9697020000000001E-2,null,null,null,null,null,null,null,null,null,null,null,null,null,null,null,null,null,null,null,null,null,null,null,null,null,null,null,null,null,null,null,null,null,null,"70-74",4.1426137911022003E-2,4.6832014281007882E-2,4.2893706846818605E-2,4.4587808437310986E-2,3.5862023347172575E-2,3.1024815099959722E-2,2.5664733408104844E-2,null,null,null,"70-74",{"$f":"GRADRANGE(BV28:CB28,$CG$19:$CM$19,$CG$3,$CG$4)","v":4.2035195456064565E-2},4.4194636564743595E-2,4.4260504437620037E-2,4.2309567742750694E-2,3.8444503755592919E-2,3.2804566164172357E-2,2.5460875732966522E-2,null,null,null,"70-74",-1.2602799944039678E-2,-3.7239298876645677E-4,1.1206603762844436E-2,2.366486641901222E-2,6.1487598610458938E-2,4.135788067051549E-2]
[null,null,6,{"$f":"'Means parameters'!C33","v":11.06},{"$f":"'Means parameters'!D33","v":9.2799999999999994},{"$f":"'Means parameters'!E33","v":9.25},{"$f":"'Means parameters'!F33","v":8.77},{"$f":"'Means parameters'!G33","v":8.92},{"$f":"'Means parameters'!H33","v":8.64},{"$f":"'Means parameters'!I33","v":8.6300000000000008},{"$f":"'Means parameters'!J33","v":8.48},{"$f":"'Means parameters'!K33","v":10.72},null,33,null,6,0,{"$f":"INDIRECT(\"'\"&$Q$6&\" parameters'!\"&R$6&$N29)","v":0.1661},{"$f":"INDIRECT(\"'\"&$Q$6&\" parameters'!\"&S$6&$N29)","v":0.13819999999999999},{"$f":"INDIRECT(\"'\"&$Q$6&\" parameters'!\"&T$6&$N29)","v":0.25879999999999997},{"$f":"INDIRECT(\"'\"&$Q$6&\" parameters'!\"&U$6&$N29)","v":0.1394},{"$f":"INDIRECT(\"'\"&$Q$6&\" parameters'!\"&V$6&$N29)","v":0.30170000000000002},{"$f":"INDIRECT(\"'\"&$Q$6&\" parameters'!\"&W$6&$N29)","v":5.0299999999999997E-2},{"$f":"INDIRECT(\"'\"&$Q$6&\" parameters'!\"&X$6&$N29)","v":0.20430000000000001},{"$f":"INDIRECT(\"'\"&$Q$6&\" parameters'!\"&Y$6&$N29)","v":0.18509999999999999},{"$f":"INDIRECT(\"'\"&$Q$6&\" parameters'!\"&Z$6&$N29)","v":0.20430000000000001},null,null,6,1.837066E-2,1.2824959999999998E-2,2.3938999999999998E-2,1.2225379999999999E-2,2.6911640000000004E-2,4.3459199999999996E-3,1.7631090000000002E-2,1.5696479999999999E-2,2.1900960000000001E-2,null,null,null,null,null,null,null,null,null,null,null,null,null,null,null,null,null,null,null,null,null,null,null,null,null,null,null,null,null,null,null,null,null,null,"75-79",6.0256595310915373E-2,6.6991586366805397E-2,6.2722806505812134E-2,6.9418990487885759E-2,5.1887550679530957E-2,4.5276465466454682E-2,4.0541162199652314E-2,null,null,null,"75-79",{"$f":"GRADRANGE(BV29:CB29,$CG$19:$CM$19,$CG$3,$CG$4)","v":6.0965647465596629E-2},6.4531601047365925E-2,6.5091709924918348E-2,6.2735346588490282E-2,5.7611584203139526E-2,5.0006163532454274E-2,4.0079979504012903E-2,null,null,null,"75-79",-1.4312581379408273E-2,-2.1628743611981083E-3,9.1756858895375437E-3,2.1075091881389008E-2,5.5057270903443589E-2,3.620650151988114E-2]
[null,null,7,{"$f":"'Means parameters'!C34","v":5.55},{"$f":"'Means parameters'!D34","v":10.51},{"$f":"'Means parameters'!E34","v":10.14},{"$f":"'Means parameters'!F34","v":9.73},{"$f":"'Means parameters'!G34","v":10.06},{"$f":"'Means parameters'!H34","v":9.6199999999999992},{"$f":"'Means parameters'!I34","v":9.61},{"$f":"'Means parameters'!J34","v":9.4},{"$f":"'Means parameters'!K34","v":11.83},null,34,null,7,0,{"$f":"INDIRECT(\"'\"&$Q$6&\" parameters'!\"&R$6&$N30)","v":8.0299999999999996E-2},{"$f":"INDIRECT(\"'\"&$Q$6&\" parameters'!\"&S$6&$N30)","v":3.1E-2},{"$f":"INDIRECT(\"'\"&$Q$6&\" parameters'!\"&T$6&$N30)","v":0.185},{"$f":"INDIRECT(\"'\"&$Q$6&\" parameters'!\"&U$6&$N30)","v":0.1016},{"$f":"INDIRECT(\"'\"&$Q$6&\" parameters'!\"&V$6&$N30)","v":0.23780000000000001},{"$f":"INDIRECT(\"'\"&$Q$6&\" parameters'!\"&W$6&$N30)","v":0.1166},{"$f":"INDIRECT(\"'\"&$Q$6&\" parameters'!\"&X$6&$N30)","v":7.6399999999999996E-2},{"$f":"INDIRECT(\"'\"&$Q$6&\" parameters'!\"&Y$6&$N30)","v":0.16850000000000001},{"$f":"INDIRECT(\"'\"&$Q$6&\" parameters'!\"&Z$6&$N30)","v":0.17169999999999999},null,null,7,4.4566499999999995E-3,3.2580999999999999E-3,1.8759000000000001E-2,9.8856799999999991E-3,2.3922680000000002E-2,1.1216919999999998E-2,7.3420399999999993E-3,1.5839000000000002E-2,2.0312109999999998E-2,null,null,null,null,null,null,null,null,null,null,null,null,null,null,null,null,null,null,null,null,null,null,null,null,null,null,null,null,null,null,null,null,null,null,"80-84",8.5936790525295653E-2,0.1027056402289758,9.2965189964321279E-2,0.10048017739907891,7.585160684644783E-2,6.8620228774753933E-2,6.3644811691538641E-2,null,null,null,"80-84",{"$f":"GRADRANGE(BV30:CB30,$CG$19:$CM$19,$CG$3,$CG$4)","v":8.8170062056547205E-2},9.415690153511766E-2,9.5566507790350627E-2,9.2680373568307439E-2,8.5929284125363201E-2,7.5878218116460769E-2,6.28162423408095E-2,null,null,null,"80-84",-1.6559382299058845E-2,-3.721875471993874E-3,7.6371108005935939E-3,1.8730377345459903E-2,4.8540357166643955E-2,3.0995475291538566E-2]
[null,null,8,{"$f":"'Means parameters'!C35","v":14.63},{"$f":"'Means parameters'!D35","v":8.94},{"$f":"'Means parameters'!E35","v":8.75},{"$f":"'Means parameters'!F35","v":8.91},{"$f":"'Means parameters'!G35","v":8.7899999999999991},{"$f":"'Means parameters'!H35","v":8.84},{"$f":"'Means parameters'!I35","v":8.5500000000000007},{"$f":"'Means parameters'!J35","v":8.5},{"$f":"'Means parameters'!K35","v":9.77},null,35,null,8,0,{"$f":"INDIRECT(\"'\"&$Q$6&\" parameters'!\"&R$6&$N31)","v":0.12},{"$f":"INDIRECT(\"'\"&$Q$6&\" parameters'!\"&S$6&$N31)","v":5.0700000000000002E-2},{"$f":"INDIRECT(\"'\"&$Q$6&\" parameters'!\"&T$6&$N31)","v":0.15740000000000001},{"$f":"INDIRECT(\"'\"&$Q$6&\" parameters'!\"&U$6&$N31)","v":3.2300000000000002E-2},{"$f":"INDIRECT(\"'\"&$Q$6&\" parameters'!\"&V$6&$N31)","v":0.20630000000000001},{"$f":"INDIRECT(\"'\"&$Q$6&\" parameters'!\"&W$6&$N31)","v":8.9800000000000005E-2},{"$f":"INDIRECT(\"'\"&$Q$6&\" parameters'!\"&X$6&$N31)","v":6.25E-2},{"$f":"INDIRECT(\"'\"&$Q$6&\" parameters'!\"&Y$6&$N31)","v":0.17899999999999999},{"$f":"INDIRECT(\"'\"&$Q$6&\" parameters'!\"&Z$6&$N31)","v":0.1174},null,null,8,1.7556000000000002E-2,4.5325799999999996E-3,1.37725E-2,2.8779300000000003E-3,1.813377E-2,7.9383200000000004E-3,5.3437500000000004E-3,1.5215000000000001E-2,1.1469979999999999E-2,null,null,null,null,null,null,null,null,null,null,null,null,null,null,null,null,null,null,null,null,null,null,null,null,null,null,null,null,null,null,null,null,null,null,"85+",0.12629393809466213,0.14545503992247188,0.14008160163463426,0.14373343930910365,0.10893799749886096,0.10114826101865347,0.11119860186562655,null,null,null,"85+",{"$f":"GRADRANGE(BV31:CB31,$CG$19:$CM$19,$CG$3,$CG$4)","v":0.13008146073857599},0.13512196515076241,0.13579930675869145,0.13259088391490786,0.12642885059886536,0.11848470157468902,0.1093895641487492,null,null,null,"85+",-9.5495438866231019E-3,-1.2508551934689027E-3,5.9596165150966884E-3,1.1826664308389634E-2,2.5624319709109278E-2,1.3223188195268687E-2]
[null,null,9,{"$f":"'Means parameters'!C36","v":5.32},{"$f":"'Means parameters'!D36","v":10.85},{"$f":"'Means parameters'!E36","v":11.31},{"$f":"'Means parameters'!F36","v":10.52},{"$f":"'Means parameters'!G36","v":11},{"$f":"'Means parameters'!H36","v":11.44},{"$f":"'Means parameters'!I36","v":11.35},{"$f":"'Means parameters'!J36","v":11.24},{"$f":"'Means parameters'!K36","v":10.92},null,36,null,9,0,{"$f":"INDIRECT(\"'\"&$Q$6&\" parameters'!\"&R$6&$N32)","v":2.4299999999999999E-2},{"$f":"INDIRECT(\"'\"&$Q$6&\" parameters'!\"&S$6&$N32)","v":4.5199999999999997E-2},{"$f":"INDIRECT(\"'\"&$Q$6&\" parameters'!\"&T$6&$N32)","v":0.13070000000000001},{"$f":"INDIRECT(\"'\"&$Q$6&\" parameters'!\"&U$6&$N32)","v":2.6100000000000002E-2},{"$f":"INDIRECT(\"'\"&$Q$6&\" parameters'!\"&V$6&$N32)","v":0.23400000000000001},{"$f":"INDIRECT(\"'\"&$Q$6&\" parameters'!\"&W$6&$N32)","v":6.8500000000000005E-2},{"$f":"INDIRECT(\"'\"&$Q$6&\" parameters'!\"&X$6&$N32)","v":0.1231},{"$f":"INDIRECT(\"'\"&$Q$6&\" parameters'!\"&Y$6&$N32)","v":0.21590000000000001},{"$f":"INDIRECT(\"'\"&$Q$6&\" parameters'!\"&Z$6&$N32)","v":8.6300000000000002E-2},null,null,9,1.29276E-3,4.9042000000000001E-3,1.4782170000000002E-2,2.7457200000000001E-3,2.5740000000000002E-2,7.8364000000000003E-3,1.3971849999999999E-2,2.4267159999999999E-2,9.4239600000000003E-3]
[null,null,10,{"$f":"'Means parameters'!C37","v":6.36},{"$f":"'Means parameters'!D37","v":9.2200000000000006},{"$f":"'Means parameters'!E37","v":11.02},{"$f":"'Means parameters'!F37","v":10.59},{"$f":"'Means parameters'!G37","v":12.5},{"$f":"'Means parameters'!H37","v":13.55},{"$f":"'Means parameters'!I37","v":13.67},{"$f":"'Means parameters'!J37","v":13.85},{"$f":"'Means parameters'!K37","v":10.93},null,37,null,10,1,{"$f":"INDIRECT(\"'\"&$Q$6&\" parameters'!\"&R$6&$N33)","v":0},{"$f":"INDIRECT(\"'\"&$Q$6&\" parameters'!\"&S$6&$N33)","v":0},{"$f":"INDIRECT(\"'\"&$Q$6&\" parameters'!\"&T$6&$N33)","v":0},{"$f":"INDIRECT(\"'\"&$Q$6&\" parameters'!\"&U$6&$N33)","v":0},{"$f":"INDIRECT(\"'\"&$Q$6&\" parameters'!\"&V$6&$N33)","v":0},{"$f":"INDIRECT(\"'\"&$Q$6&\" parameters'!\"&W$6&$N33)","v":0},{"$f":"INDIRECT(\"'\"&$Q$6&\" parameters'!\"&X$6&$N33)","v":0},{"$f":"INDIRECT(\"'\"&$Q$6&\" parameters'!\"&Y$6&$N33)","v":0},{"$f":"INDIRECT(\"'\"&$Q$6&\" parameters'!\"&Z$6&$N33)","v":0},null,null,10,0,0,0,0,0,0,0,0,0]
[null,"Education","No High School diploma",{"$f":"'Means parameters'!C38","v":39.28},{"$f":"'Means parameters'!D38","v":33.93},{"$f":"'Means parameters'!E38","v":28.85},{"$f":"'Means parameters'!F38","v":23.6},{"$f":"'Means parameters'!G38","v":20.329999999999998},{"$f":"'Means parameters'!H38","v":17.7},{"$f":"'Means parameters'!I38","v":16.010000000000002},{"$f":"'Means parameters'!J38","v":13.78},{"$f":"'Means parameters'!K38","v":15.05},null,38,"Education","No High School diploma",{"$f":"IF(education=P34,1,0)","v":0},{"$f":"INDIRECT(\"'\"&$Q$6&\" parameters'!\"&R$6&$N34)","v":0.11210000000000001},{"$f":"INDIRECT(\"'\"&$Q$6&\" parameters'!\"&S$6&$N34)","v":8.77E-2},{"$f":"INDIRECT(\"'\"&$Q$6&\" parameters'!\"&T$6&$N34)","v":9.6600000000000005E-2},{"$f":"INDIRECT(\"'\"&$Q$6&\" parameters'!\"&U$6&$N34)","v":0.16209999999999999},{"$f":"INDIRECT(\"'\"&$Q$6&\" parameters'!\"&V$6&$N34)","v":0.12989999999999999},{"$f":"INDIRECT(\"'\"&$Q$6&\" parameters'!\"&W$6&$N34)","v":0.1149},{"$f":"INDIRECT(\"'\"&$Q$6&\" parameters'!\"&X$6&$N34)","v":7.1400000000000005E-2},{"$f":"INDIRECT(\"'\"&$Q$6&\" parameters'!\"&Y$6&$N34)","v":0.17080000000000001},{"$f":"INDIRECT(\"'\"&$Q$6&\" parameters'!\"&Z$6&$N34)","v":0.1225},null,"Education","No High School diploma",4.4032880000000003E-2,2.9756609999999999E-2,2.7869100000000004E-2,3.8255600000000001E-2,2.6408669999999995E-2,2.0337299999999999E-2,1.1431140000000003E-2,2.3536240000000003E-2,1.8436249999999998E-2]
[null,null,"High School diploma",{"$f":"'Means parameters'!C39","v":35.61},{"$f":"'Means parameters'!D39","v":37.28},{"$f":"'Means parameters'!E39","v":37.81},{"$f":"'Means parameters'!F39","v":34.69},{"$f":"'Means parameters'!G39","v":34.450000000000003},{"$f":"'Means parameters'!H39","v":33.71},{"$f":"'Means parameters'!I39","v":32.979999999999997},{"$f":"'Means parameters'!J39","v":32.65},{"$f":"'Means parameters'!K39","v":30.28},null,39,null,"High School diploma",{"$f":"IF(education=P35,1,0)","v":1},{"$f":"INDIRECT(\"'\"&$Q$6&\" parameters'!\"&R$6&$N35)","v":0},{"$f":"INDIRECT(\"'\"&$Q$6&\" parameters'!\"&S$6&$N35)","v":0},{"$f":"INDIRECT(\"'\"&$Q$6&\" parameters'!\"&T$6&$N35)","v":0},{"$f":"INDIRECT(\"'\"&$Q$6&\" parameters'!\"&U$6&$N35)","v":0},{"$f":"INDIRECT(\"'\"&$Q$6&\" parameters'!\"&V$6&$N35)","v":0},{"$f":"INDIRECT(\"'\"&$Q$6&\" parameters'!\"&W$6&$N35)","v":0},{"$f":"INDIRECT(\"'\"&$Q$6&\" parameters'!\"&X$6&$N35)","v":0},{"$f":"INDIRECT(\"'\"&$Q$6&\" parameters'!\"&Y$6&$N35)","v":0},{"$f":"INDIRECT(\"'\"&$Q$6&\" parameters'!\"&Z$6&$N35)","v":0},null,null,"High School diploma",0,0,0,0,0,0,0,0,0]
[null,null,"Some College/AA",{"$f":"'Means parameters'!C40","v":11.66},{"$f":"'Means parameters'!D40","v":13.38},{"$f":"'Means parameters'!E40","v":15.2},{"$f":"'Means parameters'!F40","v":21.14},{"$f":"'Means parameters'!G40","v":22.45},{"$f":"'Means parameters'!H40","v":24.06},{"$f":"'Means parameters'!I40","v":24.58},{"$f":"'Means parameters'!J40","v":25.28},{"$f":"'Means parameters'!K40","v":28.62},null,40,null,"Some College/AA",{"$f":"IF(education=P36,1,0)","v":0},{"$f":"INDIRECT(\"'\"&$Q$6&\" parameters'!\"&R$6&$N36)","v":7.6E-3},{"$f":"INDIRECT(\"'\"&$Q$6&\" parameters'!\"&S$6&$N36)","v":-4.3999999999999997E-2},{"$f":"INDIRECT(\"'\"&$Q$6&\" parameters'!\"&T$6&$N36)","v":-5.6599999999999998E-2},{"$f":"INDIRECT(\"'\"&$Q$6&\" parameters'!\"&U$6&$N36)","v":-5.5800000000000002E-2},{"$f":"INDIRECT(\"'\"&$Q$6&\" parameters'!\"&V$6&$N36)","v":-5.8799999999999998E-2},{"$f":"INDIRECT(\"'\"&$Q$6&\" parameters'!\"&W$6&$N36)","v":-6.3700000000000007E-2},{"$f":"INDIRECT(\"'\"&$Q$6&\" parameters'!\"&X$6&$N36)","v":-0.11990000000000001},{"$f":"INDIRECT(\"'\"&$Q$6&\" parameters'!\"&Y$6&$N36)","v":-0.12189999999999999},{"$f":"INDIRECT(\"'\"&$Q$6&\" parameters'!\"&Z$6&$N36)","v":-9.4500000000000001E-2},null,null,"Some College/AA",8.8615999999999999E-4,-5.8871999999999996E-3,-8.6032000000000001E-3,-1.179612E-2,-1.32006E-2,-1.532622E-2,-2.9471420000000002E-2,-3.0816320000000001E-2,-2.7045900000000001E-2]
[null,null,"College Degree",{"$f":"'Means parameters'!C41","v":7.57},{"$f":"'Means parameters'!D41","v":8.2100000000000009},{"$f":"'Means parameters'!E41","v":9.57},{"$f":"'Means parameters'!F41","v":12.34},{"$f":"'Means parameters'!G41","v":14.11},{"$f":"'Means parameters'!H41","v":15.15},{"$f":"'Means parameters'!I41","v":16.47},{"$f":"'Means parameters'!J41","v":17.43},{"$f":"'Means parameters'!K41","v":17.09},null,41,null,"College Degree",{"$f":"IF(education=P37,1,0)","v":0},{"$f":"INDIRECT(\"'\"&$Q$6&\" parameters'!\"&R$6&$N37)","v":-9.6600000000000005E-2},{"$f":"INDIRECT(\"'\"&$Q$6&\" parameters'!\"&S$6&$N37)","v":-9.74E-2},{"$f":"INDIRECT(\"'\"&$Q$6&\" parameters'!\"&T$6&$N37)","v":-0.13420000000000001},{"$f":"INDIRECT(\"'\"&$Q$6&\" parameters'!\"&U$6&$N37)","v":-0.1021},{"$f":"INDIRECT(\"'\"&$Q$6&\" parameters'!\"&V$6&$N37)","v":-0.15140000000000001},{"$f":"INDIRECT(\"'\"&$Q$6&\" parameters'!\"&W$6&$N37)","v":-0.16139999999999999},{"$f":"INDIRECT(\"'\"&$Q$6&\" parameters'!\"&X$6&$N37)","v":-0.2762},{"$f":"INDIRECT(\"'\"&$Q$6&\" parameters'!\"&Y$6&$N37)","v":-0.30370000000000003},{"$f":"INDIRECT(\"'\"&$Q$6&\" parameters'!\"&Z$6&$N37)","v":-0.27679999999999999},null,null,"College Degree",-7.3126200000000006E-3,-7.9965399999999999E-3,-1.2842940000000002E-2,-1.2599139999999998E-2,-2.1362540000000003E-2,-2.4452099999999997E-2,-4.5490139999999998E-2,-5.2934910000000009E-2,-4.7305119999999999E-2]
[null,null,"Graduate Degree",{"$f":"'Means parameters'!C42","v":5.88},{"$f":"'Means parameters'!D42","v":7.2},{"$f":"'Means parameters'!E42","v":8.58},{"$f":"'Means parameters'!F42","v":8.23},{"$f":"'Means parameters'!G42","v":8.65},{"$f":"'Means parameters'!H42","v":9.3699999999999992},{"$f":"'Means parameters'!I42","v":9.9600000000000009},{"$f":"'Means parameters'!J42","v":10.85},{"$f":"'Means parameters'!K42","v":8.9600000000000009},null,42,null,"Graduate Degree",{"$f":"IF(education=P38,1,0)","v":0},{"$f":"INDIRECT(\"'\"&$Q$6&\" parameters'!\"&R$6&$N38)","v":-0.18379999999999999},{"$f":"INDIRECT(\"'\"&$Q$6&\" parameters'!\"&S$6&$N38)","v":-0.2228},{"$f":"INDIRECT(\"'\"&$Q$6&\" parameters'!\"&T$6&$N38)","v":-0.20180000000000001},{"$f":"INDIRECT(\"'\"&$Q$6&\" parameters'!\"&U$6&$N38)","v":-0.1474},{"$f":"INDIRECT(\"'\"&$Q$6&\" parameters'!\"&V$6&$N38)","v":-0.27039999999999997},{"$f":"INDIRECT(\"'\"&$Q$6&\" parameters'!\"&W$6&$N38)","v":-0.28029999999999999},{"$f":"INDIRECT(\"'\"&$Q$6&\" parameters'!\"&X$6&$N38)","v":-0.33879999999999999},{"$f":"INDIRECT(\"'\"&$Q$6&\" parameters'!\"&Y$6&$N38)","v":-0.35799999999999998},{"$f":"INDIRECT(\"'\"&$Q$6&\" parameters'!\"&Z$6&$N38)","v":-0.35049999999999998},null,null,"Graduate Degree",-1.080744E-2,-1.6041600000000003E-2,-1.731444E-2,-1.2131019999999999E-2,-2.33896E-2,-2.6264109999999997E-2,-3.374448E-2,-3.8842999999999996E-2,-3.1404800000000004E-2]
[null,"Ethnicity/Race","White Non-Hispanic",{"$f":"'Means parameters'!C43","v":83.48},{"$f":"'Means parameters'!D43","v":41.05},{"$f":"'Means parameters'!E43","v":78.680000000000007},{"$f":"'Means parameters'!F43","v":78.02},{"$f":"'Means parameters'!G43","v":76.13},{"$f":"'Means parameters'!H43","v":74.67},{"$f":"'Means parameters'!I43","v":74.86},{"$f":"'Means parameters'!J43","v":73.06},{"$f":"'Means parameters'!K43","v":73.08},null,43,"Ethnicity/Race","White Non-Hispanic",{"$f":"IF(race=P39,1,0)","v":1},{"$f":"INDIRECT(\"'\"&$Q$6&\" parameters'!\"&R$6&$N39)","v":0},{"$f":"INDIRECT(\"'\"&$Q$6&\" parameters'!\"&S$6&$N39)","v":0},{"$f":"INDIRECT(\"'\"&$Q$6&\" parameters'!\"&T$6&$N39)","v":0},{"$f":"INDIRECT(\"'\"&$Q$6&\" parameters'!\"&U$6&$N39)","v":0},{"$f":"INDIRECT(\"'\"&$Q$6&\" parameters'!\"&V$6&$N39)","v":0},{"$f":"INDIRECT(\"'\"&$Q$6&\" parameters'!\"&W$6&$N39)","v":0},{"$f":"INDIRECT(\"'\"&$Q$6&\" parameters'!\"&X$6&$N39)","v":0},{"$f":"INDIRECT(\"'\"&$Q$6&\" parameters'!\"&Y$6&$N39)","v":0},{"$f":"INDIRECT(\"'\"&$Q$6&\" parameters'!\"&Z$6&$N39)","v":0},null,"Ethnicity/Race","White Non-Hispanic",0,0,0,0,0,0,0,0,0]
[null,null,"Black Non-Hispanic",{"$f":"'Means parameters'!C44","v":9.2799999999999994},{"$f":"'Means parameters'!D44","v":4.74},{"$f":"'Means parameters'!E44","v":9.4},{"$f":"'Means parameters'!F44","v":9.64},{"$f":"'Means parameters'!G44","v":9.94},{"$f":"'Means parameters'!H44","v":9.8000000000000007},{"$f":"'Means parameters'!I44","v":10.24},{"$f":"'Means parameters'!J44","v":10.42},{"$f":"'Means parameters'!K44","v":9.7100000000000009},null,44,null,"Black Non-Hispanic",{"$f":"IF(race=P40,1,0)","v":0},{"$f":"INDIRECT(\"'\"&$Q$6&\" parameters'!\"&R$6&$N40)","v":0.1013},{"$f":"INDIRECT(\"'\"&$Q$6&\" parameters'!\"&S$6&$N40)","v":6.6000000000000003E-2},{"$f":"INDIRECT(\"'\"&$Q$6&\" parameters'!\"&T$6&$N40)","v":0.12590000000000001},{"$f":"INDIRECT(\"'\"&$Q$6&\" parameters'!\"&U$6&$N40)","v":9.6299999999999997E-2},{"$f":"INDIRECT(\"'\"&$Q$6&\" parameters'!\"&V$6&$N40)","v":4.0000000000000001E-3},{"$f":"INDIRECT(\"'\"&$Q$6&\" parameters'!\"&W$6&$N40)","v":2.8899999999999999E-2},{"$f":"INDIRECT(\"'\"&$Q$6&\" parameters'!\"&X$6&$N40)","v":2.9999999999999997E-4},{"$f":"INDIRECT(\"'\"&$Q$6&\" parameters'!\"&Y$6&$N40)","v":-6.08E-2},{"$f":"INDIRECT(\"'\"&$Q$6&\" parameters'!\"&Z$6&$N40)","v":-5.2200000000000003E-2},null,null,"Black Non-Hispanic",9.40064E-3,3.1284000000000004E-3,1.1834600000000001E-2,9.2833199999999994E-3,3.9759999999999996E-4,2.8322E-3,3.0719999999999997E-5,-6.3353599999999999E-3,-5.0686200000000002E-3]
[null,null,"Asian Non-Hispanic",{"$f":"'Means parameters'!C45","v":1.37},{"$f":"'Means parameters'!D45","v":0.78},{"$f":"'Means parameters'!E45","v":2.11},{"$f":"'Means parameters'!F45","v":2.37},{"$f":"'Means parameters'!G45","v":3.01},{"$f":"'Means parameters'!H45","v":3.58},{"$f":"'Means parameters'!I45","v":3.93},{"$f":"'Means parameters'!J45","v":4.26},{"$f":"'Means parameters'!K45","v":4.79},null,45,null,"Asian Non-Hispanic",{"$f":"IF(race=P41,1,0)","v":0},{"$f":"INDIRECT(\"'\"&$Q$6&\" parameters'!\"&R$6&$N41)","v":-0.45140000000000002},{"$f":"INDIRECT(\"'\"&$Q$6&\" parameters'!\"&S$6&$N41)","v":-0.55700000000000005},{"$f":"INDIRECT(\"'\"&$Q$6&\" parameters'!\"&T$6&$N41)","v":-0.41199999999999998},{"$f":"INDIRECT(\"'\"&$Q$6&\" parameters'!\"&U$6&$N41)","v":-0.54710000000000003},{"$f":"INDIRECT(\"'\"&$Q$6&\" parameters'!\"&V$6&$N41)","v":-0.57299999999999995},{"$f":"INDIRECT(\"'\"&$Q$6&\" parameters'!\"&W$6&$N41)","v":-0.43459999999999999},{"$f":"INDIRECT(\"'\"&$Q$6&\" parameters'!\"&X$6&$N41)","v":-0.59530000000000005},{"$f":"INDIRECT(\"'\"&$Q$6&\" parameters'!\"&Y$6&$N41)","v":-0.7994},{"$f":"INDIRECT(\"'\"&$Q$6&\" parameters'!\"&Z$6&$N41)","v":-0.20810000000000001},null,null,"Asian Non-Hispanic",-6.1841800000000001E-3,-4.3446000000000005E-3,-8.6931999999999982E-3,-1.2966270000000002E-2,-1.7247299999999997E-2,-1.5558679999999998E-2,-2.3395290000000003E-2,-3.4054439999999998E-2,-9.9679899999999995E-3]
[null,null,"Hispanic",{"$f":"'Means parameters'!C46","v":3.6},{"$f":"'Means parameters'!D46","v":4.4400000000000004},{"$f":"'Means parameters'!E46","v":5.17},{"$f":"'Means parameters'!F46","v":6.27},{"$f":"'Means parameters'!G46","v":7.08},{"$f":"'Means parameters'!H46","v":7.94},{"$f":"'Means parameters'!I46","v":9.59},{"$f":"'Means parameters'!J46","v":10.81},{"$f":"'Means parameters'!K46","v":10.98},null,46,null,"Hispanic",{"$f":"IF(race=P42,1,0)","v":0},{"$f":"INDIRECT(\"'\"&$Q$6&\" parameters'!\"&R$6&$N42)","v":-0.41410000000000002},{"$f":"INDIRECT(\"'\"&$Q$6&\" parameters'!\"&S$6&$N42)","v":-0.32240000000000002},{"$f":"INDIRECT(\"'\"&$Q$6&\" parameters'!\"&T$6&$N42)","v":-0.22020000000000001},{"$f":"INDIRECT(\"'\"&$Q$6&\" parameters'!\"&U$6&$N42)","v":-0.42820000000000003},{"$f":"INDIRECT(\"'\"&$Q$6&\" parameters'!\"&V$6&$N42)","v":-0.53700000000000003},{"$f":"INDIRECT(\"'\"&$Q$6&\" parameters'!\"&W$6&$N42)","v":-0.5615},{"$f":"INDIRECT(\"'\"&$Q$6&\" parameters'!\"&X$6&$N42)","v":-0.44629999999999997},{"$f":"INDIRECT(\"'\"&$Q$6&\" parameters'!\"&Y$6&$N42)","v":-0.48570000000000002},{"$f":"INDIRECT(\"'\"&$Q$6&\" parameters'!\"&Z$6&$N42)","v":-0.44540000000000002},null,null,"Hispanic",-1.4907600000000002E-2,-1.4314560000000002E-2,-1.138434E-2,-2.684814E-2,-3.8019600000000001E-2,-4.4583100000000001E-2,-4.2800169999999998E-2,-5.2504170000000003E-2,-4.8904920000000004E-2]
[null,null,"Other Non-Hispanic",{"$f":"'Means parameters'!C47","v":2.2799999999999998},{"$f":"'Means parameters'!D47","v":48.99},{"$f":"'Means parameters'!E47","v":4.6399999999999997},{"$f":"'Means parameters'!F47","v":3.7},{"$f":"'Means parameters'!G47","v":3.84},{"$f":"'Means parameters'!H47","v":4},{"$f":"'Means parameters'!I47","v":1.39},{"$f":"'Means parameters'!J47","v":1.44},{"$f":"'Means parameters'!K47","v":1.45},null,47,null,"Other Non-Hispanic",{"$f":"IF(race=P43,1,0)","v":0},{"$f":"INDIRECT(\"'\"&$Q$6&\" parameters'!\"&R$6&$N43)","v":-2.1000000000000001E-2},{"$f":"INDIRECT(\"'\"&$Q$6&\" parameters'!\"&S$6&$N43)","v":-9.1999999999999998E-2},{"$f":"INDIRECT(\"'\"&$Q$6&\" parameters'!\"&T$6&$N43)","v":8.9999999999999998E-4},{"$f":"INDIRECT(\"'\"&$Q$6&\" parameters'!\"&U$6&$N43)","v":-3.6900000000000002E-2},{"$f":"INDIRECT(\"'\"&$Q$6&\" parameters'!\"&V$6&$N43)","v":-8.4199999999999997E-2},{"$f":"INDIRECT(\"'\"&$Q$6&\" parameters'!\"&W$6&$N43)","v":2.5399999999999999E-2},{"$f":"INDIRECT(\"'\"&$Q$6&\" parameters'!\"&X$6&$N43)","v":0.27279999999999999},{"$f":"INDIRECT(\"'\"&$Q$6&\" parameters'!\"&Y$6&$N43)","v":7.4899999999999994E-2},{"$f":"INDIRECT(\"'\"&$Q$6&\" parameters'!\"&Z$6&$N43)","v":2.63E-2},null,null,"Other Non-Hispanic",-4.7879999999999998E-4,-4.5070800000000001E-2,4.1759999999999993E-5,-1.3653000000000003E-3,-3.2332799999999994E-3,1.016E-3,3.7919199999999994E-3,1.0785599999999999E-3,3.8134999999999997E-4]
[null,"Employment","Employed",{"$f":"'Means parameters'!C48","v":49.42},{"$f":"'Means parameters'!D48","v":49.19},{"$f":"'Means parameters'!E48","v":52.19},{"$f":"'Means parameters'!F48","v":53.27},{"$f":"'Means parameters'!G48","v":56.37},{"$f":"'Means parameters'!H48","v":57.9},{"$f":"'Means parameters'!I48","v":58.02},{"$f":"'Means parameters'!J48","v":56.57},{"$f":"'Means parameters'!K48","v":60.5},null,48,"Employment","Employed",{"$f":"IF(employment_status=P44,1,0)","v":1},{"$f":"INDIRECT(\"'\"&$Q$6&\" parameters'!\"&R$6&$N44)","v":0},{"$f":"INDIRECT(\"'\"&$Q$6&\" parameters'!\"&S$6&$N44)","v":0},{"$f":"INDIRECT(\"'\"&$Q$6&\" parameters'!\"&T$6&$N44)","v":0},{"$f":"INDIRECT(\"'\"&$Q$6&\" parameters'!\"&U$6&$N44)","v":0},{"$f":"INDIRECT(\"'\"&$Q$6&\" parameters'!\"&V$6&$N44)","v":0},{"$f":"INDIRECT(\"'\"&$Q$6&\" parameters'!\"&W$6&$N44)","v":0},{"$f":"INDIRECT(\"'\"&$Q$6&\" parameters'!\"&X$6&$N44)","v":0},{"$f":"INDIRECT(\"'\"&$Q$6&\" parameters'!\"&Y$6&$N44)","v":0},{"$f":"INDIRECT(\"'\"&$Q$6&\" parameters'!\"&Z$6&$N44)","v":0},null,"Employment","Employed",0,0,0,0,0,0,0,0,0]
[null,null,"Unemployed",{"$f":"'Means parameters'!C49","v":2.4900000000000002},{"$f":"'Means parameters'!D49","v":2.58},{"$f":"'Means parameters'!E49","v":2.16},{"$f":"'Means parameters'!F49","v":2.65},{"$f":"'Means parameters'!G49","v":1.62},{"$f":"'Means parameters'!H49","v":1.9},{"$f":"'Means parameters'!I49","v":1.96},{"$f":"'Means parameters'!J49","v":3.56},{"$f":"'Means parameters'!K49","v":2.63},null,49,null,"Unemployed",{"$f":"IF(employment_status=P45,1,0)","v":0},{"$f":"INDIRECT(\"'\"&$Q$6&\" parameters'!\"&R$6&$N45)","v":0.17549999999999999},{"$f":"INDIRECT(\"'\"&$Q$6&\" parameters'!\"&S$6&$N45)","v":0.17810000000000001},{"$f":"INDIRECT(\"'\"&$Q$6&\" parameters'!\"&T$6&$N45)","v":1.12E-2},{"$f":"INDIRECT(\"'\"&$Q$6&\" parameters'!\"&U$6&$N45)","v":0.3906},{"$f":"INDIRECT(\"'\"&$Q$6&\" parameters'!\"&V$6&$N45)","v":0.33579999999999999},{"$f":"INDIRECT(\"'\"&$Q$6&\" parameters'!\"&W$6&$N45)","v":0.37269999999999998},{"$f":"INDIRECT(\"'\"&$Q$6&\" parameters'!\"&X$6&$N45)","v":0.32679999999999998},{"$f":"INDIRECT(\"'\"&$Q$6&\" parameters'!\"&Y$6&$N45)","v":9.01E-2},{"$f":"INDIRECT(\"'\"&$Q$6&\" parameters'!\"&Z$6&$N45)","v":0.34},null,null,"Unemployed",4.36995E-3,4.5949800000000002E-3,2.4192000000000001E-4,1.03509E-2,5.4399600000000006E-3,7.0812999999999996E-3,6.4052799999999993E-3,3.2075599999999999E-3,8.9420000000000003E-3]
[null,null,"NILF",{"$f":"'Means parameters'!C50","v":48.08},{"$f":"'Means parameters'!D50","v":48.23},{"$f":"'Means parameters'!E50","v":45.65},{"$f":"'Means parameters'!F50","v":44.08},{"$f":"'Means parameters'!G50","v":42.01},{"$f":"'Means parameters'!H50","v":40.19},{"$f":"'Means parameters'!I50","v":40.020000000000003},{"$f":"'Means parameters'!J50","v":39.869999999999997},{"$f":"'Means parameters'!K50","v":36.880000000000003},null,50,null,"NILF",{"$f":"IF(employment_status=P46,1,0)","v":0},{"$f":"INDIRECT(\"'\"&$Q$6&\" parameters'!\"&R$6&$N46)","v":0.4022},{"$f":"INDIRECT(\"'\"&$Q$6&\" parameters'!\"&S$6&$N46)","v":0.32050000000000001},{"$f":"INDIRECT(\"'\"&$Q$6&\" parameters'!\"&T$6&$N46)","v":0.44190000000000002},{"$f":"INDIRECT(\"'\"&$Q$6&\" parameters'!\"&U$6&$N46)","v":0.51800000000000002},{"$f":"INDIRECT(\"'\"&$Q$6&\" parameters'!\"&V$6&$N46)","v":0.54759999999999998},{"$f":"INDIRECT(\"'\"&$Q$6&\" parameters'!\"&W$6&$N46)","v":0.32719999999999999},{"$f":"INDIRECT(\"'\"&$Q$6&\" parameters'!\"&X$6&$N46)","v":0.77249999999999996},{"$f":"INDIRECT(\"'\"&$Q$6&\" parameters'!\"&Y$6&$N46)","v":1.2408999999999999},{"$f":"INDIRECT(\"'\"&$Q$6&\" parameters'!\"&Z$6&$N46)","v":0.59289999999999998},null,null,"NILF",0.19337776000000001,0.15457715,0.20172735,0.22833439999999999,0.23004675999999999,0.13150167999999998,0.30915450000000005,0.49474682999999997,0.21866152]
[null,"Marital Status","Married",{"$f":"'Means parameters'!C23","v":71.12},{"$f":"'Means parameters'!D23","v":69.39},{"$f":"'Means parameters'!E23","v":69.06},{"$f":"'Means parameters'!F23","v":67.39},{"$f":"'Means parameters'!G23","v":66.02},{"$f":"'Means parameters'!H23","v":65.55},{"$f":"'Means parameters'!I23","v":65.2},{"$f":"'Means parameters'!J23","v":64.08},{"$f":"'Means parameters'!K23","v":79.989999999999995},null,23,"Marital Status","Married",{"$f":"IF(marital_status=P47,1,0)","v":1},{"$f":"INDIRECT(\"'\"&$Q$6&\" parameters'!\"&R$6&$N47)","v":0},{"$f":"INDIRECT(\"'\"&$Q$6&\" parameters'!\"&S$6&$N47)","v":0},{"$f":"INDIRECT(\"'\"&$Q$6&\" parameters'!\"&T$6&$N47)","v":0},{"$f":"INDIRECT(\"'\"&$Q$6&\" parameters'!\"&U$6&$N47)","v":0},{"$f":"INDIRECT(\"'\"&$Q$6&\" parameters'!\"&V$6&$N47)","v":0},{"$f":"INDIRECT(\"'\"&$Q$6&\" parameters'!\"&W$6&$N47)","v":0},{"$f":"INDIRECT(\"'\"&$Q$6&\" parameters'!\"&X$6&$N47)","v":0},{"$f":"INDIRECT(\"'\"&$Q$6&\" parameters'!\"&Y$6&$N47)","v":0},{"$f":"INDIRECT(\"'\"&$Q$6&\" parameters'!\"&Z$6&$N47)","v":0},null,"Marital Status","Married",0,0,0,0,0,0,0,0,0]
[null,null,"Widowed",{"$f":"'Means parameters'!C24","v":15.11},{"$f":"'Means parameters'!D24","v":14.99},{"$f":"'Means parameters'!E24","v":14.16},{"$f":"'Means parameters'!F24","v":13.15},{"$f":"'Means parameters'!G24","v":12.35},{"$f":"'Means parameters'!H24","v":11.22},{"$f":"'Means parameters'!I24","v":10.63},{"$f":"'Means parameters'!J24","v":10.28},{"$f":"'Means parameters'!K24","v":4.7699999999999996},null,24,null,"Widowed",{"$f":"IF(marital_status=P48,1,0)","v":0},{"$f":"INDIRECT(\"'\"&$Q$6&\" parameters'!\"&R$6&$N48)","v":0.20610000000000001},{"$f":"INDIRECT(\"'\"&$Q$6&\" parameters'!\"&S$6&$N48)","v":0.22159999999999999},{"$f":"INDIRECT(\"'\"&$Q$6&\" parameters'!\"&T$6&$N48)","v":0.20419999999999999},{"$f":"INDIRECT(\"'\"&$Q$6&\" parameters'!\"&U$6&$N48)","v":0.2319},{"$f":"INDIRECT(\"'\"&$Q$6&\" parameters'!\"&V$6&$N48)","v":0.2137},{"$f":"INDIRECT(\"'\"&$Q$6&\" parameters'!\"&W$6&$N48)","v":0.21909999999999999},{"$f":"INDIRECT(\"'\"&$Q$6&\" parameters'!\"&X$6&$N48)","v":0.29720000000000002},{"$f":"INDIRECT(\"'\"&$Q$6&\" parameters'!\"&Y$6&$N48)","v":0.30409999999999998},{"$f":"INDIRECT(\"'\"&$Q$6&\" parameters'!\"&Z$6&$N48)","v":0.42209999999999998},null,null,"Widowed",3.1141709999999996E-2,3.3217839999999998E-2,2.8914720000000001E-2,3.049485E-2,2.6391950000000001E-2,2.4583020000000001E-2,3.1592360000000007E-2,3.1261479999999994E-2,2.0134169999999996E-2]
[null,null,"Divorced",{"$f":"'Means parameters'!C25","v":6.62},{"$f":"'Means parameters'!D25","v":8.2799999999999994},{"$f":"'Means parameters'!E25","v":9.33},{"$f":"'Means parameters'!F25","v":10.99},{"$f":"'Means parameters'!G25","v":12.35},{"$f":"'Means parameters'!H25","v":13.17},{"$f":"'Means parameters'!I25","v":13.58},{"$f":"'Means parameters'!J25","v":14.11},{"$f":"'Means parameters'!K25","v":8.0399999999999991},null,25,null,"Divorced",{"$f":"IF(marital_status=P49,1,0)","v":0},{"$f":"INDIRECT(\"'\"&$Q$6&\" parameters'!\"&R$6&$N49)","v":0.28920000000000001},{"$f":"INDIRECT(\"'\"&$Q$6&\" parameters'!\"&S$6&$N49)","v":0.29189999999999999},{"$f":"INDIRECT(\"'\"&$Q$6&\" parameters'!\"&T$6&$N49)","v":0.2394},{"$f":"INDIRECT(\"'\"&$Q$6&\" parameters'!\"&U$6&$N49)","v":0.31640000000000001},{"$f":"INDIRECT(\"'\"&$Q$6&\" parameters'!\"&V$6&$N49)","v":0.29659999999999997},{"$f":"INDIRECT(\"'\"&$Q$6&\" parameters'!\"&W$6&$N49)","v":0.33810000000000001},{"$f":"INDIRECT(\"'\"&$Q$6&\" parameters'!\"&X$6&$N49)","v":0.38290000000000002},{"$f":"INDIRECT(\"'\"&$Q$6&\" parameters'!\"&Y$6&$N49)","v":0.39800000000000002},{"$f":"INDIRECT(\"'\"&$Q$6&\" parameters'!\"&Z$6&$N49)","v":0.4647},null,null,"Divorced",1.9145039999999999E-2,2.4169319999999998E-2,2.2336019999999998E-2,3.4772360000000002E-2,3.6630099999999999E-2,4.4527770000000008E-2,5.1997820000000007E-2,5.6157800000000001E-2,3.7361879999999993E-2]
[null,null,"Separated",{"$f":"'Means parameters'!C26","v":2.16},{"$f":"'Means parameters'!D26","v":2.17},{"$f":"'Means parameters'!E26","v":2.19},{"$f":"'Means parameters'!F26","v":2.2799999999999998},{"$f":"'Means parameters'!G26","v":2.23},{"$f":"'Means parameters'!H26","v":2.1},{"$f":"'Means parameters'!I26","v":2.3199999999999998},{"$f":"'Means parameters'!J26","v":2.39},{"$f":"'Means parameters'!K26","v":1.7},null,26,null,"Separated",{"$f":"IF(marital_status=P50,1,0)","v":0},{"$f":"INDIRECT(\"'\"&$Q$6&\" parameters'!\"&R$6&$N50)","v":0.31080000000000002},{"$f":"INDIRECT(\"'\"&$Q$6&\" parameters'!\"&S$6&$N50)","v":0.22090000000000001},{"$f":"INDIRECT(\"'\"&$Q$6&\" parameters'!\"&T$6&$N50)","v":0.32650000000000001},{"$f":"INDIRECT(\"'\"&$Q$6&\" parameters'!\"&U$6&$N50)","v":0.38429999999999997},{"$f":"INDIRECT(\"'\"&$Q$6&\" parameters'!\"&V$6&$N50)","v":0.27629999999999999},{"$f":"INDIRECT(\"'\"&$Q$6&\" parameters'!\"&W$6&$N50)","v":0.2346},{"$f":"INDIRECT(\"'\"&$Q$6&\" parameters'!\"&X$6&$N50)","v":0.5403},{"$f":"INDIRECT(\"'\"&$Q$6&\" parameters'!\"&Y$6&$N50)","v":0.2782},{"$f":"INDIRECT(\"'\"&$Q$6&\" parameters'!\"&Z$6&$N50)","v":0.433},null,null,"Separated",6.7132800000000012E-3,4.7935300000000007E-3,7.1503499999999998E-3,8.7620399999999987E-3,6.1614899999999995E-3,4.9266000000000006E-3,1.253496E-2,6.6489800000000005E-3,7.3610000000000004E-3]
[null,null,"Never Married",{"$f":"'Means parameters'!C27","v":5},{"$f":"'Means parameters'!D27","v":5.17},{"$f":"'Means parameters'!E27","v":5.26},{"$f":"'Means parameters'!F27","v":6.18},{"$f":"'Means parameters'!G27","v":7.06},{"$f":"'Means parameters'!H27","v":7.96},{"$f":"'Means parameters'!I27","v":8.27},{"$f":"'Means parameters'!J27","v":9.14},{"$f":"'Means parameters'!K27","v":5.5},null,27,null,"Never Married",{"$f":"IF(marital_status=P51,1,0)","v":0},{"$f":"INDIRECT(\"'\"&$Q$6&\" parameters'!\"&R$6&$N51)","v":0.26669999999999999},{"$f":"INDIRECT(\"'\"&$Q$6&\" parameters'!\"&S$6&$N51)","v":0.31719999999999998},{"$f":"INDIRECT(\"'\"&$Q$6&\" parameters'!\"&T$6&$N51)","v":0.25340000000000001},{"$f":"INDIRECT(\"'\"&$Q$6&\" parameters'!\"&U$6&$N51)","v":0.2235},{"$f":"INDIRECT(\"'\"&$Q$6&\" parameters'!\"&V$6&$N51)","v":0.26490000000000002},{"$f":"INDIRECT(\"'\"&$Q$6&\" parameters'!\"&W$6&$N51)","v":0.32429999999999998},{"$f":"INDIRECT(\"'\"&$Q$6&\" parameters'!\"&X$6&$N51)","v":0.42670000000000002},{"$f":"INDIRECT(\"'\"&$Q$6&\" parameters'!\"&Y$6&$N51)","v":0.50339999999999996},{"$f":"INDIRECT(\"'\"&$Q$6&\" parameters'!\"&Z$6&$N51)","v":0.43419999999999997},null,null,"Never Married",1.3335E-2,1.6399239999999999E-2,1.3328840000000002E-2,1.38123E-2,1.870194E-2,2.5814279999999998E-2,3.5288090000000001E-2,4.6010759999999998E-2,2.3880999999999999E-2]
[null,"Occupation","Professional",{"$f":"'Means parameters'!C51","v":7.38},{"$f":"'Means parameters'!D51","v":8.2899999999999991},{"$f":"'Means parameters'!E51","v":9.1199999999999992},{"$f":"'Means parameters'!F51","v":9.83},{"$f":"'Means parameters'!G51","v":10.06},{"$f":"'Means parameters'!H51","v":11.48},{"$f":"'Means parameters'!I51","v":13.3},{"$f":"'Means parameters'!J51","v":13.35},{"$f":"'Means parameters'!K51","v":15.3},null,51,"Occupation","Professional",{"$f":"IF(occupation=P52,1,0)","v":1},{"$f":"INDIRECT(\"'\"&$Q$6&\" parameters'!\"&R$6&$N52)","v":0},{"$f":"INDIRECT(\"'\"&$Q$6&\" parameters'!\"&S$6&$N52)","v":0},{"$f":"INDIRECT(\"'\"&$Q$6&\" parameters'!\"&T$6&$N52)","v":0},{"$f":"INDIRECT(\"'\"&$Q$6&\" parameters'!\"&U$6&$N52)","v":0},{"$f":"INDIRECT(\"'\"&$Q$6&\" parameters'!\"&V$6&$N52)","v":0},{"$f":"INDIRECT(\"'\"&$Q$6&\" parameters'!\"&W$6&$N52)","v":0},{"$f":"INDIRECT(\"'\"&$Q$6&\" parameters'!\"&X$6&$N52)","v":0},{"$f":"INDIRECT(\"'\"&$Q$6&\" parameters'!\"&Y$6&$N52)","v":0},{"$f":"INDIRECT(\"'\"&$Q$6&\" parameters'!\"&Z$6&$N52)","v":0},null,"Occupation","Professional",0,0,0,0,0,0,0,0,0]
[null,null,"Skilled/Sales",{"$f":"'Means parameters'!C52","v":15.22},{"$f":"'Means parameters'!D52","v":17.28},{"$f":"'Means parameters'!E52","v":18.59},{"$f":"'Means parameters'!F52","v":18.71},{"$f":"'Means parameters'!G52","v":19.2},{"$f":"'Means parameters'!H52","v":18.93},{"$f":"'Means parameters'!I52","v":16.36},{"$f":"'Means parameters'!J52","v":15.73},{"$f":"'Means parameters'!K52","v":20.2},null,52,null,"Skilled/Sales",0,{"$f":"INDIRECT(\"'\"&$Q$6&\" parameters'!\"&R$6&$N53)","v":0.129},{"$f":"INDIRECT(\"'\"&$Q$6&\" parameters'!\"&S$6&$N53)","v":0.12590000000000001},{"$f":"INDIRECT(\"'\"&$Q$6&\" parameters'!\"&T$6&$N53)","v":4.2099999999999999E-2},{"$f":"INDIRECT(\"'\"&$Q$6&\" parameters'!\"&U$6&$N53)","v":-2.1299999999999999E-2},{"$f":"INDIRECT(\"'\"&$Q$6&\" parameters'!\"&V$6&$N53)","v":3.8199999999999998E-2},{"$f":"INDIRECT(\"'\"&$Q$6&\" parameters'!\"&W$6&$N53)","v":4.2799999999999998E-2},{"$f":"INDIRECT(\"'\"&$Q$6&\" parameters'!\"&X$6&$N53)","v":9.6299999999999997E-2},{"$f":"INDIRECT(\"'\"&$Q$6&\" parameters'!\"&Y$6&$N53)","v":0.17150000000000001},{"$f":"INDIRECT(\"'\"&$Q$6&\" parameters'!\"&Z$6&$N53)","v":0.1123},null,null,"Skilled/Sales",1.96338E-2,2.1755520000000004E-2,7.8263900000000008E-3,-3.9852300000000002E-3,7.3343999999999996E-3,8.1020399999999996E-3,1.575468E-2,2.6976950000000003E-2,2.2684599999999999E-2]
[null,null,"Blue Collar (light physical duties)",{"$f":"'Means parameters'!C53","v":11.43},{"$f":"'Means parameters'!D53","v":10.71},{"$f":"'Means parameters'!E53","v":10.69},{"$f":"'Means parameters'!F53","v":10.51},{"$f":"'Means parameters'!G53","v":10.5},{"$f":"'Means parameters'!H53","v":10.84},{"$f":"'Means parameters'!I53","v":11.91},{"$f":"'Means parameters'!J53","v":11.94},{"$f":"'Means parameters'!K53","v":14.89},null,53,null,"Blue Collar (light physical duties)",0,{"$f":"INDIRECT(\"'\"&$Q$6&\" parameters'!\"&R$6&$N54)","v":0.11840000000000001},{"$f":"INDIRECT(\"'\"&$Q$6&\" parameters'!\"&S$6&$N54)","v":0.1386},{"$f":"INDIRECT(\"'\"&$Q$6&\" parameters'!\"&T$6&$N54)","v":4.9799999999999997E-2},{"$f":"INDIRECT(\"'\"&$Q$6&\" parameters'!\"&U$6&$N54)","v":0.14510000000000001},{"$f":"INDIRECT(\"'\"&$Q$6&\" parameters'!\"&V$6&$N54)","v":2.3900000000000001E-2},{"$f":"INDIRECT(\"'\"&$Q$6&\" parameters'!\"&W$6&$N54)","v":0.15709999999999999},{"$f":"INDIRECT(\"'\"&$Q$6&\" parameters'!\"&X$6&$N54)","v":0.2495},{"$f":"INDIRECT(\"'\"&$Q$6&\" parameters'!\"&Y$6&$N54)","v":0.10539999999999999},{"$f":"INDIRECT(\"'\"&$Q$6&\" parameters'!\"&Z$6&$N54)","v":0.2233},null,null,"Blue Collar (light physical duties)",1.3533120000000001E-2,1.4844060000000003E-2,5.3236199999999994E-3,1.5250010000000001E-2,2.5095E-3,1.7029639999999999E-2,2.9715450000000001E-2,1.2584759999999999E-2,3.324937E-2]
[null,null,"Blue Collar (heavy physical duties)",{"$f":"'Means parameters'!C54","v":17.440000000000001},{"$f":"'Means parameters'!D54","v":15.85},{"$f":"'Means parameters'!E54","v":15.03},{"$f":"'Means parameters'!F54","v":14.36},{"$f":"'Means parameters'!G54","v":14.35},{"$f":"'Means parameters'!H54","v":14.36},{"$f":"'Means parameters'!I54","v":14.08},{"$f":"'Means parameters'!J54","v":13.39},{"$f":"'Means parameters'!K54","v":17.350000000000001},null,54,null,"Blue Collar (heavy physical duties)",0,{"$f":"INDIRECT(\"'\"&$Q$6&\" parameters'!\"&R$6&$N55)","v":0.12330000000000001},{"$f":"INDIRECT(\"'\"&$Q$6&\" parameters'!\"&S$6&$N55)","v":0.19040000000000001},{"$f":"INDIRECT(\"'\"&$Q$6&\" parameters'!\"&T$6&$N55)","v":0.14219999999999999},{"$f":"INDIRECT(\"'\"&$Q$6&\" parameters'!\"&U$6&$N55)","v":0.13880000000000001},{"$f":"INDIRECT(\"'\"&$Q$6&\" parameters'!\"&V$6&$N55)","v":7.7600000000000002E-2},{"$f":"INDIRECT(\"'\"&$Q$6&\" parameters'!\"&W$6&$N55)","v":0.11890000000000001},{"$f":"INDIRECT(\"'\"&$Q$6&\" parameters'!\"&X$6&$N55)","v":0.2303},{"$f":"INDIRECT(\"'\"&$Q$6&\" parameters'!\"&Y$6&$N55)","v":0.18809999999999999},{"$f":"INDIRECT(\"'\"&$Q$6&\" parameters'!\"&Z$6&$N55)","v":0.1852},null,null,"Blue Collar (heavy physical duties)",2.1503520000000002E-2,3.0178400000000001E-2,2.1372659999999998E-2,1.993168E-2,1.1135599999999999E-2,1.7074040000000002E-2,3.2426240000000002E-2,2.5186590000000002E-2,3.2132200000000007E-2]
[null,null,"Medical",{"$f":"'Means parameters'!C55","v":2.82},{"$f":"'Means parameters'!D55","v":2.91},{"$f":"'Means parameters'!E55","v":3.37},{"$f":"'Means parameters'!F55","v":3.94},{"$f":"'Means parameters'!G55","v":4.49},{"$f":"'Means parameters'!H55","v":4.72},{"$f":"'Means parameters'!I55","v":4.87},{"$f":"'Means parameters'!J55","v":4.63},{"$f":"'Means parameters'!K55","v":5.3},null,55,null,"Medical",0,{"$f":"INDIRECT(\"'\"&$Q$6&\" parameters'!\"&R$6&$N56)","v":0.14899999999999999},{"$f":"INDIRECT(\"'\"&$Q$6&\" parameters'!\"&S$6&$N56)","v":0.25230000000000002},{"$f":"INDIRECT(\"'\"&$Q$6&\" parameters'!\"&T$6&$N56)","v":-7.9899999999999999E-2},{"$f":"INDIRECT(\"'\"&$Q$6&\" parameters'!\"&U$6&$N56)","v":3.44E-2},{"$f":"INDIRECT(\"'\"&$Q$6&\" parameters'!\"&V$6&$N56)","v":-0.1346},{"$f":"INDIRECT(\"'\"&$Q$6&\" parameters'!\"&W$6&$N56)","v":3.0200000000000001E-2},{"$f":"INDIRECT(\"'\"&$Q$6&\" parameters'!\"&X$6&$N56)","v":0.21829999999999999},{"$f":"INDIRECT(\"'\"&$Q$6&\" parameters'!\"&Y$6&$N56)","v":0.19500000000000001},{"$f":"INDIRECT(\"'\"&$Q$6&\" parameters'!\"&Z$6&$N56)","v":0.1226},null,null,"Medical",4.2017999999999995E-3,7.3419300000000009E-3,-2.6926300000000001E-3,1.3553599999999999E-3,-6.04354E-3,1.42544E-3,1.063121E-2,9.0285000000000001E-3,6.4977999999999998E-3]
[null,null,"N/A",{"$f":"'Means parameters'!C56","v":45.72},{"$f":"'Means parameters'!D56","v":44.96},{"$f":"'Means parameters'!E56","v":43.2},{"$f":"'Means parameters'!F56","v":42.64},{"$f":"'Means parameters'!G56","v":41.41},{"$f":"'Means parameters'!H56","v":39.659999999999997},{"$f":"'Means parameters'!I56","v":39.47},{"$f":"'Means parameters'!J56","v":40.97},{"$f":"'Means parameters'!K56","v":26.96},null,56,null,"N/A",0,{"$f":"INDIRECT(\"'\"&$Q$6&\" parameters'!\"&R$6&$N57)","v":0.24399999999999999},{"$f":"INDIRECT(\"'\"&$Q$6&\" parameters'!\"&S$6&$N57)","v":0.39119999999999999},{"$f":"INDIRECT(\"'\"&$Q$6&\" parameters'!\"&T$6&$N57)","v":0.214},{"$f":"INDIRECT(\"'\"&$Q$6&\" parameters'!\"&U$6&$N57)","v":0.16569999999999999},{"$f":"INDIRECT(\"'\"&$Q$6&\" parameters'!\"&V$6&$N57)","v":0.121},{"$f":"INDIRECT(\"'\"&$Q$6&\" parameters'!\"&W$6&$N57)","v":0.46860000000000002},{"$f":"INDIRECT(\"'\"&$Q$6&\" parameters'!\"&X$6&$N57)","v":0.28249999999999997},{"$f":"INDIRECT(\"'\"&$Q$6&\" parameters'!\"&Y$6&$N57)","v":4.36E-2},{"$f":"INDIRECT(\"'\"&$Q$6&\" parameters'!\"&Z$6&$N57)","v":0.32100000000000001},null,null,"N/A",0.1115568,0.17588351999999999,9.2448000000000002E-2,7.0654479999999992E-2,5.0106099999999994E-2,0.18584675999999997,0.11150274999999998,1.7862920000000001E-2,8.654160000000001E-2]
[null,null,null,null,null,null,null,null,null,null,null,null,null,null,null,"B'X (without age)",null,{"$f":"SUMPRODUCT($Q$18:$Q$57,R18:R57)","v":0},{"$f":"SUMPRODUCT($Q$18:$Q$57,S18:S57)","v":0},0,0,0,0,{"$f":"SUMPRODUCT($Q$18:$Q$57,X18:X57)","v":0},{"$f":"SUMPRODUCT($Q$18:$Q$57,Y18:Y57)","v":0},{"$f":"SUMPRODUCT($Q$18:$Q$57,Z18:Z57)","v":0},null,null,"Base B'X",{"$f":"SUM(AD8:AD57)","v":-0.28683481999999999},{"$f":"SUM(AE8:AE57)","v":-0.35099622999999958},{"$f":"SUM(AF8:AF57)","v":-0.27784428999999999},-0.45905764999999965,-0.38191693999999954,-0.30085900000000021,{"$f":"SUM(AJ8:AJ57)","v":-0.17784733999999991},-0.19893962999999998,-0.30756545000000024]
[null,null,null,null,null,null,null,null,null,null,null,null,null,null,null,null,null,null,null,null,null,null,null,null,null,null,null,null,"HR(B'X) is e^(B'X) = ",{"$f":"EXP(AD58)","v":0.75063570860364437},{"$f":"EXP(AE58)","v":0.70398640787937605},{"$f":"EXP(AF58)","v":0.75741474938344955},0.63187881603569973,0.68255174359882909,0.74018213106975361,{"$f":"EXP(AJ58)","v":0.83707020087213746},0.81959937105345615,0.73523474485895168]

{"sheet":"Variance","index":5,"n_rows":490,"n_cols":30,"rows_kept":490,"cut":false,"hidden":false,"merged":[]}
[]
["SOA MI Trends"]
["Detailed model parameter results"]
["Variance"]
[]
[null,"Implied exposure count (all cause, cancer, and heart)"]
[null,"Adjustment scalar (age)",1.2958762716149268,1.3378248983252485,1.305043727474968,1.4004717387053005,1.5258086544414509,1.4779463516042872,1.5820429088319323,1.5550779821035838,1.3151075725375316]
[null,"Adjustment scalar (gender)",1.5318482996129072,1.5205122915651326,1.5260338340615571,1.5655717140267773,1.6905019216057973,1.7399743579765472,1.7418645068556577,1.5975428929094859,1.3115513525802016]
[null,"Adjustment scalar (smoker status)",1.5318482996129072,1.5558730425317637,1.5031433265506335,1.544972086210636,1.68095106329164,1.7399743579765472,1.7418645068556575,1.5975428929094861,1.3074008736163403]
[null,"Adjustment scalar (marital status)",1.5345886364637353,1.545093321682814,1.4993948394520036,1.5796127159463003,1.6905019216057973,1.7399743579765472,1.7542181558404493,1.5817256365440455,1.3107191499453159]
[null,"Adjustment scalar (income)",1.529117732233918,1.5379894443417432,1.5031433265506335,1.5690585107172601,1.7001619325864015,1.7493290588258836,1.7604609250783156,1.5975428929094861,1.3082288665698654]
[null,"Adjustment scalar (education)",1.5400988290542694,1.5415331988217937,1.5106968106036518,1.5621003798493345,1.6905019216057968,1.7353344263552766,1.748019505113098,1.5975428929094859,1.3115513525802018]
[null,"Adjustment scalar (race)",1.5359624848401576,1.5450933216828135,1.4882607193570632,1.572560873464397,1.6905019216057973,1.7399743579765474,1.7667482855250243,1.6136796898075618,1.3074008736163403]
[null,"Adjustment scalar (employment)",1.538717574499064,1.5274552700654302,1.5106968106036518,1.5655717140267773,1.6924251319830503,1.7493290588258834,1.7357527015684446,1.5943541845404052,1.3065739280922313]
[null,"Adjustment scalar (collar)",1.5291177322339182,1.5522631282799499,1.5031433265506335,1.5760789067383665,1.6809510632916398,1.7353344263552763,1.7296836361783452,1.5817256365440455,1.3123846126517267]
[null,null,"1980-1983","1984-1987","1988-1991","1992-1995","1996-1999","2000-2003","2004-2007","2008-11 (NLMS)","2008-11 (MDAC)"]
[null,"age 40-44 ",{"$f":"'Deaths and Exposures'!C16/Calculation!CG8*C$7","v":375545.99011904426},{"$f":"'Deaths and Exposures'!D16/Calculation!CH8*D$7","v":157012.98031981254},{"$f":"'Deaths and Exposures'!E16/Calculation!CI8*E$7","v":158540.92061126482},{"$f":"'Deaths and Exposures'!F16/Calculation!CJ8*F$7","v":209453.23689548197},{"$f":"'Deaths and Exposures'!G16/Calculation!CK8*G$7","v":191463.70528983459},{"$f":"'Deaths and Exposures'!H16/Calculation!CL8*H$7","v":270385.96530223923},{"$f":"'Deaths and Exposures'!I16/Calculation!CM8*I$7","v":204514.24961880944},{"$f":"'Deaths and Exposures'!J16/Calculation!CN8*J$7","v":62836.353650683566},{"$f":"'Deaths and Exposures'!K16/Calculation!CO8*K$7","v":1410037.1505907243}]
[null,"age 45-49 ",{"$f":"'Deaths and Exposures'!C17/Calculation!CG9*C$7","v":354763.39199064428},{"$f":"'Deaths and Exposures'!D17/Calculation!CH9*D$7","v":127882.43877271627},{"$f":"'Deaths and Exposures'!E17/Calculation!CI9*E$7","v":130232.55045527479},{"$f":"'Deaths and Exposures'!F17/Calculation!CJ9*F$7","v":168379.81350628377},{"$f":"'Deaths and Exposures'!G17/Calculation!CK9*G$7","v":185794.65024081324},{"$f":"'Deaths and Exposures'!H17/Calculation!CL9*H$7","v":230405.70135876484},{"$f":"'Deaths and Exposures'!I17/Calculation!CM9*I$7","v":194114.84257314797},{"$f":"'Deaths and Exposures'!J17/Calculation!CN9*J$7","v":71409.419812447086},{"$f":"'Deaths and Exposures'!K17/Calculation!CO9*K$7","v":1555949.8238946856}]
[null,"age 50-54 ",{"$f":"'Deaths and Exposures'!C18/Calculation!CG10*C$7","v":368098.99331335258},{"$f":"'Deaths and Exposures'!D18/Calculation!CH10*D$7","v":130967.30442250684},{"$f":"'Deaths and Exposures'!E18/Calculation!CI10*E$7","v":112810.16864816767},{"$f":"'Deaths and Exposures'!F18/Calculation!CJ10*F$7","v":157489.77984915432},{"$f":"'Deaths and Exposures'!G18/Calculation!CK10*G$7","v":141658.67054302254},{"$f":"'Deaths and Exposures'!H18/Calculation!CL10*H$7","v":201240.01093845157},{"$f":"'Deaths and Exposures'!I18/Calculation!CM10*I$7","v":174255.65001064425},{"$f":"'Deaths and Exposures'!J18/Calculation!CN10*J$7","v":49493.762938636974},{"$f":"'Deaths and Exposures'!K18/Calculation!CO10*K$7","v":1548773.4413656404}]
[null,"age 55-59 ",{"$f":"'Deaths and Exposures'!C19/Calculation!CG11*C$7","v":378991.33050826081},{"$f":"'Deaths and Exposures'!D19/Calculation!CH11*D$7","v":140384.1077971262},{"$f":"'Deaths and Exposures'!E19/Calculation!CI11*E$7","v":113632.19003299215},{"$f":"'Deaths and Exposures'!F19/Calculation!CJ11*F$7","v":131875.6084469108},{"$f":"'Deaths and Exposures'!G19/Calculation!CK11*G$7","v":116353.54487353397},{"$f":"'Deaths and Exposures'!H19/Calculation!CL11*H$7","v":147997.96813242225},{"$f":"'Deaths and Exposures'!I19/Calculation!CM11*I$7","v":147088.02020418784},{"$f":"'Deaths and Exposures'!J19/Calculation!CN11*J$7","v":55975.869745639953},{"$f":"'Deaths and Exposures'!K19/Calculation!CO11*K$7","v":1451822.1453892868}]
[null,"age 60-64",{"$f":"'Deaths and Exposures'!C20/Calculation!CG12*C$7","v":364615.21178530093},{"$f":"'Deaths and Exposures'!D20/Calculation!CH12*D$7","v":143106.99232222213},{"$f":"'Deaths and Exposures'!E20/Calculation!CI12*E$7","v":130408.03417176884},{"$f":"'Deaths and Exposures'!F20/Calculation!CJ12*F$7","v":139124.39137722747},{"$f":"'Deaths and Exposures'!G20/Calculation!CK12*G$7","v":120765.80301723868},{"$f":"'Deaths and Exposures'!H20/Calculation!CL12*H$7","v":140327.90959847666},{"$f":"'Deaths and Exposures'!I20/Calculation!CM12*I$7","v":124929.61803077249},{"$f":"'Deaths and Exposures'!J20/Calculation!CN12*J$7","v":49254.110779235532},{"$f":"'Deaths and Exposures'!K20/Calculation!CO12*K$7","v":1412943.3047500427}]
[null,"age 65-69 (age group) ",{"$f":"'Deaths and Exposures'!C21/Calculation!CG13*C$7","v":355935.99014978221},{"$f":"'Deaths and Exposures'!D21/Calculation!CH13*D$7","v":142271.97455702128},{"$f":"'Deaths and Exposures'!E21/Calculation!CI13*E$7","v":134707.08744789677},{"$f":"'Deaths and Exposures'!F21/Calculation!CJ13*F$7","v":149567.64523373422},{"$f":"'Deaths and Exposures'!G21/Calculation!CK13*G$7","v":131550.64099163981},{"$f":"'Deaths and Exposures'!H21/Calculation!CL13*H$7","v":129516.84839865388},{"$f":"'Deaths and Exposures'!I21/Calculation!CM13*I$7","v":108014.21314023902},{"$f":"'Deaths and Exposures'!J21/Calculation!CN13*J$7","v":41138.617292440533},{"$f":"'Deaths and Exposures'!K21/Calculation!CO13*K$7","v":1305691.9016297811}]
[null,"age 70-74 ",{"$f":"'Deaths and Exposures'!C22/Calculation!CG14*C$7","v":269614.4512417845},{"$f":"'Deaths and Exposures'!D22/Calculation!CH14*D$7","v":113554.08865964628},{"$f":"'Deaths and Exposures'!E22/Calculation!CI14*E$7","v":103821.11282350107},{"$f":"'Deaths and Exposures'!F22/Calculation!CJ14*F$7","v":131645.70666758381},{"$f":"'Deaths and Exposures'!G22/Calculation!CK14*G$7","v":119331.82268919854},{"$f":"'Deaths and Exposures'!H22/Calculation!CL14*H$7","v":119607.52541866204},{"$f":"'Deaths and Exposures'!I22/Calculation!CM14*I$7","v":89902.60362922911},{"$f":"'Deaths and Exposures'!J22/Calculation!CN14*J$7","v":31475.780875693767},{"$f":"'Deaths and Exposures'!K22/Calculation!CO14*K$7","v":1091894.1310984367}]
[null,"age 75-79 ",{"$f":"'Deaths and Exposures'!C23/Calculation!CG15*C$7","v":173144.58978933262},{"$f":"'Deaths and Exposures'!D23/Calculation!CH15*D$7","v":69184.683045387239},{"$f":"'Deaths and Exposures'!E23/Calculation!CI15*E$7","v":66397.682078314756},{"$f":"'Deaths and Exposures'!F23/Calculation!CJ15*F$7","v":89207.987691056624},{"$f":"'Deaths and Exposures'!G23/Calculation!CK15*G$7","v":86377.067577939219},{"$f":"'Deaths and Exposures'!H23/Calculation!CL15*H$7","v":95804.018932161256},{"$f":"'Deaths and Exposures'!I23/Calculation!CM15*I$7","v":77985.764209216039},{"$f":"'Deaths and Exposures'!J23/Calculation!CN15*J$7","v":26322.797537422401},{"$f":"'Deaths and Exposures'!K23/Calculation!CO15*K$7","v":825321.30560807255}]
[null,"age 80-84 ",{"$f":"'Deaths and Exposures'!C24/Calculation!CG16*C$7","v":87998.188900451729},{"$f":"'Deaths and Exposures'!D24/Calculation!CH16*D$7","v":35818.444291189604},{"$f":"'Deaths and Exposures'!E24/Calculation!CI16*E$7","v":33827.013343743791},{"$f":"'Deaths and Exposures'!F24/Calculation!CJ16*F$7","v":50883.802569610147},{"$f":"'Deaths and Exposures'!G24/Calculation!CK16*G$7","v":47059.926723654738},{"$f":"'Deaths and Exposures'!H24/Calculation!CL16*H$7","v":66404.385613352846},{"$f":"'Deaths and Exposures'!I24/Calculation!CM16*I$7","v":49523.053974625109},{"$f":"'Deaths and Exposures'!J24/Calculation!CN16*J$7","v":18436.316142182892},{"$f":"'Deaths and Exposures'!K24/Calculation!CO16*K$7","v":515763.01600098819}]
[null,"age 85+",{"$f":"'Deaths and Exposures'!C25/Calculation!CG17*C$7","v":43291.862202046075},{"$f":"'Deaths and Exposures'!D25/Calculation!CH17*D$7","v":17816.985812371477},{"$f":"'Deaths and Exposures'!E25/Calculation!CI17*E$7","v":16623.240387075377},{"$f":"'Deaths and Exposures'!F25/Calculation!CJ17*F$7","v":26372.027762956863},{"$f":"'Deaths and Exposures'!G25/Calculation!CK17*G$7","v":25644.168053124802},{"$f":"'Deaths and Exposures'!H25/Calculation!CL17*H$7","v":23989.66630681503},{"$f":"'Deaths and Exposures'!I25/Calculation!CM17*I$7","v":35921.984609128624},{"$f":"'Deaths and Exposures'!J25/Calculation!CN17*J$7","v":16276.971225617161},{"$f":"'Deaths and Exposures'!K25/Calculation!CO17*K$7","v":275713.77967234125}]
[null,"Male (Sex)",{"$f":"'Deaths and Exposures'!C26/Calculation!CG$13*C$8","v":1460249.9999999998},{"$f":"'Deaths and Exposures'!D26/Calculation!CH$13*D$8","v":563500},{"$f":"'Deaths and Exposures'!E26/Calculation!CI$13*E$8","v":508121.82741116756},{"$f":"'Deaths and Exposures'!F26/Calculation!CJ$13*F$8","v":613066.66666666663},{"$f":"'Deaths and Exposures'!G26/Calculation!CK$13*G$8","v":576375},{"$f":"'Deaths and Exposures'!H26/Calculation!CL$13*H$8","v":709028.02139037417},{"$f":"'Deaths and Exposures'!I26/Calculation!CM$13*I$8","v":611619.71830985916},{"$f":"'Deaths and Exposures'!J26/Calculation!CN$13*J$8","v":219762.39999999997},{"$f":"'Deaths and Exposures'!K26/Calculation!CO$13*K$8","v":6366121.1428571427}]
[null,"Female       ",{"$f":"'Deaths and Exposures'!C27/Calculation!CG$13*C$8","v":1311750},{"$f":"'Deaths and Exposures'!D27/Calculation!CH$13*D$8","v":514500},{"$f":"'Deaths and Exposures'!E27/Calculation!CI$13*E$8","v":492878.17258883256},{"$f":"'Deaths and Exposures'!F27/Calculation!CJ$13*F$8","v":640933.33333333326},{"$f":"'Deaths and Exposures'!G27/Calculation!CK$13*G$8","v":589625},{"$f":"'Deaths and Exposures'!H27/Calculation!CL$13*H$8","v":716651.9786096256},{"$f":"'Deaths and Exposures'!I27/Calculation!CM$13*I$8","v":594630.28169014084},{"$f":"'Deaths and Exposures'!J27/Calculation!CN$13*J$8","v":202857.59999999995},{"$f":"'Deaths and Exposures'!K27/Calculation!CO$13*K$8","v":5027788.8571428563}]
[null,"1-Never  ",{"$f":"'Deaths and Exposures'!C28/Calculation!CG$13*C$9","v":0},{"$f":"'Deaths and Exposures'!D28/Calculation!CH$13*D$9","v":0},{"$f":"'Deaths and Exposures'!E28/Calculation!CI$13*E$9","v":0},{"$f":"'Deaths and Exposures'!F28/Calculation!CJ$13*F$9","v":231000.00000000006},{"$f":"'Deaths and Exposures'!G28/Calculation!CK$13*G$9","v":296440.67796610168},{"$f":"'Deaths and Exposures'!H28/Calculation!CL$13*H$9","v":487933.26203208551},{"$f":"'Deaths and Exposures'!I28/Calculation!CM$13*I$9","v":169894.36619718309},{"$f":"'Deaths and Exposures'!J28/Calculation!CN$13*J$9","v":38035.799999999996},{"$f":"'Deaths and Exposures'!K28/Calculation!CO$13*K$9","v":0}]
[null,"2-Current",{"$f":"'Deaths and Exposures'!C29/Calculation!CG$13*C$9","v":0},{"$f":"'Deaths and Exposures'!D29/Calculation!CH$13*D$9","v":0},{"$f":"'Deaths and Exposures'!E29/Calculation!CI$13*E$9","v":0},{"$f":"'Deaths and Exposures'!F29/Calculation!CJ$13*F$9","v":110000.00000000001},{"$f":"'Deaths and Exposures'!G29/Calculation!CK$13*G$9","v":138338.98305084746},{"$f":"'Deaths and Exposures'!H29/Calculation!CL$13*H$9","v":205846.84491978606},{"$f":"'Deaths and Exposures'!I29/Calculation!CM$13*I$9","v":67957.746478873247},{"$f":"'Deaths and Exposures'!J29/Calculation!CN$13*J$9","v":12678.599999999999},{"$f":"'Deaths and Exposures'!K29/Calculation!CO$13*K$9","v":0}]
[null,"3-Former ",{"$f":"'Deaths and Exposures'!C30/Calculation!CG$13*C$9","v":0},{"$f":"'Deaths and Exposures'!D30/Calculation!CH$13*D$9","v":0},{"$f":"'Deaths and Exposures'!E30/Calculation!CI$13*E$9","v":0},{"$f":"'Deaths and Exposures'!F30/Calculation!CJ$13*F$9","v":198000.00000000003},{"$f":"'Deaths and Exposures'!G30/Calculation!CK$13*G$9","v":256915.25423728814},{"$f":"'Deaths and Exposures'!H30/Calculation!CL$13*H$9","v":404069.73262032081},{"$f":"'Deaths and Exposures'!I30/Calculation!CM$13*I$9","v":127420.77464788733},{"$f":"'Deaths and Exposures'!J30/Calculation!CN$13*J$9","v":25357.199999999997},{"$f":"'Deaths and Exposures'!K30/Calculation!CO$13*K$9","v":0}]
[null,"4-Not_Asked (smoker)",{"$f":"'Deaths and Exposures'!C31/Calculation!CG$13*C$9","v":2772000},{"$f":"'Deaths and Exposures'!D31/Calculation!CH$13*D$9","v":1078000},{"$f":"'Deaths and Exposures'!E31/Calculation!CI$13*E$9","v":1000999.9999999999},{"$f":"'Deaths and Exposures'!F31/Calculation!CJ$13*F$9","v":715000.00000000012},{"$f":"'Deaths and Exposures'!G31/Calculation!CK$13*G$9","v":474305.0847457627},{"$f":"'Deaths and Exposures'!H31/Calculation!CL$13*H$9","v":327830.16042780742},{"$f":"'Deaths and Exposures'!I31/Calculation!CM$13*I$9","v":840977.11267605633},{"$f":"'Deaths and Exposures'!J31/Calculation!CN$13*J$9","v":346548.39999999997},{"$f":"'Deaths and Exposures'!K31/Calculation!CO$13*K$9","v":11393910}]
[null,"1-Married (marital status)",{"$f":"'Deaths and Exposures'!C32/Calculation!CG$13*C$10","v":1636422.1824686942},{"$f":"'Deaths and Exposures'!D32/Calculation!CH$13*D$10","v":622401.84757505776},{"$f":"'Deaths and Exposures'!E32/Calculation!CI$13*E$10","v":574139.65087281796},{"$f":"'Deaths and Exposures'!F32/Calculation!CJ$13*F$10","v":674798.20627802692},{"$f":"'Deaths and Exposures'!G32/Calculation!CK$13*G$10","v":616125},{"$f":"'Deaths and Exposures'!H32/Calculation!CL$13*H$10","v":739523.85026737954},{"$f":"'Deaths and Exposures'!I32/Calculation!CM$13*I$10","v":581737.58865248214},{"$f":"'Deaths and Exposures'!J32/Calculation!CN$13*J$10","v":192480.39603960392},{"$f":"'Deaths and Exposures'!K32/Calculation!CO$13*K$10","v":8675565.9898477159}]
[null,"2-Widowed    ",{"$f":"'Deaths and Exposures'!C33/Calculation!CG$13*C$10","v":768622.54025044711},{"$f":"'Deaths and Exposures'!D33/Calculation!CH$13*D$10","v":308711.31639722863},{"$f":"'Deaths and Exposures'!E33/Calculation!CI$13*E$10","v":284573.56608478801},{"$f":"'Deaths and Exposures'!F33/Calculation!CJ$13*F$10","v":382385.65022421523},{"$f":"'Deaths and Exposures'!G33/Calculation!CK$13*G$10","v":351125.00000000006},{"$f":"'Deaths and Exposures'!H33/Calculation!CL$13*H$10","v":411693.68983957212},{"$f":"'Deaths and Exposures'!I33/Calculation!CM$13*I$10","v":367863.47517730494},{"$f":"'Deaths and Exposures'!J33/Calculation!CN$13*J$10","v":133899.40594059404},{"$f":"'Deaths and Exposures'!K33/Calculation!CO$13*K$10","v":1590520.4314720815}]
[null,"3-Divorced   ",{"$f":"'Deaths and Exposures'!C34/Calculation!CG$13*C$10","v":153724.50805008944},{"$f":"'Deaths and Exposures'!D34/Calculation!CH$13*D$10","v":64729.792147806009},{"$f":"'Deaths and Exposures'!E34/Calculation!CI$13*E$10","v":69895.261845386543},{"$f":"'Deaths and Exposures'!F34/Calculation!CJ$13*F$10","v":101219.73094170404},{"$f":"'Deaths and Exposures'!G34/Calculation!CK$13*G$10","v":112625},{"$f":"'Deaths and Exposures'!H34/Calculation!CL$13*H$10","v":160103.10160427802},{"$f":"'Deaths and Exposures'!I34/Calculation!CM$13*I$10","v":145434.39716312053},{"$f":"'Deaths and Exposures'!J34/Calculation!CN$13*J$10","v":54396.63366336633},{"$f":"'Deaths and Exposures'!K34/Calculation!CO$13*K$10","v":636208.17258883256}]
[null,"4-Separated  ",{"$f":"'Deaths and Exposures'!C35/Calculation!CG$13*C$10","v":49588.550983899819},{"$f":"'Deaths and Exposures'!D35/Calculation!CH$13*D$10","v":17427.25173210162},{"$f":"'Deaths and Exposures'!E35/Calculation!CI$13*E$10","v":17473.815461346636},{"$f":"'Deaths and Exposures'!F35/Calculation!CJ$13*F$10","v":22493.273542600899},{"$f":"'Deaths and Exposures'!G35/Calculation!CK$13*G$10","v":19875},{"$f":"'Deaths and Exposures'!H35/Calculation!CL$13*H$10","v":22871.871657754007},{"$f":"'Deaths and Exposures'!I35/Calculation!CM$13*I$10","v":25664.893617021273},{"$f":"'Deaths and Exposures'!J35/Calculation!CN$13*J$10","v":8368.7128712871272},{"$f":"'Deaths and Exposures'!K35/Calculation!CO$13*K$10","v":101214.93654822336}]
[null,"5-NeverMar.  ",{"$f":"'Deaths and Exposures'!C36/Calculation!CG$13*C$10","v":163642.21824686939},{"$f":"'Deaths and Exposures'!D36/Calculation!CH$13*D$10","v":64729.792147806009},{"$f":"'Deaths and Exposures'!E36/Calculation!CI$13*E$10","v":54917.705735660849},{"$f":"'Deaths and Exposures'!F36/Calculation!CJ$13*F$10","v":73103.139013452921},{"$f":"'Deaths and Exposures'!G36/Calculation!CK$13*G$10","v":66250},{"$f":"'Deaths and Exposures'!H36/Calculation!CL$13*H$10","v":91487.486631016029},{"$f":"'Deaths and Exposures'!I36/Calculation!CM$13*I$10","v":85549.645390070902},{"$f":"'Deaths and Exposures'!J36/Calculation!CN$13*J$10","v":33474.851485148509},{"$f":"'Deaths and Exposures'!K36/Calculation!CO$13*K$10","v":390400.46954314725}]
[null,"1-Lowest inc.  ",{"$f":"'Deaths and Exposures'!C37/Calculation!CG$13*C$11","v":642352.94117647049},{"$f":"'Deaths and Exposures'!D37/Calculation!CH$13*D$11","v":183383.908045977},{"$f":"'Deaths and Exposures'!E37/Calculation!CI$13*E$11","v":165165},{"$f":"'Deaths and Exposures'!F37/Calculation!CJ$13*F$11","v":234601.3363028953},{"$f":"'Deaths and Exposures'!G37/Calculation!CK$13*G$11","v":199885.71428571426},{"$f":"'Deaths and Exposures'!H37/Calculation!CL$13*H$11","v":237613.33333333328},{"$f":"'Deaths and Exposures'!I37/Calculation!CM$13*I$11","v":231806.04982206403},{"$f":"'Deaths and Exposures'!J37/Calculation!CN$13*J$11","v":84524},{"$f":"'Deaths and Exposures'!K37/Calculation!CO$13*K$11","v":901987.80873970862}]
[null,"2-Second dec.  ",{"$f":"'Deaths and Exposures'!C38/Calculation!CG$13*C$11","v":716470.5882352941},{"$f":"'Deaths and Exposures'!D38/Calculation!CH$13*D$11","v":198252.87356321837},{"$f":"'Deaths and Exposures'!E38/Calculation!CI$13*E$11","v":185184.99999999997},{"$f":"'Deaths and Exposures'!F38/Calculation!CJ$13*F$11","v":245772.82850779509},{"$f":"'Deaths and Exposures'!G38/Calculation!CK$13*G$11","v":226537.14285714281},{"$f":"'Deaths and Exposures'!H38/Calculation!CL$13*H$11","v":275938.06451612903},{"$f":"'Deaths and Exposures'!I38/Calculation!CM$13*I$11","v":231806.04982206403},{"$f":"'Deaths and Exposures'!J38/Calculation!CN$13*J$11","v":84524},{"$f":"'Deaths and Exposures'!K38/Calculation!CO$13*K$11","v":1840055.1298290053}]
[null,"3-Third dec.   ",{"$f":"'Deaths and Exposures'!C39/Calculation!CG$13*C$11","v":281647.05882352934},{"$f":"'Deaths and Exposures'!D39/Calculation!CH$13*D$11","v":158602.29885057471},{"$f":"'Deaths and Exposures'!E39/Calculation!CI$13*E$11","v":150150},{"$f":"'Deaths and Exposures'!F39/Calculation!CJ$13*F$11","v":195501.11358574609},{"$f":"'Deaths and Exposures'!G39/Calculation!CK$13*G$11","v":179897.14285714284},{"$f":"'Deaths and Exposures'!H39/Calculation!CL$13*H$11","v":206953.54838709676},{"$f":"'Deaths and Exposures'!I39/Calculation!CM$13*I$11","v":188879.00355871883},{"$f":"'Deaths and Exposures'!J39/Calculation!CN$13*J$11","v":59166.799999999996},{"$f":"'Deaths and Exposures'!K39/Calculation!CO$13*K$11","v":1840055.1298290053}]
[null,"4-Fourth dec.  ",{"$f":"'Deaths and Exposures'!C40/Calculation!CG$13*C$11","v":266823.5294117647},{"$f":"'Deaths and Exposures'!D40/Calculation!CH$13*D$11","v":128864.36781609192},{"$f":"'Deaths and Exposures'!E40/Calculation!CI$13*E$11","v":115115},{"$f":"'Deaths and Exposures'!F40/Calculation!CJ$13*F$11","v":145229.39866369709},{"$f":"'Deaths and Exposures'!G40/Calculation!CK$13*G$11","v":133257.14285714284},{"$f":"'Deaths and Exposures'!H40/Calculation!CL$13*H$11","v":168628.81720430104},{"$f":"'Deaths and Exposures'!I40/Calculation!CM$13*I$11","v":128781.13879003558},{"$f":"'Deaths and Exposures'!J40/Calculation!CN$13*J$11","v":42262},{"$f":"'Deaths and Exposures'!K40/Calculation!CO$13*K$11","v":1659657.5680810637}]
[null,"5-Fifth dec.   ",{"$f":"'Deaths and Exposures'!C41/Calculation!CG$13*C$11","v":256941.17647058822},{"$f":"'Deaths and Exposures'!D41/Calculation!CH$13*D$11","v":94170.114942528729},{"$f":"'Deaths and Exposures'!E41/Calculation!CI$13*E$11","v":90090},{"$f":"'Deaths and Exposures'!F41/Calculation!CJ$13*F$11","v":111714.92204899776},{"$f":"'Deaths and Exposures'!G41/Calculation!CK$13*G$11","v":99942.85714285713},{"$f":"'Deaths and Exposures'!H41/Calculation!CL$13*H$11","v":130304.08602150537},{"$f":"'Deaths and Exposures'!I41/Calculation!CM$13*I$11","v":94439.501779359416},{"$f":"'Deaths and Exposures'!J41/Calculation!CN$13*J$11","v":33809.599999999999},{"$f":"'Deaths and Exposures'!K41/Calculation!CO$13*K$11","v":1334941.9569347687}]
[null,"6-Sixth dec.   ",{"$f":"'Deaths and Exposures'!C42/Calculation!CG$13*C$11","v":207529.41176470587},{"$f":"'Deaths and Exposures'!D42/Calculation!CH$13*D$11","v":79301.149425287353},{"$f":"'Deaths and Exposures'!E42/Calculation!CI$13*E$11","v":80080},{"$f":"'Deaths and Exposures'!F42/Calculation!CJ$13*F$11","v":83786.191536748316},{"$f":"'Deaths and Exposures'!G42/Calculation!CK$13*G$11","v":86617.142857142841},{"$f":"'Deaths and Exposures'!H42/Calculation!CL$13*H$11","v":91979.354838709667},{"$f":"'Deaths and Exposures'!I42/Calculation!CM$13*I$11","v":81561.387900355869},{"$f":"'Deaths and Exposures'!J42/Calculation!CN$13*J$11","v":25357.199999999997},{"$f":"'Deaths and Exposures'!K42/Calculation!CO$13*K$11","v":1046305.8581380619}]
[null,"7-Seventh dec. ",{"$f":"'Deaths and Exposures'!C43/Calculation!CG$13*C$11","v":54352.941176470587},{"$f":"'Deaths and Exposures'!D43/Calculation!CH$13*D$11","v":74344.827586206884},{"$f":"'Deaths and Exposures'!E43/Calculation!CI$13*E$11","v":65065},{"$f":"'Deaths and Exposures'!F43/Calculation!CJ$13*F$11","v":72614.699331848547},{"$f":"'Deaths and Exposures'!G43/Calculation!CK$13*G$11","v":73291.428571428565},{"$f":"'Deaths and Exposures'!H43/Calculation!CL$13*H$11","v":91979.354838709667},{"$f":"'Deaths and Exposures'!I43/Calculation!CM$13*I$11","v":72975.978647686818},{"$f":"'Deaths and Exposures'!J43/Calculation!CN$13*J$11","v":25357.199999999997},{"$f":"'Deaths and Exposures'!K43/Calculation!CO$13*K$11","v":938067.32108929695}]
[null,"8-Eighth dec.  ",{"$f":"'Deaths and Exposures'!C44/Calculation!CG$13*C$11","v":232235.29411764705},{"$f":"'Deaths and Exposures'!D44/Calculation!CH$13*D$11","v":54519.540229885053},{"$f":"'Deaths and Exposures'!E44/Calculation!CI$13*E$11","v":50049.999999999993},{"$f":"'Deaths and Exposures'!F44/Calculation!CJ$13*F$11","v":55857.46102449888},{"$f":"'Deaths and Exposures'!G44/Calculation!CK$13*G$11","v":53302.857142857138},{"$f":"'Deaths and Exposures'!H44/Calculation!CL$13*H$11","v":68984.516129032258},{"$f":"'Deaths and Exposures'!I44/Calculation!CM$13*I$11","v":51512.455516014226},{"$f":"'Deaths and Exposures'!J44/Calculation!CN$13*J$11","v":21131},{"$f":"'Deaths and Exposures'!K44/Calculation!CO$13*K$11","v":642215.31982267252}]
[null,"9-Ninth dec.   ",{"$f":"'Deaths and Exposures'!C45/Calculation!CG$13*C$11","v":39529.411764705874},{"$f":"'Deaths and Exposures'!D45/Calculation!CH$13*D$11","v":59475.862068965507},{"$f":"'Deaths and Exposures'!E45/Calculation!CI$13*E$11","v":55055},{"$f":"'Deaths and Exposures'!F45/Calculation!CJ$13*F$11","v":55857.46102449888},{"$f":"'Deaths and Exposures'!G45/Calculation!CK$13*G$11","v":59965.714285714275},{"$f":"'Deaths and Exposures'!H45/Calculation!CL$13*H$11","v":76649.462365591389},{"$f":"'Deaths and Exposures'!I45/Calculation!CM$13*I$11","v":64390.569395017788},{"$f":"'Deaths and Exposures'!J45/Calculation!CN$13*J$11","v":25357.199999999997},{"$f":"'Deaths and Exposures'!K45/Calculation!CO$13*K$11","v":627783.51488283719}]
[null,"10-Highest dec. (family income in 2008$)",{"$f":"'Deaths and Exposures'!C46/Calculation!CG$13*C$11","v":74117.64705882351},{"$f":"'Deaths and Exposures'!D46/Calculation!CH$13*D$11","v":47085.057471264365},{"$f":"'Deaths and Exposures'!E46/Calculation!CI$13*E$11","v":45045},{"$f":"'Deaths and Exposures'!F46/Calculation!CJ$13*F$11","v":53064.587973273934},{"$f":"'Deaths and Exposures'!G46/Calculation!CK$13*G$11","v":53302.857142857138},{"$f":"'Deaths and Exposures'!H46/Calculation!CL$13*H$11","v":76649.462365591389},{"$f":"'Deaths and Exposures'!I46/Calculation!CM$13*I$11","v":60097.864768683263},{"$f":"'Deaths and Exposures'!J46/Calculation!CN$13*J$11","v":21131},{"$f":"'Deaths and Exposures'!K46/Calculation!CO$13*K$11","v":562840.39265357819}]
[null,"1-Dropout      ",{"$f":"'Deaths and Exposures'!C47/Calculation!CG$13*C$12","v":1567648.1149012567},{"$f":"'Deaths and Exposures'!D47/Calculation!CH$13*D$12","v":546451.61290322582},{"$f":"'Deaths and Exposures'!E47/Calculation!CI$13*E$12","v":452713.56783919595},{"$f":"'Deaths and Exposures'!F47/Calculation!CJ$13*F$12","v":511609.75609756092},{"$f":"'Deaths and Exposures'!G47/Calculation!CK$13*G$12","v":417374.99999999988},{"$f":"'Deaths and Exposures'!H47/Calculation!CL$13*H$12","v":456217.59999999998},{"$f":"'Deaths and Exposures'!I47/Calculation!CM$13*I$12","v":366563.60424028267},{"$f":"'Deaths and Exposures'!J47/Calculation!CN$13*J$12","v":118333.59999999998},{"$f":"'Deaths and Exposures'!K47/Calculation!CO$13*K$12","v":2966033.714285715}]
[null,"2-H.S.Diploma (education)      ",{"$f":"'Deaths and Exposures'!C48/Calculation!CG$13*C$12","v":721615.79892280069},{"$f":"'Deaths and Exposures'!D48/Calculation!CH$13*D$12","v":322903.22580645164},{"$f":"'Deaths and Exposures'!E48/Calculation!CI$13*E$12","v":331989.94974874367},{"$f":"'Deaths and Exposures'!F48/Calculation!CJ$13*F$12","v":405951.21951219509},{"$f":"'Deaths and Exposures'!G48/Calculation!CK$13*G$12","v":397499.99999999994},{"$f":"'Deaths and Exposures'!H48/Calculation!CL$13*H$12","v":501839.35999999993},{"$f":"'Deaths and Exposures'!I48/Calculation!CM$13*I$12","v":434761.48409893992},{"$f":"'Deaths and Exposures'!J48/Calculation!CN$13*J$12","v":160595.59999999998},{"$f":"'Deaths and Exposures'!K48/Calculation!CO$13*K$12","v":4159681.4285714286}]
[null,"3-SomeColl/AA  ",{"$f":"'Deaths and Exposures'!C49/Calculation!CG$13*C$12","v":253809.69479353682},{"$f":"'Deaths and Exposures'!D49/Calculation!CH$13*D$12","v":109290.32258064518},{"$f":"'Deaths and Exposures'!E49/Calculation!CI$13*E$12","v":110663.31658291457},{"$f":"'Deaths and Exposures'!F49/Calculation!CJ$13*F$12","v":194634.14634146341},{"$f":"'Deaths and Exposures'!G49/Calculation!CK$13*G$12","v":198749.99999999997},{"$f":"'Deaths and Exposures'!H49/Calculation!CL$13*H$12","v":266126.93333333329},{"$f":"'Deaths and Exposures'!I49/Calculation!CM$13*I$12","v":230167.84452296817},{"$f":"'Deaths and Exposures'!J49/Calculation!CN$13*J$12","v":84523.999999999985},{"$f":"'Deaths and Exposures'!K49/Calculation!CO$13*K$12","v":2568151.1428571432}]
[null,"4-4yr.Degree   ",{"$f":"'Deaths and Exposures'!C50/Calculation!CG$13*C$12","v":139346.49910233391},{"$f":"'Deaths and Exposures'!D50/Calculation!CH$13*D$12","v":59612.903225806462},{"$f":"'Deaths and Exposures'!E50/Calculation!CI$13*E$12","v":60361.809045226131},{"$f":"'Deaths and Exposures'!F50/Calculation!CJ$13*F$12","v":88975.609756097561},{"$f":"'Deaths and Exposures'!G50/Calculation!CK$13*G$12","v":99374.999999999985},{"$f":"'Deaths and Exposures'!H50/Calculation!CL$13*H$12","v":129261.65333333332},{"$f":"'Deaths and Exposures'!I50/Calculation!CM$13*I$12","v":110821.55477031802},{"$f":"'Deaths and Exposures'!J50/Calculation!CN$13*J$12","v":38035.799999999996},{"$f":"'Deaths and Exposures'!K50/Calculation!CO$13*K$12","v":1121305.4285714286}]
[null,"5-Grad.Degree  ",{"$f":"'Deaths and Exposures'!C51/Calculation!CG$13*C$12","v":89579.892280071814},{"$f":"'Deaths and Exposures'!D51/Calculation!CH$13*D$12","v":39741.935483870977},{"$f":"'Deaths and Exposures'!E51/Calculation!CI$13*E$12","v":45271.356783919597},{"$f":"'Deaths and Exposures'!F51/Calculation!CJ$13*F$12","v":52829.268292682929},{"$f":"'Deaths and Exposures'!G51/Calculation!CK$13*G$12","v":52999.999999999993},{"$f":"'Deaths and Exposures'!H51/Calculation!CL$13*H$12","v":72234.453333333324},{"$f":"'Deaths and Exposures'!I51/Calculation!CM$13*I$12","v":63935.512367491167},{"$f":"'Deaths and Exposures'!J51/Calculation!CN$13*J$12","v":21130.999999999996},{"$f":"'Deaths and Exposures'!K51/Calculation!CO$13*K$12","v":578738.2857142858}]
[null,"1-White NH (ethnic/race)     ",{"$f":"'Deaths and Exposures'!C52/Calculation!CG$13*C$13","v":2332748.4333034912},{"$f":"'Deaths and Exposures'!D52/Calculation!CH$13*D$13","v":487963.04849884519},{"$f":"'Deaths and Exposures'!E52/Calculation!CI$13*E$13","v":817648.51485148515},{"$f":"'Deaths and Exposures'!F52/Calculation!CJ$13*F$13","v":1007678.5714285715},{"$f":"'Deaths and Exposures'!G52/Calculation!CK$13*G$13","v":927500.00000000012},{"$f":"'Deaths and Exposures'!H52/Calculation!CL$13*H$13","v":1067354.0106951871},{"$f":"'Deaths and Exposures'!I52/Calculation!CM$13*I$13","v":861607.14285714296},{"$f":"'Deaths and Exposures'!J52/Calculation!CN$13*J$13","v":298822.22222222219},{"$f":"'Deaths and Exposures'!K52/Calculation!CO$13*K$13","v":9374736.0759493671}]
[null,"2-Black NH     ",{"$f":"'Deaths and Exposures'!C53/Calculation!CG$13*C$13","v":272981.19964189793},{"$f":"'Deaths and Exposures'!D53/Calculation!CH$13*D$13","v":59750.577367205529},{"$f":"'Deaths and Exposures'!E53/Calculation!CI$13*E$13","v":79287.128712871301},{"$f":"'Deaths and Exposures'!F53/Calculation!CJ$13*F$13","v":111964.28571428571},{"$f":"'Deaths and Exposures'!G53/Calculation!CK$13*G$13","v":99375.000000000015},{"$f":"'Deaths and Exposures'!H53/Calculation!CL$13*H$13","v":152479.14438502674},{"$f":"'Deaths and Exposures'!I53/Calculation!CM$13*I$13","v":180937.5},{"$f":"'Deaths and Exposures'!J53/Calculation!CN$13*J$13","v":68302.222222222219},{"$f":"'Deaths and Exposures'!K53/Calculation!CO$13*K$13","v":901416.93037974683}]
[null,"3-Asian NH     ",{"$f":"'Deaths and Exposures'!C54/Calculation!CG$13*C$13","v":27298.119964189795},{"$f":"'Deaths and Exposures'!D54/Calculation!CH$13*D$13","v":4979.2147806004614},{"$f":"'Deaths and Exposures'!E54/Calculation!CI$13*E$13","v":9910.8910891089126},{"$f":"'Deaths and Exposures'!F54/Calculation!CJ$13*F$13","v":13995.535714285714},{"$f":"'Deaths and Exposures'!G54/Calculation!CK$13*G$13","v":16562.5},{"$f":"'Deaths and Exposures'!H54/Calculation!CL$13*H$13","v":30495.828877005348},{"$f":"'Deaths and Exposures'!I54/Calculation!CM$13*I$13","v":38772.321428571435},{"$f":"'Deaths and Exposures'!J54/Calculation!CN$13*J$13","v":12806.666666666666},{"$f":"'Deaths and Exposures'!K54/Calculation!CO$13*K$13","v":346144.10126582277}]
[null,"4-Hispanic     ",{"$f":"'Deaths and Exposures'!C55/Calculation!CG$13*C$13","v":69486.123545210372},{"$f":"'Deaths and Exposures'!D55/Calculation!CH$13*D$13","v":42323.325635103916},{"$f":"'Deaths and Exposures'!E55/Calculation!CI$13*E$13","v":44599.009900990102},{"$f":"'Deaths and Exposures'!F55/Calculation!CJ$13*F$13","v":67178.571428571435},{"$f":"'Deaths and Exposures'!G55/Calculation!CK$13*G$13","v":72875},{"$f":"'Deaths and Exposures'!H55/Calculation!CL$13*H$13","v":106735.4010695187},{"$f":"'Deaths and Exposures'!I55/Calculation!CM$13*I$13","v":81852.67857142858},{"$f":"'Deaths and Exposures'!J55/Calculation!CN$13*J$13","v":29882.222222222223},{"$f":"'Deaths and Exposures'!K55/Calculation!CO$13*K$13","v":605752.17721518991}]
[null,"5-Other NH     ",{"$f":"'Deaths and Exposures'!C56/Calculation!CG$13*C$13","v":69486.123545210372},{"$f":"'Deaths and Exposures'!D56/Calculation!CH$13*D$13","v":482983.83371824468},{"$f":"'Deaths and Exposures'!E56/Calculation!CI$13*E$13","v":49554.455445544554},{"$f":"'Deaths and Exposures'!F56/Calculation!CJ$13*F$13","v":53183.035714285717},{"$f":"'Deaths and Exposures'!G56/Calculation!CK$13*G$13","v":49687.500000000007},{"$f":"'Deaths and Exposures'!H56/Calculation!CL$13*H$13","v":68615.614973262025},{"$f":"'Deaths and Exposures'!I56/Calculation!CM$13*I$13","v":43080.357142857145},{"$f":"'Deaths and Exposures'!J56/Calculation!CN$13*J$13","v":12806.666666666666},{"$f":"'Deaths and Exposures'!K56/Calculation!CO$13*K$13","v":165860.71518987342}]
[null,"1-Employed  (Labor force)",{"$f":"'Deaths and Exposures'!C57/Calculation!CG$13*C$14","v":646385.65022421523},{"$f":"'Deaths and Exposures'!D57/Calculation!CH$13*D$14","v":226429.22374429228},{"$f":"'Deaths and Exposures'!E57/Calculation!CI$13*E$14","v":211266.33165829146},{"$f":"'Deaths and Exposures'!F57/Calculation!CJ$13*F$14","v":234080},{"$f":"'Deaths and Exposures'!G57/Calculation!CK$13*G$14","v":227496.0182025028},{"$f":"'Deaths and Exposures'!H57/Calculation!CL$13*H$14","v":298932.90322580637},{"$f":"'Deaths and Exposures'!I57/Calculation!CM$13*I$14","v":220087.71929824562},{"$f":"'Deaths and Exposures'!J57/Calculation!CN$13*J$14","v":63266.467065868259},{"$f":"'Deaths and Exposures'!K57/Calculation!CO$13*K$14","v":2378235.4838709678}]
[null,"2-Unemployed   ",{"$f":"'Deaths and Exposures'!C58/Calculation!CG$13*C$14","v":37291.479820627806},{"$f":"'Deaths and Exposures'!D58/Calculation!CH$13*D$14","v":14767.123287671235},{"$f":"'Deaths and Exposures'!E58/Calculation!CI$13*E$14","v":10060.301507537688},{"$f":"'Deaths and Exposures'!F58/Calculation!CJ$13*F$14","v":16720},{"$f":"'Deaths and Exposures'!G58/Calculation!CK$13*G$14","v":9948.8054607508511},{"$f":"'Deaths and Exposures'!H58/Calculation!CL$13*H$14","v":15329.892473118276},{"$f":"'Deaths and Exposures'!I58/Calculation!CM$13*I$14","v":12697.36842105263},{"$f":"'Deaths and Exposures'!J58/Calculation!CN$13*J$14","v":5061.3173652694604},{"$f":"'Deaths and Exposures'!K58/Calculation!CO$13*K$14","v":151342.25806451612}]
[null,"3-NILF         ",{"$f":"'Deaths and Exposures'!C59/Calculation!CG$13*C$14","v":2088322.8699551572},{"$f":"'Deaths and Exposures'!D59/Calculation!CH$13*D$14","v":836803.65296803671},{"$f":"'Deaths and Exposures'!E59/Calculation!CI$13*E$14","v":779673.36683417077},{"$f":"'Deaths and Exposures'!F59/Calculation!CJ$13*F$14","v":1003200},{"$f":"'Deaths and Exposures'!G59/Calculation!CK$13*G$14","v":928555.1763367462},{"$f":"'Deaths and Exposures'!H59/Calculation!CL$13*H$14","v":1111417.2043010751},{"$f":"'Deaths and Exposures'!I59/Calculation!CM$13*I$14","v":973464.91228070168},{"$f":"'Deaths and Exposures'!J59/Calculation!CN$13*J$14","v":354292.21556886222},{"$f":"'Deaths and Exposures'!K59/Calculation!CO$13*K$14","v":8864332.2580645159}]
[null,"1-Prof./Managerial (occ.)",{"$f":"'Deaths and Exposures'!C60/Calculation!CG$13*C$15","v":74117.647058823524},{"$f":"'Deaths and Exposures'!D60/Calculation!CH$13*D$15","v":30013.921113689095},{"$f":"'Deaths and Exposures'!E60/Calculation!CI$13*E$15","v":30030},{"$f":"'Deaths and Exposures'!F60/Calculation!CJ$13*F$15","v":33664.429530201342},{"$f":"'Deaths and Exposures'!G60/Calculation!CK$13*G$15","v":32937.853107344628},{"$f":"'Deaths and Exposures'!H60/Calculation!CL$13*H$15","v":45621.759999999987},{"$f":"'Deaths and Exposures'!I60/Calculation!CM$13*I$15","v":33741.258741258745},{"$f":"'Deaths and Exposures'!J60/Calculation!CN$13*J$15","v":12553.069306930691},{"$f":"'Deaths and Exposures'!K60/Calculation!CO$13*K$15","v":586344.79669631517}]
[null,"2-Sklld/Sales  ",{"$f":"'Deaths and Exposures'!C61/Calculation!CG$13*C$15","v":187764.70588235295},{"$f":"'Deaths and Exposures'!D61/Calculation!CH$13*D$15","v":75034.802784222746},{"$f":"'Deaths and Exposures'!E61/Calculation!CI$13*E$15","v":70070},{"$f":"'Deaths and Exposures'!F61/Calculation!CJ$13*F$15","v":78550.33557046979},{"$f":"'Deaths and Exposures'!G61/Calculation!CK$13*G$15","v":72463.276836158169},{"$f":"'Deaths and Exposures'!H61/Calculation!CL$13*H$15","v":91243.519999999975},{"$f":"'Deaths and Exposures'!I61/Calculation!CM$13*I$15","v":54829.545454545456},{"$f":"'Deaths and Exposures'!J61/Calculation!CN$13*J$15","v":16737.425742574254},{"$f":"'Deaths and Exposures'!K61/Calculation!CO$13*K$15","v":977241.32782719191}]
[null,"3-BlueCol.Lgt  ",{"$f":"'Deaths and Exposures'!C62/Calculation!CG$13*C$15","v":158117.64705882352},{"$f":"'Deaths and Exposures'!D62/Calculation!CH$13*D$15","v":55025.522041763346},{"$f":"'Deaths and Exposures'!E62/Calculation!CI$13*E$15","v":50049.999999999993},{"$f":"'Deaths and Exposures'!F62/Calculation!CJ$13*F$15","v":56107.382550335562},{"$f":"'Deaths and Exposures'!G62/Calculation!CK$13*G$15","v":46112.994350282475},{"$f":"'Deaths and Exposures'!H62/Calculation!CL$13*H$15","v":68432.639999999985},{"$f":"'Deaths and Exposures'!I62/Calculation!CM$13*I$15","v":59047.202797202794},{"$f":"'Deaths and Exposures'!J62/Calculation!CN$13*J$15","v":16737.425742574254},{"$f":"'Deaths and Exposures'!K62/Calculation!CO$13*K$15","v":977241.32782719191}]
[null,"4-BlueCol.Hvy  ",{"$f":"'Deaths and Exposures'!C63/Calculation!CG$13*C$15","v":321176.4705882353},{"$f":"'Deaths and Exposures'!D63/Calculation!CH$13*D$15","v":105048.72389791183},{"$f":"'Deaths and Exposures'!E63/Calculation!CI$13*E$15","v":90090},{"$f":"'Deaths and Exposures'!F63/Calculation!CJ$13*F$15","v":89771.812080536911},{"$f":"'Deaths and Exposures'!G63/Calculation!CK$13*G$15","v":79050.847457627096},{"$f":"'Deaths and Exposures'!H63/Calculation!CL$13*H$15","v":98847.146666666638},{"$f":"'Deaths and Exposures'!I63/Calculation!CM$13*I$15","v":75917.832167832166},{"$f":"'Deaths and Exposures'!J63/Calculation!CN$13*J$15","v":20921.782178217818},{"$f":"'Deaths and Exposures'!K63/Calculation!CO$13*K$15","v":1194406.0673443456}]
[null,"5-Medical.Occ  ",{"$f":"'Deaths and Exposures'!C64/Calculation!CG$13*C$15","v":29647.058823529413},{"$f":"'Deaths and Exposures'!D64/Calculation!CH$13*D$15","v":12505.800464037124},{"$f":"'Deaths and Exposures'!E64/Calculation!CI$13*E$15","v":10010},{"$f":"'Deaths and Exposures'!F64/Calculation!CJ$13*F$15","v":14026.84563758389},{"$f":"'Deaths and Exposures'!G64/Calculation!CK$13*G$15","v":13175.141242937851},{"$f":"'Deaths and Exposures'!H64/Calculation!CL$13*H$15","v":19009.066666666662},{"$f":"'Deaths and Exposures'!I64/Calculation!CM$13*I$15","v":12652.972027972026},{"$f":"'Deaths and Exposures'!J64/Calculation!CN$13*J$15","v":4184.3564356435636},{"$f":"'Deaths and Exposures'!K64/Calculation!CO$13*K$15","v":202687.09021601017}]
[null,"6-N/A          ",{"$f":"'Deaths and Exposures'!C65/Calculation!CG$13*C$15","v":2001176.4705882352},{"$f":"'Deaths and Exposures'!D65/Calculation!CH$13*D$15","v":800371.22969837592},{"$f":"'Deaths and Exposures'!E65/Calculation!CI$13*E$15","v":750750},{"$f":"'Deaths and Exposures'!F65/Calculation!CJ$13*F$15","v":981879.19463087246},{"$f":"'Deaths and Exposures'!G65/Calculation!CK$13*G$15","v":922259.88700564962},{"$f":"'Deaths and Exposures'!H65/Calculation!CL$13*H$15","v":1102525.8666666665},{"$f":"'Deaths and Exposures'!I65/Calculation!CM$13*I$15","v":970061.1888111888},{"$f":"'Deaths and Exposures'!J65/Calculation!CN$13*J$15","v":351485.94059405936},{"$f":"'Deaths and Exposures'!K65/Calculation!CO$13*K$15","v":7455989.3900889456}]
[]
[null,"Variance (dynamic, all cause, heart, and cancer)"]
[null,null,"1987.5-1991.5","1991.5-1995.5","1995.5-1999.5","1999.5-2003.5","2003.5-2006","2006-2008","2008-2010","2010-2012"]
[null,"age 40-44 ",{"$f":"IFERROR(Calculation!CH8/Calculation!CG8/Calculation!CG8/D17+(Calculation!CH8^2)/(Calculation!CG8^3)/C17,\"N/A\")","v":1.7172058516346127E-3},{"$f":"IFERROR(Calculation!CI8/Calculation!CH8/Calculation!CH8/E17+(Calculation!CI8^2)/(Calculation!CH8^3)/D17,\"N/A\")","v":2.3547235560692553E-3},{"$f":"IFERROR(Calculation!CJ8/Calculation!CI8/Calculation!CI8/F17+(Calculation!CJ8^2)/(Calculation!CI8^3)/E17,\"N/A\")","v":2.0629664144131295E-3},{"$f":"IFERROR(Calculation!CK8/Calculation!CJ8/Calculation!CJ8/G17+(Calculation!CK8^2)/(Calculation!CJ8^3)/F17,\"N/A\")","v":1.9395672898291302E-3},{"$f":"IFERROR(Calculation!CL8/Calculation!CK8/Calculation!CK8/H17+(Calculation!CL8^2)/(Calculation!CK8^3)/G17,\"N/A\")","v":1.8316740595943739E-3},{"$f":"IFERROR(Calculation!CM8/Calculation!CL8/Calculation!CL8/I17+(Calculation!CM8^2)/(Calculation!CL8^3)/H17,\"N/A\")","v":1.9283444464798611E-3},{"$f":"IFERROR(Calculation!CN8/Calculation!CM8/Calculation!CM8/J17+(Calculation!CN8^2)/(Calculation!CM8^3)/I17,\"N/A\")","v":5.1135660241900813E-3},{"$f":"IFERROR(Calculation!CO8/Calculation!CN8/Calculation!CN8/K17+(Calculation!CO8^2)/(Calculation!CN8^3)/J17,\"N/A\")","v":4.3032632973858337E-3}]
[null,"age 45-49 ",{"$f":"IFERROR(Calculation!CH9/Calculation!CG9/Calculation!CG9/D18+(Calculation!CH9^2)/(Calculation!CG9^3)/C18,\"N/A\")","v":1.2844073352665699E-3},{"$f":"IFERROR(Calculation!CI9/Calculation!CH9/Calculation!CH9/E18+(Calculation!CI9^2)/(Calculation!CH9^3)/D18,\"N/A\")","v":1.851928778593167E-3},{"$f":"IFERROR(Calculation!CJ9/Calculation!CI9/Calculation!CI9/F18+(Calculation!CJ9^2)/(Calculation!CI9^3)/E18,\"N/A\")","v":1.6473644293641177E-3},{"$f":"IFERROR(Calculation!CK9/Calculation!CJ9/Calculation!CJ9/G18+(Calculation!CK9^2)/(Calculation!CJ9^3)/F18,\"N/A\")","v":1.4329456339268859E-3},{"$f":"IFERROR(Calculation!CL9/Calculation!CK9/Calculation!CK9/H18+(Calculation!CL9^2)/(Calculation!CK9^3)/G18,\"N/A\")","v":1.3175620019797447E-3},{"$f":"IFERROR(Calculation!CM9/Calculation!CL9/Calculation!CL9/I18+(Calculation!CM9^2)/(Calculation!CL9^3)/H18,\"N/A\")","v":1.4156894359938059E-3},{"$f":"IFERROR(Calculation!CN9/Calculation!CM9/Calculation!CM9/J18+(Calculation!CN9^2)/(Calculation!CM9^3)/I18,\"N/A\")","v":3.1647490574580536E-3},{"$f":"IFERROR(Calculation!CO9/Calculation!CN9/Calculation!CN9/K18+(Calculation!CO9^2)/(Calculation!CN9^3)/J18,\"N/A\")","v":2.5760951063342414E-3}]
[null,"age 50-54 ",{"$f":"IFERROR(Calculation!CH10/Calculation!CG10/Calculation!CG10/D19+(Calculation!CH10^2)/(Calculation!CG10^3)/C19,\"N/A\")","v":7.8323328933818756E-4},{"$f":"IFERROR(Calculation!CI10/Calculation!CH10/Calculation!CH10/E19+(Calculation!CI10^2)/(Calculation!CH10^3)/D19,\"N/A\")","v":1.2372870847045642E-3},{"$f":"IFERROR(Calculation!CJ10/Calculation!CI10/Calculation!CI10/F19+(Calculation!CJ10^2)/(Calculation!CI10^3)/E19,\"N/A\")","v":1.1582577085225585E-3},{"$f":"IFERROR(Calculation!CK10/Calculation!CJ10/Calculation!CJ10/G19+(Calculation!CK10^2)/(Calculation!CJ10^3)/F19,\"N/A\")","v":1.0920284317710591E-3},{"$f":"IFERROR(Calculation!CL10/Calculation!CK10/Calculation!CK10/H19+(Calculation!CL10^2)/(Calculation!CK10^3)/G19,\"N/A\")","v":1.0679081878617654E-3},{"$f":"IFERROR(Calculation!CM10/Calculation!CL10/Calculation!CL10/I19+(Calculation!CM10^2)/(Calculation!CL10^3)/H19,\"N/A\")","v":1.0884022221317883E-3},{"$f":"IFERROR(Calculation!CN10/Calculation!CM10/Calculation!CM10/J19+(Calculation!CN10^2)/(Calculation!CM10^3)/I19,\"N/A\")","v":3.0261230681679924E-3},{"$f":"IFERROR(Calculation!CO10/Calculation!CN10/Calculation!CN10/K19+(Calculation!CO10^2)/(Calculation!CN10^3)/J19,\"N/A\")","v":2.6824218379171484E-3}]
[null,"age 55-59 ",{"$f":"IFERROR(Calculation!CH11/Calculation!CG11/Calculation!CG11/D20+(Calculation!CH11^2)/(Calculation!CG11^3)/C20,\"N/A\")","v":5.1574350646709421E-4},{"$f":"IFERROR(Calculation!CI11/Calculation!CH11/Calculation!CH11/E20+(Calculation!CI11^2)/(Calculation!CH11^3)/D20,\"N/A\")","v":8.1855641174060625E-4},{"$f":"IFERROR(Calculation!CJ11/Calculation!CI11/Calculation!CI11/F20+(Calculation!CJ11^2)/(Calculation!CI11^3)/E20,\"N/A\")","v":8.4378484591585872E-4},{"$f":"IFERROR(Calculation!CK11/Calculation!CJ11/Calculation!CJ11/G20+(Calculation!CK11^2)/(Calculation!CJ11^3)/F20,\"N/A\")","v":8.789288145737501E-4},{"$f":"IFERROR(Calculation!CL11/Calculation!CK11/Calculation!CK11/H20+(Calculation!CL11^2)/(Calculation!CK11^3)/G20,\"N/A\")","v":9.0414934375283894E-4},{"$f":"IFERROR(Calculation!CM11/Calculation!CL11/Calculation!CL11/I20+(Calculation!CM11^2)/(Calculation!CL11^3)/H20,\"N/A\")","v":9.0955717501295592E-4},{"$f":"IFERROR(Calculation!CN11/Calculation!CM11/Calculation!CM11/J20+(Calculation!CN11^2)/(Calculation!CM11^3)/I20,\"N/A\")","v":1.9251444191546469E-3},{"$f":"IFERROR(Calculation!CO11/Calculation!CN11/Calculation!CN11/K20+(Calculation!CO11^2)/(Calculation!CN11^3)/J20,\"N/A\")","v":1.5988683761845343E-3}]
[null,"age 60-64",{"$f":"IFERROR(Calculation!CH12/Calculation!CG12/Calculation!CG12/D21+(Calculation!CH12^2)/(Calculation!CG12^3)/C21,\"N/A\")","v":3.7963079226909966E-4},{"$f":"IFERROR(Calculation!CI12/Calculation!CH12/Calculation!CH12/E21+(Calculation!CI12^2)/(Calculation!CH12^3)/D21,\"N/A\")","v":5.5656947666542981E-4},{"$f":"IFERROR(Calculation!CJ12/Calculation!CI12/Calculation!CI12/F21+(Calculation!CJ12^2)/(Calculation!CI12^3)/E21,\"N/A\")","v":5.6782295293414473E-4},{"$f":"IFERROR(Calculation!CK12/Calculation!CJ12/Calculation!CJ12/G21+(Calculation!CK12^2)/(Calculation!CJ12^3)/F21,\"N/A\")","v":6.244621026101297E-4},{"$f":"IFERROR(Calculation!CL12/Calculation!CK12/Calculation!CK12/H21+(Calculation!CL12^2)/(Calculation!CK12^3)/G21,\"N/A\")","v":6.7979412638102723E-4},{"$f":"IFERROR(Calculation!CM12/Calculation!CL12/Calculation!CL12/I21+(Calculation!CM12^2)/(Calculation!CL12^3)/H21,\"N/A\")","v":7.7224133290223801E-4},{"$f":"IFERROR(Calculation!CN12/Calculation!CM12/Calculation!CM12/J21+(Calculation!CN12^2)/(Calculation!CM12^3)/I21,\"N/A\")","v":1.7095851018094506E-3},{"$f":"IFERROR(Calculation!CO12/Calculation!CN12/Calculation!CN12/K21+(Calculation!CO12^2)/(Calculation!CN12^3)/J21,\"N/A\")","v":1.4288471643084928E-3}]
[null,"age 65-69 (age group) ",{"$f":"IFERROR(Calculation!CH13/Calculation!CG13/Calculation!CG13/D22+(Calculation!CH13^2)/(Calculation!CG13^3)/C22,\"N/A\")","v":3.1902915877654939E-4},{"$f":"IFERROR(Calculation!CI13/Calculation!CH13/Calculation!CH13/E22+(Calculation!CI13^2)/(Calculation!CH13^3)/D22,\"N/A\")","v":4.4370957415473724E-4},{"$f":"IFERROR(Calculation!CJ13/Calculation!CI13/Calculation!CI13/F22+(Calculation!CJ13^2)/(Calculation!CI13^3)/E22,\"N/A\")","v":4.2446274636827547E-4},{"$f":"IFERROR(Calculation!CK13/Calculation!CJ13/Calculation!CJ13/G22+(Calculation!CK13^2)/(Calculation!CJ13^3)/F22,\"N/A\")","v":4.4222507866893001E-4},{"$f":"IFERROR(Calculation!CL13/Calculation!CK13/Calculation!CK13/H22+(Calculation!CL13^2)/(Calculation!CK13^3)/G22,\"N/A\")","v":5.0894049656510212E-4},{"$f":"IFERROR(Calculation!CM13/Calculation!CL13/Calculation!CL13/I22+(Calculation!CM13^2)/(Calculation!CL13^3)/H22,\"N/A\")","v":6.3756548025863851E-4},{"$f":"IFERROR(Calculation!CN13/Calculation!CM13/Calculation!CM13/J22+(Calculation!CN13^2)/(Calculation!CM13^3)/I22,\"N/A\")","v":1.4762681016567615E-3},{"$f":"IFERROR(Calculation!CO13/Calculation!CN13/Calculation!CN13/K22+(Calculation!CO13^2)/(Calculation!CN13^3)/J22,\"N/A\")","v":1.2222351151292676E-3}]
[null,"age 70-74 ",{"$f":"IFERROR(Calculation!CH14/Calculation!CG14/Calculation!CG14/D23+(Calculation!CH14^2)/(Calculation!CG14^3)/C23,\"N/A\")","v":2.9982235873150499E-4},{"$f":"IFERROR(Calculation!CI14/Calculation!CH14/Calculation!CH14/E23+(Calculation!CI14^2)/(Calculation!CH14^3)/D23,\"N/A\")","v":4.1083426652292862E-4},{"$f":"IFERROR(Calculation!CJ14/Calculation!CI14/Calculation!CI14/F23+(Calculation!CJ14^2)/(Calculation!CI14^3)/E23,\"N/A\")","v":3.6974871024043031E-4},{"$f":"IFERROR(Calculation!CK14/Calculation!CJ14/Calculation!CJ14/G23+(Calculation!CK14^2)/(Calculation!CJ14^3)/F23,\"N/A\")","v":3.482410063860036E-4},{"$f":"IFERROR(Calculation!CL14/Calculation!CK14/Calculation!CK14/H23+(Calculation!CL14^2)/(Calculation!CK14^3)/G23,\"N/A\")","v":3.8582767146507478E-4},{"$f":"IFERROR(Calculation!CM14/Calculation!CL14/Calculation!CL14/I23+(Calculation!CM14^2)/(Calculation!CL14^3)/H23,\"N/A\")","v":5.0043092233192791E-4},{"$f":"IFERROR(Calculation!CN14/Calculation!CM14/Calculation!CM14/J23+(Calculation!CN14^2)/(Calculation!CM14^3)/I23,\"N/A\")","v":1.2714297987695196E-3},{"$f":"IFERROR(Calculation!CO14/Calculation!CN14/Calculation!CN14/K23+(Calculation!CO14^2)/(Calculation!CN14^3)/J23,\"N/A\")","v":1.0443698946566056E-3}]
[null,"age 75-79 ",{"$f":"IFERROR(Calculation!CH15/Calculation!CG15/Calculation!CG15/D24+(Calculation!CH15^2)/(Calculation!CG15^3)/C24,\"N/A\")","v":3.3712338965179341E-4},{"$f":"IFERROR(Calculation!CI15/Calculation!CH15/Calculation!CH15/E24+(Calculation!CI15^2)/(Calculation!CH15^3)/D24,\"N/A\")","v":4.5267996758470192E-4},{"$f":"IFERROR(Calculation!CJ15/Calculation!CI15/Calculation!CI15/F24+(Calculation!CJ15^2)/(Calculation!CI15^3)/E24,\"N/A\")","v":3.8446804720644351E-4},{"$f":"IFERROR(Calculation!CK15/Calculation!CJ15/Calculation!CJ15/G24+(Calculation!CK15^2)/(Calculation!CJ15^3)/F24,\"N/A\")","v":3.3646687784941198E-4},{"$f":"IFERROR(Calculation!CL15/Calculation!CK15/Calculation!CK15/H24+(Calculation!CL15^2)/(Calculation!CK15^3)/G24,\"N/A\")","v":3.436513114299356E-4},{"$f":"IFERROR(Calculation!CM15/Calculation!CL15/Calculation!CL15/I24+(Calculation!CM15^2)/(Calculation!CL15^3)/H24,\"N/A\")","v":4.0765319976916856E-4},{"$f":"IFERROR(Calculation!CN15/Calculation!CM15/Calculation!CM15/J24+(Calculation!CN15^2)/(Calculation!CM15^3)/I24,\"N/A\")","v":1.0354277181989155E-3},{"$f":"IFERROR(Calculation!CO15/Calculation!CN15/Calculation!CN15/K24+(Calculation!CO15^2)/(Calculation!CN15^3)/J24,\"N/A\")","v":8.8067597233810807E-4}]
[null,"age 80-84 ",{"$f":"IFERROR(Calculation!CH16/Calculation!CG16/Calculation!CG16/D25+(Calculation!CH16^2)/(Calculation!CG16^3)/C25,\"N/A\")","v":4.5975117059592882E-4},{"$f":"IFERROR(Calculation!CI16/Calculation!CH16/Calculation!CH16/E25+(Calculation!CI16^2)/(Calculation!CH16^3)/D25,\"N/A\")","v":6.0793362652278944E-4},{"$f":"IFERROR(Calculation!CJ16/Calculation!CI16/Calculation!CI16/F25+(Calculation!CJ16^2)/(Calculation!CI16^3)/E25,\"N/A\")","v":4.9076602244435227E-4},{"$f":"IFERROR(Calculation!CK16/Calculation!CJ16/Calculation!CJ16/G25+(Calculation!CK16^2)/(Calculation!CJ16^3)/F25,\"N/A\")","v":4.1104947805292025E-4},{"$f":"IFERROR(Calculation!CL16/Calculation!CK16/Calculation!CK16/H25+(Calculation!CL16^2)/(Calculation!CK16^3)/G25,\"N/A\")","v":3.835908910622734E-4},{"$f":"IFERROR(Calculation!CM16/Calculation!CL16/Calculation!CL16/I25+(Calculation!CM16^2)/(Calculation!CL16^3)/H25,\"N/A\")","v":4.221691312721807E-4},{"$f":"IFERROR(Calculation!CN16/Calculation!CM16/Calculation!CM16/J25+(Calculation!CN16^2)/(Calculation!CM16^3)/I25,\"N/A\")","v":1.0300969223260665E-3},{"$f":"IFERROR(Calculation!CO16/Calculation!CN16/Calculation!CN16/K25+(Calculation!CO16^2)/(Calculation!CN16^3)/J25,\"N/A\")","v":8.6637342081209527E-4}]
[null,"age 85+",{"$f":"IFERROR(Calculation!CH17/Calculation!CG17/Calculation!CG17/D26+(Calculation!CH17^2)/(Calculation!CG17^3)/C26,\"N/A\")","v":6.2199209703449354E-4},{"$f":"IFERROR(Calculation!CI17/Calculation!CH17/Calculation!CH17/E26+(Calculation!CI17^2)/(Calculation!CH17^3)/D26,\"N/A\")","v":8.4442921564754133E-4},{"$f":"IFERROR(Calculation!CJ17/Calculation!CI17/Calculation!CI17/F26+(Calculation!CJ17^2)/(Calculation!CI17^3)/E26,\"N/A\")","v":6.8236903938322091E-4},{"$f":"IFERROR(Calculation!CK17/Calculation!CJ17/Calculation!CJ17/G26+(Calculation!CK17^2)/(Calculation!CJ17^3)/F26,\"N/A\")","v":5.4503876381371591E-4},{"$f":"IFERROR(Calculation!CL17/Calculation!CK17/Calculation!CK17/H26+(Calculation!CL17^2)/(Calculation!CK17^3)/G26,\"N/A\")","v":6.1101511426964975E-4},{"$f":"IFERROR(Calculation!CM17/Calculation!CL17/Calculation!CL17/I26+(Calculation!CM17^2)/(Calculation!CL17^3)/H26,\"N/A\")","v":5.8077566957312953E-4},{"$f":"IFERROR(Calculation!CN17/Calculation!CM17/Calculation!CM17/J26+(Calculation!CN17^2)/(Calculation!CM17^3)/I26,\"N/A\")","v":8.3826904688138006E-4},{"$f":"IFERROR(Calculation!CO17/Calculation!CN17/Calculation!CN17/K26+(Calculation!CO17^2)/(Calculation!CN17^3)/J26,\"N/A\")","v":6.7307769178613901E-4}]
[null,"Male (Sex)",{"$f":"IFERROR(Calculation!CH$13/Calculation!CG$13/Calculation!CG$13/D27+(Calculation!CH$13^2)/(Calculation!CG$13^3)/C27,\"N/A\")","v":7.975139102747726E-5},{"$f":"IFERROR(Calculation!CI$13/Calculation!CH$13/Calculation!CH$13/E27+(Calculation!CI$13^2)/(Calculation!CH$13^3)/D27,\"N/A\")","v":1.1495140336788111E-4},{"$f":"IFERROR(Calculation!CJ$13/Calculation!CI$13/Calculation!CI$13/F27+(Calculation!CJ$13^2)/(Calculation!CI$13^3)/E27,\"N/A\")","v":1.0812627374548871E-4},{"$f":"IFERROR(Calculation!CK$13/Calculation!CJ$13/Calculation!CJ$13/G27+(Calculation!CK$13^2)/(Calculation!CJ$13^3)/F27,\"N/A\")","v":1.0402164949725851E-4},{"$f":"IFERROR(Calculation!CL$13/Calculation!CK$13/Calculation!CK$13/H27+(Calculation!CL$13^2)/(Calculation!CK$13^3)/G27,\"N/A\")","v":1.0382696432572328E-4},{"$f":"IFERROR(Calculation!CM$13/Calculation!CL$13/Calculation!CL$13/I27+(Calculation!CM$13^2)/(Calculation!CL$13^3)/H27,\"N/A\")","v":1.1425255689649313E-4},{"$f":"IFERROR(Calculation!CN$13/Calculation!CM$13/Calculation!CM$13/J27+(Calculation!CN$13^2)/(Calculation!CM$13^3)/I27,\"N/A\")","v":2.7228819558751464E-4},{"$f":"IFERROR(Calculation!CO$13/Calculation!CN$13/Calculation!CN$13/K27+(Calculation!CO$13^2)/(Calculation!CN$13^3)/J27,\"N/A\")","v":2.2949331012878376E-4}]
[null,"Female       ",{"$f":"IFERROR(Calculation!CH$13/Calculation!CG$13/Calculation!CG$13/D28+(Calculation!CH$13^2)/(Calculation!CG$13^3)/C28,\"N/A\")","v":8.7746580802751525E-5},{"$f":"IFERROR(Calculation!CI$13/Calculation!CH$13/Calculation!CH$13/E28+(Calculation!CI$13^2)/(Calculation!CH$13^3)/D28,\"N/A\")","v":1.2195166627290268E-4},{"$f":"IFERROR(Calculation!CJ$13/Calculation!CI$13/Calculation!CI$13/F28+(Calculation!CJ$13^2)/(Calculation!CI$13^3)/E28,\"N/A\")","v":1.0769060864039638E-4},{"$f":"IFERROR(Calculation!CK$13/Calculation!CJ$13/Calculation!CJ$13/G28+(Calculation!CK$13^2)/(Calculation!CJ$13^3)/F28,\"N/A\")","v":1.0067754990221E-4},{"$f":"IFERROR(Calculation!CL$13/Calculation!CK$13/Calculation!CK$13/H28+(Calculation!CL$13^2)/(Calculation!CK$13^3)/G28,\"N/A\")","v":1.0207877532067566E-4},{"$f":"IFERROR(Calculation!CM$13/Calculation!CL$13/Calculation!CL$13/I28+(Calculation!CM$13^2)/(Calculation!CL$13^3)/H28,\"N/A\")","v":1.1556089248792839E-4},{"$f":"IFERROR(Calculation!CN$13/Calculation!CM$13/Calculation!CM$13/J28+(Calculation!CN$13^2)/(Calculation!CM$13^3)/I28,\"N/A\")","v":2.912691180259765E-4},{"$f":"IFERROR(Calculation!CO$13/Calculation!CN$13/Calculation!CN$13/K28+(Calculation!CO$13^2)/(Calculation!CN$13^3)/J28,\"N/A\")","v":2.5007548231583576E-4}]
[null,"1-Never  ",{"$f":"IFERROR(Calculation!CH$13/Calculation!CG$13/Calculation!CG$13/D29+(Calculation!CH$13^2)/(Calculation!CG$13^3)/C29,\"N/A\")","v":"N/A"},{"$f":"IFERROR(Calculation!CI$13/Calculation!CH$13/Calculation!CH$13/E29+(Calculation!CI$13^2)/(Calculation!CH$13^3)/D29,\"N/A\")","v":"N/A"},{"$f":"IFERROR(Calculation!CJ$13/Calculation!CI$13/Calculation!CI$13/F29+(Calculation!CJ$13^2)/(Calculation!CI$13^3)/E29,\"N/A\")","v":"N/A"},{"$f":"IFERROR(Calculation!CK$13/Calculation!CJ$13/Calculation!CJ$13/G29+(Calculation!CK$13^2)/(Calculation!CJ$13^3)/F29,\"N/A\")","v":2.3625457913962106E-4},{"$f":"IFERROR(Calculation!CL$13/Calculation!CK$13/Calculation!CK$13/H29+(Calculation!CL$13^2)/(Calculation!CK$13^3)/G29,\"N/A\")","v":1.7759024629113154E-4},{"$f":"IFERROR(Calculation!CM$13/Calculation!CL$13/Calculation!CL$13/I29+(Calculation!CM$13^2)/(Calculation!CL$13^3)/H29,\"N/A\")","v":3.0420982824229745E-4},{"$f":"IFERROR(Calculation!CN$13/Calculation!CM$13/Calculation!CM$13/J29+(Calculation!CN$13^2)/(Calculation!CM$13^3)/I29,\"N/A\")","v":1.4256904988553148E-3},{"$f":"IFERROR(Calculation!CO$13/Calculation!CN$13/Calculation!CN$13/K29+(Calculation!CO$13^2)/(Calculation!CN$13^3)/J29,\"N/A\")","v":"N/A"}]
[null,"2-Current",{"$f":"IFERROR(Calculation!CH$13/Calculation!CG$13/Calculation!CG$13/D30+(Calculation!CH$13^2)/(Calculation!CG$13^3)/C30,\"N/A\")","v":"N/A"},{"$f":"IFERROR(Calculation!CI$13/Calculation!CH$13/Calculation!CH$13/E30+(Calculation!CI$13^2)/(Calculation!CH$13^3)/D30,\"N/A\")","v":"N/A"},{"$f":"IFERROR(Calculation!CJ$13/Calculation!CI$13/Calculation!CI$13/F30+(Calculation!CJ$13^2)/(Calculation!CI$13^3)/E30,\"N/A\")","v":"N/A"},{"$f":"IFERROR(Calculation!CK$13/Calculation!CJ$13/Calculation!CJ$13/G30+(Calculation!CK$13^2)/(Calculation!CJ$13^3)/F30,\"N/A\")","v":5.0080980664820511E-4},{"$f":"IFERROR(Calculation!CL$13/Calculation!CK$13/Calculation!CK$13/H30+(Calculation!CL$13^2)/(Calculation!CK$13^3)/G30,\"N/A\")","v":3.9689417771523138E-4},{"$f":"IFERROR(Calculation!CM$13/Calculation!CL$13/Calculation!CL$13/I30+(Calculation!CM$13^2)/(Calculation!CL$13^3)/H30,\"N/A\")","v":7.5112760929288501E-4},{"$f":"IFERROR(Calculation!CN$13/Calculation!CM$13/Calculation!CM$13/J30+(Calculation!CN$13^2)/(Calculation!CM$13^3)/I30,\"N/A\")","v":4.1551332809774098E-3},{"$f":"IFERROR(Calculation!CO$13/Calculation!CN$13/Calculation!CN$13/K30+(Calculation!CO$13^2)/(Calculation!CN$13^3)/J30,\"N/A\")","v":"N/A"}]
[null,"3-Former ",{"$f":"IFERROR(Calculation!CH$13/Calculation!CG$13/Calculation!CG$13/D31+(Calculation!CH$13^2)/(Calculation!CG$13^3)/C31,\"N/A\")","v":"N/A"},{"$f":"IFERROR(Calculation!CI$13/Calculation!CH$13/Calculation!CH$13/E31+(Calculation!CI$13^2)/(Calculation!CH$13^3)/D31,\"N/A\")","v":"N/A"},{"$f":"IFERROR(Calculation!CJ$13/Calculation!CI$13/Calculation!CI$13/F31+(Calculation!CJ$13^2)/(Calculation!CI$13^3)/E31,\"N/A\")","v":"N/A"},{"$f":"IFERROR(Calculation!CK$13/Calculation!CJ$13/Calculation!CJ$13/G31+(Calculation!CK$13^2)/(Calculation!CJ$13^3)/F31,\"N/A\")","v":2.7423178108233542E-4},{"$f":"IFERROR(Calculation!CL$13/Calculation!CK$13/Calculation!CK$13/H31+(Calculation!CL$13^2)/(Calculation!CK$13^3)/G31,\"N/A\")","v":2.0876949112472876E-4},{"$f":"IFERROR(Calculation!CM$13/Calculation!CL$13/Calculation!CL$13/I31+(Calculation!CM$13^2)/(Calculation!CL$13^3)/H31,\"N/A\")","v":3.9649475911382042E-4},{"$f":"IFERROR(Calculation!CN$13/Calculation!CM$13/Calculation!CM$13/J31+(Calculation!CN$13^2)/(Calculation!CM$13^3)/I31,\"N/A\")","v":2.0978896764201273E-3},{"$f":"IFERROR(Calculation!CO$13/Calculation!CN$13/Calculation!CN$13/K31+(Calculation!CO$13^2)/(Calculation!CN$13^3)/J31,\"N/A\")","v":"N/A"}]
[null,"4-Not_Asked (smoker)",{"$f":"IFERROR(Calculation!CH$13/Calculation!CG$13/Calculation!CG$13/D32+(Calculation!CH$13^2)/(Calculation!CG$13^3)/C32,\"N/A\")","v":4.1778527203277012E-5},{"$f":"IFERROR(Calculation!CI$13/Calculation!CH$13/Calculation!CH$13/E32+(Calculation!CI$13^2)/(Calculation!CH$13^3)/D32,\"N/A\")","v":5.9160564368254423E-5},{"$f":"IFERROR(Calculation!CJ$13/Calculation!CI$13/Calculation!CI$13/F32+(Calculation!CJ$13^2)/(Calculation!CI$13^3)/E32,\"N/A\")","v":7.2657125711865565E-5},{"$f":"IFERROR(Calculation!CK$13/Calculation!CJ$13/Calculation!CJ$13/G32+(Calculation!CK$13^2)/(Calculation!CJ$13^3)/F32,\"N/A\")","v":1.092645198633513E-4},{"$f":"IFERROR(Calculation!CL$13/Calculation!CK$13/Calculation!CK$13/H32+(Calculation!CL$13^2)/(Calculation!CK$13^3)/G32,\"N/A\")","v":1.730151385561004E-4},{"$f":"IFERROR(Calculation!CM$13/Calculation!CL$13/Calculation!CL$13/I32+(Calculation!CM$13^2)/(Calculation!CL$13^3)/H32,\"N/A\")","v":1.5470526574972891E-4},{"$f":"IFERROR(Calculation!CN$13/Calculation!CM$13/Calculation!CM$13/J32+(Calculation!CN$13^2)/(Calculation!CM$13^3)/I32,\"N/A\")","v":1.7897926600538429E-4},{"$f":"IFERROR(Calculation!CO$13/Calculation!CN$13/Calculation!CN$13/K32+(Calculation!CO$13^2)/(Calculation!CN$13^3)/J32,\"N/A\")","v":1.44931117015212E-4}]
[null,"1-Married (marital status)",{"$f":"IFERROR(Calculation!CH$13/Calculation!CG$13/Calculation!CG$13/D33+(Calculation!CH$13^2)/(Calculation!CG$13^3)/C33,\"N/A\")","v":7.1914302664184693E-5},{"$f":"IFERROR(Calculation!CI$13/Calculation!CH$13/Calculation!CH$13/E33+(Calculation!CI$13^2)/(Calculation!CH$13^3)/D33,\"N/A\")","v":1.0282374121459629E-4},{"$f":"IFERROR(Calculation!CJ$13/Calculation!CI$13/Calculation!CI$13/F33+(Calculation!CJ$13^2)/(Calculation!CI$13^3)/E33,\"N/A\")","v":9.6887298641487322E-5},{"$f":"IFERROR(Calculation!CK$13/Calculation!CJ$13/Calculation!CJ$13/G33+(Calculation!CK$13^2)/(Calculation!CJ$13^3)/F33,\"N/A\")","v":9.601851103704592E-5},{"$f":"IFERROR(Calculation!CL$13/Calculation!CK$13/Calculation!CK$13/H33+(Calculation!CL$13^2)/(Calculation!CK$13^3)/G33,\"N/A\")","v":9.8279261586830172E-5},{"$f":"IFERROR(Calculation!CM$13/Calculation!CL$13/Calculation!CL$13/I33+(Calculation!CM$13^2)/(Calculation!CL$13^3)/H33,\"N/A\")","v":1.1550170486440245E-4},{"$f":"IFERROR(Calculation!CN$13/Calculation!CM$13/Calculation!CM$13/J33+(Calculation!CN$13^2)/(Calculation!CM$13^3)/I33,\"N/A\")","v":3.0475996921755061E-4},{"$f":"IFERROR(Calculation!CO$13/Calculation!CN$13/Calculation!CN$13/K33+(Calculation!CO$13^2)/(Calculation!CN$13^3)/J33,\"N/A\")","v":2.5876934889155465E-4}]
[null,"2-Widowed    ",{"$f":"IFERROR(Calculation!CH$13/Calculation!CG$13/Calculation!CG$13/D34+(Calculation!CH$13^2)/(Calculation!CG$13^3)/C34,\"N/A\")","v":1.4723015940135064E-4},{"$f":"IFERROR(Calculation!CI$13/Calculation!CH$13/Calculation!CH$13/E34+(Calculation!CI$13^2)/(Calculation!CH$13^3)/D34,\"N/A\")","v":2.0738278883087664E-4},{"$f":"IFERROR(Calculation!CJ$13/Calculation!CI$13/Calculation!CI$13/F34+(Calculation!CJ$13^2)/(Calculation!CI$13^3)/E34,\"N/A\")","v":1.8380537248564822E-4},{"$f":"IFERROR(Calculation!CK$13/Calculation!CJ$13/Calculation!CJ$13/G34+(Calculation!CK$13^2)/(Calculation!CJ$13^3)/F34,\"N/A\")","v":1.6892015186082619E-4},{"$f":"IFERROR(Calculation!CL$13/Calculation!CK$13/Calculation!CK$13/H34+(Calculation!CL$13^2)/(Calculation!CK$13^3)/G34,\"N/A\")","v":1.7442302303119001E-4},{"$f":"IFERROR(Calculation!CM$13/Calculation!CL$13/Calculation!CL$13/I34+(Calculation!CM$13^2)/(Calculation!CL$13^3)/H34,\"N/A\")","v":1.9293235858090357E-4},{"$f":"IFERROR(Calculation!CN$13/Calculation!CM$13/Calculation!CM$13/J34+(Calculation!CN$13^2)/(Calculation!CM$13^3)/I34,\"N/A\")","v":4.4834114767933653E-4},{"$f":"IFERROR(Calculation!CO$13/Calculation!CN$13/Calculation!CN$13/K34+(Calculation!CO$13^2)/(Calculation!CN$13^3)/J34,\"N/A\")","v":3.9548035285685563E-4}]
[null,"3-Divorced   ",{"$f":"IFERROR(Calculation!CH$13/Calculation!CG$13/Calculation!CG$13/D35+(Calculation!CH$13^2)/(Calculation!CG$13^3)/C35,\"N/A\")","v":7.1192946134639482E-4},{"$f":"IFERROR(Calculation!CI$13/Calculation!CH$13/Calculation!CH$13/E35+(Calculation!CI$13^2)/(Calculation!CH$13^3)/D35,\"N/A\")","v":9.125766419519481E-4},{"$f":"IFERROR(Calculation!CJ$13/Calculation!CI$13/Calculation!CI$13/F35+(Calculation!CJ$13^2)/(Calculation!CI$13^3)/E35,\"N/A\")","v":7.244340941509489E-4},{"$f":"IFERROR(Calculation!CK$13/Calculation!CJ$13/Calculation!CJ$13/G35+(Calculation!CK$13^2)/(Calculation!CJ$13^3)/F35,\"N/A\")","v":5.7734580547526239E-4},{"$f":"IFERROR(Calculation!CL$13/Calculation!CK$13/Calculation!CK$13/H35+(Calculation!CL$13^2)/(Calculation!CK$13^3)/G35,\"N/A\")","v":4.9728492147080511E-4},{"$f":"IFERROR(Calculation!CM$13/Calculation!CL$13/Calculation!CL$13/I35+(Calculation!CM$13^2)/(Calculation!CL$13^3)/H35,\"N/A\")","v":4.9161525468196707E-4},{"$f":"IFERROR(Calculation!CN$13/Calculation!CM$13/Calculation!CM$13/J35+(Calculation!CN$13^2)/(Calculation!CM$13^3)/I35,\"N/A\")","v":1.1112536908314541E-3},{"$f":"IFERROR(Calculation!CO$13/Calculation!CN$13/Calculation!CN$13/K35+(Calculation!CO$13^2)/(Calculation!CN$13^3)/J35,\"N/A\")","v":9.7471735629089539E-4}]
[null,"4-Separated  ",{"$f":"IFERROR(Calculation!CH$13/Calculation!CG$13/Calculation!CG$13/D36+(Calculation!CH$13^2)/(Calculation!CG$13^3)/C36,\"N/A\")","v":2.5144769533667522E-3},{"$f":"IFERROR(Calculation!CI$13/Calculation!CH$13/Calculation!CH$13/E36+(Calculation!CI$13^2)/(Calculation!CH$13^3)/D36,\"N/A\")","v":3.5170652866245008E-3},{"$f":"IFERROR(Calculation!CJ$13/Calculation!CI$13/Calculation!CI$13/F36+(Calculation!CJ$13^2)/(Calculation!CI$13^3)/E36,\"N/A\")","v":3.0515766882434504E-3},{"$f":"IFERROR(Calculation!CK$13/Calculation!CJ$13/Calculation!CJ$13/G36+(Calculation!CK$13^2)/(Calculation!CJ$13^3)/F36,\"N/A\")","v":2.933041522477889E-3},{"$f":"IFERROR(Calculation!CL$13/Calculation!CK$13/Calculation!CK$13/H36+(Calculation!CL$13^2)/(Calculation!CK$13^3)/G36,\"N/A\")","v":3.1098530781127963E-3},{"$f":"IFERROR(Calculation!CM$13/Calculation!CL$13/Calculation!CL$13/I36+(Calculation!CM$13^2)/(Calculation!CL$13^3)/H36,\"N/A\")","v":3.0803857474811635E-3},{"$f":"IFERROR(Calculation!CN$13/Calculation!CM$13/Calculation!CM$13/J36+(Calculation!CN$13^2)/(Calculation!CM$13^3)/I36,\"N/A\")","v":6.9857382144035765E-3},{"$f":"IFERROR(Calculation!CO$13/Calculation!CN$13/Calculation!CN$13/K36+(Calculation!CO$13^2)/(Calculation!CN$13^3)/J36,\"N/A\")","v":6.3185688797883994E-3}]
[null,"5-NeverMar.  ",{"$f":"IFERROR(Calculation!CH$13/Calculation!CG$13/Calculation!CG$13/D37+(Calculation!CH$13^2)/(Calculation!CG$13^3)/C37,\"N/A\")","v":6.9912005582928424E-4},{"$f":"IFERROR(Calculation!CI$13/Calculation!CH$13/Calculation!CH$13/E37+(Calculation!CI$13^2)/(Calculation!CH$13^3)/D37,\"N/A\")","v":1.0342763213547922E-3},{"$f":"IFERROR(Calculation!CJ$13/Calculation!CI$13/Calculation!CI$13/F37+(Calculation!CJ$13^2)/(Calculation!CI$13^3)/E37,\"N/A\")","v":9.5643283292266899E-4},{"$f":"IFERROR(Calculation!CK$13/Calculation!CJ$13/Calculation!CJ$13/G37+(Calculation!CK$13^2)/(Calculation!CJ$13^3)/F37,\"N/A\")","v":8.8995837666733615E-4},{"$f":"IFERROR(Calculation!CL$13/Calculation!CK$13/Calculation!CK$13/H37+(Calculation!CL$13^2)/(Calculation!CK$13^3)/G37,\"N/A\")","v":8.5633081111705241E-4},{"$f":"IFERROR(Calculation!CM$13/Calculation!CL$13/Calculation!CL$13/I37+(Calculation!CM$13^2)/(Calculation!CL$13^3)/H37,\"N/A\")","v":8.4679215686996978E-4},{"$f":"IFERROR(Calculation!CN$13/Calculation!CM$13/Calculation!CM$13/J37+(Calculation!CN$13^2)/(Calculation!CM$13^3)/I37,\"N/A\")","v":1.8271542174411915E-3},{"$f":"IFERROR(Calculation!CO$13/Calculation!CN$13/Calculation!CN$13/K37+(Calculation!CO$13^2)/(Calculation!CN$13^3)/J37,\"N/A\")","v":1.5842850174070167E-3}]
[null,"1-Lowest inc.  ",{"$f":"IFERROR(Calculation!CH$13/Calculation!CG$13/Calculation!CG$13/D38+(Calculation!CH$13^2)/(Calculation!CG$13^3)/C38,\"N/A\")","v":2.2727021960376368E-4},{"$f":"IFERROR(Calculation!CI$13/Calculation!CH$13/Calculation!CH$13/E38+(Calculation!CI$13^2)/(Calculation!CH$13^3)/D38,\"N/A\")","v":3.5344609727763017E-4},{"$f":"IFERROR(Calculation!CJ$13/Calculation!CI$13/Calculation!CI$13/F38+(Calculation!CJ$13^2)/(Calculation!CI$13^3)/E38,\"N/A\")","v":3.091136897599311E-4},{"$f":"IFERROR(Calculation!CK$13/Calculation!CJ$13/Calculation!CJ$13/G38+(Calculation!CK$13^2)/(Calculation!CJ$13^3)/F38,\"N/A\")","v":2.8699740044529351E-4},{"$f":"IFERROR(Calculation!CL$13/Calculation!CK$13/Calculation!CK$13/H38+(Calculation!CL$13^2)/(Calculation!CK$13^3)/G38,\"N/A\")","v":3.0435244632298381E-4},{"$f":"IFERROR(Calculation!CM$13/Calculation!CL$13/Calculation!CL$13/I38+(Calculation!CM$13^2)/(Calculation!CL$13^3)/H38,\"N/A\")","v":3.1868875870740232E-4},{"$f":"IFERROR(Calculation!CN$13/Calculation!CM$13/Calculation!CM$13/J38+(Calculation!CN$13^2)/(Calculation!CM$13^3)/I38,\"N/A\")","v":7.1055727244988016E-4},{"$f":"IFERROR(Calculation!CO$13/Calculation!CN$13/Calculation!CN$13/K38+(Calculation!CO$13^2)/(Calculation!CN$13^3)/J38,\"N/A\")","v":6.3222130442426897E-4}]
[null,"2-Second dec.  ",{"$f":"IFERROR(Calculation!CH$13/Calculation!CG$13/Calculation!CG$13/D39+(Calculation!CH$13^2)/(Calculation!CG$13^3)/C39,\"N/A\")","v":2.0878602778128671E-4},{"$f":"IFERROR(Calculation!CI$13/Calculation!CH$13/Calculation!CH$13/E39+(Calculation!CI$13^2)/(Calculation!CH$13^3)/D39,\"N/A\")","v":3.2068555397532636E-4},{"$f":"IFERROR(Calculation!CJ$13/Calculation!CI$13/Calculation!CI$13/F39+(Calculation!CJ$13^2)/(Calculation!CI$13^3)/E39,\"N/A\")","v":2.8401326002356481E-4},{"$f":"IFERROR(Calculation!CK$13/Calculation!CJ$13/Calculation!CJ$13/G39+(Calculation!CK$13^2)/(Calculation!CJ$13^3)/F39,\"N/A\")","v":2.6227256284543175E-4},{"$f":"IFERROR(Calculation!CL$13/Calculation!CK$13/Calculation!CK$13/H39+(Calculation!CL$13^2)/(Calculation!CK$13^3)/G39,\"N/A\")","v":2.6541281765800166E-4},{"$f":"IFERROR(Calculation!CM$13/Calculation!CL$13/Calculation!CL$13/I39+(Calculation!CM$13^2)/(Calculation!CL$13^3)/H39,\"N/A\")","v":2.9801400807254153E-4},{"$f":"IFERROR(Calculation!CN$13/Calculation!CM$13/Calculation!CM$13/J39+(Calculation!CN$13^2)/(Calculation!CM$13^3)/I39,\"N/A\")","v":7.1055727244988016E-4},{"$f":"IFERROR(Calculation!CO$13/Calculation!CN$13/Calculation!CN$13/K39+(Calculation!CO$13^2)/(Calculation!CN$13^3)/J39,\"N/A\")","v":6.0353658507897366E-4}]
[null,"3-Third dec.   ",{"$f":"IFERROR(Calculation!CH$13/Calculation!CG$13/Calculation!CG$13/D40+(Calculation!CH$13^2)/(Calculation!CG$13^3)/C40,\"N/A\")","v":3.1965641804044761E-4},{"$f":"IFERROR(Calculation!CI$13/Calculation!CH$13/Calculation!CH$13/E40+(Calculation!CI$13^2)/(Calculation!CH$13^3)/D40,\"N/A\")","v":3.9804988344583952E-4},{"$f":"IFERROR(Calculation!CJ$13/Calculation!CI$13/Calculation!CI$13/F40+(Calculation!CJ$13^2)/(Calculation!CI$13^3)/E40,\"N/A\")","v":3.5330006833096683E-4},{"$f":"IFERROR(Calculation!CK$13/Calculation!CJ$13/Calculation!CJ$13/G40+(Calculation!CK$13^2)/(Calculation!CJ$13^3)/F40,\"N/A\")","v":3.3001619426347708E-4},{"$f":"IFERROR(Calculation!CL$13/Calculation!CK$13/Calculation!CK$13/H40+(Calculation!CL$13^2)/(Calculation!CK$13^3)/G40,\"N/A\")","v":3.4363285092215931E-4},{"$f":"IFERROR(Calculation!CM$13/Calculation!CL$13/Calculation!CL$13/I40+(Calculation!CM$13^2)/(Calculation!CL$13^3)/H40,\"N/A\")","v":3.7933967926407307E-4},{"$f":"IFERROR(Calculation!CN$13/Calculation!CM$13/Calculation!CM$13/J40+(Calculation!CN$13^2)/(Calculation!CM$13^3)/I40,\"N/A\")","v":9.791014982931097E-4},{"$f":"IFERROR(Calculation!CO$13/Calculation!CN$13/Calculation!CN$13/K40+(Calculation!CO$13^2)/(Calculation!CN$13^3)/J40,\"N/A\")","v":8.5037449543756043E-4}]
[null,"4-Fourth dec.  ",{"$f":"IFERROR(Calculation!CH$13/Calculation!CG$13/Calculation!CG$13/D41+(Calculation!CH$13^2)/(Calculation!CG$13^3)/C41,\"N/A\")","v":3.7321084067091603E-4},{"$f":"IFERROR(Calculation!CI$13/Calculation!CH$13/Calculation!CH$13/E41+(Calculation!CI$13^2)/(Calculation!CH$13^3)/D41,\"N/A\")","v":5.0519146888973617E-4},{"$f":"IFERROR(Calculation!CJ$13/Calculation!CI$13/Calculation!CI$13/F41+(Calculation!CJ$13^2)/(Calculation!CI$13^3)/E41,\"N/A\")","v":4.6748587989409185E-4},{"$f":"IFERROR(Calculation!CK$13/Calculation!CJ$13/Calculation!CJ$13/G41+(Calculation!CK$13^2)/(Calculation!CJ$13^3)/F41,\"N/A\")","v":4.4494394834847278E-4},{"$f":"IFERROR(Calculation!CL$13/Calculation!CK$13/Calculation!CK$13/H41+(Calculation!CL$13^2)/(Calculation!CK$13^3)/G41,\"N/A\")","v":4.4311834355640419E-4},{"$f":"IFERROR(Calculation!CM$13/Calculation!CL$13/Calculation!CL$13/I41+(Calculation!CM$13^2)/(Calculation!CL$13^3)/H41,\"N/A\")","v":5.1544974025011594E-4},{"$f":"IFERROR(Calculation!CN$13/Calculation!CM$13/Calculation!CM$13/J41+(Calculation!CN$13^2)/(Calculation!CM$13^3)/I41,\"N/A\")","v":1.3853663565008265E-3},{"$f":"IFERROR(Calculation!CO$13/Calculation!CN$13/Calculation!CN$13/K41+(Calculation!CO$13^2)/(Calculation!CN$13^3)/J41,\"N/A\")","v":1.1824896941304156E-3}]
[null,"5-Fifth dec.   ",{"$f":"IFERROR(Calculation!CH$13/Calculation!CG$13/Calculation!CG$13/D42+(Calculation!CH$13^2)/(Calculation!CG$13^3)/C42,\"N/A\")","v":4.7053117851024971E-4},{"$f":"IFERROR(Calculation!CI$13/Calculation!CH$13/Calculation!CH$13/E42+(Calculation!CI$13^2)/(Calculation!CH$13^3)/D42,\"N/A\")","v":6.6675555163289561E-4},{"$f":"IFERROR(Calculation!CJ$13/Calculation!CI$13/Calculation!CI$13/F42+(Calculation!CJ$13^2)/(Calculation!CI$13^3)/E42,\"N/A\")","v":6.0210845681332064E-4},{"$f":"IFERROR(Calculation!CK$13/Calculation!CJ$13/Calculation!CJ$13/G42+(Calculation!CK$13^2)/(Calculation!CJ$13^3)/F42,\"N/A\")","v":5.8651626888038197E-4},{"$f":"IFERROR(Calculation!CL$13/Calculation!CK$13/Calculation!CK$13/H42+(Calculation!CL$13^2)/(Calculation!CK$13^3)/G42,\"N/A\")","v":5.826730834914758E-4},{"$f":"IFERROR(Calculation!CM$13/Calculation!CL$13/Calculation!CL$13/I42+(Calculation!CM$13^2)/(Calculation!CL$13^3)/H42,\"N/A\")","v":6.8830412891614939E-4},{"$f":"IFERROR(Calculation!CN$13/Calculation!CM$13/Calculation!CM$13/J42+(Calculation!CN$13^2)/(Calculation!CM$13^3)/I42,\"N/A\")","v":1.7682685928522156E-3},{"$f":"IFERROR(Calculation!CO$13/Calculation!CN$13/Calculation!CN$13/K42+(Calculation!CO$13^2)/(Calculation!CN$13^3)/J42,\"N/A\")","v":1.4779054997860579E-3}]
[null,"6-Sixth dec.   ",{"$f":"IFERROR(Calculation!CH$13/Calculation!CG$13/Calculation!CG$13/D43+(Calculation!CH$13^2)/(Calculation!CG$13^3)/C43,\"N/A\")","v":5.6515359373265287E-4},{"$f":"IFERROR(Calculation!CI$13/Calculation!CH$13/Calculation!CH$13/E43+(Calculation!CI$13^2)/(Calculation!CH$13^3)/D43,\"N/A\")","v":7.7013447092598507E-4},{"$f":"IFERROR(Calculation!CJ$13/Calculation!CI$13/Calculation!CI$13/F43+(Calculation!CJ$13^2)/(Calculation!CI$13^3)/E43,\"N/A\")","v":7.3545018089329721E-4},{"$f":"IFERROR(Calculation!CK$13/Calculation!CJ$13/Calculation!CJ$13/G43+(Calculation!CK$13^2)/(Calculation!CJ$13^3)/F43,\"N/A\")","v":7.2394584343889829E-4},{"$f":"IFERROR(Calculation!CL$13/Calculation!CK$13/Calculation!CK$13/H43+(Calculation!CL$13^2)/(Calculation!CK$13^3)/G43,\"N/A\")","v":7.4301259512982057E-4},{"$f":"IFERROR(Calculation!CM$13/Calculation!CL$13/Calculation!CL$13/I43+(Calculation!CM$13^2)/(Calculation!CL$13^3)/H43,\"N/A\")","v":8.6722667356450801E-4},{"$f":"IFERROR(Calculation!CN$13/Calculation!CM$13/Calculation!CM$13/J43+(Calculation!CN$13^2)/(Calculation!CM$13^3)/I43,\"N/A\")","v":2.2807216735022196E-3},{"$f":"IFERROR(Calculation!CO$13/Calculation!CN$13/Calculation!CN$13/K43+(Calculation!CO$13^2)/(Calculation!CN$13^3)/J43,\"N/A\")","v":1.9683557417054928E-3}]
[null,"7-Seventh dec. ",{"$f":"IFERROR(Calculation!CH$13/Calculation!CG$13/Calculation!CG$13/D44+(Calculation!CH$13^2)/(Calculation!CG$13^3)/C44,\"N/A\")","v":1.0336033110898721E-3},{"$f":"IFERROR(Calculation!CI$13/Calculation!CH$13/Calculation!CH$13/E44+(Calculation!CI$13^2)/(Calculation!CH$13^3)/D44,\"N/A\")","v":8.853913436725028E-4},{"$f":"IFERROR(Calculation!CJ$13/Calculation!CI$13/Calculation!CI$13/F44+(Calculation!CJ$13^2)/(Calculation!CI$13^3)/E44,\"N/A\")","v":8.7657712504858164E-4},{"$f":"IFERROR(Calculation!CK$13/Calculation!CJ$13/Calculation!CJ$13/G44+(Calculation!CK$13^2)/(Calculation!CJ$13^3)/F44,\"N/A\")","v":8.4576533654766967E-4},{"$f":"IFERROR(Calculation!CL$13/Calculation!CK$13/Calculation!CK$13/H44+(Calculation!CL$13^2)/(Calculation!CK$13^3)/G44,\"N/A\")","v":8.0881911028263037E-4},{"$f":"IFERROR(Calculation!CM$13/Calculation!CL$13/Calculation!CL$13/I44+(Calculation!CM$13^2)/(Calculation!CL$13^3)/H44,\"N/A\")","v":9.2401212200640182E-4},{"$f":"IFERROR(Calculation!CN$13/Calculation!CM$13/Calculation!CM$13/J44+(Calculation!CN$13^2)/(Calculation!CM$13^3)/I44,\"N/A\")","v":2.3404864466769078E-3},{"$f":"IFERROR(Calculation!CO$13/Calculation!CN$13/Calculation!CN$13/K44+(Calculation!CO$13^2)/(Calculation!CN$13^3)/J44,\"N/A\")","v":1.9739525102984204E-3}]
[null,"8-Eighth dec.  ",{"$f":"IFERROR(Calculation!CH$13/Calculation!CG$13/Calculation!CG$13/D45+(Calculation!CH$13^2)/(Calculation!CG$13^3)/C45,\"N/A\")","v":7.3422353256904788E-4},{"$f":"IFERROR(Calculation!CI$13/Calculation!CH$13/Calculation!CH$13/E45+(Calculation!CI$13^2)/(Calculation!CH$13^3)/D45,\"N/A\")","v":1.1768471489084016E-3},{"$f":"IFERROR(Calculation!CJ$13/Calculation!CI$13/Calculation!CI$13/F45+(Calculation!CJ$13^2)/(Calculation!CI$13^3)/E45,\"N/A\")","v":1.1395502625631561E-3},{"$f":"IFERROR(Calculation!CK$13/Calculation!CJ$13/Calculation!CJ$13/G45+(Calculation!CK$13^2)/(Calculation!CJ$13^3)/F45,\"N/A\")","v":1.1325868576239277E-3},{"$f":"IFERROR(Calculation!CL$13/Calculation!CK$13/Calculation!CK$13/H45+(Calculation!CL$13^2)/(Calculation!CK$13^3)/G45,\"N/A\")","v":1.0962480782307263E-3},{"$f":"IFERROR(Calculation!CM$13/Calculation!CL$13/Calculation!CL$13/I45+(Calculation!CM$13^2)/(Calculation!CL$13^3)/H45,\"N/A\")","v":1.2769713093583684E-3},{"$f":"IFERROR(Calculation!CN$13/Calculation!CM$13/Calculation!CM$13/J45+(Calculation!CN$13^2)/(Calculation!CM$13^3)/I45,\"N/A\")","v":2.9315995607968556E-3},{"$f":"IFERROR(Calculation!CO$13/Calculation!CN$13/Calculation!CN$13/K45+(Calculation!CO$13^2)/(Calculation!CN$13^3)/J45,\"N/A\")","v":2.3828460307450772E-3}]
[null,"9-Ninth dec.   ",{"$f":"IFERROR(Calculation!CH$13/Calculation!CG$13/Calculation!CG$13/D46+(Calculation!CH$13^2)/(Calculation!CG$13^3)/C46,\"N/A\")","v":1.3667251936526146E-3},{"$f":"IFERROR(Calculation!CI$13/Calculation!CH$13/Calculation!CH$13/E46+(Calculation!CI$13^2)/(Calculation!CH$13^3)/D46,\"N/A\")","v":1.0740555902631816E-3},{"$f":"IFERROR(Calculation!CJ$13/Calculation!CI$13/Calculation!CI$13/F46+(Calculation!CJ$13^2)/(Calculation!CI$13^3)/E46,\"N/A\")","v":1.0866411844203047E-3},{"$f":"IFERROR(Calculation!CK$13/Calculation!CJ$13/Calculation!CJ$13/G46+(Calculation!CK$13^2)/(Calculation!CJ$13^3)/F46,\"N/A\")","v":1.0651773907292008E-3},{"$f":"IFERROR(Calculation!CL$13/Calculation!CK$13/Calculation!CK$13/H46+(Calculation!CL$13^2)/(Calculation!CK$13^3)/G46,\"N/A\")","v":9.8008831786122914E-4},{"$f":"IFERROR(Calculation!CM$13/Calculation!CL$13/Calculation!CL$13/I46+(Calculation!CM$13^2)/(Calculation!CL$13^3)/H46,\"N/A\")","v":1.0728504290611494E-3},{"$f":"IFERROR(Calculation!CN$13/Calculation!CM$13/Calculation!CM$13/J46+(Calculation!CN$13^2)/(Calculation!CM$13^3)/I46,\"N/A\")","v":2.4161884926981797E-3},{"$f":"IFERROR(Calculation!CO$13/Calculation!CN$13/Calculation!CN$13/K46+(Calculation!CO$13^2)/(Calculation!CN$13^3)/J46,\"N/A\")","v":2.0006926269090751E-3}]
[null,"10-Highest dec. (family income in 2008$)",{"$f":"IFERROR(Calculation!CH$13/Calculation!CG$13/Calculation!CG$13/D47+(Calculation!CH$13^2)/(Calculation!CG$13^3)/C47,\"N/A\")","v":1.1265238468589243E-3},{"$f":"IFERROR(Calculation!CI$13/Calculation!CH$13/Calculation!CH$13/E47+(Calculation!CI$13^2)/(Calculation!CH$13^3)/D47,\"N/A\")","v":1.3335111032657912E-3},{"$f":"IFERROR(Calculation!CJ$13/Calculation!CI$13/Calculation!CI$13/F47+(Calculation!CJ$13^2)/(Calculation!CI$13^3)/E47,\"N/A\")","v":1.2335616716788408E-3},{"$f":"IFERROR(Calculation!CK$13/Calculation!CJ$13/Calculation!CJ$13/G47+(Calculation!CK$13^2)/(Calculation!CJ$13^3)/F47,\"N/A\")","v":1.1602658921276848E-3},{"$f":"IFERROR(Calculation!CL$13/Calculation!CK$13/Calculation!CK$13/H47+(Calculation!CL$13^2)/(Calculation!CK$13^3)/G47,\"N/A\")","v":1.0454378433254778E-3},{"$f":"IFERROR(Calculation!CM$13/Calculation!CL$13/Calculation!CL$13/I47+(Calculation!CM$13^2)/(Calculation!CL$13^3)/H47,\"N/A\")","v":1.1165211429819393E-3},{"$f":"IFERROR(Calculation!CN$13/Calculation!CM$13/Calculation!CM$13/J47+(Calculation!CN$13^2)/(Calculation!CM$13^3)/I47,\"N/A\")","v":2.8166946695145681E-3},{"$f":"IFERROR(Calculation!CO$13/Calculation!CN$13/Calculation!CN$13/K47+(Calculation!CO$13^2)/(Calculation!CN$13^3)/J47,\"N/A\")","v":2.3939906573439782E-3}]
[null,"1-Dropout      ",{"$f":"IFERROR(Calculation!CH$13/Calculation!CG$13/Calculation!CG$13/D48+(Calculation!CH$13^2)/(Calculation!CG$13^3)/C48,\"N/A\")","v":8.0021018697036037E-5},{"$f":"IFERROR(Calculation!CI$13/Calculation!CH$13/Calculation!CH$13/E48+(Calculation!CI$13^2)/(Calculation!CH$13^3)/D48,\"N/A\")","v":1.2413530709968226E-4},{"$f":"IFERROR(Calculation!CJ$13/Calculation!CI$13/Calculation!CI$13/F48+(Calculation!CJ$13^2)/(Calculation!CI$13^3)/E48,\"N/A\")","v":1.2521657038619069E-4},{"$f":"IFERROR(Calculation!CK$13/Calculation!CJ$13/Calculation!CJ$13/G48+(Calculation!CK$13^2)/(Calculation!CJ$13^3)/F48,\"N/A\")","v":1.3489746386168697E-4},{"$f":"IFERROR(Calculation!CL$13/Calculation!CK$13/Calculation!CK$13/H48+(Calculation!CL$13^2)/(Calculation!CK$13^3)/G48,\"N/A\")","v":1.5194193666657967E-4},{"$f":"IFERROR(Calculation!CM$13/Calculation!CL$13/Calculation!CL$13/I48+(Calculation!CM$13^2)/(Calculation!CL$13^3)/H48,\"N/A\")","v":1.8492709251511242E-4},{"$f":"IFERROR(Calculation!CN$13/Calculation!CM$13/Calculation!CM$13/J48+(Calculation!CN$13^2)/(Calculation!CM$13^3)/I48,\"N/A\")","v":4.9290030111869628E-4},{"$f":"IFERROR(Calculation!CO$13/Calculation!CN$13/Calculation!CN$13/K48+(Calculation!CO$13^2)/(Calculation!CN$13^3)/J48,\"N/A\")","v":4.2850738434219664E-4}]
[null,"2-H.S.Diploma (education)      ",{"$f":"IFERROR(Calculation!CH$13/Calculation!CG$13/Calculation!CG$13/D49+(Calculation!CH$13^2)/(Calculation!CG$13^3)/C49,\"N/A\")","v":1.4537068014490844E-4},{"$f":"IFERROR(Calculation!CI$13/Calculation!CH$13/Calculation!CH$13/E49+(Calculation!CI$13^2)/(Calculation!CH$13^3)/D49,\"N/A\")","v":1.8743146020439125E-4},{"$f":"IFERROR(Calculation!CJ$13/Calculation!CI$13/Calculation!CI$13/F49+(Calculation!CJ$13^2)/(Calculation!CI$13^3)/E49,\"N/A\")","v":1.6445786377198367E-4},{"$f":"IFERROR(Calculation!CK$13/Calculation!CJ$13/Calculation!CJ$13/G49+(Calculation!CK$13^2)/(Calculation!CJ$13^3)/F49,\"N/A\")","v":1.5371581605937675E-4},{"$f":"IFERROR(Calculation!CL$13/Calculation!CK$13/Calculation!CK$13/H49+(Calculation!CL$13^2)/(Calculation!CK$13^3)/G49,\"N/A\")","v":1.4871298913089254E-4},{"$f":"IFERROR(Calculation!CM$13/Calculation!CL$13/Calculation!CL$13/I49+(Calculation!CM$13^2)/(Calculation!CL$13^3)/H49,\"N/A\")","v":1.6103232871699663E-4},{"$f":"IFERROR(Calculation!CN$13/Calculation!CM$13/Calculation!CM$13/J49+(Calculation!CN$13^2)/(Calculation!CM$13^3)/I49,\"N/A\")","v":3.7520439509264195E-4},{"$f":"IFERROR(Calculation!CO$13/Calculation!CN$13/Calculation!CN$13/K49+(Calculation!CO$13^2)/(Calculation!CN$13^3)/J49,\"N/A\")","v":3.1533506805624096E-4}]
[null,"3-SomeColl/AA  ",{"$f":"IFERROR(Calculation!CH$13/Calculation!CG$13/Calculation!CG$13/D50+(Calculation!CH$13^2)/(Calculation!CG$13^3)/C50,\"N/A\")","v":4.2448817106673033E-4},{"$f":"IFERROR(Calculation!CI$13/Calculation!CH$13/Calculation!CH$13/E50+(Calculation!CI$13^2)/(Calculation!CH$13^3)/D50,\"N/A\")","v":5.5804509432055534E-4},{"$f":"IFERROR(Calculation!CJ$13/Calculation!CI$13/Calculation!CI$13/F50+(Calculation!CJ$13^2)/(Calculation!CI$13^3)/E50,\"N/A\")","v":4.2323235625148936E-4},{"$f":"IFERROR(Calculation!CK$13/Calculation!CJ$13/Calculation!CJ$13/G50+(Calculation!CK$13^2)/(Calculation!CJ$13^3)/F50,\"N/A\")","v":3.1363410807086348E-4},{"$f":"IFERROR(Calculation!CL$13/Calculation!CK$13/Calculation!CK$13/H50+(Calculation!CL$13^2)/(Calculation!CK$13^3)/G50,\"N/A\")","v":2.8944364139983777E-4},{"$f":"IFERROR(Calculation!CM$13/Calculation!CL$13/Calculation!CL$13/I50+(Calculation!CM$13^2)/(Calculation!CL$13^3)/H50,\"N/A\")","v":3.039484237529396E-4},{"$f":"IFERROR(Calculation!CN$13/Calculation!CM$13/Calculation!CM$13/J50+(Calculation!CN$13^2)/(Calculation!CM$13^3)/I50,\"N/A\")","v":7.1182944997297401E-4},{"$f":"IFERROR(Calculation!CO$13/Calculation!CN$13/Calculation!CN$13/K50+(Calculation!CO$13^2)/(Calculation!CN$13^3)/J50,\"N/A\")","v":5.9571697065435413E-4}]
[null,"4-4yr.Degree   ",{"$f":"IFERROR(Calculation!CH$13/Calculation!CG$13/Calculation!CG$13/D51+(Calculation!CH$13^2)/(Calculation!CG$13^3)/C51,\"N/A\")","v":7.7670437127349201E-4},{"$f":"IFERROR(Calculation!CI$13/Calculation!CH$13/Calculation!CH$13/E51+(Calculation!CI$13^2)/(Calculation!CH$13^3)/D51,\"N/A\")","v":1.023082672921018E-3},{"$f":"IFERROR(Calculation!CJ$13/Calculation!CI$13/Calculation!CI$13/F51+(Calculation!CJ$13^2)/(Calculation!CI$13^3)/E51,\"N/A\")","v":8.3259608588488992E-4},{"$f":"IFERROR(Calculation!CK$13/Calculation!CJ$13/Calculation!CJ$13/G51+(Calculation!CK$13^2)/(Calculation!CJ$13^3)/F51,\"N/A\")","v":6.5556701267322891E-4},{"$f":"IFERROR(Calculation!CL$13/Calculation!CK$13/Calculation!CK$13/H51+(Calculation!CL$13^2)/(Calculation!CK$13^3)/G51,\"N/A\")","v":5.8663484504803615E-4},{"$f":"IFERROR(Calculation!CM$13/Calculation!CL$13/Calculation!CL$13/I51+(Calculation!CM$13^2)/(Calculation!CL$13^3)/H51,\"N/A\")","v":6.2887190071358751E-4},{"$f":"IFERROR(Calculation!CN$13/Calculation!CM$13/Calculation!CM$13/J51+(Calculation!CN$13^2)/(Calculation!CM$13^3)/I51,\"N/A\")","v":1.5556874697536004E-3},{"$f":"IFERROR(Calculation!CO$13/Calculation!CN$13/Calculation!CN$13/K51+(Calculation!CO$13^2)/(Calculation!CN$13^3)/J51,\"N/A\")","v":1.3251612791716902E-3}]
[null,"5-Grad.Degree  ",{"$f":"IFERROR(Calculation!CH$13/Calculation!CG$13/Calculation!CG$13/D52+(Calculation!CH$13^2)/(Calculation!CG$13^3)/C52,\"N/A\")","v":1.1780100668754366E-3},{"$f":"IFERROR(Calculation!CI$13/Calculation!CH$13/Calculation!CH$13/E52+(Calculation!CI$13^2)/(Calculation!CH$13^3)/D52,\"N/A\")","v":1.4485057777619749E-3},{"$f":"IFERROR(Calculation!CJ$13/Calculation!CI$13/Calculation!CI$13/F52+(Calculation!CJ$13^2)/(Calculation!CI$13^3)/E52,\"N/A\")","v":1.2329425714688467E-3},{"$f":"IFERROR(Calculation!CK$13/Calculation!CJ$13/Calculation!CJ$13/G52+(Calculation!CK$13^2)/(Calculation!CJ$13^3)/F52,\"N/A\")","v":1.166198502973983E-3},{"$f":"IFERROR(Calculation!CL$13/Calculation!CK$13/Calculation!CK$13/H52+(Calculation!CL$13^2)/(Calculation!CK$13^3)/G52,\"N/A\")","v":1.0767486185242513E-3},{"$f":"IFERROR(Calculation!CM$13/Calculation!CL$13/Calculation!CL$13/I52+(Calculation!CM$13^2)/(Calculation!CL$13^3)/H52,\"N/A\")","v":1.1054066717189283E-3},{"$f":"IFERROR(Calculation!CN$13/Calculation!CM$13/Calculation!CM$13/J52+(Calculation!CN$13^2)/(Calculation!CM$13^3)/I52,\"N/A\")","v":2.7753125520847905E-3},{"$f":"IFERROR(Calculation!CO$13/Calculation!CN$13/Calculation!CN$13/K52+(Calculation!CO$13^2)/(Calculation!CN$13^3)/J52,\"N/A\")","v":2.3915136904543058E-3}]
[null,"1-White NH (ethnic/race)     ",{"$f":"IFERROR(Calculation!CH$13/Calculation!CG$13/Calculation!CG$13/D53+(Calculation!CH$13^2)/(Calculation!CG$13^3)/C53,\"N/A\")","v":8.0330689002092669E-5},{"$f":"IFERROR(Calculation!CI$13/Calculation!CH$13/Calculation!CH$13/E53+(Calculation!CI$13^2)/(Calculation!CH$13^3)/D53,\"N/A\")","v":1.0000740366158419E-4},{"$f":"IFERROR(Calculation!CJ$13/Calculation!CI$13/Calculation!CI$13/F53+(Calculation!CJ$13^2)/(Calculation!CI$13^3)/E53,\"N/A\")","v":6.6531481651118827E-5},{"$f":"IFERROR(Calculation!CK$13/Calculation!CJ$13/Calculation!CJ$13/G53+(Calculation!CK$13^2)/(Calculation!CJ$13^3)/F53,\"N/A\")","v":6.4017515032950702E-5},{"$f":"IFERROR(Calculation!CL$13/Calculation!CK$13/Calculation!CK$13/H53+(Calculation!CL$13^2)/(Calculation!CK$13^3)/G53,\"N/A\")","v":6.6639708816702771E-5},{"$f":"IFERROR(Calculation!CM$13/Calculation!CL$13/Calculation!CL$13/I53+(Calculation!CM$13^2)/(Calculation!CL$13^3)/H53,\"N/A\")","v":7.8829738965728059E-5},{"$f":"IFERROR(Calculation!CN$13/Calculation!CM$13/Calculation!CM$13/J53+(Calculation!CN$13^2)/(Calculation!CM$13^3)/I53,\"N/A\")","v":1.9851635813027417E-4},{"$f":"IFERROR(Calculation!CO$13/Calculation!CN$13/Calculation!CN$13/K53+(Calculation!CO$13^2)/(Calculation!CN$13^3)/J53,\"N/A\")","v":1.6832665682839089E-4}]
[null,"2-Black NH     ",{"$f":"IFERROR(Calculation!CH$13/Calculation!CG$13/Calculation!CG$13/D54+(Calculation!CH$13^2)/(Calculation!CG$13^3)/C54,\"N/A\")","v":6.6130971006054325E-4},{"$f":"IFERROR(Calculation!CI$13/Calculation!CH$13/Calculation!CH$13/E54+(Calculation!CI$13^2)/(Calculation!CH$13^3)/D54,\"N/A\")","v":8.9858075836691197E-4},{"$f":"IFERROR(Calculation!CJ$13/Calculation!CI$13/Calculation!CI$13/F54+(Calculation!CJ$13^2)/(Calculation!CI$13^3)/E54,\"N/A\")","v":6.4554173266881453E-4},{"$f":"IFERROR(Calculation!CK$13/Calculation!CJ$13/Calculation!CJ$13/G54+(Calculation!CK$13^2)/(Calculation!CJ$13^3)/F54,\"N/A\")","v":5.8777957767056977E-4},{"$f":"IFERROR(Calculation!CL$13/Calculation!CK$13/Calculation!CK$13/H54+(Calculation!CL$13^2)/(Calculation!CK$13^3)/G54,\"N/A\")","v":5.4534550330577263E-4},{"$f":"IFERROR(Calculation!CM$13/Calculation!CL$13/Calculation!CL$13/I54+(Calculation!CM$13^2)/(Calculation!CL$13^3)/H54,\"N/A\")","v":4.495472127605247E-4},{"$f":"IFERROR(Calculation!CN$13/Calculation!CM$13/Calculation!CM$13/J54+(Calculation!CN$13^2)/(Calculation!CM$13^3)/I54,\"N/A\")","v":8.8711466309519512E-4},{"$f":"IFERROR(Calculation!CO$13/Calculation!CN$13/Calculation!CN$13/K54+(Calculation!CO$13^2)/(Calculation!CN$13^3)/J54,\"N/A\")","v":7.6904628047434482E-4}]
[null,"3-Asian NH     ",{"$f":"IFERROR(Calculation!CH$13/Calculation!CG$13/Calculation!CG$13/D55+(Calculation!CH$13^2)/(Calculation!CG$13^3)/C55,\"N/A\")","v":7.6976746862859151E-3},{"$f":"IFERROR(Calculation!CI$13/Calculation!CH$13/Calculation!CH$13/E55+(Calculation!CI$13^2)/(Calculation!CH$13^3)/D55,\"N/A\")","v":9.2094721648818823E-3},{"$f":"IFERROR(Calculation!CJ$13/Calculation!CI$13/Calculation!CI$13/F55+(Calculation!CJ$13^2)/(Calculation!CI$13^3)/E55,\"N/A\")","v":5.1643338613505162E-3},{"$f":"IFERROR(Calculation!CK$13/Calculation!CJ$13/Calculation!CJ$13/G55+(Calculation!CK$13^2)/(Calculation!CJ$13^3)/F55,\"N/A\")","v":4.0514078484198118E-3},{"$f":"IFERROR(Calculation!CL$13/Calculation!CK$13/Calculation!CK$13/H55+(Calculation!CL$13^2)/(Calculation!CK$13^3)/G55,\"N/A\")","v":3.0421976828842764E-3},{"$f":"IFERROR(Calculation!CM$13/Calculation!CL$13/Calculation!CL$13/I55+(Calculation!CM$13^2)/(Calculation!CL$13^3)/H55,\"N/A\")","v":2.1752105602568282E-3},{"$f":"IFERROR(Calculation!CN$13/Calculation!CM$13/Calculation!CM$13/J55+(Calculation!CN$13^2)/(Calculation!CM$13^3)/I55,\"N/A\")","v":4.5786169004031268E-3},{"$f":"IFERROR(Calculation!CO$13/Calculation!CN$13/Calculation!CN$13/K55+(Calculation!CO$13^2)/(Calculation!CN$13^3)/J55,\"N/A\")","v":3.9479231276314175E-3}]
[null,"4-Hispanic     ",{"$f":"IFERROR(Calculation!CH$13/Calculation!CG$13/Calculation!CG$13/D56+(Calculation!CH$13^2)/(Calculation!CG$13^3)/C56,\"N/A\")","v":1.233166352921442E-3},{"$f":"IFERROR(Calculation!CI$13/Calculation!CH$13/Calculation!CH$13/E56+(Calculation!CI$13^2)/(Calculation!CH$13^3)/D56,\"N/A\")","v":1.4125647117944305E-3},{"$f":"IFERROR(Calculation!CJ$13/Calculation!CI$13/Calculation!CI$13/F56+(Calculation!CJ$13^2)/(Calculation!CI$13^3)/E56,\"N/A\")","v":1.1167237112651826E-3},{"$f":"IFERROR(Calculation!CK$13/Calculation!CJ$13/Calculation!CJ$13/G56+(Calculation!CK$13^2)/(Calculation!CJ$13^3)/F56,\"N/A\")","v":8.8102220930780608E-4},{"$f":"IFERROR(Calculation!CL$13/Calculation!CK$13/Calculation!CK$13/H56+(Calculation!CL$13^2)/(Calculation!CK$13^3)/G56,\"N/A\")","v":7.5857992898516798E-4},{"$f":"IFERROR(Calculation!CM$13/Calculation!CL$13/Calculation!CL$13/I56+(Calculation!CM$13^2)/(Calculation!CL$13^3)/H56,\"N/A\")","v":8.123453197803603E-4},{"$f":"IFERROR(Calculation!CN$13/Calculation!CM$13/Calculation!CM$13/J56+(Calculation!CN$13^2)/(Calculation!CM$13^3)/I56,\"N/A\")","v":2.0104732183411325E-3},{"$f":"IFERROR(Calculation!CO$13/Calculation!CN$13/Calculation!CN$13/K56+(Calculation!CO$13^2)/(Calculation!CN$13^3)/J56,\"N/A\")","v":1.7129126701433475E-3}]
[null,"5-Other NH     ",{"$f":"IFERROR(Calculation!CH$13/Calculation!CG$13/Calculation!CG$13/D57+(Calculation!CH$13^2)/(Calculation!CG$13^3)/C57,\"N/A\")","v":5.3466944813510291E-4},{"$f":"IFERROR(Calculation!CI$13/Calculation!CH$13/Calculation!CH$13/E57+(Calculation!CI$13^2)/(Calculation!CH$13^3)/D57,\"N/A\")","v":6.9189855043357658E-4},{"$f":"IFERROR(Calculation!CJ$13/Calculation!CI$13/Calculation!CI$13/F57+(Calculation!CJ$13^2)/(Calculation!CI$13^3)/E57,\"N/A\")","v":1.1734079030394789E-3},{"$f":"IFERROR(Calculation!CK$13/Calculation!CJ$13/Calculation!CJ$13/G57+(Calculation!CK$13^2)/(Calculation!CJ$13^3)/F57,\"N/A\")","v":1.2031765438883179E-3},{"$f":"IFERROR(Calculation!CL$13/Calculation!CK$13/Calculation!CK$13/H57+(Calculation!CL$13^2)/(Calculation!CK$13^3)/G57,\"N/A\")","v":1.1417744148227364E-3},{"$f":"IFERROR(Calculation!CM$13/Calculation!CL$13/Calculation!CL$13/I57+(Calculation!CM$13^2)/(Calculation!CL$13^3)/H57,\"N/A\")","v":1.4293117938395531E-3},{"$f":"IFERROR(Calculation!CN$13/Calculation!CM$13/Calculation!CM$13/J57+(Calculation!CN$13^2)/(Calculation!CM$13^3)/I57,\"N/A\")","v":4.4717539884632533E-3},{"$f":"IFERROR(Calculation!CO$13/Calculation!CN$13/Calculation!CN$13/K57+(Calculation!CO$13^2)/(Calculation!CN$13^3)/J57,\"N/A\")","v":4.1072919407935705E-3}]
[null,"1-Employed  (Labor force)",{"$f":"IFERROR(Calculation!CH$13/Calculation!CG$13/Calculation!CG$13/D58+(Calculation!CH$13^2)/(Calculation!CG$13^3)/C58,\"N/A\")","v":1.9336504788865469E-4},{"$f":"IFERROR(Calculation!CI$13/Calculation!CH$13/Calculation!CH$13/E58+(Calculation!CI$13^2)/(Calculation!CH$13^3)/D58,\"N/A\")","v":2.809461197889314E-4},{"$f":"IFERROR(Calculation!CJ$13/Calculation!CI$13/Calculation!CI$13/F58+(Calculation!CJ$13^2)/(Calculation!CI$13^3)/E58,\"N/A\")","v":2.7092429134007378E-4},{"$f":"IFERROR(Calculation!CK$13/Calculation!CJ$13/Calculation!CJ$13/G58+(Calculation!CK$13^2)/(Calculation!CJ$13^3)/F58,\"N/A\")","v":2.6764133758157315E-4},{"$f":"IFERROR(Calculation!CL$13/Calculation!CK$13/Calculation!CK$13/H58+(Calculation!CL$13^2)/(Calculation!CK$13^3)/G58,\"N/A\")","v":2.550583288536732E-4},{"$f":"IFERROR(Calculation!CM$13/Calculation!CL$13/Calculation!CL$13/I58+(Calculation!CM$13^2)/(Calculation!CL$13^3)/H58,\"N/A\")","v":2.9719618497467024E-4},{"$f":"IFERROR(Calculation!CN$13/Calculation!CM$13/Calculation!CM$13/J58+(Calculation!CN$13^2)/(Calculation!CM$13^3)/I58,\"N/A\")","v":8.987644259536669E-4},{"$f":"IFERROR(Calculation!CO$13/Calculation!CN$13/Calculation!CN$13/K58+(Calculation!CO$13^2)/(Calculation!CN$13^3)/J58,\"N/A\")","v":7.9081598845693213E-4}]
[null,"2-Unemployed   ",{"$f":"IFERROR(Calculation!CH$13/Calculation!CG$13/Calculation!CG$13/D59+(Calculation!CH$13^2)/(Calculation!CG$13^3)/C59,\"N/A\")","v":3.0654604188672524E-3},{"$f":"IFERROR(Calculation!CI$13/Calculation!CH$13/Calculation!CH$13/E59+(Calculation!CI$13^2)/(Calculation!CH$13^3)/D59,\"N/A\")","v":5.1444176105916442E-3},{"$f":"IFERROR(Calculation!CJ$13/Calculation!CI$13/Calculation!CI$13/F59+(Calculation!CJ$13^2)/(Calculation!CI$13^3)/E59,\"N/A\")","v":4.758089845883549E-3},{"$f":"IFERROR(Calculation!CK$13/Calculation!CJ$13/Calculation!CJ$13/G59+(Calculation!CK$13^2)/(Calculation!CJ$13^3)/F59,\"N/A\")","v":5.007355736456289E-3},{"$f":"IFERROR(Calculation!CL$13/Calculation!CK$13/Calculation!CK$13/H59+(Calculation!CL$13^2)/(Calculation!CK$13^3)/G59,\"N/A\")","v":5.4375773460362906E-3},{"$f":"IFERROR(Calculation!CM$13/Calculation!CL$13/Calculation!CL$13/I59+(Calculation!CM$13^2)/(Calculation!CL$13^3)/H59,\"N/A\")","v":5.407767447433225E-3},{"$f":"IFERROR(Calculation!CN$13/Calculation!CM$13/Calculation!CM$13/J59+(Calculation!CN$13^2)/(Calculation!CM$13^3)/I59,\"N/A\")","v":1.2144468065337446E-2},{"$f":"IFERROR(Calculation!CO$13/Calculation!CN$13/Calculation!CN$13/K59+(Calculation!CO$13^2)/(Calculation!CN$13^3)/J59,\"N/A\")","v":9.9537925282444668E-3}]
[null,"3-NILF         ",{"$f":"IFERROR(Calculation!CH$13/Calculation!CG$13/Calculation!CG$13/D60+(Calculation!CH$13^2)/(Calculation!CG$13^3)/C60,\"N/A\")","v":5.4279397573773518E-5},{"$f":"IFERROR(Calculation!CI$13/Calculation!CH$13/Calculation!CH$13/E60+(Calculation!CI$13^2)/(Calculation!CH$13^3)/D60,\"N/A\")","v":7.6076741807860738E-5},{"$f":"IFERROR(Calculation!CJ$13/Calculation!CI$13/Calculation!CI$13/F60+(Calculation!CJ$13^2)/(Calculation!CI$13^3)/E60,\"N/A\")","v":6.8404645221944738E-5},{"$f":"IFERROR(Calculation!CK$13/Calculation!CJ$13/Calculation!CJ$13/G60+(Calculation!CK$13^2)/(Calculation!CJ$13^3)/F60,\"N/A\")","v":6.4108036238745488E-5},{"$f":"IFERROR(Calculation!CL$13/Calculation!CK$13/Calculation!CK$13/H60+(Calculation!CL$13^2)/(Calculation!CK$13^3)/G60,\"N/A\")","v":6.5299352632212086E-5},{"$f":"IFERROR(Calculation!CM$13/Calculation!CL$13/Calculation!CL$13/I60+(Calculation!CM$13^2)/(Calculation!CL$13^3)/H60,\"N/A\")","v":7.2265708962660104E-5},{"$f":"IFERROR(Calculation!CN$13/Calculation!CM$13/Calculation!CM$13/J60+(Calculation!CN$13^2)/(Calculation!CM$13^3)/I60,\"N/A\")","v":1.6943881665173316E-4},{"$f":"IFERROR(Calculation!CO$13/Calculation!CN$13/Calculation!CN$13/K60+(Calculation!CO$13^2)/(Calculation!CN$13^3)/J60,\"N/A\")","v":1.4313178721075335E-4}]
[null,"1-Prof./Managerial (occ.)",{"$f":"IFERROR(Calculation!CH$13/Calculation!CG$13/Calculation!CG$13/D61+(Calculation!CH$13^2)/(Calculation!CG$13^3)/C61,\"N/A\")","v":1.5179315108780507E-3},{"$f":"IFERROR(Calculation!CI$13/Calculation!CH$13/Calculation!CH$13/E61+(Calculation!CI$13^2)/(Calculation!CH$13^3)/D61,\"N/A\")","v":2.0443578527328194E-3},{"$f":"IFERROR(Calculation!CJ$13/Calculation!CI$13/Calculation!CI$13/F61+(Calculation!CJ$13^2)/(Calculation!CI$13^3)/E61,\"N/A\")","v":1.8951112363952247E-3},{"$f":"IFERROR(Calculation!CK$13/Calculation!CJ$13/Calculation!CJ$13/G61+(Calculation!CK$13^2)/(Calculation!CJ$13^3)/F61,\"N/A\")","v":1.8543885109191735E-3},{"$f":"IFERROR(Calculation!CL$13/Calculation!CK$13/Calculation!CK$13/H61+(Calculation!CL$13^2)/(Calculation!CK$13^3)/G61,\"N/A\")","v":1.7200877544097295E-3},{"$f":"IFERROR(Calculation!CM$13/Calculation!CL$13/Calculation!CL$13/I61+(Calculation!CM$13^2)/(Calculation!CL$13^3)/H61,\"N/A\")","v":1.9420571871002657E-3},{"$f":"IFERROR(Calculation!CN$13/Calculation!CM$13/Calculation!CM$13/J61+(Calculation!CN$13^2)/(Calculation!CM$13^3)/I61,\"N/A\")","v":4.8088659792313113E-3},{"$f":"IFERROR(Calculation!CO$13/Calculation!CN$13/Calculation!CN$13/K61+(Calculation!CO$13^2)/(Calculation!CN$13^3)/J61,\"N/A\")","v":3.9646534069976416E-3}]
[null,"2-Sklld/Sales  ",{"$f":"IFERROR(Calculation!CH$13/Calculation!CG$13/Calculation!CG$13/D62+(Calculation!CH$13^2)/(Calculation!CG$13^3)/C62,\"N/A\")","v":6.0486542792260816E-4},{"$f":"IFERROR(Calculation!CI$13/Calculation!CH$13/Calculation!CH$13/E62+(Calculation!CI$13^2)/(Calculation!CH$13^3)/D62,\"N/A\")","v":8.4741776505392098E-4},{"$f":"IFERROR(Calculation!CJ$13/Calculation!CI$13/Calculation!CI$13/F62+(Calculation!CJ$13^2)/(Calculation!CI$13^3)/E62,\"N/A\")","v":8.1219052988366772E-4},{"$f":"IFERROR(Calculation!CK$13/Calculation!CJ$13/Calculation!CJ$13/G62+(Calculation!CK$13^2)/(Calculation!CJ$13^3)/F62,\"N/A\")","v":8.2023897209653352E-4},{"$f":"IFERROR(Calculation!CL$13/Calculation!CK$13/Calculation!CK$13/H62+(Calculation!CL$13^2)/(Calculation!CK$13^3)/G62,\"N/A\")","v":8.1678079395726042E-4},{"$f":"IFERROR(Calculation!CM$13/Calculation!CL$13/Calculation!CL$13/I62+(Calculation!CM$13^2)/(Calculation!CL$13^3)/H62,\"N/A\")","v":1.1056540595070158E-3},{"$f":"IFERROR(Calculation!CN$13/Calculation!CM$13/Calculation!CM$13/J62+(Calculation!CN$13^2)/(Calculation!CM$13^3)/I62,\"N/A\")","v":3.4413459175164918E-3},{"$f":"IFERROR(Calculation!CO$13/Calculation!CN$13/Calculation!CN$13/K62+(Calculation!CO$13^2)/(Calculation!CN$13^3)/J62,\"N/A\")","v":2.9605067196103213E-3}]
[null,"3-BlueCol.Lgt  ",{"$f":"IFERROR(Calculation!CH$13/Calculation!CG$13/Calculation!CG$13/D63+(Calculation!CH$13^2)/(Calculation!CG$13^3)/C63,\"N/A\")","v":7.9433816764149499E-4},{"$f":"IFERROR(Calculation!CI$13/Calculation!CH$13/Calculation!CH$13/E63+(Calculation!CI$13^2)/(Calculation!CH$13^3)/D63,\"N/A\")","v":1.1717558381430524E-3},{"$f":"IFERROR(Calculation!CJ$13/Calculation!CI$13/Calculation!CI$13/F63+(Calculation!CJ$13^2)/(Calculation!CI$13^3)/E63,\"N/A\")","v":1.1370667418371349E-3},{"$f":"IFERROR(Calculation!CK$13/Calculation!CJ$13/Calculation!CJ$13/G63+(Calculation!CK$13^2)/(Calculation!CJ$13^3)/F63,\"N/A\")","v":1.2248376774715239E-3},{"$f":"IFERROR(Calculation!CL$13/Calculation!CK$13/Calculation!CK$13/H63+(Calculation!CL$13^2)/(Calculation!CK$13^3)/G63,\"N/A\")","v":1.1920483996754054E-3},{"$f":"IFERROR(Calculation!CM$13/Calculation!CL$13/Calculation!CL$13/I63+(Calculation!CM$13^2)/(Calculation!CL$13^3)/H63,\"N/A\")","v":1.1835853591817976E-3},{"$f":"IFERROR(Calculation!CN$13/Calculation!CM$13/Calculation!CM$13/J63+(Calculation!CN$13^2)/(Calculation!CM$13^3)/I63,\"N/A\")","v":3.3873692426080863E-3},{"$f":"IFERROR(Calculation!CO$13/Calculation!CN$13/Calculation!CN$13/K63+(Calculation!CO$13^2)/(Calculation!CN$13^3)/J63,\"N/A\")","v":2.9605067196103213E-3}]
[null,"4-BlueCol.Hvy  ",{"$f":"IFERROR(Calculation!CH$13/Calculation!CG$13/Calculation!CG$13/D64+(Calculation!CH$13^2)/(Calculation!CG$13^3)/C64,\"N/A\")","v":4.0960880962250478E-4},{"$f":"IFERROR(Calculation!CI$13/Calculation!CH$13/Calculation!CH$13/E64+(Calculation!CI$13^2)/(Calculation!CH$13^3)/D64,\"N/A\")","v":6.3355995023927053E-4},{"$f":"IFERROR(Calculation!CJ$13/Calculation!CI$13/Calculation!CI$13/F64+(Calculation!CJ$13^2)/(Calculation!CI$13^3)/E64,\"N/A\")","v":6.7025005673353101E-4},{"$f":"IFERROR(Calculation!CK$13/Calculation!CJ$13/Calculation!CJ$13/G64+(Calculation!CK$13^2)/(Calculation!CJ$13^3)/F64,\"N/A\")","v":7.3630360807594723E-4},{"$f":"IFERROR(Calculation!CL$13/Calculation!CK$13/Calculation!CK$13/H64+(Calculation!CL$13^2)/(Calculation!CK$13^3)/G64,\"N/A\")","v":7.5117822754724008E-4},{"$f":"IFERROR(Calculation!CM$13/Calculation!CL$13/Calculation!CL$13/I64+(Calculation!CM$13^2)/(Calculation!CL$13^3)/H64,\"N/A\")","v":8.7638957287887508E-4},{"$f":"IFERROR(Calculation!CN$13/Calculation!CM$13/Calculation!CM$13/J64+(Calculation!CN$13^2)/(Calculation!CM$13^3)/I64,\"N/A\")","v":2.6943021324462631E-3},{"$f":"IFERROR(Calculation!CO$13/Calculation!CN$13/Calculation!CN$13/K64+(Calculation!CO$13^2)/(Calculation!CN$13^3)/J64,\"N/A\")","v":2.3693496182801048E-3}]
[null,"5-Medical.Occ  ",{"$f":"IFERROR(Calculation!CH$13/Calculation!CG$13/Calculation!CG$13/D65+(Calculation!CH$13^2)/(Calculation!CG$13^3)/C65,\"N/A\")","v":3.6868719782509485E-3},{"$f":"IFERROR(Calculation!CI$13/Calculation!CH$13/Calculation!CH$13/E65+(Calculation!CI$13^2)/(Calculation!CH$13^3)/D65,\"N/A\")","v":5.5296259497354247E-3},{"$f":"IFERROR(Calculation!CJ$13/Calculation!CI$13/Calculation!CI$13/F65+(Calculation!CJ$13^2)/(Calculation!CI$13^3)/E65,\"N/A\")","v":5.1302668269199055E-3},{"$f":"IFERROR(Calculation!CK$13/Calculation!CJ$13/Calculation!CJ$13/G65+(Calculation!CK$13^2)/(Calculation!CJ$13^3)/F65,\"N/A\")","v":4.5487114257610345E-3},{"$f":"IFERROR(Calculation!CL$13/Calculation!CK$13/Calculation!CK$13/H65+(Calculation!CL$13^2)/(Calculation!CK$13^3)/G65,\"N/A\")","v":4.2233893937280807E-3},{"$f":"IFERROR(Calculation!CM$13/Calculation!CL$13/Calculation!CL$13/I65+(Calculation!CM$13^2)/(Calculation!CL$13^3)/H65,\"N/A\")","v":4.9720716592521015E-3},{"$f":"IFERROR(Calculation!CN$13/Calculation!CM$13/Calculation!CM$13/J65+(Calculation!CN$13^2)/(Calculation!CM$13^3)/I65,\"N/A\")","v":1.4017274819638527E-2},{"$f":"IFERROR(Calculation!CO$13/Calculation!CN$13/Calculation!CN$13/K65+(Calculation!CO$13^2)/(Calculation!CN$13^3)/J65,\"N/A\")","v":1.188468640982299E-2}]
[null,"6-N/A          ",{"$f":"IFERROR(Calculation!CH$13/Calculation!CG$13/Calculation!CG$13/D66+(Calculation!CH$13^2)/(Calculation!CG$13^3)/C66,\"N/A\")","v":5.6719485583187873E-5},{"$f":"IFERROR(Calculation!CI$13/Calculation!CH$13/Calculation!CH$13/E66+(Calculation!CI$13^2)/(Calculation!CH$13^3)/D66,\"N/A\")","v":7.9259949074050138E-5},{"$f":"IFERROR(Calculation!CJ$13/Calculation!CI$13/Calculation!CI$13/F66+(Calculation!CJ$13^2)/(Calculation!CI$13^3)/E66,\"N/A\")","v":7.0518098196134998E-5},{"$f":"IFERROR(Calculation!CK$13/Calculation!CJ$13/Calculation!CJ$13/G66+(Calculation!CK$13^2)/(Calculation!CJ$13^3)/F66,\"N/A\")","v":6.4981591796586189E-5},{"$f":"IFERROR(Calculation!CL$13/Calculation!CK$13/Calculation!CK$13/H66+(Calculation!CL$13^2)/(Calculation!CK$13^3)/G66,\"N/A\")","v":6.5784143501858798E-5},{"$f":"IFERROR(Calculation!CM$13/Calculation!CL$13/Calculation!CL$13/I66+(Calculation!CM$13^2)/(Calculation!CL$13^3)/H66,\"N/A\")","v":7.2664258763835372E-5},{"$f":"IFERROR(Calculation!CN$13/Calculation!CM$13/Calculation!CM$13/J66+(Calculation!CN$13^2)/(Calculation!CM$13^3)/I66,\"N/A\")","v":1.7060114271711248E-4},{"$f":"IFERROR(Calculation!CO$13/Calculation!CN$13/Calculation!CN$13/K66+(Calculation!CO$13^2)/(Calculation!CN$13^3)/J66,\"N/A\")","v":1.4531029147038104E-4}]
[]
[null,"Variance (all cause)",null,null,null,null,null,null,null,null,null,"Standard deviation (all cause)",null,null,null,null,null,null,null,null,null,"75% CI (all cause)"]
[null,null,"1987.5-1991.5","1991.5-1995.5","1995.5-1999.5","1999.5-2003.5","2003.5-2006","2006-2008","2008-2010","2010-2012",null,null,"1987.5-1991.5","1991.5-1995.5","1995.5-1999.5","1999.5-2003.5","2003.5-2006","2006-2008","2008-2010","2010-2012",null,null,"1987.5-1991.5","1991.5-1995.5","1995.5-1999.5","1999.5-2003.5","2003.5-2006","2006-2008","2008-2010","2010-2012"]
[null,"age 40-44 ",1.7172058516346127E-3,2.3547235560692553E-3,2.0629664144131295E-3,1.9395672898291302E-3,1.8316740595943739E-3,1.9283444464798611E-3,5.1135660241900813E-3,4.3032632973858337E-3,null,"age 40-44 ",{"$f":"IFERROR(SQRT(C123),\"N/A\")","v":4.1439182564749183E-2},{"$f":"IFERROR(SQRT(D123),\"N/A\")","v":4.8525493877643898E-2},{"$f":"IFERROR(SQRT(E123),\"N/A\")","v":4.5419890074868408E-2},{"$f":"IFERROR(SQRT(F123),\"N/A\")","v":4.4040518727975153E-2},{"$f":"IFERROR(SQRT(G123),\"N/A\")","v":4.279806139995565E-2},{"$f":"IFERROR(SQRT(H123),\"N/A\")","v":4.3912918901843241E-2},{"$f":"IFERROR(SQRT(I123),\"N/A\")","v":7.1509202374170563E-2},{"$f":"IFERROR(SQRT(J123),\"N/A\")","v":6.5599262933251273E-2},null,"age 40-44 ",{"$f":"IFERROR(1.15*M123,\"N/A\")","v":4.7655059949461558E-2},{"$f":"IFERROR(1.15*N123,\"N/A\")","v":5.580431795929048E-2},{"$f":"IFERROR(1.15*O123,\"N/A\")","v":5.2232873586098662E-2},{"$f":"IFERROR(1.15*P123,\"N/A\")","v":5.0646596537171421E-2},{"$f":"IFERROR(1.15*Q123,\"N/A\")","v":4.9217770609948995E-2},{"$f":"IFERROR(1.15*R123,\"N/A\")","v":5.0499856737119722E-2},{"$f":"IFERROR(1.15*S123,\"N/A\")","v":8.2235582730296145E-2},{"$f":"IFERROR(1.15*T123,\"N/A\")","v":7.5439152373238963E-2}]
[null,"age 45-49 ",1.2844073352665699E-3,1.851928778593167E-3,1.6473644293641177E-3,1.4329456339268859E-3,1.3175620019797447E-3,1.4156894359938059E-3,3.1647490574580536E-3,2.5760951063342414E-3,null,"age 45-49 ",{"$f":"IFERROR(SQRT(C124),\"N/A\")","v":3.583862909301317E-2},4.3034042089875393E-2,4.058773742602706E-2,3.7854268371306371E-2,3.6298236899052615E-2,3.7625648645489236E-2,5.625610240194439E-2,5.0755247081796788E-2,null,"age 45-49 ",{"$f":"IFERROR(1.15*M124,\"N/A\")","v":4.1214423456965139E-2},4.9489148403356699E-2,4.6675898039931114E-2,4.3532408627002327E-2,4.1742972433910501E-2,4.3269495942312615E-2,6.4694517762236045E-2,5.83685341440663E-2]
[null,"age 50-54 ",7.8323328933818756E-4,1.2372870847045642E-3,1.1582577085225585E-3,1.0920284317710591E-3,1.0679081878617654E-3,1.0884022221317883E-3,3.0261230681679924E-3,2.6824218379171484E-3,null,"age 50-54 ",2.7986305389211125E-2,3.5175091822262014E-2,3.4033185400760807E-2,3.3045853473182667E-2,3.2678864543642966E-2,3.2990941516297896E-2,5.5010208763174064E-2,5.1792102080502084E-2,null,"age 50-54 ",3.2184251197592793E-2,4.0451355595601313E-2,3.9138163210874925E-2,3.8002731494160065E-2,3.7580694225189407E-2,3.7939582743742581E-2,6.3261740077650175E-2,5.9560917392577392E-2]
[null,"age 55-59 ",5.1574350646709421E-4,8.1855641174060625E-4,8.4378484591585872E-4,8.789288145737501E-4,9.0414934375283894E-4,9.0955717501295592E-4,1.9251444191546469E-3,1.5988683761845343E-3,null,"age 55-59 ",2.2709986932340893E-2,2.8610424878715211E-2,2.9047974902148666E-2,2.9646733624022564E-2,3.0069076203848348E-2,3.0158865612170429E-2,4.387646771510495E-2,3.9985852200303727E-2,null,"age 55-59 ",2.6116484972192027E-2,3.2901988610522487E-2,3.3405171137470963E-2,3.4093743667625943E-2,3.45794376344256E-2,3.4682695453995993E-2,5.0457937872370691E-2,4.5983730030349286E-2]
[null,"age 60-64",3.7963079226909966E-4,5.5656947666542981E-4,5.6782295293414473E-4,6.244621026101297E-4,6.7979412638102723E-4,7.7224133290223801E-4,1.7095851018094506E-3,1.4288471643084928E-3,null,"age 60-64",1.9484116409760534E-2,2.3591724749696234E-2,2.3829035921206394E-2,2.4989239736537199E-2,2.6072861875540768E-2,2.778923052015363E-2,4.1347129305544912E-2,3.7800094765866564E-2,null,"age 60-64",2.2406733871224611E-2,2.7130483462150665E-2,2.7403391309387352E-2,2.8737625697017776E-2,2.9983791156871879E-2,3.195761509817667E-2,4.7549198701376645E-2,4.3470108980746547E-2]
[null,"age 65-69 (age group) ",3.1902915877654939E-4,4.4370957415473724E-4,4.2446274636827547E-4,4.4222507866893001E-4,5.0894049656510212E-4,6.3756548025863851E-4,1.4762681016567615E-3,1.2222351151292676E-3,null,"age 65-69 (age group) ",1.786138736986994E-2,2.1064414878052922E-2,2.0602493692955606E-2,2.1029148310593323E-2,2.2559709585123256E-2,2.5250059014953578E-2,3.8422234469858228E-2,3.4960479332086791E-2,null,"age 65-69 (age group) ",2.0540595475350427E-2,2.422407710976086E-2,2.3692867746898945E-2,2.4183520557182321E-2,2.5943666022891741E-2,2.9037567867196613E-2,4.4185569640336958E-2,4.020455123189981E-2]
[null,"age 70-74 ",2.9982235873150499E-4,4.1083426652292862E-4,3.6974871024043031E-4,3.482410063860036E-4,3.8582767146507478E-4,5.0043092233192791E-4,1.2714297987695196E-3,1.0443698946566056E-3,null,"age 70-74 ",1.7315379254625209E-2,2.0269047005790099E-2,1.9228850985964562E-2,1.866121663734719E-2,1.9642496569048314E-2,2.2370313416041534E-2,3.5657114279895388E-2,3.2316712312000513E-2,null,"age 70-74 ",1.9912686142818988E-2,2.3309404056658614E-2,2.2113178633859244E-2,2.1460399132949268E-2,2.258887105440556E-2,2.5725860428447763E-2,4.1005681421879693E-2,3.7164219158800589E-2]
[null,"age 75-79 ",3.3712338965179341E-4,4.5267996758470192E-4,3.8446804720644351E-4,3.3646687784941198E-4,3.436513114299356E-4,4.0765319976916856E-4,1.0354277181989155E-3,8.8067597233810807E-4,null,"age 75-79 ",1.8360920174430077E-2,2.1276277108194984E-2,1.9607856772387019E-2,1.8343033496382544E-2,1.8537834593876805E-2,2.0190423466811401E-2,3.217806268560796E-2,2.9676185272674589E-2,null,"age 75-79 ",2.1115058200594589E-2,2.4467718674424231E-2,2.2549035288245069E-2,2.1094488520839925E-2,2.1318509782958323E-2,2.3218986986833109E-2,3.7004772088449149E-2,3.4127613063575771E-2]
[null,"age 80-84 ",4.5975117059592882E-4,6.0793362652278944E-4,4.9076602244435227E-4,4.1104947805292025E-4,3.835908910622734E-4,4.221691312721807E-4,1.0300969223260665E-3,8.6637342081209527E-4,null,"age 80-84 ",2.1441808939451187E-2,2.4656310075167158E-2,2.2153239547396952E-2,2.0274355182173371E-2,1.9585476533959378E-2,2.0546754762545368E-2,3.2095123030237267E-2,2.9434221933186806E-2,null,"age 80-84 ",2.4658080280368862E-2,2.835475658644223E-2,2.5476225479506492E-2,2.3315508459499375E-2,2.2523298014053283E-2,2.362876797692717E-2,3.6909391484772854E-2,3.3849355223164825E-2]
[null,"age 85+",6.2199209703449354E-4,8.4442921564754133E-4,6.8236903938322091E-4,5.4503876381371591E-4,6.1101511426964975E-4,5.8077566957312953E-4,8.3826904688138006E-4,6.7307769178613901E-4,null,"age 85+",2.4939769386152982E-2,2.9059064259668466E-2,2.6122194382999696E-2,2.3346065274767736E-2,2.471871991567625E-2,2.4099287739954671E-2,2.89528763144766E-2,2.5943740898069018E-2,null,"age 85+",2.8680734794075926E-2,3.3417923898618737E-2,3.0040523540449646E-2,2.6847975065982892E-2,2.8426527903027684E-2,2.771418090094787E-2,3.3295807761648089E-2,2.9835302032779367E-2]
[null,"Male (Sex)",7.975139102747726E-5,1.1495140336788111E-4,1.0812627374548871E-4,1.0402164949725851E-4,1.0382696432572328E-4,1.1425255689649313E-4,2.7228819558751464E-4,2.2949331012878376E-4,null,"Male (Sex)",8.9303634319929694E-3,1.072153922568402E-2,1.0398378419036725E-2,1.0199100425883574E-2,1.0189551723492221E-2,1.0688898769119911E-2,1.650115740145262E-2,1.5149036607282449E-2,null,"Male (Sex)",1.0269917946791914E-2,1.2329770109536623E-2,1.1958135181892234E-2,1.1728965489766109E-2,1.1717984482016053E-2,1.2292233584487897E-2,1.8976331011670511E-2,1.7421392098374816E-2]
[null,"Female       ",1.0184946461833563E-4,1.3750955955741794E-4,1.1924333891913242E-4,1.0965847475641506E-4,1.0879216709726833E-4,1.1905190910343138E-4,2.8613794942054056E-4,2.316207441012191E-4,null,"Female       ",1.0092049574706599E-2,1.1726447013371865E-2,1.0919859839720124E-2,1.0471794247234571E-2,1.0430348368931324E-2,1.0911091105083459E-2,1.6915612593711781E-2,1.5219091434813679E-2,null,"Female       ",1.1605857010912587E-2,1.3485414065377644E-2,1.2557838815678141E-2,1.2042563384319756E-2,1.1994900624271021E-2,1.2547754770845977E-2,1.9452954482768545E-2,1.750195515003573E-2]
[null,"1-Never  ","N/A","N/A","N/A",2.1225563111110013E-4,1.6690930203313393E-4,3.1398617126665069E-4,1.6883239278013341E-3,"N/A",null,"1-Never  ","N/A","N/A","N/A",1.4568995542284311E-2,1.2919338297031081E-2,1.7719654942087635E-2,4.1089219118904341E-2,"N/A",null,"1-Never  ","N/A","N/A","N/A",1.6754344873626956E-2,1.4857239041585741E-2,2.0377603183400778E-2,4.7252601986739987E-2,"N/A"]
[null,"2-Current","N/A","N/A","N/A",5.7675908739583974E-4,4.2419219056451154E-4,7.1190504248683825E-4,3.2681425979929207E-3,"N/A",null,"2-Current","N/A","N/A","N/A",2.4015809113911605E-2,2.0595926552707249E-2,2.6681548727291643E-2,5.71676709162873E-2,"N/A",null,"2-Current","N/A","N/A","N/A",2.7618180480998344E-2,2.3685315535613333E-2,3.0683781036385388E-2,6.5742821553730388E-2,"N/A"]
[null,"3-Former ","N/A","N/A","N/A",2.742856052246352E-4,2.080003817000352E-4,3.9326160417636367E-4,2.0840977582472892E-3,"N/A",null,"3-Former ","N/A","N/A","N/A",1.6561570131622037E-2,1.4422218334917664E-2,1.9830824596480189E-2,4.5651919546140549E-2,"N/A",null,"3-Former ","N/A","N/A","N/A",1.9045805651365343E-2,1.658555108515531E-2,2.2805448285952216E-2,5.2499707478061625E-2,"N/A"]
[null,"4-Not_Asked (smoker)",4.1778527203277012E-5,5.9160564368254423E-5,7.2657125711865565E-5,1.092645198633513E-4,1.730151385561004E-4,1.5470526574972891E-4,1.7897926600538429E-4,1.44931117015212E-4,null,"4-Not_Asked (smoker)",6.4636311159654691E-3,7.6915904966563592E-3,8.5239149287088482E-3,1.0452967036365862E-2,1.3153521906930494E-2,1.2438057153339057E-2,1.3378313272060282E-2,1.2038734028759502E-2,null,"4-Not_Asked (smoker)",7.4331757833602892E-3,8.8453290711548119E-3,9.8025021680151741E-3,1.202091209182074E-2,1.5126550192970066E-2,1.4303765726339915E-2,1.5385060262869323E-2,1.3844544133073426E-2]
[null,"1-Married (marital status)",7.1914302664184693E-5,1.0282374121459629E-4,9.6887298641487322E-5,9.601851103704592E-5,9.8279261586830172E-5,1.1550170486440245E-4,3.0475996921755061E-4,2.5876934889155465E-4,null,"1-Married (marital status)",8.480230106794549E-3,1.0140204199847076E-2,9.8431345942990803E-3,9.7989035630036657E-3,9.9135897427132906E-3,1.0747171947280011E-2,1.7457375782675661E-2,1.608630936204929E-2,null,"1-Married (marital status)",9.7522646228137312E-3,1.1661234829824136E-2,1.1319604783443942E-2,1.1268739097454215E-2,1.1400628204120283E-2,1.2359247739372012E-2,2.0075982150077009E-2,1.8499255766356682E-2]
[null,"2-Widowed    ",1.4632390698214189E-4,2.0717881570179623E-4,1.8499261850846784E-4,1.7230900443994783E-4,1.8238335642940231E-4,2.0937494686781459E-4,5.0708243274648964E-4,4.6140327925541143E-4,null,"2-Widowed    ",1.2096441914139128E-2,1.4393707503690501E-2,1.3601199157003321E-2,1.3126652446071231E-2,1.3504938223827694E-2,1.446979429251897E-2,2.2518490907396296E-2,2.1480299794356023E-2,null,"2-Widowed    ",1.3910908201259996E-2,1.6552763629244075E-2,1.5641379030553817E-2,1.5095650312981915E-2,1.5530678957401846E-2,1.6640263436396813E-2,2.5896264543505739E-2,2.4702344763509423E-2]
[null,"3-Divorced   ",7.0256612529547772E-4,9.1261616640598306E-4,7.349673903822453E-4,5.9522629969101389E-4,5.2314200548017771E-4,5.2930297424706502E-4,1.2217213444604266E-3,1.0840426171935631E-3,null,"3-Divorced   ",2.6505963957107422E-2,3.0209537672827486E-2,2.7110282004845419E-2,2.4397260085735322E-2,2.2872297774385889E-2,2.3006585453888305E-2,3.4953130681820571E-2,3.2924802462483554E-2,null,"3-Divorced   ",3.0481858550673532E-2,3.4740968323751606E-2,3.117682430557223E-2,2.805684909859562E-2,2.630314244054377E-2,2.6457573271971548E-2,4.0196100284093657E-2,3.7863522831856088E-2]
[null,"4-Separated  ",2.5235253855562605E-3,3.5596697221227675E-3,3.1077934744681832E-3,3.0056715105420372E-3,3.2246546000652245E-3,3.2433637375116234E-3,7.4325893791499682E-3,6.7487186131771166E-3,null,"4-Separated  ",5.02347030005778E-2,5.9662967761608773E-2,5.5747587162747976E-2,5.4824004875073086E-2,5.6786042299716788E-2,5.6950537640233244E-2,8.6212466494991133E-2,8.2150584983779126E-2,null,"4-Separated  ",5.7769908450664466E-2,6.8612412925850089E-2,6.4109725237160173E-2,6.3047605606334045E-2,6.5303948644674301E-2,6.549311828626822E-2,9.9144336469239799E-2,9.4473172731345992E-2]
[null,"5-NeverMar.  ",6.8423901717840963E-4,1.0256399219791283E-3,9.6447178440991284E-4,9.1801968639821751E-4,9.0645039561896754E-4,9.1710190992445601E-4,2.0038880793327996E-3,1.7360424427967679E-3,null,"5-NeverMar.  ",2.6157962787235738E-2,3.202561353009694E-2,3.1055946039525391E-2,3.0298839687324951E-2,3.0107314653070066E-2,3.0283690493803032E-2,4.4764808492082253E-2,4.1665842638746287E-2,null,"5-NeverMar.  ",3.0081657205321098E-2,3.6829455559611479E-2,3.57143379454542E-2,3.4843665640423689E-2,3.4623411851030572E-2,3.4826244067873484E-2,5.1479529765894587E-2,4.7915719034558227E-2]
[null,"1-Lowest inc.  ",2.2732723599381822E-4,3.5271572727262919E-4,3.0725393336528708E-4,2.8502491314629235E-4,3.0337714156080124E-4,3.2248157378001835E-4,7.3695685600443268E-4,6.7349228997212144E-4,null,"1-Lowest inc.  ",1.5077374970259851E-2,1.8780727549076184E-2,1.7528660341431888E-2,1.6882680863722216E-2,1.7417724924937851E-2,1.7957771960352385E-2,2.7146949294615641E-2,2.595172999959967E-2,null,"1-Lowest inc.  ",1.7338981215798827E-2,2.159783668143761E-2,2.0157959392646668E-2,1.9415082993280548E-2,2.0030383663678528E-2,2.0651437754405241E-2,3.1218991688807984E-2,2.984448949953962E-2]
[null,"2-Second dec.  ",2.0493648926818536E-4,3.1482274945363384E-4,2.7828002386473419E-4,2.5778333724358292E-4,2.6385778070466806E-4,3.0447629957193115E-4,7.5758075627823263E-4,6.7284771390393083E-4,null,"2-Second dec.  ",1.4315603000509108E-2,1.7743245178197642E-2,1.6681727244645089E-2,1.6055632570645819E-2,1.6243699723421018E-2,1.7449249255252534E-2,2.7524184933949137E-2,2.5939308277283163E-2,null,"2-Second dec.  ",1.6462943450585472E-2,2.0404731954927285E-2,1.918398633134185E-2,1.8463977456242689E-2,1.8680254681934169E-2,2.0066636643540414E-2,3.1652812674041506E-2,2.9830204518875636E-2]
[null,"3-Third dec.   ",3.1984602172431022E-4,3.9694914172229922E-4,3.5128941421804275E-4,3.2840971076903097E-4,3.4399011387943682E-4,3.8648219764877154E-4,1.0252760280356911E-3,9.1687825518246857E-4,null,"3-Third dec.   ",1.7884239478499226E-2,1.9923582552400038E-2,1.8742716297752648E-2,1.812207799257665E-2,1.8546970477127438E-2,1.9659150481360368E-2,3.2019931730653192E-2,3.0279997608693245E-2,null,"3-Third dec.   ",2.0566875400274107E-2,2.2912119935260041E-2,2.1554123742415544E-2,2.0840389691463145E-2,2.1329016048696553E-2,2.2608023053564422E-2,3.6822921490251168E-2,3.4821997249997232E-2]
[null,"4-Fourth dec.  ",3.7199614677583279E-4,5.051498018035684E-4,4.6869311145870875E-4,4.4861234531075122E-4,4.5065627566884383E-4,5.326534904590087E-4,1.4613295978399619E-3,1.2715188430818065E-3,null,"4-Fourth dec.  ",1.9287201631543981E-2,2.247553785348792E-2,2.1649321270162461E-2,2.1180470847239237E-2,2.1228666365762212E-2,2.3079287043992688E-2,3.8227340972659368E-2,3.5658362877196231E-2,null,"4-Fourth dec.  ",2.2180281876275576E-2,2.5846868531511104E-2,2.4896719460686827E-2,2.4357541474325121E-2,2.4412966320626544E-2,2.6541180100591588E-2,4.3961442118558271E-2,4.100711730877566E-2]
[null,"5-Fifth dec.   ",4.7507807738714615E-4,6.7416813107681829E-4,6.091849571543789E-4,5.9486390411975698E-4,5.9292815533394053E-4,7.0527708158460553E-4,1.8288800648217124E-3,1.5406885364730736E-3,null,"5-Fifth dec.   ",2.1796285862209327E-2,2.5964747853133838E-2,2.4681672495079805E-2,2.4389831982196124E-2,2.43501161256767E-2,2.6557053330228592E-2,4.2765407338428478E-2,3.925160552732937E-2,null,"5-Fifth dec.   ",2.5065728741540724E-2,2.9859460031103912E-2,2.8383923369341774E-2,2.804830677952554E-2,2.8002633544528203E-2,3.0540611329762879E-2,4.9180218439192749E-2,4.5139346356428772E-2]
[null,"6-Sixth dec.   ",5.7990374374051372E-4,7.8204078781323805E-4,7.3940644703227726E-4,7.2264970094821051E-4,7.386501800645338E-4,8.6638198870409445E-4,2.3055035359297914E-3,2.0197709435240603E-3,null,"6-Sixth dec.   ",2.408119066284958E-2,2.7964992183321599E-2,2.7192029108403758E-2,2.6882144649343187E-2,2.7178119509350417E-2,2.94343674758622E-2,4.8015659278299941E-2,4.4941861816396304E-2,null,"6-Sixth dec.   ",2.7693369262277015E-2,3.2159741010819837E-2,3.127083347466432E-2,3.0914466346744662E-2,3.1254837435752976E-2,3.3849522597241527E-2,5.5218008170044929E-2,5.1683141088855744E-2]
[null,"7-Seventh dec. ",1.0895364901715703E-3,9.225310651900416E-4,9.0400899453358502E-4,8.6477342421414883E-4,8.2036086015544038E-4,9.3352063893289159E-4,2.3650952334646632E-3,1.996780136433523E-3,null,"7-Seventh dec. ",3.3008127638076812E-2,3.0373196492796763E-2,3.0066742333242306E-2,2.940703018351477E-2,2.8641942325118949E-2,3.0553569986711725E-2,4.8632244791544051E-2,4.4685345880204654E-2,null,"7-Seventh dec. ",3.7959346783788331E-2,3.4929175966716276E-2,3.4576753683228649E-2,3.381808471104198E-2,3.2938233673886791E-2,3.5136605484718482E-2,5.5927081510275652E-2,5.1388147762235346E-2]
[null,"8-Eighth dec.  ",7.2355141438525702E-4,1.1702564481137416E-3,1.1403457559213388E-3,1.1392757152803097E-3,1.1042492673038612E-3,1.2869365646836349E-3,2.9546796680625731E-3,2.3980498351784925E-3,null,"8-Eighth dec.  ",2.6898911026011017E-2,3.4209011212160773E-2,3.3769005847394132E-2,3.3753158597089987E-2,3.3230246272091653E-2,3.5873898097135121E-2,5.4356965221235197E-2,4.8969887024359088E-2,null,"8-Eighth dec.  ",3.0933747679912669E-2,3.9340362893984883E-2,3.8834356724503249E-2,3.8816132386653483E-2,3.8214783212905397E-2,4.1254982811705386E-2,6.2510510004420469E-2,5.6315370078012947E-2]
[null,"9-Ninth dec.   ",1.4608377851040039E-3,1.1296465248205284E-3,1.1300391591565499E-3,1.0982677990155681E-3,9.9779909194511987E-4,1.0732637196431416E-3,2.3570845107293084E-3,1.8923444694375997E-3,null,"9-Ninth dec.   ",3.8220907695971897E-2,3.3610214590515906E-2,3.3616055080222453E-2,3.3140123702478361E-2,3.1587958021137105E-2,3.2760703894195276E-2,4.8549814734242892E-2,4.3501085842052263E-2,null,"9-Ninth dec.   ",4.3954043850367677E-2,3.8651746779093291E-2,3.8658463342255818E-2,3.811114225785011E-2,3.632615172430767E-2,3.7674809478324564E-2,5.583228694437932E-2,5.0026248718360096E-2]
[null,"10-Highest dec. (family income in 2008$)",1.1265238468589243E-3,1.3335111032657912E-3,1.2335616716788408E-3,1.1602658921276848E-3,1.0454378433254778E-3,1.1165211429819393E-3,2.8166946695145681E-3,2.3939906573439782E-3,null,"10-Highest dec. (family income in 2008$)",3.3563728143025537E-2,3.6517271300930895E-2,3.5122096629883026E-2,3.4062675939034573E-2,3.2333231254012919E-2,3.3414385270148832E-2,5.307254157767996E-2,4.8928423818308087E-2,null,"10-Highest dec. (family income in 2008$)",3.8598287364479365E-2,4.1994861996070526E-2,4.0390411124365477E-2,3.9172077329889754E-2,3.7183215942114857E-2,3.8426543060671156E-2,6.1033422814331953E-2,5.6267687391054297E-2]
[null,"1-Dropout      ",8.1009196222253367E-5,1.2553206457626694E-4,1.2638683633531047E-4,1.3559078555513179E-4,1.520586391579715E-4,1.8454050000148693E-4,4.9146816838844935E-4,4.2724009982955522E-4,null,"1-Dropout      ",9.0005108867360056E-3,1.1204109271881766E-2,1.1242190015086494E-2,1.1644345647357423E-2,1.2331205908505928E-2,1.3584568451058243E-2,2.2169081360950645E-2,2.0669787125888725E-2,null,"1-Dropout      ",1.0350587519746405E-2,1.2884725662664029E-2,1.2928518517349467E-2,1.3390997494461036E-2,1.4180886794781817E-2,1.5622253718716977E-2,2.5494443565093238E-2,2.3770255194772032E-2]
[null,"2-H.S.Diploma (education)      ",1.4537068014490844E-4,1.8743146020439125E-4,1.6445786377198367E-4,1.5371581605937675E-4,1.4871298913089254E-4,1.6103232871699663E-4,3.7520439509264195E-4,3.1533506805624096E-4,null,"2-H.S.Diploma (education)      ",1.2056976409735088E-2,1.3690560989396718E-2,1.2824112591987942E-2,1.2398218261483251E-2,1.219479352555395E-2,1.2689851406419093E-2,1.9370193470707564E-2,1.7757676313533845E-2,null,"2-H.S.Diploma (education)      ",1.386552287119535E-2,1.5744145137806226E-2,1.4747729480786132E-2,1.4257951000705737E-2,1.4024012554387042E-2,1.4593329117381955E-2,2.2275722491313696E-2,2.042132776056392E-2]
[null,"3-SomeColl/AA  ",4.0279664595387364E-4,5.3687871915623236E-4,4.1117102721610334E-4,3.0646229491978686E-4,2.8369048908866287E-4,2.9883407592203818E-4,7.0439042750735184E-4,5.9550441608513137E-4,null,"3-SomeColl/AA  ",2.006979436750346E-2,2.31706434773882E-2,2.0277352569211378E-2,1.7506064518325839E-2,1.6843113996190338E-2,1.7286817981399531E-2,2.6540354698220442E-2,2.4402959166566898E-2,null,"3-SomeColl/AA  ",2.3080263522628978E-2,2.6646239998996426E-2,2.3318955454593084E-2,2.0131974196074712E-2,1.9369581095618888E-2,1.987984067860946E-2,3.0521407902953508E-2,2.8063403041551929E-2]
[null,"4-4yr.Degree   ",7.6659825701153701E-4,1.0045842659385587E-3,8.1132965839880603E-4,6.312049274032202E-4,5.5621082463822415E-4,5.8704397271849937E-4,1.4390777473778237E-3,1.2285229211968756E-3,null,"4-4yr.Degree   ",2.7687510848964682E-2,3.1695177329343953E-2,2.8483849079764589E-2,2.5123792058589011E-2,2.3584122299509562E-2,2.4228990336340871E-2,3.7935178230473938E-2,3.5050291314008726E-2,null,"4-4yr.Degree   ",3.1840637476309379E-2,3.6449453928745545E-2,3.2756426441729276E-2,2.889236086737736E-2,2.7121740644435993E-2,2.7863338886791999E-2,4.3625454965045024E-2,4.030783501111003E-2]
[null,"5-Grad.Degree  ",1.1725473338117084E-3,1.4314225044785279E-3,1.2052288129044981E-3,1.1222755100130778E-3,1.0195205314149514E-3,1.0332505674290771E-3,2.5838035221749092E-3,2.2455101100960092E-3,null,"5-Grad.Degree  ",3.4242478499835673E-2,3.7834144690722528E-2,3.4716405529727559E-2,3.3500380744300173E-2,3.1929931591141117E-2,3.2144215147193705E-2,5.0831127492658564E-2,4.7386813673172934E-2,null,"5-Grad.Degree  ",3.9378850274811021E-2,4.3509266394330906E-2,3.992386635918669E-2,3.8525437855945199E-2,3.6719421329812284E-2,3.6965847419272758E-2,5.8455796616557344E-2,5.4494835724148871E-2]
[null,"1-White NH (ethnic/race)     ",8.0330689002092669E-5,1.0000740366158419E-4,6.6531481651118827E-5,6.4017515032950702E-5,6.6639708816702771E-5,7.8829738965728059E-5,1.9851635813027417E-4,1.6832665682839089E-4,null,"1-White NH (ethnic/race)     ",8.962738923013025E-3,1.0000370176227687E-2,8.1566832506306652E-3,8.0010946146730887E-3,8.1633148179341194E-3,8.878611319667511E-3,1.4089583319966357E-2,1.2974076338159526E-2,null,"1-White NH (ethnic/race)     ",1.0307149761464978E-2,1.1500425702661838E-2,9.3801857382252649E-3,9.2012588068740506E-3,9.3878120406242372E-3,1.0210403017617636E-2,1.6203020817961308E-2,1.4920187788883453E-2]
[null,"2-Black NH     ",6.5657775309191206E-4,8.8611900891187264E-4,6.3039814270339988E-4,5.6725289259055797E-4,5.2010777390471051E-4,4.2419866038118065E-4,8.3244605940729194E-4,7.2428667390104205E-4,null,"2-Black NH     ",2.562377320169518E-2,2.9767751156442313E-2,2.510773073583911E-2,2.3817071452858305E-2,2.2805871478737895E-2,2.0596083617551678E-2,2.885214133140367E-2,2.6912574642739814E-2,null,"2-Black NH     ",2.9467339181949454E-2,3.4232913829908659E-2,2.8873890346214976E-2,2.7389632170787048E-2,2.6226752200548577E-2,2.3685496160184429E-2,3.3179962531114215E-2,3.0949460839150785E-2]
[null,"3-Asian NH     ",7.1676853776292274E-3,8.7355271853826987E-3,4.9763951279702331E-3,4.0057236209864039E-3,3.1576134962656892E-3,2.4424727741056227E-3,5.6673786129708545E-3,5.2724783875406529E-3,null,"3-Asian NH     ",8.4662183869950031E-2,9.3464042205452999E-2,7.0543569005049878E-2,6.3290786225061263E-2,5.619264628281613E-2,4.942137972685124E-2,7.5281993949223039E-2,7.2611833660503666E-2,null,"3-Asian NH     ",9.7361511450442528E-2,0.10748364853627095,8.1125104355807359E-2,7.278440415882044E-2,6.462154322523854E-2,5.6834586685878923E-2,8.6574293041606493E-2,8.3503608709579208E-2]
[null,"4-Hispanic     ",1.2794979438918754E-3,1.4036513757571664E-3,1.0677193100977693E-3,8.2111074194072967E-4,7.0340782434564087E-4,7.7102807424092416E-4,2.0134528957027036E-3,1.8435790574041478E-3,null,"4-Hispanic     ",3.5770070504429749E-2,3.7465335655204886E-2,3.2675974508769731E-2,2.865502995881752E-2,2.6521836745324424E-2,2.7767392283772781E-2,4.4871515415714498E-2,4.2936919514610587E-2,null,"4-Hispanic     ",4.1135581080094206E-2,4.3085136003485618E-2,3.7577370685085189E-2,3.2953284452640147E-2,3.0500112257123086E-2,3.1932501126338698E-2,5.1602242728071672E-2,4.9377457441802171E-2]
[null,"5-Other NH     ",5.2798175844163541E-4,6.9750159693321662E-4,1.2055664305882429E-3,1.2580708339512735E-3,1.2066100161770108E-3,1.4975459435204945E-3,4.5234433006780617E-3,3.9412109690449993E-3,null,"5-Other NH     ",2.2977853651758588E-2,2.6410255525708505E-2,3.4721267698461747E-2,3.5469294240952604E-2,3.4736292493255681E-2,3.8698138760417077E-2,6.7256548385105683E-2,6.2779064735347875E-2,null,"5-Other NH     ",2.6424531699522375E-2,3.0371793854564778E-2,3.9929457853231008E-2,4.0789688377095491E-2,3.994673636724403E-2,4.4502859574479636E-2,7.7345030642871529E-2,7.2195924445650053E-2]
[null,"1-Employed  (Labor force)",1.9336504788865469E-4,2.809461197889314E-4,2.7092429134007378E-4,2.6764133758157315E-4,2.550583288536732E-4,2.9719618497467024E-4,8.987644259536669E-4,7.9081598845693213E-4,null,"1-Employed  (Labor force)",1.3905576143714963E-2,1.6761447425235429E-2,1.6459777985746764E-2,1.635974747915056E-2,1.5970545665495377E-2,1.723937890339064E-2,2.9979400026579367E-2,2.812145068194264E-2,null,"1-Employed  (Labor force)",1.5991412565272208E-2,1.9275664539020743E-2,1.8928744683608778E-2,1.8813709601023142E-2,1.8366127515319682E-2,1.9825285738899235E-2,3.4476310030566268E-2,3.2339668284234034E-2]
[null,"2-Unemployed   ",3.2910020526840619E-3,5.5427662006384167E-3,5.1537143792129009E-3,5.3978227926270873E-3,5.7801254716060334E-3,5.6101751739069498E-3,1.2174575678195057E-2,9.5720356713690728E-3,null,"2-Unemployed   ",5.7367255927785687E-2,7.4449756216111385E-2,7.1789375113681692E-2,7.3469876770191248E-2,7.6027136415927399E-2,7.4901102621436427E-2,0.11033845965117992,9.7836780769652645E-2,null,"2-Unemployed   ",6.5972344316953535E-2,8.5617219648528087E-2,8.2557781380733941E-2,8.4490358285719921E-2,8.74312068783165E-2,8.6136268014651879E-2,0.1268892285988569,0.11251229788510053]
[null,"3-NILF         ",5.701823047044045E-5,8.0919245616606361E-5,7.3680274742129898E-5,6.9801208237628128E-5,7.1558125558090233E-5,7.8548643475026607E-5,1.7680495139985728E-4,1.3926378184449936E-4,null,"3-NILF         ",7.5510416811483995E-3,8.9955125266216133E-3,8.5837214972370752E-3,8.3547117387512623E-3,8.459203600699669E-3,8.8627672583130937E-3,1.3296802299795889E-2,1.1801007662250684E-2,null,"3-NILF         ",8.6836979333206592E-3,1.0344839405614854E-2,9.8712797218226365E-3,9.607918499563951E-3,9.7280841408046194E-3,1.0192182347060057E-2,1.5291322644765272E-2,1.3571158811588284E-2]
[null,"1-Prof./Managerial (occ.)",1.5179315108780507E-3,2.0443578527328194E-3,1.8951112363952247E-3,1.8543885109191735E-3,1.7200877544097295E-3,1.9420571871002657E-3,4.8088659792313113E-3,3.9646534069976416E-3,null,"1-Prof./Managerial (occ.)",3.8960640534750589E-2,4.5214575666844642E-2,4.3532875351798492E-2,4.3062611519962109E-2,4.1473940666516482E-2,4.4068777917027215E-2,6.934598747751243E-2,6.296549378030511E-2,null,"1-Prof./Managerial (occ.)",4.4804736614963175E-2,5.1996762016871333E-2,5.0062806654568262E-2,4.9522003247956421E-2,4.769503176649395E-2,5.0679094604581296E-2,7.9747885599139284E-2,7.2410317847350872E-2]
[null,"2-Sklld/Sales  ",5.5237343366384972E-4,7.9257147398225226E-4,7.7763668365111842E-4,8.0594724287608535E-4,8.2484053931036294E-4,1.1481106173089179E-3,3.6634898523483055E-3,3.2079115191266023E-3,null,"2-Sklld/Sales  ",2.3502626101434915E-2,2.8152645949932525E-2,2.788613784035212E-2,2.8389209972735863E-2,2.8720037244237044E-2,3.3883781036196624E-2,6.0526769716781559E-2,5.6638427936575024E-2,null,"2-Sklld/Sales  ",2.702802001665015E-2,3.2375542842422403E-2,3.2069058516404937E-2,3.2647591468646237E-2,3.30280428308726E-2,3.8966348191626116E-2,6.9605785174298787E-2,6.5134192127061272E-2]
[null,"3-BlueCol.Lgt  ",7.7495776862740798E-4,1.1578024511169512E-3,1.1392265798858938E-3,1.2461872759124372E-3,1.2360291881315382E-3,1.2494006863807256E-3,3.620244830065374E-3,3.179452701372452E-3,null,"3-BlueCol.Lgt  ",2.7838063305973854E-2,3.4026496309742957E-2,3.37524307255921E-2,3.5301377818895925E-2,3.5157206773740401E-2,3.5346862468693396E-2,6.0168470398252391E-2,5.6386635840174504E-2,null,"3-BlueCol.Lgt  ",3.2013772801869927E-2,3.9130470756204398E-2,3.8815295334430913E-2,4.0596584491730307E-2,4.0430787789801456E-2,4.0648891838997406E-2,6.9193740957990246E-2,6.4844631216200668E-2]
[null,"4-BlueCol.Hvy  ",4.1239342359940799E-4,6.3331327566624161E-4,6.6760773748748381E-4,7.3488550816559945E-4,7.5627708642688949E-4,8.9359837424174502E-4,2.7815526526191519E-3,2.4702926447801605E-3,null,"4-BlueCol.Hvy  ",2.0307472112486281E-2,2.516571627564456E-2,2.5838106306141785E-2,2.7108771793749702E-2,2.7500492476079216E-2,2.9893115833612011E-2,5.2740427118285194E-2,4.9702038638069573E-2,null,"4-BlueCol.Hvy  ",2.3353592929359221E-2,2.8940573716991241E-2,2.9713822252063052E-2,3.1175087562812155E-2,3.1625566347491092E-2,3.4377083208653812E-2,6.0651491186027966E-2,5.7157344433780004E-2]
[null,"5-Medical.Occ  ",3.2521446855915776E-3,5.001454710333135E-3,4.7796098755076835E-3,4.3935573632310695E-3,4.2627235072125744E-3,5.2421780539510156E-3,1.5292109442805731E-2,1.3246491584746117E-2,null,"5-Medical.Occ  ",5.7027578289732574E-2,7.0720963725992417E-2,6.913472264721747E-2,6.6283914815217948E-2,6.5289535970265364E-2,7.2402887055358606E-2,0.12366126896812005,0.11509340374124886,null,"5-Medical.Occ  ",6.5581715033192461E-2,8.1329108284891274E-2,7.9504931044300078E-2,7.6226502037500629E-2,7.5082966365805165E-2,8.3263320113662387E-2,0.14221045931333803,0.13235741430243619]
[null,"6-N/A          ",5.5525070969249786E-5,7.7797043367062492E-5,6.9875915689604102E-5,6.5514748745045236E-5,6.7544510145846088E-5,7.5348405340043957E-5,1.7775632942229096E-4,1.5151756931222707E-4,null,"6-N/A          ",7.4515146761748906E-3,8.8202632254974385E-3,8.3591815203166928E-3,8.0941181573439634E-3,8.2185467173853857E-3,8.6803459228330278E-3,1.3332528995741616E-2,1.2309247308922957E-2,null,"6-N/A          ",8.5692418776011237E-3,1.0143302709322054E-2,9.613058748364196E-3,9.3082358809455576E-3,9.4513287249931924E-3,9.9823978112579814E-3,1.5332408345102857E-2,1.4155634405261399E-2]
[]
[null,"Variance (cancer)",null,null,null,null,null,null,null,null,null,"Standard deviation (cancer)",null,null,null,null,null,null,null,null,null,"75% CI (cancer)"]
[null,null,"1987.5-1991.5","1991.5-1995.5","1995.5-1999.5","1999.5-2003.5","2003.5-2006","2006-2008","2008-2010","2010-2012",null,null,"1987.5-1991.5","1991.5-1995.5","1995.5-1999.5","1999.5-2003.5","2003.5-2006","2006-2008","2008-2010","2010-2012",null,null,"1987.5-1991.5","1991.5-1995.5","1995.5-1999.5","1999.5-2003.5","2003.5-2006","2006-2008","2008-2010","2010-2012"]
[null,"age 40-44 ",6.0580989861278231E-3,7.6525367908851522E-3,6.7472948677266666E-3,6.6899162965503595E-3,6.2683885415361768E-3,7.8468354260567436E-3,1.8711941051479754E-2,1.4710846949013933E-2,null,"age 40-44 ",{"$f":"IFERROR(SQRT(C176),\"N/A\")","v":7.7833790773209954E-2},{"$f":"IFERROR(SQRT(D176),\"N/A\")","v":8.7478779088903336E-2},{"$f":"IFERROR(SQRT(E176),\"N/A\")","v":8.2141919065277916E-2},{"$f":"IFERROR(SQRT(F176),\"N/A\")","v":8.1791908502921978E-2},{"$f":"IFERROR(SQRT(G176),\"N/A\")","v":7.917315543500951E-2},{"$f":"IFERROR(SQRT(H176),\"N/A\")","v":8.8582365209203706E-2},{"$f":"IFERROR(SQRT(I176),\"N/A\")","v":0.1367915971523096},{"$f":"IFERROR(SQRT(J176),\"N/A\")","v":0.12128828034486239},null,"age 40-44 ",{"$f":"IFERROR(1.15*M176,\"N/A\")","v":8.9508859389191439E-2},{"$f":"IFERROR(1.15*N176,\"N/A\")","v":0.10060059595223883},{"$f":"IFERROR(1.15*O176,\"N/A\")","v":9.4463206925069598E-2},{"$f":"IFERROR(1.15*P176,\"N/A\")","v":9.4060694778360265E-2},{"$f":"IFERROR(1.15*Q176,\"N/A\")","v":9.104912875026093E-2},{"$f":"IFERROR(1.15*R176,\"N/A\")","v":0.10186971999058425},{"$f":"IFERROR(1.15*S176,\"N/A\")","v":0.15731033672515601},{"$f":"IFERROR(1.15*T176,\"N/A\")","v":0.13948152239659173}]
[null,"age 45-49 ",4.6923390363278472E-3,5.7810455535406598E-3,4.6165893131084167E-3,4.3070438986971297E-3,4.0090323656507814E-3,4.4108458025347453E-3,1.1530473551871735E-2,9.5493129858323922E-3,null,"age 45-49 ",6.8500649897120305E-2,7.603318718520656E-2,6.794548780536068E-2,6.5628072489576667E-2,6.3316920058154924E-2,6.6414198802174418E-2,0.10738004261440641,9.7720586294968534E-2,null,"age 45-49 ",7.8775747381688341E-2,8.7438165262987533E-2,7.8137310976164776E-2,7.5472283363013162E-2,7.2814458066878154E-2,7.6376328622500572E-2,0.12348704900656736,0.1123786742392138]
[null,"age 50-54 ",2.8594900778288372E-3,3.8514960865265188E-3,3.3136482155219442E-3,3.2292197265898471E-3,3.1336904473847358E-3,3.0102576268078067E-3,6.7900148627764237E-3,5.3847139203080045E-3,null,"age 50-54 ",5.3474200113969327E-2,6.206042286777072E-2,5.7564296360868898E-2,5.6826223933936056E-2,5.5979375196448342E-2,5.4865814737482997E-2,8.2401546482917559E-2,7.3380609975033623E-2,null,"age 50-54 ",6.1495330131064722E-2,7.1369486297936324E-2,6.6198940814999233E-2,6.5350157524026453E-2,6.4376281475915592E-2,6.3095686948105439E-2,9.4761778455355189E-2,8.4387701471288656E-2]
[null,"age 55-59 ",1.8627366203115452E-3,2.6796171245402527E-3,2.6065326230390582E-3,2.4355027286704755E-3,2.3434340476557536E-3,2.3803811006647157E-3,4.7114642666466078E-3,3.5551377557429646E-3,null,"age 55-59 ",4.3159432576338919E-2,5.1765018347724484E-2,5.1054212588571554E-2,4.935081284710998E-2,4.8409028575832354E-2,4.8789149415261544E-2,6.8640106837377576E-2,5.9624975939139506E-2,null,"age 55-59 ",4.9633347462789752E-2,5.9529771099883153E-2,5.8712344476857282E-2,5.6753434774176471E-2,5.5670382862207206E-2,5.6107521827550771E-2,7.8936122862984209E-2,6.856872233001042E-2]
[null,"age 60-64",1.6249456895564636E-3,2.0103439235570654E-3,1.8780425714962374E-3,1.8607600622914345E-3,1.8755322105903289E-3,2.1900083288863628E-3,4.6220616534793152E-3,3.3953132374050826E-3,null,"age 60-64",4.0310615097719153E-2,4.4836858984066509E-2,4.3336388537766245E-2,4.3136528166873078E-2,4.3307415191746655E-2,4.6797524815810107E-2,6.798574595810003E-2,5.8269316431592728E-2,null,"age 60-64",4.6357207362377022E-2,5.1562387831676479E-2,4.9836846818431174E-2,4.9607007391904039E-2,4.9803527470508646E-2,5.3817153538181617E-2,7.8183607851815023E-2,6.7009713896331632E-2]
[null,"age 65-69 (age group) ",1.5944250615120559E-3,1.8363537925787593E-3,1.5851830746779066E-3,1.5762217331024651E-3,1.7091867189861836E-3,1.8084548732885002E-3,4.3596907176391784E-3,3.4366618337770363E-3,null,"age 65-69 (age group) ",3.993025245990884E-2,4.2852698778242188E-2,3.9814357644923852E-2,3.9701659072417426E-2,4.1342311485767017E-2,4.2525931774489087E-2,6.6027954062193833E-2,5.8623048656454541E-2,null,"age 65-69 (age group) ",4.5919790328895163E-2,4.928060359497851E-2,4.5786511291662425E-2,4.565690793328004E-2,4.7543658208632066E-2,4.8904821540662446E-2,7.5932147171522898E-2,6.7416505954922712E-2]
[null,"age 70-74 ",1.7566105967617368E-3,2.0355986422072505E-3,1.6202166449947996E-3,1.4742866067172769E-3,1.5900555363994608E-3,1.7332631354944972E-3,3.4842497480965409E-3,2.4760569793930783E-3,null,"age 70-74 ",4.1911938594650297E-2,4.5117609003661206E-2,4.0251914799109861E-2,3.8396440026612841E-2,3.9875500453279089E-2,4.163247693201183E-2,5.9027533813437782E-2,4.9759993763997583E-2,null,"age 70-74 ",4.8198729383847838E-2,5.1885250354210384E-2,4.6289702018976336E-2,4.4155906030604763E-2,4.5856825521270947E-2,4.7877348471813602E-2,6.7881663885453442E-2,5.7223992828597213E-2]
[null,"age 75-79 ",2.5634199708250774E-3,2.8244485411207786E-3,2.2426011335462646E-3,1.9308644843301112E-3,1.7481516905636812E-3,1.7853870182368968E-3,3.637463490903328E-3,2.6400625336372302E-3,null,"age 75-79 ",5.0630227836985654E-2,5.3145541121723268E-2,4.735610978053692E-2,4.3941603115158545E-2,4.1810903967310742E-2,4.2253840277978245E-2,6.0311387738165405E-2,5.1381538840688981E-2,null,"age 75-79 ",5.8224762012533501E-2,6.111737228998175E-2,5.4459526247617455E-2,5.0532843582432325E-2,4.808253956240735E-2,4.859191631967498E-2,6.9358095898890207E-2,5.9088769666792322E-2]
[null,"age 80-84 ",4.9433045287376083E-3,5.5744155468891027E-3,4.0475201230513683E-3,3.0907602268088162E-3,2.7041020471416273E-3,2.5513781680951272E-3,5.211404113222717E-3,3.8779660790761845E-3,null,"age 80-84 ",7.030863765383033E-2,7.4662008725248627E-2,6.3620123569915893E-2,5.5594606094555757E-2,5.2000981213258149E-2,5.0511168746081567E-2,7.2190055500897882E-2,6.2273317553155814E-2,null,"age 80-84 ",8.085493330190488E-2,8.5861310034035909E-2,7.316314210540327E-2,6.3933797008739121E-2,5.9801128395246865E-2,5.8087844057993797E-2,8.3018563826032551E-2,7.1614315186129179E-2]
[null,"age 85+",7.636719163062175E-3,1.0707952622683072E-2,8.1887299734070534E-3,5.7469971145967091E-3,6.4893539628379264E-3,5.2371323564992947E-3,5.9916337961221713E-3,4.1884874462459155E-3,null,"age 85+",8.7388323951556449E-2,0.10347923764061596,9.0491601673343441E-2,7.5808951414702397E-2,8.0556526506782342E-2,7.2368034079276292E-2,7.7405644471977439E-2,6.4718524753318629E-2,null,"age 85+",0.10049657254428991,0.11900112328670835,0.10406534192434495,8.7180294126907754E-2,9.2640005482799687E-2,8.3223239191167725E-2,8.9016491142774046E-2,7.4426303466316415E-2]
[null,"Male (Sex)",4.5189171208727527E-4,5.3738728363054739E-4,4.5833666692517291E-4,4.3900256655726467E-4,4.134083439626524E-4,4.1953443310020224E-4,8.9952981590249415E-4,6.7562478179508613E-4,null,"Male (Sex)",2.1257744755436202E-2,2.3181615207542104E-2,2.1408798820232135E-2,2.0952388087214894E-2,2.0332445597189049E-2,2.0482539713136218E-2,2.9992162574620961E-2,2.5992783263726994E-2,null,"Male (Sex)",2.4446406468751632E-2,2.6658857488673419E-2,2.4620118643266953E-2,2.4095246300297125E-2,2.3382312436767406E-2,2.3554920670106647E-2,3.4490986960814103E-2,2.9891700753286041E-2]
[null,"Female       ",6.3165544975136414E-4,6.9397678914923599E-4,5.5465934693713428E-4,5.0576483374506021E-4,4.7886193042470047E-4,4.9364138785916109E-4,1.0303228217118873E-3,7.4259088220584126E-4,null,"Female       ",2.5132756509212519E-2,2.6343439205032359E-2,2.3551206910414044E-2,2.2489215943315148E-2,2.1882914120946059E-2,2.2218041944761045E-2,3.209864205401667E-2,2.7250520769442944E-2,null,"Female       ",2.8902669985594393E-2,3.0294955085787209E-2,2.7083887946976148E-2,2.5862598334812418E-2,2.5165351239087964E-2,2.5550748236475199E-2,3.6913438362119168E-2,3.1338098884859382E-2]
[null,"1-Never  ","N/A","N/A","N/A",1.1456164437770454E-3,8.6256271497827676E-4,1.4891801404185803E-3,7.8786593044275523E-3,"N/A",null,"1-Never  ","N/A","N/A","N/A",3.3846956196636725E-2,2.9369418022464743E-2,3.8589896869758285E-2,8.876181219661726E-2,"N/A",null,"1-Never  ","N/A","N/A","N/A",3.892399962613223E-2,3.3774830725834454E-2,4.4378381400222024E-2,0.10207608402610983,"N/A"]
[null,"2-Current","N/A","N/A","N/A",2.006016528698249E-3,1.3808352104735337E-3,1.994772197469259E-3,8.8613693851041283E-3,"N/A",null,"2-Current","N/A","N/A","N/A",4.4788575872629049E-2,3.7159591096694457E-2,4.4662872696113701E-2,9.4134846816171791E-2,"N/A",null,"2-Current","N/A","N/A","N/A",5.1506862253523404E-2,4.2733529761198624E-2,5.1362303600530755E-2,0.10825507383859755,"N/A"]
[null,"3-Former ","N/A","N/A","N/A",1.2342948669627654E-3,9.0519076872973237E-4,1.395849775652581E-3,5.9879038563949664E-3,"N/A",null,"3-Former ","N/A","N/A","N/A",3.5132532885671156E-2,3.0086388429483062E-2,3.7361072999213783E-2,7.7381547260280126E-2,"N/A",null,"3-Former ","N/A","N/A","N/A",4.0402412818521825E-2,3.4599346693905519E-2,4.2965233949095849E-2,8.8988779349322145E-2,"N/A"]
[null,"4-Not_Asked (smoker)",2.3904045822089652E-4,2.8725562898379082E-4,3.334968595908949E-4,4.7555240752765752E-4,7.2230899359725662E-4,6.1372686561637349E-4,6.3343830866676549E-4,4.5814566467031155E-4,null,"4-Not_Asked (smoker)",1.5460933290745955E-2,1.6948617317757542E-2,1.8261896385394778E-2,2.1807164133092995E-2,2.6875806845511756E-2,2.4773511370340166E-2,2.5168200346206034E-2,2.1404337520005416E-2,null,"4-Not_Asked (smoker)",1.7780073284357847E-2,1.949090991542117E-2,2.1001180843203994E-2,2.5078238753056942E-2,3.0907177872338518E-2,2.8489538075891187E-2,2.8943430398136936E-2,2.4614988148006226E-2]
[null,"1-Married (marital status)",3.6173429939340444E-4,4.4116559872540669E-4,3.8265027112125577E-4,3.6881035737035544E-4,3.6070398804887083E-4,3.8777710563042266E-4,8.9371717052660221E-4,6.7510870534251281E-4,null,"1-Married (marital status)",1.9019313851803499E-2,2.1003942456724801E-2,1.95614485946531E-2,1.9204435877430908E-2,1.8992208614294199E-2,1.9692056917204527E-2,2.9895102785014841E-2,2.5982854064604082E-2,null,"1-Married (marital status)",2.1872210929574021E-2,2.4154533825233519E-2,2.2495665883851063E-2,2.2085101259045541E-2,2.1841039906438327E-2,2.2645865454785204E-2,3.4379368202767067E-2,2.9880282174294691E-2]
[null,"2-Widowed    ",1.2078442387006482E-3,1.3557612164070802E-3,1.1000853965298469E-3,1.0109310158341505E-3,1.0124886708935132E-3,1.0095570598329213E-3,2.0051503080088834E-3,1.641525536283448E-3,null,"2-Widowed    ",3.4754053557831899E-2,3.6820662900158112E-2,3.3167535279695522E-2,3.1795141387233217E-2,3.1819627133162845E-2,3.1773527657987889E-2,4.4778904720960779E-2,4.0515744301239831E-2,null,"2-Widowed    ",3.9967161591506678E-2,4.2343762335181827E-2,3.8142665571649845E-2,3.6564412595318195E-2,3.6592571203137268E-2,3.6539556806686073E-2,5.1495740429104889E-2,4.6593105946425802E-2]
[null,"3-Divorced   ",3.747050368448984E-3,4.1476653568098629E-3,2.9227247050242246E-3,2.3157176513247651E-3,2.012669087562073E-3,1.9374295869131978E-3,3.9002824276769318E-3,3.1321870106741007E-3,null,"3-Divorced   ",6.1213155191094208E-2,6.4402370739048601E-2,5.4062229930185314E-2,4.8121904070025791E-2,4.4862780649019884E-2,4.4016242307961702E-2,6.2452241174171898E-2,5.596594509765828E-2,null,"3-Divorced   ",7.0395128469758331E-2,7.4062726349905891E-2,6.2171564419713103E-2,5.5340189680529658E-2,5.1592197746372866E-2,5.0618678654155952E-2,7.1820077350297676E-2,6.4360836862307022E-2]
[null,"4-Separated  ",1.1092300276663965E-2,1.457153069700814E-2,1.2847378826304091E-2,1.1687696781315444E-2,1.2750425800671749E-2,1.3166560613438988E-2,2.4787810713811351E-2,2.09853157384534E-2,null,"4-Separated  ",0.10531998991959678,0.12071259543646694,0.11334627839635535,0.10810965165661872,0.11291778336768638,0.11474563439817215,0.15744145170129545,0.14486309308603554,null,"4-Separated  ",0.12111798840753628,0.13881948475193698,0.13034822015580863,0.12432609940511152,0.12985545087283931,0.13195747955789797,0.18105766945648974,0.16659255704894085]
[null,"5-NeverMar.  ",4.4195553971148119E-3,6.0537726871926142E-3,5.0403554512227586E-3,4.9668243626675955E-3,4.8937821343407097E-3,4.118578687287963E-3,7.4762819096202884E-3,5.7605935081388353E-3,null,"5-NeverMar.  ",6.6479736740715306E-2,7.780599390273614E-2,7.0995460779001623E-2,7.0475700512074343E-2,6.9955572575318897E-2,6.4176153571930156E-2,8.6465495485888985E-2,7.5898573821507581E-2,null,"5-NeverMar.  ",7.645169725182259E-2,8.9476892988146553E-2,8.1644779895851866E-2,8.1047055588885489E-2,8.044890846161673E-2,7.3802576607719675E-2,9.9435319808772321E-2,8.7283359894733709E-2]
[null,"1-Lowest inc.  ",1.5319075854417301E-3,2.1896916033149337E-3,1.8150860981227448E-3,1.6041778512539645E-3,1.7165291183878532E-3,1.6362616415980618E-3,3.4942026037012878E-3,2.9230898661829082E-3,null,"1-Lowest inc.  ",3.9139591022923706E-2,4.6794140694267843E-2,4.2603827270830313E-2,4.0052189094404868E-2,4.143101638130367E-2,4.0450731039105604E-2,5.9111780583072336E-2,5.4065607054604579E-2,null,"1-Lowest inc.  ",4.5010529676362258E-2,5.3813261798408014E-2,4.8994401361454859E-2,4.6060017458565597E-2,4.7645668838499217E-2,4.651834069497144E-2,6.7978547670533185E-2,6.217544811279526E-2]
[null,"2-Second dec.  ",1.2879731433051991E-3,1.7751509236596892E-3,1.4879096418404872E-3,1.3661409353422963E-3,1.3265712736233439E-3,1.3713553879512149E-3,2.9142912360079335E-3,2.2943828751235311E-3,null,"2-Second dec.  ",3.5888342721630363E-2,4.2132539962120595E-2,3.8573431813107933E-2,3.6961343797842314E-2,3.6422126154623979E-2,3.7031815887844537E-2,5.3984175792614761E-2,4.7899716858490211E-2,null,"2-Second dec.  ",4.1271594129874911E-2,4.8452420956438681E-2,4.4359446585074118E-2,4.250554536751866E-2,4.1885445077817572E-2,4.2586588271021214E-2,6.2081802161506973E-2,5.5084674387263742E-2]
[null,"3-Third dec.   ",1.8020561831230634E-3,2.0291179868789965E-3,1.6873209046968894E-3,1.6350868781119291E-3,1.5996271487699909E-3,1.5983530879652538E-3,3.5671906523798797E-3,2.786921656890342E-3,null,"3-Third dec.   ",4.2450632305338673E-2,4.5045732171638597E-2,4.1077011876436309E-2,4.043620751395869E-2,3.9995339088073636E-2,3.9979408299338971E-2,5.9725962967371898E-2,5.2791302852745942E-2,null,"3-Third dec.   ",4.8818227151139468E-2,5.1802591997384385E-2,4.7238563657901751E-2,4.6501638641052487E-2,4.599463995128468E-2,4.5976319544239815E-2,6.8684857412477679E-2,6.0709998280657831E-2]
[null,"4-Fourth dec.  ",2.1357192127799121E-3,2.4421752147841011E-3,2.0411028084926187E-3,1.9943700798112111E-3,1.9040754040144609E-3,2.0626779904962577E-3,4.8658386666572155E-3,3.7917915198231681E-3,null,"4-Fourth dec.  ",4.6213842220485322E-2,4.9418369204012602E-2,4.5178565808274819E-2,4.4658370769780791E-2,4.3635712484322527E-2,4.5416714880055532E-2,6.9755563696792061E-2,6.1577524469754126E-2,null,"4-Fourth dec.  ",5.3145918553558116E-2,5.6831124584614486E-2,5.1955350679516038E-2,5.1357126385247906E-2,5.0181069356970899E-2,5.2229222112063857E-2,8.0218898251310858E-2,7.0814153140217245E-2]
[null,"5-Fifth dec.   ",2.2919732186658373E-3,2.8365898620738312E-3,2.364347657238028E-3,2.3869423943819103E-3,2.4218768346875273E-3,2.7287735018632362E-3,7.0798990826202125E-3,5.6872474320678575E-3,null,"5-Fifth dec.   ",4.7874557111954957E-2,5.3259645718628575E-2,4.8624558170106059E-2,4.8856344463968138E-2,4.9212567853014207E-2,5.2237663633275526E-2,8.4142136190022018E-2,7.5413841117316499E-2,null,"5-Fifth dec.   ",5.5055740678748195E-2,6.1248592576422858E-2,5.5918241895621966E-2,5.6184796133563357E-2,5.6594453030966337E-2,6.0073313178266849E-2,9.6763456618525312E-2,8.6725917284913967E-2]
[null,"6-Sixth dec.   ",2.4890310898201661E-3,3.1060217568838399E-3,2.8860188094349294E-3,2.9755683678230121E-3,2.7980636368459318E-3,2.8666213342981089E-3,6.8114464131040029E-3,5.2018303264506592E-3,null,"6-Sixth dec.   ",4.9890190316535833E-2,5.5731694365808042E-2,5.3721679138267163E-2,5.4548770543642981E-2,5.2896726144875277E-2,5.3540838005191035E-2,8.2531487403923617E-2,7.212371542322718E-2,null,"6-Sixth dec.   ",5.7373718864016203E-2,6.4091448520679245E-2,6.1779931009007236E-2,6.273108612518942E-2,6.0831235066606565E-2,6.1571963705969686E-2,9.4911210514512151E-2,8.2942272736711245E-2]
[null,"7-Seventh dec. ",4.6466120215121979E-3,3.7433536985852301E-3,3.4976044375644583E-3,3.2009090293692276E-3,2.8203968582455373E-3,3.1927941631304754E-3,7.6943816900431365E-3,5.7792547261917883E-3,null,"7-Seventh dec. ",6.81660620948005E-2,6.118295267952692E-2,5.9140548167602051E-2,5.6576576684783851E-2,5.3107408694508314E-2,5.650481539772053E-2,8.7717624740089359E-2,7.6021409656699929E-2,null,"7-Seventh dec. ",7.8390971409020571E-2,7.0360395581455959E-2,6.8011630392742356E-2,6.5063063187501421E-2,6.1073519998684558E-2,6.4980537707378605E-2,0.10087526845110276,8.7424621105204908E-2]
[null,"8-Eighth dec.  ",2.6968469359591471E-3,4.0275166819304349E-3,4.1013597497809827E-3,4.1728107071958261E-3,3.7237032206622524E-3,4.0063579875464269E-3,9.7994227253589885E-3,7.6168289584583448E-3,null,"8-Eighth dec.  ",5.1931174991127892E-2,6.3462718835001347E-2,6.4041859356056982E-2,6.4597296438750645E-2,6.1022153523636415E-2,6.329579755044111E-2,9.8992033645940364E-2,8.7274446193936664E-2,null,"8-Eighth dec.  ",5.9720851239797069E-2,7.2982126660251542E-2,7.364813825946552E-2,7.4286890904563238E-2,7.017547655218187E-2,7.2790167183007265E-2,0.1138408386928314,0.10036561312302715]
[null,"9-Ninth dec.   ",4.9088602803109413E-3,3.7416868738206809E-3,3.5755413312543323E-3,3.5472748943039794E-3,3.3622175259659238E-3,3.4457923058510359E-3,7.9960164564049536E-3,6.1569517041365892E-3,null,"9-Ninth dec.   ",7.0063259132807559E-2,6.1169329519136312E-2,5.9795830383516976E-2,5.955900346970204E-2,5.7984631808488049E-2,5.870087142326795E-2,8.942044764149279E-2,7.8466245635538015E-2,null,"9-Ninth dec.   ",8.0572748002728692E-2,7.034472894700676E-2,6.8765204941044517E-2,6.8492853990157337E-2,6.6682326579761253E-2,6.7506002136758142E-2,0.1028335147877167,9.0236182480868704E-2]
[null,"10-Highest dec. (family income in 2008$)",5.1469870116861455E-3,5.2930339748770783E-3,4.2175594295198642E-3,3.8975044182744203E-3,3.4456569593107169E-3,3.2246992671897392E-3,7.3998942397853753E-3,5.6613241913795924E-3,null,"10-Highest dec. (family income in 2008$)",7.1742504916445071E-2,7.2753240305000008E-2,6.4942739621299192E-2,6.2429996141874139E-2,5.8699718562448974E-2,5.6786435591519031E-2,8.6022637949468711E-2,7.524177158586573E-2,null,"10-Highest dec. (family income in 2008$)",8.2503880653911829E-2,8.3666226350750009E-2,7.4684150564494067E-2,7.1794495563155258E-2,6.7504676346816311E-2,6.5304400930246878E-2,9.8926033641889011E-2,8.6528037323745588E-2]
[null,"1-Dropout      ",5.4575232562108103E-4,7.0783146440829689E-4,6.5925351551779723E-4,6.8193116775640229E-4,7.4612411846146614E-4,8.347104773382308E-4,1.8905891592437864E-3,1.4655855908006137E-3,null,"1-Dropout      ",2.336134254748817E-2,2.6605102225105186E-2,2.5675932612425147E-2,2.6113811819732529E-2,2.7315272622865511E-2,2.8891356446837709E-2,4.348090568564305E-2,3.8282967371934658E-2,null,"1-Dropout      ",2.6865543929611393E-2,3.0595867558870962E-2,2.9527322504288918E-2,3.0030883592692407E-2,3.1412563516295337E-2,3.3225059913863361E-2,5.0003041538489501E-2,4.4025412477724853E-2]
[null,"2-H.S.Diploma (education)      ",7.3462188537716945E-4,8.3267929449883365E-4,6.9811291021790308E-4,6.4415567890652235E-4,5.9633943635572248E-4,6.0174469746922536E-4,1.2404217724677296E-3,9.2604307646332274E-4,null,"2-H.S.Diploma (education)      ",2.7103909042371904E-2,2.885618295095236E-2,2.642182639822431E-2,2.5380222199707439E-2,2.4420062169366451E-2,2.4530485063879705E-2,3.5219621980761374E-2,3.0430955891383411E-2,null,"2-H.S.Diploma (education)      ",3.1169495398727688E-2,3.3184610393595208E-2,3.0385100357957953E-2,2.9187255529663551E-2,2.8083071494771416E-2,2.8210057823461657E-2,4.0502565277875574E-2,3.4995599275090918E-2]
[null,"3-SomeColl/AA  ",1.969264997272359E-3,2.3133170959760765E-3,1.7171474401057232E-3,1.2579192666268971E-3,1.0883751134747562E-3,1.0570023273293661E-3,2.2206276050109608E-3,1.652672300942723E-3,null,"3-SomeColl/AA  ",4.4376401355589422E-2,4.8096955163254115E-2,4.143847777254521E-2,3.5467157577495509E-2,3.2990530663733739E-2,3.2511572206360091E-2,4.7123535574179497E-2,4.0653072466207557E-2,null,"3-SomeColl/AA  ",5.1032861558927833E-2,5.5311498437742225E-2,4.7654249438426985E-2,4.0787231214119833E-2,3.7939110263293795E-2,3.7388308037314105E-2,5.4192065910306418E-2,4.6751033336138684E-2]
[null,"4-4yr.Degree   ",4.6740381179030347E-3,4.643505764023911E-3,3.170665453514545E-3,2.632737663261964E-3,2.1848099167642815E-3,2.0348503079984192E-3,4.2947091432652684E-3,3.2593768287814732E-3,null,"4-4yr.Degree   ",6.8366937315511175E-2,6.8143273798841733E-2,5.6308662331070743E-2,5.1310210126854522E-2,4.6741950288410959E-2,4.5109315091213915E-2,6.5534030421341163E-2,5.7090952249734574E-2,null,"4-4yr.Degree   ",7.8621977912837843E-2,7.8364764868667988E-2,6.4754961680731346E-2,5.9006741645882696E-2,5.3753242831672599E-2,5.1875712354895999E-2,7.5364134984542336E-2,6.5654595087194761E-2]
[null,"5-Grad.Degree  ",6.096025978504737E-3,6.3397607155193519E-3,4.4228519636595309E-3,4.1041489250545687E-3,3.9222660690309205E-3,3.6536159638250205E-3,7.7261671292805966E-3,5.9625571287130535E-3,null,"5-Grad.Degree  ",7.8077051548484697E-2,7.9622614347428664E-2,6.6504525888540333E-2,6.4063631844085839E-2,6.2627997485397213E-2,6.0445148389469773E-2,8.7898618471968018E-2,7.7217595978591916E-2,null,"5-Grad.Degree  ",8.9788609280757395E-2,9.1566006499542954E-2,7.6480204771821381E-2,7.3673176620698708E-2,7.2022197108206787E-2,6.9511920647890232E-2,0.10108341124276321,8.880023537538069E-2]
[null,"1-White NH (ethnic/race)     ",4.6376798752269813E-4,4.9683672054279899E-4,3.0077885535637755E-4,2.8417644593636566E-4,2.8037399009065697E-4,3.0135082913877297E-4,6.6509421698160312E-4,5.0055931706585667E-4,null,"1-White NH (ethnic/race)     ",2.1535273100722407E-2,2.2289834466473701E-2,1.7342977119179325E-2,1.685753380350654E-2,1.6744371892987116E-2,1.7359459356177338E-2,2.5789420640673633E-2,2.2373182989146999E-2,null,"1-White NH (ethnic/race)     ",2.4765564065830765E-2,2.5633309636444754E-2,1.9944423687056224E-2,1.9386163874032518E-2,1.925602767693518E-2,1.9963378259603936E-2,2.9657833736774674E-2,2.5729160437519046E-2]
[null,"2-Black NH     ",3.9509414483220023E-3,4.3510063289767999E-3,2.6739110732272153E-3,2.3366044886288279E-3,2.1348725258514994E-3,1.6883796945728479E-3,3.1367688458469834E-3,2.51069699172709E-3,null,"2-Black NH     ",6.285651476435837E-2,6.5962158310479801E-2,5.1709874039947298E-2,4.8338436969236273E-2,4.620468077859103E-2,4.1089897719182117E-2,5.6006864274363577E-2,5.0106855735788193E-2,null,"2-Black NH     ",7.2284991979012114E-2,7.5856482057051769E-2,5.9466355145939391E-2,5.5589202514621711E-2,5.3135382895379682E-2,4.7253382377059429E-2,6.4407893915518113E-2,5.7622884096156415E-2]
[null,"3-Asian NH     ",3.4579588796737337E-2,3.8966172526005989E-2,2.1478535195954898E-2,1.6140426100136305E-2,1.2492387360586126E-2,1.1096491667598133E-2,2.1977656792768648E-2,1.7980211085997216E-2,null,"3-Asian NH     ",0.18595587862914509,0.19739851196502467,0.14655557033410535,0.12704497668202511,0.11176934893156587,0.10533988640395495,0.14824863167250027,0.13409030944105252,null,"3-Asian NH     ",0.21384926042351685,0.22700828875977835,0.16853890588422113,0.14610172318432887,0.12853475127130073,0.12114086936454818,0.17048592642337529,0.15420385585721039]
[null,"4-Hispanic     ",8.5245509265013016E-3,8.0077472911822198E-3,5.579938172975551E-3,4.0392905842372064E-3,3.6019029401486487E-3,3.4609073578549957E-3,7.7144320274831774E-3,6.3358020251384328E-3,null,"4-Hispanic     ",9.232849466173107E-2,8.9486017294224354E-2,7.4698983747943662E-2,6.3555413492771856E-2,6.0015855739534774E-2,5.8829476946977828E-2,8.7831839485935717E-2,7.9597751382425572E-2,null,"4-Hispanic     ",0.10617776886099073,0.102908919888358,8.5903831310135209E-2,7.308872551668763E-2,6.9018234100464981E-2,6.7653898489024492E-2,0.10100661540882606,9.1537414089789396E-2]
[null,"5-Other NH     ",3.8382414574895983E-3,3.6988944655109209E-3,5.6571146637101853E-3,5.3286755059122736E-3,4.7195648760464219E-3,5.154405394535589E-3,1.29429015418689E-2,1.0138190299264542E-2,null,"5-Other NH     ",6.1953542735582109E-2,6.0818537186543058E-2,7.5213793041636889E-2,7.2997777403920133E-2,6.8699089339280345E-2,7.1794187748978597E-2,0.11376687365779592,0.10068858077887752,null,"5-Other NH     ",7.1246574145919422E-2,6.9941317764524516E-2,8.6495861997882423E-2,8.3947444014508141E-2,7.9003952740172384E-2,8.2563315911325375E-2,0.1308319047064653,0.11579186789570914]
[null,"1-Employed  (Labor force)",7.7514572656773749E-4,9.6426327431432292E-4,8.4897469046393663E-4,7.9724383109924064E-4,7.2233726947254972E-4,7.9037467816301049E-4,2.138691475487643E-3,1.6770513533821796E-3,null,"1-Employed  (Labor force)",2.7841439017546085E-2,3.1052588850437622E-2,2.9137170254915568E-2,2.8235506567073319E-2,2.6876332887366718E-2,2.8113603080413056E-2,4.6245988750243446E-2,4.0951817461282222E-2,null,"1-Employed  (Labor force)",3.2017654870177999E-2,3.5710477178003262E-2,3.3507745793152903E-2,3.2470832552134316E-2,3.0907782820471724E-2,3.2330643542475009E-2,5.318288706277996E-2,4.7094590080474549E-2]
[null,"2-Unemployed   ",1.5628783245792088E-2,2.338583209200211E-2,1.9644777731992406E-2,1.7903363725361197E-2,1.8891835188717301E-2,1.9558835796435643E-2,"N/A","N/A",null,"2-Unemployed   ",0.12501513206725051,0.15292426913999657,0.14015982923788259,0.1338034518439685,0.13744757250936554,0.13985290771534084,"N/A","N/A",null,"2-Unemployed   ",0.14376740187733808,0.17586290951099603,0.16118380362356496,0.15387396962056377,0.15806470838577036,0.16083084387264196,"N/A","N/A"]
[null,"3-NILF         ",3.4620526349702025E-4,4.367250081649152E-4,3.7967949600108152E-4,3.6504909029483497E-4,3.5267947581708571E-4,3.4368354340540825E-4,6.1527539398834518E-4,3.7508021049845902E-4,null,"3-NILF         ",1.8606591936650308E-2,2.0897966603593641E-2,1.9485366201359457E-2,1.910625788308205E-2,1.8779762400442816E-2,1.8538703930032655E-2,2.4804745392532156E-2,1.9366987646468384E-2,null,"3-NILF         ",2.1397580727147852E-2,2.4032661594132684E-2,2.2408171131563376E-2,2.1972196565544357E-2,2.1596726760509236E-2,2.1319509519537552E-2,2.8525457201411978E-2,2.227203579343864E-2]
[null,"1-Prof./Managerial (occ.)",5.5774438929413854E-3,6.3227724390000507E-3,5.4295450116201372E-3,5.147730389384467E-3,5.0619873121182006E-3,4.7659344895854446E-3,1.0768495883525672E-2,8.4150200736047929E-3,null,"1-Prof./Managerial (occ.)",7.4682286339810097E-2,7.9515862813655303E-2,7.3685446403072952E-2,7.1747685602982808E-2,7.1147644459378975E-2,6.9035747910669035E-2,0.10377136350422342,9.17334185213044E-2,null,"1-Prof./Managerial (occ.)",8.5884629290781611E-2,9.144324223570359E-2,8.4738263363533892E-2,8.2509838443430225E-2,8.1819791128285815E-2,7.9391110097269388E-2,0.11933706802985693,0.10549343129950005]
[null,"2-Sklld/Sales  ",1.7365174736717756E-3,2.3653482758457522E-3,2.3965379376678741E-3,2.5277037655688324E-3,2.4664580277867052E-3,2.843886344840881E-3,8.8019379450551653E-3,7.3330665208454519E-3,null,"2-Sklld/Sales  ",4.167154273208247E-2,4.8634846312554048E-2,4.8954447578007397E-2,5.0276274380355916E-2,4.9663447602705808E-2,5.3328100892877116E-2,9.3818643909700405E-2,8.5633325994296475E-2,null,"2-Sklld/Sales  ",4.7922274141894837E-2,5.5930073259437149E-2,5.6297614714708503E-2,5.7817715537409296E-2,5.7112964743111679E-2,6.132731602680868E-2,0.10789144049615546,9.8478324893440938E-2]
[null,"3-BlueCol.Lgt  ",2.5682517943676209E-3,3.505952480972008E-3,3.4141643739275234E-3,3.8531317519102082E-3,3.5853542653578804E-3,3.5362446058003804E-3,9.3896519446136882E-3,7.723225578478426E-3,null,"3-BlueCol.Lgt  ",5.067792215913771E-2,5.9211084105697712E-2,5.8430851216865934E-2,6.2073599476026912E-2,5.9877827827651532E-2,5.9466331699545585E-2,9.6900216432233469E-2,8.7881884245152739E-2,null,"3-BlueCol.Lgt  ",5.8279610483008365E-2,6.8092746721552369E-2,6.7195478899395825E-2,7.1384639397430949E-2,6.8859502001799258E-2,6.8386281454477421E-2,0.11143524889706848,0.10106416688192564]
[null,"4-BlueCol.Hvy  ",1.5309991986915854E-3,2.1251435725561157E-3,2.1493724068637459E-3,2.4108220446244339E-3,2.4208762288933788E-3,2.7862524121910958E-3,7.9162144260619179E-3,6.5271189155829993E-3,null,"4-BlueCol.Hvy  ",3.9127984853447095E-2,4.6099279523178188E-2,4.6361324472708347E-2,4.9100122653863439E-2,4.9202400641568077E-2,5.2784963883582378E-2,8.8973110691162857E-2,8.0790586800585873E-2,null,"4-BlueCol.Hvy  ",4.4997182581464158E-2,5.3014171451654914E-2,5.3315523143614596E-2,5.6465141051942953E-2,5.6582760737803287E-2,6.0702708466119727E-2,0.10231907729483727,9.2909174820673748E-2]
[null,"5-Medical.Occ  ",1.0067102128410704E-2,1.4950224085560059E-2,1.4109618864006353E-2,1.3814793086827848E-2,1.3242189604436259E-2,1.3451273627240516E-2,3.8375721434083188E-2,3.2778146792385471E-2,null,"5-Medical.Occ  ",0.10033494968559412,0.12227110895694068,0.11878391668911391,0.11753634793895822,0.11507471314079501,0.11597962591438428,0.19589722160889161,0.18104736063357971,null,"5-Medical.Occ  ",0.11538519213843322,0.14061177530048177,0.13660150419248099,0.13516680012980195,0.13233592011191425,0.13337656980154192,0.22528180485022534,0.20820446472861664]
[null,"6-N/A          ",3.3281326180343901E-4,4.0732659504678144E-4,3.3743915650407866E-4,3.0587780456559495E-4,3.027468514925175E-4,3.2322774587152555E-4,7.5209729278828761E-4,6.5416476655778821E-4,null,"6-N/A          ",1.8243170278310704E-2,2.0182333736383944E-2,1.8369517046021615E-2,1.7489362611759037E-2,1.7399622165222943E-2,1.797853569875827E-2,2.7424392295697049E-2,2.5576644943342122E-2,null,"6-N/A          ",2.0979645820057308E-2,2.3209683796841532E-2,2.1124944602924856E-2,2.011276700352289E-2,2.0009565490006383E-2,2.0675316053572011E-2,3.1538051140051607E-2,2.9413141684843439E-2]
[]
[null,"Variance (heart)",null,null,null,null,null,null,null,null,null,"Standard deviation (heart)",null,null,null,null,null,null,null,null,null,"75% CI (heart)"]
[null,null,"1987.5-1991.5","1991.5-1995.5","1995.5-1999.5","1999.5-2003.5","2003.5-2006","2006-2008","2008-2010","2010-2012",null,null,"1987.5-1991.5","1991.5-1995.5","1995.5-1999.5","1999.5-2003.5","2003.5-2006","2006-2008","2008-2010","2010-2012",null,null,"1987.5-1991.5","1991.5-1995.5","1995.5-1999.5","1999.5-2003.5","2003.5-2006","2006-2008","2008-2010","2010-2012"]
[null,"age 40-44 ",4.2805624861211112E-3,6.5574194240823839E-3,6.8427282384950754E-3,8.6816801980939343E-3,8.6209776690404152E-3,1.1093578639922899E-2,4.4669093016497123E-2,4.1160501136666632E-2,null,"age 40-44 ",{"$f":"IFERROR(SQRT(C229),\"N/A\")","v":6.5426007719569065E-2},{"$f":"IFERROR(SQRT(D229),\"N/A\")","v":8.0977894663188082E-2},{"$f":"IFERROR(SQRT(E229),\"N/A\")","v":8.2720784803428191E-2},{"$f":"IFERROR(SQRT(F229),\"N/A\")","v":9.3175534332215842E-2},{"$f":"IFERROR(SQRT(G229),\"N/A\")","v":9.2849220077717481E-2},{"$f":"IFERROR(SQRT(H229),\"N/A\")","v":0.10532605869357735},{"$f":"IFERROR(SQRT(I229),\"N/A\")","v":0.21135063997181822},{"$f":"IFERROR(SQRT(J229),\"N/A\")","v":0.20288050950415773},null,"age 40-44 ",{"$f":"IFERROR(1.15*M229,\"N/A\")","v":7.5239908877504424E-2},{"$f":"IFERROR(1.15*N229,\"N/A\")","v":9.3124578862666285E-2},{"$f":"IFERROR(1.15*O229,\"N/A\")","v":9.5128902523942419E-2},{"$f":"IFERROR(1.15*P229,\"N/A\")","v":0.10715186448204821},{"$f":"IFERROR(1.15*Q229,\"N/A\")","v":0.1067766030893751},{"$f":"IFERROR(1.15*R229,\"N/A\")","v":0.12112496749761394},{"$f":"IFERROR(1.15*S229,\"N/A\")","v":0.24305323596759093},{"$f":"IFERROR(1.15*T229,\"N/A\")","v":0.23331258592978138}]
[null,"age 45-49 ",3.1608668786285441E-3,4.9355339266031473E-3,5.1475615226450749E-3,5.2535731555649196E-3,5.7073198545581558E-3,7.2325944698096055E-3,1.7797969441952693E-2,1.5106255093239079E-2,null,"age 45-49 ",5.6221587300862859E-2,7.0253355269361675E-2,7.174650878366888E-2,7.248153665289471E-2,7.554680572041518E-2,8.5044661618526099E-2,0.13340903058621142,0.1229075062526251,null,"age 45-49 ",6.465482539599228E-2,8.0791358559765922E-2,8.2508485101219206E-2,8.3353767150828914E-2,8.6878826578477453E-2,9.7801360861305003E-2,0.15342038517414314,0.14134363219051885]
[null,"age 50-54 ",1.9667857909408028E-3,3.2161095550456253E-3,3.4450659637138689E-3,3.6345597487179712E-3,4.1708405561456698E-3,5.1396392531927234E-3,1.3961508390993027E-2,1.2796872288734867E-2,null,"age 50-54 ",4.4348458721141626E-2,5.67107534339443E-2,5.8694684288390794E-2,6.0287310013948797E-2,6.4582045153011913E-2,7.1691277385695418E-2,0.11815882697028195,0.11312326148381184,null,"age 50-54 ",5.1000727529312867E-2,6.5217366449035946E-2,6.7498886931649404E-2,6.933040651604111E-2,7.4269351925963692E-2,8.2444968993549722E-2,0.13588265101582422,0.1300917507063836]
[null,"age 55-59 ",1.1571722213221561E-3,2.02427578381714E-3,2.2744984348748252E-3,2.6860874501248543E-3,3.1296535611785355E-3,3.7708207995801393E-3,9.4097404459345859E-3,8.361287702586739E-3,null,"age 55-59 ",3.4017234180958277E-2,4.4991952433931337E-2,4.7691701949865717E-2,5.1827477751911238E-2,5.5943306670043519E-2,6.1407009368476324E-2,9.7003816656534639E-2,9.144007711384948E-2,null,"age 55-59 ",3.9119819308102016E-2,5.1740745299021035E-2,5.4845457242345567E-2,5.960159941469792E-2,6.4334802670550043E-2,7.0618060773747771E-2,0.11155438915501482,0.10515608868092689]
[null,"age 60-64",7.8446778285305838E-4,1.2621633593687836E-3,1.4489779943769434E-3,1.980897854732609E-3,2.6636919446115515E-3,3.6548049248008099E-3,1.07549307794045E-2,1.0418668480792545E-2,null,"age 60-64",2.8008352019586201E-2,3.5526938502617754E-2,3.8065443572575686E-2,4.450727867138822E-2,5.1610967290020363E-2,6.0454982630059613E-2,0.10370598237037486,0.10207187899119201,null,"age 60-64",3.2209604822524128E-2,4.0855979278010414E-2,4.3775260108462034E-2,5.1183370472096451E-2,5.9352612383523413E-2,6.9523230024568547E-2,0.11926187972593108,0.1173826608398708]
[null,"age 65-69 (age group) ",5.9523516378566315E-4,9.3513796342239823E-4,1.049135585191341E-3,1.3565441828386523E-3,1.8346329107056061E-3,2.5294991165346822E-3,7.6782372378580077E-3,7.2949351131474998E-3,null,"age 65-69 (age group) ",2.4397441746741872E-2,3.0580025562814663E-2,3.2390362535657746E-2,3.6831293526546856E-2,4.2832615034639268E-2,5.0294126063931979E-2,8.7625551284188835E-2,8.5410392301800725E-2,null,"age 65-69 (age group) ",2.805705800875315E-2,3.5167029397236857E-2,3.7248916916006403E-2,4.2355987555528878E-2,4.9257507289835155E-2,5.7838244973521774E-2,0.10076938397681716,9.822195114707083E-2]
[null,"age 70-74 ",5.3378921777657922E-4,8.11859890084423E-4,8.4605741398833482E-4,9.4272797696482368E-4,1.2467571199331058E-3,1.9955126230580514E-3,5.2946367553038292E-3,4.7345328635881451E-3,null,"age 70-74 ",2.3103878846994053E-2,2.8493155144427636E-2,2.9087066094543375E-2,3.0703875601702527E-2,3.5309448026457531E-2,4.4671160977279863E-2,7.2764254653667884E-2,6.8807941864207398E-2,null,"age 70-74 ",2.6569460674043158E-2,3.2767128416091779E-2,3.3450126008724879E-2,3.5309456941957904E-2,4.0605865230426155E-2,5.1371835123871841E-2,8.3678892851718062E-2,7.9129133143838501E-2]
[null,"age 75-79 ",5.8660379473201001E-4,8.6403942961363973E-4,8.29959291504519E-4,8.6150994012362488E-4,1.0094614384466446E-3,1.479448373576376E-3,5.0999008301043716E-3,4.9907715671019242E-3,null,"age 75-79 ",2.4219904928219887E-2,2.9394547617094563E-2,2.8809014066859682E-2,2.9351489572483794E-2,3.1772022888803361E-2,3.8463598032118317E-2,7.1413589953904233E-2,7.0645393106004609E-2,null,"age 75-79 ",2.7852890667452869E-2,3.3803729759658743E-2,3.313036617688863E-2,3.3754213008356362E-2,3.6537826322123865E-2,4.423313773693606E-2,8.2125628446989868E-2,8.1242202071905287E-2]
[null,"age 80-84 ",7.4385080202443667E-4,1.097787882486473E-3,1.0099251760726537E-3,9.4712455820523251E-4,9.9991681825690602E-4,1.3138197623035201E-3,4.0963280833047986E-3,3.8920593496056801E-3,null,"age 80-84 ",2.7273628325260223E-2,3.3132882194075314E-2,3.177931994352072E-2,3.0775388839220739E-2,3.1621461355492507E-2,3.624665173920924E-2,6.4002563099494689E-2,6.2386371505367098E-2,null,"age 80-84 ",3.1364672574049256E-2,3.8102814523186611E-2,3.6546217935048822E-2,3.5391697165103847E-2,3.6364680558816379E-2,4.1683649500090625E-2,7.3602947564418889E-2,7.1744327231172161E-2]
[null,"age 85+",9.5765907629910259E-4,1.4265499550416547E-3,1.3051026086464846E-3,1.1873867185351959E-3,1.5552152091899362E-3,1.6923282308605532E-3,2.842462290354415E-3,2.4311410145249914E-3,null,"age 85+",3.0946067218616046E-2,3.7769696252970511E-2,3.6126203905842147E-2,3.4458478180778615E-2,3.9436216973613686E-2,4.1137917191571005E-2,5.3314747400268293E-2,4.930660213931793E-2,null,"age 85+",3.5587977301408454E-2,4.3435150690916087E-2,4.1545134491718469E-2,3.9627249907895401E-2,4.5351649519655736E-2,4.7308604770306649E-2,6.1311959510308531E-2,5.6702592460215619E-2]
[null,"Male (Sex)",1.4697757146797365E-4,2.2794470088228022E-4,2.3857149643341426E-4,2.6770200352067429E-4,3.1140066924825694E-4,4.1236010761604137E-4,1.1794174093377663E-3,1.0950745988994449E-3,null,"Male (Sex)",1.2123430680627231E-2,1.5097837622728634E-2,1.5445759820527259E-2,1.6361601496206728E-2,1.7646548366415937E-2,2.0306651807130621E-2,3.434264709275868E-2,3.3091911381777951E-2,null,"Male (Sex)",1.3941945282721314E-2,1.7362513266137927E-2,1.7762623793606346E-2,1.8815841720637737E-2,2.0293530621378328E-2,2.3352649578200213E-2,3.949404415667248E-2,3.8055698089044639E-2]
[null,"Female       ",2.6498079495652167E-4,3.4493150911868648E-4,2.9326790817257105E-4,2.737370112172001E-4,2.8303157000328935E-4,3.3898178058200021E-4,9.5471559616499841E-4,9.8267577823524916E-4,null,"Female       ",1.6278230707190561E-2,1.8572331816944433E-2,1.712506666184313E-2,1.6544999583475366E-2,1.6823542136045231E-2,1.8411457861397078E-2,3.0898472392094055E-2,3.1347659852614985E-2,null,"Female       ",1.8719965313269145E-2,2.1358181589486096E-2,1.9693826661119598E-2,1.9026749520996668E-2,1.9347073456452014E-2,2.1173176540606638E-2,3.5533243250908161E-2,3.6049808830507228E-2]
[null,"1-Never  ","N/A","N/A","N/A",4.9699354154671637E-4,4.6047667372508194E-4,1.10055760690204E-3,5.8034987631733204E-3,"N/A",null,"1-Never  ","N/A","N/A","N/A",2.2293351958526029E-2,2.1458720225705025E-2,3.3174653078849821E-2,7.6180698101115621E-2,"N/A",null,"1-Never  ","N/A","N/A","N/A",2.5637354752304931E-2,2.4677528259560776E-2,3.8150851040677294E-2,8.7607802816282956E-2,"N/A"]
[null,"2-Current","N/A","N/A","N/A",1.7950829351372453E-3,1.5952262208394656E-3,3.666129017411153E-3,1.4603603005168516E-2,"N/A",null,"2-Current","N/A","N/A","N/A",4.2368419077624848E-2,3.9940283184267303E-2,6.0548567426580401E-2,0.12084536815769364,"N/A",null,"2-Current","N/A","N/A","N/A",4.872368193926857E-2,4.5931325661907392E-2,6.9630852540567459E-2,0.13897217338134768,"N/A"]
[null,"3-Former ","N/A","N/A","N/A",7.4486050412414105E-4,6.6843542245803578E-4,1.4767031870446075E-3,1.0090747236892916E-2,"N/A",null,"3-Former ","N/A","N/A","N/A",2.7292132641553335E-2,2.5854118094764629E-2,3.8427895948706423E-2,0.100452711446197,"N/A",null,"3-Former ","N/A","N/A","N/A",3.1385952537786331E-2,2.973223580897932E-2,4.419208034101238E-2,0.11552061816312653,"N/A"]
[null,"4-Not_Asked (smoker)",7.6487817101934997E-5,1.1967181870885341E-4,1.6852322990736491E-4,2.90115257950037E-4,5.4021744848370043E-4,5.6026440910430446E-4,7.8937204306015157E-4,7.0967087181637324E-4,null,"4-Not_Asked (smoker)",8.7457313646106798E-3,1.0939461536513276E-2,1.2981649737508901E-2,1.7032770119685084E-2,2.3242578352749517E-2,2.3669905135093053E-2,2.8095765571704068E-2,2.663964849273303E-2,null,"4-Not_Asked (smoker)",1.005759106930228E-2,1.2580380766990267E-2,1.4928897198135234E-2,1.9587685637637846E-2,2.6728965105661941E-2,2.7220390905357009E-2,3.2310130407459677E-2,3.0635595766642983E-2]
[null,"1-Married (marital status)",1.3724347525269153E-4,2.1716580898354287E-4,2.3012691413609778E-4,2.635762489683395E-4,3.23677062071882E-4,4.5255266499501684E-4,1.4913318884874904E-3,1.4194127801670426E-3,null,"1-Married (marital status)",1.1715096041121111E-2,1.4736546711612692E-2,1.516993454620348E-2,1.6235031535797504E-2,1.7991027265608875E-2,2.1273285242176792E-2,3.8617766487557131E-2,3.767509495896517E-2,null,"1-Married (marital status)",1.3472360447289278E-2,1.6947028718354594E-2,1.7445424728133999E-2,1.8670286266167128E-2,2.0689681355450205E-2,2.446427802850331E-2,4.4410431460690701E-2,4.3326359202809944E-2]
[null,"2-Widowed    ",2.4830348117016985E-4,3.8984942168918715E-4,3.8301092157211596E-4,3.9823590739822745E-4,5.0011300760765794E-4,7.0075179586459688E-4,2.0937946401150434E-3,2.094014848829959E-3,null,"2-Widowed    ",1.5757648338828034E-2,1.9744604875489079E-2,1.9570664821924572E-2,1.9955848952079875E-2,2.2363206559160024E-2,2.6471716904360339E-2,4.5758000831712956E-2,4.5760407000265624E-2,null,"2-Widowed    ",1.8121295589652239E-2,2.2706295606812438E-2,2.2506264545213255E-2,2.2949226294891854E-2,2.5717687543034027E-2,3.0442474440014387E-2,5.2621700956469897E-2,5.2624468050305462E-2]
[null,"3-Divorced   ",1.5283469169672763E-3,2.0858587657015754E-3,1.9666622312152588E-3,1.8947741213539288E-3,1.8607281111980576E-3,2.2063022022802727E-3,5.8957516473180788E-3,5.561190741148323E-3,null,"3-Divorced   ",3.9094077773587095E-2,4.567120280550508E-2,4.4347065643797208E-2,4.352900322031196E-2,4.3136157816825289E-2,4.6971291256258568E-2,7.6783798078227924E-2,7.4573391643054043E-2,null,"3-Divorced   ",4.4958189439625158E-2,5.2521883226330841E-2,5.0999125490366788E-2,5.0058353703358753E-2,4.9606581489349079E-2,5.4016984944697352E-2,8.8301367789962101E-2,8.5759400389512144E-2]
[null,"4-Separated  ",6.3209679422650726E-3,9.9848536422421953E-3,8.4147331848251038E-3,9.09639452516099E-3,1.1743489531423028E-2,1.1393284668434162E-2,3.3925839737301747E-2,3.2289860107595304E-2,null,"4-Separated  ",7.9504515231935552E-2,9.9924239512953983E-2,9.1731854798783527E-2,9.5375020446451228E-2,0.10836738223018506,0.10673933046648813,0.18418968412292189,0.17969379540650618,null,"4-Separated  ",9.1430192516725878E-2,0.11491287543989707,0.10549163301860105,0.1096812735134189,0.12462248956471281,0.12275023003646135,0.21181813674136016,0.20664786471748209]
[null,"5-NeverMar.  ",1.3185643921437866E-3,2.1046146480520321E-3,2.1620734681534349E-3,2.2037517588655402E-3,2.5163474652140283E-3,3.3438586268724601E-3,8.6521247835625557E-3,8.1683622402262436E-3,null,"5-NeverMar.  ",3.6312041971552446E-2,4.5876079257626538E-2,4.6498101769356509E-2,4.6944134445802067E-2,5.0163208282704846E-2,5.7826106793320092E-2,9.3016798394497308E-2,9.0378992250557011E-2,null,"5-NeverMar.  ",4.1758848267285306E-2,5.2757491146270513E-2,5.3472817034759978E-2,5.3985754612672375E-2,5.7687689525110566E-2,6.6500022812318108E-2,0.1069693181536719,0.10393584108814055]
[null,"1-Lowest inc.  ",3.9114848810979267E-4,6.8839499500153477E-4,7.0458246158321277E-4,7.7834888223159648E-4,9.2847642150447078E-4,1.1017439473893797E-3,2.8722190962178992E-3,2.6618293129750652E-3,null,"1-Lowest inc.  ",1.9777474260122111E-2,2.6237282538432497E-2,2.6543972226914583E-2,2.7898904677990433E-2,3.0470911071126029E-2,3.319252848743795E-2,5.3593088138470794E-2,5.1592919213541942E-2,null,"1-Lowest inc.  ",2.2744095399140424E-2,3.017287491919737E-2,3.0525568060951767E-2,3.2083740379688995E-2,3.5041547731794929E-2,3.8171407760553638E-2,6.1632051359241408E-2,5.9331857095573232E-2]
[null,"2-Second dec.  ",3.653057836586702E-4,6.2545520966459257E-4,6.2683814266587575E-4,6.5840584004092987E-4,7.6956734858919719E-4,1.0074152657690329E-3,3.0894934167033624E-3,2.9773566654419047E-3,null,"2-Second dec.  ",1.9112974223251342E-2,2.5009102536168556E-2,2.5036735862845137E-2,2.5659420103364181E-2,2.7741076918338936E-2,3.1739805698350346E-2,5.5583211644374797E-2,5.456515981321694E-2,null,"2-Second dec.  ",2.1979920356739041E-2,2.8760467916593837E-2,2.8792246242271904E-2,2.9508333118868805E-2,3.1902238456089776E-2,3.6500776553102895E-2,6.3920693391031014E-2,6.2749933785199483E-2]
[null,"3-Third dec.   ",5.9794574062574054E-4,8.0620160417551679E-4,8.0070573713888148E-4,8.6733194115089446E-4,1.0646328548764774E-3,1.3535154758039713E-3,4.6113640855199372E-3,4.5008841729614682E-3,null,"3-Third dec.   ",2.4452929080699935E-2,2.8393689513261863E-2,2.8296744285144917E-2,2.9450499845518657E-2,3.262871212408601E-2,3.6790154604241218E-2,6.7907025303129989E-2,6.7088629237460715E-2,null,"3-Third dec.   ",2.8120868442804921E-2,3.2652742940251139E-2,3.2541255927916651E-2,3.3868074822346453E-2,3.752301894269891E-2,4.2308677794877396E-2,7.8093079098599485E-2,7.7151923623079821E-2]
[null,"4-Fourth dec.  ",6.8574619465911098E-4,1.0189796373687823E-3,1.1088735275256226E-3,1.2399076366318208E-3,1.4268846127152119E-3,2.115974736749922E-3,5.5384655279627475E-3,4.8287663159118999E-3,null,"4-Fourth dec.  ",2.6186756092710508E-2,3.1921460451689587E-2,3.3299752664631352E-2,3.5212322227195135E-2,3.7774126233643207E-2,4.5999725398636046E-2,7.4420867557176112E-2,6.9489325193959825E-2,null,"4-Fourth dec.  ",3.0114769506617081E-2,3.6709679519443025E-2,3.8294715564326051E-2,4.0494170561274405E-2,4.3440245168689683E-2,5.2899684208431448E-2,8.558399769075252E-2,7.9912723973053795E-2]
[null,"5-Fifth dec.   ",9.0632215462912481E-4,1.4233556852272196E-3,1.442471381773515E-3,1.6240514785417067E-3,1.8282860589023415E-3,2.4602296534366355E-3,7.3820326634296326E-3,6.5923136093684392E-3,null,"5-Fifth dec.   ",3.0105184846287273E-2,3.7727386408645106E-2,3.7979881276453659E-2,4.0299522063440243E-2,4.2758461839761515E-2,4.9600702146609131E-2,8.5918756179484079E-2,8.1193063800847176E-2,null,"5-Fifth dec.   ",3.4620962573230364E-2,4.3386494369941866E-2,4.3676863467921705E-2,4.6344450372956279E-2,4.9172231115725738E-2,5.7040807468600498E-2,9.8806569606406686E-2,9.337202337097425E-2]
[null,"6-Sixth dec.   ",1.1956548597883351E-3,1.755502621026893E-3,1.8316952746851446E-3,2.0184480156691695E-3,2.4979357095760955E-3,3.1953520112633447E-3,1.213741450793061E-2,1.1575505743174513E-2,null,"6-Sixth dec.   ",3.457824257807697E-2,4.1898718608412037E-2,4.2798309250309696E-2,4.492714119181377E-2,4.9979352832705784E-2,5.6527444761490367E-2,0.11016993468242872,0.10758952431893411,null,"6-Sixth dec.   ",3.9764978964788512E-2,4.818352639967384E-2,4.9218055637856147E-2,5.1666212370585829E-2,5.7476255757611644E-2,6.5006561475713917E-2,0.12669542488479302,0.12372795296677422]
[null,"7-Seventh dec. ",2.0455389744253676E-3,1.928054537392854E-3,2.1447354300409933E-3,2.5216111862695657E-3,2.8749803489182624E-3,3.8364331762276984E-3,1.0738816367521168E-2,9.5685647026619563E-3,null,"7-Seventh dec. ",4.52276350744251E-2,4.3909617823352252E-2,4.6311288365159888E-2,5.0215646827155035E-2,5.3618843226222838E-2,6.1938947167575413E-2,0.10362826046750552,9.7819040593649029E-2,null,"7-Seventh dec. ",5.2011780335588863E-2,5.0496060496855087E-2,5.3257981619933864E-2,5.7747993851228287E-2,6.1661669710156262E-2,7.1229789242711714E-2,0.11917249953763134,0.11249189668269638]
[null,"8-Eighth dec.  ",1.3633127951256925E-3,2.5901603072022738E-3,2.9779014620895401E-3,3.5748933382406438E-3,3.8872634972896341E-3,4.9181864983193178E-3,1.1581199501625953E-2,9.6248055043797135E-3,null,"8-Eighth dec.  ",3.6923065895530564E-2,5.0893617548787726E-2,5.457015175065523E-2,5.9790411758413604E-2,6.2347922958905649E-2,7.012978324734305E-2,0.10761598162738634,9.8106093105269021E-2,null,"8-Eighth dec.  ",4.2461525779860149E-2,5.8527660181105882E-2,6.2755674513253507E-2,6.8758973522175637E-2,7.170011140274149E-2,8.0649250734444497E-2,0.12375837887149428,0.11282200707105937]
[null,"9-Ninth dec.   ",3.3692016806464694E-3,2.98941181798243E-3,3.348168602462594E-3,3.4126675186060022E-3,3.5323421531080808E-3,3.9805499658610325E-3,1.0729609143584977E-2,9.2470148505437721E-3,null,"9-Ninth dec.   ",5.8044824753344458E-2,5.4675513879454574E-2,5.7863361486026665E-2,5.8418041037046099E-2,5.9433510354917458E-2,6.3091599804261045E-2,0.10358382665061654,9.6161400003035372E-2,null,"9-Ninth dec.   ",6.6751548466346122E-2,6.2876840961372749E-2,6.6542865708930657E-2,6.7180747192603016E-2,6.8348536908155066E-2,7.2555339774900196E-2,0.119121400648209,0.11058561000349067]
[null,"10-Highest dec. (family income in 2008$)",2.3940782089450531E-3,3.2503399943835561E-3,3.5049117936189426E-3,3.7519827792057312E-3,3.7686029828767394E-3,4.8628759264226053E-3,1.5200845434458942E-2,1.4229054225533354E-2,null,"10-Highest dec. (family income in 2008$)",4.8929318500721561E-2,5.7011753124979025E-2,5.920229550970927E-2,6.1253430754576767E-2,6.1388948377348339E-2,6.9734323875854751E-2,0.1232917087011894,0.11928559940551649,null,"10-Highest dec. (family income in 2008$)",5.6268716275829793E-2,6.5563516093725877E-2,6.8082639836165651E-2,7.044144536776327E-2,7.059729063395058E-2,8.0194472457232963E-2,0.14178546500636779,0.13717843931634394]
[null,"1-Dropout      ",1.3744970634623529E-4,2.3733229992735521E-4,2.735346236495667E-4,3.4039653814841485E-4,4.510315902579763E-4,6.242869442109148E-4,1.8574789391966561E-3,1.7187932048814351E-3,null,"1-Dropout      ",1.1723894674818403E-2,1.5405593137797558E-2,1.6538882176542848E-2,1.844983843149893E-2,2.1237504332147324E-2,2.4985734814307839E-2,4.3098479546228266E-2,4.1458330946643702E-2,null,"1-Dropout      ",1.3482478876041162E-2,1.7716432108467191E-2,1.9019714503024272E-2,2.1217314196223767E-2,2.4423129981969421E-2,2.8733595036454014E-2,4.9563251478162505E-2,4.7677080588640251E-2]
[null,"2-H.S.Diploma (education)      ",2.7713166056888373E-4,3.9241006007892712E-4,3.8962602186466135E-4,4.2800938179053736E-4,4.8165285523840175E-4,6.0867372167430983E-4,1.706968316437162E-3,1.5890049087174376E-3,null,"2-H.S.Diploma (education)      ",1.664727186565065E-2,1.9809342747272741E-2,1.9738946827646639E-2,2.0688387607315787E-2,2.19465909707727E-2,2.4671313740340418E-2,4.1315473087418009E-2,3.9862324426925201E-2,null,"2-H.S.Diploma (education)      ",1.9144362645498247E-2,2.2780744159363649E-2,2.2699788851793634E-2,2.3791645748413155E-2,2.5238579616388604E-2,2.8372010801391477E-2,4.7512794050530709E-2,4.5841673090963979E-2]
[null,"3-SomeColl/AA  ",8.3896250647377975E-4,1.2253305276208196E-3,1.0548995611688052E-3,8.9106672179845362E-4,9.4691988625550557E-4,1.2275517823801189E-3,3.1476599908900373E-3,2.8152899323033811E-3,null,"3-SomeColl/AA  ",2.89648494985522E-2,3.5004721504688759E-2,3.2479217373095753E-2,2.985074072445194E-2,3.0772063405880106E-2,3.5036435069511838E-2,5.6104010470643159E-2,5.3059305803067017E-2,null,"3-SomeColl/AA  ",3.3309576923335027E-2,4.0255429730392069E-2,3.7351099979060116E-2,3.4328351833119726E-2,3.5387872916762118E-2,4.029190032993861E-2,6.4519612041239627E-2,6.1018201673527062E-2]
[null,"4-4yr.Degree   ",1.4166525717904457E-3,2.2032521567160075E-3,2.0901657780885343E-3,1.8298198306323954E-3,1.8925341115465385E-3,2.3596061873938862E-3,6.8857912054466654E-3,6.4309076827609116E-3,null,"4-4yr.Degree   ",3.7638445395505454E-2,4.6938812902714185E-2,4.5718330876012243E-2,4.2776393380372722E-2,4.3503265527389305E-2,4.8575777784754887E-2,8.2980667660887533E-2,8.0192940354877326E-2,null,"4-4yr.Degree   ",4.3284212204831272E-2,5.3979634838121307E-2,5.2576080507414073E-2,4.9192852387428626E-2,5.0028755356497694E-2,5.5862144452468114E-2,9.5427767810020658E-2,9.2221881408108913E-2]
[null,"5-Grad.Degree  ",2.3806420701448796E-3,3.0847977010375572E-3,2.978625326903921E-3,3.0069091216812296E-3,3.1355748771318102E-3,3.6957668687793324E-3,1.0947906919740036E-2,1.0821354407889179E-2,null,"5-Grad.Degree  ",4.8791823804248999E-2,5.5540955168574095E-2,5.4576783772075844E-2,5.483529084158513E-2,5.5996204131457075E-2,6.0792819220524166E-2,0.10463224607997305,0.10402573916050382,null,"5-Grad.Degree  ",5.6110597374886342E-2,6.3872098443860201E-2,6.2763301337887212E-2,6.3060584467822894E-2,6.4395634751175629E-2,6.9911742103602792E-2,0.12032708299196901,0.11962960003457938]
[null,"1-White NH (ethnic/race)     ",1.4474513659755821E-4,1.9852288558661941E-4,1.5321389219097114E-4,1.6990853460637059E-4,2.0777457414672461E-4,2.8583926431930903E-4,8.3730977826475402E-4,7.8319814505088442E-4,null,"1-White NH (ethnic/race)     ",1.2031007297710289E-2,1.4089814959275349E-2,1.2377959936555423E-2,1.3034896800756444E-2,1.4414387747897051E-2,1.6906781607370133E-2,2.8936305539317801E-2,2.7985677498514921E-2,null,"1-White NH (ethnic/race)     ",1.3835658392366831E-2,1.620328720316665E-2,1.4234653927038736E-2,1.4990131320869911E-2,1.6576545910081605E-2,1.9442798848475652E-2,3.327675137021547E-2,3.2183529123292157E-2]
[null,"2-Black NH     ",1.3706668309139956E-3,1.9517857434277438E-3,1.4968311378710701E-3,1.559699984435922E-3,1.6046637964888225E-3,1.4719360856394895E-3,3.631308938918317E-3,3.5578111880260966E-3,null,"2-Black NH     ",3.7022517889981441E-2,4.417901926738238E-2,3.868890199877828E-2,3.9493037163985271E-2,4.0058255035495774E-2,3.8365819235870485E-2,6.0260343003656368E-2,5.9647390454454052E-2,null,"2-Black NH     ",4.2575895573478656E-2,5.0805872157489732E-2,4.4492237298595021E-2,4.5416992738583059E-2,4.6066993290820139E-2,4.4120692121251054E-2,6.9299394454204813E-2,6.8594499022622157E-2]
[null,"3-Asian NH     ",1.664561415741252E-2,2.2002237589334141E-2,1.2092789233472002E-2,1.0611443447450523E-2,1.160288726105816E-2,1.0986336633857514E-2,2.9356238767437294E-2,2.8595919667873955E-2,null,"3-Asian NH     ",0.12901788309150217,0.14833151246223489,0.10996721890396248,0.10301186071249525,0.10771669908170302,0.10481572703491358,0.17133662412758485,0.1691032810677367,null,"3-Asian NH     ",0.14837056555522748,0.1705812393315701,0.12646230173955683,0.11846363981936953,0.12387420394395846,0.12053808609015061,0.19703711774672256,0.19446877322789718]
[null,"4-Hispanic     ",2.5104456600097101E-3,3.0328890513663764E-3,2.6877107780827292E-3,2.4551929347759035E-3,2.2854684678573589E-3,2.7990757912108033E-3,9.302458954121743E-3,9.5119060834439242E-3,null,"4-Hispanic     ",5.0104347715639506E-2,5.5071671949981478E-2,5.1843136267810119E-2,4.9549903478976663E-2,4.7806573479568258E-2,5.2906292548342518E-2,9.6449255850533877E-2,9.752900124293247E-2,null,"4-Hispanic     ",5.7619999872985425E-2,6.3332422742478689E-2,5.961960670798163E-2,5.6982389000823155E-2,5.4977559501503494E-2,6.0842236430593888E-2,0.11091664422811395,0.11215835142937233]
[null,"5-Other NH     ",1.0171559504419559E-3,1.6423087898399798E-3,3.3023558017643475E-3,3.5200536702160454E-3,3.5608480208332862E-3,6.6577177676951822E-3,1.9813066426405537E-2,1.7794226713690235E-2,null,"5-Other NH     ",3.1892882441729158E-2,4.0525409187816719E-2,5.7466127429681109E-2,5.933004020069467E-2,5.9672841568282016E-2,8.1594839099634123E-2,0.14075889466177807,0.13339500258139447,null,"5-Other NH     ",3.6676814807988525E-2,4.6604220565989223E-2,6.6086046544133276E-2,6.8229546230798868E-2,6.8623767803524319E-2,9.3834064964579231E-2,0.16187272886104476,0.15340425296860363]
[null,"1-Employed  (Labor force)",3.9799625059808061E-4,6.3657821874315559E-4,7.0057764673250899E-4,8.1242702383134196E-4,9.3120171281312156E-4,1.3472566126189012E-3,4.8744823123994E-3,4.72031233303641E-3,null,"1-Employed  (Labor force)",1.9949843372770639E-2,2.5230501753693992E-2,2.6468427356616957E-2,2.8503105512055031E-2,3.0515597860981219E-2,3.6704994382493798E-2,6.9817492882510476E-2,6.8704529203222189E-2,null,"1-Employed  (Labor force)",2.2942319878686234E-2,2.9015077016748089E-2,3.0438691460109499E-2,3.2778571338863284E-2,3.5092937540128398E-2,4.2210743539867868E-2,8.0290116814887041E-2,7.9010208583705513E-2]
[null,"2-Unemployed   ",7.0062537645452722E-3,1.1911482614478022E-2,1.2716888489068764E-2,2.0736322307836633E-2,2.6970098038228314E-2,2.9262263286340497E-2,"N/A","N/A",null,"2-Unemployed   ",8.3703367701337281E-2,0.10913973893352513,0.11276918235523731,0.14400111912008404,0.16422575327343855,0.17106216205327376,"N/A","N/A",null,"2-Unemployed   ",9.6258872856537864E-2,0.12551069977355389,0.12968455970852288,0.16560128698809662,0.18885961626445433,0.19672148636126482,"N/A","N/A"]
[null,"3-NILF         ",9.0246863546763627E-5,1.4366819941013847E-4,1.5388326882347829E-4,1.8037185808321662E-4,2.3049311720794508E-4,3.072526805483728E-4,8.0186240275685193E-4,6.6860371248669815E-4,null,"3-NILF         ",9.4998349220796266E-3,1.1986167002429863E-2,1.2404969521263578E-2,1.3430259047509717E-2,1.5181999776312245E-2,1.7528624605152934E-2,2.8317175049020194E-2,2.5857372497736467E-2,null,"3-NILF         ",1.092481016039157E-2,1.3784092052794341E-2,1.4265714949453114E-2,1.5444797904636173E-2,1.7459299742759081E-2,2.0157918295925874E-2,3.2564751306373221E-2,2.9735978372396936E-2]
[null,"1-Prof./Managerial (occ.)",3.0380980258944007E-3,4.4075458356175705E-3,5.0829322830917619E-3,6.9562422474859133E-3,7.058339722781054E-3,8.8622391601356452E-3,2.6382490134218738E-2,2.3659138665945524E-2,null,"1-Prof./Managerial (occ.)",5.5118944346698083E-2,6.6389350317784937E-2,7.1294686219183001E-2,8.3404090112451396E-2,8.4013925766988504E-2,9.4139466538405908E-2,0.16242687626811869,0.15381527448841198,null,"1-Prof./Managerial (occ.)",6.3386785998702788E-2,7.6347752865452673E-2,8.1988889152060443E-2,9.5914703629319101E-2,9.661601463203677E-2,0.10826038651916678,0.18679090770833648,0.17688756566167377]
[null,"2-Sklld/Sales  ",1.3435793970312218E-3,2.1353154578474956E-3,2.4441533858135531E-3,2.753778079636734E-3,3.2742791527237579E-3,5.1193719179878448E-3,1.8318060955909127E-2,1.6933838671339883E-2,null,"2-Sklld/Sales  ",3.6654868667493845E-2,4.6209473680702051E-2,4.943837968434598E-2,5.2476452620549098E-2,5.7221317292804066E-2,7.1549786288904071E-2,0.13534423133591297,0.13013008365224346,null,"2-Sklld/Sales  ",4.2153098967617916E-2,5.3140894732807357E-2,5.6854136636997871E-2,6.0347920513631456E-2,6.5804514886724674E-2,8.2282254232239671E-2,0.1556458660362999,0.14964959620007998]
[null,"3-BlueCol.Lgt  ",1.8083912419017349E-3,3.0523932293623651E-3,3.301160723569745E-3,3.9372934861494893E-3,4.6439474690301401E-3,5.5646946966365577E-3,1.7209459171213227E-2,1.508156689538288E-2,null,"3-BlueCol.Lgt  ",4.2525183619847369E-2,5.5248468117789155E-2,5.7455728379072396E-2,6.274785642672974E-2,6.8146514724013146E-2,7.4596881279558588E-2,0.13118482828137265,0.12280703113170223,null,"3-BlueCol.Lgt  ",4.8903961162824472E-2,6.3535738335457517E-2,6.6074087635933254E-2,7.2160034890739189E-2,7.8368491932615109E-2,8.5786413471492365E-2,0.15086255252357852,0.14122808580145754]
[null,"4-BlueCol.Hvy  ",9.1850116060030807E-4,1.4934738575623141E-3,1.8196871766903403E-3,2.4380281283694506E-3,2.8872717043164301E-3,3.8440014488585203E-3,1.2152704458413202E-2,1.126756688257096E-2,null,"4-BlueCol.Hvy  ",3.0306784068922722E-2,3.8645489485350216E-2,4.2657791512106441E-2,4.9376392419550566E-2,5.3733338853233663E-2,6.2000011684341806E-2,0.11023930541514311,0.10614879595440996,null,"4-BlueCol.Hvy  ",3.4852801679261129E-2,4.4442312908152745E-2,4.9056460238922406E-2,5.6782851282483143E-2,6.1793339681218709E-2,7.1300013436993076E-2,0.12677520122741456,0.12207111534757144]
[null,"5-Medical.Occ  ",8.6375476224196789E-3,1.5394901449299623E-2,1.6664863247337174E-2,1.8455779773676205E-2,2.0351679546117451E-2,2.5603691559610384E-2,"N/A","N/A",null,"5-Medical.Occ  ",9.2938407681752752E-2,0.12407619211315127,0.12909246007159819,0.13585205104699821,0.1426593128615074,0.1600115357079307,"N/A","N/A",null,"5-Medical.Occ  ",0.10687916883401566,0.14268762093012394,0.14845632908233791,0.15622985870404793,0.16405820979073349,0.18401326606412027,"N/A","N/A"]
[null,"6-N/A          ",1.2203332364385988E-4,1.882960830405097E-4,1.8844718741074397E-4,1.9826398036090634E-4,2.2268391725010318E-4,2.5393872655389809E-4,5.8923648304882721E-4,4.5892554111465157E-4,null,"6-N/A          ",1.1046869404671165E-2,1.3722101990602959E-2,1.3727606761950313E-2,1.4080624288748931E-2,1.4922597536960621E-2,1.5935455015590176E-2,2.4274193767225869E-2,2.1422547493579087E-2,null,"6-N/A          ",1.2703899815371839E-2,1.5780417289193403E-2,1.5786747776242858E-2,1.6192717932061271E-2,1.7160987167504714E-2,1.83257732679287E-2,2.7915322832309748E-2,2.4635929617615949E-2]
[]
[null,"Implied exposure count (pulmonary and stroke)"]
[null,null,"1980-1983","1984-1987","1988-1991","1992-1995","1996-1999","2000-2003","2008-11 (MDAC)"]
[null,"age 40-44 ",{"$f":"C17","v":375545.99011904426},{"$f":"D17","v":157012.98031981254},158540.92061126482,209453.23689548197,191463.70528983459,270385.96530223923,{"$f":"K17","v":1410037.1505907243}]
[null,"age 45-49 ",{"$f":"C18","v":354763.39199064428},127882.43877271627,130232.55045527479,168379.81350628377,185794.65024081324,230405.70135876484,{"$f":"K18","v":1555949.8238946856}]
[null,"age 50-54 ",{"$f":"C19","v":368098.99331335258},130967.30442250684,112810.16864816767,157489.77984915432,141658.67054302254,201240.01093845157,1548773.4413656404]
[null,"age 55-59 ",{"$f":"C20","v":378991.33050826081},140384.1077971262,113632.19003299215,131875.6084469108,116353.54487353397,147997.96813242225,1451822.1453892868]
[null,"age 60-64",{"$f":"C21","v":364615.21178530093},143106.99232222213,130408.03417176884,139124.39137722747,120765.80301723868,140327.90959847666,1412943.3047500427]
[null,"age 65-69 (age group) ",{"$f":"C22","v":355935.99014978221},142271.97455702128,134707.08744789677,149567.64523373422,131550.64099163981,129516.84839865388,1305691.9016297811]
[null,"age 70-74 ",{"$f":"C23","v":269614.4512417845},113554.08865964628,103821.11282350107,131645.70666758381,119331.82268919854,119607.52541866204,1091894.1310984367]
[null,"age 75-79 ",{"$f":"C24","v":173144.58978933262},69184.683045387239,66397.682078314756,89207.987691056624,86377.067577939219,95804.018932161256,825321.30560807255]
[null,"age 80-84 ",{"$f":"C25","v":87998.188900451729},35818.444291189604,33827.013343743791,50883.802569610147,47059.926723654738,66404.385613352846,515763.01600098819]
[null,"age 85+",{"$f":"C26","v":43291.862202046075},17816.985812371477,16623.240387075377,26372.027762956863,25644.168053124802,23989.66630681503,275713.77967234125]
[null,"Male (Sex)",{"$f":"C27","v":1460249.9999999998},563500,508121.82741116756,613066.66666666663,576375,709028.02139037417,6366121.1428571427]
[null,"Female       ",{"$f":"C28","v":1311750},514500,492878.17258883256,640933.33333333326,589625,716651.9786096256,5027788.8571428563]
[null,"1-Never  ",{"$f":"C29","v":0},0,0,231000.00000000006,296440.67796610168,487933.26203208551,0]
[null,"2-Current",{"$f":"C30","v":0},0,0,110000.00000000001,138338.98305084746,205846.84491978606,0]
[null,"3-Former ",{"$f":"C31","v":0},0,0,198000.00000000003,256915.25423728814,404069.73262032081,0]
[null,"4-Not_Asked (smoker)",{"$f":"C32","v":2772000},1078000,1000999.9999999999,715000.00000000012,474305.0847457627,327830.16042780742,11393910]
[null,"1-Married (marital status)",{"$f":"C33","v":1636422.1824686942},622401.84757505776,574139.65087281796,674798.20627802692,616125,739523.85026737954,8675565.9898477159]
[null,"2-Widowed    ",{"$f":"C34","v":768622.54025044711},308711.31639722863,284573.56608478801,382385.65022421523,351125.00000000006,411693.68983957212,1590520.4314720815]
[null,"3-Divorced   ",{"$f":"C35","v":153724.50805008944},64729.792147806009,69895.261845386543,101219.73094170404,112625,160103.10160427802,636208.17258883256]
[null,"4-Separated  ",{"$f":"C36","v":49588.550983899819},17427.25173210162,17473.815461346636,22493.273542600899,19875,22871.871657754007,101214.93654822336]
[null,"5-NeverMar.  ",{"$f":"C37","v":163642.21824686939},64729.792147806009,54917.705735660849,73103.139013452921,66250,91487.486631016029,390400.46954314725]
[null,"1-Lowest inc.  ",{"$f":"C38","v":642352.94117647049},183383.908045977,165165,234601.3363028953,199885.71428571426,237613.33333333328,901987.80873970862]
[null,"2-Second dec.  ",{"$f":"C39","v":716470.5882352941},198252.87356321837,185184.99999999997,245772.82850779509,226537.14285714281,275938.06451612903,1840055.1298290053]
[null,"3-Third dec.   ",{"$f":"C40","v":281647.05882352934},158602.29885057471,150150,195501.11358574609,179897.14285714284,206953.54838709676,1840055.1298290053]
[null,"4-Fourth dec.  ",{"$f":"C41","v":266823.5294117647},128864.36781609192,115115,145229.39866369709,133257.14285714284,168628.81720430104,1659657.5680810637]
[null,"5-Fifth dec.   ",{"$f":"C42","v":256941.17647058822},94170.114942528729,90090,111714.92204899776,99942.85714285713,130304.08602150537,1334941.9569347687]
[null,"6-Sixth dec.   ",{"$f":"C43","v":207529.41176470587},79301.149425287353,80080,83786.191536748316,86617.142857142841,91979.354838709667,1046305.8581380619]
[null,"7-Seventh dec. ",{"$f":"C44","v":54352.941176470587},74344.827586206884,65065,72614.699331848547,73291.428571428565,91979.354838709667,938067.32108929695]
[null,"8-Eighth dec.  ",{"$f":"C45","v":232235.29411764705},54519.540229885053,50049.999999999993,55857.46102449888,53302.857142857138,68984.516129032258,642215.31982267252]
[null,"9-Ninth dec.   ",{"$f":"C46","v":39529.411764705874},59475.862068965507,55055,55857.46102449888,59965.714285714275,76649.462365591389,627783.51488283719]
[null,"10-Highest dec. (family income in 2008$)",{"$f":"C47","v":74117.64705882351},47085.057471264365,45045,53064.587973273934,53302.857142857138,76649.462365591389,562840.39265357819]
[null,"1-Dropout      ",{"$f":"C48","v":1567648.1149012567},546451.61290322582,452713.56783919595,511609.75609756092,417374.99999999988,456217.59999999998,2966033.714285715]
[null,"2-H.S.Diploma (education)      ",{"$f":"C49","v":721615.79892280069},322903.22580645164,331989.94974874367,405951.21951219509,397499.99999999994,501839.35999999993,4159681.4285714286]
[null,"3-SomeColl/AA  ",{"$f":"C50","v":253809.69479353682},109290.32258064518,110663.31658291457,194634.14634146341,198749.99999999997,266126.93333333329,2568151.1428571432]
[null,"4-4yr.Degree   ",{"$f":"C51","v":139346.49910233391},59612.903225806462,60361.809045226131,88975.609756097561,99374.999999999985,129261.65333333332,1121305.4285714286]
[null,"5-Grad.Degree  ",{"$f":"C52","v":89579.892280071814},39741.935483870977,45271.356783919597,52829.268292682929,52999.999999999993,72234.453333333324,578738.2857142858]
[null,"1-White NH (ethnic/race)     ",{"$f":"C53","v":2332748.4333034912},487963.04849884519,817648.51485148515,1007678.5714285715,927500.00000000012,1067354.0106951871,9374736.0759493671]
[null,"2-Black NH     ",{"$f":"C54","v":272981.19964189793},59750.577367205529,79287.128712871301,111964.28571428571,99375.000000000015,152479.14438502674,901416.93037974683]
[null,"3-Asian NH     ",{"$f":"C55","v":27298.119964189795},4979.2147806004614,9910.8910891089126,13995.535714285714,16562.5,30495.828877005348,346144.10126582277]
[null,"4-Hispanic     ",{"$f":"C56","v":69486.123545210372},42323.325635103916,44599.009900990102,67178.571428571435,72875,106735.4010695187,605752.17721518991]
[null,"5-Other NH     ",{"$f":"C57","v":69486.123545210372},482983.83371824468,49554.455445544554,53183.035714285717,49687.500000000007,68615.614973262025,165860.71518987342]
[null,"1-Employed  (Labor force)",{"$f":"C58","v":646385.65022421523},226429.22374429228,211266.33165829146,234080,227496.0182025028,298932.90322580637,2378235.4838709678]
[null,"2-Unemployed   ",{"$f":"C59","v":37291.479820627806},14767.123287671235,10060.301507537688,16720,9948.8054607508511,15329.892473118276,151342.25806451612]
[null,"3-NILF         ",{"$f":"C60","v":2088322.8699551572},836803.65296803671,779673.36683417077,1003200,928555.1763367462,1111417.2043010751,8864332.2580645159]
[null,"1-Prof./Managerial (occ.)",{"$f":"C61","v":74117.647058823524},30013.921113689095,30030,33664.429530201342,32937.853107344628,45621.759999999987,586344.79669631517]
[null,"2-Sklld/Sales  ",{"$f":"C62","v":187764.70588235295},75034.802784222746,70070,78550.33557046979,72463.276836158169,91243.519999999975,977241.32782719191]
[null,"3-BlueCol.Lgt  ",{"$f":"C63","v":158117.64705882352},55025.522041763346,50049.999999999993,56107.382550335562,46112.994350282475,68432.639999999985,977241.32782719191]
[null,"4-BlueCol.Hvy  ",{"$f":"C64","v":321176.4705882353},105048.72389791183,90090,89771.812080536911,79050.847457627096,98847.146666666638,1194406.0673443456]
[null,"5-Medical.Occ  ",{"$f":"C65","v":29647.058823529413},12505.800464037124,10010,14026.84563758389,13175.141242937851,19009.066666666662,202687.09021601017]
[null,"6-N/A          ",{"$f":"C66","v":2001176.4705882352},800371.22969837592,750750,981879.19463087246,922259.88700564962,1102525.8666666665,7455989.3900889456]
[]
[null,"Variance (dynamic, pulmonary and stroke)"]
[null,null,"1987.5-1991.5","1991.5-1995.5","1995.5-1999.5","1999.5-2003.5","2003.5-2006","2006-2012"]
[null,"age 40-44 ",{"$f":"IFERROR(Calculation!CH22/Calculation!CG22/Calculation!CG22/D282+(Calculation!CH22^2)/(Calculation!CG22^3)/C282,\"N/A\")","v":1.7644796805386946E-3},{"$f":"IFERROR(Calculation!CI22/Calculation!CH22/Calculation!CH22/E282+(Calculation!CI22^2)/(Calculation!CH22^3)/D282,\"N/A\")","v":2.3809338938008155E-3},{"$f":"IFERROR(Calculation!CJ22/Calculation!CI22/Calculation!CI22/F282+(Calculation!CJ22^2)/(Calculation!CI22^3)/E282,\"N/A\")","v":2.0488640005821446E-3},{"$f":"IFERROR(Calculation!CK22/Calculation!CJ22/Calculation!CJ22/G282+(Calculation!CK22^2)/(Calculation!CJ22^3)/F282,\"N/A\")","v":1.8833144913735201E-3},{"$f":"IFERROR(Calculation!CL22/Calculation!CK22/Calculation!CK22/H282+(Calculation!CL22^2)/(Calculation!CK22^3)/G282,\"N/A\")","v":1.726488925835103E-3},{"$f":"IFERROR(Calculation!CM22/Calculation!CL22/Calculation!CL22/I282+(Calculation!CM22^2)/(Calculation!CL22^3)/H282,\"N/A\")","v":8.6868474577496825E-4}]
[null,"age 45-49 ",{"$f":"IFERROR(Calculation!CH23/Calculation!CG23/Calculation!CG23/D283+(Calculation!CH23^2)/(Calculation!CG23^3)/C283,\"N/A\")","v":1.3195673612187435E-3},{"$f":"IFERROR(Calculation!CI23/Calculation!CH23/Calculation!CH23/E283+(Calculation!CI23^2)/(Calculation!CH23^3)/D283,\"N/A\")","v":1.8721414432500984E-3},{"$f":"IFERROR(Calculation!CJ23/Calculation!CI23/Calculation!CI23/F283+(Calculation!CJ23^2)/(Calculation!CI23^3)/E283,\"N/A\")","v":1.6352829078913268E-3},{"$f":"IFERROR(Calculation!CK23/Calculation!CJ23/Calculation!CJ23/G283+(Calculation!CK23^2)/(Calculation!CJ23^3)/F283,\"N/A\")","v":1.3902908210205798E-3},{"$f":"IFERROR(Calculation!CL23/Calculation!CK23/Calculation!CK23/H283+(Calculation!CL23^2)/(Calculation!CK23^3)/G283,\"N/A\")","v":1.2408812847081421E-3},{"$f":"IFERROR(Calculation!CM23/Calculation!CL23/Calculation!CL23/I283+(Calculation!CM23^2)/(Calculation!CL23^3)/H283,\"N/A\")","v":6.449398562455279E-4}]
[null,"age 50-54 ",{"$f":"IFERROR(Calculation!CH24/Calculation!CG24/Calculation!CG24/D284+(Calculation!CH24^2)/(Calculation!CG24^3)/C284,\"N/A\")","v":8.0280257433951088E-4},{"$f":"IFERROR(Calculation!CI24/Calculation!CH24/Calculation!CH24/E284+(Calculation!CI24^2)/(Calculation!CH24^3)/D284,\"N/A\")","v":1.2563298147222639E-3},{"$f":"IFERROR(Calculation!CJ24/Calculation!CI24/Calculation!CI24/F284+(Calculation!CJ24^2)/(Calculation!CI24^3)/E284,\"N/A\")","v":1.1608928415632162E-3},{"$f":"IFERROR(Calculation!CK24/Calculation!CJ24/Calculation!CJ24/G284+(Calculation!CK24^2)/(Calculation!CJ24^3)/F284,\"N/A\")","v":1.0687824450434052E-3},{"$f":"IFERROR(Calculation!CL24/Calculation!CK24/Calculation!CK24/H284+(Calculation!CL24^2)/(Calculation!CK24^3)/G284,\"N/A\")","v":1.0073288871264804E-3},{"$f":"IFERROR(Calculation!CM24/Calculation!CL24/Calculation!CL24/I284+(Calculation!CM24^2)/(Calculation!CL24^3)/H284,\"N/A\")","v":4.8749361786229662E-4}]
[null,"age 55-59 ",{"$f":"IFERROR(Calculation!CH25/Calculation!CG25/Calculation!CG25/D285+(Calculation!CH25^2)/(Calculation!CG25^3)/C285,\"N/A\")","v":5.3473207672068981E-4},{"$f":"IFERROR(Calculation!CI25/Calculation!CH25/Calculation!CH25/E285+(Calculation!CI25^2)/(Calculation!CH25^3)/D285,\"N/A\")","v":8.3174535272417804E-4},{"$f":"IFERROR(Calculation!CJ25/Calculation!CI25/Calculation!CI25/F285+(Calculation!CJ25^2)/(Calculation!CI25^3)/E285,\"N/A\")","v":8.387488991608372E-4},{"$f":"IFERROR(Calculation!CK25/Calculation!CJ25/Calculation!CJ25/G285+(Calculation!CK25^2)/(Calculation!CJ25^3)/F285,\"N/A\")","v":8.4709453562190084E-4},{"$f":"IFERROR(Calculation!CL25/Calculation!CK25/Calculation!CK25/H285+(Calculation!CL25^2)/(Calculation!CK25^3)/G285,\"N/A\")","v":8.3228049829793234E-4},{"$f":"IFERROR(Calculation!CM25/Calculation!CL25/Calculation!CL25/I285+(Calculation!CM25^2)/(Calculation!CL25^3)/H285,\"N/A\")","v":4.0230806889110212E-4}]
[null,"age 60-64",{"$f":"IFERROR(Calculation!CH26/Calculation!CG26/Calculation!CG26/D286+(Calculation!CH26^2)/(Calculation!CG26^3)/C286,\"N/A\")","v":3.9492427451738983E-4},{"$f":"IFERROR(Calculation!CI26/Calculation!CH26/Calculation!CH26/E286+(Calculation!CI26^2)/(Calculation!CH26^3)/D286,\"N/A\")","v":5.672868244747057E-4},{"$f":"IFERROR(Calculation!CJ26/Calculation!CI26/Calculation!CI26/F286+(Calculation!CJ26^2)/(Calculation!CI26^3)/E286,\"N/A\")","v":5.6523978689071593E-4},{"$f":"IFERROR(Calculation!CK26/Calculation!CJ26/Calculation!CJ26/G286+(Calculation!CK26^2)/(Calculation!CJ26^3)/F286,\"N/A\")","v":6.0145984128776107E-4},{"$f":"IFERROR(Calculation!CL26/Calculation!CK26/Calculation!CK26/H286+(Calculation!CL26^2)/(Calculation!CK26^3)/G286,\"N/A\")","v":6.221968303211753E-4},{"$f":"IFERROR(Calculation!CM26/Calculation!CL26/Calculation!CL26/I286+(Calculation!CM26^2)/(Calculation!CL26^3)/H286,\"N/A\")","v":3.1241545846699985E-4}]
[null,"age 65-69 (age group) ",{"$f":"IFERROR(Calculation!CH27/Calculation!CG27/Calculation!CG27/D287+(Calculation!CH27^2)/(Calculation!CG27^3)/C287,\"N/A\")","v":3.3600006177707736E-4},{"$f":"IFERROR(Calculation!CI27/Calculation!CH27/Calculation!CH27/E287+(Calculation!CI27^2)/(Calculation!CH27^3)/D287,\"N/A\")","v":4.5295512228668902E-4},{"$f":"IFERROR(Calculation!CJ27/Calculation!CI27/Calculation!CI27/F287+(Calculation!CJ27^2)/(Calculation!CI27^3)/E287,\"N/A\")","v":4.1990345778580537E-4},{"$f":"IFERROR(Calculation!CK27/Calculation!CJ27/Calculation!CJ27/G287+(Calculation!CK27^2)/(Calculation!CJ27^3)/F287,\"N/A\")","v":4.2105796260700828E-4},{"$f":"IFERROR(Calculation!CL27/Calculation!CK27/Calculation!CK27/H287+(Calculation!CL27^2)/(Calculation!CK27^3)/G287,\"N/A\")","v":4.5872653827982741E-4},{"$f":"IFERROR(Calculation!CM27/Calculation!CL27/Calculation!CL27/I287+(Calculation!CM27^2)/(Calculation!CL27^3)/H287,\"N/A\")","v":2.391729803213141E-4}]
[null,"age 70-74 ",{"$f":"IFERROR(Calculation!CH28/Calculation!CG28/Calculation!CG28/D288+(Calculation!CH28^2)/(Calculation!CG28^3)/C288,\"N/A\")","v":3.1779670395590292E-4},{"$f":"IFERROR(Calculation!CI28/Calculation!CH28/Calculation!CH28/E288+(Calculation!CI28^2)/(Calculation!CH28^3)/D288,\"N/A\")","v":4.1812660649813015E-4},{"$f":"IFERROR(Calculation!CJ28/Calculation!CI28/Calculation!CI28/F288+(Calculation!CJ28^2)/(Calculation!CI28^3)/E288,\"N/A\")","v":3.6291636697643694E-4},{"$f":"IFERROR(Calculation!CK28/Calculation!CJ28/Calculation!CJ28/G288+(Calculation!CK28^2)/(Calculation!CJ28^3)/F288,\"N/A\")","v":3.2820368105059949E-4},{"$f":"IFERROR(Calculation!CL28/Calculation!CK28/Calculation!CK28/H288+(Calculation!CL28^2)/(Calculation!CK28^3)/G288,\"N/A\")","v":3.4428170912129716E-4},{"$f":"IFERROR(Calculation!CM28/Calculation!CL28/Calculation!CL28/I288+(Calculation!CM28^2)/(Calculation!CL28^3)/H288,\"N/A\")","v":1.7519544863843327E-4}]
[null,"age 75-79 ",{"$f":"IFERROR(Calculation!CH29/Calculation!CG29/Calculation!CG29/D289+(Calculation!CH29^2)/(Calculation!CG29^3)/C289,\"N/A\")","v":3.5709315122781733E-4},{"$f":"IFERROR(Calculation!CI29/Calculation!CH29/Calculation!CH29/E289+(Calculation!CI29^2)/(Calculation!CH29^3)/D289,\"N/A\")","v":4.6330099085996221E-4},{"$f":"IFERROR(Calculation!CJ29/Calculation!CI29/Calculation!CI29/F289+(Calculation!CJ29^2)/(Calculation!CI29^3)/E289,\"N/A\")","v":3.8090936417183442E-4},{"$f":"IFERROR(Calculation!CK29/Calculation!CJ29/Calculation!CJ29/G289+(Calculation!CK29^2)/(Calculation!CJ29^3)/F289,\"N/A\")","v":3.2015574148843952E-4},{"$f":"IFERROR(Calculation!CL29/Calculation!CK29/Calculation!CK29/H289+(Calculation!CL29^2)/(Calculation!CK29^3)/G289,\"N/A\")","v":3.0865834950946923E-4},{"$f":"IFERROR(Calculation!CM29/Calculation!CL29/Calculation!CL29/I289+(Calculation!CM29^2)/(Calculation!CL29^3)/H289,\"N/A\")","v":1.5351167674277028E-4}]
[null,"age 80-84 ",{"$f":"IFERROR(Calculation!CH30/Calculation!CG30/Calculation!CG30/D290+(Calculation!CH30^2)/(Calculation!CG30^3)/C290,\"N/A\")","v":4.851281496628839E-4},{"$f":"IFERROR(Calculation!CI30/Calculation!CH30/Calculation!CH30/E290+(Calculation!CI30^2)/(Calculation!CH30^3)/D290,\"N/A\")","v":6.2412318160346087E-4},{"$f":"IFERROR(Calculation!CJ30/Calculation!CI30/Calculation!CI30/F290+(Calculation!CJ30^2)/(Calculation!CI30^3)/E290,\"N/A\")","v":4.9036707150048784E-4},{"$f":"IFERROR(Calculation!CK30/Calculation!CJ30/Calculation!CJ30/G290+(Calculation!CK30^2)/(Calculation!CJ30^3)/F290,\"N/A\")","v":3.9485628297934012E-4},{"$f":"IFERROR(Calculation!CL30/Calculation!CK30/Calculation!CK30/H290+(Calculation!CL30^2)/(Calculation!CK30^3)/G290,\"N/A\")","v":3.4757586604138767E-4},{"$f":"IFERROR(Calculation!CM30/Calculation!CL30/Calculation!CL30/I290+(Calculation!CM30^2)/(Calculation!CL30^3)/H290,\"N/A\")","v":1.571715653716368E-4}]
[null,"age 85+",{"$f":"IFERROR(Calculation!CH31/Calculation!CG31/Calculation!CG31/D291+(Calculation!CH31^2)/(Calculation!CG31^3)/C291,\"N/A\")","v":6.3979043436604638E-4},{"$f":"IFERROR(Calculation!CI31/Calculation!CH31/Calculation!CH31/E291+(Calculation!CI31^2)/(Calculation!CH31^3)/D291,\"N/A\")","v":8.6698432128681389E-4},{"$f":"IFERROR(Calculation!CJ31/Calculation!CI31/Calculation!CI31/F291+(Calculation!CJ31^2)/(Calculation!CI31^3)/E291,\"N/A\")","v":6.9492883802889155E-4},{"$f":"IFERROR(Calculation!CK31/Calculation!CJ31/Calculation!CJ31/G291+(Calculation!CK31^2)/(Calculation!CJ31^3)/F291,\"N/A\")","v":5.4045438765014061E-4},{"$f":"IFERROR(Calculation!CL31/Calculation!CK31/Calculation!CK31/H291+(Calculation!CL31^2)/(Calculation!CK31^3)/G291,\"N/A\")","v":5.7988364789741107E-4},{"$f":"IFERROR(Calculation!CM31/Calculation!CL31/Calculation!CL31/I291+(Calculation!CM31^2)/(Calculation!CL31^3)/H291,\"N/A\")","v":3.2813667787582457E-4}]
[null,"Male (Sex)",{"$f":"IFERROR(Calculation!CH$27/Calculation!CG$27/Calculation!CG$27/D292+(Calculation!CH$27^2)/(Calculation!CG$27^3)/C292,\"N/A\")","v":8.3977278426178461E-5},{"$f":"IFERROR(Calculation!CI$27/Calculation!CH$27/Calculation!CH$27/E292+(Calculation!CI$27^2)/(Calculation!CH$27^3)/D292,\"N/A\")","v":1.1731620177588223E-4},{"$f":"IFERROR(Calculation!CJ$27/Calculation!CI$27/Calculation!CI$27/F292+(Calculation!CJ$27^2)/(Calculation!CI$27^3)/E292,\"N/A\")","v":1.0699635013522725E-4},{"$f":"IFERROR(Calculation!CK$27/Calculation!CJ$27/Calculation!CJ$27/G292+(Calculation!CK$27^2)/(Calculation!CJ$27^3)/F292,\"N/A\")","v":9.9039713201350772E-5},{"$f":"IFERROR(Calculation!CL$27/Calculation!CK$27/Calculation!CK$27/H292+(Calculation!CL$27^2)/(Calculation!CK$27^3)/G292,\"N/A\")","v":9.3372655849252633E-5},{"$f":"IFERROR(Calculation!CM$27/Calculation!CL$27/Calculation!CL$27/I292+(Calculation!CM$27^2)/(Calculation!CL$27^3)/H292,\"N/A\")","v":4.4284821740876379E-5}]
[null,"Female       ",{"$f":"IFERROR(Calculation!CH$27/Calculation!CG$27/Calculation!CG$27/D293+(Calculation!CH$27^2)/(Calculation!CG$27^3)/C293,\"N/A\")","v":9.2404493901251716E-5},{"$f":"IFERROR(Calculation!CI$27/Calculation!CH$27/Calculation!CH$27/E293+(Calculation!CI$27^2)/(Calculation!CH$27^3)/D293,\"N/A\")","v":1.2450052029761981E-4},{"$f":"IFERROR(Calculation!CJ$27/Calculation!CI$27/Calculation!CI$27/F293+(Calculation!CJ$27^2)/(Calculation!CI$27^3)/E293,\"N/A\")","v":1.0659338097174941E-4},{"$f":"IFERROR(Calculation!CK$27/Calculation!CJ$27/Calculation!CJ$27/G293+(Calculation!CK$27^2)/(Calculation!CJ$27^3)/F293,\"N/A\")","v":9.5856702022887927E-5},{"$f":"IFERROR(Calculation!CL$27/Calculation!CK$27/Calculation!CK$27/H293+(Calculation!CL$27^2)/(Calculation!CK$27^3)/G293,\"N/A\")","v":9.1811655018214655E-5},{"$f":"IFERROR(Calculation!CM$27/Calculation!CL$27/Calculation!CL$27/I293+(Calculation!CM$27^2)/(Calculation!CL$27^3)/H293,\"N/A\")","v":4.5321044565171474E-5}]
[null,"1-Never  ",{"$f":"IFERROR(Calculation!CH$27/Calculation!CG$27/Calculation!CG$27/D294+(Calculation!CH$27^2)/(Calculation!CG$27^3)/C294,\"N/A\")","v":"N/A"},{"$f":"IFERROR(Calculation!CI$27/Calculation!CH$27/Calculation!CH$27/E294+(Calculation!CI$27^2)/(Calculation!CH$27^3)/D294,\"N/A\")","v":"N/A"},{"$f":"IFERROR(Calculation!CJ$27/Calculation!CI$27/Calculation!CI$27/F294+(Calculation!CJ$27^2)/(Calculation!CI$27^3)/E294,\"N/A\")","v":"N/A"},{"$f":"IFERROR(Calculation!CK$27/Calculation!CJ$27/Calculation!CJ$27/G294+(Calculation!CK$27^2)/(Calculation!CJ$27^3)/F294,\"N/A\")","v":2.2490820662757641E-4},{"$f":"IFERROR(Calculation!CL$27/Calculation!CK$27/Calculation!CK$27/H294+(Calculation!CL$27^2)/(Calculation!CK$27^3)/G294,\"N/A\")","v":1.5924535512022112E-4},{"$f":"IFERROR(Calculation!CM$27/Calculation!CL$27/Calculation!CL$27/I294+(Calculation!CM$27^2)/(Calculation!CL$27^3)/H294,\"N/A\")","v":"N/A"}]
[null,"2-Current",{"$f":"IFERROR(Calculation!CH$27/Calculation!CG$27/Calculation!CG$27/D295+(Calculation!CH$27^2)/(Calculation!CG$27^3)/C295,\"N/A\")","v":"N/A"},{"$f":"IFERROR(Calculation!CI$27/Calculation!CH$27/Calculation!CH$27/E295+(Calculation!CI$27^2)/(Calculation!CH$27^3)/D295,\"N/A\")","v":"N/A"},{"$f":"IFERROR(Calculation!CJ$27/Calculation!CI$27/Calculation!CI$27/F295+(Calculation!CJ$27^2)/(Calculation!CI$27^3)/E295,\"N/A\")","v":"N/A"},{"$f":"IFERROR(Calculation!CK$27/Calculation!CJ$27/Calculation!CJ$27/G295+(Calculation!CK$27^2)/(Calculation!CJ$27^3)/F295,\"N/A\")","v":4.7676219770220925E-4},{"$f":"IFERROR(Calculation!CL$27/Calculation!CK$27/Calculation!CK$27/H295+(Calculation!CL$27^2)/(Calculation!CK$27^3)/G295,\"N/A\")","v":3.56249942822181E-4},{"$f":"IFERROR(Calculation!CM$27/Calculation!CL$27/Calculation!CL$27/I295+(Calculation!CM$27^2)/(Calculation!CL$27^3)/H295,\"N/A\")","v":"N/A"}]
[null,"3-Former ",{"$f":"IFERROR(Calculation!CH$27/Calculation!CG$27/Calculation!CG$27/D296+(Calculation!CH$27^2)/(Calculation!CG$27^3)/C296,\"N/A\")","v":"N/A"},{"$f":"IFERROR(Calculation!CI$27/Calculation!CH$27/Calculation!CH$27/E296+(Calculation!CI$27^2)/(Calculation!CH$27^3)/D296,\"N/A\")","v":"N/A"},{"$f":"IFERROR(Calculation!CJ$27/Calculation!CI$27/Calculation!CI$27/F296+(Calculation!CJ$27^2)/(Calculation!CI$27^3)/E296,\"N/A\")","v":"N/A"},{"$f":"IFERROR(Calculation!CK$27/Calculation!CJ$27/Calculation!CJ$27/G296+(Calculation!CK$27^2)/(Calculation!CJ$27^3)/F296,\"N/A\")","v":2.61060226258237E-4},{"$f":"IFERROR(Calculation!CL$27/Calculation!CK$27/Calculation!CK$27/H296+(Calculation!CL$27^2)/(Calculation!CK$27^3)/G296,\"N/A\")","v":1.8728749682599512E-4},{"$f":"IFERROR(Calculation!CM$27/Calculation!CL$27/Calculation!CL$27/I296+(Calculation!CM$27^2)/(Calculation!CL$27^3)/H296,\"N/A\")","v":"N/A"}]
[null,"4-Not_Asked (smoker)",{"$f":"IFERROR(Calculation!CH$27/Calculation!CG$27/Calculation!CG$27/D297+(Calculation!CH$27^2)/(Calculation!CG$27^3)/C297,\"N/A\")","v":4.3994190043915852E-5},{"$f":"IFERROR(Calculation!CI$27/Calculation!CH$27/Calculation!CH$27/E297+(Calculation!CI$27^2)/(Calculation!CH$27^3)/D297,\"N/A\")","v":6.0387035525009315E-5},{"$f":"IFERROR(Calculation!CJ$27/Calculation!CI$27/Calculation!CI$27/F297+(Calculation!CJ$27^2)/(Calculation!CI$27^3)/E297,\"N/A\")","v":7.1765540116159793E-5},{"$f":"IFERROR(Calculation!CK$27/Calculation!CJ$27/Calculation!CJ$27/G297+(Calculation!CK$27^2)/(Calculation!CJ$27^3)/F297,\"N/A\")","v":1.0404730008316772E-4},{"$f":"IFERROR(Calculation!CL$27/Calculation!CK$27/Calculation!CK$27/H297+(Calculation!CL$27^2)/(Calculation!CK$27^3)/G297,\"N/A\")","v":1.5648822389725077E-4},{"$f":"IFERROR(Calculation!CM$27/Calculation!CL$27/Calculation!CL$27/I297+(Calculation!CM$27^2)/(Calculation!CL$27^3)/H297,\"N/A\")","v":8.7044552223898691E-5}]
[null,"1-Married (marital status)",{"$f":"IFERROR(Calculation!CH$27/Calculation!CG$27/Calculation!CG$27/D298+(Calculation!CH$27^2)/(Calculation!CG$27^3)/C298,\"N/A\")","v":7.5718848269274629E-5},{"$f":"IFERROR(Calculation!CI$27/Calculation!CH$27/Calculation!CH$27/E298+(Calculation!CI$27^2)/(Calculation!CH$27^3)/D298,\"N/A\")","v":1.0495171866322414E-4},{"$f":"IFERROR(Calculation!CJ$27/Calculation!CI$27/Calculation!CI$27/F298+(Calculation!CJ$27^2)/(Calculation!CI$27^3)/E298,\"N/A\")","v":9.5865932566840066E-5},{"$f":"IFERROR(Calculation!CK$27/Calculation!CJ$27/Calculation!CJ$27/G298+(Calculation!CK$27^2)/(Calculation!CJ$27^3)/F298,\"N/A\")","v":9.1421063148908646E-5},{"$f":"IFERROR(Calculation!CL$27/Calculation!CK$27/Calculation!CK$27/H298+(Calculation!CL$27^2)/(Calculation!CK$27^3)/G298,\"N/A\")","v":8.8405510555486755E-5},{"$f":"IFERROR(Calculation!CM$27/Calculation!CL$27/Calculation!CL$27/I298+(Calculation!CM$27^2)/(Calculation!CL$27^3)/H298,\"N/A\")","v":4.1233695400019676E-5}]
[null,"2-Widowed    ",{"$f":"IFERROR(Calculation!CH$27/Calculation!CG$27/Calculation!CG$27/D299+(Calculation!CH$27^2)/(Calculation!CG$27^3)/C299,\"N/A\")","v":1.5506634810555931E-4},{"$f":"IFERROR(Calculation!CI$27/Calculation!CH$27/Calculation!CH$27/E299+(Calculation!CI$27^2)/(Calculation!CH$27^3)/D299,\"N/A\")","v":2.1167386740802893E-4},{"$f":"IFERROR(Calculation!CJ$27/Calculation!CI$27/Calculation!CI$27/F299+(Calculation!CJ$27^2)/(Calculation!CI$27^3)/E299,\"N/A\")","v":1.8195354746670985E-4},{"$f":"IFERROR(Calculation!CK$27/Calculation!CJ$27/Calculation!CJ$27/G299+(Calculation!CK$27^2)/(Calculation!CJ$27^3)/F299,\"N/A\")","v":1.6083170491364268E-4},{"$f":"IFERROR(Calculation!CL$27/Calculation!CK$27/Calculation!CK$27/H299+(Calculation!CL$27^2)/(Calculation!CK$27^3)/G299,\"N/A\")","v":1.5693655904609098E-4},{"$f":"IFERROR(Calculation!CM$27/Calculation!CL$27/Calculation!CL$27/I299+(Calculation!CM$27^2)/(Calculation!CL$27^3)/H299,\"N/A\")","v":8.868482978552002E-5}]
[null,"3-Divorced   ",{"$f":"IFERROR(Calculation!CH$27/Calculation!CG$27/Calculation!CG$27/D300+(Calculation!CH$27^2)/(Calculation!CG$27^3)/C300,\"N/A\")","v":7.5002326908595995E-4},{"$f":"IFERROR(Calculation!CI$27/Calculation!CH$27/Calculation!CH$27/E300+(Calculation!CI$27^2)/(Calculation!CH$27^3)/D300,\"N/A\")","v":9.3224427742326539E-4},{"$f":"IFERROR(Calculation!CJ$27/Calculation!CI$27/Calculation!CI$27/F300+(Calculation!CJ$27^2)/(Calculation!CI$27^3)/E300,\"N/A\")","v":7.1732252249481765E-4},{"$f":"IFERROR(Calculation!CK$27/Calculation!CJ$27/Calculation!CJ$27/G300+(Calculation!CK$27^2)/(Calculation!CJ$27^3)/F300,\"N/A\")","v":5.4965331630006057E-4},{"$f":"IFERROR(Calculation!CL$27/Calculation!CK$27/Calculation!CK$27/H300+(Calculation!CL$27^2)/(Calculation!CK$27^3)/G300,\"N/A\")","v":4.4656338454606857E-4},{"$f":"IFERROR(Calculation!CM$27/Calculation!CL$27/Calculation!CL$27/I300+(Calculation!CM$27^2)/(Calculation!CL$27^3)/H300,\"N/A\")","v":2.2648997840985766E-4}]
[null,"4-Separated  ",{"$f":"IFERROR(Calculation!CH$27/Calculation!CG$27/Calculation!CG$27/D301+(Calculation!CH$27^2)/(Calculation!CG$27^3)/C301,\"N/A\")","v":2.6463692049471231E-3},{"$f":"IFERROR(Calculation!CI$27/Calculation!CH$27/Calculation!CH$27/E301+(Calculation!CI$27^2)/(Calculation!CH$27^3)/D301,\"N/A\")","v":3.5914459839710812E-3},{"$f":"IFERROR(Calculation!CJ$27/Calculation!CI$27/Calculation!CI$27/F301+(Calculation!CJ$27^2)/(Calculation!CI$27^3)/E301,\"N/A\")","v":3.0203773100191413E-3},{"$f":"IFERROR(Calculation!CK$27/Calculation!CJ$27/Calculation!CJ$27/G301+(Calculation!CK$27^2)/(Calculation!CJ$27^3)/F301,\"N/A\")","v":2.7926457033086664E-3},{"$f":"IFERROR(Calculation!CL$27/Calculation!CK$27/Calculation!CK$27/H301+(Calculation!CL$27^2)/(Calculation!CK$27^3)/G301,\"N/A\")","v":2.7986095720969285E-3},{"$f":"IFERROR(Calculation!CM$27/Calculation!CL$27/Calculation!CL$27/I301+(Calculation!CM$27^2)/(Calculation!CL$27^3)/H301,\"N/A\")","v":1.5465116800463009E-3}]
[null,"5-NeverMar.  ",{"$f":"IFERROR(Calculation!CH$27/Calculation!CG$27/Calculation!CG$27/D302+(Calculation!CH$27^2)/(Calculation!CG$27^3)/C302,\"N/A\")","v":7.3626681296749493E-4},{"$f":"IFERROR(Calculation!CI$27/Calculation!CH$27/Calculation!CH$27/E302+(Calculation!CI$27^2)/(Calculation!CH$27^3)/D302,\"N/A\")","v":1.0552130058040837E-3},{"$f":"IFERROR(Calculation!CJ$27/Calculation!CI$27/Calculation!CI$27/F302+(Calculation!CJ$27^2)/(Calculation!CI$27^3)/E302,\"N/A\")","v":9.467656652820467E-4},{"$f":"IFERROR(Calculation!CK$27/Calculation!CJ$27/Calculation!CJ$27/G302+(Calculation!CK$27^2)/(Calculation!CJ$27^3)/F302,\"N/A\")","v":8.4734923121740791E-4},{"$f":"IFERROR(Calculation!CL$27/Calculation!CK$27/Calculation!CK$27/H302+(Calculation!CL$27^2)/(Calculation!CK$27^3)/G302,\"N/A\")","v":7.6921089346591181E-4},{"$f":"IFERROR(Calculation!CM$27/Calculation!CL$27/Calculation!CL$27/I302+(Calculation!CM$27^2)/(Calculation!CL$27^3)/H302,\"N/A\")","v":3.8979903006379545E-4}]
[null,"1-Lowest inc.  ",{"$f":"IFERROR(Calculation!CH$27/Calculation!CG$27/Calculation!CG$27/D303+(Calculation!CH$27^2)/(Calculation!CG$27^3)/C303,\"N/A\")","v":2.3894027014230478E-4},{"$f":"IFERROR(Calculation!CI$27/Calculation!CH$27/Calculation!CH$27/E303+(Calculation!CI$27^2)/(Calculation!CH$27^3)/D303,\"N/A\")","v":3.6071496645724273E-4},{"$f":"IFERROR(Calculation!CJ$27/Calculation!CI$27/Calculation!CI$27/F303+(Calculation!CJ$27^2)/(Calculation!CI$27^3)/E303,\"N/A\")","v":3.0605864846234448E-4},{"$f":"IFERROR(Calculation!CK$27/Calculation!CJ$27/Calculation!CJ$27/G303+(Calculation!CK$27^2)/(Calculation!CJ$27^3)/F303,\"N/A\")","v":2.7326410647945422E-4},{"$f":"IFERROR(Calculation!CL$27/Calculation!CK$27/Calculation!CK$27/H303+(Calculation!CL$27^2)/(Calculation!CK$27^3)/G303,\"N/A\")","v":2.7380202936090728E-4},{"$f":"IFERROR(Calculation!CM$27/Calculation!CL$27/Calculation!CL$27/I303+(Calculation!CM$27^2)/(Calculation!CL$27^3)/H303,\"N/A\")","v":1.5432687176038251E-4}]
[null,"2-Second dec.  ",{"$f":"IFERROR(Calculation!CH$27/Calculation!CG$27/Calculation!CG$27/D304+(Calculation!CH$27^2)/(Calculation!CG$27^3)/C304,\"N/A\")","v":2.1947443902089198E-4},{"$f":"IFERROR(Calculation!CI$27/Calculation!CH$27/Calculation!CH$27/E304+(Calculation!CI$27^2)/(Calculation!CH$27^3)/D304,\"N/A\")","v":3.2734406302597455E-4},{"$f":"IFERROR(Calculation!CJ$27/Calculation!CI$27/Calculation!CI$27/F304+(Calculation!CJ$27^2)/(Calculation!CI$27^3)/E304,\"N/A\")","v":2.8113964953195407E-4},{"$f":"IFERROR(Calculation!CK$27/Calculation!CJ$27/Calculation!CJ$27/G304+(Calculation!CK$27^2)/(Calculation!CJ$27^3)/F304,\"N/A\")","v":2.4971367697667344E-4},{"$f":"IFERROR(Calculation!CL$27/Calculation!CK$27/Calculation!CK$27/H304+(Calculation!CL$27^2)/(Calculation!CK$27^3)/G304,\"N/A\")","v":2.3871227908025579E-4},{"$f":"IFERROR(Calculation!CM$27/Calculation!CL$27/Calculation!CL$27/I304+(Calculation!CM$27^2)/(Calculation!CL$27^3)/H304,\"N/A\")","v":1.1863803622472554E-4}]
[null,"3-Third dec.   ",{"$f":"IFERROR(Calculation!CH$27/Calculation!CG$27/Calculation!CG$27/D305+(Calculation!CH$27^2)/(Calculation!CG$27^3)/C305,\"N/A\")","v":3.373549270423307E-4},{"$f":"IFERROR(Calculation!CI$27/Calculation!CH$27/Calculation!CH$27/E305+(Calculation!CI$27^2)/(Calculation!CH$27^3)/D305,\"N/A\")","v":4.0634374856137736E-4},{"$f":"IFERROR(Calculation!CJ$27/Calculation!CI$27/Calculation!CI$27/F305+(Calculation!CJ$27^2)/(Calculation!CI$27^3)/E305,\"N/A\")","v":3.4970195631906615E-4},{"$f":"IFERROR(Calculation!CK$27/Calculation!CJ$27/Calculation!CJ$27/G305+(Calculation!CK$27^2)/(Calculation!CJ$27^3)/F305,\"N/A\")","v":3.1421364934278769E-4},{"$f":"IFERROR(Calculation!CL$27/Calculation!CK$27/Calculation!CK$27/H305+(Calculation!CL$27^2)/(Calculation!CK$27^3)/G305,\"N/A\")","v":3.0924208691888088E-4},{"$f":"IFERROR(Calculation!CM$27/Calculation!CL$27/Calculation!CL$27/I305+(Calculation!CM$27^2)/(Calculation!CL$27^3)/H305,\"N/A\")","v":1.5190451182775771E-4}]
[null,"4-Fourth dec.  ",{"$f":"IFERROR(Calculation!CH$27/Calculation!CG$27/Calculation!CG$27/D306+(Calculation!CH$27^2)/(Calculation!CG$27^3)/C306,\"N/A\")","v":3.9349923419304371E-4},{"$f":"IFERROR(Calculation!CI$27/Calculation!CH$27/Calculation!CH$27/E306+(Calculation!CI$27^2)/(Calculation!CH$27^3)/D306,\"N/A\")","v":5.1555867916562787E-4},{"$f":"IFERROR(Calculation!CJ$27/Calculation!CI$27/Calculation!CI$27/F306+(Calculation!CJ$27^2)/(Calculation!CI$27^3)/E306,\"N/A\")","v":4.6267350975253807E-4},{"$f":"IFERROR(Calculation!CK$27/Calculation!CJ$27/Calculation!CJ$27/G306+(Calculation!CK$27^2)/(Calculation!CJ$27^3)/F306,\"N/A\")","v":4.2363872403993337E-4},{"$f":"IFERROR(Calculation!CL$27/Calculation!CK$27/Calculation!CK$27/H306+(Calculation!CL$27^2)/(Calculation!CK$27^3)/G306,\"N/A\")","v":3.9838709258840032E-4},{"$f":"IFERROR(Calculation!CM$27/Calculation!CL$27/Calculation!CL$27/I306+(Calculation!CM$27^2)/(Calculation!CL$27^3)/H306,\"N/A\")","v":1.8419443731245019E-4}]
[null,"5-Fifth dec.   ",{"$f":"IFERROR(Calculation!CH$27/Calculation!CG$27/Calculation!CG$27/D307+(Calculation!CH$27^2)/(Calculation!CG$27^3)/C307,\"N/A\")","v":4.9532369398335926E-4},{"$f":"IFERROR(Calculation!CI$27/Calculation!CH$27/Calculation!CH$27/E307+(Calculation!CI$27^2)/(Calculation!CH$27^3)/D307,\"N/A\")","v":6.8068616536020188E-4},{"$f":"IFERROR(Calculation!CJ$27/Calculation!CI$27/Calculation!CI$27/F307+(Calculation!CJ$27^2)/(Calculation!CI$27^3)/E307,\"N/A\")","v":5.9587403687559755E-4},{"$f":"IFERROR(Calculation!CK$27/Calculation!CJ$27/Calculation!CJ$27/G307+(Calculation!CK$27^2)/(Calculation!CJ$27^3)/F307,\"N/A\")","v":5.5843843537022693E-4},{"$f":"IFERROR(Calculation!CL$27/Calculation!CK$27/Calculation!CK$27/H307+(Calculation!CL$27^2)/(Calculation!CK$27^3)/G307,\"N/A\")","v":5.236966235484204E-4},{"$f":"IFERROR(Calculation!CM$27/Calculation!CL$27/Calculation!CL$27/I307+(Calculation!CM$27^2)/(Calculation!CL$27^3)/H307,\"N/A\")","v":2.3730669455177564E-4}]
[null,"6-Sixth dec.   ",{"$f":"IFERROR(Calculation!CH$27/Calculation!CG$27/Calculation!CG$27/D308+(Calculation!CH$27^2)/(Calculation!CG$27^3)/C308,\"N/A\")","v":5.9506772223244682E-4},{"$f":"IFERROR(Calculation!CI$27/Calculation!CH$27/Calculation!CH$27/E308+(Calculation!CI$27^2)/(Calculation!CH$27^3)/D308,\"N/A\")","v":7.8645144257766459E-4},{"$f":"IFERROR(Calculation!CJ$27/Calculation!CI$27/Calculation!CI$27/F308+(Calculation!CJ$27^2)/(Calculation!CI$27^3)/E308,\"N/A\")","v":7.2739710465592885E-4},{"$f":"IFERROR(Calculation!CK$27/Calculation!CJ$27/Calculation!CJ$27/G308+(Calculation!CK$27^2)/(Calculation!CJ$27^3)/F308,\"N/A\")","v":6.8924441759292355E-4},{"$f":"IFERROR(Calculation!CL$27/Calculation!CK$27/Calculation!CK$27/H308+(Calculation!CL$27^2)/(Calculation!CK$27^3)/G308,\"N/A\")","v":6.6919343337933969E-4},{"$f":"IFERROR(Calculation!CM$27/Calculation!CL$27/Calculation!CL$27/I308+(Calculation!CM$27^2)/(Calculation!CL$27^3)/H308,\"N/A\")","v":3.325282487099474E-4}]
[null,"7-Seventh dec. ",{"$f":"IFERROR(Calculation!CH$27/Calculation!CG$27/Calculation!CG$27/D309+(Calculation!CH$27^2)/(Calculation!CG$27^3)/C309,\"N/A\")","v":1.0973604723053185E-3},{"$f":"IFERROR(Calculation!CI$27/Calculation!CH$27/Calculation!CH$27/E309+(Calculation!CI$27^2)/(Calculation!CH$27^3)/D309,\"N/A\")","v":9.0346259609126907E-4},{"$f":"IFERROR(Calculation!CJ$27/Calculation!CI$27/Calculation!CI$27/F309+(Calculation!CJ$27^2)/(Calculation!CI$27^3)/E309,\"N/A\")","v":8.6717732847701686E-4},{"$f":"IFERROR(Calculation!CK$27/Calculation!CJ$27/Calculation!CJ$27/G309+(Calculation!CK$27^2)/(Calculation!CJ$27^3)/F309,\"N/A\")","v":8.0523329834361135E-4},{"$f":"IFERROR(Calculation!CL$27/Calculation!CK$27/Calculation!CK$27/H309+(Calculation!CL$27^2)/(Calculation!CK$27^3)/G309,\"N/A\")","v":7.2723255088074116E-4},{"$f":"IFERROR(Calculation!CM$27/Calculation!CL$27/Calculation!CL$27/I309+(Calculation!CM$27^2)/(Calculation!CL$27^3)/H309,\"N/A\")","v":3.3635093735794638E-4}]
[null,"8-Eighth dec.  ",{"$f":"IFERROR(Calculation!CH$27/Calculation!CG$27/Calculation!CG$27/D310+(Calculation!CH$27^2)/(Calculation!CG$27^3)/C310,\"N/A\")","v":7.7124225178669642E-4},{"$f":"IFERROR(Calculation!CI$27/Calculation!CH$27/Calculation!CH$27/E310+(Calculation!CI$27^2)/(Calculation!CH$27^3)/D310,\"N/A\")","v":1.2011716718477088E-3},{"$f":"IFERROR(Calculation!CJ$27/Calculation!CI$27/Calculation!CI$27/F310+(Calculation!CJ$27^2)/(Calculation!CI$27^3)/E310,\"N/A\")","v":1.1273305270201219E-3},{"$f":"IFERROR(Calculation!CK$27/Calculation!CJ$27/Calculation!CJ$27/G310+(Calculation!CK$27^2)/(Calculation!CJ$27^3)/F310,\"N/A\")","v":1.0783364001488863E-3},{"$f":"IFERROR(Calculation!CL$27/Calculation!CK$27/Calculation!CK$27/H310+(Calculation!CL$27^2)/(Calculation!CK$27^3)/G310,\"N/A\")","v":9.8536232883095123E-4},{"$f":"IFERROR(Calculation!CM$27/Calculation!CL$27/Calculation!CL$27/I310+(Calculation!CM$27^2)/(Calculation!CL$27^3)/H310,\"N/A\")","v":4.5317349825869382E-4}]
[null,"9-Ninth dec.   ",{"$f":"IFERROR(Calculation!CH$27/Calculation!CG$27/Calculation!CG$27/D311+(Calculation!CH$27^2)/(Calculation!CG$27^3)/C311,\"N/A\")","v":1.4519460717175917E-3},{"$f":"IFERROR(Calculation!CI$27/Calculation!CH$27/Calculation!CH$27/E311+(Calculation!CI$27^2)/(Calculation!CH$27^3)/D311,\"N/A\")","v":1.0963038407915955E-3},{"$f":"IFERROR(Calculation!CJ$27/Calculation!CI$27/Calculation!CI$27/F311+(Calculation!CJ$27^2)/(Calculation!CI$27^3)/E311,\"N/A\")","v":1.0746252615128804E-3},{"$f":"IFERROR(Calculation!CK$27/Calculation!CJ$27/Calculation!CJ$27/G311+(Calculation!CK$27^2)/(Calculation!CJ$27^3)/F311,\"N/A\")","v":1.0141022824962738E-3},{"$f":"IFERROR(Calculation!CL$27/Calculation!CK$27/Calculation!CK$27/H311+(Calculation!CL$27^2)/(Calculation!CK$27^3)/G311,\"N/A\")","v":8.8106248914042527E-4},{"$f":"IFERROR(Calculation!CM$27/Calculation!CL$27/Calculation!CL$27/I311+(Calculation!CM$27^2)/(Calculation!CL$27^3)/H311,\"N/A\")","v":4.1449455031717736E-4}]
[null,"10-Highest dec. (family income in 2008$)",{"$f":"IFERROR(Calculation!CH$27/Calculation!CG$27/Calculation!CG$27/D312+(Calculation!CH$27^2)/(Calculation!CG$27^3)/C312,\"N/A\")","v":1.1898207877954192E-3},{"$f":"IFERROR(Calculation!CI$27/Calculation!CH$27/Calculation!CH$27/E312+(Calculation!CI$27^2)/(Calculation!CH$27^3)/D312,\"N/A\")","v":1.3613723307204038E-3},{"$f":"IFERROR(Calculation!CJ$27/Calculation!CI$27/Calculation!CI$27/F312+(Calculation!CJ$27^2)/(Calculation!CI$27^3)/E312,\"N/A\")","v":1.2205676846164825E-3},{"$f":"IFERROR(Calculation!CK$27/Calculation!CJ$27/Calculation!CJ$27/G312+(Calculation!CK$27^2)/(Calculation!CJ$27^3)/F312,\"N/A\")","v":1.1046642602160111E-3},{"$f":"IFERROR(Calculation!CL$27/Calculation!CK$27/Calculation!CK$27/H312+(Calculation!CL$27^2)/(Calculation!CK$27^3)/G312,\"N/A\")","v":9.3869855721473374E-4},{"$f":"IFERROR(Calculation!CM$27/Calculation!CL$27/Calculation!CL$27/I312+(Calculation!CM$27^2)/(Calculation!CL$27^3)/H312,\"N/A\")","v":4.2086569806384238E-4}]
[null,"1-Dropout      ",{"$f":"IFERROR(Calculation!CH$27/Calculation!CG$27/Calculation!CG$27/D313+(Calculation!CH$27^2)/(Calculation!CG$27^3)/C313,\"N/A\")","v":8.4214725405836518E-5},{"$f":"IFERROR(Calculation!CI$27/Calculation!CH$27/Calculation!CH$27/E313+(Calculation!CI$27^2)/(Calculation!CH$27^3)/D313,\"N/A\")","v":1.2663225356314414E-4},{"$f":"IFERROR(Calculation!CJ$27/Calculation!CI$27/Calculation!CI$27/F313+(Calculation!CJ$27^2)/(Calculation!CI$27^3)/E313,\"N/A\")","v":1.2387933754507178E-4},{"$f":"IFERROR(Calculation!CK$27/Calculation!CJ$27/Calculation!CJ$27/G313+(Calculation!CK$27^2)/(Calculation!CJ$27^3)/F313,\"N/A\")","v":1.2844485767364008E-4},{"$f":"IFERROR(Calculation!CL$27/Calculation!CK$27/Calculation!CK$27/H313+(Calculation!CL$27^2)/(Calculation!CK$27^3)/G313,\"N/A\")","v":1.3680632942942477E-4},{"$f":"IFERROR(Calculation!CM$27/Calculation!CL$27/Calculation!CL$27/I313+(Calculation!CM$27^2)/(Calculation!CL$27^3)/H313,\"N/A\")","v":7.2049571330314724E-5}]
[null,"2-H.S.Diploma (education)      ",{"$f":"IFERROR(Calculation!CH$27/Calculation!CG$27/Calculation!CG$27/D314+(Calculation!CH$27^2)/(Calculation!CG$27^3)/C314,\"N/A\")","v":1.5320340215027074E-4},{"$f":"IFERROR(Calculation!CI$27/Calculation!CH$27/Calculation!CH$27/E314+(Calculation!CI$27^2)/(Calculation!CH$27^3)/D314,\"N/A\")","v":1.9142094023411082E-4},{"$f":"IFERROR(Calculation!CJ$27/Calculation!CI$27/Calculation!CI$27/F314+(Calculation!CJ$27^2)/(Calculation!CI$27^3)/E314,\"N/A\")","v":1.6274696474769402E-4},{"$f":"IFERROR(Calculation!CK$27/Calculation!CJ$27/Calculation!CJ$27/G314+(Calculation!CK$27^2)/(Calculation!CJ$27^3)/F314,\"N/A\")","v":1.4635120292778145E-4},{"$f":"IFERROR(Calculation!CL$27/Calculation!CK$27/Calculation!CK$27/H314+(Calculation!CL$27^2)/(Calculation!CK$27^3)/G314,\"N/A\")","v":1.3370408092584966E-4},{"$f":"IFERROR(Calculation!CM$27/Calculation!CL$27/Calculation!CL$27/I314+(Calculation!CM$27^2)/(Calculation!CL$27^3)/H314,\"N/A\")","v":6.3208401076133075E-5}]
[null,"3-SomeColl/AA  ",{"$f":"IFERROR(Calculation!CH$27/Calculation!CG$27/Calculation!CG$27/D315+(Calculation!CH$27^2)/(Calculation!CG$27^3)/C315,\"N/A\")","v":4.472594430950153E-4},{"$f":"IFERROR(Calculation!CI$27/Calculation!CH$27/Calculation!CH$27/E315+(Calculation!CI$27^2)/(Calculation!CH$27^3)/D315,\"N/A\")","v":5.698767241251396E-4},{"$f":"IFERROR(Calculation!CJ$27/Calculation!CI$27/Calculation!CI$27/F315+(Calculation!CJ$27^2)/(Calculation!CI$27^3)/E315,\"N/A\")","v":4.1935489093807482E-4},{"$f":"IFERROR(Calculation!CK$27/Calculation!CJ$27/Calculation!CJ$27/G315+(Calculation!CK$27^2)/(Calculation!CJ$27^3)/F315,\"N/A\")","v":2.9860210293187149E-4},{"$f":"IFERROR(Calculation!CL$27/Calculation!CK$27/Calculation!CK$27/H315+(Calculation!CL$27^2)/(Calculation!CK$27^3)/G315,\"N/A\")","v":2.600772383677942E-4},{"$f":"IFERROR(Calculation!CM$27/Calculation!CL$27/Calculation!CL$27/I315+(Calculation!CM$27^2)/(Calculation!CL$27^3)/H315,\"N/A\")","v":1.1697634740663566E-4}]
[null,"4-4yr.Degree   ",{"$f":"IFERROR(Calculation!CH$27/Calculation!CG$27/Calculation!CG$27/D316+(Calculation!CH$27^2)/(Calculation!CG$27^3)/C316,\"N/A\")","v":8.1833903217008025E-4},{"$f":"IFERROR(Calculation!CI$27/Calculation!CH$27/Calculation!CH$27/E316+(Calculation!CI$27^2)/(Calculation!CH$27^3)/D316,\"N/A\")","v":1.0447739942294227E-3},{"$f":"IFERROR(Calculation!CJ$27/Calculation!CI$27/Calculation!CI$27/F316+(Calculation!CJ$27^2)/(Calculation!CI$27^3)/E316,\"N/A\")","v":8.2447324412964363E-4},{"$f":"IFERROR(Calculation!CK$27/Calculation!CJ$27/Calculation!CJ$27/G316+(Calculation!CK$27^2)/(Calculation!CJ$27^3)/F316,\"N/A\")","v":6.2412157377440076E-4},{"$f":"IFERROR(Calculation!CL$27/Calculation!CK$27/Calculation!CK$27/H316+(Calculation!CL$27^2)/(Calculation!CK$27^3)/G316,\"N/A\")","v":5.2726978482290807E-4},{"$f":"IFERROR(Calculation!CM$27/Calculation!CL$27/Calculation!CL$27/I316+(Calculation!CM$27^2)/(Calculation!CL$27^3)/H316,\"N/A\")","v":2.4395835632078723E-4}]
[null,"5-Grad.Degree  ",{"$f":"IFERROR(Calculation!CH$27/Calculation!CG$27/Calculation!CG$27/D317+(Calculation!CH$27^2)/(Calculation!CG$27^3)/C317,\"N/A\")","v":1.2414197630400939E-3},{"$f":"IFERROR(Calculation!CI$27/Calculation!CH$27/Calculation!CH$27/E317+(Calculation!CI$27^2)/(Calculation!CH$27^3)/D317,\"N/A\")","v":1.4801447437695855E-3},{"$f":"IFERROR(Calculation!CJ$27/Calculation!CI$27/Calculation!CI$27/F317+(Calculation!CJ$27^2)/(Calculation!CI$27^3)/E317,\"N/A\")","v":1.2199142559093531E-3},{"$f":"IFERROR(Calculation!CK$27/Calculation!CJ$27/Calculation!CJ$27/G317+(Calculation!CK$27^2)/(Calculation!CJ$27^3)/F317,\"N/A\")","v":1.1103131954995501E-3},{"$f":"IFERROR(Calculation!CL$27/Calculation!CK$27/Calculation!CK$27/H317+(Calculation!CL$27^2)/(Calculation!CK$27^3)/G317,\"N/A\")","v":9.6733173351841017E-4},{"$f":"IFERROR(Calculation!CM$27/Calculation!CL$27/Calculation!CL$27/I317+(Calculation!CM$27^2)/(Calculation!CL$27^3)/H317,\"N/A\")","v":4.4113314999769549E-4}]
[null,"1-White NH (ethnic/race)     ",{"$f":"IFERROR(Calculation!CH$27/Calculation!CG$27/Calculation!CG$27/D318+(Calculation!CH$27^2)/(Calculation!CG$27^3)/C318,\"N/A\")","v":8.4340819313607026E-5},{"$f":"IFERROR(Calculation!CI$27/Calculation!CH$27/Calculation!CH$27/E318+(Calculation!CI$27^2)/(Calculation!CH$27^3)/D318,\"N/A\")","v":1.0239688616495317E-4},{"$f":"IFERROR(Calculation!CJ$27/Calculation!CI$27/Calculation!CI$27/F318+(Calculation!CJ$27^2)/(Calculation!CI$27^3)/E318,\"N/A\")","v":6.5841160349403103E-5},{"$f":"IFERROR(Calculation!CK$27/Calculation!CJ$27/Calculation!CJ$27/G318+(Calculation!CK$27^2)/(Calculation!CJ$27^3)/F318,\"N/A\")","v":6.0952083438525751E-5},{"$f":"IFERROR(Calculation!CL$27/Calculation!CK$27/Calculation!CK$27/H318+(Calculation!CL$27^2)/(Calculation!CK$27^3)/G318,\"N/A\")","v":5.9970205116362741E-5},{"$f":"IFERROR(Calculation!CM$27/Calculation!CL$27/Calculation!CL$27/I318+(Calculation!CM$27^2)/(Calculation!CL$27^3)/H318,\"N/A\")","v":2.9498287258707192E-5}]
[null,"2-Black NH     ",{"$f":"IFERROR(Calculation!CH$27/Calculation!CG$27/Calculation!CG$27/D319+(Calculation!CH$27^2)/(Calculation!CG$27^3)/C319,\"N/A\")","v":6.9444916490167281E-4},{"$f":"IFERROR(Calculation!CI$27/Calculation!CH$27/Calculation!CH$27/E319+(Calculation!CI$27^2)/(Calculation!CH$27^3)/D319,\"N/A\")","v":9.1894841138729082E-4},{"$f":"IFERROR(Calculation!CJ$27/Calculation!CI$27/Calculation!CI$27/F319+(Calculation!CJ$27^2)/(Calculation!CI$27^3)/E319,\"N/A\")","v":6.3914872153665266E-4},{"$f":"IFERROR(Calculation!CK$27/Calculation!CJ$27/Calculation!CJ$27/G319+(Calculation!CK$27^2)/(Calculation!CJ$27^3)/F319,\"N/A\")","v":5.5964323719018619E-4},{"$f":"IFERROR(Calculation!CL$27/Calculation!CK$27/Calculation!CK$27/H319+(Calculation!CL$27^2)/(Calculation!CK$27^3)/G319,\"N/A\")","v":4.8934993625621885E-4},{"$f":"IFERROR(Calculation!CM$27/Calculation!CL$27/Calculation!CL$27/I319+(Calculation!CM$27^2)/(Calculation!CL$27^3)/H319,\"N/A\")","v":2.1905987104093704E-4}]
[null,"3-Asian NH     ",{"$f":"IFERROR(Calculation!CH$27/Calculation!CG$27/Calculation!CG$27/D320+(Calculation!CH$27^2)/(Calculation!CG$27^3)/C320,\"N/A\")","v":8.0777487591345148E-3},{"$f":"IFERROR(Calculation!CI$27/Calculation!CH$27/Calculation!CH$27/E320+(Calculation!CI$27^2)/(Calculation!CH$27^3)/D320,\"N/A\")","v":9.4374760312150308E-3},{"$f":"IFERROR(Calculation!CJ$27/Calculation!CI$27/Calculation!CI$27/F320+(Calculation!CJ$27^2)/(Calculation!CI$27^3)/E320,\"N/A\")","v":5.1131897722932213E-3},{"$f":"IFERROR(Calculation!CK$27/Calculation!CJ$27/Calculation!CJ$27/G320+(Calculation!CK$27^2)/(Calculation!CJ$27^3)/F320,\"N/A\")","v":3.8569746678880391E-3},{"$f":"IFERROR(Calculation!CL$27/Calculation!CK$27/Calculation!CK$27/H320+(Calculation!CL$27^2)/(Calculation!CK$27^3)/G320,\"N/A\")","v":2.7249836830478139E-3},{"$f":"IFERROR(Calculation!CM$27/Calculation!CL$27/Calculation!CL$27/I320+(Calculation!CM$27^2)/(Calculation!CL$27^3)/H320,\"N/A\")","v":1.0031673402839491E-3}]
[null,"4-Hispanic     ",{"$f":"IFERROR(Calculation!CH$27/Calculation!CG$27/Calculation!CG$27/D321+(Calculation!CH$27^2)/(Calculation!CG$27^3)/C321,\"N/A\")","v":1.3020985911881794E-3},{"$f":"IFERROR(Calculation!CI$27/Calculation!CH$27/Calculation!CH$27/E321+(Calculation!CI$27^2)/(Calculation!CH$27^3)/D321,\"N/A\")","v":1.4428204283379689E-3},{"$f":"IFERROR(Calculation!CJ$27/Calculation!CI$27/Calculation!CI$27/F321+(Calculation!CJ$27^2)/(Calculation!CI$27^3)/E321,\"N/A\")","v":1.1059114456017443E-3},{"$f":"IFERROR(Calculation!CK$27/Calculation!CJ$27/Calculation!CJ$27/G321+(Calculation!CK$27^2)/(Calculation!CJ$27^3)/F321,\"N/A\")","v":8.3877339082706018E-4},{"$f":"IFERROR(Calculation!CL$27/Calculation!CK$27/Calculation!CK$27/H321+(Calculation!CL$27^2)/(Calculation!CK$27^3)/G321,\"N/A\")","v":6.8100419453701933E-4},{"$f":"IFERROR(Calculation!CM$27/Calculation!CL$27/Calculation!CL$27/I321+(Calculation!CM$27^2)/(Calculation!CL$27^3)/H321,\"N/A\")","v":3.1523166707514579E-4}]
[null,"5-Other NH     ",{"$f":"IFERROR(Calculation!CH$27/Calculation!CG$27/Calculation!CG$27/D322+(Calculation!CH$27^2)/(Calculation!CG$27^3)/C322,\"N/A\")","v":5.7225077375634757E-4},{"$f":"IFERROR(Calculation!CI$27/Calculation!CH$27/Calculation!CH$27/E322+(Calculation!CI$27^2)/(Calculation!CH$27^3)/D322,\"N/A\")","v":7.0047398506319081E-4},{"$f":"IFERROR(Calculation!CJ$27/Calculation!CI$27/Calculation!CI$27/F322+(Calculation!CJ$27^2)/(Calculation!CI$27^3)/E322,\"N/A\")","v":1.1606639927764938E-3},{"$f":"IFERROR(Calculation!CK$27/Calculation!CJ$27/Calculation!CJ$27/G322+(Calculation!CK$27^2)/(Calculation!CJ$27^3)/F322,\"N/A\")","v":1.145555697788105E-3},{"$f":"IFERROR(Calculation!CL$27/Calculation!CK$27/Calculation!CK$27/H322+(Calculation!CL$27^2)/(Calculation!CK$27^3)/G322,\"N/A\")","v":1.0256145246212156E-3},{"$f":"IFERROR(Calculation!CM$27/Calculation!CL$27/Calculation!CL$27/I322+(Calculation!CM$27^2)/(Calculation!CL$27^3)/H322,\"N/A\")","v":6.1033905038166206E-4}]
[null,"1-Employed  (Labor force)",{"$f":"IFERROR(Calculation!CH$27/Calculation!CG$27/Calculation!CG$27/D323+(Calculation!CH$27^2)/(Calculation!CG$27^3)/C323,\"N/A\")","v":2.0350415187839259E-4},{"$f":"IFERROR(Calculation!CI$27/Calculation!CH$27/Calculation!CH$27/E323+(Calculation!CI$27^2)/(Calculation!CH$27^3)/D323,\"N/A\")","v":2.8677778937839278E-4},{"$f":"IFERROR(Calculation!CJ$27/Calculation!CI$27/Calculation!CI$27/F323+(Calculation!CJ$27^2)/(Calculation!CI$27^3)/E323,\"N/A\")","v":2.6801220845623815E-4},{"$f":"IFERROR(Calculation!CK$27/Calculation!CJ$27/Calculation!CJ$27/G323+(Calculation!CK$27^2)/(Calculation!CJ$27^3)/F323,\"N/A\")","v":2.5481934151786931E-4},{"$f":"IFERROR(Calculation!CL$27/Calculation!CK$27/Calculation!CK$27/H323+(Calculation!CL$27^2)/(Calculation!CK$27^3)/G323,\"N/A\")","v":2.2922403501279771E-4},{"$f":"IFERROR(Calculation!CM$27/Calculation!CL$27/Calculation!CL$27/I323+(Calculation!CM$27^2)/(Calculation!CL$27^3)/H323,\"N/A\")","v":1.0669809348743105E-4}]
[null,"2-Unemployed   ",{"$f":"IFERROR(Calculation!CH$27/Calculation!CG$27/Calculation!CG$27/D324+(Calculation!CH$27^2)/(Calculation!CG$27^3)/C324,\"N/A\")","v":3.228359241851283E-3},{"$f":"IFERROR(Calculation!CI$27/Calculation!CH$27/Calculation!CH$27/E324+(Calculation!CI$27^2)/(Calculation!CH$27^3)/D324,\"N/A\")","v":5.2425601278595435E-3},{"$f":"IFERROR(Calculation!CJ$27/Calculation!CI$27/Calculation!CI$27/F324+(Calculation!CJ$27^2)/(Calculation!CI$27^3)/E324,\"N/A\")","v":4.7136028033485993E-3},{"$f":"IFERROR(Calculation!CK$27/Calculation!CJ$27/Calculation!CJ$27/G324+(Calculation!CK$27^2)/(Calculation!CJ$27^3)/F324,\"N/A\")","v":4.768477240678309E-3},{"$f":"IFERROR(Calculation!CL$27/Calculation!CK$27/Calculation!CK$27/H324+(Calculation!CL$27^2)/(Calculation!CK$27^3)/G324,\"N/A\")","v":4.8790479903769004E-3},{"$f":"IFERROR(Calculation!CM$27/Calculation!CL$27/Calculation!CL$27/I324+(Calculation!CM$27^2)/(Calculation!CL$27^3)/H324,\"N/A\")","v":2.0254339715639457E-3}]
[null,"3-NILF         ",{"$f":"IFERROR(Calculation!CH$27/Calculation!CG$27/Calculation!CG$27/D325+(Calculation!CH$27^2)/(Calculation!CG$27^3)/C325,\"N/A\")","v":5.7167615360817278E-5},{"$f":"IFERROR(Calculation!CI$27/Calculation!CH$27/Calculation!CH$27/E325+(Calculation!CI$27^2)/(Calculation!CH$27^3)/D325,\"N/A\")","v":7.7655307224638268E-5},{"$f":"IFERROR(Calculation!CJ$27/Calculation!CI$27/Calculation!CI$27/F325+(Calculation!CJ$27^2)/(Calculation!CI$27^3)/E325,\"N/A\")","v":6.7705170601946242E-5},{"$f":"IFERROR(Calculation!CK$27/Calculation!CJ$27/Calculation!CJ$27/G325+(Calculation!CK$27^2)/(Calculation!CJ$27^3)/F325,\"N/A\")","v":6.103811801131179E-5},{"$f":"IFERROR(Calculation!CL$27/Calculation!CK$27/Calculation!CK$27/H325+(Calculation!CL$27^2)/(Calculation!CK$27^3)/G325,\"N/A\")","v":5.8740630324019078E-5},{"$f":"IFERROR(Calculation!CM$27/Calculation!CL$27/Calculation!CL$27/I325+(Calculation!CM$27^2)/(Calculation!CL$27^3)/H325,\"N/A\")","v":2.868830097624014E-5}]
[null,"1-Prof./Managerial (occ.)",{"$f":"IFERROR(Calculation!CH$27/Calculation!CG$27/Calculation!CG$27/D326+(Calculation!CH$27^2)/(Calculation!CG$27^3)/C326,\"N/A\")","v":1.5987961566953474E-3},{"$f":"IFERROR(Calculation!CI$27/Calculation!CH$27/Calculation!CH$27/E326+(Calculation!CI$27^2)/(Calculation!CH$27^3)/D326,\"N/A\")","v":2.0875692568501384E-3},{"$f":"IFERROR(Calculation!CJ$27/Calculation!CI$27/Calculation!CI$27/F326+(Calculation!CJ$27^2)/(Calculation!CI$27^3)/E326,\"N/A\")","v":1.8748190847036146E-3},{"$f":"IFERROR(Calculation!CK$27/Calculation!CJ$27/Calculation!CJ$27/G326+(Calculation!CK$27^2)/(Calculation!CJ$27^3)/F326,\"N/A\")","v":1.7655443084001821E-3},{"$f":"IFERROR(Calculation!CL$27/Calculation!CK$27/Calculation!CK$27/H326+(Calculation!CL$27^2)/(Calculation!CK$27^3)/G326,\"N/A\")","v":1.5450460156561407E-3},{"$f":"IFERROR(Calculation!CM$27/Calculation!CL$27/Calculation!CL$27/I326+(Calculation!CM$27^2)/(Calculation!CL$27^3)/H326,\"N/A\")","v":6.6274450032745096E-4}]
[null,"2-Sklld/Sales  ",{"$f":"IFERROR(Calculation!CH$27/Calculation!CG$27/Calculation!CG$27/D327+(Calculation!CH$27^2)/(Calculation!CG$27^3)/C327,\"N/A\")","v":6.3704070746495897E-4},{"$f":"IFERROR(Calculation!CI$27/Calculation!CH$27/Calculation!CH$27/E327+(Calculation!CI$27^2)/(Calculation!CH$27^3)/D327,\"N/A\")","v":8.6501176507730116E-4},{"$f":"IFERROR(Calculation!CJ$27/Calculation!CI$27/Calculation!CI$27/F327+(Calculation!CJ$27^2)/(Calculation!CI$27^3)/E327,\"N/A\")","v":8.0349389344440631E-4},{"$f":"IFERROR(Calculation!CK$27/Calculation!CJ$27/Calculation!CJ$27/G327+(Calculation!CK$27^2)/(Calculation!CJ$27^3)/F327,\"N/A\")","v":7.8096164891703224E-4},{"$f":"IFERROR(Calculation!CL$27/Calculation!CK$27/Calculation!CK$27/H327+(Calculation!CL$27^2)/(Calculation!CK$27^3)/G327,\"N/A\")","v":7.3436643372214898E-4},{"$f":"IFERROR(Calculation!CM$27/Calculation!CL$27/Calculation!CL$27/I327+(Calculation!CM$27^2)/(Calculation!CL$27^3)/H327,\"N/A\")","v":3.3728414365871061E-4}]
[null,"3-BlueCol.Lgt  ",{"$f":"IFERROR(Calculation!CH$27/Calculation!CG$27/Calculation!CG$27/D328+(Calculation!CH$27^2)/(Calculation!CG$27^3)/C328,\"N/A\")","v":8.3596016432356047E-4},{"$f":"IFERROR(Calculation!CI$27/Calculation!CH$27/Calculation!CH$27/E328+(Calculation!CI$27^2)/(Calculation!CH$27^3)/D328,\"N/A\")","v":1.1959164409257265E-3},{"$f":"IFERROR(Calculation!CJ$27/Calculation!CI$27/Calculation!CI$27/F328+(Calculation!CJ$27^2)/(Calculation!CI$27^3)/E328,\"N/A\")","v":1.1248914508221689E-3},{"$f":"IFERROR(Calculation!CK$27/Calculation!CJ$27/Calculation!CJ$27/G328+(Calculation!CK$27^2)/(Calculation!CJ$27^3)/F328,\"N/A\")","v":1.166245715863279E-3},{"$f":"IFERROR(Calculation!CL$27/Calculation!CK$27/Calculation!CK$27/H328+(Calculation!CL$27^2)/(Calculation!CK$27^3)/G328,\"N/A\")","v":1.0700042309293447E-3},{"$f":"IFERROR(Calculation!CM$27/Calculation!CL$27/Calculation!CL$27/I328+(Calculation!CM$27^2)/(Calculation!CL$27^3)/H328,\"N/A\")","v":4.3788840455497718E-4}]
[null,"4-BlueCol.Hvy  ",{"$f":"IFERROR(Calculation!CH$27/Calculation!CG$27/Calculation!CG$27/D329+(Calculation!CH$27^2)/(Calculation!CG$27^3)/C329,\"N/A\")","v":4.3093222661052779E-4},{"$f":"IFERROR(Calculation!CI$27/Calculation!CH$27/Calculation!CH$27/E329+(Calculation!CI$27^2)/(Calculation!CH$27^3)/D329,\"N/A\")","v":6.4642179632878253E-4},{"$f":"IFERROR(Calculation!CJ$27/Calculation!CI$27/Calculation!CI$27/F329+(Calculation!CJ$27^2)/(Calculation!CI$27^3)/E329,\"N/A\")","v":6.6279619005693482E-4},{"$f":"IFERROR(Calculation!CK$27/Calculation!CJ$27/Calculation!CJ$27/G329+(Calculation!CK$27^2)/(Calculation!CJ$27^3)/F329,\"N/A\")","v":7.0106004876268235E-4},{"$f":"IFERROR(Calculation!CL$27/Calculation!CK$27/Calculation!CK$27/H329+(Calculation!CL$27^2)/(Calculation!CK$27^3)/G329,\"N/A\")","v":6.7543077381365538E-4},{"$f":"IFERROR(Calculation!CM$27/Calculation!CL$27/Calculation!CL$27/I329+(Calculation!CM$27^2)/(Calculation!CL$27^3)/H329,\"N/A\")","v":3.0761843740140661E-4}]
[null,"5-Medical.Occ  ",{"$f":"IFERROR(Calculation!CH$27/Calculation!CG$27/Calculation!CG$27/D330+(Calculation!CH$27^2)/(Calculation!CG$27^3)/C330,\"N/A\")","v":3.8841881251192537E-3},{"$f":"IFERROR(Calculation!CI$27/Calculation!CH$27/Calculation!CH$27/E330+(Calculation!CI$27^2)/(Calculation!CH$27^3)/D330,\"N/A\")","v":5.6398315255224941E-3},{"$f":"IFERROR(Calculation!CJ$27/Calculation!CI$27/Calculation!CI$27/F330+(Calculation!CJ$27^2)/(Calculation!CI$27^3)/E330,\"N/A\")","v":5.0793237238683335E-3},{"$f":"IFERROR(Calculation!CK$27/Calculation!CJ$27/Calculation!CJ$27/G330+(Calculation!CK$27^2)/(Calculation!CJ$27^3)/F330,\"N/A\")","v":4.3308605796307104E-3},{"$f":"IFERROR(Calculation!CL$27/Calculation!CK$27/Calculation!CK$27/H330+(Calculation!CL$27^2)/(Calculation!CK$27^3)/G330,\"N/A\")","v":3.7920549006077646E-3},{"$f":"IFERROR(Calculation!CM$27/Calculation!CL$27/Calculation!CL$27/I330+(Calculation!CM$27^2)/(Calculation!CL$27^3)/H330,\"N/A\")","v":1.6197239901540234E-3}]
[null,"6-N/A          ",{"$f":"IFERROR(Calculation!CH$27/Calculation!CG$27/Calculation!CG$27/D331+(Calculation!CH$27^2)/(Calculation!CG$27^3)/C331,\"N/A\")","v":5.9736905186027288E-5},{"$f":"IFERROR(Calculation!CI$27/Calculation!CH$27/Calculation!CH$27/E331+(Calculation!CI$27^2)/(Calculation!CH$27^3)/D331,\"N/A\")","v":8.0907452586389199E-5},{"$f":"IFERROR(Calculation!CJ$27/Calculation!CI$27/Calculation!CI$27/F331+(Calculation!CJ$27^2)/(Calculation!CI$27^3)/E331,\"N/A\")","v":6.9801015481073053E-5},{"$f":"IFERROR(Calculation!CK$27/Calculation!CJ$27/Calculation!CJ$27/G331+(Calculation!CK$27^2)/(Calculation!CJ$27^3)/F331,\"N/A\")","v":6.1869436851867289E-5},{"$f":"IFERROR(Calculation!CL$27/Calculation!CK$27/Calculation!CK$27/H331+(Calculation!CL$27^2)/(Calculation!CK$27^3)/G331,\"N/A\")","v":5.9177464072077674E-5},{"$f":"IFERROR(Calculation!CM$27/Calculation!CL$27/Calculation!CL$27/I331+(Calculation!CM$27^2)/(Calculation!CL$27^3)/H331,\"N/A\")","v":2.9626768563907402E-5}]
[]
[null,"Variance (pulmonary)",null,null,null,null,null,null,null,null,null,"Standard deviation (pulmonary)",null,null,null,null,null,null,null,null,null,"75% CI (pulmonary)"]
[null,null,"1987.5-1991.5","1991.5-1995.5","1995.5-1999.5","1999.5-2003.5","2003.5-2006","2006-2012",null,null,null,null,"1987.5-1991.5","1991.5-1995.5","1995.5-1999.5","1999.5-2003.5","2003.5-2006","2006-2012",null,null,null,null,"1987.5-1991.5","1991.5-1995.5","1995.5-1999.5","1999.5-2003.5","2003.5-2006","2006-2012"]
[null,"age 40-44 ","N/A","N/A","N/A","N/A","N/A",4.1325552576591901E-2,null,null,null,"age 40-44 ",{"$f":"IFERROR(SQRT(C388),\"N/A\")","v":"N/A"},{"$f":"IFERROR(SQRT(D388),\"N/A\")","v":"N/A"},{"$f":"IFERROR(SQRT(E388),\"N/A\")","v":"N/A"},{"$f":"IFERROR(SQRT(F388),\"N/A\")","v":"N/A"},{"$f":"IFERROR(SQRT(G388),\"N/A\")","v":"N/A"},{"$f":"IFERROR(SQRT(H388),\"N/A\")","v":0.20328687261255191},null,null,null,"age 40-44 ",{"$f":"IFERROR(1.15*M388,\"N/A\")","v":"N/A"},{"$f":"IFERROR(1.15*N388,\"N/A\")","v":"N/A"},{"$f":"IFERROR(1.15*O388,\"N/A\")","v":"N/A"},{"$f":"IFERROR(1.15*P388,\"N/A\")","v":"N/A"},{"$f":"IFERROR(1.15*Q388,\"N/A\")","v":"N/A"},{"$f":"IFERROR(1.15*R388,\"N/A\")","v":0.23377990350443467}]
[null,"age 45-49 ",7.2473030448514164E-2,9.1864783418101364E-2,"N/A","N/A",5.6975906950371275E-2,2.4342093787969428E-2,null,null,null,"age 45-49 ",{"$f":"IFERROR(SQRT(C389),\"N/A\")","v":0.26920815449854812},0.30309203786655525,"N/A","N/A",0.23869626505324978,0.15601953014917533,null,null,null,"age 45-49 ",{"$f":"IFERROR(1.15*M389,\"N/A\")","v":0.30958937767333033},0.34855584354653851,"N/A","N/A",0.27450070481123723,0.17942245967155163]
[null,"age 50-54 ",2.2586472000265909E-2,3.6278635053851337E-2,3.5677955605225936E-2,3.3367169964162655E-2,3.8143956242063778E-2,2.4676277278937838E-2,null,null,null,"age 50-54 ",0.15028796359078764,0.19046951213737945,0.18888609161403583,0.18266682776071483,0.19530477782702546,0.15708684629509193,null,null,null,"age 50-54 ",0.17283115812940578,0.21903993895798635,0.21721900535614119,0.21006685192482202,0.22460049450107927,0.18064987323935569]
[null,"age 55-59 ",1.7228788223646888E-2,2.3723866048422439E-2,2.0628304153315818E-2,1.74438521563333E-2,1.6473601604208118E-2,7.406182383288387E-3,null,null,null,"age 55-59 ",0.13125847867336757,0.15402553700092214,0.14362556928804779,0.13207517615484485,0.12834952903773397,8.6059179541106409E-2,null,null,null,"age 55-59 ",0.15094725047437269,0.17712936755106046,0.16516940468125493,0.15188645257807157,0.14760195839339404,9.8968056472272359E-2]
[null,"age 60-64",1.0130440032623679E-2,1.4913168549583756E-2,1.2994787575273399E-2,1.0923044900319924E-2,1.1839766470311597E-2,5.5585233584011023E-3,null,null,null,"age 60-64",0.10065008709695029,0.12211948472534494,0.11399468222366076,0.1045133718732676,0.1088106909743321,7.4555505218602755E-2,null,null,null,"age 60-64",0.11574760016149283,0.14043740743414668,0.13109388455720986,0.12019037765425773,0.12513229462048192,8.5738831001393165E-2]
[null,"age 65-69 (age group) ",7.6050887034350683E-3,8.7899799012785152E-3,8.1301961031862123E-3,6.7562952146925162E-3,7.0396443360342901E-3,3.793991782422383E-3,null,null,null,"age 65-69 (age group) ",8.720715970283098E-2,9.3754892679147758E-2,9.0167600074451418E-2,8.2196686153959489E-2,8.3902588375057235E-2,6.1595387671662422E-2,null,null,null,"age 65-69 (age group) ",0.10028823365825562,0.10781812658101991,0.10369274008561913,9.4526189077053402E-2,9.6487976631315808E-2,7.0834695822411781E-2]
[null,"age 70-74 ",1.0828516891478603E-2,1.0604258682977531E-2,7.6510673305277624E-3,6.220264171300529E-3,6.0251760260727327E-3,2.6926510699437339E-3,null,null,null,"age 70-74 ",0.10406015996277636,0.10297698132581636,8.7470379732385764E-2,7.8868651385075234E-2,7.7622007356630066E-2,5.1890760930475226E-2,null,null,null,"age 70-74 ",0.1196691839571928,0.11842352852468879,0.10059093669224362,9.0698949092836517E-2,8.9265308460124565E-2,5.9674375070046505E-2]
[null,"age 75-79 ",2.3955456219356394E-2,1.6472205706579056E-2,9.7940722668200635E-3,6.4674401670915963E-3,6.1383081351027349E-3,2.689401681259826E-3,null,null,null,"age 75-79 ",0.15477550264611126,0.1283440910466043,9.896500526357821E-2,8.0420396461915039E-2,7.8347355635673716E-2,5.1859441582606983E-2,null,null,null,"age 75-79 ",0.17799182804302793,0.14759570470359493,0.11380975605311493,9.2483455931202288E-2,9.0099458981024769E-2,5.9638357819998024E-2]
[null,"age 80-84 ",4.7013906073443225E-2,2.5958015091483891E-2,1.4232055091358883E-2,8.6225912880791532E-3,7.2501158930580057E-3,2.7331964742346492E-3,null,null,null,"age 80-84 ",0.21682690348165568,0.16111491269117173,0.1192981772340168,9.2857909130451319E-2,8.5147612374381967E-2,5.2279981582195011E-2,null,null,null,"age 80-84 ",0.24935093900390401,0.18528214959484748,0.13719290381911931,0.10678659550001901,9.7919754230539252E-2,6.012197881952426E-2]
[null,"age 85+",0.14533162086482987,6.0129069054116385E-2,3.8853725904057876E-2,2.3088339826587093E-2,1.6850704699984814E-2,7.8994679853753719E-3,null,null,null,"age 85+",0.3812238461387612,0.2452122938478338,0.19711348483565977,0.15194847753954988,0.12981026423201217,8.8878951306680998E-2,null,null,null,"age 85+",0.43840742305957536,0.28199413792500883,0.22668050756100872,0.17474074917048235,0.14928180386681397,0.10221079400268314]
[null,"Male (Sex)",2.5612802439810211E-3,3.1019302027204378E-3,2.607657821307344E-3,2.2223050939885183E-3,2.094209937177508E-3,9.7437054014557932E-4,null,null,null,"Male (Sex)",5.0609092503037648E-2,5.5694974663073847E-2,5.1065231041358697E-2,4.7141331058727205E-2,4.5762538578814745E-2,3.1214908940209635E-2,null,null,null,"Male (Sex)",5.820045637849329E-2,6.4049220862534922E-2,5.8725015697562499E-2,5.4212530717536282E-2,5.2626919365636952E-2,3.5897145281241077E-2]
[null,"Female       ",1.1191196165987845E-2,5.2307683574372398E-3,3.2137301235734663E-3,2.4408478973921214E-3,2.0961799456721444E-3,9.0474006845030794E-4,null,null,null,"Female       ",0.10578845005948355,7.2324051030326283E-2,5.6689770890112672E-2,4.9404937985915144E-2,4.5784057767656906E-2,3.0078897394191628E-2,null,null,null,"Female       ",0.12165671756840607,8.3172658684875223E-2,6.5193236523629572E-2,5.6815678683802412E-2,5.2651666432805437E-2,3.4590732003320371E-2]
[null,"1-Never  ","N/A","N/A","N/A",1.143829598377384E-2,6.9765629227172129E-3,"N/A",null,null,null,"1-Never  ","N/A","N/A","N/A",0.10694996953610525,8.3525821891898874E-2,"N/A",null,null,null,"1-Never  ","N/A","N/A","N/A",0.12299246496652103,9.6054695175683699E-2,"N/A"]
[null,"2-Current","N/A","N/A","N/A",6.2123303750431097E-3,4.0863947875297239E-3,"N/A",null,null,null,"2-Current","N/A","N/A","N/A",7.8818337809440697E-2,6.3924915232870846E-2,"N/A",null,null,null,"2-Current","N/A","N/A","N/A",9.0641088480856793E-2,7.3513652517801467E-2,"N/A"]
[null,"3-Former ","N/A","N/A","N/A",4.2596545741098984E-3,2.6767426771772945E-3,"N/A",null,null,null,"3-Former ","N/A","N/A","N/A",6.5266029250368049E-2,5.1737246517159129E-2,"N/A",null,null,null,"3-Former ","N/A","N/A","N/A",7.5055933637923247E-2,5.9497833494732991E-2,"N/A"]
[null,"4-Not_Asked (smoker)",1.4347935600660777E-3,1.6107466943146452E-3,1.8277997112470766E-3,2.4625615449528166E-3,3.9665552560243893E-3,2.2362794410219849E-3,null,null,null,"4-Not_Asked (smoker)",3.7878668932079404E-2,4.0134108864090218E-2,4.2752774310529561E-2,4.9624203217309357E-2,6.2980594281289451E-2,4.7289316351814444E-2,null,null,null,"4-Not_Asked (smoker)",4.3560469271891313E-2,4.6154225193703748E-2,4.9165690457108994E-2,5.7067833699905757E-2,7.2427683423482866E-2,5.4382713804586605E-2]
[null,"1-Married (marital status)",2.3945267587668407E-3,2.8460872350514199E-3,2.4004939256629275E-3,2.0262268917606309E-3,2.0013938759628333E-3,9.4670942325281453E-4,null,null,null,"1-Married (marital status)",4.8933901936866232E-2,5.3348732272205115E-2,4.8994835704009941E-2,4.5013630066465769E-2,4.4736940842695458E-2,3.0768643506869368E-2,null,null,null,"1-Married (marital status)",5.6273987227396162E-2,6.1351042113035881E-2,5.6344061059611428E-2,5.1765674576435633E-2,5.1447481969099776E-2,3.5383940032899769E-2]
[null,"2-Widowed    ",5.1002204004073209E-3,6.0440003583243675E-3,4.504731113191442E-3,3.7078677262027287E-3,3.6237889310282811E-3,2.2841423769206629E-3,null,null,null,"2-Widowed    ",7.1415827380261587E-2,7.7743169206846513E-2,6.7117293696866545E-2,6.0892263270490521E-2,6.0197914673419388E-2,4.7792702130353151E-2,null,null,null,"2-Widowed    ",8.2128201487300823E-2,8.9404644587873477E-2,7.7184887751396522E-2,7.0026102761064093E-2,6.922760187443229E-2,5.4961607449906122E-2]
[null,"3-Divorced   ",1.2316131307624037E-2,1.8660375465691971E-2,1.715641361334282E-2,1.2194536913039946E-2,9.0721094908072925E-3,5.7397687461597643E-3,null,null,null,"3-Divorced   ",0.11097806678629808,0.13660298483449024,0.13098249353765876,0.11042887717005885,9.5247621969303212E-2,7.5761261513782652E-2,null,null,null,"3-Divorced   ",0.12762477680424278,0.15709343255966376,0.15062986756830757,0.12699320874556766,0.10953476526469869,8.7125450740850041E-2]
[null,"4-Separated  ","N/A","N/A",7.5068507486678412E-2,7.2440947854184173E-2,6.85628657103899E-2,4.2979443794429945E-2,null,null,null,"4-Separated  ","N/A","N/A",0.27398632718929317,0.26914856093649131,0.26184511778986808,0.20731484219522234,null,null,null,"4-Separated  ","N/A","N/A",0.31508427626768709,0.30952084507696498,0.30112188545834828,0.23841206852450567]
[null,"5-NeverMar.  ",2.6536104618703142E-2,3.4553850193449233E-2,3.6244900124262944E-2,2.8484454654908821E-2,2.5261504991004803E-2,1.5696536272656846E-2,null,null,null,"5-NeverMar.  ",0.16289906266981141,0.18588665953599046,0.19038093424569316,0.16877338254271265,0.15893868311712162,0.12528581832217422,null,null,null,"5-NeverMar.  ",0.1873339220702831,0.21376965846638901,0.21893807438254712,0.19408938992411953,0.18277948558468984,0.14407869107050034]
[null,"1-Lowest inc.  ",5.6992883209596498E-3,8.6776164551784895E-3,7.2482944356809208E-3,5.3423821377232778E-3,5.3968868955288386E-3,3.4550437528914893E-3,null,null,null,"1-Lowest inc.  ",7.5493630995996278E-2,9.315372485938761E-2,8.5136915821991815E-2,7.3091601006704449E-2,7.3463507236782799E-2,5.8779620217312471E-2,null,null,null,"1-Lowest inc.  ",8.6817675645395706E-2,0.10712678358829575,9.7907453195290581E-2,8.4055341157710114E-2,8.4483033322300213E-2,6.7596563249909342E-2]
[null,"2-Second dec.  ",4.546056097964447E-3,7.0444252031246647E-3,6.172594622026557E-3,5.6880550469554474E-3,5.377866063129089E-3,2.8010631475371825E-3,null,null,null,"2-Second dec.  ",6.7424447331546192E-2,8.393107412111836E-2,7.8565861683218094E-2,7.5419195480696075E-2,7.3333935276439985E-2,5.2925071067851978E-2,null,null,null,"2-Second dec.  ",7.7538114431278116E-2,9.6520735239286101E-2,9.0350740935700807E-2,8.6732074802800485E-2,8.4334025567905979E-2,6.0863831728029769E-2]
[null,"3-Third dec.   ",7.4179988194058057E-3,9.2941080881581185E-3,7.9502107007013937E-3,7.2672566338458557E-3,7.769287870918665E-3,4.2845165591757356E-3,null,null,null,"3-Third dec.   ",8.6127805146803821E-2,9.6405954630189306E-2,8.9163954043668309E-2,8.5248206044736541E-2,8.8143563978992048E-2,6.5456218644035155E-2,null,null,null,"3-Third dec.   ",9.9046975918824387E-2,0.11086684782471769,0.10253854715021855,9.8035436951447008E-2,0.10136509857584085,7.5274651440640425E-2]
[null,"4-Fourth dec.  ",7.8979671059093599E-3,9.5831070375149013E-3,9.0994417100062064E-3,8.3147894228269275E-3,7.7033868863326414E-3,4.2981465069359334E-3,null,null,null,"4-Fourth dec.  ",8.8870507514638167E-2,9.7893345215672861E-2,9.539099386213673E-2,9.1185467168989856E-2,8.7768940328185815E-2,6.5560250967609437E-2,null,null,null,"4-Fourth dec.  ",0.10220108364183389,0.11257734699802378,0.10969964294145723,0.10486328724433833,0.10093428137741368,7.5394288612750854E-2]
[null,"5-Fifth dec.   ",1.5333328701723433E-2,1.6609751689354163E-2,1.4214222087268339E-2,1.2066153656307392E-2,1.1065173849683918E-2,5.7001299929611282E-3,null,null,null,"5-Fifth dec.   ",0.12382781877156454,0.12887882560511701,0.1192234124963228,0.10984604524655128,0.10519113009034516,7.5499205247215206E-2,null,null,null,"5-Fifth dec.   ",0.14240199158729921,0.14821064944588455,0.13710692437077121,0.12632295203353397,0.12096979960389692,8.6824086034297476E-2]
[null,"6-Sixth dec.   ",1.4769357047742697E-2,1.9320505468338404E-2,1.9085144069670074E-2,1.8516470074350325E-2,1.7068872774874091E-2,8.5639927842824041E-3,null,null,null,"6-Sixth dec.   ",0.12152924359076171,0.13899822109774787,0.13814899228611865,0.13607523681533804,0.1306478961746958,9.2541843423839379E-2,null,null,null,"6-Sixth dec.   ",0.13975863012937595,0.15984795426241005,0.15887134112903645,0.15648652233763874,0.15024508060090017,0.10642311993741528]
[null,"7-Seventh dec. ",3.3461340359678404E-2,2.4749581143608878E-2,2.0072859036236484E-2,1.6838781108683379E-2,1.8503336910262409E-2,9.9301047896906934E-3,null,null,null,"7-Seventh dec. ",0.18292441160129067,0.15731999600689314,0.1416787176545457,0.12976432910736055,0.13602697126034385,9.9649911137394867E-2,null,null,null,"7-Seventh dec. ",0.21036307334148424,0.18091799540792711,0.16293052530272756,0.14922897847346461,0.15643101694939543,0.11459739780800408]
[null,"8-Eighth dec.  ",2.4866170416769199E-2,3.7779363187486176E-2,3.441845728877347E-2,2.5281768318504941E-2,2.2131210484957288E-2,1.2666052384179897E-2,null,null,null,"8-Eighth dec.  ",0.15769010881082302,0.19436914155154922,0.18552212075322302,0.15900241607757079,0.14876562265845322,0.11254355771957761,null,null,null,"8-Eighth dec.  ",0.18134362513244645,0.22352451278428159,0.21335043886620647,0.18285277848920639,0.17108046605722119,0.12942509137751423]
[null,"9-Ninth dec.   ",4.6867007900553787E-2,3.7144264933871733E-2,3.4275166767012158E-2,3.5562808470437537E-2,3.2756123573063574E-2,1.5510087999140679E-2,null,null,null,"9-Ninth dec.   ",0.21648789319625655,0.19272847463172568,0.18513553620796888,0.18858103953058891,0.18098652870604368,0.12453950376944931,null,null,null,"9-Ninth dec.   ",0.24896107717569502,0.22163774582648452,0.21290586663916419,0.21686819546017724,0.20813450801195021,0.1432204293348667]
[null,"10-Highest dec. (family income in 2008$)",6.4091052547569499E-2,4.9430713913833552E-2,4.1653941012036566E-2,3.2401251832966209E-2,2.3495432301624562E-2,1.2585106289222223E-2,null,null,null,"10-Highest dec. (family income in 2008$)",0.25316210725061028,0.2223301911883169,0.20409297149102554,0.18000347728020757,0.15328219825415004,0.11218336012627819,null,null,null,"10-Highest dec. (family income in 2008$)",0.29113642333820178,0.2556797198665644,0.23470691721467934,0.20700399887223869,0.17627452799227253,0.12901086414521992]
[null,"1-Dropout      ",2.8354037377161644E-3,3.5844165583582138E-3,3.0806993965060377E-3,2.8220686498034346E-3,2.8643936248219978E-3,1.4522634240983494E-3,null,null,null,"1-Dropout      ",5.3248509253463278E-2,5.9869997146803119E-2,5.5504048469512901E-2,5.3123146083448737E-2,5.3520030127252337E-2,3.8108574154622335E-2,null,null,null,"1-Dropout      ",6.1235785641482764E-2,6.8850496718823581E-2,6.3829655739939831E-2,6.109161799596604E-2,6.1548034646340184E-2,4.382486027781568E-2]
[null,"2-H.S.Diploma (education)      ",5.2965062150984099E-3,5.2291078612831318E-3,3.6372096333948459E-3,2.8666952158997441E-3,2.8135106580922751E-3,1.3940745202872366E-3,null,null,null,"2-H.S.Diploma (education)      ",7.2777099523809063E-2,7.2312570561992418E-2,6.0309283144428488E-2,5.3541527956341928E-2,5.3042536309006523E-2,3.7337307351859701E-2,null,null,null,"2-H.S.Diploma (education)      ",8.3693664452380412E-2,8.3159456146291277E-2,6.9355675616092752E-2,6.1572757149793211E-2,6.0998916755357499E-2,4.2937903454638653E-2]
[null,"3-SomeColl/AA  ",1.4718202503860203E-2,1.5995636312907777E-2,1.0434200072065788E-2,6.9789298423469717E-3,6.0942286460133315E-3,2.4649327473039648E-3,null,null,null,"3-SomeColl/AA  ",0.12131859916707002,0.12647385624273413,0.10214793229461763,8.3539989480170343E-2,7.8065540707877842E-2,4.9648089059942328E-2,null,null,null,"3-SomeColl/AA  ",0.13951638904213051,0.14544493467914424,0.11747012213881027,9.6070987902195884E-2,8.9775371814059507E-2,5.7095302418933673E-2]
[null,"4-4yr.Degree   ",2.7203021248525919E-2,2.8574283621512004E-2,2.3816254797538787E-2,1.6837101893091393E-2,1.3047671927333164E-2,5.2597864393846474E-3,null,null,null,"4-4yr.Degree   ",0.16493338427536713,0.16903929608677387,0.15432515931480126,0.12975785869492218,0.11422640643622281,7.2524385136205377E-2,null,null,null,"4-4yr.Degree   ",0.18967339191667218,0.19439519049978993,0.17747393321202143,0.14922153749916051,0.13136036740165621,8.3403042906636179E-2]
[null,"5-Grad.Degree  ",5.1597116670067902E-2,4.6388775393096729E-2,5.2735125694075832E-2,4.3069905638950523E-2,2.8151543091829899E-2,1.0790669099455254E-2,null,null,null,"5-Grad.Degree  ",0.22714998716721932,0.21538053624479797,0.229641297884496,0.20753290254547715,0.16778421586022296,0.10387814543711904,null,null,null,"5-Grad.Degree  ",0.26122248524230218,0.24768761668151765,0.2640874925671704,0.2386628379272987,0.1929518482392564,0.11945986725268688]
[null,"1-White NH (ethnic/race)     ",2.6705540851900563E-3,2.6358020969181558E-3,1.4540902085480776E-3,1.1868363919166989E-3,1.1335968459944804E-3,5.4677993085236129E-4,null,null,null,"1-White NH (ethnic/race)     ",5.1677404009780291E-2,5.1340063273414026E-2,3.8132534777379767E-2,3.4450491896585438E-2,3.3668929979945611E-2,2.3383325915112274E-2,null,null,null,"1-White NH (ethnic/race)     ",5.9429014611247333E-2,5.9041072764426127E-2,4.3852414993986732E-2,3.9618065681073247E-2,3.8719269476937448E-2,2.6890824802379112E-2]
[null,"2-Black NH     ",4.9533919689366372E-2,5.822598657738555E-2,3.1840001017710173E-2,2.2729916930956141E-2,1.6717783537815244E-2,7.2121107114086151E-3,null,null,null,"2-Black NH     ",0.22256217039148044,0.24130061454000806,0.17843766703728833,0.15076444186530238,0.12929726809880882,8.492414681001284E-2,null,null,null,"2-Black NH     ",0.25594649595020247,0.27749570672100926,0.20520331709288156,0.17337910814509772,0.14869185831363013,9.7662768831514757E-2]
[null,"3-Asian NH     ","N/A","N/A","N/A","N/A","N/A","N/A",null,null,null,"3-Asian NH     ","N/A","N/A","N/A","N/A","N/A","N/A",null,null,null,"3-Asian NH     ","N/A","N/A","N/A","N/A","N/A","N/A"]
[null,"4-Hispanic     ",5.5039833842924532E-2,6.3230613324705975E-2,4.5260322748715616E-2,2.8234309045209832E-2,2.6367986977541665E-2,1.0548142211449859E-2,null,null,null,"4-Hispanic     ",0.23460569865824771,0.25145698106178316,0.21274473612457634,0.16803067888100026,0.16238222494331597,0.10270414894954273,null,null,null,"4-Hispanic     ",0.26979655345698483,0.28917552822105058,0.24465644654326277,0.1932352807131503,0.18673955868481334,0.11810977129197413]
[null,"5-Other NH     ",1.8505213132711276E-2,1.7811547890291102E-2,2.7768601449108095E-2,2.366989349339392E-2,2.0577723428203812E-2,1.2222903483647593E-2,null,null,null,"5-Other NH     ",0.13603386759447544,0.13345991117294775,0.1666391354067468,0.15385023072258916,0.14344937583762368,0.11055724075630502,null,null,null,"5-Other NH     ",0.15643894773364675,0.15347889784888991,0.19163500571775879,0.17692776533097751,0.16496678221326722,0.12714082686975076]
[null,"1-Employed  (Labor force)",9.6972298616202664E-3,1.1318327959074892E-2,9.5262058829938771E-3,8.0892797753544521E-3,6.9577017369926676E-3,3.3671737445509077E-3,null,null,null,"1-Employed  (Labor force)",9.8474513766863891E-2,0.10638763066764337,9.7602284209919371E-2,8.9940423477735815E-2,8.3412839161562335E-2,5.8027353416737072E-2,null,null,null,"1-Employed  (Labor force)",0.11324569083189347,0.12234577526778986,0.11224262684140726,0.10343148699939618,9.592476503579668E-2,6.6731456429247632E-2]
[null,"2-Unemployed   ","N/A","N/A","N/A","N/A","N/A","N/A",null,null,null,"2-Unemployed   ","N/A","N/A","N/A","N/A","N/A","N/A",null,null,null,"2-Unemployed   ","N/A","N/A","N/A","N/A","N/A","N/A"]
[null,"3-NILF         ",1.5265808446561727E-3,1.8687183333437126E-3,1.4909883293199463E-3,1.2227919069795505E-3,1.2148152587031012E-3,7.2094745468813956E-4,null,null,null,"3-NILF         ",3.9071483778533068E-2,4.3228674896921289E-2,3.861331803044056E-2,3.4968441586372571E-2,3.4854200015250691E-2,2.6850464701530578E-2,null,null,null,"3-NILF         ",4.4932206345313024E-2,4.9712976131459481E-2,4.440531573500664E-2,4.0213707824328454E-2,4.008233001753829E-2,3.0878034406760162E-2]
[null,"1-Prof./Managerial (occ.)",8.1449000290037946E-2,8.4422394841868462E-2,"N/A","N/A","N/A","N/A",null,null,null,"1-Prof./Managerial (occ.)",0.28539271239826353,0.29055532148261964,"N/A","N/A","N/A","N/A",null,null,null,"1-Prof./Managerial (occ.)",0.32820161925800301,0.33413861970501257,"N/A","N/A","N/A","N/A"]
[null,"2-Sklld/Sales  ",2.9713812621082431E-2,3.7054269149623134E-2,3.2235487728923783E-2,2.329868852201479E-2,2.1978084054803386E-2,1.0061682639835477E-2,null,null,null,"2-Sklld/Sales  ",0.17237694921619431,0.19249485486532655,0.17954243991024457,0.15263907927531137,0.1482500726974641,0.10030793906683297,null,null,null,"2-Sklld/Sales  ",0.19823349159862344,0.22136908309512551,0.20647380589678124,0.17553494116660806,0.17048758360208369,0.11535412992685791]
[null,"3-BlueCol.Lgt  ",5.2625338150732018E-2,4.7580408204868113E-2,3.6769367628853133E-2,3.4273654528965261E-2,3.2897824896125194E-2,1.3921448376104239E-2,null,null,null,"3-BlueCol.Lgt  ",0.22940213196640527,0.21812933824881997,0.19175340317411094,0.18513145202521711,0.18137757550514672,0.11798918753896155,null,null,null,"3-BlueCol.Lgt  ",0.26381245176136603,0.25084873898614296,0.22051641365022756,0.21290116982899965,0.20858421183091871,0.13568756566980578]
[null,"4-BlueCol.Hvy  ",3.3903763734771997E-2,2.6997049098384053E-2,2.5251551290189855E-2,2.3089044034646313E-2,1.8733553216519171E-2,7.1113422609356009E-3,null,null,null,"4-BlueCol.Hvy  ",0.18412974701218701,0.1643077876985265,0.15890736701043742,0.15195079478122617,0.13687057103891681,8.432877480988088E-2,null,null,null,"4-BlueCol.Hvy  ",0.21174920906401504,0.18895395585330546,0.18274347206200303,0.17474341399841009,0.15740115669475432,9.6978091031362998E-2]
[null,"5-Medical.Occ  ","N/A","N/A","N/A","N/A","N/A","N/A",null,null,null,"5-Medical.Occ  ","N/A","N/A","N/A","N/A","N/A","N/A",null,null,null,"5-Medical.Occ  ","N/A","N/A","N/A","N/A","N/A","N/A"]
[null,"6-N/A          ",3.2865394872911508E-3,2.4505090767057572E-3,1.7409427448006854E-3,1.3557942068223299E-3,1.2157070656220524E-3,3.9577242596641369E-4,null,null,null,"6-N/A          ",5.7328348025136318E-2,4.9502616867250132E-2,4.1724605987362967E-2,3.6821110885229005E-2,3.4866991060630001E-2,1.9894029907648519E-2,null,null,null,"6-N/A          ",6.5927600228906758E-2,5.6928009397337651E-2,4.7983296885467409E-2,4.2344277518013354E-2,4.0097039719724496E-2,2.2878134393795796E-2]
[]
[null,"Variance (stroke)",null,null,null,null,null,null,null,null,null,"Standard deviation (stroke)",null,null,null,null,null,null,null,null,null,"75% CI (stroke)"]
[null,null,"1987.5-1991.5","1991.5-1995.5","1995.5-1999.5","1999.5-2003.5","2003.5-2006","2006-2012",null,null,null,null,"1987.5-1991.5","1991.5-1995.5","1995.5-1999.5","1999.5-2003.5","2003.5-2006","2006-2012",null,null,null,null,"1987.5-1991.5","1991.5-1995.5","1995.5-1999.5","1999.5-2003.5","2003.5-2006","2006-2012"]
[null,"age 40-44 ",5.5221740564942751E-2,6.0899087355045178E-2,4.2693085859290103E-2,"N/A","N/A",1.8701978702150179E-2,null,null,null,"age 40-44 ",{"$f":"IFERROR(SQRT(C441),\"N/A\")","v":0.23499306492946287},{"$f":"IFERROR(SQRT(D441),\"N/A\")","v":0.24677740446614066},{"$f":"IFERROR(SQRT(E441),\"N/A\")","v":0.2066230525843864},{"$f":"IFERROR(SQRT(F441),\"N/A\")","v":"N/A"},{"$f":"IFERROR(SQRT(G441),\"N/A\")","v":"N/A"},{"$f":"IFERROR(SQRT(H441),\"N/A\")","v":0.13675517797198825},null,null,null,"age 40-44 ",{"$f":"IFERROR(1.15*M441,\"N/A\")","v":0.27024202466888225},{"$f":"IFERROR(1.15*N441,\"N/A\")","v":0.28379401513606173},{"$f":"IFERROR(1.15*O441,\"N/A\")","v":0.23761651047204435},{"$f":"IFERROR(1.15*P441,\"N/A\")","v":"N/A"},{"$f":"IFERROR(1.15*Q441,\"N/A\")","v":"N/A"},{"$f":"IFERROR(1.15*R441,\"N/A\")","v":0.15726845466778647}]
[null,"age 45-49 ",3.5540527640610373E-2,5.1923631186674382E-2,4.3437806885228691E-2,5.306537636479286E-2,4.8007756409660374E-2,1.9197452600039758E-2,null,null,null,"age 45-49 ",{"$f":"IFERROR(SQRT(C442),\"N/A\")","v":0.18852195532778238},0.22786757379380329,0.20841738623547867,0.23035923329615607,0.21910672378925383,0.13855487216276358,null,null,null,"age 45-49 ",{"$f":"IFERROR(1.15*M442,\"N/A\")","v":0.21680024862694972},0.26204770986287379,0.23967999417080046,0.26491311829057945,0.25197273235764189,0.1593381029871781]
[null,"age 50-54 ",1.1942947779242787E-2,2.7009836134897554E-2,3.8995904533284657E-2,4.2123489860781939E-2,3.5065675516378562E-2,1.5598479926260624E-2,null,null,null,"age 50-54 ",0.10928379467808934,0.16434669493146967,0.19747380720815774,0.20524007859280785,0.18725831227579343,0.12489387465468682,null,null,null,"age 50-54 ",0.12567636387980272,0.18899869917119011,0.22709487828938138,0.236026090381729,0.21534705911716243,0.14362795585288984]
[null,"age 55-59 ",1.3820566751861545E-2,2.0879988124560385E-2,2.1440773547417427E-2,2.0413198686155903E-2,2.054984826590258E-2,1.056629744229323E-2,null,null,null,"age 55-59 ",0.11756090656277512,0.14449909385376916,0.14642668318109725,0.14287476574313571,0.14335218263389846,0.10279249701361103,null,null,null,"age 55-59 ",0.13519504254719139,0.16617395793183451,0.16839068565826182,0.16430598060460605,0.1648550100289832,0.11821137156565267]
[null,"age 60-64",5.1470557089649096E-3,9.3064184434410464E-3,1.2207771941090748E-2,1.486791053191033E-2,1.7133054823032443E-2,1.009694381737611E-2,null,null,null,"age 60-64",7.1742983691542334E-2,9.6469779949168777E-2,0.11048878649478755,0.12193404172711708,0.13089329556181417,0.10048354998394568,null,null,null,"age 60-64",8.2504431245273679E-2,0.11094024694154409,0.12706210446900568,0.14022414798618463,0.1505272898960863,0.11555608248153752]
[null,"age 65-69 (age group) ",4.2913517996396111E-3,7.3709453657733806E-3,7.0975336955096191E-3,8.1933953191832918E-3,1.0277417134715559E-2,4.9951704006203062E-3,null,null,null,"age 65-69 (age group) ",6.5508410144344151E-2,8.5854209947872559E-2,8.4246861635966119E-2,9.0517375785996418E-2,0.10137759680874053,7.0676519443308092E-2,null,null,null,"age 65-69 (age group) ",7.5334671665995764E-2,9.8732341440053439E-2,9.6883890881361026E-2,0.10409498215389587,0.1165842363300516,8.1277997359804302E-2]
[null,"age 70-74 ",3.2673169675613771E-3,4.7358991629562319E-3,4.3866091619988229E-3,4.3437237499074077E-3,5.619310217940366E-3,3.0213625569349973E-3,null,null,null,"age 70-74 ",5.7160449329596574E-2,6.8817869503176518E-2,6.6231481653355934E-2,6.5906932487466055E-2,7.4962058522564379E-2,5.4966922389151435E-2,null,null,null,"age 70-74 ",6.573451672903606E-2,7.9140549928652992E-2,7.6166203901359322E-2,7.5792972360585964E-2,8.6206367300949036E-2,6.3211960747524151E-2]
[null,"age 75-79 ",2.9159700349458916E-3,4.1919448056581725E-3,3.981211460817537E-3,3.935974010102504E-3,4.0418035662645882E-3,2.1259983936186624E-3,null,null,null,"age 75-79 ",5.39997225450825E-2,6.4745229983823302E-2,6.3096841924279667E-2,6.2737341433172833E-2,6.3575180426520134E-2,4.6108550114037014E-2,null,null,null,"age 75-79 ",6.2099680926844869E-2,7.4457014481396785E-2,7.2561368212921612E-2,7.214794264814875E-2,7.3111457490498147E-2,5.3024832631142563E-2]
[null,"age 80-84 ",4.0458950428674343E-3,5.3981561227305517E-3,4.5099808019542376E-3,3.8832445482875552E-3,3.8631681048462304E-3,1.9497251801860105E-3,null,null,null,"age 80-84 ",6.3607350541171212E-2,7.3472145216609483E-2,6.7156390626315218E-2,6.2315684608993546E-2,6.2154389264526044E-2,4.4155692500356176E-2,null,null,null,"age 80-84 ",7.3148453122346885E-2,8.4492966999100902E-2,7.7229849220262492E-2,7.1663037300342569E-2,7.1477547654204943E-2,5.0779046375409601E-2]
[null,"age 85+",4.5785666006141548E-3,6.5444332691798361E-3,5.6195909099148785E-3,5.9477838037976993E-3,7.115736553524636E-3,3.6909002807404747E-3,null,null,null,"age 85+",6.7665106226282939E-2,8.0897671593067724E-2,7.4963930726149083E-2,7.7121876298477721E-2,8.4354825312631859E-2,6.0752780024789607E-2,null,null,null,"age 85+",7.7814872160225368E-2,9.3032322332027878E-2,8.620852033507144E-2,8.869015774324937E-2,9.7008049109526637E-2,6.9865697028508048E-2]
[null,"Male (Sex)",1.1929727718586916E-3,1.8363215716341308E-3,1.7795137859851424E-3,1.8516654626843062E-3,1.8932785460656831E-3,8.5870086545921775E-4,null,null,null,"Male (Sex)",3.4539437920422092E-2,4.2852322826588185E-2,4.2184283637216623E-2,4.3030982590272167E-2,4.3511820762474222E-2,2.9303598165740973E-2,null,null,null,"Male (Sex)",3.9720353608485401E-2,4.9280171250576411E-2,4.8511926182799113E-2,4.9485629978812985E-2,5.0038593876845353E-2,3.3699137890602117E-2]
[null,"Female       ",9.5458894683050606E-4,1.3782850437812633E-3,1.2877615528287699E-3,1.3173625487031488E-3,1.3754668609160577E-3,6.4697919610730065E-4,null,null,null,"Female       ",3.0896422880820784E-2,3.7125261531486389E-2,3.5885394700752138E-2,3.6295489371313744E-2,3.708728705252054E-2,2.5435785737957864E-2,null,null,null,"Female       ",3.5530886312943898E-2,4.2694050761209343E-2,4.1268203905864956E-2,4.1739812777010804E-2,4.2650380110398615E-2,2.925115359865154E-2]
[null,"1-Never  ","N/A","N/A","N/A",2.6820825534495689E-3,2.1773585929732702E-3,"N/A",null,null,null,"1-Never  ","N/A","N/A","N/A",5.1788826530918507E-2,4.6662175184760409E-2,"N/A",null,null,null,"1-Never  ","N/A","N/A","N/A",5.9557150510556281E-2,5.3661501462474469E-2,"N/A"]
[null,"2-Current","N/A","N/A","N/A",1.1792360914335328E-2,9.9882892766640016E-3,"N/A",null,null,null,"2-Current","N/A","N/A","N/A",0.10859263747757178,9.994142923064489E-2,"N/A",null,null,null,"2-Current","N/A","N/A","N/A",0.12488153309920753,0.11493264361524161,"N/A"]
[null,"3-Former ","N/A","N/A","N/A",4.0436018920792238E-3,3.2329344352246721E-3,"N/A",null,null,null,"3-Former ","N/A","N/A","N/A",6.3589322154582087E-2,5.6858899349395357E-2,"N/A",null,null,null,"3-Former ","N/A","N/A","N/A",7.3127720477769401E-2,6.5387734251804649E-2,"N/A"]
[null,"4-Not_Asked (smoker)",4.9894253851669895E-4,7.5325111397161624E-4,1.0155925806174043E-3,1.6849967436994924E-3,2.8291600815885188E-3,1.5583113862234221E-3,null,null,null,"4-Not_Asked (smoker)",2.2337021702024173E-2,2.7445420637542E-2,3.1868363318774379E-2,4.1048711839709325E-2,5.3189849422502773E-2,3.9475452957799258E-2,null,null,null,"4-Not_Asked (smoker)",2.5687574957327798E-2,3.1562233733173295E-2,3.6648617816590533E-2,4.7206018615665722E-2,6.1168326835878181E-2,4.5396770901469145E-2]
[null,"1-Married (marital status)",9.5671480028328365E-4,1.4683735673117636E-3,1.4712503654086156E-3,1.4724093353849698E-3,1.5679787929183111E-3,7.5410323105708221E-4,null,null,null,"1-Married (marital status)",3.0930806654261116E-2,3.8319362824970921E-2,3.8356881591294877E-2,3.8371986336192841E-2,3.9597711965697099E-2,2.7460940097838643E-2,null,null,null,"1-Married (marital status)",3.5570427652400281E-2,4.4067267248716555E-2,4.4110413829989106E-2,4.4127784286621764E-2,4.5537368760551658E-2,3.1580081112514438E-2]
[null,"2-Widowed    ",1.3126947565375415E-3,1.9778099777436396E-3,1.8879895717834379E-3,1.989904312964464E-3,2.3056535038134714E-3,1.5182799194104334E-3,null,null,null,"2-Widowed    ",3.6231129661349802E-2,4.4472575569036249E-2,4.3451001965241695E-2,4.4608343535312588E-2,4.8017220908893418E-2,3.8965111566764868E-2,null,null,null,"2-Widowed    ",4.1665799110552272E-2,5.1143461904391681E-2,4.9968652260027946E-2,5.1299595065609473E-2,5.5219804045227423E-2,4.4809878301779592E-2]
[null,"3-Divorced   ",1.0892660550141282E-2,1.5973407846212415E-2,1.2707449942436357E-2,1.116473442562203E-2,1.0423096180208443E-2,5.2270503366722053E-3,null,null,null,"3-Divorced   ",0.1043679095802023,0.1263859479776625,0.11272732562443037,0.10566330690273719,0.10209356581199641,7.2298342558264811E-2,null,null,null,"3-Divorced   ",0.12002309601723263,0.14534384017431187,0.12963642446809492,0.12151280293814776,0.11740760068379587,8.3143093942004531E-2]
[null,"4-Separated  ",3.7302567611905521E-2,5.7270331813792777E-2,5.6847074327495223E-2,"N/A","N/A",2.9006825692504117E-2,null,null,null,"4-Separated  ",0.19313872633914081,0.23931220573508735,0.23842624504759374,"N/A","N/A",0.17031390340340427,null,null,null,"4-Separated  ",0.2221095352900119,0.27520903659535045,0.27419018180473276,"N/A","N/A",0.1958609889139149]
[null,"5-NeverMar.  ",6.5764650707480837E-3,1.0729283374454444E-2,1.2020903213070165E-2,2.2764655541134961E-2,2.5702685828781074E-2,1.1399457606204698E-2,null,null,null,"5-NeverMar.  ",8.1095407211186035E-2,0.10358225414835517,0.10963987966552209,0.15087960611406354,0.16032057206977859,0.10676824249843536,null,null,null,"5-NeverMar.  ",9.3259718292863933E-2,0.11911959227060843,0.1260858616153504,0.17351154703117305,0.18436865788024537,0.12278347887320065]
[null,"1-Lowest inc.  ",2.3778523675186359E-3,3.9588958489343278E-3,3.4436620294696074E-3,3.7824877090597356E-3,4.6835999884185676E-3,3.1641347642303486E-3,null,null,null,"1-Lowest inc.  ",4.8763227615885273E-2,6.2919757222468106E-2,5.8682723432622035E-2,6.1501932563617343E-2,6.8436832103908551E-2,5.6250642345046592E-2,null,null,null,"1-Lowest inc.  ",5.6077711758268062E-2,7.2357720805838313E-2,6.7485131947515334E-2,7.0727222448159932E-2,7.8702356919494829E-2,6.4688238696803582E-2]
[null,"2-Second dec.  ",2.1497462715148298E-3,3.4466162786727893E-3,3.1837661178762008E-3,3.348797044578414E-3,3.7467257180487457E-3,2.1793856872855911E-3,null,null,null,"2-Second dec.  ",4.6365356372132308E-2,5.8707889407410903E-2,5.642487144758241E-2,5.7868791628808133E-2,6.1210503331117494E-2,4.6683891089813745E-2,null,null,null,"2-Second dec.  ",5.332015982795215E-2,6.7514072818522536E-2,6.4888602164719769E-2,6.6549110373129342E-2,7.0392078830785118E-2,5.36864747532858E-2]
[null,"3-Third dec.   ",3.1109014226898294E-3,4.0392372178283328E-3,4.0760327119099774E-3,4.431664998559591E-3,4.7131590743994204E-3,2.5240252569232588E-3,null,null,null,"3-Third dec.   ",5.5775455378596683E-2,6.3554993649817426E-2,6.3843814985556566E-2,6.6570751825104024E-2,6.8652451335690992E-2,5.0239678113252861E-2,null,null,null,"3-Third dec.   ",6.4141773685386178E-2,7.3088242697290029E-2,7.3420387233390047E-2,7.6556364598869622E-2,7.8950319036044631E-2,5.7775629830240788E-2]
[null,"4-Fourth dec.  ",4.4836803237702869E-3,6.6259026038514371E-3,5.8917403443711214E-3,5.7159810786052978E-3,6.3467187201198573E-3,3.4859290867486387E-3,null,null,null,"4-Fourth dec.  ",6.6960289155366462E-2,8.1399647443041401E-2,7.6757672869695065E-2,7.5604107551146299E-2,7.9666296011047591E-2,5.9041757144826228E-2,null,null,null,"4-Fourth dec.  ",7.7004332528671421E-2,9.3609594559497605E-2,8.8271323800149321E-2,8.694472368381824E-2,9.1616240412704719E-2,6.7898020716550156E-2]
[null,"5-Fifth dec.   ",5.2908774983861078E-3,9.066875341354733E-3,8.8124246029574055E-3,8.6853311017129516E-3,9.7172565552717215E-3,4.844025964000253E-3,null,null,null,"5-Fifth dec.   ",7.2738418311000599E-2,9.5220141468886368E-2,9.387451519426028E-2,9.3195123808667971E-2,9.8576145974935137E-2,6.9599037091042093E-2,null,null,null,"5-Fifth dec.   ",8.3649181057650679E-2,0.10950316268921932,0.10795569247339931,0.10717439237996816,0.11336256787117539,8.0038892654698407E-2]
[null,"6-Sixth dec.   ",7.2707658802051434E-3,1.0270043162855113E-2,1.0571778581902572E-2,1.1893377943572262E-2,1.3713251206889883E-2,7.6988490482189547E-3,null,null,null,"6-Sixth dec.   ",8.5268786083801756E-2,0.10134122143952634,0.10281915474221022,0.10905676477675405,0.11710359177621275,8.7743085472411761E-2,null,null,null,"6-Sixth dec.   ",9.8059103996372007E-2,0.11654240465545529,0.11824202795354175,0.12541527949326714,0.13466913054264465,0.10090454829327351]
[null,"7-Seventh dec. ",1.3744435286090971E-2,1.278173053040731E-2,1.3539859405270145E-2,1.280922278791127E-2,1.2664907812420901E-2,6.4163019163471459E-3,null,null,null,"7-Seventh dec. ",0.11723666357454468,0.11305631574753933,0.1163609015317007,0.11317783699961433,0.11253847258791502,8.0101822178694201E-2,null,null,null,"7-Seventh dec. ",0.13482216311072637,0.13001476310967022,0.13381503676145579,0.13015451254955646,0.12941924347610226,9.211709550549832E-2]
[null,"8-Eighth dec.  ",1.2308159908061143E-2,1.7915683486865022E-2,1.6259366590605787E-2,2.0902282731602405E-2,2.1322657660997158E-2,9.6353208546992239E-3,null,null,null,"8-Eighth dec.  ",0.11094214667141222,0.13384948071197372,0.12751222133821444,0.14457621772477797,0.14602279842886576,9.8159670204719121E-2,null,null,null,"8-Eighth dec.  ",0.12758346867212406,0.15392690281876978,0.1466390545389466,0.16626265038349464,0.16792621819319561,0.11288362073542699]
[null,"9-Ninth dec.   ",2.6356710048098076E-2,1.9211781814986898E-2,1.9355416532451663E-2,1.9102817991591782E-2,1.8516316416901518E-2,8.4433308797988195E-3,null,null,null,"9-Ninth dec.   ",0.16234749781902422,0.1386065720483228,0.13912374539398967,0.13821294437060438,0.13607467220942154,9.188759916223091E-2,null,null,null,"9-Ninth dec.   ",0.18669962249187783,0.15939755785557122,0.1599923072030881,0.15894488602619503,0.15648587304083475,0.10567073903656554]
[null,"10-Highest dec. (family income in 2008$)",1.4891271982001693E-2,2.2884698483973454E-2,2.2278923421062496E-2,1.7998687454646545E-2,1.6328533404869672E-2,7.4499944537065634E-3,null,null,null,"10-Highest dec. (family income in 2008$)",0.1220297995655229,0.15127689342385853,0.14926125894237424,0.13415918699308871,0.12778314992544859,8.631335037933914E-2,null,null,null,"10-Highest dec. (family income in 2008$)",0.14033426950035133,0.17396842743743729,0.17165044778373037,0.154283065042052,0.14695062241426587,9.9260352936239998E-2]
[null,"1-Dropout      ",9.0959681269420418E-4,1.4339785177350513E-3,1.5261751184225752E-3,1.9040595416023967E-3,2.3170825994828534E-3,1.220512432896509E-3,null,null,null,"1-Dropout      ",3.0159522753090841E-2,3.7867908811222352E-2,3.9066291331819242E-2,4.3635530724426816E-2,4.8136084172716559E-2,3.4935833078610118E-2,null,null,null,"1-Dropout      ",3.4683451166054466E-2,4.3548095132905702E-2,4.4926235031592127E-2,5.0180860333090833E-2,5.535649679862404E-2,4.0176208040401631E-2]
[null,"2-H.S.Diploma (education)      ",1.9416014329448426E-3,2.5787345226198901E-3,2.2525566759937317E-3,2.2197042454176925E-3,2.2493493626720342E-3,1.0801254316232256E-3,null,null,null,"2-H.S.Diploma (education)      ",4.4063606672001356E-2,5.0781241838102877E-2,4.7461106982388555E-2,4.7113737332307788E-2,4.742730608702158E-2,3.2865261776277174E-2,null,null,null,"2-H.S.Diploma (education)      ",5.0673147672801552E-2,5.8398428113818304E-2,5.4580273029746836E-2,5.4180797932153954E-2,5.4541402000074811E-2,3.7795051042718748E-2]
[null,"3-SomeColl/AA  ",4.9052842883783475E-3,7.0680659761711189E-3,5.5835489141610774E-3,4.3995839917408963E-3,4.4385281991056614E-3,1.9603386855794724E-3,null,null,null,"3-SomeColl/AA  ",7.0037734746194832E-2,8.4071790608807179E-2,7.4723148449199306E-2,6.6329359952745637E-2,6.6622280050337976E-2,4.427571214085068E-2,null,null,null,"3-SomeColl/AA  ",8.0543394958124057E-2,9.6682559200128249E-2,8.5931620716579199E-2,7.6278763945657482E-2,7.661562205788866E-2,5.0917068961978278E-2]
[null,"4-4yr.Degree   ",9.3228566667471844E-3,1.3847993519858199E-2,1.2345012990449589E-2,1.0078229811519984E-2,9.2270264250547615E-3,3.7130522834766676E-3,null,null,null,"4-4yr.Degree   ",9.6554941182454168E-2,0.11767749793336957,0.11110811397215592,0.10039038704736616,9.6057412129698566E-2,6.0934819959335793E-2,null,null,null,"4-4yr.Degree   ",0.11103818235982228,0.13532912262337499,0.12777433106797931,0.11544894510447108,0.11046602394915334,7.0075042953236161E-2]
[null,"5-Grad.Degree  ",1.927294433489753E-2,2.1246906271154883E-2,1.6220462252120565E-2,1.9879918047804312E-2,1.7635190325706752E-2,6.4787328349907294E-3,null,null,null,"5-Grad.Degree  ",0.13882703027471821,0.14576318558248816,0.12735957856447455,0.140996163237885,0.13279755391462131,8.049057606323072E-2,null,null,null,"5-Grad.Degree  ",0.15965108481592594,0.16762766341986138,0.14646351534914573,0.16214558772356774,0.1527171870018145,9.2564162472715317E-2]
[null,"1-White NH (ethnic/race)     ",9.4649537852073374E-4,1.2808562990138457E-3,9.3394807037455675E-4,9.5597544129254219E-4,1.0629406099656653E-3,5.3490306961651772E-4,null,null,null,"1-White NH (ethnic/race)     ",3.0765165016959257E-2,3.5789052781735449E-2,3.0560563973437347E-2,3.0918852522248335E-2,3.2602769973817641E-2,2.3127971584566549E-2,null,null,null,"1-White NH (ethnic/race)     ",3.5379939769503141E-2,4.1157410698995762E-2,3.5144648569452944E-2,3.5556680400585586E-2,3.7493185469890285E-2,2.6597167322251529E-2]
[null,"2-Black NH     ",7.6832469844174394E-3,1.2001169850306248E-2,8.9416446902466137E-3,8.3186329374869486E-3,7.5378774723461363E-3,3.0154927917464842E-3,null,null,null,"2-Black NH     ",8.7654132728682221E-2,0.10954985098258349,9.4560270146857209E-2,9.1206539992957456E-2,8.6820950653319476E-2,5.4913502818036329E-2,null,null,null,"2-Black NH     ",0.10080225263798455,0.125982328629971,0.10874431066888578,0.10488752099190106,9.9844093251317392E-2,6.3150528240741771E-2]
[null,"3-Asian NH     ","N/A","N/A",6.296989735242714E-2,5.7844643519044933E-2,4.4945352387191204E-2,1.8871343181804296E-2,null,null,null,"3-Asian NH     ","N/A","N/A",0.25093803488595973,0.24050913396177895,0.21200318956843833,0.13737300747164377,null,null,null,"3-Asian NH     ","N/A","N/A",0.28857874011885365,0.27658550405604576,0.24380366800370407,0.15797895859239033]
[null,"4-Hispanic     ",3.1166230258020594E-2,2.9688267071217293E-2,1.8265191621038755E-2,1.3142131106288795E-2,1.0393733785304837E-2,4.1942952050629638E-3,null,null,null,"4-Hispanic     ",0.17653959968806035,0.17230283535455038,0.13514877587695256,0.11463913427049593,0.10194966299750499,6.4763378579741834E-2,null,null,null,"4-Hispanic     ",0.2030205396412694,0.19814826065773292,0.15542109225849543,0.13183500441107032,0.11724211244713073,7.4477885366703106E-2]
[null,"5-Other NH     ",6.5652301926013333E-3,7.9800837373254756E-3,1.4772447468667736E-2,2.0174835307875977E-2,1.9878063924119296E-2,1.1552491291980108E-2,null,null,null,"5-Other NH     ",8.1026108092400281E-2,8.9331314427391451E-2,0.12154195764701067,0.1420381473685009,0.14098958799896996,0.10748251621533667,null,null,null,"5-Other NH     ",9.3180024306260323E-2,0.10273101159150017,0.13977325129406226,0.16334386947377602,0.16213802619881545,0.12360489364763716]
[null,"1-Employed  (Labor force)",3.7208617553095309E-3,5.4880970509643672E-3,6.208364919459735E-3,6.5750160220183693E-3,5.1989091407683439E-3,2.1984254449334542E-3,null,null,null,"1-Employed  (Labor force)",6.0998866836274354E-2,7.4081691739351946E-2,7.8793178127676347E-2,8.1086472497071724E-2,7.2103461364683069E-2,4.6887369780501169E-2,null,null,null,"1-Employed  (Labor force)",7.0148696861715501E-2,8.5193945500254734E-2,9.0612154846827789E-2,9.3249443371632476E-2,8.2918980569385528E-2,5.3920475247576337E-2]
[null,"2-Unemployed   ",4.8236160193081093E-2,"N/A","N/A","N/A","N/A","N/A",null,null,null,"2-Unemployed   ",0.2196273211444357,"N/A","N/A","N/A","N/A","N/A",null,null,null,"2-Unemployed   ",0.25257141931610105,"N/A","N/A","N/A","N/A","N/A"]
[null,"3-NILF         ",8.1627080314589638E-4,1.1196678085259257E-3,9.8540319464527682E-4,9.4775133101828845E-4,9.2912946942222299E-4,3.2878815645126101E-4,null,null,null,"3-NILF         ",2.8570453324123096E-2,3.346143763387828E-2,3.1391132420562289E-2,3.0785570175299475E-2,3.0481625111240754E-2,1.8132516550420159E-2,null,null,null,"3-NILF         ",3.2856021322741555E-2,3.8480653278960018E-2,3.6099802283646627E-2,3.5403405701594393E-2,3.5053868877926865E-2,2.0852394032983182E-2]
[null,"1-Prof./Managerial (occ.)",2.7714410799869152E-2,4.5602733949741729E-2,5.3231550989882338E-2,4.9312543491806235E-2,4.5110081154796186E-2,2.0293148910262314E-2,null,null,null,"1-Prof./Managerial (occ.)",0.16647645719401033,0.21354796639102355,0.23071963720039596,0.22206427783821114,0.21239133964170051,0.14245402384721295,null,null,null,"1-Prof./Managerial (occ.)",0.19144792577311187,0.24558016134967706,0.26532758278045532,0.25537391951394278,0.24425004058795557,0.16382212742429489]
[null,"2-Sklld/Sales  ",1.1117480141511486E-2,1.7229447521853368E-2,1.7901158909209465E-2,1.6900861339613354E-2,1.4454342889606949E-2,5.5973993381340167E-3,null,null,null,"2-Sklld/Sales  ",0.10543946197468709,0.13126099009931841,0.13379521257955931,0.13000331280245653,0.12022621548400726,7.4815769314590469E-2,null,null,null,"2-Sklld/Sales  ",0.12125538127089015,0.15095013861421616,0.1538644944664932,0.14950380972282498,0.13826014780660834,8.6038134711779027E-2]
[null,"3-BlueCol.Lgt  ",2.2019520433145492E-2,2.8533575838164165E-2,2.2513743354137937E-2,2.4871908134637757E-2,2.2649975663554985E-2,7.6317795882094109E-3,null,null,null,"3-BlueCol.Lgt  ",0.14838975851838795,0.16891884394040874,0.15004580418704797,0.15770830077912118,0.15049908858047939,8.7360057166930766E-2,null,null,null,"3-BlueCol.Lgt  ",0.17064822229614612,0.19425667053147003,0.17255267481510514,0.18136454589598935,0.17307395186755128,0.10046406574197038]
[null,"4-BlueCol.Hvy  ",8.7729150596086193E-3,1.2114771443354891E-2,1.6237119773623833E-2,1.8660928403590987E-2,1.4717189661486605E-2,5.8979330125487929E-3,null,null,null,"4-BlueCol.Hvy  ",9.3663840726336961E-2,0.11006712244514659,0.12742495742052981,0.13660500870609024,0.12131442478735414,7.6798001357774884E-2,null,null,null,"4-BlueCol.Hvy  ",0.1077134168352875,0.12657719081191857,0.14653870103360928,0.15709576001200376,0.13951158850545725,8.8317701561441114E-2]
[null,"5-Medical.Occ  ","N/A","N/A","N/A","N/A","N/A","N/A",null,null,null,"5-Medical.Occ  ","N/A","N/A","N/A","N/A","N/A","N/A",null,null,null,"5-Medical.Occ  ","N/A","N/A","N/A","N/A","N/A","N/A"]
[null,"6-N/A          ",8.3012213385029357E-4,1.0726480805095056E-3,8.6383250944739804E-4,7.7733747652886315E-4,7.7180281573965034E-4,3.3907158756845806E-4,null,null,null,"6-N/A          ",2.8811840167720867E-2,3.275130654660216E-2,2.9391027703151145E-2,2.7880772523889347E-2,2.778133934387704E-2,1.8413896588404585E-2,null,null,null,"6-N/A          ",3.3133616192878995E-2,3.7664002528592484E-2,3.3799681858623816E-2,3.2062888402472747E-2,3.1948540245458595E-2,2.1175981076665271E-2]

{"sheet":"Lookup","index":6,"n_rows":16,"n_cols":12,"rows_kept":16,"cut":false,"hidden":false,"merged":[]}
[]
["SOA MI Trends"]
["Detailed model parameter results"]
["Lookup"]
[]
[null,"Sex","Smoker status","Income Decile","Education","Race/Ethnicity","Employment","Marital Status","Occupation",null,"Defaults","Cause of death"]
[null,"Male","Never",1,"No High School diploma","White Non-Hispanic","Employed","Married","Professional",null,"Male","All cause"]
[null,"Female","Current",2,"High School diploma","Black Non-Hispanic","Unemployed","Widowed","Skilled/Sales",null,"Not Asked","Cancer"]
[null,null,"Former",3,"Some College/AA","Asian Non-Hispanic","NILF","Divorced","Blue Collar (light physical duties)",null,10,"Heart"]
[null,null,"Not Asked",4,"College Degree","Hispanic",null,"Separated","Blue Collar (heavy physical duties)",null,"High School diploma","Pulmonary"]
[null,null,null,5,"Graduate Degree","Other Non-Hispanic",null,"Never Married","Medical",null,"White Non-Hispanic","Stroke"]
[null,null,null,6,null,null,null,null,"N/A",null,"Employed"]
[null,null,null,7,null,null,null,null,null,null,"Married"]
[null,null,null,8,null,null,null,null,null,null,"Professional"]
[null,null,null,9,null,null,null,null,null,null,"All cause"]
[null,null,null,10]

{"sheet":"Regression parameter results-->","index":7,"n_rows":0,"n_cols":0,"rows_kept":0,"cut":false,"hidden":false,"merged":[]}

{"sheet":"All cause parameters","index":8,"n_rows":59,"n_cols":11,"rows_kept":59,"cut":false,"hidden":false,"merged":[]}
[]
["SOA MI Trends"]
["Detailed model parameter results"]
["All-cause"]
[]
[null,"Variable","1980-1983","1984-1987","1988-1991","1992-1995","1996-1999","2000-2003","2004-2007","2008-11 (NLMS)","2008-11 (MDAC)"]
[null,"age 40-44 ",-1.79,-1.7709999999999999,-1.768,-1.897,-1.829,-1.5880000000000001,-1.6240000000000001,-1.3169999999999999,-1.619]
[null,"age 45-49 ",-1.339,-1.4019999999999999,-1.3180000000000001,-1.482,-1.383,-1.24,-1.169,-1.113,-1.2350000000000001]
[null,"age 50-54 ",-0.89759999999999995,-0.89180000000000004,-0.94330000000000003,-0.999,-1.054,-0.91110000000000002,-0.79690000000000005,-0.84009999999999996,-0.83730000000000004]
[null,"age 55-59 ",-0.52410000000000001,-0.50409999999999999,-0.50739999999999996,-0.64780000000000004,-0.58919999999999995,-0.5444,-0.4849,-0.36220000000000002,-0.51770000000000005]
[null,"age 60-64",-0.22270000000000001,-0.22819999999999999,-0.23139999999999999,-0.31709999999999999,-0.32050000000000001,-0.31850000000000001,-0.24890000000000001,-0.188,-0.26429999999999998]
[null,"age 65-69 (age group) ",0,0,0,0,0,0,0,0,0]
[null,"age 70-74 ",0.32129999999999997,0.35770000000000002,0.34649999999999997,0.33750000000000002,0.38690000000000002,0.4002,0.3921,0.38529999999999998,0.33179999999999998]
[null,"age 75-79 ",0.69599999999999995,0.7157,0.72650000000000003,0.7802,0.75629999999999997,0.7782,0.74429999999999996,0.72840000000000005,0.78900000000000003]
[null,"age 80-84 ",1.0509999999999999,1.143,1.1200000000000001,1.1499999999999999,1.1359999999999999,1.194,1.1479999999999999,1.07,1.24]
[null,"age 85+",1.4359999999999999,1.4910000000000001,1.53,1.508,1.498,1.5820000000000001,1.6830000000000001,1.679,1.798]
[null,"Male (Sex)",0,0,0,0,0,0,0,0,0]
[null,"Female       ",-0.71360000000000001,-0.69650000000000001,-0.6099,-0.52059999999999995,-0.48809999999999998,-0.39360000000000001,-0.499,-0.55940000000000001,-0.49530000000000002]
[null,"1-Never  ",0,0,0,-0.27629999999999999,-0.2291,-0.20949999999999999,-0.3196,-0.70889999999999997,0]
[null,"2-Current",0,0,0,0.38200000000000001,0.4491,0.4955,0.38800000000000001,-1.09E-2,0]
[null,"3-Former ",0,0,0,-3.1699999999999999E-2,3.2300000000000002E-2,7.3599999999999999E-2,-2.98E-2,-0.65059999999999996,0]
[null,"4-Not_Asked (smoker)",0,0,0,0,0,0,0,0,0]
[null,"1-Married (marital status)",0,0,0,0,0,0,0,0,0]
[null,"2-Widowed    ",0.20610000000000001,0.22159999999999999,0.20419999999999999,0.2319,0.2137,0.21909999999999999,0.29720000000000002,0.30409999999999998,0.42209999999999998]
[null,"3-Divorced   ",0.28920000000000001,0.29189999999999999,0.2394,0.31640000000000001,0.29659999999999997,0.33810000000000001,0.38290000000000002,0.39800000000000002,0.4647]
[null,"4-Separated  ",0.31080000000000002,0.22090000000000001,0.32650000000000001,0.38429999999999997,0.27629999999999999,0.2346,0.5403,0.2782,0.433]
[null,"5-NeverMar.  ",0.26669999999999999,0.31719999999999998,0.25340000000000001,0.2235,0.26490000000000002,0.32429999999999998,0.42670000000000002,0.50339999999999996,0.43419999999999997]
[null,"1-Lowest inc.  ",0.31290000000000001,0.25230000000000002,0.40360000000000001,0.24329999999999999,0.4073,0.2039,0.29120000000000001,0.32969999999999999,0.35749999999999998]
[null,"2-Second dec.  ",0.3221,0.26169999999999999,0.41439999999999999,0.22070000000000001,0.35649999999999998,0.24540000000000001,0.2346,0.25230000000000002,0.38080000000000003]
[null,"3-Third dec.   ",0.25640000000000002,0.25119999999999998,0.30940000000000001,0.20250000000000001,0.35680000000000001,0.16689999999999999,0.2661,0.20469999999999999,0.32590000000000002]
[null,"4-Fourth dec.  ",0.21590000000000001,0.17829999999999999,0.27410000000000001,0.1535,0.31440000000000001,0.15959999999999999,0.27050000000000002,0.15190000000000001,0.30590000000000001]
[null,"5-Fifth dec.   ",0.1963,0.14130000000000001,0.26989999999999997,0.1532,0.29160000000000003,0.1946,0.20979999999999999,0.2319,0.2722]
[null,"6-Sixth dec.   ",0.1661,0.13819999999999999,0.25879999999999997,0.1394,0.30170000000000002,5.0299999999999997E-2,0.20430000000000001,0.18509999999999999,0.20430000000000001]
[null,"7-Seventh dec. ",8.0299999999999996E-2,3.1E-2,0.185,0.1016,0.23780000000000001,0.1166,7.6399999999999996E-2,0.16850000000000001,0.17169999999999999]
[null,"8-Eighth dec.  ",0.12,5.0700000000000002E-2,0.15740000000000001,3.2300000000000002E-2,0.20630000000000001,8.9800000000000005E-2,6.25E-2,0.17899999999999999,0.1174]
[null,"9-Ninth dec.   ",2.4299999999999999E-2,4.5199999999999997E-2,0.13070000000000001,2.6100000000000002E-2,0.23400000000000001,6.8500000000000005E-2,0.1231,0.21590000000000001,8.6300000000000002E-2]
[null,"10-Highest dec. (family income in 2008$)",0,0,0,0,0,0,0,0,0]
[null,"1-Dropout      ",0.11210000000000001,8.77E-2,9.6600000000000005E-2,0.16209999999999999,0.12989999999999999,0.1149,7.1400000000000005E-2,0.17080000000000001,0.1225]
[null,"2-H.S.Diploma (education)      ",0,0,0,0,0,0,0,0,0]
[null,"3-SomeColl/AA  ",7.6E-3,-4.3999999999999997E-2,-5.6599999999999998E-2,-5.5800000000000002E-2,-5.8799999999999998E-2,-6.3700000000000007E-2,-0.11990000000000001,-0.12189999999999999,-9.4500000000000001E-2]
[null,"4-4yr.Degree   ",-9.6600000000000005E-2,-9.74E-2,-0.13420000000000001,-0.1021,-0.15140000000000001,-0.16139999999999999,-0.2762,-0.30370000000000003,-0.27679999999999999]
[null,"5-Grad.Degree  ",-0.18379999999999999,-0.2228,-0.20180000000000001,-0.1474,-0.27039999999999997,-0.28029999999999999,-0.33879999999999999,-0.35799999999999998,-0.35049999999999998]
[null,"1-White NH (ethnic/race)     ",0,0,0,0,0,0,0,0,0]
[null,"2-Black NH     ",0.1013,6.6000000000000003E-2,0.12590000000000001,9.6299999999999997E-2,4.0000000000000001E-3,2.8899999999999999E-2,2.9999999999999997E-4,-6.08E-2,-5.2200000000000003E-2]
[null,"3-Asian NH     ",-0.45140000000000002,-0.55700000000000005,-0.41199999999999998,-0.54710000000000003,-0.57299999999999995,-0.43459999999999999,-0.59530000000000005,-0.7994,-0.20810000000000001]
[null,"4-Hispanic     ",-0.41410000000000002,-0.32240000000000002,-0.22020000000000001,-0.42820000000000003,-0.53700000000000003,-0.5615,-0.44629999999999997,-0.48570000000000002,-0.44540000000000002]
[null,"5-Other NH     ",-2.1000000000000001E-2,-9.1999999999999998E-2,8.9999999999999998E-4,-3.6900000000000002E-2,-8.4199999999999997E-2,2.5399999999999999E-2,0.27279999999999999,7.4899999999999994E-2,2.63E-2]
[null,"1-Employed  (Labor force)",0,0,0,0,0,0,0,0,0]
[null,"2-Unemployed   ",0.17549999999999999,0.17810000000000001,1.12E-2,0.3906,0.33579999999999999,0.37269999999999998,0.32679999999999998,9.01E-2,0.34]
[null,"3-NILF         ",0.4022,0.32050000000000001,0.44190000000000002,0.51800000000000002,0.54759999999999998,0.32719999999999999,0.77249999999999996,1.2408999999999999,0.59289999999999998]
[null,"1-Prof./Managerial (occ.)",0,0,0,0,0,0,0,0,0]
[null,"2-Sklld/Sales  ",0.129,0.12590000000000001,4.2099999999999999E-2,-2.1299999999999999E-2,3.8199999999999998E-2,4.2799999999999998E-2,9.6299999999999997E-2,0.17150000000000001,0.1123]
[null,"3-BlueCol.Lgt  ",0.11840000000000001,0.1386,4.9799999999999997E-2,0.14510000000000001,2.3900000000000001E-2,0.15709999999999999,0.2495,0.10539999999999999,0.2233]
[null,"4-BlueCol.Hvy  ",0.12330000000000001,0.19040000000000001,0.14219999999999999,0.13880000000000001,7.7600000000000002E-2,0.11890000000000001,0.2303,0.18809999999999999,0.1852]
[null,"5-Medical.Occ  ",0.14899999999999999,0.25230000000000002,-7.9899999999999999E-2,3.44E-2,-0.1346,3.0200000000000001E-2,0.21829999999999999,0.19500000000000001,0.1226]
[null,"6-N/A          ",0.24399999999999999,0.39119999999999999,0.214,0.16569999999999999,0.121,0.46860000000000002,0.28249999999999997,4.36E-2,0.32100000000000001]
[]
[null,"N(n)",252000,98000,91000,114000,106000,142000,193000,187000,1683000]
[null,"N(d)",56000,21500,20000,22500,17500,18500,14000,5000,155000]

{"sheet":"Cancer parameters","index":9,"n_rows":59,"n_cols":11,"rows_kept":59,"cut":false,"hidden":false,"merged":[]}
[]
["SOA MI Trends"]
["Detailed model parameter results"]
["Cancer"]
[]
[null,"Variable","1980-1983","1984-1987","1988-1991","1992-1995","1996-1999","2000-2003","2004-2007","2008-11 (NLMS)","2008-11 (MDAC)"]
[null,"age 40-44 ",-1.8120000000000001,-1.758,-1.986,-2.1360000000000001,-2.1960000000000002,-2.0649999999999999,-2.319,-1.71,-2.0870000000000002]
[null,"age 45-49 ",-1.2809999999999999,-1.393,-1.3149999999999999,-1.603,-1.6859999999999999,-1.4650000000000001,-1.651,-1.407,-1.5229999999999999]
[null,"age 50-54 ",-0.78049999999999997,-0.77759999999999996,-0.81659999999999999,-0.91739999999999999,-1.284,-1.0049999999999999,-0.94359999999999999,-0.92969999999999997,-1.0269999999999999]
[null,"age 55-59 ",-0.3962,-0.41220000000000001,-0.45979999999999999,-0.6109,-0.63490000000000002,-0.59460000000000002,-0.57369999999999999,-0.42209999999999998,-0.59919999999999995]
[null,"age 60-64",-0.1618,-0.1883,-0.18920000000000001,-0.23980000000000001,-0.25290000000000001,-0.2228,-0.34720000000000001,-5.5300000000000002E-2,-0.2802]
[null,"age 65-69 (age group) ",0,0,0,0,0,0,0,0,0]
[null,"age 70-74 ",0.16550000000000001,0.159,0.1217,0.24560000000000001,0.1148,0.27850000000000003,0.29820000000000002,0.39900000000000002,0.20979999999999999]
[null,"age 75-79 ",0.32079999999999997,0.311,0.26329999999999998,0.42870000000000003,0.30809999999999998,0.50280000000000002,0.41760000000000003,0.73129999999999995,0.46739999999999998]
[null,"age 80-84 ",0.38119999999999998,0.36899999999999999,0.37719999999999998,0.51939999999999997,0.42480000000000001,0.67479999999999996,0.53969999999999996,0.76359999999999995,0.69820000000000004]
[null,"age 85+",0.50039999999999996,0.52710000000000001,0.38290000000000002,0.52549999999999997,0.41060000000000002,0.64410000000000001,0.755,1.0549999999999999,0.8115]
[null,"Male (Sex)",0,0,0,0,0,0,0,0,0]
[null,"Female       ",-0.64170000000000005,-0.60209999999999997,-0.59560000000000002,-0.436,-0.42259999999999998,-0.33019999999999999,-0.48930000000000001,-0.49469999999999997,-0.44419999999999998]
[null,"1-Never  ",0,0,0,-0.45519999999999999,-0.46200000000000002,-0.30120000000000002,-0.54820000000000002,-0.73709999999999998,0]
[null,"2-Current",0,0,0,0.45629999999999998,0.5796,0.68679999999999997,0.54949999999999999,0.22450000000000001,0]
[null,"3-Former ",0,0,0,-2.58E-2,-2.75E-2,0.1067,6.9099999999999995E-2,-0.38019999999999998,0]
[null,"4-Not_Asked (smoker)",0,0,0,0,0,0,0,0,0]
[null,"1-Married (marital status)",0,0,0,0,0,0,0,0,0]
[null,"2-Widowed    ",6.0199999999999997E-2,5.4800000000000001E-2,0.17680000000000001,9.6199999999999994E-2,0.12889999999999999,1.46E-2,0.1923,1.8499999999999999E-2,0.15540000000000001]
[null,"3-Divorced   ",0.2147,0.18029999999999999,0.12720000000000001,0.2266,0.16020000000000001,0.15570000000000001,0.20949999999999999,0.2019,0.33179999999999998]
[null,"4-Separated  ",0.30880000000000002,0.19639999999999999,0.2918,9.0899999999999995E-2,0.25559999999999999,-3.3799999999999997E-2,0.23230000000000001,0.26860000000000001,0.2888]
[null,"5-NeverMar.  ",0.15890000000000001,-0.18779999999999999,7.9299999999999995E-2,5.0000000000000001E-4,6.1000000000000004E-3,4.5699999999999998E-2,0.2636,0.2969,0.17399999999999999]
[null,"1-Lowest inc.  ",0.22140000000000001,0.18990000000000001,0.2286,6.25E-2,0.42749999999999999,0.1454,0.22309999999999999,0.1026,0.3221]
[null,"2-Second dec.  ",0.29099999999999998,0.12590000000000001,0.34799999999999998,-3.15E-2,0.4,0.2009,0.15579999999999999,0.23119999999999999,0.31059999999999999]
[null,"3-Third dec.   ",0.22919999999999999,0.182,0.2414,-3.1600000000000003E-2,0.3201,0.23139999999999999,0.17430000000000001,7.6300000000000007E-2,0.27629999999999999]
[null,"4-Fourth dec.  ",0.1525,7.8799999999999995E-2,0.24490000000000001,-2.24E-2,0.33950000000000002,0.21590000000000001,8.8800000000000004E-2,8.0299999999999996E-2,0.29980000000000001]
[null,"5-Fifth dec.   ",0.18970000000000001,8.4599999999999995E-2,0.2296,5.1999999999999998E-2,0.28489999999999999,0.18240000000000001,0.1016,4.0800000000000003E-2,0.28949999999999998]
[null,"6-Sixth dec.   ",0.17599999999999999,5.5100000000000003E-2,0.22109999999999999,-6.8900000000000003E-2,0.29160000000000003,0.1406,0.22570000000000001,0.15720000000000001,0.2026]
[null,"7-Seventh dec. ",0.1105,-5.3999999999999999E-2,6.88E-2,-9.7000000000000003E-2,0.3291,0.1651,3.6799999999999999E-2,-6.7000000000000002E-3,0.16320000000000001]
[null,"8-Eighth dec.  ",0.15670000000000001,7.1099999999999997E-2,0.13969999999999999,-0.1022,0.185,0.13389999999999999,2.0899999999999998E-2,-4.8399999999999999E-2,0.1148]
[null,"9-Ninth dec.   ",0.19980000000000001,-3.2599999999999997E-2,0.11,-0.11749999999999999,0.33450000000000002,1.84E-2,2.6800000000000001E-2,-0.1138,3.5499999999999997E-2]
[null,"10-Highest dec. (family income in 2008$)",0,0,0,0,0,0,0,0,0]
[null,"1-Dropout      ",5.0799999999999998E-2,0.1,4.7399999999999998E-2,0.2112,6.4399999999999999E-2,8.3299999999999999E-2,0.1134,9.5500000000000002E-2,0.1244]
[null,"2-H.S.Diploma (education)      ",0,0,0,0,0,0,0,0,0]
[null,"3-SomeColl/AA  ",4.2099999999999999E-2,-2.3599999999999999E-2,-5.74E-2,-4.9200000000000001E-2,-7.7100000000000002E-2,-6.9500000000000006E-2,-4.8399999999999999E-2,-1.2500000000000001E-2,-9.0899999999999995E-2]
[null,"4-4yr.Degree   ",-0.18559999999999999,-0.18340000000000001,-7.5800000000000006E-2,-0.18010000000000001,-0.18329999999999999,-0.16880000000000001,-0.29920000000000002,-0.35560000000000003,-0.25109999999999999]
[null,"5-Grad.Degree  ",-0.15440000000000001,-0.36580000000000001,-0.19420000000000001,-0.23949999999999999,-0.23380000000000001,-0.3392,-0.27,-0.4481,-0.35260000000000002]
[null,"1-White NH (ethnic/race)     ",0,0,0,0,0,0,0,0,0]
[null,"2-Black NH     ",0.12759999999999999,0.16389999999999999,0.17469999999999999,0.17979999999999999,3.0499999999999999E-2,-1.5E-3,2.9399999999999999E-2,-4.9200000000000001E-2,4.7999999999999996E-3]
[null,"3-Asian NH     ",-0.42549999999999999,-0.6028,-0.33379999999999999,-0.54249999999999998,-0.41820000000000002,-0.20039999999999999,-0.45079999999999998,-1.0092000000000001,2.2000000000000001E-3]
[null,"4-Hispanic     ",-0.57010000000000005,-0.44569999999999999,-0.35070000000000001,-0.51680000000000004,-0.6109,-0.70140000000000002,-0.42330000000000001,-0.55879999999999996,-0.44550000000000001]
[null,"5-Other NH     ",-0.11169999999999999,-2.7699999999999999E-2,3.8E-3,-7.2300000000000003E-2,-8.9499999999999996E-2,8.3999999999999995E-3,0.16689999999999999,0.17749999999999999,-1.0500000000000001E-2]
[null,"1-Employed  (Labor force)",0,0,0,0,0,0,0,0,0]
[null,"2-Unemployed   ",8.1799999999999998E-2,4.2799999999999998E-2,-0.1711,0.38250000000000001,0.2137,0.2354,0.26179999999999998,-0.42730000000000001,0.1545]
[null,"3-NILF         ",0.35089999999999999,0.33129999999999998,0.31819999999999998,0.2114,0.35649999999999998,0.41460000000000002,0.85770000000000002,1.1353,0.3644]
[null,"1-Prof./Managerial (occ.)",0,0,0,0,0,0,0,0,0]
[null,"2-Sklld/Sales  ",0.20680000000000001,0.14149999999999999,-4.3799999999999999E-2,-0.1275,-7.7499999999999999E-2,8.1699999999999995E-2,5.4399999999999997E-2,9.1999999999999998E-3,0.1206]
[null,"3-BlueCol.Lgt  ",0.1832,9.2200000000000004E-2,-1.9800000000000002E-2,-2.0000000000000001E-4,-0.16819999999999999,0.12429999999999999,3.9300000000000002E-2,-6.6400000000000001E-2,0.1938]
[null,"4-BlueCol.Hvy  ",0.16320000000000001,8.0500000000000002E-2,4.6199999999999998E-2,-1.6199999999999999E-2,-8.6099999999999996E-2,4.6699999999999998E-2,4.4999999999999998E-2,4.1999999999999997E-3,0.1399]
[null,"5-Medical.Occ  ",0.26919999999999999,0.25690000000000002,-0.13750000000000001,-9.1399999999999995E-2,-0.1865,-6.9400000000000003E-2,0.13439999999999999,3.3399999999999999E-2,0.18160000000000001]
[null,"6-N/A          ",0.15970000000000001,0.105,6.8599999999999994E-2,8.7900000000000006E-2,-9.5000000000000001E-2,6.5699999999999995E-2,-0.25629999999999997,-0.36009999999999998,0.1472]
[]
[null,"N(n)",252000,98000,91000,114000,106000,142000,193000,187000,1683000]
[null,"N(d)",14000,5600,5400,5800,4400,4900,3800,1400,43000]

{"sheet":"Heart parameters","index":10,"n_rows":59,"n_cols":11,"rows_kept":59,"cut":false,"hidden":false,"merged":[]}
[]
["SOA MI Trends"]
["Detailed model parameter results"]
["Heart"]
[]
[null,"Variable","1980-1983","1984-1987","1988-1991","1992-1995","1996-1999","2000-2003","2004-2007","2008-11 (NLMS)","2008-11 (MDAC)"]
[null,"age 40-44 ",-2.0089999999999999,-2.1509999999999998,-1.9139999999999999,-2.2160000000000002,-2.0139999999999998,-1.5640000000000001,-1.944,-2.2509999999999999,-1.661]
[null,"age 45-49 ",-1.5069999999999999,-1.6180000000000001,-1.4370000000000001,-1.7589999999999999,-1.3029999999999999,-1.377,-1.0669999999999999,-1.409,-1.2709999999999999]
[null,"age 50-54 ",-1.04,-1.0349999999999999,-1.0089999999999999,-1.054,-0.9194,-0.92989999999999995,-0.80959999999999999,-1.018,-0.83]
[null,"age 55-59 ",-0.61650000000000005,-0.55830000000000002,-0.60199999999999998,-0.6472,-0.51139999999999997,-0.45369999999999999,-0.55410000000000004,-0.52139999999999997,-0.47039999999999998]
[null,"age 60-64",-0.26590000000000003,-0.2833,-0.25519999999999998,-0.35770000000000002,-0.39729999999999999,-0.38,-0.28420000000000001,-0.49669999999999997,-0.25690000000000002]
[null,"age 65-69 (age group) ",0,0,0,0,0,0,0,0,0]
[null,"age 70-74 ",0.36670000000000003,0.43259999999999998,0.43280000000000002,0.3488,0.48409999999999997,0.46179999999999999,0.37180000000000002,0.21290000000000001,0.38290000000000002]
[null,"age 75-79 ",0.80049999999999999,0.88570000000000004,0.91669999999999996,0.86850000000000005,0.93020000000000003,0.91610000000000003,0.80120000000000002,0.56859999999999999,0.93069999999999997]
[null,"age 80-84 ",1.198,1.359,1.369,1.32,1.3939999999999999,1.379,1.3779999999999999,1.085,1.486]
[null,"age 85+",1.6279999999999999,1.7729999999999999,1.8540000000000001,1.746,1.9139999999999999,1.899,2.073,1.946,2.1930000000000001]
[null,"Male (Sex)",0,0,0,0,0,0,0,0,0]
[null,"Female       ",-0.77810000000000001,-0.76439999999999997,0.76529999999999998,-0.65400000000000003,-0.64639999999999997,-0.53639999999999999,-0.60119999999999996,-0.70740000000000003,-0.67769999999999997]
[null,"1-Never  ",0,0,0,-0.2233,-0.1638,-0.1648,-0.31369999999999998,-0.60340000000000005,0]
[null,"2-Current",0,0,0,0.25559999999999999,0.379,0.34799999999999998,0.31209999999999999,-1E-3,0]
[null,"3-Former ",0,0,0,-9.1200000000000003E-2,-0.03,1.01E-2,-2.5700000000000001E-2,-0.67810000000000004,0]
[null,"4-Not_Asked (smoker)",0,0,0,0,0,0,0,0,0]
[null,"1-Married (marital status)",0,0,0,0,0,0,0,0,0]
[null,"2-Widowed    ",0.2455,0.2843,0.24179999999999999,0.33029999999999998,0.2732,1.01E-2,0.39150000000000001,0.4546,0.55859999999999999]
[null,"3-Divorced   ",0.1963,0.30580000000000002,0.23749999999999999,0.2828,0.3548,0.34920000000000001,0.41520000000000001,0.47599999999999998,0.54669999999999996]
[null,"4-Separated  ",0.2099,0.1706,0.28420000000000001,0.47849999999999998,0.3105,0.4461,0.70040000000000002,0.34560000000000002,0.43140000000000001]
[null,"5-NeverMar.  ",0.28070000000000001,0.41089999999999999,0.31559999999999999,0.36120000000000002,0.434,0.33539999999999998,0.42180000000000001,0.58150000000000002,0.53310000000000002]
[null,"1-Lowest inc.  ",0.36980000000000002,0.1757,0.45190000000000002,0.36,0.4143,0.45989999999999998,0.43890000000000001,0.28060000000000002,0.31280000000000002]
[null,"2-Second dec.  ",0.34250000000000003,0.2031,0.41699999999999998,0.33560000000000001,0.34960000000000002,0.19359999999999999,0.43409999999999999,0.1709,0.35210000000000002]
[null,"3-Third dec.   ",0.26860000000000001,0.20830000000000001,0.32779999999999998,0.36770000000000003,0.40060000000000001,0.25750000000000001,0.36919999999999997,2.5499999999999998E-2,0.30859999999999999]
[null,"4-Fourth dec.  ",0.24479999999999999,0.12570000000000001,0.30009999999999998,0.25040000000000001,0.35099999999999998,0.12509999999999999,0.30669999999999997,0.13439999999999999,0.28589999999999999]
[null,"5-Fifth dec.   ",0.22239999999999999,3.85E-2,0.28050000000000003,0.26519999999999999,0.25140000000000001,0.1305,0.35980000000000001,0.1825,0.1875]
[null,"6-Sixth dec.   ",0.15809999999999999,7.5800000000000006E-2,0.26840000000000003,0.30759999999999998,0.39429999999999998,0.24560000000000001,0.34,-0.28499999999999998,0.14369999999999999]
[null,"7-Seventh dec. ",9.8500000000000004E-2,-3.9899999999999998E-2,0.16389999999999999,0.2137,0.16009999999999999,-1.18E-2,0.20200000000000001,0.23830000000000001,0.1201]
[null,"8-Eighth dec.  ",0.11940000000000001,1.21E-2,0.18210000000000001,0.10009999999999999,0.19109999999999999,0.1212,0.16589999999999999,0.12809999999999999,9.6600000000000005E-2]
[null,"9-Ninth dec.   ",-3.0700000000000002E-2,4.19E-2,0.1176,0.18410000000000001,0.32150000000000001,0.127,0.35920000000000002,0.1018,5.4600000000000003E-2]
[null,"10-Highest dec. (family income in 2008$)",0,0,0,0,0,0,0,0,0]
[null,"1-Dropout      ",0.15090000000000001,6.7799999999999999E-2,0.11459999999999999,0.1331,0.22600000000000001,0.1709,9.7100000000000006E-2,0.31340000000000001,0.14560000000000001]
[null,"2-H.S.Diploma (education)      ",0,0,0,0,0,0,0,0,0]
[null,"3-SomeColl/AA  ",-3.1600000000000003E-2,-0.12820000000000001,-5.8500000000000003E-2,-9.4100000000000003E-2,-6.8999999999999999E-3,-2.53E-2,-0.1128,-0.1885,-8.0699999999999994E-2]
[null,"4-4yr.Degree   ",-0.1154,-0.1244,-0.26069999999999999,-0.1125,-0.1885,-0.10680000000000001,-0.30180000000000001,-0.30470000000000003,-0.3261]
[null,"5-Grad.Degree  ",-0.24970000000000001,-0.20499999999999999,-0.19539999999999999,-0.1174,-0.26490000000000002,-0.25890000000000002,-0.3775,-0.48630000000000001,-0.37959999999999999]
[null,"1-White NH (ethnic/race)     ",0,0,0,0,0,0,0,0,0]
[null,"2-Black NH     ",3.8300000000000001E-2,1.4200000000000001E-2,0.13059999999999999,0.11310000000000001,-7.2800000000000004E-2,6.8199999999999997E-2,2.3800000000000002E-2,-5.2200000000000003E-2,4.8999999999999998E-3]
[null,"3-Asian NH     ",-0.60560000000000003,-0.79610000000000003,-0.58850000000000002,-0.50180000000000002,-0.66479999999999995,-0.4768,-0.79020000000000001,-0.95369999999999999,-0.30220000000000002]
[null,"4-Hispanic     ",-0.47670000000000001,-0.40200000000000002,-0.218,-0.45839999999999997,-0.60729999999999995,-0.54079999999999995,-0.47520000000000001,-0.56969999999999998,-0.48230000000000001]
[null,"5-Other NH     ",-9.9500000000000005E-2,-0.1133,-9.2200000000000004E-2,-0.16239999999999999,6.3700000000000007E-2,-8.8999999999999996E-2,0.1434,-8.1000000000000003E-2,-3.9699999999999999E-2]
[null,"1-Employed  (Labor force)",0,0,0,0,0,0,0,0,0]
[null,"2-Unemployed   ",0.1477,4.8500000000000001E-2,7.7499999999999999E-2,0.37830000000000003,5.79E-2,0.35549999999999998,0.3251,9.2299999999999993E-2,0.40439999999999998]
[null,"3-NILF         ",0.3886,0.22189999999999999,0.41299999999999998,0.35749999999999998,0.48620000000000002,-8.6300000000000002E-2,0.64429999999999998,1.5129999999999999,0.59060000000000001]
[null,"1-Prof./Managerial (occ.)",0,0,0,0,0,0,0,0,0]
[null,"2-Sklld/Sales  ",1.7100000000000001E-2,-1.8800000000000001E-2,5.28E-2,-2.58E-2,0.317,-4.7000000000000002E-3,0.1196,0.14410000000000001,0.10059999999999999]
[null,"3-BlueCol.Lgt  ",5.8099999999999999E-2,0.1318,4.5900000000000003E-2,0.20760000000000001,0.3861,0.28739999999999999,0.50829999999999997,2.6200000000000001E-2,0.24310000000000001]
[null,"4-BlueCol.Hvy  ",5.7299999999999997E-2,0.1802,0.21890000000000001,0.17150000000000001,0.21790000000000001,0.1973,0.37990000000000002,-0.1328,0.2145]
[null,"5-Medical.Occ  ",-2.7199999999999998E-2,4.8500000000000001E-2,-0.25590000000000002,3.5999999999999999E-3,-3.7100000000000001E-2,0.1212,0.33679999999999999,4.5100000000000001E-2,9.7000000000000003E-3]
[null,"6-N/A          ",0.18579999999999999,0.4234,0.25,0.41520000000000001,0.40749999999999997,1.0350999999999999,0.62450000000000006,-0.42509999999999998,0.4022]
[]
[null,"N(n)",252000,98000,91000,114000,106000,142000,193000,187000,1683000]
[null,"N(d)",22000,7900,6900,7300,5300,5200,3800,1300,38500]

{"sheet":"Pulmonary parameters","index":11,"n_rows":59,"n_cols":11,"rows_kept":59,"cut":false,"hidden":false,"merged":[]}
[]
["SOA MI Trends"]
["Detailed model parameter results"]
["Pulmonary"]
[]
[null,"Variable","1980-1983","1984-1987","1988-1991","1992-1995","1996-1999","2000-2003","2004-2007","2008-11 (NLMS)","2008-11 (MDAC)"]
[null,"age 40-44 ",-2.4529999999999998,-2.6040000000000001,-3.073,-2.97,-2.8479999999999999,-2.2890000000000001,null,null,-2.7280000000000002]
[null,"age 45-49 ",-2.0270000000000001,-2.0920000000000001,-2.0979999999999999,-2.3620000000000001,-2.27,-1.756,null,null,-1.9910000000000001]
[null,"age 50-54 ",-1.0349999999999999,-1.323,-1.389,-1.462,-1.5960000000000001,-1.645,null,null,-1.262]
[null,"age 55-59 ",-0.48709999999999998,-0.88180000000000003,-0.70069999999999999,-0.83860000000000001,-0.61629999999999996,-0.71150000000000002,null,null,-0.87329999999999997]
[null,"age 60-64",-0.17979999999999999,-0.3221,-0.34660000000000002,-0.3125,-0.41820000000000002,-0.22509999999999999,null,null,-0.42280000000000001]
[null,"age 65-69 (age group) ",0,0,0,0,0,0,null,null,0]
[null,"age 70-74 ",0.1802,0.14180000000000001,0.28860000000000002,0.27889999999999998,0.28389999999999999,0.48089999999999999,null,null,0.2258]
[null,"age 75-79 ",0.1235,0.31140000000000001,0.46379999999999999,0.59709999999999996,0.57740000000000002,0.7248,null,null,0.5282]
[null,"age 80-84 ",0.32090000000000002,0.52,0.64949999999999997,0.87090000000000001,0.8861,1.0620000000000001,null,null,0.7994]
[null,"age 85+",4.65E-2,0.3387,0.64729999999999999,0.62909999999999999,0.94040000000000001,1.22,null,null,1.0089999999999999]
[null,"Male (Sex)",0,0,0,0,0,0,null,null,0]
[null,"Female       ",-1.1850000000000001,-0.96040000000000003,-0.74080000000000001,-0.55049999999999999,-0.39379999999999998,-0.19789999999999999,null,null,-0.47689999999999999]
[null,"1-Never  ",0,0,0,-1.216,-0.9476,-1.145,null,null,0]
[null,"2-Current",0,0,0,1.1519999999999999,0.88519999999999999,0.92800000000000005,null,null,0]
[null,"3-Former ",0,0,0,0.18890000000000001,0.41930000000000001,0.2412,null,null,0]
[null,"4-Not_Asked (smoker)",0,0,0,0,0,0,null,null,0]
[null,"1-Married (marital status)",0,0,0,0,0,0,null,null,0]
[null,"2-Widowed    ",0.32490000000000002,0.25580000000000003,0.27289999999999998,0.33700000000000002,0.24479999999999999,0.28970000000000001,null,null,0.67069999999999996]
[null,"3-Divorced   ",0.69530000000000003,0.56789999999999996,0.3977,0.39079999999999998,0.55720000000000003,0.50260000000000005,null,null,0.95909999999999995]
[null,"4-Separated  ",0.62309999999999999,-0.1032,0.40689999999999998,0.23580000000000001,0.25119999999999998,0.53710000000000002,null,null,0.73029999999999995]
[null,"5-NeverMar.  ",9.8199999999999996E-2,0.43630000000000002,2.46E-2,-0.15060000000000001,0.2301,8.1699999999999995E-2,null,null,0.27939999999999998]
[null,"1-Lowest inc.  ",0.63270000000000004,0.55189999999999995,0.51529999999999998,0.70640000000000003,0.2414,0.25559999999999999,null,null,0.63660000000000005]
[null,"2-Second dec.  ",0.67179999999999995,0.50370000000000004,0.44940000000000002,0.65769999999999995,0.14460000000000001,0.34310000000000002,null,null,0.72050000000000003]
[null,"3-Third dec.   ",0.59819999999999995,0.35949999999999999,0.17929999999999999,0.70250000000000001,0.11650000000000001,0.1008,null,null,0.56950000000000001]
[null,"4-Fourth dec.  ",0.54049999999999998,0.31490000000000001,0.3831,0.50570000000000004,6.8900000000000003E-2,0.18629999999999999,null,null,0.56659999999999999]
[null,"5-Fifth dec.   ",0.39,0.30880000000000002,0.37669999999999998,0.44469999999999998,0.36230000000000001,0.1502,null,null,0.44190000000000002]
[null,"6-Sixth dec.   ",0.39439999999999997,0.36059999999999998,0.2137,0.45929999999999999,-0.1096,8.4099999999999994E-2,null,null,0.37509999999999999]
[null,"7-Seventh dec. ",0.3206,0.25929999999999997,0.2369,0.56240000000000001,0.114,-4.7899999999999998E-2,null,null,0.3009]
[null,"8-Eighth dec.  ",0.47799999999999998,7.3499999999999996E-2,0.12520000000000001,0.1542,0.4259,-7.1999999999999998E-3,null,null,0.2321]
[null,"9-Ninth dec.   ",0.17899999999999999,0.17480000000000001,-4.0500000000000001E-2,0.39179999999999998,-0.31269999999999998,-3.6299999999999999E-2,null,null,0.2172]
[null,"10-Highest dec. (family income in 2008$)",0,0,0,0,0,0,null,null,0]
[null,"1-Dropout      ",0.17,0.1198,0.18390000000000001,0.191,0.26950000000000002,0.3034,null,null,0.37280000000000002]
[null,"2-H.S.Diploma (education)      ",0,0,0,0,0,0,null,null,0]
[null,"3-SomeColl/AA  ",-5.2900000000000003E-2,4.1500000000000002E-2,-0.13370000000000001,-0.1273,-0.19769999999999999,-2.4E-2,null,null,-0.1452]
[null,"4-4yr.Degree   ",-0.15479999999999999,-8.2299999999999998E-2,-0.11840000000000001,-0.4874,-0.34699999999999998,-0.1981,null,null,-0.58009999999999995]
[null,"5-Grad.Degree  ",-0.62409999999999999,0.10589999999999999,-0.54469999999999996,-0.72699999999999998,-0.64849999999999997,-0.57899999999999996,null,null,-0.92769999999999997]
[null,"1-White NH (ethnic/race)     ",0,0,0,0,0,0,null,null,0]
[null,"2-Black NH     ",-0.49099999999999999,-0.84099999999999997,-0.89180000000000004,-0.72960000000000003,-0.60470000000000002,-0.54900000000000004,null,null,-0.80820000000000003]
[null,"3-Asian NH     ",-0.70109999999999995,-2.141,-1.3009999999999999,-1.2709999999999999,-1.615,-1.41,null,null,-0.87649999999999995]
[null,"4-Hispanic     ",-1.0745,-0.77569999999999995,-1.2789999999999999,-0.90069999999999995,-1.3640000000000001,-1.3779999999999999,null,null,-1.37]
[null,"5-Other NH     ",4.4900000000000002E-2,-8.2199999999999995E-2,-4.5400000000000003E-2,-9.6100000000000005E-2,-2.24E-2,-0.1946,null,null,-7.6600000000000001E-2]
[null,"1-Employed  (Labor force)",0,0,0,0,0,0,null,null,0]
[null,"2-Unemployed   ",6.3299999999999995E-2,0.54090000000000005,0.1376,-0.374,-0.51029999999999998,0.43959999999999999,null,null,0.31109999999999999]
[null,"3-NILF         ",0.51259999999999994,0.67930000000000001,0.68259999999999998,1.1993,4.5600000000000002E-2,-0.20349999999999999,null,null,0.99880000000000002]
[null,"1-Prof./Managerial (occ.)",0,0,0,0,0,0,null,null,0]
[null,"2-Sklld/Sales  ",0.20669999999999999,0.5171,-0.1948,0.93589999999999995,0.21790000000000001,0.1769,null,null,0.20349999999999999]
[null,"3-BlueCol.Lgt  ",0.1565,0.25990000000000002,0.28439999999999999,0.99450000000000005,8.2400000000000001E-2,0.29620000000000002,null,null,0.36530000000000001]
[null,"4-BlueCol.Hvy  ",4.5900000000000003E-2,0.51819999999999999,0.31369999999999998,0.87849999999999995,0.32179999999999997,0.40179999999999999,null,null,0.27329999999999999]
[null,"5-Medical.Occ  ",0.57589999999999997,0.69420000000000004,-0.52810000000000001,1.7383,0.30620000000000003,0.13919999999999999,null,null,0.24729999999999999]
[null,"6-N/A          ",0.63270000000000004,0.9153,0.3402,0.73829999999999996,1.0649999999999999,1.528,null,null,0.53210000000000002]
[]
[null,"N(n)",252000,98000,91000,114000,106000,142000,null,null,1683000]
[null,"N(d)",2400,1100,1000,1200,1100,1100,null,null,9300]

{"sheet":"Stroke parameters","index":12,"n_rows":59,"n_cols":11,"rows_kept":59,"cut":false,"hidden":false,"merged":[]}
[]
["SOA MI Trends"]
["Detailed model parameter results"]
["Stroke"]
[]
[null,"Variable","1980-1983","1984-1987","1988-1991","1992-1995","1996-1999","2000-2003","2004-2007","2008-11 (NLMS)","2008-11 (MDAC)"]
[null,"age 40-44 ",-2.343,-1.903,-2.0129999999999999,-1.89,-2.56,-2.1080000000000001,null,null,-1.9410000000000001]
[null,"age 45-49 ",-1.762,-1.853,-1.833,-1.7509999999999999,-1.819,-1.512,null,null,-1.3620000000000001]
[null,"age 50-54 ",-1.3720000000000001,-1.1000000000000001,-1.7370000000000001,-1.891,-1.5980000000000001,-1.04,null,null,-1.0129999999999999]
[null,"age 55-59 ",-1.137,-0.69520000000000004,-0.73699999999999999,-1.0980000000000001,-0.96,-0.94079999999999997,null,null,-0.70330000000000004]
[null,"age 60-64",-0.38190000000000002,-0.3548,-0.3044,-0.66769999999999996,-0.68030000000000002,-0.6623,null,null,-0.35320000000000001]
[null,"age 65-69 (age group) ",0,0,0,0,0,0,null,null,0]
[null,"age 70-74 ",0.51370000000000005,0.72140000000000004,0.65439999999999998,0.43719999999999998,0.59079999999999999,0.4133,null,null,0.52669999999999995]
[null,"age 75-79 ",1.121,1.117,1.32,1,1.107,1.0209999999999999,null,null,1.177]
[null,"age 80-84 ",1.5329999999999999,1.871,1.7330000000000001,1.5840000000000001,1.653,1.43,null,null,1.744]
[null,"age 85+",2.0640000000000001,2.0550000000000002,2.3250000000000002,2.1179999999999999,1.9590000000000001,2.1190000000000002,null,null,2.3119999999999998]
[null,"Male (Sex)",0,0,0,0,0,0,null,null,0]
[null,"Female       ",-0.28489999999999999,-0.3357,-0.19320000000000001,-0.29749999999999999,-6.08E-2,-0.1462,null,null,-0.22320000000000001]
[null,"1-Never  ",0,0,0,2.0199999999999999E-2,1.7100000000000001E-2,3.6799999999999999E-2,null,null,0]
[null,"2-Current",0,0,0,0.24310000000000001,0.24679999999999999,0.28139999999999998,null,null,0]
[null,"3-Former ",0,0,0,0.121,0.12740000000000001,4.9299999999999997E-2,null,null,0]
[null,"4-Not_Asked (smoker)",0,0,0,0,0,0,null,null,0]
[null,"1-Married (marital status)",0,0,0,0,0,0,null,null,0]
[null,"2-Widowed    ",0.14799999999999999,0.11070000000000001,0.1928,0.18340000000000001,4.65E-2,0.18099999999999999,null,null,0.36170000000000002]
[null,"3-Divorced   ",0.34639999999999999,3.9100000000000003E-2,0.16919999999999999,0.44040000000000001,0.1158,0.33929999999999999,null,null,0.2253]
[null,"4-Separated  ",0.23269999999999999,-0.32119999999999999,0.43809999999999999,0.44019999999999998,3.2099999999999997E-2,0.37630000000000002,null,null,0.41520000000000001]
[null,"5-NeverMar.  ",0.28760000000000002,0.20369999999999999,0.1716,6.5699999999999995E-2,-0.37990000000000002,0.36549999999999999,null,null,0.4002]
[null,"1-Lowest inc.  ",0.30270000000000002,0.12509999999999999,0.38379999999999997,-2.9100000000000001E-2,0.2394,-2.18E-2,null,null,0.33460000000000001]
[null,"2-Second dec.  ",0.3095,0.36149999999999999,0.40360000000000001,1.2E-2,0.27360000000000001,0.22620000000000001,null,null,0.4118]
[null,"3-Third dec.   ",0.3387,0.26869999999999999,0.4108,-0.14349999999999999,0.373,0.26979999999999998,null,null,0.3049]
[null,"4-Fourth dec.  ",0.27200000000000002,0.2114,0.28499999999999998,-8.8300000000000003E-2,0.20039999999999999,0.18429999999999999,null,null,0.27279999999999999]
[null,"5-Fifth dec.   ",0.11609999999999999,0.34050000000000002,0.2152,-4.41E-2,0.1111,0.14460000000000001,null,null,0.30080000000000001]
[null,"6-Sixth dec.   ",0.17219999999999999,0.21149999999999999,0.34770000000000001,-0.17519999999999999,0.1231,-7.4999999999999997E-2,null,null,0.219]
[null,"7-Seventh dec. ",0.19359999999999999,0.10979999999999999,0.18970000000000001,-0.1045,0.4556,5.79E-2,null,null,0.22770000000000001]
[null,"8-Eighth dec.  ",0.1017,-0.27610000000000001,0.37159999999999999,-0.2339,2.0899999999999998E-2,0.14000000000000001,null,null,8.7800000000000003E-2]
[null,"9-Ninth dec.   ",-0.10879999999999999,0.1226,0.1804,-0.2261,0.26029999999999998,0.13450000000000001,null,null,0.1661]
[null,"10-Highest dec. (family income in 2008$)",0,0,0,0,0,0,null,null,0]
[null,"1-Dropout      ",8.0399999999999999E-2,0.18590000000000001,0.16520000000000001,-6.8999999999999999E-3,-3.9399999999999998E-2,0.1061,null,null,2.4199999999999999E-2]
[null,"2-H.S.Diploma (education)      ",0,0,0,0,0,0,null,null,0]
[null,"3-SomeColl/AA  ",2.0299999999999999E-2,2.07E-2,-0.14610000000000001,-4.0800000000000003E-2,3.3099999999999997E-2,5.4399999999999997E-2,null,null,-0.15690000000000001]
[null,"4-4yr.Degree   ",-7.0300000000000001E-2,0.1154,-4.7800000000000002E-2,4.2700000000000002E-2,-0.30049999999999999,-0.1103,null,null,-0.25140000000000001]
[null,"5-Grad.Degree  ",-0.1454,-0.38190000000000002,-6.8599999999999994E-2,-4.2500000000000003E-2,-0.35659999999999997,-0.15790000000000001,null,null,-0.31369999999999998]
[null,"1-White NH (ethnic/race)     ",0,0,0,0,0,0,null,null,0]
[null,"2-Black NH     ",0.29260000000000003,0.1069,5.0500000000000003E-2,0.35149999999999998,0.31879999999999997,0.18329999999999999,null,null,0.18360000000000001]
[null,"3-Asian NH     ",-0.44490000000000002,-0.27929999999999999,-3.5499999999999997E-2,-0.2351,-0.21840000000000001,-0.1048,null,null,0.3075]
[null,"4-Hispanic     ",-0.60140000000000005,-0.50419999999999998,-8.5699999999999998E-2,-0.28070000000000001,-0.1119,-0.31730000000000003,null,null,-0.22750000000000001]
[null,"5-Other NH     ",-1.72E-2,-0.1226,7.3999999999999996E-2,0.12909999999999999,-0.3448,0.31559999999999999,null,null,7.2499999999999995E-2]
[null,"1-Employed  (Labor force)",0,0,0,0,0,0,null,null,0]
[null,"2-Unemployed   ",0.47760000000000002,0.69220000000000004,5.0299999999999997E-2,0.6522,0.90239999999999998,0.42930000000000001,null,null,0.39019999999999999]
[null,"3-NILF         ",0.36030000000000001,0.2331,0.49709999999999999,0.29599999999999999,1.2549999999999999,0.2591,null,null,0.48820000000000002]
[null,"1-Prof./Managerial (occ.)",0,0,0,0,0,0,null,null,0]
[null,"2-Sklld/Sales  ",0.16159999999999999,0.2135,0.28239999999999998,0.57630000000000003,-9.9199999999999997E-2,5.2400000000000002E-2,null,null,0.16700000000000001]
[null,"3-BlueCol.Lgt  ",0.2117,-6.25E-2,0.43319999999999997,0.91690000000000005,-0.32979999999999998,9.2999999999999999E-2,null,null,0.29370000000000002]
[null,"4-BlueCol.Hvy  ",0.249,0.32940000000000003,0.50139999999999996,0.70150000000000001,-3.5400000000000001E-2,0.13850000000000001,null,null,0.40899999999999997]
[null,"5-Medical.Occ  ",-7.4899999999999994E-2,0.1447,0.2288,0.2666,-0.23769999999999999,-0.15279999999999999,null,null,7.1999999999999998E-3]
[null,"6-N/A          ",0.30740000000000001,0.50480000000000003,0.30199999999999999,1.1819999999999999,-0.69740000000000002,0.34849999999999998,null,null,0.45700000000000002]
[]
[null,"N(n)",252000,98000,91000,114000,106000,142000,null,null,1683000]
[null,"N(d)",4200,1500,1400,1600,1100,1100,null,null,8200]

{"sheet":"Means parameters","index":13,"n_rows":73,"n_cols":11,"rows_kept":73,"cut":false,"hidden":false,"merged":[]}
[]
["SOA MI Trends"]
["Detailed model parameter results"]
["Means"]
[]
[null,"Variable","1980-1983","1984-1987","1988-1991","1992-1995","1996-1999","2000-2003","2004-2007","2008-11 (NLMS)","2008-11 (MDAC)"]
[null,"age 40-44 ",14.88,16.45,18.36,19.399999999999999,19.66,18.97,17.07,15.04,17.260000000000002]
[null,"age 45-49 ",13.71,13.58,14.63,16.22,17.09,17.29,17.100000000000001,16.399999999999999,17.89]
[null,"age 50-54 ",14.26,12.69,12.24,12.79,13.69,15,15.35,15.73,16.29]
[null,"age 55-59 ",14.16,13.12,11.54,10.66,10.99,11.8,13.25,13.71,13.68]
[null,"age 60-64 ",12.52,12.55,11.6,10.19,9.19,9.2100000000000009,10.130000000000001,11.52,11.12]
[null,"age 65-69 (age group) ",10.79,10.93,10.82,9.75,8.7100000000000009,7.87,7.88,8.5500000000000007,8.1]
[null,"age 70-74 ",8.43,8.61,8.4600000000000009,8.44,7.82,7.04,6.4,6.39,5.97]
[null,"age 75-79 ",5.71,6.04,6.2,5.97,6.21,6.13,5.79,5.38,4.5999999999999996]
[null,"age 80-84 ",3.41,3.63,3.71,3.9,3.96,4.6100000000000003,4.0999999999999996,4.04,3.05]
[null,"age 85+",2.13,2.4,2.44,2.69,2.67,2.09,2.93,3.24,2.04]
[null,"Male (Sex)",45.7,45.78,46.08,46.36,46.66,46.87,46.97,47.16,47.82]
[null,"Female       ",54.3,54.22,53.92,53.64,53.34,53.13,53.03,52.84,52.18]
[null,"1-Never   ","---","---","---",23.03,29.37,39.14,19.43,21.08,"---"]
[null,"2-Current ","---","---","---",9.82,11.2,13.27,5.5,4.8600000000000003,"---"]
[null,"3-Former  ","---","---","---",15.29,17.38,21.71,9.0399999999999991,8.31,"---"]
[null,"4-Not_Asked (smoker)","100.00x","100.00x","100.00x",51.86,42.05,25.89,66.03,65.739999999999995,"100.00x"]
[null,"1-Married (marital status)",71.12,69.39,69.06,67.39,66.02,65.55,65.2,64.08,79.989999999999995]
[null,"2-Widowed    ",15.11,14.99,14.16,13.15,12.35,11.22,10.63,10.28,4.7699999999999996]
[null,"3-Divorced   ",6.62,8.2799999999999994,9.33,10.99,12.35,13.17,13.58,14.11,8.0399999999999991]
[null,"4-Separated  ",2.16,2.17,2.19,2.2799999999999998,2.23,2.1,2.3199999999999998,2.39,1.7]
[null,"5-NeverMar.  ",5,5.17,5.26,6.18,7.06,7.96,8.27,9.14,5.5]
[null,"1-Lowest inc.  ",12.08,10.33,9.4700000000000006,10.18,9.3000000000000007,9.02,9.5,9.49,5.36]
[null,"2-Second dec.  ",15.16,11.1,10.41,11.06,10.57,10.3,10.32,10.23,8.44]
[null,"3-Third dec.   ",9.17,10.58,10.43,10.92,10.19,9.8800000000000008,10.32,10.28,9.9499999999999993]
[null,"4-Fourth dec.  ",9.7200000000000006,10.01,9.8800000000000008,9.85,9.67,9.7100000000000009,9.3699999999999992,9.5500000000000007,11.17]
[null,"5-Fifth dec.   ",10.94,9.18,9.34,9.4700000000000006,9,9,8.69,8.99,10.91]
[null,"6-Sixth dec.   ",11.06,9.2799999999999994,9.25,8.77,8.92,8.64,8.6300000000000008,8.48,10.72]
[null,"7-Seventh dec. ",5.55,10.51,10.14,9.73,10.06,9.6199999999999992,9.61,9.4,11.83]
[null,"8-Eighth dec.  ",14.63,8.94,8.75,8.91,8.7899999999999991,8.84,8.5500000000000007,8.5,9.77]
[null,"9-Ninth dec.   ",5.32,10.85,11.31,10.52,11,11.44,11.35,11.24,10.92]
[null,"10-Highest dec. (family",6.36,9.2200000000000006,11.02,10.59,12.5,13.55,13.67,13.85,10.93]
[null,"1-Dropout      ",39.28,33.93,28.85,23.6,20.329999999999998,17.7,16.010000000000002,13.78,15.05]
[null,"2-H.S.Diploma (education)      ",35.61,37.28,37.81,34.69,34.450000000000003,33.71,32.979999999999997,32.65,30.28]
[null,"3-SomeColl/AA  ",11.66,13.38,15.2,21.14,22.45,24.06,24.58,25.28,28.62]
[null,"4-4yr.Degree   ",7.57,8.2100000000000009,9.57,12.34,14.11,15.15,16.47,17.43,17.09]
[null,"5-Grad.Degree  ",5.88,7.2,8.58,8.23,8.65,9.3699999999999992,9.9600000000000009,10.85,8.9600000000000009]
[null,"1-White NH (ethnic/race)     ",83.48,41.05,78.680000000000007,78.02,76.13,74.67,74.86,73.06,73.08]
[null,"2-Black NH     ",9.2799999999999994,4.74,9.4,9.64,9.94,9.8000000000000007,10.24,10.42,9.7100000000000009]
[null,"3-Asian NH     ",1.37,0.78,2.11,2.37,3.01,3.58,3.93,4.26,4.79]
[null,"4-Hispanic     ",3.6,4.4400000000000004,5.17,6.27,7.08,7.94,9.59,10.81,10.98]
[null,"5-Other NH     ",2.2799999999999998,48.99,4.6399999999999997,3.7,3.84,4,1.39,1.44,1.45]
[null,"1-Employed  (Labor force)",49.42,49.19,52.19,53.27,56.37,57.9,58.02,56.57,60.5]
[null,"2-Unemployed   ",2.4900000000000002,2.58,2.16,2.65,1.62,1.9,1.96,3.56,2.63]
[null,"3-NILF         ",48.08,48.23,45.65,44.08,42.01,40.19,40.020000000000003,39.869999999999997,36.880000000000003]
[null,"1-Prof./Managerial (occ.)",7.38,8.2899999999999991,9.1199999999999992,9.83,10.06,11.48,13.3,13.35,15.3]
[null,"2-Sklld/Sales  ",15.22,17.28,18.59,18.71,19.2,18.93,16.36,15.73,20.2]
[null,"3-BlueCol.Lgt  ",11.43,10.71,10.69,10.51,10.5,10.84,11.91,11.94,14.89]
[null,"4-BlueCol.Hvy  ",17.440000000000001,15.85,15.03,14.36,14.35,14.36,14.08,13.39,17.350000000000001]
[null,"5-Medical.Occ  ",2.82,2.91,3.37,3.94,4.49,4.72,4.87,4.63,5.3]
[null,"6-N/A          ",45.72,44.96,43.2,42.64,41.41,39.659999999999997,39.47,40.97,26.96]
[null,"Died during 11-year follow-up",22.19,22.63,22.56,20.02,16.84,14.42,8.4700000000000006,3.06,8.82]
[null,"Deaths of despair","---","---","  0.01DD",0.08,0.08,0.1,0.05,0.03,"---"]
[null,"H.0 – None of the classifications below ",3.44,3.79,4.0199999999999996,3.99,3.86,3.68,2.2599999999999998,0.8,2.5099999999999998]
[null,"H.1 – Diabetes",5.58,5.87,5.99,5.18,4.1900000000000004,3.71,2.2000000000000002,0.82,2.38]
[null,"H.2 – Cancer",0.45,0.53,0.56999999999999995,0.6,0.56000000000000005,0.47,0.27,0.12,0.27]
[null,"H.3 – Alzheimer’s/Dementia",7.0000000000000007E-2,0.06,7.0000000000000007E-2,0.04,0.02,0.02,0.01,0,0.01]
[null,"H.4 – Heart",8.74,8.25,7.93,6.51,5.19,4.09,2.33,0.79,2.19]
[null,"H.5 – Stroke",1.67,1.65,1.59,1.46,1.1200000000000001,0.88,0.47,0.18,0.47]
[null,"H.6 – Influenza/Pneumonia",0.71,0.78,0.68,0.6,0.41,0.34,0.16,7.0000000000000007E-2,0.18]
[null,"H.7 – Pulmonary",0.91,1.1000000000000001,1.08,1.1000000000000001,1.03,0.84,0.49,0.17,0.52]
[null,"H.8 – Liver",0.26,0.24,0.23,0.2,0.16,0.17,0.11,0.04,0.12]
[null,"H.9 – Accidents",0.16,0.16,0.22,0.17,0.15,0.09,0.08,0.03,7.0000000000000007E-2]
[null,"H.10 – Suicide",0.16,0.14000000000000001,0.13,0.15,0.12,0.12,7.0000000000000007E-2,0.03,0.09]
[null,"H.11 – Assault",0.04,0.04,0.04,0.02,0.02,0.02,0.01,0,0.01]
[]
[null,"N(n)",252000,98000,91000,114000,106000,142000,193000,187000,1683000]
[null,"N(d)",56000,21500,20000,22500,17500,18500,14000,5000,155000]

{"sheet":"Deaths and Exposures","index":14,"n_rows":127,"n_cols":11,"rows_kept":127,"cut":false,"hidden":false,"merged":[]}
[]
["SOA MI Trends"]
["Detailed model parameter results"]
["Deaths / Exposures"]
[]
[null,null,"1980-1983","1984-1987","1988-1991","1992-1995","1996-1999","2000-2003","2004-2007","2008-11 (NLMS)","2008-11 (MDAC)"]
[null,"All cause",0.22189999999999999,0.2263,0.22559999999999999,0.20019999999999999,0.16839999999999999,0.14419999999999999,8.473E-2,3.0640000000000001E-2,8.8169999999999998E-2]
[null,"Cancer",5.5789999999999999E-2,5.867E-2,5.9930000000000004E-2,5.1769999999999997E-2,4.1870000000000004E-2,3.712E-2,2.205E-2,8.1980000000000004E-3,2.3809999999999998E-2]
[null,"Heart",8.7449999999999986E-2,8.2550000000000012E-2,7.9340000000000008E-2,6.5129999999999993E-2,5.1920000000000001E-2,4.0890000000000003E-2,2.3279999999999999E-2,7.8790000000000006E-3,2.188E-2]
[null,"Pulmonary",9.0519999999999993E-3,1.1049999999999999E-2,1.0789999999999999E-2,1.0970000000000001E-2,1.0289999999999999E-2,8.378E-3,null,null,5.1600000000000005E-3]
[null,"Stroke",1.6650000000000002E-2,1.6549999999999999E-2,1.593E-2,1.456E-2,1.1209999999999999E-2,8.7639999999999992E-3,null,null,4.6800000000000001E-3]
[]
[null,"Death Count (all cause, cancer, and heart)"]
[null,null,"1980-1983","1984-1987","1988-1991","1992-1995","1996-1999","2000-2003","2004-2007","2008-11 (NLMS)","2008-11 (MDAC)"]
[null,"All observations",{"$f":"INDEX(INDIRECT(\"'\"&C$14&\"'\"&\"!$B$6:$G$57\"),MATCH($B15,INDIRECT(\"'\"&C$14&\"'\"&\"!$B$6:$B$57\"),0),MATCH(Results!$C$15,INDIRECT(\"'\"&C$14&\"'\"&\"!$B$6:$G$6\"),0))","v":56000},{"$f":"INDEX(INDIRECT(\"'\"&D$14&\"'\"&\"!$B$6:$G$57\"),MATCH($B15,INDIRECT(\"'\"&D$14&\"'\"&\"!$B$6:$B$57\"),0),MATCH(Results!$C$15,INDIRECT(\"'\"&D$14&\"'\"&\"!$B$6:$G$6\"),0))","v":21500},{"$f":"INDEX(INDIRECT(\"'\"&E$14&\"'\"&\"!$B$6:$G$57\"),MATCH($B15,INDIRECT(\"'\"&E$14&\"'\"&\"!$B$6:$B$57\"),0),MATCH(Results!$C$15,INDIRECT(\"'\"&E$14&\"'\"&\"!$B$6:$G$6\"),0))","v":20000},{"$f":"INDEX(INDIRECT(\"'\"&F$14&\"'\"&\"!$B$6:$G$57\"),MATCH($B15,INDIRECT(\"'\"&F$14&\"'\"&\"!$B$6:$B$57\"),0),MATCH(Results!$C$15,INDIRECT(\"'\"&F$14&\"'\"&\"!$B$6:$G$6\"),0))","v":22500},{"$f":"INDEX(INDIRECT(\"'\"&G$14&\"'\"&\"!$B$6:$G$57\"),MATCH($B15,INDIRECT(\"'\"&G$14&\"'\"&\"!$B$6:$B$57\"),0),MATCH(Results!$C$15,INDIRECT(\"'\"&G$14&\"'\"&\"!$B$6:$G$6\"),0))","v":17500},{"$f":"INDEX(INDIRECT(\"'\"&H$14&\"'\"&\"!$B$6:$G$57\"),MATCH($B15,INDIRECT(\"'\"&H$14&\"'\"&\"!$B$6:$B$57\"),0),MATCH(Results!$C$15,INDIRECT(\"'\"&H$14&\"'\"&\"!$B$6:$G$6\"),0))","v":18500},{"$f":"INDEX(INDIRECT(\"'\"&I$14&\"'\"&\"!$B$6:$G$57\"),MATCH($B15,INDIRECT(\"'\"&I$14&\"'\"&\"!$B$6:$B$57\"),0),MATCH(Results!$C$15,INDIRECT(\"'\"&I$14&\"'\"&\"!$B$6:$G$6\"),0))","v":14000},{"$f":"INDEX(INDIRECT(\"'\"&J$14&\"'\"&\"!$B$6:$G$57\"),MATCH($B15,INDIRECT(\"'\"&J$14&\"'\"&\"!$B$6:$B$57\"),0),MATCH(Results!$C$15,INDIRECT(\"'\"&J$14&\"'\"&\"!$B$6:$G$6\"),0))","v":5000},{"$f":"INDEX(INDIRECT(\"'\"&K$14&\"'\"&\"!$B$6:$G$57\"),MATCH($B15,INDIRECT(\"'\"&K$14&\"'\"&\"!$B$6:$B$57\"),0),MATCH(Results!$C$15,INDIRECT(\"'\"&K$14&\"'\"&\"!$B$6:$G$6\"),0))","v":158000}]
[null,"age 40-44 ",{"$f":"INDEX(INDIRECT(\"'\"&C$14&\"'\"&\"!$B$6:$G$57\"),MATCH($B16,INDIRECT(\"'\"&C$14&\"'\"&\"!$B$6:$B$57\"),0),MATCH(Results!$C$15,INDIRECT(\"'\"&C$14&\"'\"&\"!$B$6:$G$6\"),0))","v":1500},{"$f":"INDEX(INDIRECT(\"'\"&D$14&\"'\"&\"!$B$6:$G$57\"),MATCH($B16,INDIRECT(\"'\"&D$14&\"'\"&\"!$B$6:$B$57\"),0),MATCH(Results!$C$15,INDIRECT(\"'\"&D$14&\"'\"&\"!$B$6:$G$6\"),0))","v":600},{"$f":"INDEX(INDIRECT(\"'\"&E$14&\"'\"&\"!$B$6:$G$57\"),MATCH($B16,INDIRECT(\"'\"&E$14&\"'\"&\"!$B$6:$B$57\"),0),MATCH(Results!$C$15,INDIRECT(\"'\"&E$14&\"'\"&\"!$B$6:$G$6\"),0))","v":600},{"$f":"INDEX(INDIRECT(\"'\"&F$14&\"'\"&\"!$B$6:$G$57\"),MATCH($B16,INDIRECT(\"'\"&F$14&\"'\"&\"!$B$6:$B$57\"),0),MATCH(Results!$C$15,INDIRECT(\"'\"&F$14&\"'\"&\"!$B$6:$G$6\"),0))","v":700},{"$f":"INDEX(INDIRECT(\"'\"&G$14&\"'\"&\"!$B$6:$G$57\"),MATCH($B16,INDIRECT(\"'\"&G$14&\"'\"&\"!$B$6:$B$57\"),0),MATCH(Results!$C$15,INDIRECT(\"'\"&G$14&\"'\"&\"!$B$6:$G$6\"),0))","v":550},{"$f":"INDEX(INDIRECT(\"'\"&H$14&\"'\"&\"!$B$6:$G$57\"),MATCH($B16,INDIRECT(\"'\"&H$14&\"'\"&\"!$B$6:$B$57\"),0),MATCH(Results!$C$15,INDIRECT(\"'\"&H$14&\"'\"&\"!$B$6:$G$6\"),0))","v":750},{"$f":"INDEX(INDIRECT(\"'\"&I$14&\"'\"&\"!$B$6:$G$57\"),MATCH($B16,INDIRECT(\"'\"&I$14&\"'\"&\"!$B$6:$B$57\"),0),MATCH(Results!$C$15,INDIRECT(\"'\"&I$14&\"'\"&\"!$B$6:$G$6\"),0))","v":500},{"$f":"INDEX(INDIRECT(\"'\"&J$14&\"'\"&\"!$B$6:$G$57\"),MATCH($B16,INDIRECT(\"'\"&J$14&\"'\"&\"!$B$6:$B$57\"),0),MATCH(Results!$C$15,INDIRECT(\"'\"&J$14&\"'\"&\"!$B$6:$G$6\"),0))","v":150},{"$f":"INDEX(INDIRECT(\"'\"&K$14&\"'\"&\"!$B$6:$G$57\"),MATCH($B16,INDIRECT(\"'\"&K$14&\"'\"&\"!$B$6:$B$57\"),0),MATCH(Results!$C$15,INDIRECT(\"'\"&K$14&\"'\"&\"!$B$6:$G$6\"),0))","v":3900}]
[null,"age 45-49 ",{"$f":"INDEX(INDIRECT(\"'\"&C$14&\"'\"&\"!$B$6:$G$57\"),MATCH($B17,INDIRECT(\"'\"&C$14&\"'\"&\"!$B$6:$B$57\"),0),MATCH(Results!$C$15,INDIRECT(\"'\"&C$14&\"'\"&\"!$B$6:$G$6\"),0))","v":2200},{"$f":"INDEX(INDIRECT(\"'\"&D$14&\"'\"&\"!$B$6:$G$57\"),MATCH($B17,INDIRECT(\"'\"&D$14&\"'\"&\"!$B$6:$B$57\"),0),MATCH(Results!$C$15,INDIRECT(\"'\"&D$14&\"'\"&\"!$B$6:$G$6\"),0))","v":750},{"$f":"INDEX(INDIRECT(\"'\"&E$14&\"'\"&\"!$B$6:$G$57\"),MATCH($B17,INDIRECT(\"'\"&E$14&\"'\"&\"!$B$6:$B$57\"),0),MATCH(Results!$C$15,INDIRECT(\"'\"&E$14&\"'\"&\"!$B$6:$G$6\"),0))","v":750},{"$f":"INDEX(INDIRECT(\"'\"&F$14&\"'\"&\"!$B$6:$G$57\"),MATCH($B17,INDIRECT(\"'\"&F$14&\"'\"&\"!$B$6:$B$57\"),0),MATCH(Results!$C$15,INDIRECT(\"'\"&F$14&\"'\"&\"!$B$6:$G$6\"),0))","v":850},{"$f":"INDEX(INDIRECT(\"'\"&G$14&\"'\"&\"!$B$6:$G$57\"),MATCH($B17,INDIRECT(\"'\"&G$14&\"'\"&\"!$B$6:$B$57\"),0),MATCH(Results!$C$15,INDIRECT(\"'\"&G$14&\"'\"&\"!$B$6:$G$6\"),0))","v":800},{"$f":"INDEX(INDIRECT(\"'\"&H$14&\"'\"&\"!$B$6:$G$57\"),MATCH($B17,INDIRECT(\"'\"&H$14&\"'\"&\"!$B$6:$B$57\"),0),MATCH(Results!$C$15,INDIRECT(\"'\"&H$14&\"'\"&\"!$B$6:$G$6\"),0))","v":950},{"$f":"INDEX(INDIRECT(\"'\"&I$14&\"'\"&\"!$B$6:$G$57\"),MATCH($B17,INDIRECT(\"'\"&I$14&\"'\"&\"!$B$6:$B$57\"),0),MATCH(Results!$C$15,INDIRECT(\"'\"&I$14&\"'\"&\"!$B$6:$G$6\"),0))","v":700},{"$f":"INDEX(INDIRECT(\"'\"&J$14&\"'\"&\"!$B$6:$G$57\"),MATCH($B17,INDIRECT(\"'\"&J$14&\"'\"&\"!$B$6:$B$57\"),0),MATCH(Results!$C$15,INDIRECT(\"'\"&J$14&\"'\"&\"!$B$6:$G$6\"),0))","v":250},{"$f":"INDEX(INDIRECT(\"'\"&K$14&\"'\"&\"!$B$6:$G$57\"),MATCH($B17,INDIRECT(\"'\"&K$14&\"'\"&\"!$B$6:$B$57\"),0),MATCH(Results!$C$15,INDIRECT(\"'\"&K$14&\"'\"&\"!$B$6:$G$6\"),0))","v":6300}]
[null,"age 50-54 ",{"$f":"INDEX(INDIRECT(\"'\"&C$14&\"'\"&\"!$B$6:$G$57\"),MATCH($B18,INDIRECT(\"'\"&C$14&\"'\"&\"!$B$6:$B$57\"),0),MATCH(Results!$C$15,INDIRECT(\"'\"&C$14&\"'\"&\"!$B$6:$G$6\"),0))","v":3600},{"$f":"INDEX(INDIRECT(\"'\"&D$14&\"'\"&\"!$B$6:$G$57\"),MATCH($B18,INDIRECT(\"'\"&D$14&\"'\"&\"!$B$6:$B$57\"),0),MATCH(Results!$C$15,INDIRECT(\"'\"&D$14&\"'\"&\"!$B$6:$G$6\"),0))","v":1200},{"$f":"INDEX(INDIRECT(\"'\"&E$14&\"'\"&\"!$B$6:$G$57\"),MATCH($B18,INDIRECT(\"'\"&E$14&\"'\"&\"!$B$6:$B$57\"),0),MATCH(Results!$C$15,INDIRECT(\"'\"&E$14&\"'\"&\"!$B$6:$G$6\"),0))","v":1000},{"$f":"INDEX(INDIRECT(\"'\"&F$14&\"'\"&\"!$B$6:$G$57\"),MATCH($B18,INDIRECT(\"'\"&F$14&\"'\"&\"!$B$6:$B$57\"),0),MATCH(Results!$C$15,INDIRECT(\"'\"&F$14&\"'\"&\"!$B$6:$G$6\"),0))","v":1200},{"$f":"INDEX(INDIRECT(\"'\"&G$14&\"'\"&\"!$B$6:$G$57\"),MATCH($B18,INDIRECT(\"'\"&G$14&\"'\"&\"!$B$6:$B$57\"),0),MATCH(Results!$C$15,INDIRECT(\"'\"&G$14&\"'\"&\"!$B$6:$G$6\"),0))","v":900},{"$f":"INDEX(INDIRECT(\"'\"&H$14&\"'\"&\"!$B$6:$G$57\"),MATCH($B18,INDIRECT(\"'\"&H$14&\"'\"&\"!$B$6:$B$57\"),0),MATCH(Results!$C$15,INDIRECT(\"'\"&H$14&\"'\"&\"!$B$6:$G$6\"),0))","v":1200},{"$f":"INDEX(INDIRECT(\"'\"&I$14&\"'\"&\"!$B$6:$G$57\"),MATCH($B18,INDIRECT(\"'\"&I$14&\"'\"&\"!$B$6:$B$57\"),0),MATCH(Results!$C$15,INDIRECT(\"'\"&I$14&\"'\"&\"!$B$6:$G$6\"),0))","v":900},{"$f":"INDEX(INDIRECT(\"'\"&J$14&\"'\"&\"!$B$6:$G$57\"),MATCH($B18,INDIRECT(\"'\"&J$14&\"'\"&\"!$B$6:$B$57\"),0),MATCH(Results!$C$15,INDIRECT(\"'\"&J$14&\"'\"&\"!$B$6:$G$6\"),0))","v":250},{"$f":"INDEX(INDIRECT(\"'\"&K$14&\"'\"&\"!$B$6:$G$57\"),MATCH($B18,INDIRECT(\"'\"&K$14&\"'\"&\"!$B$6:$B$57\"),0),MATCH(Results!$C$15,INDIRECT(\"'\"&K$14&\"'\"&\"!$B$6:$G$6\"),0))","v":9300}]
[null,"age 55-59 ",{"$f":"INDEX(INDIRECT(\"'\"&C$14&\"'\"&\"!$B$6:$G$57\"),MATCH($B19,INDIRECT(\"'\"&C$14&\"'\"&\"!$B$6:$B$57\"),0),MATCH(Results!$C$15,INDIRECT(\"'\"&C$14&\"'\"&\"!$B$6:$G$6\"),0))","v":5400},{"$f":"INDEX(INDIRECT(\"'\"&D$14&\"'\"&\"!$B$6:$G$57\"),MATCH($B19,INDIRECT(\"'\"&D$14&\"'\"&\"!$B$6:$B$57\"),0),MATCH(Results!$C$15,INDIRECT(\"'\"&D$14&\"'\"&\"!$B$6:$G$6\"),0))","v":1900},{"$f":"INDEX(INDIRECT(\"'\"&E$14&\"'\"&\"!$B$6:$G$57\"),MATCH($B19,INDIRECT(\"'\"&E$14&\"'\"&\"!$B$6:$B$57\"),0),MATCH(Results!$C$15,INDIRECT(\"'\"&E$14&\"'\"&\"!$B$6:$G$6\"),0))","v":1500},{"$f":"INDEX(INDIRECT(\"'\"&F$14&\"'\"&\"!$B$6:$G$57\"),MATCH($B19,INDIRECT(\"'\"&F$14&\"'\"&\"!$B$6:$B$57\"),0),MATCH(Results!$C$15,INDIRECT(\"'\"&F$14&\"'\"&\"!$B$6:$G$6\"),0))","v":1500},{"$f":"INDEX(INDIRECT(\"'\"&G$14&\"'\"&\"!$B$6:$G$57\"),MATCH($B19,INDIRECT(\"'\"&G$14&\"'\"&\"!$B$6:$B$57\"),0),MATCH(Results!$C$15,INDIRECT(\"'\"&G$14&\"'\"&\"!$B$6:$G$6\"),0))","v":1100},{"$f":"INDEX(INDIRECT(\"'\"&H$14&\"'\"&\"!$B$6:$G$57\"),MATCH($B19,INDIRECT(\"'\"&H$14&\"'\"&\"!$B$6:$B$57\"),0),MATCH(Results!$C$15,INDIRECT(\"'\"&H$14&\"'\"&\"!$B$6:$G$6\"),0))","v":1300},{"$f":"INDEX(INDIRECT(\"'\"&I$14&\"'\"&\"!$B$6:$G$57\"),MATCH($B19,INDIRECT(\"'\"&I$14&\"'\"&\"!$B$6:$B$57\"),0),MATCH(Results!$C$15,INDIRECT(\"'\"&I$14&\"'\"&\"!$B$6:$G$6\"),0))","v":1100},{"$f":"INDEX(INDIRECT(\"'\"&J$14&\"'\"&\"!$B$6:$G$57\"),MATCH($B19,INDIRECT(\"'\"&J$14&\"'\"&\"!$B$6:$B$57\"),0),MATCH(Results!$C$15,INDIRECT(\"'\"&J$14&\"'\"&\"!$B$6:$G$6\"),0))","v":400},{"$f":"INDEX(INDIRECT(\"'\"&K$14&\"'\"&\"!$B$6:$G$57\"),MATCH($B19,INDIRECT(\"'\"&K$14&\"'\"&\"!$B$6:$B$57\"),0),MATCH(Results!$C$15,INDIRECT(\"'\"&K$14&\"'\"&\"!$B$6:$G$6\"),0))","v":12000}]
[null,"age 60-64",{"$f":"INDEX(INDIRECT(\"'\"&C$14&\"'\"&\"!$B$6:$G$57\"),MATCH($B20,INDIRECT(\"'\"&C$14&\"'\"&\"!$B$6:$B$57\"),0),MATCH(Results!$C$15,INDIRECT(\"'\"&C$14&\"'\"&\"!$B$6:$G$6\"),0))","v":7000},{"$f":"INDEX(INDIRECT(\"'\"&D$14&\"'\"&\"!$B$6:$G$57\"),MATCH($B20,INDIRECT(\"'\"&D$14&\"'\"&\"!$B$6:$B$57\"),0),MATCH(Results!$C$15,INDIRECT(\"'\"&D$14&\"'\"&\"!$B$6:$G$6\"),0))","v":2600},{"$f":"INDEX(INDIRECT(\"'\"&E$14&\"'\"&\"!$B$6:$G$57\"),MATCH($B20,INDIRECT(\"'\"&E$14&\"'\"&\"!$B$6:$B$57\"),0),MATCH(Results!$C$15,INDIRECT(\"'\"&E$14&\"'\"&\"!$B$6:$G$6\"),0))","v":2300},{"$f":"INDEX(INDIRECT(\"'\"&F$14&\"'\"&\"!$B$6:$G$57\"),MATCH($B20,INDIRECT(\"'\"&F$14&\"'\"&\"!$B$6:$B$57\"),0),MATCH(Results!$C$15,INDIRECT(\"'\"&F$14&\"'\"&\"!$B$6:$G$6\"),0))","v":2100},{"$f":"INDEX(INDIRECT(\"'\"&G$14&\"'\"&\"!$B$6:$G$57\"),MATCH($B20,INDIRECT(\"'\"&G$14&\"'\"&\"!$B$6:$B$57\"),0),MATCH(Results!$C$15,INDIRECT(\"'\"&G$14&\"'\"&\"!$B$6:$G$6\"),0))","v":1500},{"$f":"INDEX(INDIRECT(\"'\"&H$14&\"'\"&\"!$B$6:$G$57\"),MATCH($B20,INDIRECT(\"'\"&H$14&\"'\"&\"!$B$6:$B$57\"),0),MATCH(Results!$C$15,INDIRECT(\"'\"&H$14&\"'\"&\"!$B$6:$G$6\"),0))","v":1600},{"$f":"INDEX(INDIRECT(\"'\"&I$14&\"'\"&\"!$B$6:$G$57\"),MATCH($B20,INDIRECT(\"'\"&I$14&\"'\"&\"!$B$6:$B$57\"),0),MATCH(Results!$C$15,INDIRECT(\"'\"&I$14&\"'\"&\"!$B$6:$G$6\"),0))","v":1200},{"$f":"INDEX(INDIRECT(\"'\"&J$14&\"'\"&\"!$B$6:$G$57\"),MATCH($B20,INDIRECT(\"'\"&J$14&\"'\"&\"!$B$6:$B$57\"),0),MATCH(Results!$C$15,INDIRECT(\"'\"&J$14&\"'\"&\"!$B$6:$G$6\"),0))","v":450},{"$f":"INDEX(INDIRECT(\"'\"&K$14&\"'\"&\"!$B$6:$G$57\"),MATCH($B20,INDIRECT(\"'\"&K$14&\"'\"&\"!$B$6:$B$57\"),0),MATCH(Results!$C$15,INDIRECT(\"'\"&K$14&\"'\"&\"!$B$6:$G$6\"),0))","v":15000}]
[null,"age 65-69 (age group) ",{"$f":"INDEX(INDIRECT(\"'\"&C$14&\"'\"&\"!$B$6:$G$57\"),MATCH($B21,INDIRECT(\"'\"&C$14&\"'\"&\"!$B$6:$B$57\"),0),MATCH(Results!$C$15,INDIRECT(\"'\"&C$14&\"'\"&\"!$B$6:$G$6\"),0))","v":8500},{"$f":"INDEX(INDIRECT(\"'\"&D$14&\"'\"&\"!$B$6:$G$57\"),MATCH($B21,INDIRECT(\"'\"&D$14&\"'\"&\"!$B$6:$B$57\"),0),MATCH(Results!$C$15,INDIRECT(\"'\"&D$14&\"'\"&\"!$B$6:$G$6\"),0))","v":3300},{"$f":"INDEX(INDIRECT(\"'\"&E$14&\"'\"&\"!$B$6:$G$57\"),MATCH($B21,INDIRECT(\"'\"&E$14&\"'\"&\"!$B$6:$B$57\"),0),MATCH(Results!$C$15,INDIRECT(\"'\"&E$14&\"'\"&\"!$B$6:$G$6\"),0))","v":3100},{"$f":"INDEX(INDIRECT(\"'\"&F$14&\"'\"&\"!$B$6:$G$57\"),MATCH($B21,INDIRECT(\"'\"&F$14&\"'\"&\"!$B$6:$B$57\"),0),MATCH(Results!$C$15,INDIRECT(\"'\"&F$14&\"'\"&\"!$B$6:$G$6\"),0))","v":3000},{"$f":"INDEX(INDIRECT(\"'\"&G$14&\"'\"&\"!$B$6:$G$57\"),MATCH($B21,INDIRECT(\"'\"&G$14&\"'\"&\"!$B$6:$B$57\"),0),MATCH(Results!$C$15,INDIRECT(\"'\"&G$14&\"'\"&\"!$B$6:$G$6\"),0))","v":2200},{"$f":"INDEX(INDIRECT(\"'\"&H$14&\"'\"&\"!$B$6:$G$57\"),MATCH($B21,INDIRECT(\"'\"&H$14&\"'\"&\"!$B$6:$B$57\"),0),MATCH(Results!$C$15,INDIRECT(\"'\"&H$14&\"'\"&\"!$B$6:$G$6\"),0))","v":2000},{"$f":"INDEX(INDIRECT(\"'\"&I$14&\"'\"&\"!$B$6:$G$57\"),MATCH($B21,INDIRECT(\"'\"&I$14&\"'\"&\"!$B$6:$B$57\"),0),MATCH(Results!$C$15,INDIRECT(\"'\"&I$14&\"'\"&\"!$B$6:$G$6\"),0))","v":1400},{"$f":"INDEX(INDIRECT(\"'\"&J$14&\"'\"&\"!$B$6:$G$57\"),MATCH($B21,INDIRECT(\"'\"&J$14&\"'\"&\"!$B$6:$B$57\"),0),MATCH(Results!$C$15,INDIRECT(\"'\"&J$14&\"'\"&\"!$B$6:$G$6\"),0))","v":500},{"$f":"INDEX(INDIRECT(\"'\"&K$14&\"'\"&\"!$B$6:$G$57\"),MATCH($B21,INDIRECT(\"'\"&K$14&\"'\"&\"!$B$6:$B$57\"),0),MATCH(Results!$C$15,INDIRECT(\"'\"&K$14&\"'\"&\"!$B$6:$G$6\"),0))","v":18000}]
[null,"age 70-74 ",{"$f":"INDEX(INDIRECT(\"'\"&C$14&\"'\"&\"!$B$6:$G$57\"),MATCH($B22,INDIRECT(\"'\"&C$14&\"'\"&\"!$B$6:$B$57\"),0),MATCH(Results!$C$15,INDIRECT(\"'\"&C$14&\"'\"&\"!$B$6:$G$6\"),0))","v":8900},{"$f":"INDEX(INDIRECT(\"'\"&D$14&\"'\"&\"!$B$6:$G$57\"),MATCH($B22,INDIRECT(\"'\"&D$14&\"'\"&\"!$B$6:$B$57\"),0),MATCH(Results!$C$15,INDIRECT(\"'\"&D$14&\"'\"&\"!$B$6:$G$6\"),0))","v":3700},{"$f":"INDEX(INDIRECT(\"'\"&E$14&\"'\"&\"!$B$6:$G$57\"),MATCH($B22,INDIRECT(\"'\"&E$14&\"'\"&\"!$B$6:$B$57\"),0),MATCH(Results!$C$15,INDIRECT(\"'\"&E$14&\"'\"&\"!$B$6:$G$6\"),0))","v":3400},{"$f":"INDEX(INDIRECT(\"'\"&F$14&\"'\"&\"!$B$6:$G$57\"),MATCH($B22,INDIRECT(\"'\"&F$14&\"'\"&\"!$B$6:$B$57\"),0),MATCH(Results!$C$15,INDIRECT(\"'\"&F$14&\"'\"&\"!$B$6:$G$6\"),0))","v":3800},{"$f":"INDEX(INDIRECT(\"'\"&G$14&\"'\"&\"!$B$6:$G$57\"),MATCH($B22,INDIRECT(\"'\"&G$14&\"'\"&\"!$B$6:$B$57\"),0),MATCH(Results!$C$15,INDIRECT(\"'\"&G$14&\"'\"&\"!$B$6:$G$6\"),0))","v":2900},{"$f":"INDEX(INDIRECT(\"'\"&H$14&\"'\"&\"!$B$6:$G$57\"),MATCH($B22,INDIRECT(\"'\"&H$14&\"'\"&\"!$B$6:$B$57\"),0),MATCH(Results!$C$15,INDIRECT(\"'\"&H$14&\"'\"&\"!$B$6:$G$6\"),0))","v":2700},{"$f":"INDEX(INDIRECT(\"'\"&I$14&\"'\"&\"!$B$6:$G$57\"),MATCH($B22,INDIRECT(\"'\"&I$14&\"'\"&\"!$B$6:$B$57\"),0),MATCH(Results!$C$15,INDIRECT(\"'\"&I$14&\"'\"&\"!$B$6:$G$6\"),0))","v":1700},{"$f":"INDEX(INDIRECT(\"'\"&J$14&\"'\"&\"!$B$6:$G$57\"),MATCH($B22,INDIRECT(\"'\"&J$14&\"'\"&\"!$B$6:$B$57\"),0),MATCH(Results!$C$15,INDIRECT(\"'\"&J$14&\"'\"&\"!$B$6:$G$6\"),0))","v":550},{"$f":"INDEX(INDIRECT(\"'\"&K$14&\"'\"&\"!$B$6:$G$57\"),MATCH($B22,INDIRECT(\"'\"&K$14&\"'\"&\"!$B$6:$B$57\"),0),MATCH(Results!$C$15,INDIRECT(\"'\"&K$14&\"'\"&\"!$B$6:$G$6\"),0))","v":21000}]
[null,"age 75-79 ",{"$f":"INDEX(INDIRECT(\"'\"&C$14&\"'\"&\"!$B$6:$G$57\"),MATCH($B23,INDIRECT(\"'\"&C$14&\"'\"&\"!$B$6:$B$57\"),0),MATCH(Results!$C$15,INDIRECT(\"'\"&C$14&\"'\"&\"!$B$6:$G$6\"),0))","v":8300},{"$f":"INDEX(INDIRECT(\"'\"&D$14&\"'\"&\"!$B$6:$G$57\"),MATCH($B23,INDIRECT(\"'\"&D$14&\"'\"&\"!$B$6:$B$57\"),0),MATCH(Results!$C$15,INDIRECT(\"'\"&D$14&\"'\"&\"!$B$6:$G$6\"),0))","v":3300},{"$f":"INDEX(INDIRECT(\"'\"&E$14&\"'\"&\"!$B$6:$G$57\"),MATCH($B23,INDIRECT(\"'\"&E$14&\"'\"&\"!$B$6:$B$57\"),0),MATCH(Results!$C$15,INDIRECT(\"'\"&E$14&\"'\"&\"!$B$6:$G$6\"),0))","v":3200},{"$f":"INDEX(INDIRECT(\"'\"&F$14&\"'\"&\"!$B$6:$G$57\"),MATCH($B23,INDIRECT(\"'\"&F$14&\"'\"&\"!$B$6:$B$57\"),0),MATCH(Results!$C$15,INDIRECT(\"'\"&F$14&\"'\"&\"!$B$6:$G$6\"),0))","v":3800},{"$f":"INDEX(INDIRECT(\"'\"&G$14&\"'\"&\"!$B$6:$G$57\"),MATCH($B23,INDIRECT(\"'\"&G$14&\"'\"&\"!$B$6:$B$57\"),0),MATCH(Results!$C$15,INDIRECT(\"'\"&G$14&\"'\"&\"!$B$6:$G$6\"),0))","v":3100},{"$f":"INDEX(INDIRECT(\"'\"&H$14&\"'\"&\"!$B$6:$G$57\"),MATCH($B23,INDIRECT(\"'\"&H$14&\"'\"&\"!$B$6:$B$57\"),0),MATCH(Results!$C$15,INDIRECT(\"'\"&H$14&\"'\"&\"!$B$6:$G$6\"),0))","v":3200},{"$f":"INDEX(INDIRECT(\"'\"&I$14&\"'\"&\"!$B$6:$G$57\"),MATCH($B23,INDIRECT(\"'\"&I$14&\"'\"&\"!$B$6:$B$57\"),0),MATCH(Results!$C$15,INDIRECT(\"'\"&I$14&\"'\"&\"!$B$6:$G$6\"),0))","v":2200},{"$f":"INDEX(INDIRECT(\"'\"&J$14&\"'\"&\"!$B$6:$G$57\"),MATCH($B23,INDIRECT(\"'\"&J$14&\"'\"&\"!$B$6:$B$57\"),0),MATCH(Results!$C$15,INDIRECT(\"'\"&J$14&\"'\"&\"!$B$6:$G$6\"),0))","v":700},{"$f":"INDEX(INDIRECT(\"'\"&K$14&\"'\"&\"!$B$6:$G$57\"),MATCH($B23,INDIRECT(\"'\"&K$14&\"'\"&\"!$B$6:$B$57\"),0),MATCH(Results!$C$15,INDIRECT(\"'\"&K$14&\"'\"&\"!$B$6:$G$6\"),0))","v":25000}]
[null,"age 80-84 ",{"$f":"INDEX(INDIRECT(\"'\"&C$14&\"'\"&\"!$B$6:$G$57\"),MATCH($B24,INDIRECT(\"'\"&C$14&\"'\"&\"!$B$6:$B$57\"),0),MATCH(Results!$C$15,INDIRECT(\"'\"&C$14&\"'\"&\"!$B$6:$G$6\"),0))","v":6100},{"$f":"INDEX(INDIRECT(\"'\"&D$14&\"'\"&\"!$B$6:$G$57\"),MATCH($B24,INDIRECT(\"'\"&D$14&\"'\"&\"!$B$6:$B$57\"),0),MATCH(Results!$C$15,INDIRECT(\"'\"&D$14&\"'\"&\"!$B$6:$G$6\"),0))","v":2500},{"$f":"INDEX(INDIRECT(\"'\"&E$14&\"'\"&\"!$B$6:$G$57\"),MATCH($B24,INDIRECT(\"'\"&E$14&\"'\"&\"!$B$6:$B$57\"),0),MATCH(Results!$C$15,INDIRECT(\"'\"&E$14&\"'\"&\"!$B$6:$G$6\"),0))","v":2400},{"$f":"INDEX(INDIRECT(\"'\"&F$14&\"'\"&\"!$B$6:$G$57\"),MATCH($B24,INDIRECT(\"'\"&F$14&\"'\"&\"!$B$6:$B$57\"),0),MATCH(Results!$C$15,INDIRECT(\"'\"&F$14&\"'\"&\"!$B$6:$G$6\"),0))","v":3200},{"$f":"INDEX(INDIRECT(\"'\"&G$14&\"'\"&\"!$B$6:$G$57\"),MATCH($B24,INDIRECT(\"'\"&G$14&\"'\"&\"!$B$6:$B$57\"),0),MATCH(Results!$C$15,INDIRECT(\"'\"&G$14&\"'\"&\"!$B$6:$G$6\"),0))","v":2500},{"$f":"INDEX(INDIRECT(\"'\"&H$14&\"'\"&\"!$B$6:$G$57\"),MATCH($B24,INDIRECT(\"'\"&H$14&\"'\"&\"!$B$6:$B$57\"),0),MATCH(Results!$C$15,INDIRECT(\"'\"&H$14&\"'\"&\"!$B$6:$G$6\"),0))","v":3300},{"$f":"INDEX(INDIRECT(\"'\"&I$14&\"'\"&\"!$B$6:$G$57\"),MATCH($B24,INDIRECT(\"'\"&I$14&\"'\"&\"!$B$6:$B$57\"),0),MATCH(Results!$C$15,INDIRECT(\"'\"&I$14&\"'\"&\"!$B$6:$G$6\"),0))","v":2100},{"$f":"INDEX(INDIRECT(\"'\"&J$14&\"'\"&\"!$B$6:$G$57\"),MATCH($B24,INDIRECT(\"'\"&J$14&\"'\"&\"!$B$6:$B$57\"),0),MATCH(Results!$C$15,INDIRECT(\"'\"&J$14&\"'\"&\"!$B$6:$G$6\"),0))","v":750},{"$f":"INDEX(INDIRECT(\"'\"&K$14&\"'\"&\"!$B$6:$G$57\"),MATCH($B24,INDIRECT(\"'\"&K$14&\"'\"&\"!$B$6:$B$57\"),0),MATCH(Results!$C$15,INDIRECT(\"'\"&K$14&\"'\"&\"!$B$6:$G$6\"),0))","v":24500}]
[null,"age 85+",{"$f":"INDEX(INDIRECT(\"'\"&C$14&\"'\"&\"!$B$6:$G$57\"),MATCH($B25,INDIRECT(\"'\"&C$14&\"'\"&\"!$B$6:$B$57\"),0),MATCH(Results!$C$15,INDIRECT(\"'\"&C$14&\"'\"&\"!$B$6:$G$6\"),0))","v":4400},{"$f":"INDEX(INDIRECT(\"'\"&D$14&\"'\"&\"!$B$6:$G$57\"),MATCH($B25,INDIRECT(\"'\"&D$14&\"'\"&\"!$B$6:$B$57\"),0),MATCH(Results!$C$15,INDIRECT(\"'\"&D$14&\"'\"&\"!$B$6:$G$6\"),0))","v":1800},{"$f":"INDEX(INDIRECT(\"'\"&E$14&\"'\"&\"!$B$6:$G$57\"),MATCH($B25,INDIRECT(\"'\"&E$14&\"'\"&\"!$B$6:$B$57\"),0),MATCH(Results!$C$15,INDIRECT(\"'\"&E$14&\"'\"&\"!$B$6:$G$6\"),0))","v":1700},{"$f":"INDEX(INDIRECT(\"'\"&F$14&\"'\"&\"!$B$6:$G$57\"),MATCH($B25,INDIRECT(\"'\"&F$14&\"'\"&\"!$B$6:$B$57\"),0),MATCH(Results!$C$15,INDIRECT(\"'\"&F$14&\"'\"&\"!$B$6:$G$6\"),0))","v":2400},{"$f":"INDEX(INDIRECT(\"'\"&G$14&\"'\"&\"!$B$6:$G$57\"),MATCH($B25,INDIRECT(\"'\"&G$14&\"'\"&\"!$B$6:$B$57\"),0),MATCH(Results!$C$15,INDIRECT(\"'\"&G$14&\"'\"&\"!$B$6:$G$6\"),0))","v":2000},{"$f":"INDEX(INDIRECT(\"'\"&H$14&\"'\"&\"!$B$6:$G$57\"),MATCH($B25,INDIRECT(\"'\"&H$14&\"'\"&\"!$B$6:$B$57\"),0),MATCH(Results!$C$15,INDIRECT(\"'\"&H$14&\"'\"&\"!$B$6:$G$6\"),0))","v":1800},{"$f":"INDEX(INDIRECT(\"'\"&I$14&\"'\"&\"!$B$6:$G$57\"),MATCH($B25,INDIRECT(\"'\"&I$14&\"'\"&\"!$B$6:$B$57\"),0),MATCH(Results!$C$15,INDIRECT(\"'\"&I$14&\"'\"&\"!$B$6:$G$6\"),0))","v":2400},{"$f":"INDEX(INDIRECT(\"'\"&J$14&\"'\"&\"!$B$6:$G$57\"),MATCH($B25,INDIRECT(\"'\"&J$14&\"'\"&\"!$B$6:$B$57\"),0),MATCH(Results!$C$15,INDIRECT(\"'\"&J$14&\"'\"&\"!$B$6:$G$6\"),0))","v":1100},{"$f":"INDEX(INDIRECT(\"'\"&K$14&\"'\"&\"!$B$6:$G$57\"),MATCH($B25,INDIRECT(\"'\"&K$14&\"'\"&\"!$B$6:$B$57\"),0),MATCH(Results!$C$15,INDIRECT(\"'\"&K$14&\"'\"&\"!$B$6:$G$6\"),0))","v":23000}]
[null,"Male (Sex)",{"$f":"INDEX(INDIRECT(\"'\"&C$14&\"'\"&\"!$B$6:$G$57\"),MATCH($B26,INDIRECT(\"'\"&C$14&\"'\"&\"!$B$6:$B$57\"),0),MATCH(Results!$C$15,INDIRECT(\"'\"&C$14&\"'\"&\"!$B$6:$G$6\"),0))","v":29500},{"$f":"INDEX(INDIRECT(\"'\"&D$14&\"'\"&\"!$B$6:$G$57\"),MATCH($B26,INDIRECT(\"'\"&D$14&\"'\"&\"!$B$6:$B$57\"),0),MATCH(Results!$C$15,INDIRECT(\"'\"&D$14&\"'\"&\"!$B$6:$G$6\"),0))","v":11500},{"$f":"INDEX(INDIRECT(\"'\"&E$14&\"'\"&\"!$B$6:$G$57\"),MATCH($B26,INDIRECT(\"'\"&E$14&\"'\"&\"!$B$6:$B$57\"),0),MATCH(Results!$C$15,INDIRECT(\"'\"&E$14&\"'\"&\"!$B$6:$G$6\"),0))","v":10000},{"$f":"INDEX(INDIRECT(\"'\"&F$14&\"'\"&\"!$B$6:$G$57\"),MATCH($B26,INDIRECT(\"'\"&F$14&\"'\"&\"!$B$6:$B$57\"),0),MATCH(Results!$C$15,INDIRECT(\"'\"&F$14&\"'\"&\"!$B$6:$G$6\"),0))","v":11000},{"$f":"INDEX(INDIRECT(\"'\"&G$14&\"'\"&\"!$B$6:$G$57\"),MATCH($B26,INDIRECT(\"'\"&G$14&\"'\"&\"!$B$6:$B$57\"),0),MATCH(Results!$C$15,INDIRECT(\"'\"&G$14&\"'\"&\"!$B$6:$G$6\"),0))","v":8700},{"$f":"INDEX(INDIRECT(\"'\"&H$14&\"'\"&\"!$B$6:$G$57\"),MATCH($B26,INDIRECT(\"'\"&H$14&\"'\"&\"!$B$6:$B$57\"),0),MATCH(Results!$C$15,INDIRECT(\"'\"&H$14&\"'\"&\"!$B$6:$G$6\"),0))","v":9300},{"$f":"INDEX(INDIRECT(\"'\"&I$14&\"'\"&\"!$B$6:$G$57\"),MATCH($B26,INDIRECT(\"'\"&I$14&\"'\"&\"!$B$6:$B$57\"),0),MATCH(Results!$C$15,INDIRECT(\"'\"&I$14&\"'\"&\"!$B$6:$G$6\"),0))","v":7200},{"$f":"INDEX(INDIRECT(\"'\"&J$14&\"'\"&\"!$B$6:$G$57\"),MATCH($B26,INDIRECT(\"'\"&J$14&\"'\"&\"!$B$6:$B$57\"),0),MATCH(Results!$C$15,INDIRECT(\"'\"&J$14&\"'\"&\"!$B$6:$G$6\"),0))","v":2600},{"$f":"INDEX(INDIRECT(\"'\"&K$14&\"'\"&\"!$B$6:$G$57\"),MATCH($B26,INDIRECT(\"'\"&K$14&\"'\"&\"!$B$6:$B$57\"),0),MATCH(Results!$C$15,INDIRECT(\"'\"&K$14&\"'\"&\"!$B$6:$G$6\"),0))","v":88000}]
[null,"Female       ",{"$f":"INDEX(INDIRECT(\"'\"&C$14&\"'\"&\"!$B$6:$G$57\"),MATCH($B27,INDIRECT(\"'\"&C$14&\"'\"&\"!$B$6:$B$57\"),0),MATCH(Results!$C$15,INDIRECT(\"'\"&C$14&\"'\"&\"!$B$6:$G$6\"),0))","v":26500},{"$f":"INDEX(INDIRECT(\"'\"&D$14&\"'\"&\"!$B$6:$G$57\"),MATCH($B27,INDIRECT(\"'\"&D$14&\"'\"&\"!$B$6:$B$57\"),0),MATCH(Results!$C$15,INDIRECT(\"'\"&D$14&\"'\"&\"!$B$6:$G$6\"),0))","v":10500},{"$f":"INDEX(INDIRECT(\"'\"&E$14&\"'\"&\"!$B$6:$G$57\"),MATCH($B27,INDIRECT(\"'\"&E$14&\"'\"&\"!$B$6:$B$57\"),0),MATCH(Results!$C$15,INDIRECT(\"'\"&E$14&\"'\"&\"!$B$6:$G$6\"),0))","v":9700},{"$f":"INDEX(INDIRECT(\"'\"&F$14&\"'\"&\"!$B$6:$G$57\"),MATCH($B27,INDIRECT(\"'\"&F$14&\"'\"&\"!$B$6:$B$57\"),0),MATCH(Results!$C$15,INDIRECT(\"'\"&F$14&\"'\"&\"!$B$6:$G$6\"),0))","v":11500},{"$f":"INDEX(INDIRECT(\"'\"&G$14&\"'\"&\"!$B$6:$G$57\"),MATCH($B27,INDIRECT(\"'\"&G$14&\"'\"&\"!$B$6:$B$57\"),0),MATCH(Results!$C$15,INDIRECT(\"'\"&G$14&\"'\"&\"!$B$6:$G$6\"),0))","v":8900},{"$f":"INDEX(INDIRECT(\"'\"&H$14&\"'\"&\"!$B$6:$G$57\"),MATCH($B27,INDIRECT(\"'\"&H$14&\"'\"&\"!$B$6:$B$57\"),0),MATCH(Results!$C$15,INDIRECT(\"'\"&H$14&\"'\"&\"!$B$6:$G$6\"),0))","v":9400},{"$f":"INDEX(INDIRECT(\"'\"&I$14&\"'\"&\"!$B$6:$G$57\"),MATCH($B27,INDIRECT(\"'\"&I$14&\"'\"&\"!$B$6:$B$57\"),0),MATCH(Results!$C$15,INDIRECT(\"'\"&I$14&\"'\"&\"!$B$6:$G$6\"),0))","v":7000},{"$f":"INDEX(INDIRECT(\"'\"&J$14&\"'\"&\"!$B$6:$G$57\"),MATCH($B27,INDIRECT(\"'\"&J$14&\"'\"&\"!$B$6:$B$57\"),0),MATCH(Results!$C$15,INDIRECT(\"'\"&J$14&\"'\"&\"!$B$6:$G$6\"),0))","v":2400},{"$f":"INDEX(INDIRECT(\"'\"&K$14&\"'\"&\"!$B$6:$G$57\"),MATCH($B27,INDIRECT(\"'\"&K$14&\"'\"&\"!$B$6:$B$57\"),0),MATCH(Results!$C$15,INDIRECT(\"'\"&K$14&\"'\"&\"!$B$6:$G$6\"),0))","v":69500}]
[null,"1-Never  ",{"$f":"INDEX(INDIRECT(\"'\"&C$14&\"'\"&\"!$B$6:$G$57\"),MATCH($B28,INDIRECT(\"'\"&C$14&\"'\"&\"!$B$6:$B$57\"),0),MATCH(Results!$C$15,INDIRECT(\"'\"&C$14&\"'\"&\"!$B$6:$G$6\"),0))","v":0},{"$f":"INDEX(INDIRECT(\"'\"&D$14&\"'\"&\"!$B$6:$G$57\"),MATCH($B28,INDIRECT(\"'\"&D$14&\"'\"&\"!$B$6:$B$57\"),0),MATCH(Results!$C$15,INDIRECT(\"'\"&D$14&\"'\"&\"!$B$6:$G$6\"),0))","v":0},{"$f":"INDEX(INDIRECT(\"'\"&E$14&\"'\"&\"!$B$6:$G$57\"),MATCH($B28,INDIRECT(\"'\"&E$14&\"'\"&\"!$B$6:$B$57\"),0),MATCH(Results!$C$15,INDIRECT(\"'\"&E$14&\"'\"&\"!$B$6:$G$6\"),0))","v":0},{"$f":"INDEX(INDIRECT(\"'\"&F$14&\"'\"&\"!$B$6:$G$57\"),MATCH($B28,INDIRECT(\"'\"&F$14&\"'\"&\"!$B$6:$B$57\"),0),MATCH(Results!$C$15,INDIRECT(\"'\"&F$14&\"'\"&\"!$B$6:$G$6\"),0))","v":4200},{"$f":"INDEX(INDIRECT(\"'\"&G$14&\"'\"&\"!$B$6:$G$57\"),MATCH($B28,INDIRECT(\"'\"&G$14&\"'\"&\"!$B$6:$B$57\"),0),MATCH(Results!$C$15,INDIRECT(\"'\"&G$14&\"'\"&\"!$B$6:$G$6\"),0))","v":4500},{"$f":"INDEX(INDIRECT(\"'\"&H$14&\"'\"&\"!$B$6:$G$57\"),MATCH($B28,INDIRECT(\"'\"&H$14&\"'\"&\"!$B$6:$B$57\"),0),MATCH(Results!$C$15,INDIRECT(\"'\"&H$14&\"'\"&\"!$B$6:$G$6\"),0))","v":6400},{"$f":"INDEX(INDIRECT(\"'\"&I$14&\"'\"&\"!$B$6:$G$57\"),MATCH($B28,INDIRECT(\"'\"&I$14&\"'\"&\"!$B$6:$B$57\"),0),MATCH(Results!$C$15,INDIRECT(\"'\"&I$14&\"'\"&\"!$B$6:$G$6\"),0))","v":2000},{"$f":"INDEX(INDIRECT(\"'\"&J$14&\"'\"&\"!$B$6:$G$57\"),MATCH($B28,INDIRECT(\"'\"&J$14&\"'\"&\"!$B$6:$B$57\"),0),MATCH(Results!$C$15,INDIRECT(\"'\"&J$14&\"'\"&\"!$B$6:$G$6\"),0))","v":450},{"$f":"INDEX(INDIRECT(\"'\"&K$14&\"'\"&\"!$B$6:$G$57\"),MATCH($B28,INDIRECT(\"'\"&K$14&\"'\"&\"!$B$6:$B$57\"),0),MATCH(Results!$C$15,INDIRECT(\"'\"&K$14&\"'\"&\"!$B$6:$G$6\"),0))","v":0}]
[null,"2-Current",{"$f":"INDEX(INDIRECT(\"'\"&C$14&\"'\"&\"!$B$6:$G$57\"),MATCH($B29,INDIRECT(\"'\"&C$14&\"'\"&\"!$B$6:$B$57\"),0),MATCH(Results!$C$15,INDIRECT(\"'\"&C$14&\"'\"&\"!$B$6:$G$6\"),0))","v":0},{"$f":"INDEX(INDIRECT(\"'\"&D$14&\"'\"&\"!$B$6:$G$57\"),MATCH($B29,INDIRECT(\"'\"&D$14&\"'\"&\"!$B$6:$B$57\"),0),MATCH(Results!$C$15,INDIRECT(\"'\"&D$14&\"'\"&\"!$B$6:$G$6\"),0))","v":0},{"$f":"INDEX(INDIRECT(\"'\"&E$14&\"'\"&\"!$B$6:$G$57\"),MATCH($B29,INDIRECT(\"'\"&E$14&\"'\"&\"!$B$6:$B$57\"),0),MATCH(Results!$C$15,INDIRECT(\"'\"&E$14&\"'\"&\"!$B$6:$G$6\"),0))","v":0},{"$f":"INDEX(INDIRECT(\"'\"&F$14&\"'\"&\"!$B$6:$G$57\"),MATCH($B29,INDIRECT(\"'\"&F$14&\"'\"&\"!$B$6:$B$57\"),0),MATCH(Results!$C$15,INDIRECT(\"'\"&F$14&\"'\"&\"!$B$6:$G$6\"),0))","v":2000},{"$f":"INDEX(INDIRECT(\"'\"&G$14&\"'\"&\"!$B$6:$G$57\"),MATCH($B29,INDIRECT(\"'\"&G$14&\"'\"&\"!$B$6:$B$57\"),0),MATCH(Results!$C$15,INDIRECT(\"'\"&G$14&\"'\"&\"!$B$6:$G$6\"),0))","v":2100},{"$f":"INDEX(INDIRECT(\"'\"&H$14&\"'\"&\"!$B$6:$G$57\"),MATCH($B29,INDIRECT(\"'\"&H$14&\"'\"&\"!$B$6:$B$57\"),0),MATCH(Results!$C$15,INDIRECT(\"'\"&H$14&\"'\"&\"!$B$6:$G$6\"),0))","v":2700},{"$f":"INDEX(INDIRECT(\"'\"&I$14&\"'\"&\"!$B$6:$G$57\"),MATCH($B29,INDIRECT(\"'\"&I$14&\"'\"&\"!$B$6:$B$57\"),0),MATCH(Results!$C$15,INDIRECT(\"'\"&I$14&\"'\"&\"!$B$6:$G$6\"),0))","v":800},{"$f":"INDEX(INDIRECT(\"'\"&J$14&\"'\"&\"!$B$6:$G$57\"),MATCH($B29,INDIRECT(\"'\"&J$14&\"'\"&\"!$B$6:$B$57\"),0),MATCH(Results!$C$15,INDIRECT(\"'\"&J$14&\"'\"&\"!$B$6:$G$6\"),0))","v":150},{"$f":"INDEX(INDIRECT(\"'\"&K$14&\"'\"&\"!$B$6:$G$57\"),MATCH($B29,INDIRECT(\"'\"&K$14&\"'\"&\"!$B$6:$B$57\"),0),MATCH(Results!$C$15,INDIRECT(\"'\"&K$14&\"'\"&\"!$B$6:$G$6\"),0))","v":0}]
[null,"3-Former ",{"$f":"INDEX(INDIRECT(\"'\"&C$14&\"'\"&\"!$B$6:$G$57\"),MATCH($B30,INDIRECT(\"'\"&C$14&\"'\"&\"!$B$6:$B$57\"),0),MATCH(Results!$C$15,INDIRECT(\"'\"&C$14&\"'\"&\"!$B$6:$G$6\"),0))","v":0},{"$f":"INDEX(INDIRECT(\"'\"&D$14&\"'\"&\"!$B$6:$G$57\"),MATCH($B30,INDIRECT(\"'\"&D$14&\"'\"&\"!$B$6:$B$57\"),0),MATCH(Results!$C$15,INDIRECT(\"'\"&D$14&\"'\"&\"!$B$6:$G$6\"),0))","v":0},{"$f":"INDEX(INDIRECT(\"'\"&E$14&\"'\"&\"!$B$6:$G$57\"),MATCH($B30,INDIRECT(\"'\"&E$14&\"'\"&\"!$B$6:$B$57\"),0),MATCH(Results!$C$15,INDIRECT(\"'\"&E$14&\"'\"&\"!$B$6:$G$6\"),0))","v":0},{"$f":"INDEX(INDIRECT(\"'\"&F$14&\"'\"&\"!$B$6:$G$57\"),MATCH($B30,INDIRECT(\"'\"&F$14&\"'\"&\"!$B$6:$B$57\"),0),MATCH(Results!$C$15,INDIRECT(\"'\"&F$14&\"'\"&\"!$B$6:$G$6\"),0))","v":3600},{"$f":"INDEX(INDIRECT(\"'\"&G$14&\"'\"&\"!$B$6:$G$57\"),MATCH($B30,INDIRECT(\"'\"&G$14&\"'\"&\"!$B$6:$B$57\"),0),MATCH(Results!$C$15,INDIRECT(\"'\"&G$14&\"'\"&\"!$B$6:$G$6\"),0))","v":3900},{"$f":"INDEX(INDIRECT(\"'\"&H$14&\"'\"&\"!$B$6:$G$57\"),MATCH($B30,INDIRECT(\"'\"&H$14&\"'\"&\"!$B$6:$B$57\"),0),MATCH(Results!$C$15,INDIRECT(\"'\"&H$14&\"'\"&\"!$B$6:$G$6\"),0))","v":5300},{"$f":"INDEX(INDIRECT(\"'\"&I$14&\"'\"&\"!$B$6:$G$57\"),MATCH($B30,INDIRECT(\"'\"&I$14&\"'\"&\"!$B$6:$B$57\"),0),MATCH(Results!$C$15,INDIRECT(\"'\"&I$14&\"'\"&\"!$B$6:$G$6\"),0))","v":1500},{"$f":"INDEX(INDIRECT(\"'\"&J$14&\"'\"&\"!$B$6:$G$57\"),MATCH($B30,INDIRECT(\"'\"&J$14&\"'\"&\"!$B$6:$B$57\"),0),MATCH(Results!$C$15,INDIRECT(\"'\"&J$14&\"'\"&\"!$B$6:$G$6\"),0))","v":300},{"$f":"INDEX(INDIRECT(\"'\"&K$14&\"'\"&\"!$B$6:$G$57\"),MATCH($B30,INDIRECT(\"'\"&K$14&\"'\"&\"!$B$6:$B$57\"),0),MATCH(Results!$C$15,INDIRECT(\"'\"&K$14&\"'\"&\"!$B$6:$G$6\"),0))","v":0}]
[null,"4-Not_Asked (smoker)",{"$f":"INDEX(INDIRECT(\"'\"&C$14&\"'\"&\"!$B$6:$G$57\"),MATCH($B31,INDIRECT(\"'\"&C$14&\"'\"&\"!$B$6:$B$57\"),0),MATCH(Results!$C$15,INDIRECT(\"'\"&C$14&\"'\"&\"!$B$6:$G$6\"),0))","v":56000},{"$f":"INDEX(INDIRECT(\"'\"&D$14&\"'\"&\"!$B$6:$G$57\"),MATCH($B31,INDIRECT(\"'\"&D$14&\"'\"&\"!$B$6:$B$57\"),0),MATCH(Results!$C$15,INDIRECT(\"'\"&D$14&\"'\"&\"!$B$6:$G$6\"),0))","v":21500},{"$f":"INDEX(INDIRECT(\"'\"&E$14&\"'\"&\"!$B$6:$G$57\"),MATCH($B31,INDIRECT(\"'\"&E$14&\"'\"&\"!$B$6:$B$57\"),0),MATCH(Results!$C$15,INDIRECT(\"'\"&E$14&\"'\"&\"!$B$6:$G$6\"),0))","v":20000},{"$f":"INDEX(INDIRECT(\"'\"&F$14&\"'\"&\"!$B$6:$G$57\"),MATCH($B31,INDIRECT(\"'\"&F$14&\"'\"&\"!$B$6:$B$57\"),0),MATCH(Results!$C$15,INDIRECT(\"'\"&F$14&\"'\"&\"!$B$6:$G$6\"),0))","v":13000},{"$f":"INDEX(INDIRECT(\"'\"&G$14&\"'\"&\"!$B$6:$G$57\"),MATCH($B31,INDIRECT(\"'\"&G$14&\"'\"&\"!$B$6:$B$57\"),0),MATCH(Results!$C$15,INDIRECT(\"'\"&G$14&\"'\"&\"!$B$6:$G$6\"),0))","v":7200},{"$f":"INDEX(INDIRECT(\"'\"&H$14&\"'\"&\"!$B$6:$G$57\"),MATCH($B31,INDIRECT(\"'\"&H$14&\"'\"&\"!$B$6:$B$57\"),0),MATCH(Results!$C$15,INDIRECT(\"'\"&H$14&\"'\"&\"!$B$6:$G$6\"),0))","v":4300},{"$f":"INDEX(INDIRECT(\"'\"&I$14&\"'\"&\"!$B$6:$G$57\"),MATCH($B31,INDIRECT(\"'\"&I$14&\"'\"&\"!$B$6:$B$57\"),0),MATCH(Results!$C$15,INDIRECT(\"'\"&I$14&\"'\"&\"!$B$6:$G$6\"),0))","v":9900},{"$f":"INDEX(INDIRECT(\"'\"&J$14&\"'\"&\"!$B$6:$G$57\"),MATCH($B31,INDIRECT(\"'\"&J$14&\"'\"&\"!$B$6:$B$57\"),0),MATCH(Results!$C$15,INDIRECT(\"'\"&J$14&\"'\"&\"!$B$6:$G$6\"),0))","v":4100},{"$f":"INDEX(INDIRECT(\"'\"&K$14&\"'\"&\"!$B$6:$G$57\"),MATCH($B31,INDIRECT(\"'\"&K$14&\"'\"&\"!$B$6:$B$57\"),0),MATCH(Results!$C$15,INDIRECT(\"'\"&K$14&\"'\"&\"!$B$6:$G$6\"),0))","v":158000}]
[null,"1-Married (marital status)",{"$f":"INDEX(INDIRECT(\"'\"&C$14&\"'\"&\"!$B$6:$G$57\"),MATCH($B32,INDIRECT(\"'\"&C$14&\"'\"&\"!$B$6:$B$57\"),0),MATCH(Results!$C$15,INDIRECT(\"'\"&C$14&\"'\"&\"!$B$6:$G$6\"),0))","v":33000},{"$f":"INDEX(INDIRECT(\"'\"&D$14&\"'\"&\"!$B$6:$G$57\"),MATCH($B32,INDIRECT(\"'\"&D$14&\"'\"&\"!$B$6:$B$57\"),0),MATCH(Results!$C$15,INDIRECT(\"'\"&D$14&\"'\"&\"!$B$6:$G$6\"),0))","v":12500},{"$f":"INDEX(INDIRECT(\"'\"&E$14&\"'\"&\"!$B$6:$G$57\"),MATCH($B32,INDIRECT(\"'\"&E$14&\"'\"&\"!$B$6:$B$57\"),0),MATCH(Results!$C$15,INDIRECT(\"'\"&E$14&\"'\"&\"!$B$6:$G$6\"),0))","v":11500},{"$f":"INDEX(INDIRECT(\"'\"&F$14&\"'\"&\"!$B$6:$G$57\"),MATCH($B32,INDIRECT(\"'\"&F$14&\"'\"&\"!$B$6:$B$57\"),0),MATCH(Results!$C$15,INDIRECT(\"'\"&F$14&\"'\"&\"!$B$6:$G$6\"),0))","v":12000},{"$f":"INDEX(INDIRECT(\"'\"&G$14&\"'\"&\"!$B$6:$G$57\"),MATCH($B32,INDIRECT(\"'\"&G$14&\"'\"&\"!$B$6:$B$57\"),0),MATCH(Results!$C$15,INDIRECT(\"'\"&G$14&\"'\"&\"!$B$6:$G$6\"),0))","v":9300},{"$f":"INDEX(INDIRECT(\"'\"&H$14&\"'\"&\"!$B$6:$G$57\"),MATCH($B32,INDIRECT(\"'\"&H$14&\"'\"&\"!$B$6:$B$57\"),0),MATCH(Results!$C$15,INDIRECT(\"'\"&H$14&\"'\"&\"!$B$6:$G$6\"),0))","v":9700},{"$f":"INDEX(INDIRECT(\"'\"&I$14&\"'\"&\"!$B$6:$G$57\"),MATCH($B32,INDIRECT(\"'\"&I$14&\"'\"&\"!$B$6:$B$57\"),0),MATCH(Results!$C$15,INDIRECT(\"'\"&I$14&\"'\"&\"!$B$6:$G$6\"),0))","v":6800},{"$f":"INDEX(INDIRECT(\"'\"&J$14&\"'\"&\"!$B$6:$G$57\"),MATCH($B32,INDIRECT(\"'\"&J$14&\"'\"&\"!$B$6:$B$57\"),0),MATCH(Results!$C$15,INDIRECT(\"'\"&J$14&\"'\"&\"!$B$6:$G$6\"),0))","v":2300},{"$f":"INDEX(INDIRECT(\"'\"&K$14&\"'\"&\"!$B$6:$G$57\"),MATCH($B32,INDIRECT(\"'\"&K$14&\"'\"&\"!$B$6:$B$57\"),0),MATCH(Results!$C$15,INDIRECT(\"'\"&K$14&\"'\"&\"!$B$6:$G$6\"),0))","v":120000}]
[null,"2-Widowed    ",{"$f":"INDEX(INDIRECT(\"'\"&C$14&\"'\"&\"!$B$6:$G$57\"),MATCH($B33,INDIRECT(\"'\"&C$14&\"'\"&\"!$B$6:$B$57\"),0),MATCH(Results!$C$15,INDIRECT(\"'\"&C$14&\"'\"&\"!$B$6:$G$6\"),0))","v":15500},{"$f":"INDEX(INDIRECT(\"'\"&D$14&\"'\"&\"!$B$6:$G$57\"),MATCH($B33,INDIRECT(\"'\"&D$14&\"'\"&\"!$B$6:$B$57\"),0),MATCH(Results!$C$15,INDIRECT(\"'\"&D$14&\"'\"&\"!$B$6:$G$6\"),0))","v":6200},{"$f":"INDEX(INDIRECT(\"'\"&E$14&\"'\"&\"!$B$6:$G$57\"),MATCH($B33,INDIRECT(\"'\"&E$14&\"'\"&\"!$B$6:$B$57\"),0),MATCH(Results!$C$15,INDIRECT(\"'\"&E$14&\"'\"&\"!$B$6:$G$6\"),0))","v":5700},{"$f":"INDEX(INDIRECT(\"'\"&F$14&\"'\"&\"!$B$6:$G$57\"),MATCH($B33,INDIRECT(\"'\"&F$14&\"'\"&\"!$B$6:$B$57\"),0),MATCH(Results!$C$15,INDIRECT(\"'\"&F$14&\"'\"&\"!$B$6:$G$6\"),0))","v":6800},{"$f":"INDEX(INDIRECT(\"'\"&G$14&\"'\"&\"!$B$6:$G$57\"),MATCH($B33,INDIRECT(\"'\"&G$14&\"'\"&\"!$B$6:$B$57\"),0),MATCH(Results!$C$15,INDIRECT(\"'\"&G$14&\"'\"&\"!$B$6:$G$6\"),0))","v":5300},{"$f":"INDEX(INDIRECT(\"'\"&H$14&\"'\"&\"!$B$6:$G$57\"),MATCH($B33,INDIRECT(\"'\"&H$14&\"'\"&\"!$B$6:$B$57\"),0),MATCH(Results!$C$15,INDIRECT(\"'\"&H$14&\"'\"&\"!$B$6:$G$6\"),0))","v":5400},{"$f":"INDEX(INDIRECT(\"'\"&I$14&\"'\"&\"!$B$6:$G$57\"),MATCH($B33,INDIRECT(\"'\"&I$14&\"'\"&\"!$B$6:$B$57\"),0),MATCH(Results!$C$15,INDIRECT(\"'\"&I$14&\"'\"&\"!$B$6:$G$6\"),0))","v":4300},{"$f":"INDEX(INDIRECT(\"'\"&J$14&\"'\"&\"!$B$6:$G$57\"),MATCH($B33,INDIRECT(\"'\"&J$14&\"'\"&\"!$B$6:$B$57\"),0),MATCH(Results!$C$15,INDIRECT(\"'\"&J$14&\"'\"&\"!$B$6:$G$6\"),0))","v":1600},{"$f":"INDEX(INDIRECT(\"'\"&K$14&\"'\"&\"!$B$6:$G$57\"),MATCH($B33,INDIRECT(\"'\"&K$14&\"'\"&\"!$B$6:$B$57\"),0),MATCH(Results!$C$15,INDIRECT(\"'\"&K$14&\"'\"&\"!$B$6:$G$6\"),0))","v":22000}]
[null,"3-Divorced   ",{"$f":"INDEX(INDIRECT(\"'\"&C$14&\"'\"&\"!$B$6:$G$57\"),MATCH($B34,INDIRECT(\"'\"&C$14&\"'\"&\"!$B$6:$B$57\"),0),MATCH(Results!$C$15,INDIRECT(\"'\"&C$14&\"'\"&\"!$B$6:$G$6\"),0))","v":3100},{"$f":"INDEX(INDIRECT(\"'\"&D$14&\"'\"&\"!$B$6:$G$57\"),MATCH($B34,INDIRECT(\"'\"&D$14&\"'\"&\"!$B$6:$B$57\"),0),MATCH(Results!$C$15,INDIRECT(\"'\"&D$14&\"'\"&\"!$B$6:$G$6\"),0))","v":1300},{"$f":"INDEX(INDIRECT(\"'\"&E$14&\"'\"&\"!$B$6:$G$57\"),MATCH($B34,INDIRECT(\"'\"&E$14&\"'\"&\"!$B$6:$B$57\"),0),MATCH(Results!$C$15,INDIRECT(\"'\"&E$14&\"'\"&\"!$B$6:$G$6\"),0))","v":1400},{"$f":"INDEX(INDIRECT(\"'\"&F$14&\"'\"&\"!$B$6:$G$57\"),MATCH($B34,INDIRECT(\"'\"&F$14&\"'\"&\"!$B$6:$B$57\"),0),MATCH(Results!$C$15,INDIRECT(\"'\"&F$14&\"'\"&\"!$B$6:$G$6\"),0))","v":1800},{"$f":"INDEX(INDIRECT(\"'\"&G$14&\"'\"&\"!$B$6:$G$57\"),MATCH($B34,INDIRECT(\"'\"&G$14&\"'\"&\"!$B$6:$B$57\"),0),MATCH(Results!$C$15,INDIRECT(\"'\"&G$14&\"'\"&\"!$B$6:$G$6\"),0))","v":1700},{"$f":"INDEX(INDIRECT(\"'\"&H$14&\"'\"&\"!$B$6:$G$57\"),MATCH($B34,INDIRECT(\"'\"&H$14&\"'\"&\"!$B$6:$B$57\"),0),MATCH(Results!$C$15,INDIRECT(\"'\"&H$14&\"'\"&\"!$B$6:$G$6\"),0))","v":2100},{"$f":"INDEX(INDIRECT(\"'\"&I$14&\"'\"&\"!$B$6:$G$57\"),MATCH($B34,INDIRECT(\"'\"&I$14&\"'\"&\"!$B$6:$B$57\"),0),MATCH(Results!$C$15,INDIRECT(\"'\"&I$14&\"'\"&\"!$B$6:$G$6\"),0))","v":1700},{"$f":"INDEX(INDIRECT(\"'\"&J$14&\"'\"&\"!$B$6:$G$57\"),MATCH($B34,INDIRECT(\"'\"&J$14&\"'\"&\"!$B$6:$B$57\"),0),MATCH(Results!$C$15,INDIRECT(\"'\"&J$14&\"'\"&\"!$B$6:$G$6\"),0))","v":650},{"$f":"INDEX(INDIRECT(\"'\"&K$14&\"'\"&\"!$B$6:$G$57\"),MATCH($B34,INDIRECT(\"'\"&K$14&\"'\"&\"!$B$6:$B$57\"),0),MATCH(Results!$C$15,INDIRECT(\"'\"&K$14&\"'\"&\"!$B$6:$G$6\"),0))","v":8800}]
[null,"4-Separated  ",{"$f":"INDEX(INDIRECT(\"'\"&C$14&\"'\"&\"!$B$6:$G$57\"),MATCH($B35,INDIRECT(\"'\"&C$14&\"'\"&\"!$B$6:$B$57\"),0),MATCH(Results!$C$15,INDIRECT(\"'\"&C$14&\"'\"&\"!$B$6:$G$6\"),0))","v":1000},{"$f":"INDEX(INDIRECT(\"'\"&D$14&\"'\"&\"!$B$6:$G$57\"),MATCH($B35,INDIRECT(\"'\"&D$14&\"'\"&\"!$B$6:$B$57\"),0),MATCH(Results!$C$15,INDIRECT(\"'\"&D$14&\"'\"&\"!$B$6:$G$6\"),0))","v":350},{"$f":"INDEX(INDIRECT(\"'\"&E$14&\"'\"&\"!$B$6:$G$57\"),MATCH($B35,INDIRECT(\"'\"&E$14&\"'\"&\"!$B$6:$B$57\"),0),MATCH(Results!$C$15,INDIRECT(\"'\"&E$14&\"'\"&\"!$B$6:$G$6\"),0))","v":350},{"$f":"INDEX(INDIRECT(\"'\"&F$14&\"'\"&\"!$B$6:$G$57\"),MATCH($B35,INDIRECT(\"'\"&F$14&\"'\"&\"!$B$6:$B$57\"),0),MATCH(Results!$C$15,INDIRECT(\"'\"&F$14&\"'\"&\"!$B$6:$G$6\"),0))","v":400},{"$f":"INDEX(INDIRECT(\"'\"&G$14&\"'\"&\"!$B$6:$G$57\"),MATCH($B35,INDIRECT(\"'\"&G$14&\"'\"&\"!$B$6:$B$57\"),0),MATCH(Results!$C$15,INDIRECT(\"'\"&G$14&\"'\"&\"!$B$6:$G$6\"),0))","v":300},{"$f":"INDEX(INDIRECT(\"'\"&H$14&\"'\"&\"!$B$6:$G$57\"),MATCH($B35,INDIRECT(\"'\"&H$14&\"'\"&\"!$B$6:$B$57\"),0),MATCH(Results!$C$15,INDIRECT(\"'\"&H$14&\"'\"&\"!$B$6:$G$6\"),0))","v":300},{"$f":"INDEX(INDIRECT(\"'\"&I$14&\"'\"&\"!$B$6:$G$57\"),MATCH($B35,INDIRECT(\"'\"&I$14&\"'\"&\"!$B$6:$B$57\"),0),MATCH(Results!$C$15,INDIRECT(\"'\"&I$14&\"'\"&\"!$B$6:$G$6\"),0))","v":300},{"$f":"INDEX(INDIRECT(\"'\"&J$14&\"'\"&\"!$B$6:$G$57\"),MATCH($B35,INDIRECT(\"'\"&J$14&\"'\"&\"!$B$6:$B$57\"),0),MATCH(Results!$C$15,INDIRECT(\"'\"&J$14&\"'\"&\"!$B$6:$G$6\"),0))","v":100},{"$f":"INDEX(INDIRECT(\"'\"&K$14&\"'\"&\"!$B$6:$G$57\"),MATCH($B35,INDIRECT(\"'\"&K$14&\"'\"&\"!$B$6:$B$57\"),0),MATCH(Results!$C$15,INDIRECT(\"'\"&K$14&\"'\"&\"!$B$6:$G$6\"),0))","v":1400}]
[null,"5-NeverMar.  ",{"$f":"INDEX(INDIRECT(\"'\"&C$14&\"'\"&\"!$B$6:$G$57\"),MATCH($B36,INDIRECT(\"'\"&C$14&\"'\"&\"!$B$6:$B$57\"),0),MATCH(Results!$C$15,INDIRECT(\"'\"&C$14&\"'\"&\"!$B$6:$G$6\"),0))","v":3300},{"$f":"INDEX(INDIRECT(\"'\"&D$14&\"'\"&\"!$B$6:$G$57\"),MATCH($B36,INDIRECT(\"'\"&D$14&\"'\"&\"!$B$6:$B$57\"),0),MATCH(Results!$C$15,INDIRECT(\"'\"&D$14&\"'\"&\"!$B$6:$G$6\"),0))","v":1300},{"$f":"INDEX(INDIRECT(\"'\"&E$14&\"'\"&\"!$B$6:$G$57\"),MATCH($B36,INDIRECT(\"'\"&E$14&\"'\"&\"!$B$6:$B$57\"),0),MATCH(Results!$C$15,INDIRECT(\"'\"&E$14&\"'\"&\"!$B$6:$G$6\"),0))","v":1100},{"$f":"INDEX(INDIRECT(\"'\"&F$14&\"'\"&\"!$B$6:$G$57\"),MATCH($B36,INDIRECT(\"'\"&F$14&\"'\"&\"!$B$6:$B$57\"),0),MATCH(Results!$C$15,INDIRECT(\"'\"&F$14&\"'\"&\"!$B$6:$G$6\"),0))","v":1300},{"$f":"INDEX(INDIRECT(\"'\"&G$14&\"'\"&\"!$B$6:$G$57\"),MATCH($B36,INDIRECT(\"'\"&G$14&\"'\"&\"!$B$6:$B$57\"),0),MATCH(Results!$C$15,INDIRECT(\"'\"&G$14&\"'\"&\"!$B$6:$G$6\"),0))","v":1000},{"$f":"INDEX(INDIRECT(\"'\"&H$14&\"'\"&\"!$B$6:$G$57\"),MATCH($B36,INDIRECT(\"'\"&H$14&\"'\"&\"!$B$6:$B$57\"),0),MATCH(Results!$C$15,INDIRECT(\"'\"&H$14&\"'\"&\"!$B$6:$G$6\"),0))","v":1200},{"$f":"INDEX(INDIRECT(\"'\"&I$14&\"'\"&\"!$B$6:$G$57\"),MATCH($B36,INDIRECT(\"'\"&I$14&\"'\"&\"!$B$6:$B$57\"),0),MATCH(Results!$C$15,INDIRECT(\"'\"&I$14&\"'\"&\"!$B$6:$G$6\"),0))","v":1000},{"$f":"INDEX(INDIRECT(\"'\"&J$14&\"'\"&\"!$B$6:$G$57\"),MATCH($B36,INDIRECT(\"'\"&J$14&\"'\"&\"!$B$6:$B$57\"),0),MATCH(Results!$C$15,INDIRECT(\"'\"&J$14&\"'\"&\"!$B$6:$G$6\"),0))","v":400},{"$f":"INDEX(INDIRECT(\"'\"&K$14&\"'\"&\"!$B$6:$G$57\"),MATCH($B36,INDIRECT(\"'\"&K$14&\"'\"&\"!$B$6:$B$57\"),0),MATCH(Results!$C$15,INDIRECT(\"'\"&K$14&\"'\"&\"!$B$6:$G$6\"),0))","v":5400}]
[null,"1-Lowest inc.  ",{"$f":"INDEX(INDIRECT(\"'\"&C$14&\"'\"&\"!$B$6:$G$57\"),MATCH($B37,INDIRECT(\"'\"&C$14&\"'\"&\"!$B$6:$B$57\"),0),MATCH(Results!$C$15,INDIRECT(\"'\"&C$14&\"'\"&\"!$B$6:$G$6\"),0))","v":13000},{"$f":"INDEX(INDIRECT(\"'\"&D$14&\"'\"&\"!$B$6:$G$57\"),MATCH($B37,INDIRECT(\"'\"&D$14&\"'\"&\"!$B$6:$B$57\"),0),MATCH(Results!$C$15,INDIRECT(\"'\"&D$14&\"'\"&\"!$B$6:$G$6\"),0))","v":3700},{"$f":"INDEX(INDIRECT(\"'\"&E$14&\"'\"&\"!$B$6:$G$57\"),MATCH($B37,INDIRECT(\"'\"&E$14&\"'\"&\"!$B$6:$B$57\"),0),MATCH(Results!$C$15,INDIRECT(\"'\"&E$14&\"'\"&\"!$B$6:$G$6\"),0))","v":3300},{"$f":"INDEX(INDIRECT(\"'\"&F$14&\"'\"&\"!$B$6:$G$57\"),MATCH($B37,INDIRECT(\"'\"&F$14&\"'\"&\"!$B$6:$B$57\"),0),MATCH(Results!$C$15,INDIRECT(\"'\"&F$14&\"'\"&\"!$B$6:$G$6\"),0))","v":4200},{"$f":"INDEX(INDIRECT(\"'\"&G$14&\"'\"&\"!$B$6:$G$57\"),MATCH($B37,INDIRECT(\"'\"&G$14&\"'\"&\"!$B$6:$B$57\"),0),MATCH(Results!$C$15,INDIRECT(\"'\"&G$14&\"'\"&\"!$B$6:$G$6\"),0))","v":3000},{"$f":"INDEX(INDIRECT(\"'\"&H$14&\"'\"&\"!$B$6:$G$57\"),MATCH($B37,INDIRECT(\"'\"&H$14&\"'\"&\"!$B$6:$B$57\"),0),MATCH(Results!$C$15,INDIRECT(\"'\"&H$14&\"'\"&\"!$B$6:$G$6\"),0))","v":3100},{"$f":"INDEX(INDIRECT(\"'\"&I$14&\"'\"&\"!$B$6:$G$57\"),MATCH($B37,INDIRECT(\"'\"&I$14&\"'\"&\"!$B$6:$B$57\"),0),MATCH(Results!$C$15,INDIRECT(\"'\"&I$14&\"'\"&\"!$B$6:$G$6\"),0))","v":2700},{"$f":"INDEX(INDIRECT(\"'\"&J$14&\"'\"&\"!$B$6:$G$57\"),MATCH($B37,INDIRECT(\"'\"&J$14&\"'\"&\"!$B$6:$B$57\"),0),MATCH(Results!$C$15,INDIRECT(\"'\"&J$14&\"'\"&\"!$B$6:$G$6\"),0))","v":1000},{"$f":"INDEX(INDIRECT(\"'\"&K$14&\"'\"&\"!$B$6:$G$57\"),MATCH($B37,INDIRECT(\"'\"&K$14&\"'\"&\"!$B$6:$B$57\"),0),MATCH(Results!$C$15,INDIRECT(\"'\"&K$14&\"'\"&\"!$B$6:$G$6\"),0))","v":12500}]
[null,"2-Second dec.  ",{"$f":"INDEX(INDIRECT(\"'\"&C$14&\"'\"&\"!$B$6:$G$57\"),MATCH($B38,INDIRECT(\"'\"&C$14&\"'\"&\"!$B$6:$B$57\"),0),MATCH(Results!$C$15,INDIRECT(\"'\"&C$14&\"'\"&\"!$B$6:$G$6\"),0))","v":14500},{"$f":"INDEX(INDIRECT(\"'\"&D$14&\"'\"&\"!$B$6:$G$57\"),MATCH($B38,INDIRECT(\"'\"&D$14&\"'\"&\"!$B$6:$B$57\"),0),MATCH(Results!$C$15,INDIRECT(\"'\"&D$14&\"'\"&\"!$B$6:$G$6\"),0))","v":4000},{"$f":"INDEX(INDIRECT(\"'\"&E$14&\"'\"&\"!$B$6:$G$57\"),MATCH($B38,INDIRECT(\"'\"&E$14&\"'\"&\"!$B$6:$B$57\"),0),MATCH(Results!$C$15,INDIRECT(\"'\"&E$14&\"'\"&\"!$B$6:$G$6\"),0))","v":3700},{"$f":"INDEX(INDIRECT(\"'\"&F$14&\"'\"&\"!$B$6:$G$57\"),MATCH($B38,INDIRECT(\"'\"&F$14&\"'\"&\"!$B$6:$B$57\"),0),MATCH(Results!$C$15,INDIRECT(\"'\"&F$14&\"'\"&\"!$B$6:$G$6\"),0))","v":4400},{"$f":"INDEX(INDIRECT(\"'\"&G$14&\"'\"&\"!$B$6:$G$57\"),MATCH($B38,INDIRECT(\"'\"&G$14&\"'\"&\"!$B$6:$B$57\"),0),MATCH(Results!$C$15,INDIRECT(\"'\"&G$14&\"'\"&\"!$B$6:$G$6\"),0))","v":3400},{"$f":"INDEX(INDIRECT(\"'\"&H$14&\"'\"&\"!$B$6:$G$57\"),MATCH($B38,INDIRECT(\"'\"&H$14&\"'\"&\"!$B$6:$B$57\"),0),MATCH(Results!$C$15,INDIRECT(\"'\"&H$14&\"'\"&\"!$B$6:$G$6\"),0))","v":3600},{"$f":"INDEX(INDIRECT(\"'\"&I$14&\"'\"&\"!$B$6:$G$57\"),MATCH($B38,INDIRECT(\"'\"&I$14&\"'\"&\"!$B$6:$B$57\"),0),MATCH(Results!$C$15,INDIRECT(\"'\"&I$14&\"'\"&\"!$B$6:$G$6\"),0))","v":2700},{"$f":"INDEX(INDIRECT(\"'\"&J$14&\"'\"&\"!$B$6:$G$57\"),MATCH($B38,INDIRECT(\"'\"&J$14&\"'\"&\"!$B$6:$B$57\"),0),MATCH(Results!$C$15,INDIRECT(\"'\"&J$14&\"'\"&\"!$B$6:$G$6\"),0))","v":1000},{"$f":"INDEX(INDIRECT(\"'\"&K$14&\"'\"&\"!$B$6:$G$57\"),MATCH($B38,INDIRECT(\"'\"&K$14&\"'\"&\"!$B$6:$B$57\"),0),MATCH(Results!$C$15,INDIRECT(\"'\"&K$14&\"'\"&\"!$B$6:$G$6\"),0))","v":25500}]
[null,"3-Third dec.   ",{"$f":"INDEX(INDIRECT(\"'\"&C$14&\"'\"&\"!$B$6:$G$57\"),MATCH($B39,INDIRECT(\"'\"&C$14&\"'\"&\"!$B$6:$B$57\"),0),MATCH(Results!$C$15,INDIRECT(\"'\"&C$14&\"'\"&\"!$B$6:$G$6\"),0))","v":5700},{"$f":"INDEX(INDIRECT(\"'\"&D$14&\"'\"&\"!$B$6:$G$57\"),MATCH($B39,INDIRECT(\"'\"&D$14&\"'\"&\"!$B$6:$B$57\"),0),MATCH(Results!$C$15,INDIRECT(\"'\"&D$14&\"'\"&\"!$B$6:$G$6\"),0))","v":3200},{"$f":"INDEX(INDIRECT(\"'\"&E$14&\"'\"&\"!$B$6:$G$57\"),MATCH($B39,INDIRECT(\"'\"&E$14&\"'\"&\"!$B$6:$B$57\"),0),MATCH(Results!$C$15,INDIRECT(\"'\"&E$14&\"'\"&\"!$B$6:$G$6\"),0))","v":3000},{"$f":"INDEX(INDIRECT(\"'\"&F$14&\"'\"&\"!$B$6:$G$57\"),MATCH($B39,INDIRECT(\"'\"&F$14&\"'\"&\"!$B$6:$B$57\"),0),MATCH(Results!$C$15,INDIRECT(\"'\"&F$14&\"'\"&\"!$B$6:$G$6\"),0))","v":3500},{"$f":"INDEX(INDIRECT(\"'\"&G$14&\"'\"&\"!$B$6:$G$57\"),MATCH($B39,INDIRECT(\"'\"&G$14&\"'\"&\"!$B$6:$B$57\"),0),MATCH(Results!$C$15,INDIRECT(\"'\"&G$14&\"'\"&\"!$B$6:$G$6\"),0))","v":2700},{"$f":"INDEX(INDIRECT(\"'\"&H$14&\"'\"&\"!$B$6:$G$57\"),MATCH($B39,INDIRECT(\"'\"&H$14&\"'\"&\"!$B$6:$B$57\"),0),MATCH(Results!$C$15,INDIRECT(\"'\"&H$14&\"'\"&\"!$B$6:$G$6\"),0))","v":2700},{"$f":"INDEX(INDIRECT(\"'\"&I$14&\"'\"&\"!$B$6:$G$57\"),MATCH($B39,INDIRECT(\"'\"&I$14&\"'\"&\"!$B$6:$B$57\"),0),MATCH(Results!$C$15,INDIRECT(\"'\"&I$14&\"'\"&\"!$B$6:$G$6\"),0))","v":2200},{"$f":"INDEX(INDIRECT(\"'\"&J$14&\"'\"&\"!$B$6:$G$57\"),MATCH($B39,INDIRECT(\"'\"&J$14&\"'\"&\"!$B$6:$B$57\"),0),MATCH(Results!$C$15,INDIRECT(\"'\"&J$14&\"'\"&\"!$B$6:$G$6\"),0))","v":700},{"$f":"INDEX(INDIRECT(\"'\"&K$14&\"'\"&\"!$B$6:$G$57\"),MATCH($B39,INDIRECT(\"'\"&K$14&\"'\"&\"!$B$6:$B$57\"),0),MATCH(Results!$C$15,INDIRECT(\"'\"&K$14&\"'\"&\"!$B$6:$G$6\"),0))","v":25500}]
[null,"4-Fourth dec.  ",{"$f":"INDEX(INDIRECT(\"'\"&C$14&\"'\"&\"!$B$6:$G$57\"),MATCH($B40,INDIRECT(\"'\"&C$14&\"'\"&\"!$B$6:$B$57\"),0),MATCH(Results!$C$15,INDIRECT(\"'\"&C$14&\"'\"&\"!$B$6:$G$6\"),0))","v":5400},{"$f":"INDEX(INDIRECT(\"'\"&D$14&\"'\"&\"!$B$6:$G$57\"),MATCH($B40,INDIRECT(\"'\"&D$14&\"'\"&\"!$B$6:$B$57\"),0),MATCH(Results!$C$15,INDIRECT(\"'\"&D$14&\"'\"&\"!$B$6:$G$6\"),0))","v":2600},{"$f":"INDEX(INDIRECT(\"'\"&E$14&\"'\"&\"!$B$6:$G$57\"),MATCH($B40,INDIRECT(\"'\"&E$14&\"'\"&\"!$B$6:$B$57\"),0),MATCH(Results!$C$15,INDIRECT(\"'\"&E$14&\"'\"&\"!$B$6:$G$6\"),0))","v":2300},{"$f":"INDEX(INDIRECT(\"'\"&F$14&\"'\"&\"!$B$6:$G$57\"),MATCH($B40,INDIRECT(\"'\"&F$14&\"'\"&\"!$B$6:$B$57\"),0),MATCH(Results!$C$15,INDIRECT(\"'\"&F$14&\"'\"&\"!$B$6:$G$6\"),0))","v":2600},{"$f":"INDEX(INDIRECT(\"'\"&G$14&\"'\"&\"!$B$6:$G$57\"),MATCH($B40,INDIRECT(\"'\"&G$14&\"'\"&\"!$B$6:$B$57\"),0),MATCH(Results!$C$15,INDIRECT(\"'\"&G$14&\"'\"&\"!$B$6:$G$6\"),0))","v":2000},{"$f":"INDEX(INDIRECT(\"'\"&H$14&\"'\"&\"!$B$6:$G$57\"),MATCH($B40,INDIRECT(\"'\"&H$14&\"'\"&\"!$B$6:$B$57\"),0),MATCH(Results!$C$15,INDIRECT(\"'\"&H$14&\"'\"&\"!$B$6:$G$6\"),0))","v":2200},{"$f":"INDEX(INDIRECT(\"'\"&I$14&\"'\"&\"!$B$6:$G$57\"),MATCH($B40,INDIRECT(\"'\"&I$14&\"'\"&\"!$B$6:$B$57\"),0),MATCH(Results!$C$15,INDIRECT(\"'\"&I$14&\"'\"&\"!$B$6:$G$6\"),0))","v":1500},{"$f":"INDEX(INDIRECT(\"'\"&J$14&\"'\"&\"!$B$6:$G$57\"),MATCH($B40,INDIRECT(\"'\"&J$14&\"'\"&\"!$B$6:$B$57\"),0),MATCH(Results!$C$15,INDIRECT(\"'\"&J$14&\"'\"&\"!$B$6:$G$6\"),0))","v":500},{"$f":"INDEX(INDIRECT(\"'\"&K$14&\"'\"&\"!$B$6:$G$57\"),MATCH($B40,INDIRECT(\"'\"&K$14&\"'\"&\"!$B$6:$B$57\"),0),MATCH(Results!$C$15,INDIRECT(\"'\"&K$14&\"'\"&\"!$B$6:$G$6\"),0))","v":23000}]
[null,"5-Fifth dec.   ",{"$f":"INDEX(INDIRECT(\"'\"&C$14&\"'\"&\"!$B$6:$G$57\"),MATCH($B41,INDIRECT(\"'\"&C$14&\"'\"&\"!$B$6:$B$57\"),0),MATCH(Results!$C$15,INDIRECT(\"'\"&C$14&\"'\"&\"!$B$6:$G$6\"),0))","v":5200},{"$f":"INDEX(INDIRECT(\"'\"&D$14&\"'\"&\"!$B$6:$G$57\"),MATCH($B41,INDIRECT(\"'\"&D$14&\"'\"&\"!$B$6:$B$57\"),0),MATCH(Results!$C$15,INDIRECT(\"'\"&D$14&\"'\"&\"!$B$6:$G$6\"),0))","v":1900},{"$f":"INDEX(INDIRECT(\"'\"&E$14&\"'\"&\"!$B$6:$G$57\"),MATCH($B41,INDIRECT(\"'\"&E$14&\"'\"&\"!$B$6:$B$57\"),0),MATCH(Results!$C$15,INDIRECT(\"'\"&E$14&\"'\"&\"!$B$6:$G$6\"),0))","v":1800},{"$f":"INDEX(INDIRECT(\"'\"&F$14&\"'\"&\"!$B$6:$G$57\"),MATCH($B41,INDIRECT(\"'\"&F$14&\"'\"&\"!$B$6:$B$57\"),0),MATCH(Results!$C$15,INDIRECT(\"'\"&F$14&\"'\"&\"!$B$6:$G$6\"),0))","v":2000},{"$f":"INDEX(INDIRECT(\"'\"&G$14&\"'\"&\"!$B$6:$G$57\"),MATCH($B41,INDIRECT(\"'\"&G$14&\"'\"&\"!$B$6:$B$57\"),0),MATCH(Results!$C$15,INDIRECT(\"'\"&G$14&\"'\"&\"!$B$6:$G$6\"),0))","v":1500},{"$f":"INDEX(INDIRECT(\"'\"&H$14&\"'\"&\"!$B$6:$G$57\"),MATCH($B41,INDIRECT(\"'\"&H$14&\"'\"&\"!$B$6:$B$57\"),0),MATCH(Results!$C$15,INDIRECT(\"'\"&H$14&\"'\"&\"!$B$6:$G$6\"),0))","v":1700},{"$f":"INDEX(INDIRECT(\"'\"&I$14&\"'\"&\"!$B$6:$G$57\"),MATCH($B41,INDIRECT(\"'\"&I$14&\"'\"&\"!$B$6:$B$57\"),0),MATCH(Results!$C$15,INDIRECT(\"'\"&I$14&\"'\"&\"!$B$6:$G$6\"),0))","v":1100},{"$f":"INDEX(INDIRECT(\"'\"&J$14&\"'\"&\"!$B$6:$G$57\"),MATCH($B41,INDIRECT(\"'\"&J$14&\"'\"&\"!$B$6:$B$57\"),0),MATCH(Results!$C$15,INDIRECT(\"'\"&J$14&\"'\"&\"!$B$6:$G$6\"),0))","v":400},{"$f":"INDEX(INDIRECT(\"'\"&K$14&\"'\"&\"!$B$6:$G$57\"),MATCH($B41,INDIRECT(\"'\"&K$14&\"'\"&\"!$B$6:$B$57\"),0),MATCH(Results!$C$15,INDIRECT(\"'\"&K$14&\"'\"&\"!$B$6:$G$6\"),0))","v":18500}]
[null,"6-Sixth dec.   ",{"$f":"INDEX(INDIRECT(\"'\"&C$14&\"'\"&\"!$B$6:$G$57\"),MATCH($B42,INDIRECT(\"'\"&C$14&\"'\"&\"!$B$6:$B$57\"),0),MATCH(Results!$C$15,INDIRECT(\"'\"&C$14&\"'\"&\"!$B$6:$G$6\"),0))","v":4200},{"$f":"INDEX(INDIRECT(\"'\"&D$14&\"'\"&\"!$B$6:$G$57\"),MATCH($B42,INDIRECT(\"'\"&D$14&\"'\"&\"!$B$6:$B$57\"),0),MATCH(Results!$C$15,INDIRECT(\"'\"&D$14&\"'\"&\"!$B$6:$G$6\"),0))","v":1600},{"$f":"INDEX(INDIRECT(\"'\"&E$14&\"'\"&\"!$B$6:$G$57\"),MATCH($B42,INDIRECT(\"'\"&E$14&\"'\"&\"!$B$6:$B$57\"),0),MATCH(Results!$C$15,INDIRECT(\"'\"&E$14&\"'\"&\"!$B$6:$G$6\"),0))","v":1600},{"$f":"INDEX(INDIRECT(\"'\"&F$14&\"'\"&\"!$B$6:$G$57\"),MATCH($B42,INDIRECT(\"'\"&F$14&\"'\"&\"!$B$6:$B$57\"),0),MATCH(Results!$C$15,INDIRECT(\"'\"&F$14&\"'\"&\"!$B$6:$G$6\"),0))","v":1500},{"$f":"INDEX(INDIRECT(\"'\"&G$14&\"'\"&\"!$B$6:$G$57\"),MATCH($B42,INDIRECT(\"'\"&G$14&\"'\"&\"!$B$6:$B$57\"),0),MATCH(Results!$C$15,INDIRECT(\"'\"&G$14&\"'\"&\"!$B$6:$G$6\"),0))","v":1300},{"$f":"INDEX(INDIRECT(\"'\"&H$14&\"'\"&\"!$B$6:$G$57\"),MATCH($B42,INDIRECT(\"'\"&H$14&\"'\"&\"!$B$6:$B$57\"),0),MATCH(Results!$C$15,INDIRECT(\"'\"&H$14&\"'\"&\"!$B$6:$G$6\"),0))","v":1200},{"$f":"INDEX(INDIRECT(\"'\"&I$14&\"'\"&\"!$B$6:$G$57\"),MATCH($B42,INDIRECT(\"'\"&I$14&\"'\"&\"!$B$6:$B$57\"),0),MATCH(Results!$C$15,INDIRECT(\"'\"&I$14&\"'\"&\"!$B$6:$G$6\"),0))","v":950},{"$f":"INDEX(INDIRECT(\"'\"&J$14&\"'\"&\"!$B$6:$G$57\"),MATCH($B42,INDIRECT(\"'\"&J$14&\"'\"&\"!$B$6:$B$57\"),0),MATCH(Results!$C$15,INDIRECT(\"'\"&J$14&\"'\"&\"!$B$6:$G$6\"),0))","v":300},{"$f":"INDEX(INDIRECT(\"'\"&K$14&\"'\"&\"!$B$6:$G$57\"),MATCH($B42,INDIRECT(\"'\"&K$14&\"'\"&\"!$B$6:$B$57\"),0),MATCH(Results!$C$15,INDIRECT(\"'\"&K$14&\"'\"&\"!$B$6:$G$6\"),0))","v":14500}]
[null,"7-Seventh dec. ",{"$f":"INDEX(INDIRECT(\"'\"&C$14&\"'\"&\"!$B$6:$G$57\"),MATCH($B43,INDIRECT(\"'\"&C$14&\"'\"&\"!$B$6:$B$57\"),0),MATCH(Results!$C$15,INDIRECT(\"'\"&C$14&\"'\"&\"!$B$6:$G$6\"),0))","v":1100},{"$f":"INDEX(INDIRECT(\"'\"&D$14&\"'\"&\"!$B$6:$G$57\"),MATCH($B43,INDIRECT(\"'\"&D$14&\"'\"&\"!$B$6:$B$57\"),0),MATCH(Results!$C$15,INDIRECT(\"'\"&D$14&\"'\"&\"!$B$6:$G$6\"),0))","v":1500},{"$f":"INDEX(INDIRECT(\"'\"&E$14&\"'\"&\"!$B$6:$G$57\"),MATCH($B43,INDIRECT(\"'\"&E$14&\"'\"&\"!$B$6:$B$57\"),0),MATCH(Results!$C$15,INDIRECT(\"'\"&E$14&\"'\"&\"!$B$6:$G$6\"),0))","v":1300},{"$f":"INDEX(INDIRECT(\"'\"&F$14&\"'\"&\"!$B$6:$G$57\"),MATCH($B43,INDIRECT(\"'\"&F$14&\"'\"&\"!$B$6:$B$57\"),0),MATCH(Results!$C$15,INDIRECT(\"'\"&F$14&\"'\"&\"!$B$6:$G$6\"),0))","v":1300},{"$f":"INDEX(INDIRECT(\"'\"&G$14&\"'\"&\"!$B$6:$G$57\"),MATCH($B43,INDIRECT(\"'\"&G$14&\"'\"&\"!$B$6:$B$57\"),0),MATCH(Results!$C$15,INDIRECT(\"'\"&G$14&\"'\"&\"!$B$6:$G$6\"),0))","v":1100},{"$f":"INDEX(INDIRECT(\"'\"&H$14&\"'\"&\"!$B$6:$G$57\"),MATCH($B43,INDIRECT(\"'\"&H$14&\"'\"&\"!$B$6:$B$57\"),0),MATCH(Results!$C$15,INDIRECT(\"'\"&H$14&\"'\"&\"!$B$6:$G$6\"),0))","v":1200},{"$f":"INDEX(INDIRECT(\"'\"&I$14&\"'\"&\"!$B$6:$G$57\"),MATCH($B43,INDIRECT(\"'\"&I$14&\"'\"&\"!$B$6:$B$57\"),0),MATCH(Results!$C$15,INDIRECT(\"'\"&I$14&\"'\"&\"!$B$6:$G$6\"),0))","v":850},{"$f":"INDEX(INDIRECT(\"'\"&J$14&\"'\"&\"!$B$6:$G$57\"),MATCH($B43,INDIRECT(\"'\"&J$14&\"'\"&\"!$B$6:$B$57\"),0),MATCH(Results!$C$15,INDIRECT(\"'\"&J$14&\"'\"&\"!$B$6:$G$6\"),0))","v":300},{"$f":"INDEX(INDIRECT(\"'\"&K$14&\"'\"&\"!$B$6:$G$57\"),MATCH($B43,INDIRECT(\"'\"&K$14&\"'\"&\"!$B$6:$B$57\"),0),MATCH(Results!$C$15,INDIRECT(\"'\"&K$14&\"'\"&\"!$B$6:$G$6\"),0))","v":13000}]
[null,"8-Eighth dec.  ",{"$f":"INDEX(INDIRECT(\"'\"&C$14&\"'\"&\"!$B$6:$G$57\"),MATCH($B44,INDIRECT(\"'\"&C$14&\"'\"&\"!$B$6:$B$57\"),0),MATCH(Results!$C$15,INDIRECT(\"'\"&C$14&\"'\"&\"!$B$6:$G$6\"),0))","v":4700},{"$f":"INDEX(INDIRECT(\"'\"&D$14&\"'\"&\"!$B$6:$G$57\"),MATCH($B44,INDIRECT(\"'\"&D$14&\"'\"&\"!$B$6:$B$57\"),0),MATCH(Results!$C$15,INDIRECT(\"'\"&D$14&\"'\"&\"!$B$6:$G$6\"),0))","v":1100},{"$f":"INDEX(INDIRECT(\"'\"&E$14&\"'\"&\"!$B$6:$G$57\"),MATCH($B44,INDIRECT(\"'\"&E$14&\"'\"&\"!$B$6:$B$57\"),0),MATCH(Results!$C$15,INDIRECT(\"'\"&E$14&\"'\"&\"!$B$6:$G$6\"),0))","v":1000},{"$f":"INDEX(INDIRECT(\"'\"&F$14&\"'\"&\"!$B$6:$G$57\"),MATCH($B44,INDIRECT(\"'\"&F$14&\"'\"&\"!$B$6:$B$57\"),0),MATCH(Results!$C$15,INDIRECT(\"'\"&F$14&\"'\"&\"!$B$6:$G$6\"),0))","v":1000},{"$f":"INDEX(INDIRECT(\"'\"&G$14&\"'\"&\"!$B$6:$G$57\"),MATCH($B44,INDIRECT(\"'\"&G$14&\"'\"&\"!$B$6:$B$57\"),0),MATCH(Results!$C$15,INDIRECT(\"'\"&G$14&\"'\"&\"!$B$6:$G$6\"),0))","v":800},{"$f":"INDEX(INDIRECT(\"'\"&H$14&\"'\"&\"!$B$6:$G$57\"),MATCH($B44,INDIRECT(\"'\"&H$14&\"'\"&\"!$B$6:$B$57\"),0),MATCH(Results!$C$15,INDIRECT(\"'\"&H$14&\"'\"&\"!$B$6:$G$6\"),0))","v":900},{"$f":"INDEX(INDIRECT(\"'\"&I$14&\"'\"&\"!$B$6:$G$57\"),MATCH($B44,INDIRECT(\"'\"&I$14&\"'\"&\"!$B$6:$B$57\"),0),MATCH(Results!$C$15,INDIRECT(\"'\"&I$14&\"'\"&\"!$B$6:$G$6\"),0))","v":600},{"$f":"INDEX(INDIRECT(\"'\"&J$14&\"'\"&\"!$B$6:$G$57\"),MATCH($B44,INDIRECT(\"'\"&J$14&\"'\"&\"!$B$6:$B$57\"),0),MATCH(Results!$C$15,INDIRECT(\"'\"&J$14&\"'\"&\"!$B$6:$G$6\"),0))","v":250},{"$f":"INDEX(INDIRECT(\"'\"&K$14&\"'\"&\"!$B$6:$G$57\"),MATCH($B44,INDIRECT(\"'\"&K$14&\"'\"&\"!$B$6:$B$57\"),0),MATCH(Results!$C$15,INDIRECT(\"'\"&K$14&\"'\"&\"!$B$6:$G$6\"),0))","v":8900}]
[null,"9-Ninth dec.   ",{"$f":"INDEX(INDIRECT(\"'\"&C$14&\"'\"&\"!$B$6:$G$57\"),MATCH($B45,INDIRECT(\"'\"&C$14&\"'\"&\"!$B$6:$B$57\"),0),MATCH(Results!$C$15,INDIRECT(\"'\"&C$14&\"'\"&\"!$B$6:$G$6\"),0))","v":800},{"$f":"INDEX(INDIRECT(\"'\"&D$14&\"'\"&\"!$B$6:$G$57\"),MATCH($B45,INDIRECT(\"'\"&D$14&\"'\"&\"!$B$6:$B$57\"),0),MATCH(Results!$C$15,INDIRECT(\"'\"&D$14&\"'\"&\"!$B$6:$G$6\"),0))","v":1200},{"$f":"INDEX(INDIRECT(\"'\"&E$14&\"'\"&\"!$B$6:$G$57\"),MATCH($B45,INDIRECT(\"'\"&E$14&\"'\"&\"!$B$6:$B$57\"),0),MATCH(Results!$C$15,INDIRECT(\"'\"&E$14&\"'\"&\"!$B$6:$G$6\"),0))","v":1100},{"$f":"INDEX(INDIRECT(\"'\"&F$14&\"'\"&\"!$B$6:$G$57\"),MATCH($B45,INDIRECT(\"'\"&F$14&\"'\"&\"!$B$6:$B$57\"),0),MATCH(Results!$C$15,INDIRECT(\"'\"&F$14&\"'\"&\"!$B$6:$G$6\"),0))","v":1000},{"$f":"INDEX(INDIRECT(\"'\"&G$14&\"'\"&\"!$B$6:$G$57\"),MATCH($B45,INDIRECT(\"'\"&G$14&\"'\"&\"!$B$6:$B$57\"),0),MATCH(Results!$C$15,INDIRECT(\"'\"&G$14&\"'\"&\"!$B$6:$G$6\"),0))","v":900},{"$f":"INDEX(INDIRECT(\"'\"&H$14&\"'\"&\"!$B$6:$G$57\"),MATCH($B45,INDIRECT(\"'\"&H$14&\"'\"&\"!$B$6:$B$57\"),0),MATCH(Results!$C$15,INDIRECT(\"'\"&H$14&\"'\"&\"!$B$6:$G$6\"),0))","v":1000},{"$f":"INDEX(INDIRECT(\"'\"&I$14&\"'\"&\"!$B$6:$G$57\"),MATCH($B45,INDIRECT(\"'\"&I$14&\"'\"&\"!$B$6:$B$57\"),0),MATCH(Results!$C$15,INDIRECT(\"'\"&I$14&\"'\"&\"!$B$6:$G$6\"),0))","v":750},{"$f":"INDEX(INDIRECT(\"'\"&J$14&\"'\"&\"!$B$6:$G$57\"),MATCH($B45,INDIRECT(\"'\"&J$14&\"'\"&\"!$B$6:$B$57\"),0),MATCH(Results!$C$15,INDIRECT(\"'\"&J$14&\"'\"&\"!$B$6:$G$6\"),0))","v":300},{"$f":"INDEX(INDIRECT(\"'\"&K$14&\"'\"&\"!$B$6:$G$57\"),MATCH($B45,INDIRECT(\"'\"&K$14&\"'\"&\"!$B$6:$B$57\"),0),MATCH(Results!$C$15,INDIRECT(\"'\"&K$14&\"'\"&\"!$B$6:$G$6\"),0))","v":8700}]
[null,"10-Highest dec. (family income in 2008$)",{"$f":"INDEX(INDIRECT(\"'\"&C$14&\"'\"&\"!$B$6:$G$57\"),MATCH($B46,INDIRECT(\"'\"&C$14&\"'\"&\"!$B$6:$B$57\"),0),MATCH(Results!$C$15,INDIRECT(\"'\"&C$14&\"'\"&\"!$B$6:$G$6\"),0))","v":1500},{"$f":"INDEX(INDIRECT(\"'\"&D$14&\"'\"&\"!$B$6:$G$57\"),MATCH($B46,INDIRECT(\"'\"&D$14&\"'\"&\"!$B$6:$B$57\"),0),MATCH(Results!$C$15,INDIRECT(\"'\"&D$14&\"'\"&\"!$B$6:$G$6\"),0))","v":950},{"$f":"INDEX(INDIRECT(\"'\"&E$14&\"'\"&\"!$B$6:$G$57\"),MATCH($B46,INDIRECT(\"'\"&E$14&\"'\"&\"!$B$6:$B$57\"),0),MATCH(Results!$C$15,INDIRECT(\"'\"&E$14&\"'\"&\"!$B$6:$G$6\"),0))","v":900},{"$f":"INDEX(INDIRECT(\"'\"&F$14&\"'\"&\"!$B$6:$G$57\"),MATCH($B46,INDIRECT(\"'\"&F$14&\"'\"&\"!$B$6:$B$57\"),0),MATCH(Results!$C$15,INDIRECT(\"'\"&F$14&\"'\"&\"!$B$6:$G$6\"),0))","v":950},{"$f":"INDEX(INDIRECT(\"'\"&G$14&\"'\"&\"!$B$6:$G$57\"),MATCH($B46,INDIRECT(\"'\"&G$14&\"'\"&\"!$B$6:$B$57\"),0),MATCH(Results!$C$15,INDIRECT(\"'\"&G$14&\"'\"&\"!$B$6:$G$6\"),0))","v":800},{"$f":"INDEX(INDIRECT(\"'\"&H$14&\"'\"&\"!$B$6:$G$57\"),MATCH($B46,INDIRECT(\"'\"&H$14&\"'\"&\"!$B$6:$B$57\"),0),MATCH(Results!$C$15,INDIRECT(\"'\"&H$14&\"'\"&\"!$B$6:$G$6\"),0))","v":1000},{"$f":"INDEX(INDIRECT(\"'\"&I$14&\"'\"&\"!$B$6:$G$57\"),MATCH($B46,INDIRECT(\"'\"&I$14&\"'\"&\"!$B$6:$B$57\"),0),MATCH(Results!$C$15,INDIRECT(\"'\"&I$14&\"'\"&\"!$B$6:$G$6\"),0))","v":700},{"$f":"INDEX(INDIRECT(\"'\"&J$14&\"'\"&\"!$B$6:$G$57\"),MATCH($B46,INDIRECT(\"'\"&J$14&\"'\"&\"!$B$6:$B$57\"),0),MATCH(Results!$C$15,INDIRECT(\"'\"&J$14&\"'\"&\"!$B$6:$G$6\"),0))","v":250},{"$f":"INDEX(INDIRECT(\"'\"&K$14&\"'\"&\"!$B$6:$G$57\"),MATCH($B46,INDIRECT(\"'\"&K$14&\"'\"&\"!$B$6:$B$57\"),0),MATCH(Results!$C$15,INDIRECT(\"'\"&K$14&\"'\"&\"!$B$6:$G$6\"),0))","v":7800}]
[null,"1-Dropout      ",{"$f":"INDEX(INDIRECT(\"'\"&C$14&\"'\"&\"!$B$6:$G$57\"),MATCH($B47,INDIRECT(\"'\"&C$14&\"'\"&\"!$B$6:$B$57\"),0),MATCH(Results!$C$15,INDIRECT(\"'\"&C$14&\"'\"&\"!$B$6:$G$6\"),0))","v":31500},{"$f":"INDEX(INDIRECT(\"'\"&D$14&\"'\"&\"!$B$6:$G$57\"),MATCH($B47,INDIRECT(\"'\"&D$14&\"'\"&\"!$B$6:$B$57\"),0),MATCH(Results!$C$15,INDIRECT(\"'\"&D$14&\"'\"&\"!$B$6:$G$6\"),0))","v":11000},{"$f":"INDEX(INDIRECT(\"'\"&E$14&\"'\"&\"!$B$6:$G$57\"),MATCH($B47,INDIRECT(\"'\"&E$14&\"'\"&\"!$B$6:$B$57\"),0),MATCH(Results!$C$15,INDIRECT(\"'\"&E$14&\"'\"&\"!$B$6:$G$6\"),0))","v":9000},{"$f":"INDEX(INDIRECT(\"'\"&F$14&\"'\"&\"!$B$6:$G$57\"),MATCH($B47,INDIRECT(\"'\"&F$14&\"'\"&\"!$B$6:$B$57\"),0),MATCH(Results!$C$15,INDIRECT(\"'\"&F$14&\"'\"&\"!$B$6:$G$6\"),0))","v":9200},{"$f":"INDEX(INDIRECT(\"'\"&G$14&\"'\"&\"!$B$6:$G$57\"),MATCH($B47,INDIRECT(\"'\"&G$14&\"'\"&\"!$B$6:$B$57\"),0),MATCH(Results!$C$15,INDIRECT(\"'\"&G$14&\"'\"&\"!$B$6:$G$6\"),0))","v":6300},{"$f":"INDEX(INDIRECT(\"'\"&H$14&\"'\"&\"!$B$6:$G$57\"),MATCH($B47,INDIRECT(\"'\"&H$14&\"'\"&\"!$B$6:$B$57\"),0),MATCH(Results!$C$15,INDIRECT(\"'\"&H$14&\"'\"&\"!$B$6:$G$6\"),0))","v":6000},{"$f":"INDEX(INDIRECT(\"'\"&I$14&\"'\"&\"!$B$6:$G$57\"),MATCH($B47,INDIRECT(\"'\"&I$14&\"'\"&\"!$B$6:$B$57\"),0),MATCH(Results!$C$15,INDIRECT(\"'\"&I$14&\"'\"&\"!$B$6:$G$6\"),0))","v":4300},{"$f":"INDEX(INDIRECT(\"'\"&J$14&\"'\"&\"!$B$6:$G$57\"),MATCH($B47,INDIRECT(\"'\"&J$14&\"'\"&\"!$B$6:$B$57\"),0),MATCH(Results!$C$15,INDIRECT(\"'\"&J$14&\"'\"&\"!$B$6:$G$6\"),0))","v":1400},{"$f":"INDEX(INDIRECT(\"'\"&K$14&\"'\"&\"!$B$6:$G$57\"),MATCH($B47,INDIRECT(\"'\"&K$14&\"'\"&\"!$B$6:$B$57\"),0),MATCH(Results!$C$15,INDIRECT(\"'\"&K$14&\"'\"&\"!$B$6:$G$6\"),0))","v":41000}]
[null,"2-H.S.Diploma (education)      ",{"$f":"INDEX(INDIRECT(\"'\"&C$14&\"'\"&\"!$B$6:$G$57\"),MATCH($B48,INDIRECT(\"'\"&C$14&\"'\"&\"!$B$6:$B$57\"),0),MATCH(Results!$C$15,INDIRECT(\"'\"&C$14&\"'\"&\"!$B$6:$G$6\"),0))","v":14500},{"$f":"INDEX(INDIRECT(\"'\"&D$14&\"'\"&\"!$B$6:$G$57\"),MATCH($B48,INDIRECT(\"'\"&D$14&\"'\"&\"!$B$6:$B$57\"),0),MATCH(Results!$C$15,INDIRECT(\"'\"&D$14&\"'\"&\"!$B$6:$G$6\"),0))","v":6500},{"$f":"INDEX(INDIRECT(\"'\"&E$14&\"'\"&\"!$B$6:$G$57\"),MATCH($B48,INDIRECT(\"'\"&E$14&\"'\"&\"!$B$6:$B$57\"),0),MATCH(Results!$C$15,INDIRECT(\"'\"&E$14&\"'\"&\"!$B$6:$G$6\"),0))","v":6600},{"$f":"INDEX(INDIRECT(\"'\"&F$14&\"'\"&\"!$B$6:$G$57\"),MATCH($B48,INDIRECT(\"'\"&F$14&\"'\"&\"!$B$6:$B$57\"),0),MATCH(Results!$C$15,INDIRECT(\"'\"&F$14&\"'\"&\"!$B$6:$G$6\"),0))","v":7300},{"$f":"INDEX(INDIRECT(\"'\"&G$14&\"'\"&\"!$B$6:$G$57\"),MATCH($B48,INDIRECT(\"'\"&G$14&\"'\"&\"!$B$6:$B$57\"),0),MATCH(Results!$C$15,INDIRECT(\"'\"&G$14&\"'\"&\"!$B$6:$G$6\"),0))","v":6000},{"$f":"INDEX(INDIRECT(\"'\"&H$14&\"'\"&\"!$B$6:$G$57\"),MATCH($B48,INDIRECT(\"'\"&H$14&\"'\"&\"!$B$6:$B$57\"),0),MATCH(Results!$C$15,INDIRECT(\"'\"&H$14&\"'\"&\"!$B$6:$G$6\"),0))","v":6600},{"$f":"INDEX(INDIRECT(\"'\"&I$14&\"'\"&\"!$B$6:$G$57\"),MATCH($B48,INDIRECT(\"'\"&I$14&\"'\"&\"!$B$6:$B$57\"),0),MATCH(Results!$C$15,INDIRECT(\"'\"&I$14&\"'\"&\"!$B$6:$G$6\"),0))","v":5100},{"$f":"INDEX(INDIRECT(\"'\"&J$14&\"'\"&\"!$B$6:$G$57\"),MATCH($B48,INDIRECT(\"'\"&J$14&\"'\"&\"!$B$6:$B$57\"),0),MATCH(Results!$C$15,INDIRECT(\"'\"&J$14&\"'\"&\"!$B$6:$G$6\"),0))","v":1900},{"$f":"INDEX(INDIRECT(\"'\"&K$14&\"'\"&\"!$B$6:$G$57\"),MATCH($B48,INDIRECT(\"'\"&K$14&\"'\"&\"!$B$6:$B$57\"),0),MATCH(Results!$C$15,INDIRECT(\"'\"&K$14&\"'\"&\"!$B$6:$G$6\"),0))","v":57500}]
[null,"3-SomeColl/AA  ",{"$f":"INDEX(INDIRECT(\"'\"&C$14&\"'\"&\"!$B$6:$G$57\"),MATCH($B49,INDIRECT(\"'\"&C$14&\"'\"&\"!$B$6:$B$57\"),0),MATCH(Results!$C$15,INDIRECT(\"'\"&C$14&\"'\"&\"!$B$6:$G$6\"),0))","v":5100},{"$f":"INDEX(INDIRECT(\"'\"&D$14&\"'\"&\"!$B$6:$G$57\"),MATCH($B49,INDIRECT(\"'\"&D$14&\"'\"&\"!$B$6:$B$57\"),0),MATCH(Results!$C$15,INDIRECT(\"'\"&D$14&\"'\"&\"!$B$6:$G$6\"),0))","v":2200},{"$f":"INDEX(INDIRECT(\"'\"&E$14&\"'\"&\"!$B$6:$G$57\"),MATCH($B49,INDIRECT(\"'\"&E$14&\"'\"&\"!$B$6:$B$57\"),0),MATCH(Results!$C$15,INDIRECT(\"'\"&E$14&\"'\"&\"!$B$6:$G$6\"),0))","v":2200},{"$f":"INDEX(INDIRECT(\"'\"&F$14&\"'\"&\"!$B$6:$G$57\"),MATCH($B49,INDIRECT(\"'\"&F$14&\"'\"&\"!$B$6:$B$57\"),0),MATCH(Results!$C$15,INDIRECT(\"'\"&F$14&\"'\"&\"!$B$6:$G$6\"),0))","v":3500},{"$f":"INDEX(INDIRECT(\"'\"&G$14&\"'\"&\"!$B$6:$G$57\"),MATCH($B49,INDIRECT(\"'\"&G$14&\"'\"&\"!$B$6:$B$57\"),0),MATCH(Results!$C$15,INDIRECT(\"'\"&G$14&\"'\"&\"!$B$6:$G$6\"),0))","v":3000},{"$f":"INDEX(INDIRECT(\"'\"&H$14&\"'\"&\"!$B$6:$G$57\"),MATCH($B49,INDIRECT(\"'\"&H$14&\"'\"&\"!$B$6:$B$57\"),0),MATCH(Results!$C$15,INDIRECT(\"'\"&H$14&\"'\"&\"!$B$6:$G$6\"),0))","v":3500},{"$f":"INDEX(INDIRECT(\"'\"&I$14&\"'\"&\"!$B$6:$G$57\"),MATCH($B49,INDIRECT(\"'\"&I$14&\"'\"&\"!$B$6:$B$57\"),0),MATCH(Results!$C$15,INDIRECT(\"'\"&I$14&\"'\"&\"!$B$6:$G$6\"),0))","v":2700},{"$f":"INDEX(INDIRECT(\"'\"&J$14&\"'\"&\"!$B$6:$G$57\"),MATCH($B49,INDIRECT(\"'\"&J$14&\"'\"&\"!$B$6:$B$57\"),0),MATCH(Results!$C$15,INDIRECT(\"'\"&J$14&\"'\"&\"!$B$6:$G$6\"),0))","v":1000},{"$f":"INDEX(INDIRECT(\"'\"&K$14&\"'\"&\"!$B$6:$G$57\"),MATCH($B49,INDIRECT(\"'\"&K$14&\"'\"&\"!$B$6:$B$57\"),0),MATCH(Results!$C$15,INDIRECT(\"'\"&K$14&\"'\"&\"!$B$6:$G$6\"),0))","v":35500}]
[null,"4-4yr.Degree   ",{"$f":"INDEX(INDIRECT(\"'\"&C$14&\"'\"&\"!$B$6:$G$57\"),MATCH($B50,INDIRECT(\"'\"&C$14&\"'\"&\"!$B$6:$B$57\"),0),MATCH(Results!$C$15,INDIRECT(\"'\"&C$14&\"'\"&\"!$B$6:$G$6\"),0))","v":2800},{"$f":"INDEX(INDIRECT(\"'\"&D$14&\"'\"&\"!$B$6:$G$57\"),MATCH($B50,INDIRECT(\"'\"&D$14&\"'\"&\"!$B$6:$B$57\"),0),MATCH(Results!$C$15,INDIRECT(\"'\"&D$14&\"'\"&\"!$B$6:$G$6\"),0))","v":1200},{"$f":"INDEX(INDIRECT(\"'\"&E$14&\"'\"&\"!$B$6:$G$57\"),MATCH($B50,INDIRECT(\"'\"&E$14&\"'\"&\"!$B$6:$B$57\"),0),MATCH(Results!$C$15,INDIRECT(\"'\"&E$14&\"'\"&\"!$B$6:$G$6\"),0))","v":1200},{"$f":"INDEX(INDIRECT(\"'\"&F$14&\"'\"&\"!$B$6:$G$57\"),MATCH($B50,INDIRECT(\"'\"&F$14&\"'\"&\"!$B$6:$B$57\"),0),MATCH(Results!$C$15,INDIRECT(\"'\"&F$14&\"'\"&\"!$B$6:$G$6\"),0))","v":1600},{"$f":"INDEX(INDIRECT(\"'\"&G$14&\"'\"&\"!$B$6:$G$57\"),MATCH($B50,INDIRECT(\"'\"&G$14&\"'\"&\"!$B$6:$B$57\"),0),MATCH(Results!$C$15,INDIRECT(\"'\"&G$14&\"'\"&\"!$B$6:$G$6\"),0))","v":1500},{"$f":"INDEX(INDIRECT(\"'\"&H$14&\"'\"&\"!$B$6:$G$57\"),MATCH($B50,INDIRECT(\"'\"&H$14&\"'\"&\"!$B$6:$B$57\"),0),MATCH(Results!$C$15,INDIRECT(\"'\"&H$14&\"'\"&\"!$B$6:$G$6\"),0))","v":1700},{"$f":"INDEX(INDIRECT(\"'\"&I$14&\"'\"&\"!$B$6:$G$57\"),MATCH($B50,INDIRECT(\"'\"&I$14&\"'\"&\"!$B$6:$B$57\"),0),MATCH(Results!$C$15,INDIRECT(\"'\"&I$14&\"'\"&\"!$B$6:$G$6\"),0))","v":1300},{"$f":"INDEX(INDIRECT(\"'\"&J$14&\"'\"&\"!$B$6:$G$57\"),MATCH($B50,INDIRECT(\"'\"&J$14&\"'\"&\"!$B$6:$B$57\"),0),MATCH(Results!$C$15,INDIRECT(\"'\"&J$14&\"'\"&\"!$B$6:$G$6\"),0))","v":450},{"$f":"INDEX(INDIRECT(\"'\"&K$14&\"'\"&\"!$B$6:$G$57\"),MATCH($B50,INDIRECT(\"'\"&K$14&\"'\"&\"!$B$6:$B$57\"),0),MATCH(Results!$C$15,INDIRECT(\"'\"&K$14&\"'\"&\"!$B$6:$G$6\"),0))","v":15500}]
[null,"5-Grad.Degree  ",{"$f":"INDEX(INDIRECT(\"'\"&C$14&\"'\"&\"!$B$6:$G$57\"),MATCH($B51,INDIRECT(\"'\"&C$14&\"'\"&\"!$B$6:$B$57\"),0),MATCH(Results!$C$15,INDIRECT(\"'\"&C$14&\"'\"&\"!$B$6:$G$6\"),0))","v":1800},{"$f":"INDEX(INDIRECT(\"'\"&D$14&\"'\"&\"!$B$6:$G$57\"),MATCH($B51,INDIRECT(\"'\"&D$14&\"'\"&\"!$B$6:$B$57\"),0),MATCH(Results!$C$15,INDIRECT(\"'\"&D$14&\"'\"&\"!$B$6:$G$6\"),0))","v":800},{"$f":"INDEX(INDIRECT(\"'\"&E$14&\"'\"&\"!$B$6:$G$57\"),MATCH($B51,INDIRECT(\"'\"&E$14&\"'\"&\"!$B$6:$B$57\"),0),MATCH(Results!$C$15,INDIRECT(\"'\"&E$14&\"'\"&\"!$B$6:$G$6\"),0))","v":900},{"$f":"INDEX(INDIRECT(\"'\"&F$14&\"'\"&\"!$B$6:$G$57\"),MATCH($B51,INDIRECT(\"'\"&F$14&\"'\"&\"!$B$6:$B$57\"),0),MATCH(Results!$C$15,INDIRECT(\"'\"&F$14&\"'\"&\"!$B$6:$G$6\"),0))","v":950},{"$f":"INDEX(INDIRECT(\"'\"&G$14&\"'\"&\"!$B$6:$G$57\"),MATCH($B51,INDIRECT(\"'\"&G$14&\"'\"&\"!$B$6:$B$57\"),0),MATCH(Results!$C$15,INDIRECT(\"'\"&G$14&\"'\"&\"!$B$6:$G$6\"),0))","v":800},{"$f":"INDEX(INDIRECT(\"'\"&H$14&\"'\"&\"!$B$6:$G$57\"),MATCH($B51,INDIRECT(\"'\"&H$14&\"'\"&\"!$B$6:$B$57\"),0),MATCH(Results!$C$15,INDIRECT(\"'\"&H$14&\"'\"&\"!$B$6:$G$6\"),0))","v":950},{"$f":"INDEX(INDIRECT(\"'\"&I$14&\"'\"&\"!$B$6:$G$57\"),MATCH($B51,INDIRECT(\"'\"&I$14&\"'\"&\"!$B$6:$B$57\"),0),MATCH(Results!$C$15,INDIRECT(\"'\"&I$14&\"'\"&\"!$B$6:$G$6\"),0))","v":750},{"$f":"INDEX(INDIRECT(\"'\"&J$14&\"'\"&\"!$B$6:$G$57\"),MATCH($B51,INDIRECT(\"'\"&J$14&\"'\"&\"!$B$6:$B$57\"),0),MATCH(Results!$C$15,INDIRECT(\"'\"&J$14&\"'\"&\"!$B$6:$G$6\"),0))","v":250},{"$f":"INDEX(INDIRECT(\"'\"&K$14&\"'\"&\"!$B$6:$G$57\"),MATCH($B51,INDIRECT(\"'\"&K$14&\"'\"&\"!$B$6:$B$57\"),0),MATCH(Results!$C$15,INDIRECT(\"'\"&K$14&\"'\"&\"!$B$6:$G$6\"),0))","v":8000}]
[null,"1-White NH (ethnic/race)     ",{"$f":"INDEX(INDIRECT(\"'\"&C$14&\"'\"&\"!$B$6:$G$57\"),MATCH($B52,INDIRECT(\"'\"&C$14&\"'\"&\"!$B$6:$B$57\"),0),MATCH(Results!$C$15,INDIRECT(\"'\"&C$14&\"'\"&\"!$B$6:$G$6\"),0))","v":47000},{"$f":"INDEX(INDIRECT(\"'\"&D$14&\"'\"&\"!$B$6:$G$57\"),MATCH($B52,INDIRECT(\"'\"&D$14&\"'\"&\"!$B$6:$B$57\"),0),MATCH(Results!$C$15,INDIRECT(\"'\"&D$14&\"'\"&\"!$B$6:$G$6\"),0))","v":9800},{"$f":"INDEX(INDIRECT(\"'\"&E$14&\"'\"&\"!$B$6:$G$57\"),MATCH($B52,INDIRECT(\"'\"&E$14&\"'\"&\"!$B$6:$B$57\"),0),MATCH(Results!$C$15,INDIRECT(\"'\"&E$14&\"'\"&\"!$B$6:$G$6\"),0))","v":16500},{"$f":"INDEX(INDIRECT(\"'\"&F$14&\"'\"&\"!$B$6:$G$57\"),MATCH($B52,INDIRECT(\"'\"&F$14&\"'\"&\"!$B$6:$B$57\"),0),MATCH(Results!$C$15,INDIRECT(\"'\"&F$14&\"'\"&\"!$B$6:$G$6\"),0))","v":18000},{"$f":"INDEX(INDIRECT(\"'\"&G$14&\"'\"&\"!$B$6:$G$57\"),MATCH($B52,INDIRECT(\"'\"&G$14&\"'\"&\"!$B$6:$B$57\"),0),MATCH(Results!$C$15,INDIRECT(\"'\"&G$14&\"'\"&\"!$B$6:$G$6\"),0))","v":14000},{"$f":"INDEX(INDIRECT(\"'\"&H$14&\"'\"&\"!$B$6:$G$57\"),MATCH($B52,INDIRECT(\"'\"&H$14&\"'\"&\"!$B$6:$B$57\"),0),MATCH(Results!$C$15,INDIRECT(\"'\"&H$14&\"'\"&\"!$B$6:$G$6\"),0))","v":14000},{"$f":"INDEX(INDIRECT(\"'\"&I$14&\"'\"&\"!$B$6:$G$57\"),MATCH($B52,INDIRECT(\"'\"&I$14&\"'\"&\"!$B$6:$B$57\"),0),MATCH(Results!$C$15,INDIRECT(\"'\"&I$14&\"'\"&\"!$B$6:$G$6\"),0))","v":10000},{"$f":"INDEX(INDIRECT(\"'\"&J$14&\"'\"&\"!$B$6:$G$57\"),MATCH($B52,INDIRECT(\"'\"&J$14&\"'\"&\"!$B$6:$B$57\"),0),MATCH(Results!$C$15,INDIRECT(\"'\"&J$14&\"'\"&\"!$B$6:$G$6\"),0))","v":3500},{"$f":"INDEX(INDIRECT(\"'\"&K$14&\"'\"&\"!$B$6:$G$57\"),MATCH($B52,INDIRECT(\"'\"&K$14&\"'\"&\"!$B$6:$B$57\"),0),MATCH(Results!$C$15,INDIRECT(\"'\"&K$14&\"'\"&\"!$B$6:$G$6\"),0))","v":130000}]
[null,"2-Black NH     ",{"$f":"INDEX(INDIRECT(\"'\"&C$14&\"'\"&\"!$B$6:$G$57\"),MATCH($B53,INDIRECT(\"'\"&C$14&\"'\"&\"!$B$6:$B$57\"),0),MATCH(Results!$C$15,INDIRECT(\"'\"&C$14&\"'\"&\"!$B$6:$G$6\"),0))","v":5500},{"$f":"INDEX(INDIRECT(\"'\"&D$14&\"'\"&\"!$B$6:$G$57\"),MATCH($B53,INDIRECT(\"'\"&D$14&\"'\"&\"!$B$6:$B$57\"),0),MATCH(Results!$C$15,INDIRECT(\"'\"&D$14&\"'\"&\"!$B$6:$G$6\"),0))","v":1200},{"$f":"INDEX(INDIRECT(\"'\"&E$14&\"'\"&\"!$B$6:$G$57\"),MATCH($B53,INDIRECT(\"'\"&E$14&\"'\"&\"!$B$6:$B$57\"),0),MATCH(Results!$C$15,INDIRECT(\"'\"&E$14&\"'\"&\"!$B$6:$G$6\"),0))","v":1600},{"$f":"INDEX(INDIRECT(\"'\"&F$14&\"'\"&\"!$B$6:$G$57\"),MATCH($B53,INDIRECT(\"'\"&F$14&\"'\"&\"!$B$6:$B$57\"),0),MATCH(Results!$C$15,INDIRECT(\"'\"&F$14&\"'\"&\"!$B$6:$G$6\"),0))","v":2000},{"$f":"INDEX(INDIRECT(\"'\"&G$14&\"'\"&\"!$B$6:$G$57\"),MATCH($B53,INDIRECT(\"'\"&G$14&\"'\"&\"!$B$6:$B$57\"),0),MATCH(Results!$C$15,INDIRECT(\"'\"&G$14&\"'\"&\"!$B$6:$G$6\"),0))","v":1500},{"$f":"INDEX(INDIRECT(\"'\"&H$14&\"'\"&\"!$B$6:$G$57\"),MATCH($B53,INDIRECT(\"'\"&H$14&\"'\"&\"!$B$6:$B$57\"),0),MATCH(Results!$C$15,INDIRECT(\"'\"&H$14&\"'\"&\"!$B$6:$G$6\"),0))","v":2000},{"$f":"INDEX(INDIRECT(\"'\"&I$14&\"'\"&\"!$B$6:$G$57\"),MATCH($B53,INDIRECT(\"'\"&I$14&\"'\"&\"!$B$6:$B$57\"),0),MATCH(Results!$C$15,INDIRECT(\"'\"&I$14&\"'\"&\"!$B$6:$G$6\"),0))","v":2100},{"$f":"INDEX(INDIRECT(\"'\"&J$14&\"'\"&\"!$B$6:$G$57\"),MATCH($B53,INDIRECT(\"'\"&J$14&\"'\"&\"!$B$6:$B$57\"),0),MATCH(Results!$C$15,INDIRECT(\"'\"&J$14&\"'\"&\"!$B$6:$G$6\"),0))","v":800},{"$f":"INDEX(INDIRECT(\"'\"&K$14&\"'\"&\"!$B$6:$G$57\"),MATCH($B53,INDIRECT(\"'\"&K$14&\"'\"&\"!$B$6:$B$57\"),0),MATCH(Results!$C$15,INDIRECT(\"'\"&K$14&\"'\"&\"!$B$6:$G$6\"),0))","v":12500}]
[null,"3-Asian NH     ",{"$f":"INDEX(INDIRECT(\"'\"&C$14&\"'\"&\"!$B$6:$G$57\"),MATCH($B54,INDIRECT(\"'\"&C$14&\"'\"&\"!$B$6:$B$57\"),0),MATCH(Results!$C$15,INDIRECT(\"'\"&C$14&\"'\"&\"!$B$6:$G$6\"),0))","v":550},{"$f":"INDEX(INDIRECT(\"'\"&D$14&\"'\"&\"!$B$6:$G$57\"),MATCH($B54,INDIRECT(\"'\"&D$14&\"'\"&\"!$B$6:$B$57\"),0),MATCH(Results!$C$15,INDIRECT(\"'\"&D$14&\"'\"&\"!$B$6:$G$6\"),0))","v":100},{"$f":"INDEX(INDIRECT(\"'\"&E$14&\"'\"&\"!$B$6:$G$57\"),MATCH($B54,INDIRECT(\"'\"&E$14&\"'\"&\"!$B$6:$B$57\"),0),MATCH(Results!$C$15,INDIRECT(\"'\"&E$14&\"'\"&\"!$B$6:$G$6\"),0))","v":200},{"$f":"INDEX(INDIRECT(\"'\"&F$14&\"'\"&\"!$B$6:$G$57\"),MATCH($B54,INDIRECT(\"'\"&F$14&\"'\"&\"!$B$6:$B$57\"),0),MATCH(Results!$C$15,INDIRECT(\"'\"&F$14&\"'\"&\"!$B$6:$G$6\"),0))","v":250},{"$f":"INDEX(INDIRECT(\"'\"&G$14&\"'\"&\"!$B$6:$G$57\"),MATCH($B54,INDIRECT(\"'\"&G$14&\"'\"&\"!$B$6:$B$57\"),0),MATCH(Results!$C$15,INDIRECT(\"'\"&G$14&\"'\"&\"!$B$6:$G$6\"),0))","v":250},{"$f":"INDEX(INDIRECT(\"'\"&H$14&\"'\"&\"!$B$6:$G$57\"),MATCH($B54,INDIRECT(\"'\"&H$14&\"'\"&\"!$B$6:$B$57\"),0),MATCH(Results!$C$15,INDIRECT(\"'\"&H$14&\"'\"&\"!$B$6:$G$6\"),0))","v":400},{"$f":"INDEX(INDIRECT(\"'\"&I$14&\"'\"&\"!$B$6:$G$57\"),MATCH($B54,INDIRECT(\"'\"&I$14&\"'\"&\"!$B$6:$B$57\"),0),MATCH(Results!$C$15,INDIRECT(\"'\"&I$14&\"'\"&\"!$B$6:$G$6\"),0))","v":450},{"$f":"INDEX(INDIRECT(\"'\"&J$14&\"'\"&\"!$B$6:$G$57\"),MATCH($B54,INDIRECT(\"'\"&J$14&\"'\"&\"!$B$6:$B$57\"),0),MATCH(Results!$C$15,INDIRECT(\"'\"&J$14&\"'\"&\"!$B$6:$G$6\"),0))","v":150},{"$f":"INDEX(INDIRECT(\"'\"&K$14&\"'\"&\"!$B$6:$G$57\"),MATCH($B54,INDIRECT(\"'\"&K$14&\"'\"&\"!$B$6:$B$57\"),0),MATCH(Results!$C$15,INDIRECT(\"'\"&K$14&\"'\"&\"!$B$6:$G$6\"),0))","v":4800}]
[null,"4-Hispanic     ",{"$f":"INDEX(INDIRECT(\"'\"&C$14&\"'\"&\"!$B$6:$G$57\"),MATCH($B55,INDIRECT(\"'\"&C$14&\"'\"&\"!$B$6:$B$57\"),0),MATCH(Results!$C$15,INDIRECT(\"'\"&C$14&\"'\"&\"!$B$6:$G$6\"),0))","v":1400},{"$f":"INDEX(INDIRECT(\"'\"&D$14&\"'\"&\"!$B$6:$G$57\"),MATCH($B55,INDIRECT(\"'\"&D$14&\"'\"&\"!$B$6:$B$57\"),0),MATCH(Results!$C$15,INDIRECT(\"'\"&D$14&\"'\"&\"!$B$6:$G$6\"),0))","v":850},{"$f":"INDEX(INDIRECT(\"'\"&E$14&\"'\"&\"!$B$6:$G$57\"),MATCH($B55,INDIRECT(\"'\"&E$14&\"'\"&\"!$B$6:$B$57\"),0),MATCH(Results!$C$15,INDIRECT(\"'\"&E$14&\"'\"&\"!$B$6:$G$6\"),0))","v":900},{"$f":"INDEX(INDIRECT(\"'\"&F$14&\"'\"&\"!$B$6:$G$57\"),MATCH($B55,INDIRECT(\"'\"&F$14&\"'\"&\"!$B$6:$B$57\"),0),MATCH(Results!$C$15,INDIRECT(\"'\"&F$14&\"'\"&\"!$B$6:$G$6\"),0))","v":1200},{"$f":"INDEX(INDIRECT(\"'\"&G$14&\"'\"&\"!$B$6:$G$57\"),MATCH($B55,INDIRECT(\"'\"&G$14&\"'\"&\"!$B$6:$B$57\"),0),MATCH(Results!$C$15,INDIRECT(\"'\"&G$14&\"'\"&\"!$B$6:$G$6\"),0))","v":1100},{"$f":"INDEX(INDIRECT(\"'\"&H$14&\"'\"&\"!$B$6:$G$57\"),MATCH($B55,INDIRECT(\"'\"&H$14&\"'\"&\"!$B$6:$B$57\"),0),MATCH(Results!$C$15,INDIRECT(\"'\"&H$14&\"'\"&\"!$B$6:$G$6\"),0))","v":1400},{"$f":"INDEX(INDIRECT(\"'\"&I$14&\"'\"&\"!$B$6:$G$57\"),MATCH($B55,INDIRECT(\"'\"&I$14&\"'\"&\"!$B$6:$B$57\"),0),MATCH(Results!$C$15,INDIRECT(\"'\"&I$14&\"'\"&\"!$B$6:$G$6\"),0))","v":950},{"$f":"INDEX(INDIRECT(\"'\"&J$14&\"'\"&\"!$B$6:$G$57\"),MATCH($B55,INDIRECT(\"'\"&J$14&\"'\"&\"!$B$6:$B$57\"),0),MATCH(Results!$C$15,INDIRECT(\"'\"&J$14&\"'\"&\"!$B$6:$G$6\"),0))","v":350},{"$f":"INDEX(INDIRECT(\"'\"&K$14&\"'\"&\"!$B$6:$G$57\"),MATCH($B55,INDIRECT(\"'\"&K$14&\"'\"&\"!$B$6:$B$57\"),0),MATCH(Results!$C$15,INDIRECT(\"'\"&K$14&\"'\"&\"!$B$6:$G$6\"),0))","v":8400}]
[null,"5-Other NH     ",{"$f":"INDEX(INDIRECT(\"'\"&C$14&\"'\"&\"!$B$6:$G$57\"),MATCH($B56,INDIRECT(\"'\"&C$14&\"'\"&\"!$B$6:$B$57\"),0),MATCH(Results!$C$15,INDIRECT(\"'\"&C$14&\"'\"&\"!$B$6:$G$6\"),0))","v":1400},{"$f":"INDEX(INDIRECT(\"'\"&D$14&\"'\"&\"!$B$6:$G$57\"),MATCH($B56,INDIRECT(\"'\"&D$14&\"'\"&\"!$B$6:$B$57\"),0),MATCH(Results!$C$15,INDIRECT(\"'\"&D$14&\"'\"&\"!$B$6:$G$6\"),0))","v":9700},{"$f":"INDEX(INDIRECT(\"'\"&E$14&\"'\"&\"!$B$6:$G$57\"),MATCH($B56,INDIRECT(\"'\"&E$14&\"'\"&\"!$B$6:$B$57\"),0),MATCH(Results!$C$15,INDIRECT(\"'\"&E$14&\"'\"&\"!$B$6:$G$6\"),0))","v":1000},{"$f":"INDEX(INDIRECT(\"'\"&F$14&\"'\"&\"!$B$6:$G$57\"),MATCH($B56,INDIRECT(\"'\"&F$14&\"'\"&\"!$B$6:$B$57\"),0),MATCH(Results!$C$15,INDIRECT(\"'\"&F$14&\"'\"&\"!$B$6:$G$6\"),0))","v":950},{"$f":"INDEX(INDIRECT(\"'\"&G$14&\"'\"&\"!$B$6:$G$57\"),MATCH($B56,INDIRECT(\"'\"&G$14&\"'\"&\"!$B$6:$B$57\"),0),MATCH(Results!$C$15,INDIRECT(\"'\"&G$14&\"'\"&\"!$B$6:$G$6\"),0))","v":750},{"$f":"INDEX(INDIRECT(\"'\"&H$14&\"'\"&\"!$B$6:$G$57\"),MATCH($B56,INDIRECT(\"'\"&H$14&\"'\"&\"!$B$6:$B$57\"),0),MATCH(Results!$C$15,INDIRECT(\"'\"&H$14&\"'\"&\"!$B$6:$G$6\"),0))","v":900},{"$f":"INDEX(INDIRECT(\"'\"&I$14&\"'\"&\"!$B$6:$G$57\"),MATCH($B56,INDIRECT(\"'\"&I$14&\"'\"&\"!$B$6:$B$57\"),0),MATCH(Results!$C$15,INDIRECT(\"'\"&I$14&\"'\"&\"!$B$6:$G$6\"),0))","v":500},{"$f":"INDEX(INDIRECT(\"'\"&J$14&\"'\"&\"!$B$6:$G$57\"),MATCH($B56,INDIRECT(\"'\"&J$14&\"'\"&\"!$B$6:$B$57\"),0),MATCH(Results!$C$15,INDIRECT(\"'\"&J$14&\"'\"&\"!$B$6:$G$6\"),0))","v":150},{"$f":"INDEX(INDIRECT(\"'\"&K$14&\"'\"&\"!$B$6:$G$57\"),MATCH($B56,INDIRECT(\"'\"&K$14&\"'\"&\"!$B$6:$B$57\"),0),MATCH(Results!$C$15,INDIRECT(\"'\"&K$14&\"'\"&\"!$B$6:$G$6\"),0))","v":2300}]
[null,"1-Employed  (Labor force)",{"$f":"INDEX(INDIRECT(\"'\"&C$14&\"'\"&\"!$B$6:$G$57\"),MATCH($B57,INDIRECT(\"'\"&C$14&\"'\"&\"!$B$6:$B$57\"),0),MATCH(Results!$C$15,INDIRECT(\"'\"&C$14&\"'\"&\"!$B$6:$G$6\"),0))","v":13000},{"$f":"INDEX(INDIRECT(\"'\"&D$14&\"'\"&\"!$B$6:$G$57\"),MATCH($B57,INDIRECT(\"'\"&D$14&\"'\"&\"!$B$6:$B$57\"),0),MATCH(Results!$C$15,INDIRECT(\"'\"&D$14&\"'\"&\"!$B$6:$G$6\"),0))","v":4600},{"$f":"INDEX(INDIRECT(\"'\"&E$14&\"'\"&\"!$B$6:$G$57\"),MATCH($B57,INDIRECT(\"'\"&E$14&\"'\"&\"!$B$6:$B$57\"),0),MATCH(Results!$C$15,INDIRECT(\"'\"&E$14&\"'\"&\"!$B$6:$G$6\"),0))","v":4200},{"$f":"INDEX(INDIRECT(\"'\"&F$14&\"'\"&\"!$B$6:$G$57\"),MATCH($B57,INDIRECT(\"'\"&F$14&\"'\"&\"!$B$6:$B$57\"),0),MATCH(Results!$C$15,INDIRECT(\"'\"&F$14&\"'\"&\"!$B$6:$G$6\"),0))","v":4200},{"$f":"INDEX(INDIRECT(\"'\"&G$14&\"'\"&\"!$B$6:$G$57\"),MATCH($B57,INDIRECT(\"'\"&G$14&\"'\"&\"!$B$6:$B$57\"),0),MATCH(Results!$C$15,INDIRECT(\"'\"&G$14&\"'\"&\"!$B$6:$G$6\"),0))","v":3430},{"$f":"INDEX(INDIRECT(\"'\"&H$14&\"'\"&\"!$B$6:$G$57\"),MATCH($B57,INDIRECT(\"'\"&H$14&\"'\"&\"!$B$6:$B$57\"),0),MATCH(Results!$C$15,INDIRECT(\"'\"&H$14&\"'\"&\"!$B$6:$G$6\"),0))","v":3900},{"$f":"INDEX(INDIRECT(\"'\"&I$14&\"'\"&\"!$B$6:$G$57\"),MATCH($B57,INDIRECT(\"'\"&I$14&\"'\"&\"!$B$6:$B$57\"),0),MATCH(Results!$C$15,INDIRECT(\"'\"&I$14&\"'\"&\"!$B$6:$G$6\"),0))","v":2600},{"$f":"INDEX(INDIRECT(\"'\"&J$14&\"'\"&\"!$B$6:$G$57\"),MATCH($B57,INDIRECT(\"'\"&J$14&\"'\"&\"!$B$6:$B$57\"),0),MATCH(Results!$C$15,INDIRECT(\"'\"&J$14&\"'\"&\"!$B$6:$G$6\"),0))","v":750},{"$f":"INDEX(INDIRECT(\"'\"&K$14&\"'\"&\"!$B$6:$G$57\"),MATCH($B57,INDIRECT(\"'\"&K$14&\"'\"&\"!$B$6:$B$57\"),0),MATCH(Results!$C$15,INDIRECT(\"'\"&K$14&\"'\"&\"!$B$6:$G$6\"),0))","v":33000}]
[null,"2-Unemployed   ",{"$f":"INDEX(INDIRECT(\"'\"&C$14&\"'\"&\"!$B$6:$G$57\"),MATCH($B58,INDIRECT(\"'\"&C$14&\"'\"&\"!$B$6:$B$57\"),0),MATCH(Results!$C$15,INDIRECT(\"'\"&C$14&\"'\"&\"!$B$6:$G$6\"),0))","v":750},{"$f":"INDEX(INDIRECT(\"'\"&D$14&\"'\"&\"!$B$6:$G$57\"),MATCH($B58,INDIRECT(\"'\"&D$14&\"'\"&\"!$B$6:$B$57\"),0),MATCH(Results!$C$15,INDIRECT(\"'\"&D$14&\"'\"&\"!$B$6:$G$6\"),0))","v":300},{"$f":"INDEX(INDIRECT(\"'\"&E$14&\"'\"&\"!$B$6:$G$57\"),MATCH($B58,INDIRECT(\"'\"&E$14&\"'\"&\"!$B$6:$B$57\"),0),MATCH(Results!$C$15,INDIRECT(\"'\"&E$14&\"'\"&\"!$B$6:$G$6\"),0))","v":200},{"$f":"INDEX(INDIRECT(\"'\"&F$14&\"'\"&\"!$B$6:$G$57\"),MATCH($B58,INDIRECT(\"'\"&F$14&\"'\"&\"!$B$6:$B$57\"),0),MATCH(Results!$C$15,INDIRECT(\"'\"&F$14&\"'\"&\"!$B$6:$G$6\"),0))","v":300},{"$f":"INDEX(INDIRECT(\"'\"&G$14&\"'\"&\"!$B$6:$G$57\"),MATCH($B58,INDIRECT(\"'\"&G$14&\"'\"&\"!$B$6:$B$57\"),0),MATCH(Results!$C$15,INDIRECT(\"'\"&G$14&\"'\"&\"!$B$6:$G$6\"),0))","v":150},{"$f":"INDEX(INDIRECT(\"'\"&H$14&\"'\"&\"!$B$6:$G$57\"),MATCH($B58,INDIRECT(\"'\"&H$14&\"'\"&\"!$B$6:$B$57\"),0),MATCH(Results!$C$15,INDIRECT(\"'\"&H$14&\"'\"&\"!$B$6:$G$6\"),0))","v":200},{"$f":"INDEX(INDIRECT(\"'\"&I$14&\"'\"&\"!$B$6:$G$57\"),MATCH($B58,INDIRECT(\"'\"&I$14&\"'\"&\"!$B$6:$B$57\"),0),MATCH(Results!$C$15,INDIRECT(\"'\"&I$14&\"'\"&\"!$B$6:$G$6\"),0))","v":150},{"$f":"INDEX(INDIRECT(\"'\"&J$14&\"'\"&\"!$B$6:$G$57\"),MATCH($B58,INDIRECT(\"'\"&J$14&\"'\"&\"!$B$6:$B$57\"),0),MATCH(Results!$C$15,INDIRECT(\"'\"&J$14&\"'\"&\"!$B$6:$G$6\"),0))","v":60},{"$f":"INDEX(INDIRECT(\"'\"&K$14&\"'\"&\"!$B$6:$G$57\"),MATCH($B58,INDIRECT(\"'\"&K$14&\"'\"&\"!$B$6:$B$57\"),0),MATCH(Results!$C$15,INDIRECT(\"'\"&K$14&\"'\"&\"!$B$6:$G$6\"),0))","v":2100}]
[null,"3-NILF         ",{"$f":"INDEX(INDIRECT(\"'\"&C$14&\"'\"&\"!$B$6:$G$57\"),MATCH($B59,INDIRECT(\"'\"&C$14&\"'\"&\"!$B$6:$B$57\"),0),MATCH(Results!$C$15,INDIRECT(\"'\"&C$14&\"'\"&\"!$B$6:$G$6\"),0))","v":42000},{"$f":"INDEX(INDIRECT(\"'\"&D$14&\"'\"&\"!$B$6:$G$57\"),MATCH($B59,INDIRECT(\"'\"&D$14&\"'\"&\"!$B$6:$B$57\"),0),MATCH(Results!$C$15,INDIRECT(\"'\"&D$14&\"'\"&\"!$B$6:$G$6\"),0))","v":17000},{"$f":"INDEX(INDIRECT(\"'\"&E$14&\"'\"&\"!$B$6:$G$57\"),MATCH($B59,INDIRECT(\"'\"&E$14&\"'\"&\"!$B$6:$B$57\"),0),MATCH(Results!$C$15,INDIRECT(\"'\"&E$14&\"'\"&\"!$B$6:$G$6\"),0))","v":15500},{"$f":"INDEX(INDIRECT(\"'\"&F$14&\"'\"&\"!$B$6:$G$57\"),MATCH($B59,INDIRECT(\"'\"&F$14&\"'\"&\"!$B$6:$B$57\"),0),MATCH(Results!$C$15,INDIRECT(\"'\"&F$14&\"'\"&\"!$B$6:$G$6\"),0))","v":18000},{"$f":"INDEX(INDIRECT(\"'\"&G$14&\"'\"&\"!$B$6:$G$57\"),MATCH($B59,INDIRECT(\"'\"&G$14&\"'\"&\"!$B$6:$B$57\"),0),MATCH(Results!$C$15,INDIRECT(\"'\"&G$14&\"'\"&\"!$B$6:$G$6\"),0))","v":14000},{"$f":"INDEX(INDIRECT(\"'\"&H$14&\"'\"&\"!$B$6:$G$57\"),MATCH($B59,INDIRECT(\"'\"&H$14&\"'\"&\"!$B$6:$B$57\"),0),MATCH(Results!$C$15,INDIRECT(\"'\"&H$14&\"'\"&\"!$B$6:$G$6\"),0))","v":14500},{"$f":"INDEX(INDIRECT(\"'\"&I$14&\"'\"&\"!$B$6:$G$57\"),MATCH($B59,INDIRECT(\"'\"&I$14&\"'\"&\"!$B$6:$B$57\"),0),MATCH(Results!$C$15,INDIRECT(\"'\"&I$14&\"'\"&\"!$B$6:$G$6\"),0))","v":11500},{"$f":"INDEX(INDIRECT(\"'\"&J$14&\"'\"&\"!$B$6:$G$57\"),MATCH($B59,INDIRECT(\"'\"&J$14&\"'\"&\"!$B$6:$B$57\"),0),MATCH(Results!$C$15,INDIRECT(\"'\"&J$14&\"'\"&\"!$B$6:$G$6\"),0))","v":4200},{"$f":"INDEX(INDIRECT(\"'\"&K$14&\"'\"&\"!$B$6:$G$57\"),MATCH($B59,INDIRECT(\"'\"&K$14&\"'\"&\"!$B$6:$B$57\"),0),MATCH(Results!$C$15,INDIRECT(\"'\"&K$14&\"'\"&\"!$B$6:$G$6\"),0))","v":123000}]
[null,"1-Prof./Managerial (occ.)",{"$f":"INDEX(INDIRECT(\"'\"&C$14&\"'\"&\"!$B$6:$G$57\"),MATCH($B60,INDIRECT(\"'\"&C$14&\"'\"&\"!$B$6:$B$57\"),0),MATCH(Results!$C$15,INDIRECT(\"'\"&C$14&\"'\"&\"!$B$6:$G$6\"),0))","v":1500},{"$f":"INDEX(INDIRECT(\"'\"&D$14&\"'\"&\"!$B$6:$G$57\"),MATCH($B60,INDIRECT(\"'\"&D$14&\"'\"&\"!$B$6:$B$57\"),0),MATCH(Results!$C$15,INDIRECT(\"'\"&D$14&\"'\"&\"!$B$6:$G$6\"),0))","v":600},{"$f":"INDEX(INDIRECT(\"'\"&E$14&\"'\"&\"!$B$6:$G$57\"),MATCH($B60,INDIRECT(\"'\"&E$14&\"'\"&\"!$B$6:$B$57\"),0),MATCH(Results!$C$15,INDIRECT(\"'\"&E$14&\"'\"&\"!$B$6:$G$6\"),0))","v":600},{"$f":"INDEX(INDIRECT(\"'\"&F$14&\"'\"&\"!$B$6:$G$57\"),MATCH($B60,INDIRECT(\"'\"&F$14&\"'\"&\"!$B$6:$B$57\"),0),MATCH(Results!$C$15,INDIRECT(\"'\"&F$14&\"'\"&\"!$B$6:$G$6\"),0))","v":600},{"$f":"INDEX(INDIRECT(\"'\"&G$14&\"'\"&\"!$B$6:$G$57\"),MATCH($B60,INDIRECT(\"'\"&G$14&\"'\"&\"!$B$6:$B$57\"),0),MATCH(Results!$C$15,INDIRECT(\"'\"&G$14&\"'\"&\"!$B$6:$G$6\"),0))","v":500},{"$f":"INDEX(INDIRECT(\"'\"&H$14&\"'\"&\"!$B$6:$G$57\"),MATCH($B60,INDIRECT(\"'\"&H$14&\"'\"&\"!$B$6:$B$57\"),0),MATCH(Results!$C$15,INDIRECT(\"'\"&H$14&\"'\"&\"!$B$6:$G$6\"),0))","v":600},{"$f":"INDEX(INDIRECT(\"'\"&I$14&\"'\"&\"!$B$6:$G$57\"),MATCH($B60,INDIRECT(\"'\"&I$14&\"'\"&\"!$B$6:$B$57\"),0),MATCH(Results!$C$15,INDIRECT(\"'\"&I$14&\"'\"&\"!$B$6:$G$6\"),0))","v":400},{"$f":"INDEX(INDIRECT(\"'\"&J$14&\"'\"&\"!$B$6:$G$57\"),MATCH($B60,INDIRECT(\"'\"&J$14&\"'\"&\"!$B$6:$B$57\"),0),MATCH(Results!$C$15,INDIRECT(\"'\"&J$14&\"'\"&\"!$B$6:$G$6\"),0))","v":150},{"$f":"INDEX(INDIRECT(\"'\"&K$14&\"'\"&\"!$B$6:$G$57\"),MATCH($B60,INDIRECT(\"'\"&K$14&\"'\"&\"!$B$6:$B$57\"),0),MATCH(Results!$C$15,INDIRECT(\"'\"&K$14&\"'\"&\"!$B$6:$G$6\"),0))","v":8100}]
[null,"2-Sklld/Sales  ",{"$f":"INDEX(INDIRECT(\"'\"&C$14&\"'\"&\"!$B$6:$G$57\"),MATCH($B61,INDIRECT(\"'\"&C$14&\"'\"&\"!$B$6:$B$57\"),0),MATCH(Results!$C$15,INDIRECT(\"'\"&C$14&\"'\"&\"!$B$6:$G$6\"),0))","v":3800},{"$f":"INDEX(INDIRECT(\"'\"&D$14&\"'\"&\"!$B$6:$G$57\"),MATCH($B61,INDIRECT(\"'\"&D$14&\"'\"&\"!$B$6:$B$57\"),0),MATCH(Results!$C$15,INDIRECT(\"'\"&D$14&\"'\"&\"!$B$6:$G$6\"),0))","v":1500},{"$f":"INDEX(INDIRECT(\"'\"&E$14&\"'\"&\"!$B$6:$G$57\"),MATCH($B61,INDIRECT(\"'\"&E$14&\"'\"&\"!$B$6:$B$57\"),0),MATCH(Results!$C$15,INDIRECT(\"'\"&E$14&\"'\"&\"!$B$6:$G$6\"),0))","v":1400},{"$f":"INDEX(INDIRECT(\"'\"&F$14&\"'\"&\"!$B$6:$G$57\"),MATCH($B61,INDIRECT(\"'\"&F$14&\"'\"&\"!$B$6:$B$57\"),0),MATCH(Results!$C$15,INDIRECT(\"'\"&F$14&\"'\"&\"!$B$6:$G$6\"),0))","v":1400},{"$f":"INDEX(INDIRECT(\"'\"&G$14&\"'\"&\"!$B$6:$G$57\"),MATCH($B61,INDIRECT(\"'\"&G$14&\"'\"&\"!$B$6:$B$57\"),0),MATCH(Results!$C$15,INDIRECT(\"'\"&G$14&\"'\"&\"!$B$6:$G$6\"),0))","v":1100},{"$f":"INDEX(INDIRECT(\"'\"&H$14&\"'\"&\"!$B$6:$G$57\"),MATCH($B61,INDIRECT(\"'\"&H$14&\"'\"&\"!$B$6:$B$57\"),0),MATCH(Results!$C$15,INDIRECT(\"'\"&H$14&\"'\"&\"!$B$6:$G$6\"),0))","v":1200},{"$f":"INDEX(INDIRECT(\"'\"&I$14&\"'\"&\"!$B$6:$G$57\"),MATCH($B61,INDIRECT(\"'\"&I$14&\"'\"&\"!$B$6:$B$57\"),0),MATCH(Results!$C$15,INDIRECT(\"'\"&I$14&\"'\"&\"!$B$6:$G$6\"),0))","v":650},{"$f":"INDEX(INDIRECT(\"'\"&J$14&\"'\"&\"!$B$6:$G$57\"),MATCH($B61,INDIRECT(\"'\"&J$14&\"'\"&\"!$B$6:$B$57\"),0),MATCH(Results!$C$15,INDIRECT(\"'\"&J$14&\"'\"&\"!$B$6:$G$6\"),0))","v":200},{"$f":"INDEX(INDIRECT(\"'\"&K$14&\"'\"&\"!$B$6:$G$57\"),MATCH($B61,INDIRECT(\"'\"&K$14&\"'\"&\"!$B$6:$B$57\"),0),MATCH(Results!$C$15,INDIRECT(\"'\"&K$14&\"'\"&\"!$B$6:$G$6\"),0))","v":13500}]
[null,"3-BlueCol.Lgt  ",{"$f":"INDEX(INDIRECT(\"'\"&C$14&\"'\"&\"!$B$6:$G$57\"),MATCH($B62,INDIRECT(\"'\"&C$14&\"'\"&\"!$B$6:$B$57\"),0),MATCH(Results!$C$15,INDIRECT(\"'\"&C$14&\"'\"&\"!$B$6:$G$6\"),0))","v":3200},{"$f":"INDEX(INDIRECT(\"'\"&D$14&\"'\"&\"!$B$6:$G$57\"),MATCH($B62,INDIRECT(\"'\"&D$14&\"'\"&\"!$B$6:$B$57\"),0),MATCH(Results!$C$15,INDIRECT(\"'\"&D$14&\"'\"&\"!$B$6:$G$6\"),0))","v":1100},{"$f":"INDEX(INDIRECT(\"'\"&E$14&\"'\"&\"!$B$6:$G$57\"),MATCH($B62,INDIRECT(\"'\"&E$14&\"'\"&\"!$B$6:$B$57\"),0),MATCH(Results!$C$15,INDIRECT(\"'\"&E$14&\"'\"&\"!$B$6:$G$6\"),0))","v":1000},{"$f":"INDEX(INDIRECT(\"'\"&F$14&\"'\"&\"!$B$6:$G$57\"),MATCH($B62,INDIRECT(\"'\"&F$14&\"'\"&\"!$B$6:$B$57\"),0),MATCH(Results!$C$15,INDIRECT(\"'\"&F$14&\"'\"&\"!$B$6:$G$6\"),0))","v":1000},{"$f":"INDEX(INDIRECT(\"'\"&G$14&\"'\"&\"!$B$6:$G$57\"),MATCH($B62,INDIRECT(\"'\"&G$14&\"'\"&\"!$B$6:$B$57\"),0),MATCH(Results!$C$15,INDIRECT(\"'\"&G$14&\"'\"&\"!$B$6:$G$6\"),0))","v":700},{"$f":"INDEX(INDIRECT(\"'\"&H$14&\"'\"&\"!$B$6:$G$57\"),MATCH($B62,INDIRECT(\"'\"&H$14&\"'\"&\"!$B$6:$B$57\"),0),MATCH(Results!$C$15,INDIRECT(\"'\"&H$14&\"'\"&\"!$B$6:$G$6\"),0))","v":900},{"$f":"INDEX(INDIRECT(\"'\"&I$14&\"'\"&\"!$B$6:$G$57\"),MATCH($B62,INDIRECT(\"'\"&I$14&\"'\"&\"!$B$6:$B$57\"),0),MATCH(Results!$C$15,INDIRECT(\"'\"&I$14&\"'\"&\"!$B$6:$G$6\"),0))","v":700},{"$f":"INDEX(INDIRECT(\"'\"&J$14&\"'\"&\"!$B$6:$G$57\"),MATCH($B62,INDIRECT(\"'\"&J$14&\"'\"&\"!$B$6:$B$57\"),0),MATCH(Results!$C$15,INDIRECT(\"'\"&J$14&\"'\"&\"!$B$6:$G$6\"),0))","v":200},{"$f":"INDEX(INDIRECT(\"'\"&K$14&\"'\"&\"!$B$6:$G$57\"),MATCH($B62,INDIRECT(\"'\"&K$14&\"'\"&\"!$B$6:$B$57\"),0),MATCH(Results!$C$15,INDIRECT(\"'\"&K$14&\"'\"&\"!$B$6:$G$6\"),0))","v":13500}]
[null,"4-BlueCol.Hvy  ",{"$f":"INDEX(INDIRECT(\"'\"&C$14&\"'\"&\"!$B$6:$G$57\"),MATCH($B63,INDIRECT(\"'\"&C$14&\"'\"&\"!$B$6:$B$57\"),0),MATCH(Results!$C$15,INDIRECT(\"'\"&C$14&\"'\"&\"!$B$6:$G$6\"),0))","v":6500},{"$f":"INDEX(INDIRECT(\"'\"&D$14&\"'\"&\"!$B$6:$G$57\"),MATCH($B63,INDIRECT(\"'\"&D$14&\"'\"&\"!$B$6:$B$57\"),0),MATCH(Results!$C$15,INDIRECT(\"'\"&D$14&\"'\"&\"!$B$6:$G$6\"),0))","v":2100},{"$f":"INDEX(INDIRECT(\"'\"&E$14&\"'\"&\"!$B$6:$G$57\"),MATCH($B63,INDIRECT(\"'\"&E$14&\"'\"&\"!$B$6:$B$57\"),0),MATCH(Results!$C$15,INDIRECT(\"'\"&E$14&\"'\"&\"!$B$6:$G$6\"),0))","v":1800},{"$f":"INDEX(INDIRECT(\"'\"&F$14&\"'\"&\"!$B$6:$G$57\"),MATCH($B63,INDIRECT(\"'\"&F$14&\"'\"&\"!$B$6:$B$57\"),0),MATCH(Results!$C$15,INDIRECT(\"'\"&F$14&\"'\"&\"!$B$6:$G$6\"),0))","v":1600},{"$f":"INDEX(INDIRECT(\"'\"&G$14&\"'\"&\"!$B$6:$G$57\"),MATCH($B63,INDIRECT(\"'\"&G$14&\"'\"&\"!$B$6:$B$57\"),0),MATCH(Results!$C$15,INDIRECT(\"'\"&G$14&\"'\"&\"!$B$6:$G$6\"),0))","v":1200},{"$f":"INDEX(INDIRECT(\"'\"&H$14&\"'\"&\"!$B$6:$G$57\"),MATCH($B63,INDIRECT(\"'\"&H$14&\"'\"&\"!$B$6:$B$57\"),0),MATCH(Results!$C$15,INDIRECT(\"'\"&H$14&\"'\"&\"!$B$6:$G$6\"),0))","v":1300},{"$f":"INDEX(INDIRECT(\"'\"&I$14&\"'\"&\"!$B$6:$G$57\"),MATCH($B63,INDIRECT(\"'\"&I$14&\"'\"&\"!$B$6:$B$57\"),0),MATCH(Results!$C$15,INDIRECT(\"'\"&I$14&\"'\"&\"!$B$6:$G$6\"),0))","v":900},{"$f":"INDEX(INDIRECT(\"'\"&J$14&\"'\"&\"!$B$6:$G$57\"),MATCH($B63,INDIRECT(\"'\"&J$14&\"'\"&\"!$B$6:$B$57\"),0),MATCH(Results!$C$15,INDIRECT(\"'\"&J$14&\"'\"&\"!$B$6:$G$6\"),0))","v":250},{"$f":"INDEX(INDIRECT(\"'\"&K$14&\"'\"&\"!$B$6:$G$57\"),MATCH($B63,INDIRECT(\"'\"&K$14&\"'\"&\"!$B$6:$B$57\"),0),MATCH(Results!$C$15,INDIRECT(\"'\"&K$14&\"'\"&\"!$B$6:$G$6\"),0))","v":16500}]
[null,"5-Medical.Occ  ",{"$f":"INDEX(INDIRECT(\"'\"&C$14&\"'\"&\"!$B$6:$G$57\"),MATCH($B64,INDIRECT(\"'\"&C$14&\"'\"&\"!$B$6:$B$57\"),0),MATCH(Results!$C$15,INDIRECT(\"'\"&C$14&\"'\"&\"!$B$6:$G$6\"),0))","v":600},{"$f":"INDEX(INDIRECT(\"'\"&D$14&\"'\"&\"!$B$6:$G$57\"),MATCH($B64,INDIRECT(\"'\"&D$14&\"'\"&\"!$B$6:$B$57\"),0),MATCH(Results!$C$15,INDIRECT(\"'\"&D$14&\"'\"&\"!$B$6:$G$6\"),0))","v":250},{"$f":"INDEX(INDIRECT(\"'\"&E$14&\"'\"&\"!$B$6:$G$57\"),MATCH($B64,INDIRECT(\"'\"&E$14&\"'\"&\"!$B$6:$B$57\"),0),MATCH(Results!$C$15,INDIRECT(\"'\"&E$14&\"'\"&\"!$B$6:$G$6\"),0))","v":200},{"$f":"INDEX(INDIRECT(\"'\"&F$14&\"'\"&\"!$B$6:$G$57\"),MATCH($B64,INDIRECT(\"'\"&F$14&\"'\"&\"!$B$6:$B$57\"),0),MATCH(Results!$C$15,INDIRECT(\"'\"&F$14&\"'\"&\"!$B$6:$G$6\"),0))","v":250},{"$f":"INDEX(INDIRECT(\"'\"&G$14&\"'\"&\"!$B$6:$G$57\"),MATCH($B64,INDIRECT(\"'\"&G$14&\"'\"&\"!$B$6:$B$57\"),0),MATCH(Results!$C$15,INDIRECT(\"'\"&G$14&\"'\"&\"!$B$6:$G$6\"),0))","v":200},{"$f":"INDEX(INDIRECT(\"'\"&H$14&\"'\"&\"!$B$6:$G$57\"),MATCH($B64,INDIRECT(\"'\"&H$14&\"'\"&\"!$B$6:$B$57\"),0),MATCH(Results!$C$15,INDIRECT(\"'\"&H$14&\"'\"&\"!$B$6:$G$6\"),0))","v":250},{"$f":"INDEX(INDIRECT(\"'\"&I$14&\"'\"&\"!$B$6:$G$57\"),MATCH($B64,INDIRECT(\"'\"&I$14&\"'\"&\"!$B$6:$B$57\"),0),MATCH(Results!$C$15,INDIRECT(\"'\"&I$14&\"'\"&\"!$B$6:$G$6\"),0))","v":150},{"$f":"INDEX(INDIRECT(\"'\"&J$14&\"'\"&\"!$B$6:$G$57\"),MATCH($B64,INDIRECT(\"'\"&J$14&\"'\"&\"!$B$6:$B$57\"),0),MATCH(Results!$C$15,INDIRECT(\"'\"&J$14&\"'\"&\"!$B$6:$G$6\"),0))","v":50},{"$f":"INDEX(INDIRECT(\"'\"&K$14&\"'\"&\"!$B$6:$G$57\"),MATCH($B64,INDIRECT(\"'\"&K$14&\"'\"&\"!$B$6:$B$57\"),0),MATCH(Results!$C$15,INDIRECT(\"'\"&K$14&\"'\"&\"!$B$6:$G$6\"),0))","v":2800}]
[null,"6-N/A          ",{"$f":"INDEX(INDIRECT(\"'\"&C$14&\"'\"&\"!$B$6:$G$57\"),MATCH($B65,INDIRECT(\"'\"&C$14&\"'\"&\"!$B$6:$B$57\"),0),MATCH(Results!$C$15,INDIRECT(\"'\"&C$14&\"'\"&\"!$B$6:$G$6\"),0))","v":40500},{"$f":"INDEX(INDIRECT(\"'\"&D$14&\"'\"&\"!$B$6:$G$57\"),MATCH($B65,INDIRECT(\"'\"&D$14&\"'\"&\"!$B$6:$B$57\"),0),MATCH(Results!$C$15,INDIRECT(\"'\"&D$14&\"'\"&\"!$B$6:$G$6\"),0))","v":16000},{"$f":"INDEX(INDIRECT(\"'\"&E$14&\"'\"&\"!$B$6:$G$57\"),MATCH($B65,INDIRECT(\"'\"&E$14&\"'\"&\"!$B$6:$B$57\"),0),MATCH(Results!$C$15,INDIRECT(\"'\"&E$14&\"'\"&\"!$B$6:$G$6\"),0))","v":15000},{"$f":"INDEX(INDIRECT(\"'\"&F$14&\"'\"&\"!$B$6:$G$57\"),MATCH($B65,INDIRECT(\"'\"&F$14&\"'\"&\"!$B$6:$B$57\"),0),MATCH(Results!$C$15,INDIRECT(\"'\"&F$14&\"'\"&\"!$B$6:$G$6\"),0))","v":17500},{"$f":"INDEX(INDIRECT(\"'\"&G$14&\"'\"&\"!$B$6:$G$57\"),MATCH($B65,INDIRECT(\"'\"&G$14&\"'\"&\"!$B$6:$B$57\"),0),MATCH(Results!$C$15,INDIRECT(\"'\"&G$14&\"'\"&\"!$B$6:$G$6\"),0))","v":14000},{"$f":"INDEX(INDIRECT(\"'\"&H$14&\"'\"&\"!$B$6:$G$57\"),MATCH($B65,INDIRECT(\"'\"&H$14&\"'\"&\"!$B$6:$B$57\"),0),MATCH(Results!$C$15,INDIRECT(\"'\"&H$14&\"'\"&\"!$B$6:$G$6\"),0))","v":14500},{"$f":"INDEX(INDIRECT(\"'\"&I$14&\"'\"&\"!$B$6:$G$57\"),MATCH($B65,INDIRECT(\"'\"&I$14&\"'\"&\"!$B$6:$B$57\"),0),MATCH(Results!$C$15,INDIRECT(\"'\"&I$14&\"'\"&\"!$B$6:$G$6\"),0))","v":11500},{"$f":"INDEX(INDIRECT(\"'\"&J$14&\"'\"&\"!$B$6:$G$57\"),MATCH($B65,INDIRECT(\"'\"&J$14&\"'\"&\"!$B$6:$B$57\"),0),MATCH(Results!$C$15,INDIRECT(\"'\"&J$14&\"'\"&\"!$B$6:$G$6\"),0))","v":4200},{"$f":"INDEX(INDIRECT(\"'\"&K$14&\"'\"&\"!$B$6:$G$57\"),MATCH($B65,INDIRECT(\"'\"&K$14&\"'\"&\"!$B$6:$B$57\"),0),MATCH(Results!$C$15,INDIRECT(\"'\"&K$14&\"'\"&\"!$B$6:$G$6\"),0))","v":103000}]
[]
[null,"Death Count (pulmonary and stroke)"]
[null,null,"1980-1983","1984-1987","1988-1991","1992-1995","1996-1999","2000-2003","2008-11 (MDAC)"]
[null,"All observations",{"$f":"INDEX(INDIRECT(\"'\"&C$68&\"'\"&\"!$B$6:$G$57\"),MATCH($B15,INDIRECT(\"'\"&C$68&\"'\"&\"!$B$6:$B$57\"),0),MATCH(Results!$C$15,INDIRECT(\"'\"&C$68&\"'\"&\"!$B$6:$G$6\"),0))","v":56000},{"$f":"INDEX(INDIRECT(\"'\"&D$68&\"'\"&\"!$B$6:$G$57\"),MATCH($B15,INDIRECT(\"'\"&D$68&\"'\"&\"!$B$6:$B$57\"),0),MATCH(Results!$C$15,INDIRECT(\"'\"&D$68&\"'\"&\"!$B$6:$G$6\"),0))","v":21500},{"$f":"INDEX(INDIRECT(\"'\"&E$68&\"'\"&\"!$B$6:$G$57\"),MATCH($B15,INDIRECT(\"'\"&E$68&\"'\"&\"!$B$6:$B$57\"),0),MATCH(Results!$C$15,INDIRECT(\"'\"&E$68&\"'\"&\"!$B$6:$G$6\"),0))","v":20000},{"$f":"INDEX(INDIRECT(\"'\"&F$68&\"'\"&\"!$B$6:$G$57\"),MATCH($B15,INDIRECT(\"'\"&F$68&\"'\"&\"!$B$6:$B$57\"),0),MATCH(Results!$C$15,INDIRECT(\"'\"&F$68&\"'\"&\"!$B$6:$G$6\"),0))","v":22500},{"$f":"INDEX(INDIRECT(\"'\"&G$68&\"'\"&\"!$B$6:$G$57\"),MATCH($B15,INDIRECT(\"'\"&G$68&\"'\"&\"!$B$6:$B$57\"),0),MATCH(Results!$C$15,INDIRECT(\"'\"&G$68&\"'\"&\"!$B$6:$G$6\"),0))","v":17500},{"$f":"INDEX(INDIRECT(\"'\"&H$68&\"'\"&\"!$B$6:$G$57\"),MATCH($B15,INDIRECT(\"'\"&H$68&\"'\"&\"!$B$6:$B$57\"),0),MATCH(Results!$C$15,INDIRECT(\"'\"&H$68&\"'\"&\"!$B$6:$G$6\"),0))","v":18500},{"$f":"INDEX(INDIRECT(\"'\"&I$68&\"'\"&\"!$B$6:$G$57\"),MATCH($B15,INDIRECT(\"'\"&I$68&\"'\"&\"!$B$6:$B$57\"),0),MATCH(Results!$C$15,INDIRECT(\"'\"&I$68&\"'\"&\"!$B$6:$G$6\"),0))","v":158000}]
[null,"age 40-44 ",{"$f":"INDEX(INDIRECT(\"'\"&C$68&\"'\"&\"!$B$6:$G$57\"),MATCH($B16,INDIRECT(\"'\"&C$68&\"'\"&\"!$B$6:$B$57\"),0),MATCH(Results!$C$15,INDIRECT(\"'\"&C$68&\"'\"&\"!$B$6:$G$6\"),0))","v":1500},{"$f":"INDEX(INDIRECT(\"'\"&D$68&\"'\"&\"!$B$6:$G$57\"),MATCH($B16,INDIRECT(\"'\"&D$68&\"'\"&\"!$B$6:$B$57\"),0),MATCH(Results!$C$15,INDIRECT(\"'\"&D$68&\"'\"&\"!$B$6:$G$6\"),0))","v":600},{"$f":"INDEX(INDIRECT(\"'\"&E$68&\"'\"&\"!$B$6:$G$57\"),MATCH($B16,INDIRECT(\"'\"&E$68&\"'\"&\"!$B$6:$B$57\"),0),MATCH(Results!$C$15,INDIRECT(\"'\"&E$68&\"'\"&\"!$B$6:$G$6\"),0))","v":600},{"$f":"INDEX(INDIRECT(\"'\"&F$68&\"'\"&\"!$B$6:$G$57\"),MATCH($B16,INDIRECT(\"'\"&F$68&\"'\"&\"!$B$6:$B$57\"),0),MATCH(Results!$C$15,INDIRECT(\"'\"&F$68&\"'\"&\"!$B$6:$G$6\"),0))","v":700},{"$f":"INDEX(INDIRECT(\"'\"&G$68&\"'\"&\"!$B$6:$G$57\"),MATCH($B16,INDIRECT(\"'\"&G$68&\"'\"&\"!$B$6:$B$57\"),0),MATCH(Results!$C$15,INDIRECT(\"'\"&G$68&\"'\"&\"!$B$6:$G$6\"),0))","v":550},{"$f":"INDEX(INDIRECT(\"'\"&H$68&\"'\"&\"!$B$6:$G$57\"),MATCH($B16,INDIRECT(\"'\"&H$68&\"'\"&\"!$B$6:$B$57\"),0),MATCH(Results!$C$15,INDIRECT(\"'\"&H$68&\"'\"&\"!$B$6:$G$6\"),0))","v":750},{"$f":"INDEX(INDIRECT(\"'\"&I$68&\"'\"&\"!$B$6:$G$57\"),MATCH($B16,INDIRECT(\"'\"&I$68&\"'\"&\"!$B$6:$B$57\"),0),MATCH(Results!$C$15,INDIRECT(\"'\"&I$68&\"'\"&\"!$B$6:$G$6\"),0))","v":3900}]
[null,"age 45-49 ",{"$f":"INDEX(INDIRECT(\"'\"&C$68&\"'\"&\"!$B$6:$G$57\"),MATCH($B17,INDIRECT(\"'\"&C$68&\"'\"&\"!$B$6:$B$57\"),0),MATCH(Results!$C$15,INDIRECT(\"'\"&C$68&\"'\"&\"!$B$6:$G$6\"),0))","v":2200},{"$f":"INDEX(INDIRECT(\"'\"&D$68&\"'\"&\"!$B$6:$G$57\"),MATCH($B17,INDIRECT(\"'\"&D$68&\"'\"&\"!$B$6:$B$57\"),0),MATCH(Results!$C$15,INDIRECT(\"'\"&D$68&\"'\"&\"!$B$6:$G$6\"),0))","v":750},{"$f":"INDEX(INDIRECT(\"'\"&E$68&\"'\"&\"!$B$6:$G$57\"),MATCH($B17,INDIRECT(\"'\"&E$68&\"'\"&\"!$B$6:$B$57\"),0),MATCH(Results!$C$15,INDIRECT(\"'\"&E$68&\"'\"&\"!$B$6:$G$6\"),0))","v":750},{"$f":"INDEX(INDIRECT(\"'\"&F$68&\"'\"&\"!$B$6:$G$57\"),MATCH($B17,INDIRECT(\"'\"&F$68&\"'\"&\"!$B$6:$B$57\"),0),MATCH(Results!$C$15,INDIRECT(\"'\"&F$68&\"'\"&\"!$B$6:$G$6\"),0))","v":850},{"$f":"INDEX(INDIRECT(\"'\"&G$68&\"'\"&\"!$B$6:$G$57\"),MATCH($B17,INDIRECT(\"'\"&G$68&\"'\"&\"!$B$6:$B$57\"),0),MATCH(Results!$C$15,INDIRECT(\"'\"&G$68&\"'\"&\"!$B$6:$G$6\"),0))","v":800},{"$f":"INDEX(INDIRECT(\"'\"&H$68&\"'\"&\"!$B$6:$G$57\"),MATCH($B17,INDIRECT(\"'\"&H$68&\"'\"&\"!$B$6:$B$57\"),0),MATCH(Results!$C$15,INDIRECT(\"'\"&H$68&\"'\"&\"!$B$6:$G$6\"),0))","v":950},{"$f":"INDEX(INDIRECT(\"'\"&I$68&\"'\"&\"!$B$6:$G$57\"),MATCH($B17,INDIRECT(\"'\"&I$68&\"'\"&\"!$B$6:$B$57\"),0),MATCH(Results!$C$15,INDIRECT(\"'\"&I$68&\"'\"&\"!$B$6:$G$6\"),0))","v":6300}]
[null,"age 50-54 ",{"$f":"INDEX(INDIRECT(\"'\"&C$68&\"'\"&\"!$B$6:$G$57\"),MATCH($B18,INDIRECT(\"'\"&C$68&\"'\"&\"!$B$6:$B$57\"),0),MATCH(Results!$C$15,INDIRECT(\"'\"&C$68&\"'\"&\"!$B$6:$G$6\"),0))","v":3600},{"$f":"INDEX(INDIRECT(\"'\"&D$68&\"'\"&\"!$B$6:$G$57\"),MATCH($B18,INDIRECT(\"'\"&D$68&\"'\"&\"!$B$6:$B$57\"),0),MATCH(Results!$C$15,INDIRECT(\"'\"&D$68&\"'\"&\"!$B$6:$G$6\"),0))","v":1200},{"$f":"INDEX(INDIRECT(\"'\"&E$68&\"'\"&\"!$B$6:$G$57\"),MATCH($B18,INDIRECT(\"'\"&E$68&\"'\"&\"!$B$6:$B$57\"),0),MATCH(Results!$C$15,INDIRECT(\"'\"&E$68&\"'\"&\"!$B$6:$G$6\"),0))","v":1000},{"$f":"INDEX(INDIRECT(\"'\"&F$68&\"'\"&\"!$B$6:$G$57\"),MATCH($B18,INDIRECT(\"'\"&F$68&\"'\"&\"!$B$6:$B$57\"),0),MATCH(Results!$C$15,INDIRECT(\"'\"&F$68&\"'\"&\"!$B$6:$G$6\"),0))","v":1200},{"$f":"INDEX(INDIRECT(\"'\"&G$68&\"'\"&\"!$B$6:$G$57\"),MATCH($B18,INDIRECT(\"'\"&G$68&\"'\"&\"!$B$6:$B$57\"),0),MATCH(Results!$C$15,INDIRECT(\"'\"&G$68&\"'\"&\"!$B$6:$G$6\"),0))","v":900},{"$f":"INDEX(INDIRECT(\"'\"&H$68&\"'\"&\"!$B$6:$G$57\"),MATCH($B18,INDIRECT(\"'\"&H$68&\"'\"&\"!$B$6:$B$57\"),0),MATCH(Results!$C$15,INDIRECT(\"'\"&H$68&\"'\"&\"!$B$6:$G$6\"),0))","v":1200},{"$f":"INDEX(INDIRECT(\"'\"&I$68&\"'\"&\"!$B$6:$G$57\"),MATCH($B18,INDIRECT(\"'\"&I$68&\"'\"&\"!$B$6:$B$57\"),0),MATCH(Results!$C$15,INDIRECT(\"'\"&I$68&\"'\"&\"!$B$6:$G$6\"),0))","v":9300}]
[null,"age 55-59 ",{"$f":"INDEX(INDIRECT(\"'\"&C$68&\"'\"&\"!$B$6:$G$57\"),MATCH($B19,INDIRECT(\"'\"&C$68&\"'\"&\"!$B$6:$B$57\"),0),MATCH(Results!$C$15,INDIRECT(\"'\"&C$68&\"'\"&\"!$B$6:$G$6\"),0))","v":5400},{"$f":"INDEX(INDIRECT(\"'\"&D$68&\"'\"&\"!$B$6:$G$57\"),MATCH($B19,INDIRECT(\"'\"&D$68&\"'\"&\"!$B$6:$B$57\"),0),MATCH(Results!$C$15,INDIRECT(\"'\"&D$68&\"'\"&\"!$B$6:$G$6\"),0))","v":1900},{"$f":"INDEX(INDIRECT(\"'\"&E$68&\"'\"&\"!$B$6:$G$57\"),MATCH($B19,INDIRECT(\"'\"&E$68&\"'\"&\"!$B$6:$B$57\"),0),MATCH(Results!$C$15,INDIRECT(\"'\"&E$68&\"'\"&\"!$B$6:$G$6\"),0))","v":1500},{"$f":"INDEX(INDIRECT(\"'\"&F$68&\"'\"&\"!$B$6:$G$57\"),MATCH($B19,INDIRECT(\"'\"&F$68&\"'\"&\"!$B$6:$B$57\"),0),MATCH(Results!$C$15,INDIRECT(\"'\"&F$68&\"'\"&\"!$B$6:$G$6\"),0))","v":1500},{"$f":"INDEX(INDIRECT(\"'\"&G$68&\"'\"&\"!$B$6:$G$57\"),MATCH($B19,INDIRECT(\"'\"&G$68&\"'\"&\"!$B$6:$B$57\"),0),MATCH(Results!$C$15,INDIRECT(\"'\"&G$68&\"'\"&\"!$B$6:$G$6\"),0))","v":1100},{"$f":"INDEX(INDIRECT(\"'\"&H$68&\"'\"&\"!$B$6:$G$57\"),MATCH($B19,INDIRECT(\"'\"&H$68&\"'\"&\"!$B$6:$B$57\"),0),MATCH(Results!$C$15,INDIRECT(\"'\"&H$68&\"'\"&\"!$B$6:$G$6\"),0))","v":1300},{"$f":"INDEX(INDIRECT(\"'\"&I$68&\"'\"&\"!$B$6:$G$57\"),MATCH($B19,INDIRECT(\"'\"&I$68&\"'\"&\"!$B$6:$B$57\"),0),MATCH(Results!$C$15,INDIRECT(\"'\"&I$68&\"'\"&\"!$B$6:$G$6\"),0))","v":12000}]
[null,"age 60-64",{"$f":"INDEX(INDIRECT(\"'\"&C$68&\"'\"&\"!$B$6:$G$57\"),MATCH($B20,INDIRECT(\"'\"&C$68&\"'\"&\"!$B$6:$B$57\"),0),MATCH(Results!$C$15,INDIRECT(\"'\"&C$68&\"'\"&\"!$B$6:$G$6\"),0))","v":7000},{"$f":"INDEX(INDIRECT(\"'\"&D$68&\"'\"&\"!$B$6:$G$57\"),MATCH($B20,INDIRECT(\"'\"&D$68&\"'\"&\"!$B$6:$B$57\"),0),MATCH(Results!$C$15,INDIRECT(\"'\"&D$68&\"'\"&\"!$B$6:$G$6\"),0))","v":2600},{"$f":"INDEX(INDIRECT(\"'\"&E$68&\"'\"&\"!$B$6:$G$57\"),MATCH($B20,INDIRECT(\"'\"&E$68&\"'\"&\"!$B$6:$B$57\"),0),MATCH(Results!$C$15,INDIRECT(\"'\"&E$68&\"'\"&\"!$B$6:$G$6\"),0))","v":2300},{"$f":"INDEX(INDIRECT(\"'\"&F$68&\"'\"&\"!$B$6:$G$57\"),MATCH($B20,INDIRECT(\"'\"&F$68&\"'\"&\"!$B$6:$B$57\"),0),MATCH(Results!$C$15,INDIRECT(\"'\"&F$68&\"'\"&\"!$B$6:$G$6\"),0))","v":2100},{"$f":"INDEX(INDIRECT(\"'\"&G$68&\"'\"&\"!$B$6:$G$57\"),MATCH($B20,INDIRECT(\"'\"&G$68&\"'\"&\"!$B$6:$B$57\"),0),MATCH(Results!$C$15,INDIRECT(\"'\"&G$68&\"'\"&\"!$B$6:$G$6\"),0))","v":1500},{"$f":"INDEX(INDIRECT(\"'\"&H$68&\"'\"&\"!$B$6:$G$57\"),MATCH($B20,INDIRECT(\"'\"&H$68&\"'\"&\"!$B$6:$B$57\"),0),MATCH(Results!$C$15,INDIRECT(\"'\"&H$68&\"'\"&\"!$B$6:$G$6\"),0))","v":1600},{"$f":"INDEX(INDIRECT(\"'\"&I$68&\"'\"&\"!$B$6:$G$57\"),MATCH($B20,INDIRECT(\"'\"&I$68&\"'\"&\"!$B$6:$B$57\"),0),MATCH(Results!$C$15,INDIRECT(\"'\"&I$68&\"'\"&\"!$B$6:$G$6\"),0))","v":15000}]
[null,"age 65-69 (age group) ",{"$f":"INDEX(INDIRECT(\"'\"&C$68&\"'\"&\"!$B$6:$G$57\"),MATCH($B21,INDIRECT(\"'\"&C$68&\"'\"&\"!$B$6:$B$57\"),0),MATCH(Results!$C$15,INDIRECT(\"'\"&C$68&\"'\"&\"!$B$6:$G$6\"),0))","v":8500},{"$f":"INDEX(INDIRECT(\"'\"&D$68&\"'\"&\"!$B$6:$G$57\"),MATCH($B21,INDIRECT(\"'\"&D$68&\"'\"&\"!$B$6:$B$57\"),0),MATCH(Results!$C$15,INDIRECT(\"'\"&D$68&\"'\"&\"!$B$6:$G$6\"),0))","v":3300},{"$f":"INDEX(INDIRECT(\"'\"&E$68&\"'\"&\"!$B$6:$G$57\"),MATCH($B21,INDIRECT(\"'\"&E$68&\"'\"&\"!$B$6:$B$57\"),0),MATCH(Results!$C$15,INDIRECT(\"'\"&E$68&\"'\"&\"!$B$6:$G$6\"),0))","v":3100},{"$f":"INDEX(INDIRECT(\"'\"&F$68&\"'\"&\"!$B$6:$G$57\"),MATCH($B21,INDIRECT(\"'\"&F$68&\"'\"&\"!$B$6:$B$57\"),0),MATCH(Results!$C$15,INDIRECT(\"'\"&F$68&\"'\"&\"!$B$6:$G$6\"),0))","v":3000},{"$f":"INDEX(INDIRECT(\"'\"&G$68&\"'\"&\"!$B$6:$G$57\"),MATCH($B21,INDIRECT(\"'\"&G$68&\"'\"&\"!$B$6:$B$57\"),0),MATCH(Results!$C$15,INDIRECT(\"'\"&G$68&\"'\"&\"!$B$6:$G$6\"),0))","v":2200},{"$f":"INDEX(INDIRECT(\"'\"&H$68&\"'\"&\"!$B$6:$G$57\"),MATCH($B21,INDIRECT(\"'\"&H$68&\"'\"&\"!$B$6:$B$57\"),0),MATCH(Results!$C$15,INDIRECT(\"'\"&H$68&\"'\"&\"!$B$6:$G$6\"),0))","v":2000},{"$f":"INDEX(INDIRECT(\"'\"&I$68&\"'\"&\"!$B$6:$G$57\"),MATCH($B21,INDIRECT(\"'\"&I$68&\"'\"&\"!$B$6:$B$57\"),0),MATCH(Results!$C$15,INDIRECT(\"'\"&I$68&\"'\"&\"!$B$6:$G$6\"),0))","v":18000}]
[null,"age 70-74 ",{"$f":"INDEX(INDIRECT(\"'\"&C$68&\"'\"&\"!$B$6:$G$57\"),MATCH($B22,INDIRECT(\"'\"&C$68&\"'\"&\"!$B$6:$B$57\"),0),MATCH(Results!$C$15,INDIRECT(\"'\"&C$68&\"'\"&\"!$B$6:$G$6\"),0))","v":8900},{"$f":"INDEX(INDIRECT(\"'\"&D$68&\"'\"&\"!$B$6:$G$57\"),MATCH($B22,INDIRECT(\"'\"&D$68&\"'\"&\"!$B$6:$B$57\"),0),MATCH(Results!$C$15,INDIRECT(\"'\"&D$68&\"'\"&\"!$B$6:$G$6\"),0))","v":3700},{"$f":"INDEX(INDIRECT(\"'\"&E$68&\"'\"&\"!$B$6:$G$57\"),MATCH($B22,INDIRECT(\"'\"&E$68&\"'\"&\"!$B$6:$B$57\"),0),MATCH(Results!$C$15,INDIRECT(\"'\"&E$68&\"'\"&\"!$B$6:$G$6\"),0))","v":3400},{"$f":"INDEX(INDIRECT(\"'\"&F$68&\"'\"&\"!$B$6:$G$57\"),MATCH($B22,INDIRECT(\"'\"&F$68&\"'\"&\"!$B$6:$B$57\"),0),MATCH(Results!$C$15,INDIRECT(\"'\"&F$68&\"'\"&\"!$B$6:$G$6\"),0))","v":3800},{"$f":"INDEX(INDIRECT(\"'\"&G$68&\"'\"&\"!$B$6:$G$57\"),MATCH($B22,INDIRECT(\"'\"&G$68&\"'\"&\"!$B$6:$B$57\"),0),MATCH(Results!$C$15,INDIRECT(\"'\"&G$68&\"'\"&\"!$B$6:$G$6\"),0))","v":2900},{"$f":"INDEX(INDIRECT(\"'\"&H$68&\"'\"&\"!$B$6:$G$57\"),MATCH($B22,INDIRECT(\"'\"&H$68&\"'\"&\"!$B$6:$B$57\"),0),MATCH(Results!$C$15,INDIRECT(\"'\"&H$68&\"'\"&\"!$B$6:$G$6\"),0))","v":2700},{"$f":"INDEX(INDIRECT(\"'\"&I$68&\"'\"&\"!$B$6:$G$57\"),MATCH($B22,INDIRECT(\"'\"&I$68&\"'\"&\"!$B$6:$B$57\"),0),MATCH(Results!$C$15,INDIRECT(\"'\"&I$68&\"'\"&\"!$B$6:$G$6\"),0))","v":21000}]
[null,"age 75-79 ",{"$f":"INDEX(INDIRECT(\"'\"&C$68&\"'\"&\"!$B$6:$G$57\"),MATCH($B23,INDIRECT(\"'\"&C$68&\"'\"&\"!$B$6:$B$57\"),0),MATCH(Results!$C$15,INDIRECT(\"'\"&C$68&\"'\"&\"!$B$6:$G$6\"),0))","v":8300},{"$f":"INDEX(INDIRECT(\"'\"&D$68&\"'\"&\"!$B$6:$G$57\"),MATCH($B23,INDIRECT(\"'\"&D$68&\"'\"&\"!$B$6:$B$57\"),0),MATCH(Results!$C$15,INDIRECT(\"'\"&D$68&\"'\"&\"!$B$6:$G$6\"),0))","v":3300},{"$f":"INDEX(INDIRECT(\"'\"&E$68&\"'\"&\"!$B$6:$G$57\"),MATCH($B23,INDIRECT(\"'\"&E$68&\"'\"&\"!$B$6:$B$57\"),0),MATCH(Results!$C$15,INDIRECT(\"'\"&E$68&\"'\"&\"!$B$6:$G$6\"),0))","v":3200},{"$f":"INDEX(INDIRECT(\"'\"&F$68&\"'\"&\"!$B$6:$G$57\"),MATCH($B23,INDIRECT(\"'\"&F$68&\"'\"&\"!$B$6:$B$57\"),0),MATCH(Results!$C$15,INDIRECT(\"'\"&F$68&\"'\"&\"!$B$6:$G$6\"),0))","v":3800},{"$f":"INDEX(INDIRECT(\"'\"&G$68&\"'\"&\"!$B$6:$G$57\"),MATCH($B23,INDIRECT(\"'\"&G$68&\"'\"&\"!$B$6:$B$57\"),0),MATCH(Results!$C$15,INDIRECT(\"'\"&G$68&\"'\"&\"!$B$6:$G$6\"),0))","v":3100},{"$f":"INDEX(INDIRECT(\"'\"&H$68&\"'\"&\"!$B$6:$G$57\"),MATCH($B23,INDIRECT(\"'\"&H$68&\"'\"&\"!$B$6:$B$57\"),0),MATCH(Results!$C$15,INDIRECT(\"'\"&H$68&\"'\"&\"!$B$6:$G$6\"),0))","v":3200},{"$f":"INDEX(INDIRECT(\"'\"&I$68&\"'\"&\"!$B$6:$G$57\"),MATCH($B23,INDIRECT(\"'\"&I$68&\"'\"&\"!$B$6:$B$57\"),0),MATCH(Results!$C$15,INDIRECT(\"'\"&I$68&\"'\"&\"!$B$6:$G$6\"),0))","v":25000}]
[null,"age 80-84 ",{"$f":"INDEX(INDIRECT(\"'\"&C$68&\"'\"&\"!$B$6:$G$57\"),MATCH($B24,INDIRECT(\"'\"&C$68&\"'\"&\"!$B$6:$B$57\"),0),MATCH(Results!$C$15,INDIRECT(\"'\"&C$68&\"'\"&\"!$B$6:$G$6\"),0))","v":6100},{"$f":"INDEX(INDIRECT(\"'\"&D$68&\"'\"&\"!$B$6:$G$57\"),MATCH($B24,INDIRECT(\"'\"&D$68&\"'\"&\"!$B$6:$B$57\"),0),MATCH(Results!$C$15,INDIRECT(\"'\"&D$68&\"'\"&\"!$B$6:$G$6\"),0))","v":2500},{"$f":"INDEX(INDIRECT(\"'\"&E$68&\"'\"&\"!$B$6:$G$57\"),MATCH($B24,INDIRECT(\"'\"&E$68&\"'\"&\"!$B$6:$B$57\"),0),MATCH(Results!$C$15,INDIRECT(\"'\"&E$68&\"'\"&\"!$B$6:$G$6\"),0))","v":2400},{"$f":"INDEX(INDIRECT(\"'\"&F$68&\"'\"&\"!$B$6:$G$57\"),MATCH($B24,INDIRECT(\"'\"&F$68&\"'\"&\"!$B$6:$B$57\"),0),MATCH(Results!$C$15,INDIRECT(\"'\"&F$68&\"'\"&\"!$B$6:$G$6\"),0))","v":3200},{"$f":"INDEX(INDIRECT(\"'\"&G$68&\"'\"&\"!$B$6:$G$57\"),MATCH($B24,INDIRECT(\"'\"&G$68&\"'\"&\"!$B$6:$B$57\"),0),MATCH(Results!$C$15,INDIRECT(\"'\"&G$68&\"'\"&\"!$B$6:$G$6\"),0))","v":2500},{"$f":"INDEX(INDIRECT(\"'\"&H$68&\"'\"&\"!$B$6:$G$57\"),MATCH($B24,INDIRECT(\"'\"&H$68&\"'\"&\"!$B$6:$B$57\"),0),MATCH(Results!$C$15,INDIRECT(\"'\"&H$68&\"'\"&\"!$B$6:$G$6\"),0))","v":3300},{"$f":"INDEX(INDIRECT(\"'\"&I$68&\"'\"&\"!$B$6:$G$57\"),MATCH($B24,INDIRECT(\"'\"&I$68&\"'\"&\"!$B$6:$B$57\"),0),MATCH(Results!$C$15,INDIRECT(\"'\"&I$68&\"'\"&\"!$B$6:$G$6\"),0))","v":24500}]
[null,"age 85+",{"$f":"INDEX(INDIRECT(\"'\"&C$68&\"'\"&\"!$B$6:$G$57\"),MATCH($B25,INDIRECT(\"'\"&C$68&\"'\"&\"!$B$6:$B$57\"),0),MATCH(Results!$C$15,INDIRECT(\"'\"&C$68&\"'\"&\"!$B$6:$G$6\"),0))","v":4400},{"$f":"INDEX(INDIRECT(\"'\"&D$68&\"'\"&\"!$B$6:$G$57\"),MATCH($B25,INDIRECT(\"'\"&D$68&\"'\"&\"!$B$6:$B$57\"),0),MATCH(Results!$C$15,INDIRECT(\"'\"&D$68&\"'\"&\"!$B$6:$G$6\"),0))","v":1800},{"$f":"INDEX(INDIRECT(\"'\"&E$68&\"'\"&\"!$B$6:$G$57\"),MATCH($B25,INDIRECT(\"'\"&E$68&\"'\"&\"!$B$6:$B$57\"),0),MATCH(Results!$C$15,INDIRECT(\"'\"&E$68&\"'\"&\"!$B$6:$G$6\"),0))","v":1700},{"$f":"INDEX(INDIRECT(\"'\"&F$68&\"'\"&\"!$B$6:$G$57\"),MATCH($B25,INDIRECT(\"'\"&F$68&\"'\"&\"!$B$6:$B$57\"),0),MATCH(Results!$C$15,INDIRECT(\"'\"&F$68&\"'\"&\"!$B$6:$G$6\"),0))","v":2400},{"$f":"INDEX(INDIRECT(\"'\"&G$68&\"'\"&\"!$B$6:$G$57\"),MATCH($B25,INDIRECT(\"'\"&G$68&\"'\"&\"!$B$6:$B$57\"),0),MATCH(Results!$C$15,INDIRECT(\"'\"&G$68&\"'\"&\"!$B$6:$G$6\"),0))","v":2000},{"$f":"INDEX(INDIRECT(\"'\"&H$68&\"'\"&\"!$B$6:$G$57\"),MATCH($B25,INDIRECT(\"'\"&H$68&\"'\"&\"!$B$6:$B$57\"),0),MATCH(Results!$C$15,INDIRECT(\"'\"&H$68&\"'\"&\"!$B$6:$G$6\"),0))","v":1800},{"$f":"INDEX(INDIRECT(\"'\"&I$68&\"'\"&\"!$B$6:$G$57\"),MATCH($B25,INDIRECT(\"'\"&I$68&\"'\"&\"!$B$6:$B$57\"),0),MATCH(Results!$C$15,INDIRECT(\"'\"&I$68&\"'\"&\"!$B$6:$G$6\"),0))","v":23000}]
[null,"Male (Sex)",{"$f":"INDEX(INDIRECT(\"'\"&C$68&\"'\"&\"!$B$6:$G$57\"),MATCH($B26,INDIRECT(\"'\"&C$68&\"'\"&\"!$B$6:$B$57\"),0),MATCH(Results!$C$15,INDIRECT(\"'\"&C$68&\"'\"&\"!$B$6:$G$6\"),0))","v":29500},{"$f":"INDEX(INDIRECT(\"'\"&D$68&\"'\"&\"!$B$6:$G$57\"),MATCH($B26,INDIRECT(\"'\"&D$68&\"'\"&\"!$B$6:$B$57\"),0),MATCH(Results!$C$15,INDIRECT(\"'\"&D$68&\"'\"&\"!$B$6:$G$6\"),0))","v":11500},{"$f":"INDEX(INDIRECT(\"'\"&E$68&\"'\"&\"!$B$6:$G$57\"),MATCH($B26,INDIRECT(\"'\"&E$68&\"'\"&\"!$B$6:$B$57\"),0),MATCH(Results!$C$15,INDIRECT(\"'\"&E$68&\"'\"&\"!$B$6:$G$6\"),0))","v":10000},{"$f":"INDEX(INDIRECT(\"'\"&F$68&\"'\"&\"!$B$6:$G$57\"),MATCH($B26,INDIRECT(\"'\"&F$68&\"'\"&\"!$B$6:$B$57\"),0),MATCH(Results!$C$15,INDIRECT(\"'\"&F$68&\"'\"&\"!$B$6:$G$6\"),0))","v":11000},{"$f":"INDEX(INDIRECT(\"'\"&G$68&\"'\"&\"!$B$6:$G$57\"),MATCH($B26,INDIRECT(\"'\"&G$68&\"'\"&\"!$B$6:$B$57\"),0),MATCH(Results!$C$15,INDIRECT(\"'\"&G$68&\"'\"&\"!$B$6:$G$6\"),0))","v":8700},{"$f":"INDEX(INDIRECT(\"'\"&H$68&\"'\"&\"!$B$6:$G$57\"),MATCH($B26,INDIRECT(\"'\"&H$68&\"'\"&\"!$B$6:$B$57\"),0),MATCH(Results!$C$15,INDIRECT(\"'\"&H$68&\"'\"&\"!$B$6:$G$6\"),0))","v":9300},{"$f":"INDEX(INDIRECT(\"'\"&I$68&\"'\"&\"!$B$6:$G$57\"),MATCH($B26,INDIRECT(\"'\"&I$68&\"'\"&\"!$B$6:$B$57\"),0),MATCH(Results!$C$15,INDIRECT(\"'\"&I$68&\"'\"&\"!$B$6:$G$6\"),0))","v":88000}]
[null,"Female       ",{"$f":"INDEX(INDIRECT(\"'\"&C$68&\"'\"&\"!$B$6:$G$57\"),MATCH($B27,INDIRECT(\"'\"&C$68&\"'\"&\"!$B$6:$B$57\"),0),MATCH(Results!$C$15,INDIRECT(\"'\"&C$68&\"'\"&\"!$B$6:$G$6\"),0))","v":26500},{"$f":"INDEX(INDIRECT(\"'\"&D$68&\"'\"&\"!$B$6:$G$57\"),MATCH($B27,INDIRECT(\"'\"&D$68&\"'\"&\"!$B$6:$B$57\"),0),MATCH(Results!$C$15,INDIRECT(\"'\"&D$68&\"'\"&\"!$B$6:$G$6\"),0))","v":10500},{"$f":"INDEX(INDIRECT(\"'\"&E$68&\"'\"&\"!$B$6:$G$57\"),MATCH($B27,INDIRECT(\"'\"&E$68&\"'\"&\"!$B$6:$B$57\"),0),MATCH(Results!$C$15,INDIRECT(\"'\"&E$68&\"'\"&\"!$B$6:$G$6\"),0))","v":9700},{"$f":"INDEX(INDIRECT(\"'\"&F$68&\"'\"&\"!$B$6:$G$57\"),MATCH($B27,INDIRECT(\"'\"&F$68&\"'\"&\"!$B$6:$B$57\"),0),MATCH(Results!$C$15,INDIRECT(\"'\"&F$68&\"'\"&\"!$B$6:$G$6\"),0))","v":11500},{"$f":"INDEX(INDIRECT(\"'\"&G$68&\"'\"&\"!$B$6:$G$57\"),MATCH($B27,INDIRECT(\"'\"&G$68&\"'\"&\"!$B$6:$B$57\"),0),MATCH(Results!$C$15,INDIRECT(\"'\"&G$68&\"'\"&\"!$B$6:$G$6\"),0))","v":8900},{"$f":"INDEX(INDIRECT(\"'\"&H$68&\"'\"&\"!$B$6:$G$57\"),MATCH($B27,INDIRECT(\"'\"&H$68&\"'\"&\"!$B$6:$B$57\"),0),MATCH(Results!$C$15,INDIRECT(\"'\"&H$68&\"'\"&\"!$B$6:$G$6\"),0))","v":9400},{"$f":"INDEX(INDIRECT(\"'\"&I$68&\"'\"&\"!$B$6:$G$57\"),MATCH($B27,INDIRECT(\"'\"&I$68&\"'\"&\"!$B$6:$B$57\"),0),MATCH(Results!$C$15,INDIRECT(\"'\"&I$68&\"'\"&\"!$B$6:$G$6\"),0))","v":69500}]
[null,"1-Never  ",{"$f":"INDEX(INDIRECT(\"'\"&C$68&\"'\"&\"!$B$6:$G$57\"),MATCH($B28,INDIRECT(\"'\"&C$68&\"'\"&\"!$B$6:$B$57\"),0),MATCH(Results!$C$15,INDIRECT(\"'\"&C$68&\"'\"&\"!$B$6:$G$6\"),0))","v":0},{"$f":"INDEX(INDIRECT(\"'\"&D$68&\"'\"&\"!$B$6:$G$57\"),MATCH($B28,INDIRECT(\"'\"&D$68&\"'\"&\"!$B$6:$B$57\"),0),MATCH(Results!$C$15,INDIRECT(\"'\"&D$68&\"'\"&\"!$B$6:$G$6\"),0))","v":0},{"$f":"INDEX(INDIRECT(\"'\"&E$68&\"'\"&\"!$B$6:$G$57\"),MATCH($B28,INDIRECT(\"'\"&E$68&\"'\"&\"!$B$6:$B$57\"),0),MATCH(Results!$C$15,INDIRECT(\"'\"&E$68&\"'\"&\"!$B$6:$G$6\"),0))","v":0},{"$f":"INDEX(INDIRECT(\"'\"&F$68&\"'\"&\"!$B$6:$G$57\"),MATCH($B28,INDIRECT(\"'\"&F$68&\"'\"&\"!$B$6:$B$57\"),0),MATCH(Results!$C$15,INDIRECT(\"'\"&F$68&\"'\"&\"!$B$6:$G$6\"),0))","v":4200},{"$f":"INDEX(INDIRECT(\"'\"&G$68&\"'\"&\"!$B$6:$G$57\"),MATCH($B28,INDIRECT(\"'\"&G$68&\"'\"&\"!$B$6:$B$57\"),0),MATCH(Results!$C$15,INDIRECT(\"'\"&G$68&\"'\"&\"!$B$6:$G$6\"),0))","v":4500},{"$f":"INDEX(INDIRECT(\"'\"&H$68&\"'\"&\"!$B$6:$G$57\"),MATCH($B28,INDIRECT(\"'\"&H$68&\"'\"&\"!$B$6:$B$57\"),0),MATCH(Results!$C$15,INDIRECT(\"'\"&H$68&\"'\"&\"!$B$6:$G$6\"),0))","v":6400},{"$f":"INDEX(INDIRECT(\"'\"&I$68&\"'\"&\"!$B$6:$G$57\"),MATCH($B28,INDIRECT(\"'\"&I$68&\"'\"&\"!$B$6:$B$57\"),0),MATCH(Results!$C$15,INDIRECT(\"'\"&I$68&\"'\"&\"!$B$6:$G$6\"),0))","v":0}]
[null,"2-Current",{"$f":"INDEX(INDIRECT(\"'\"&C$68&\"'\"&\"!$B$6:$G$57\"),MATCH($B29,INDIRECT(\"'\"&C$68&\"'\"&\"!$B$6:$B$57\"),0),MATCH(Results!$C$15,INDIRECT(\"'\"&C$68&\"'\"&\"!$B$6:$G$6\"),0))","v":0},{"$f":"INDEX(INDIRECT(\"'\"&D$68&\"'\"&\"!$B$6:$G$57\"),MATCH($B29,INDIRECT(\"'\"&D$68&\"'\"&\"!$B$6:$B$57\"),0),MATCH(Results!$C$15,INDIRECT(\"'\"&D$68&\"'\"&\"!$B$6:$G$6\"),0))","v":0},{"$f":"INDEX(INDIRECT(\"'\"&E$68&\"'\"&\"!$B$6:$G$57\"),MATCH($B29,INDIRECT(\"'\"&E$68&\"'\"&\"!$B$6:$B$57\"),0),MATCH(Results!$C$15,INDIRECT(\"'\"&E$68&\"'\"&\"!$B$6:$G$6\"),0))","v":0},{"$f":"INDEX(INDIRECT(\"'\"&F$68&\"'\"&\"!$B$6:$G$57\"),MATCH($B29,INDIRECT(\"'\"&F$68&\"'\"&\"!$B$6:$B$57\"),0),MATCH(Results!$C$15,INDIRECT(\"'\"&F$68&\"'\"&\"!$B$6:$G$6\"),0))","v":2000},{"$f":"INDEX(INDIRECT(\"'\"&G$68&\"'\"&\"!$B$6:$G$57\"),MATCH($B29,INDIRECT(\"'\"&G$68&\"'\"&\"!$B$6:$B$57\"),0),MATCH(Results!$C$15,INDIRECT(\"'\"&G$68&\"'\"&\"!$B$6:$G$6\"),0))","v":2100},{"$f":"INDEX(INDIRECT(\"'\"&H$68&\"'\"&\"!$B$6:$G$57\"),MATCH($B29,INDIRECT(\"'\"&H$68&\"'\"&\"!$B$6:$B$57\"),0),MATCH(Results!$C$15,INDIRECT(\"'\"&H$68&\"'\"&\"!$B$6:$G$6\"),0))","v":2700},{"$f":"INDEX(INDIRECT(\"'\"&I$68&\"'\"&\"!$B$6:$G$57\"),MATCH($B29,INDIRECT(\"'\"&I$68&\"'\"&\"!$B$6:$B$57\"),0),MATCH(Results!$C$15,INDIRECT(\"'\"&I$68&\"'\"&\"!$B$6:$G$6\"),0))","v":0}]
[null,"3-Former ",{"$f":"INDEX(INDIRECT(\"'\"&C$68&\"'\"&\"!$B$6:$G$57\"),MATCH($B30,INDIRECT(\"'\"&C$68&\"'\"&\"!$B$6:$B$57\"),0),MATCH(Results!$C$15,INDIRECT(\"'\"&C$68&\"'\"&\"!$B$6:$G$6\"),0))","v":0},{"$f":"INDEX(INDIRECT(\"'\"&D$68&\"'\"&\"!$B$6:$G$57\"),MATCH($B30,INDIRECT(\"'\"&D$68&\"'\"&\"!$B$6:$B$57\"),0),MATCH(Results!$C$15,INDIRECT(\"'\"&D$68&\"'\"&\"!$B$6:$G$6\"),0))","v":0},{"$f":"INDEX(INDIRECT(\"'\"&E$68&\"'\"&\"!$B$6:$G$57\"),MATCH($B30,INDIRECT(\"'\"&E$68&\"'\"&\"!$B$6:$B$57\"),0),MATCH(Results!$C$15,INDIRECT(\"'\"&E$68&\"'\"&\"!$B$6:$G$6\"),0))","v":0},{"$f":"INDEX(INDIRECT(\"'\"&F$68&\"'\"&\"!$B$6:$G$57\"),MATCH($B30,INDIRECT(\"'\"&F$68&\"'\"&\"!$B$6:$B$57\"),0),MATCH(Results!$C$15,INDIRECT(\"'\"&F$68&\"'\"&\"!$B$6:$G$6\"),0))","v":3600},{"$f":"INDEX(INDIRECT(\"'\"&G$68&\"'\"&\"!$B$6:$G$57\"),MATCH($B30,INDIRECT(\"'\"&G$68&\"'\"&\"!$B$6:$B$57\"),0),MATCH(Results!$C$15,INDIRECT(\"'\"&G$68&\"'\"&\"!$B$6:$G$6\"),0))","v":3900},{"$f":"INDEX(INDIRECT(\"'\"&H$68&\"'\"&\"!$B$6:$G$57\"),MATCH($B30,INDIRECT(\"'\"&H$68&\"'\"&\"!$B$6:$B$57\"),0),MATCH(Results!$C$15,INDIRECT(\"'\"&H$68&\"'\"&\"!$B$6:$G$6\"),0))","v":5300},{"$f":"INDEX(INDIRECT(\"'\"&I$68&\"'\"&\"!$B$6:$G$57\"),MATCH($B30,INDIRECT(\"'\"&I$68&\"'\"&\"!$B$6:$B$57\"),0),MATCH(Results!$C$15,INDIRECT(\"'\"&I$68&\"'\"&\"!$B$6:$G$6\"),0))","v":0}]
[null,"4-Not_Asked (smoker)",{"$f":"INDEX(INDIRECT(\"'\"&C$68&\"'\"&\"!$B$6:$G$57\"),MATCH($B31,INDIRECT(\"'\"&C$68&\"'\"&\"!$B$6:$B$57\"),0),MATCH(Results!$C$15,INDIRECT(\"'\"&C$68&\"'\"&\"!$B$6:$G$6\"),0))","v":56000},{"$f":"INDEX(INDIRECT(\"'\"&D$68&\"'\"&\"!$B$6:$G$57\"),MATCH($B31,INDIRECT(\"'\"&D$68&\"'\"&\"!$B$6:$B$57\"),0),MATCH(Results!$C$15,INDIRECT(\"'\"&D$68&\"'\"&\"!$B$6:$G$6\"),0))","v":21500},{"$f":"INDEX(INDIRECT(\"'\"&E$68&\"'\"&\"!$B$6:$G$57\"),MATCH($B31,INDIRECT(\"'\"&E$68&\"'\"&\"!$B$6:$B$57\"),0),MATCH(Results!$C$15,INDIRECT(\"'\"&E$68&\"'\"&\"!$B$6:$G$6\"),0))","v":20000},{"$f":"INDEX(INDIRECT(\"'\"&F$68&\"'\"&\"!$B$6:$G$57\"),MATCH($B31,INDIRECT(\"'\"&F$68&\"'\"&\"!$B$6:$B$57\"),0),MATCH(Results!$C$15,INDIRECT(\"'\"&F$68&\"'\"&\"!$B$6:$G$6\"),0))","v":13000},{"$f":"INDEX(INDIRECT(\"'\"&G$68&\"'\"&\"!$B$6:$G$57\"),MATCH($B31,INDIRECT(\"'\"&G$68&\"'\"&\"!$B$6:$B$57\"),0),MATCH(Results!$C$15,INDIRECT(\"'\"&G$68&\"'\"&\"!$B$6:$G$6\"),0))","v":7200},{"$f":"INDEX(INDIRECT(\"'\"&H$68&\"'\"&\"!$B$6:$G$57\"),MATCH($B31,INDIRECT(\"'\"&H$68&\"'\"&\"!$B$6:$B$57\"),0),MATCH(Results!$C$15,INDIRECT(\"'\"&H$68&\"'\"&\"!$B$6:$G$6\"),0))","v":4300},{"$f":"INDEX(INDIRECT(\"'\"&I$68&\"'\"&\"!$B$6:$G$57\"),MATCH($B31,INDIRECT(\"'\"&I$68&\"'\"&\"!$B$6:$B$57\"),0),MATCH(Results!$C$15,INDIRECT(\"'\"&I$68&\"'\"&\"!$B$6:$G$6\"),0))","v":158000}]
[null,"1-Married (marital status)",{"$f":"INDEX(INDIRECT(\"'\"&C$68&\"'\"&\"!$B$6:$G$57\"),MATCH($B32,INDIRECT(\"'\"&C$68&\"'\"&\"!$B$6:$B$57\"),0),MATCH(Results!$C$15,INDIRECT(\"'\"&C$68&\"'\"&\"!$B$6:$G$6\"),0))","v":33000},{"$f":"INDEX(INDIRECT(\"'\"&D$68&\"'\"&\"!$B$6:$G$57\"),MATCH($B32,INDIRECT(\"'\"&D$68&\"'\"&\"!$B$6:$B$57\"),0),MATCH(Results!$C$15,INDIRECT(\"'\"&D$68&\"'\"&\"!$B$6:$G$6\"),0))","v":12500},{"$f":"INDEX(INDIRECT(\"'\"&E$68&\"'\"&\"!$B$6:$G$57\"),MATCH($B32,INDIRECT(\"'\"&E$68&\"'\"&\"!$B$6:$B$57\"),0),MATCH(Results!$C$15,INDIRECT(\"'\"&E$68&\"'\"&\"!$B$6:$G$6\"),0))","v":11500},{"$f":"INDEX(INDIRECT(\"'\"&F$68&\"'\"&\"!$B$6:$G$57\"),MATCH($B32,INDIRECT(\"'\"&F$68&\"'\"&\"!$B$6:$B$57\"),0),MATCH(Results!$C$15,INDIRECT(\"'\"&F$68&\"'\"&\"!$B$6:$G$6\"),0))","v":12000},{"$f":"INDEX(INDIRECT(\"'\"&G$68&\"'\"&\"!$B$6:$G$57\"),MATCH($B32,INDIRECT(\"'\"&G$68&\"'\"&\"!$B$6:$B$57\"),0),MATCH(Results!$C$15,INDIRECT(\"'\"&G$68&\"'\"&\"!$B$6:$G$6\"),0))","v":9300},{"$f":"INDEX(INDIRECT(\"'\"&H$68&\"'\"&\"!$B$6:$G$57\"),MATCH($B32,INDIRECT(\"'\"&H$68&\"'\"&\"!$B$6:$B$57\"),0),MATCH(Results!$C$15,INDIRECT(\"'\"&H$68&\"'\"&\"!$B$6:$G$6\"),0))","v":9700},{"$f":"INDEX(INDIRECT(\"'\"&I$68&\"'\"&\"!$B$6:$G$57\"),MATCH($B32,INDIRECT(\"'\"&I$68&\"'\"&\"!$B$6:$B$57\"),0),MATCH(Results!$C$15,INDIRECT(\"'\"&I$68&\"'\"&\"!$B$6:$G$6\"),0))","v":120000}]
[null,"2-Widowed    ",{"$f":"INDEX(INDIRECT(\"'\"&C$68&\"'\"&\"!$B$6:$G$57\"),MATCH($B33,INDIRECT(\"'\"&C$68&\"'\"&\"!$B$6:$B$57\"),0),MATCH(Results!$C$15,INDIRECT(\"'\"&C$68&\"'\"&\"!$B$6:$G$6\"),0))","v":15500},{"$f":"INDEX(INDIRECT(\"'\"&D$68&\"'\"&\"!$B$6:$G$57\"),MATCH($B33,INDIRECT(\"'\"&D$68&\"'\"&\"!$B$6:$B$57\"),0),MATCH(Results!$C$15,INDIRECT(\"'\"&D$68&\"'\"&\"!$B$6:$G$6\"),0))","v":6200},{"$f":"INDEX(INDIRECT(\"'\"&E$68&\"'\"&\"!$B$6:$G$57\"),MATCH($B33,INDIRECT(\"'\"&E$68&\"'\"&\"!$B$6:$B$57\"),0),MATCH(Results!$C$15,INDIRECT(\"'\"&E$68&\"'\"&\"!$B$6:$G$6\"),0))","v":5700},{"$f":"INDEX(INDIRECT(\"'\"&F$68&\"'\"&\"!$B$6:$G$57\"),MATCH($B33,INDIRECT(\"'\"&F$68&\"'\"&\"!$B$6:$B$57\"),0),MATCH(Results!$C$15,INDIRECT(\"'\"&F$68&\"'\"&\"!$B$6:$G$6\"),0))","v":6800},{"$f":"INDEX(INDIRECT(\"'\"&G$68&\"'\"&\"!$B$6:$G$57\"),MATCH($B33,INDIRECT(\"'\"&G$68&\"'\"&\"!$B$6:$B$57\"),0),MATCH(Results!$C$15,INDIRECT(\"'\"&G$68&\"'\"&\"!$B$6:$G$6\"),0))","v":5300},{"$f":"INDEX(INDIRECT(\"'\"&H$68&\"'\"&\"!$B$6:$G$57\"),MATCH($B33,INDIRECT(\"'\"&H$68&\"'\"&\"!$B$6:$B$57\"),0),MATCH(Results!$C$15,INDIRECT(\"'\"&H$68&\"'\"&\"!$B$6:$G$6\"),0))","v":5400},{"$f":"INDEX(INDIRECT(\"'\"&I$68&\"'\"&\"!$B$6:$G$57\"),MATCH($B33,INDIRECT(\"'\"&I$68&\"'\"&\"!$B$6:$B$57\"),0),MATCH(Results!$C$15,INDIRECT(\"'\"&I$68&\"'\"&\"!$B$6:$G$6\"),0))","v":22000}]
[null,"3-Divorced   ",{"$f":"INDEX(INDIRECT(\"'\"&C$68&\"'\"&\"!$B$6:$G$57\"),MATCH($B34,INDIRECT(\"'\"&C$68&\"'\"&\"!$B$6:$B$57\"),0),MATCH(Results!$C$15,INDIRECT(\"'\"&C$68&\"'\"&\"!$B$6:$G$6\"),0))","v":3100},{"$f":"INDEX(INDIRECT(\"'\"&D$68&\"'\"&\"!$B$6:$G$57\"),MATCH($B34,INDIRECT(\"'\"&D$68&\"'\"&\"!$B$6:$B$57\"),0),MATCH(Results!$C$15,INDIRECT(\"'\"&D$68&\"'\"&\"!$B$6:$G$6\"),0))","v":1300},{"$f":"INDEX(INDIRECT(\"'\"&E$68&\"'\"&\"!$B$6:$G$57\"),MATCH($B34,INDIRECT(\"'\"&E$68&\"'\"&\"!$B$6:$B$57\"),0),MATCH(Results!$C$15,INDIRECT(\"'\"&E$68&\"'\"&\"!$B$6:$G$6\"),0))","v":1400},{"$f":"INDEX(INDIRECT(\"'\"&F$68&\"'\"&\"!$B$6:$G$57\"),MATCH($B34,INDIRECT(\"'\"&F$68&\"'\"&\"!$B$6:$B$57\"),0),MATCH(Results!$C$15,INDIRECT(\"'\"&F$68&\"'\"&\"!$B$6:$G$6\"),0))","v":1800},{"$f":"INDEX(INDIRECT(\"'\"&G$68&\"'\"&\"!$B$6:$G$57\"),MATCH($B34,INDIRECT(\"'\"&G$68&\"'\"&\"!$B$6:$B$57\"),0),MATCH(Results!$C$15,INDIRECT(\"'\"&G$68&\"'\"&\"!$B$6:$G$6\"),0))","v":1700},{"$f":"INDEX(INDIRECT(\"'\"&H$68&\"'\"&\"!$B$6:$G$57\"),MATCH($B34,INDIRECT(\"'\"&H$68&\"'\"&\"!$B$6:$B$57\"),0),MATCH(Results!$C$15,INDIRECT(\"'\"&H$68&\"'\"&\"!$B$6:$G$6\"),0))","v":2100},{"$f":"INDEX(INDIRECT(\"'\"&I$68&\"'\"&\"!$B$6:$G$57\"),MATCH($B34,INDIRECT(\"'\"&I$68&\"'\"&\"!$B$6:$B$57\"),0),MATCH(Results!$C$15,INDIRECT(\"'\"&I$68&\"'\"&\"!$B$6:$G$6\"),0))","v":8800}]
[null,"4-Separated  ",{"$f":"INDEX(INDIRECT(\"'\"&C$68&\"'\"&\"!$B$6:$G$57\"),MATCH($B35,INDIRECT(\"'\"&C$68&\"'\"&\"!$B$6:$B$57\"),0),MATCH(Results!$C$15,INDIRECT(\"'\"&C$68&\"'\"&\"!$B$6:$G$6\"),0))","v":1000},{"$f":"INDEX(INDIRECT(\"'\"&D$68&\"'\"&\"!$B$6:$G$57\"),MATCH($B35,INDIRECT(\"'\"&D$68&\"'\"&\"!$B$6:$B$57\"),0),MATCH(Results!$C$15,INDIRECT(\"'\"&D$68&\"'\"&\"!$B$6:$G$6\"),0))","v":350},{"$f":"INDEX(INDIRECT(\"'\"&E$68&\"'\"&\"!$B$6:$G$57\"),MATCH($B35,INDIRECT(\"'\"&E$68&\"'\"&\"!$B$6:$B$57\"),0),MATCH(Results!$C$15,INDIRECT(\"'\"&E$68&\"'\"&\"!$B$6:$G$6\"),0))","v":350},{"$f":"INDEX(INDIRECT(\"'\"&F$68&\"'\"&\"!$B$6:$G$57\"),MATCH($B35,INDIRECT(\"'\"&F$68&\"'\"&\"!$B$6:$B$57\"),0),MATCH(Results!$C$15,INDIRECT(\"'\"&F$68&\"'\"&\"!$B$6:$G$6\"),0))","v":400},{"$f":"INDEX(INDIRECT(\"'\"&G$68&\"'\"&\"!$B$6:$G$57\"),MATCH($B35,INDIRECT(\"'\"&G$68&\"'\"&\"!$B$6:$B$57\"),0),MATCH(Results!$C$15,INDIRECT(\"'\"&G$68&\"'\"&\"!$B$6:$G$6\"),0))","v":300},{"$f":"INDEX(INDIRECT(\"'\"&H$68&\"'\"&\"!$B$6:$G$57\"),MATCH($B35,INDIRECT(\"'\"&H$68&\"'\"&\"!$B$6:$B$57\"),0),MATCH(Results!$C$15,INDIRECT(\"'\"&H$68&\"'\"&\"!$B$6:$G$6\"),0))","v":300},{"$f":"INDEX(INDIRECT(\"'\"&I$68&\"'\"&\"!$B$6:$G$57\"),MATCH($B35,INDIRECT(\"'\"&I$68&\"'\"&\"!$B$6:$B$57\"),0),MATCH(Results!$C$15,INDIRECT(\"'\"&I$68&\"'\"&\"!$B$6:$G$6\"),0))","v":1400}]
[null,"5-NeverMar.  ",{"$f":"INDEX(INDIRECT(\"'\"&C$68&\"'\"&\"!$B$6:$G$57\"),MATCH($B36,INDIRECT(\"'\"&C$68&\"'\"&\"!$B$6:$B$57\"),0),MATCH(Results!$C$15,INDIRECT(\"'\"&C$68&\"'\"&\"!$B$6:$G$6\"),0))","v":3300},{"$f":"INDEX(INDIRECT(\"'\"&D$68&\"'\"&\"!$B$6:$G$57\"),MATCH($B36,INDIRECT(\"'\"&D$68&\"'\"&\"!$B$6:$B$57\"),0),MATCH(Results!$C$15,INDIRECT(\"'\"&D$68&\"'\"&\"!$B$6:$G$6\"),0))","v":1300},{"$f":"INDEX(INDIRECT(\"'\"&E$68&\"'\"&\"!$B$6:$G$57\"),MATCH($B36,INDIRECT(\"'\"&E$68&\"'\"&\"!$B$6:$B$57\"),0),MATCH(Results!$C$15,INDIRECT(\"'\"&E$68&\"'\"&\"!$B$6:$G$6\"),0))","v":1100},{"$f":"INDEX(INDIRECT(\"'\"&F$68&\"'\"&\"!$B$6:$G$57\"),MATCH($B36,INDIRECT(\"'\"&F$68&\"'\"&\"!$B$6:$B$57\"),0),MATCH(Results!$C$15,INDIRECT(\"'\"&F$68&\"'\"&\"!$B$6:$G$6\"),0))","v":1300},{"$f":"INDEX(INDIRECT(\"'\"&G$68&\"'\"&\"!$B$6:$G$57\"),MATCH($B36,INDIRECT(\"'\"&G$68&\"'\"&\"!$B$6:$B$57\"),0),MATCH(Results!$C$15,INDIRECT(\"'\"&G$68&\"'\"&\"!$B$6:$G$6\"),0))","v":1000},{"$f":"INDEX(INDIRECT(\"'\"&H$68&\"'\"&\"!$B$6:$G$57\"),MATCH($B36,INDIRECT(\"'\"&H$68&\"'\"&\"!$B$6:$B$57\"),0),MATCH(Results!$C$15,INDIRECT(\"'\"&H$68&\"'\"&\"!$B$6:$G$6\"),0))","v":1200},{"$f":"INDEX(INDIRECT(\"'\"&I$68&\"'\"&\"!$B$6:$G$57\"),MATCH($B36,INDIRECT(\"'\"&I$68&\"'\"&\"!$B$6:$B$57\"),0),MATCH(Results!$C$15,INDIRECT(\"'\"&I$68&\"'\"&\"!$B$6:$G$6\"),0))","v":5400}]
[null,"1-Lowest inc.  ",{"$f":"INDEX(INDIRECT(\"'\"&C$68&\"'\"&\"!$B$6:$G$57\"),MATCH($B37,INDIRECT(\"'\"&C$68&\"'\"&\"!$B$6:$B$57\"),0),MATCH(Results!$C$15,INDIRECT(\"'\"&C$68&\"'\"&\"!$B$6:$G$6\"),0))","v":13000},{"$f":"INDEX(INDIRECT(\"'\"&D$68&\"'\"&\"!$B$6:$G$57\"),MATCH($B37,INDIRECT(\"'\"&D$68&\"'\"&\"!$B$6:$B$57\"),0),MATCH(Results!$C$15,INDIRECT(\"'\"&D$68&\"'\"&\"!$B$6:$G$6\"),0))","v":3700},{"$f":"INDEX(INDIRECT(\"'\"&E$68&\"'\"&\"!$B$6:$G$57\"),MATCH($B37,INDIRECT(\"'\"&E$68&\"'\"&\"!$B$6:$B$57\"),0),MATCH(Results!$C$15,INDIRECT(\"'\"&E$68&\"'\"&\"!$B$6:$G$6\"),0))","v":3300},{"$f":"INDEX(INDIRECT(\"'\"&F$68&\"'\"&\"!$B$6:$G$57\"),MATCH($B37,INDIRECT(\"'\"&F$68&\"'\"&\"!$B$6:$B$57\"),0),MATCH(Results!$C$15,INDIRECT(\"'\"&F$68&\"'\"&\"!$B$6:$G$6\"),0))","v":4200},{"$f":"INDEX(INDIRECT(\"'\"&G$68&\"'\"&\"!$B$6:$G$57\"),MATCH($B37,INDIRECT(\"'\"&G$68&\"'\"&\"!$B$6:$B$57\"),0),MATCH(Results!$C$15,INDIRECT(\"'\"&G$68&\"'\"&\"!$B$6:$G$6\"),0))","v":3000},{"$f":"INDEX(INDIRECT(\"'\"&H$68&\"'\"&\"!$B$6:$G$57\"),MATCH($B37,INDIRECT(\"'\"&H$68&\"'\"&\"!$B$6:$B$57\"),0),MATCH(Results!$C$15,INDIRECT(\"'\"&H$68&\"'\"&\"!$B$6:$G$6\"),0))","v":3100},{"$f":"INDEX(INDIRECT(\"'\"&I$68&\"'\"&\"!$B$6:$G$57\"),MATCH($B37,INDIRECT(\"'\"&I$68&\"'\"&\"!$B$6:$B$57\"),0),MATCH(Results!$C$15,INDIRECT(\"'\"&I$68&\"'\"&\"!$B$6:$G$6\"),0))","v":12500}]
[null,"2-Second dec.  ",{"$f":"INDEX(INDIRECT(\"'\"&C$68&\"'\"&\"!$B$6:$G$57\"),MATCH($B38,INDIRECT(\"'\"&C$68&\"'\"&\"!$B$6:$B$57\"),0),MATCH(Results!$C$15,INDIRECT(\"'\"&C$68&\"'\"&\"!$B$6:$G$6\"),0))","v":14500},{"$f":"INDEX(INDIRECT(\"'\"&D$68&\"'\"&\"!$B$6:$G$57\"),MATCH($B38,INDIRECT(\"'\"&D$68&\"'\"&\"!$B$6:$B$57\"),0),MATCH(Results!$C$15,INDIRECT(\"'\"&D$68&\"'\"&\"!$B$6:$G$6\"),0))","v":4000},{"$f":"INDEX(INDIRECT(\"'\"&E$68&\"'\"&\"!$B$6:$G$57\"),MATCH($B38,INDIRECT(\"'\"&E$68&\"'\"&\"!$B$6:$B$57\"),0),MATCH(Results!$C$15,INDIRECT(\"'\"&E$68&\"'\"&\"!$B$6:$G$6\"),0))","v":3700},{"$f":"INDEX(INDIRECT(\"'\"&F$68&\"'\"&\"!$B$6:$G$57\"),MATCH($B38,INDIRECT(\"'\"&F$68&\"'\"&\"!$B$6:$B$57\"),0),MATCH(Results!$C$15,INDIRECT(\"'\"&F$68&\"'\"&\"!$B$6:$G$6\"),0))","v":4400},{"$f":"INDEX(INDIRECT(\"'\"&G$68&\"'\"&\"!$B$6:$G$57\"),MATCH($B38,INDIRECT(\"'\"&G$68&\"'\"&\"!$B$6:$B$57\"),0),MATCH(Results!$C$15,INDIRECT(\"'\"&G$68&\"'\"&\"!$B$6:$G$6\"),0))","v":3400},{"$f":"INDEX(INDIRECT(\"'\"&H$68&\"'\"&\"!$B$6:$G$57\"),MATCH($B38,INDIRECT(\"'\"&H$68&\"'\"&\"!$B$6:$B$57\"),0),MATCH(Results!$C$15,INDIRECT(\"'\"&H$68&\"'\"&\"!$B$6:$G$6\"),0))","v":3600},{"$f":"INDEX(INDIRECT(\"'\"&I$68&\"'\"&\"!$B$6:$G$57\"),MATCH($B38,INDIRECT(\"'\"&I$68&\"'\"&\"!$B$6:$B$57\"),0),MATCH(Results!$C$15,INDIRECT(\"'\"&I$68&\"'\"&\"!$B$6:$G$6\"),0))","v":25500}]
[null,"3-Third dec.   ",{"$f":"INDEX(INDIRECT(\"'\"&C$68&\"'\"&\"!$B$6:$G$57\"),MATCH($B39,INDIRECT(\"'\"&C$68&\"'\"&\"!$B$6:$B$57\"),0),MATCH(Results!$C$15,INDIRECT(\"'\"&C$68&\"'\"&\"!$B$6:$G$6\"),0))","v":5700},{"$f":"INDEX(INDIRECT(\"'\"&D$68&\"'\"&\"!$B$6:$G$57\"),MATCH($B39,INDIRECT(\"'\"&D$68&\"'\"&\"!$B$6:$B$57\"),0),MATCH(Results!$C$15,INDIRECT(\"'\"&D$68&\"'\"&\"!$B$6:$G$6\"),0))","v":3200},{"$f":"INDEX(INDIRECT(\"'\"&E$68&\"'\"&\"!$B$6:$G$57\"),MATCH($B39,INDIRECT(\"'\"&E$68&\"'\"&\"!$B$6:$B$57\"),0),MATCH(Results!$C$15,INDIRECT(\"'\"&E$68&\"'\"&\"!$B$6:$G$6\"),0))","v":3000},{"$f":"INDEX(INDIRECT(\"'\"&F$68&\"'\"&\"!$B$6:$G$57\"),MATCH($B39,INDIRECT(\"'\"&F$68&\"'\"&\"!$B$6:$B$57\"),0),MATCH(Results!$C$15,INDIRECT(\"'\"&F$68&\"'\"&\"!$B$6:$G$6\"),0))","v":3500},{"$f":"INDEX(INDIRECT(\"'\"&G$68&\"'\"&\"!$B$6:$G$57\"),MATCH($B39,INDIRECT(\"'\"&G$68&\"'\"&\"!$B$6:$B$57\"),0),MATCH(Results!$C$15,INDIRECT(\"'\"&G$68&\"'\"&\"!$B$6:$G$6\"),0))","v":2700},{"$f":"INDEX(INDIRECT(\"'\"&H$68&\"'\"&\"!$B$6:$G$57\"),MATCH($B39,INDIRECT(\"'\"&H$68&\"'\"&\"!$B$6:$B$57\"),0),MATCH(Results!$C$15,INDIRECT(\"'\"&H$68&\"'\"&\"!$B$6:$G$6\"),0))","v":2700},{"$f":"INDEX(INDIRECT(\"'\"&I$68&\"'\"&\"!$B$6:$G$57\"),MATCH($B39,INDIRECT(\"'\"&I$68&\"'\"&\"!$B$6:$B$57\"),0),MATCH(Results!$C$15,INDIRECT(\"'\"&I$68&\"'\"&\"!$B$6:$G$6\"),0))","v":25500}]
[null,"4-Fourth dec.  ",{"$f":"INDEX(INDIRECT(\"'\"&C$68&\"'\"&\"!$B$6:$G$57\"),MATCH($B40,INDIRECT(\"'\"&C$68&\"'\"&\"!$B$6:$B$57\"),0),MATCH(Results!$C$15,INDIRECT(\"'\"&C$68&\"'\"&\"!$B$6:$G$6\"),0))","v":5400},{"$f":"INDEX(INDIRECT(\"'\"&D$68&\"'\"&\"!$B$6:$G$57\"),MATCH($B40,INDIRECT(\"'\"&D$68&\"'\"&\"!$B$6:$B$57\"),0),MATCH(Results!$C$15,INDIRECT(\"'\"&D$68&\"'\"&\"!$B$6:$G$6\"),0))","v":2600},{"$f":"INDEX(INDIRECT(\"'\"&E$68&\"'\"&\"!$B$6:$G$57\"),MATCH($B40,INDIRECT(\"'\"&E$68&\"'\"&\"!$B$6:$B$57\"),0),MATCH(Results!$C$15,INDIRECT(\"'\"&E$68&\"'\"&\"!$B$6:$G$6\"),0))","v":2300},{"$f":"INDEX(INDIRECT(\"'\"&F$68&\"'\"&\"!$B$6:$G$57\"),MATCH($B40,INDIRECT(\"'\"&F$68&\"'\"&\"!$B$6:$B$57\"),0),MATCH(Results!$C$15,INDIRECT(\"'\"&F$68&\"'\"&\"!$B$6:$G$6\"),0))","v":2600},{"$f":"INDEX(INDIRECT(\"'\"&G$68&\"'\"&\"!$B$6:$G$57\"),MATCH($B40,INDIRECT(\"'\"&G$68&\"'\"&\"!$B$6:$B$57\"),0),MATCH(Results!$C$15,INDIRECT(\"'\"&G$68&\"'\"&\"!$B$6:$G$6\"),0))","v":2000},{"$f":"INDEX(INDIRECT(\"'\"&H$68&\"'\"&\"!$B$6:$G$57\"),MATCH($B40,INDIRECT(\"'\"&H$68&\"'\"&\"!$B$6:$B$57\"),0),MATCH(Results!$C$15,INDIRECT(\"'\"&H$68&\"'\"&\"!$B$6:$G$6\"),0))","v":2200},{"$f":"INDEX(INDIRECT(\"'\"&I$68&\"'\"&\"!$B$6:$G$57\"),MATCH($B40,INDIRECT(\"'\"&I$68&\"'\"&\"!$B$6:$B$57\"),0),MATCH(Results!$C$15,INDIRECT(\"'\"&I$68&\"'\"&\"!$B$6:$G$6\"),0))","v":23000}]
[null,"5-Fifth dec.   ",{"$f":"INDEX(INDIRECT(\"'\"&C$68&\"'\"&\"!$B$6:$G$57\"),MATCH($B41,INDIRECT(\"'\"&C$68&\"'\"&\"!$B$6:$B$57\"),0),MATCH(Results!$C$15,INDIRECT(\"'\"&C$68&\"'\"&\"!$B$6:$G$6\"),0))","v":5200},{"$f":"INDEX(INDIRECT(\"'\"&D$68&\"'\"&\"!$B$6:$G$57\"),MATCH($B41,INDIRECT(\"'\"&D$68&\"'\"&\"!$B$6:$B$57\"),0),MATCH(Results!$C$15,INDIRECT(\"'\"&D$68&\"'\"&\"!$B$6:$G$6\"),0))","v":1900},{"$f":"INDEX(INDIRECT(\"'\"&E$68&\"'\"&\"!$B$6:$G$57\"),MATCH($B41,INDIRECT(\"'\"&E$68&\"'\"&\"!$B$6:$B$57\"),0),MATCH(Results!$C$15,INDIRECT(\"'\"&E$68&\"'\"&\"!$B$6:$G$6\"),0))","v":1800},{"$f":"INDEX(INDIRECT(\"'\"&F$68&\"'\"&\"!$B$6:$G$57\"),MATCH($B41,INDIRECT(\"'\"&F$68&\"'\"&\"!$B$6:$B$57\"),0),MATCH(Results!$C$15,INDIRECT(\"'\"&F$68&\"'\"&\"!$B$6:$G$6\"),0))","v":2000},{"$f":"INDEX(INDIRECT(\"'\"&G$68&\"'\"&\"!$B$6:$G$57\"),MATCH($B41,INDIRECT(\"'\"&G$68&\"'\"&\"!$B$6:$B$57\"),0),MATCH(Results!$C$15,INDIRECT(\"'\"&G$68&\"'\"&\"!$B$6:$G$6\"),0))","v":1500},{"$f":"INDEX(INDIRECT(\"'\"&H$68&\"'\"&\"!$B$6:$G$57\"),MATCH($B41,INDIRECT(\"'\"&H$68&\"'\"&\"!$B$6:$B$57\"),0),MATCH(Results!$C$15,INDIRECT(\"'\"&H$68&\"'\"&\"!$B$6:$G$6\"),0))","v":1700},{"$f":"INDEX(INDIRECT(\"'\"&I$68&\"'\"&\"!$B$6:$G$57\"),MATCH($B41,INDIRECT(\"'\"&I$68&\"'\"&\"!$B$6:$B$57\"),0),MATCH(Results!$C$15,INDIRECT(\"'\"&I$68&\"'\"&\"!$B$6:$G$6\"),0))","v":18500}]
[null,"6-Sixth dec.   ",{"$f":"INDEX(INDIRECT(\"'\"&C$68&\"'\"&\"!$B$6:$G$57\"),MATCH($B42,INDIRECT(\"'\"&C$68&\"'\"&\"!$B$6:$B$57\"),0),MATCH(Results!$C$15,INDIRECT(\"'\"&C$68&\"'\"&\"!$B$6:$G$6\"),0))","v":4200},{"$f":"INDEX(INDIRECT(\"'\"&D$68&\"'\"&\"!$B$6:$G$57\"),MATCH($B42,INDIRECT(\"'\"&D$68&\"'\"&\"!$B$6:$B$57\"),0),MATCH(Results!$C$15,INDIRECT(\"'\"&D$68&\"'\"&\"!$B$6:$G$6\"),0))","v":1600},{"$f":"INDEX(INDIRECT(\"'\"&E$68&\"'\"&\"!$B$6:$G$57\"),MATCH($B42,INDIRECT(\"'\"&E$68&\"'\"&\"!$B$6:$B$57\"),0),MATCH(Results!$C$15,INDIRECT(\"'\"&E$68&\"'\"&\"!$B$6:$G$6\"),0))","v":1600},{"$f":"INDEX(INDIRECT(\"'\"&F$68&\"'\"&\"!$B$6:$G$57\"),MATCH($B42,INDIRECT(\"'\"&F$68&\"'\"&\"!$B$6:$B$57\"),0),MATCH(Results!$C$15,INDIRECT(\"'\"&F$68&\"'\"&\"!$B$6:$G$6\"),0))","v":1500},{"$f":"INDEX(INDIRECT(\"'\"&G$68&\"'\"&\"!$B$6:$G$57\"),MATCH($B42,INDIRECT(\"'\"&G$68&\"'\"&\"!$B$6:$B$57\"),0),MATCH(Results!$C$15,INDIRECT(\"'\"&G$68&\"'\"&\"!$B$6:$G$6\"),0))","v":1300},{"$f":"INDEX(INDIRECT(\"'\"&H$68&\"'\"&\"!$B$6:$G$57\"),MATCH($B42,INDIRECT(\"'\"&H$68&\"'\"&\"!$B$6:$B$57\"),0),MATCH(Results!$C$15,INDIRECT(\"'\"&H$68&\"'\"&\"!$B$6:$G$6\"),0))","v":1200},{"$f":"INDEX(INDIRECT(\"'\"&I$68&\"'\"&\"!$B$6:$G$57\"),MATCH($B42,INDIRECT(\"'\"&I$68&\"'\"&\"!$B$6:$B$57\"),0),MATCH(Results!$C$15,INDIRECT(\"'\"&I$68&\"'\"&\"!$B$6:$G$6\"),0))","v":14500}]
[null,"7-Seventh dec. ",{"$f":"INDEX(INDIRECT(\"'\"&C$68&\"'\"&\"!$B$6:$G$57\"),MATCH($B43,INDIRECT(\"'\"&C$68&\"'\"&\"!$B$6:$B$57\"),0),MATCH(Results!$C$15,INDIRECT(\"'\"&C$68&\"'\"&\"!$B$6:$G$6\"),0))","v":1100},{"$f":"INDEX(INDIRECT(\"'\"&D$68&\"'\"&\"!$B$6:$G$57\"),MATCH($B43,INDIRECT(\"'\"&D$68&\"'\"&\"!$B$6:$B$57\"),0),MATCH(Results!$C$15,INDIRECT(\"'\"&D$68&\"'\"&\"!$B$6:$G$6\"),0))","v":1500},{"$f":"INDEX(INDIRECT(\"'\"&E$68&\"'\"&\"!$B$6:$G$57\"),MATCH($B43,INDIRECT(\"'\"&E$68&\"'\"&\"!$B$6:$B$57\"),0),MATCH(Results!$C$15,INDIRECT(\"'\"&E$68&\"'\"&\"!$B$6:$G$6\"),0))","v":1300},{"$f":"INDEX(INDIRECT(\"'\"&F$68&\"'\"&\"!$B$6:$G$57\"),MATCH($B43,INDIRECT(\"'\"&F$68&\"'\"&\"!$B$6:$B$57\"),0),MATCH(Results!$C$15,INDIRECT(\"'\"&F$68&\"'\"&\"!$B$6:$G$6\"),0))","v":1300},{"$f":"INDEX(INDIRECT(\"'\"&G$68&\"'\"&\"!$B$6:$G$57\"),MATCH($B43,INDIRECT(\"'\"&G$68&\"'\"&\"!$B$6:$B$57\"),0),MATCH(Results!$C$15,INDIRECT(\"'\"&G$68&\"'\"&\"!$B$6:$G$6\"),0))","v":1100},{"$f":"INDEX(INDIRECT(\"'\"&H$68&\"'\"&\"!$B$6:$G$57\"),MATCH($B43,INDIRECT(\"'\"&H$68&\"'\"&\"!$B$6:$B$57\"),0),MATCH(Results!$C$15,INDIRECT(\"'\"&H$68&\"'\"&\"!$B$6:$G$6\"),0))","v":1200},{"$f":"INDEX(INDIRECT(\"'\"&I$68&\"'\"&\"!$B$6:$G$57\"),MATCH($B43,INDIRECT(\"'\"&I$68&\"'\"&\"!$B$6:$B$57\"),0),MATCH(Results!$C$15,INDIRECT(\"'\"&I$68&\"'\"&\"!$B$6:$G$6\"),0))","v":13000}]
[null,"8-Eighth dec.  ",{"$f":"INDEX(INDIRECT(\"'\"&C$68&\"'\"&\"!$B$6:$G$57\"),MATCH($B44,INDIRECT(\"'\"&C$68&\"'\"&\"!$B$6:$B$57\"),0),MATCH(Results!$C$15,INDIRECT(\"'\"&C$68&\"'\"&\"!$B$6:$G$6\"),0))","v":4700},{"$f":"INDEX(INDIRECT(\"'\"&D$68&\"'\"&\"!$B$6:$G$57\"),MATCH($B44,INDIRECT(\"'\"&D$68&\"'\"&\"!$B$6:$B$57\"),0),MATCH(Results!$C$15,INDIRECT(\"'\"&D$68&\"'\"&\"!$B$6:$G$6\"),0))","v":1100},{"$f":"INDEX(INDIRECT(\"'\"&E$68&\"'\"&\"!$B$6:$G$57\"),MATCH($B44,INDIRECT(\"'\"&E$68&\"'\"&\"!$B$6:$B$57\"),0),MATCH(Results!$C$15,INDIRECT(\"'\"&E$68&\"'\"&\"!$B$6:$G$6\"),0))","v":1000},{"$f":"INDEX(INDIRECT(\"'\"&F$68&\"'\"&\"!$B$6:$G$57\"),MATCH($B44,INDIRECT(\"'\"&F$68&\"'\"&\"!$B$6:$B$57\"),0),MATCH(Results!$C$15,INDIRECT(\"'\"&F$68&\"'\"&\"!$B$6:$G$6\"),0))","v":1000},{"$f":"INDEX(INDIRECT(\"'\"&G$68&\"'\"&\"!$B$6:$G$57\"),MATCH($B44,INDIRECT(\"'\"&G$68&\"'\"&\"!$B$6:$B$57\"),0),MATCH(Results!$C$15,INDIRECT(\"'\"&G$68&\"'\"&\"!$B$6:$G$6\"),0))","v":800},{"$f":"INDEX(INDIRECT(\"'\"&H$68&\"'\"&\"!$B$6:$G$57\"),MATCH($B44,INDIRECT(\"'\"&H$68&\"'\"&\"!$B$6:$B$57\"),0),MATCH(Results!$C$15,INDIRECT(\"'\"&H$68&\"'\"&\"!$B$6:$G$6\"),0))","v":900},{"$f":"INDEX(INDIRECT(\"'\"&I$68&\"'\"&\"!$B$6:$G$57\"),MATCH($B44,INDIRECT(\"'\"&I$68&\"'\"&\"!$B$6:$B$57\"),0),MATCH(Results!$C$15,INDIRECT(\"'\"&I$68&\"'\"&\"!$B$6:$G$6\"),0))","v":8900}]
[null,"9-Ninth dec.   ",{"$f":"INDEX(INDIRECT(\"'\"&C$68&\"'\"&\"!$B$6:$G$57\"),MATCH($B45,INDIRECT(\"'\"&C$68&\"'\"&\"!$B$6:$B$57\"),0),MATCH(Results!$C$15,INDIRECT(\"'\"&C$68&\"'\"&\"!$B$6:$G$6\"),0))","v":800},{"$f":"INDEX(INDIRECT(\"'\"&D$68&\"'\"&\"!$B$6:$G$57\"),MATCH($B45,INDIRECT(\"'\"&D$68&\"'\"&\"!$B$6:$B$57\"),0),MATCH(Results!$C$15,INDIRECT(\"'\"&D$68&\"'\"&\"!$B$6:$G$6\"),0))","v":1200},{"$f":"INDEX(INDIRECT(\"'\"&E$68&\"'\"&\"!$B$6:$G$57\"),MATCH($B45,INDIRECT(\"'\"&E$68&\"'\"&\"!$B$6:$B$57\"),0),MATCH(Results!$C$15,INDIRECT(\"'\"&E$68&\"'\"&\"!$B$6:$G$6\"),0))","v":1100},{"$f":"INDEX(INDIRECT(\"'\"&F$68&\"'\"&\"!$B$6:$G$57\"),MATCH($B45,INDIRECT(\"'\"&F$68&\"'\"&\"!$B$6:$B$57\"),0),MATCH(Results!$C$15,INDIRECT(\"'\"&F$68&\"'\"&\"!$B$6:$G$6\"),0))","v":1000},{"$f":"INDEX(INDIRECT(\"'\"&G$68&\"'\"&\"!$B$6:$G$57\"),MATCH($B45,INDIRECT(\"'\"&G$68&\"'\"&\"!$B$6:$B$57\"),0),MATCH(Results!$C$15,INDIRECT(\"'\"&G$68&\"'\"&\"!$B$6:$G$6\"),0))","v":900},{"$f":"INDEX(INDIRECT(\"'\"&H$68&\"'\"&\"!$B$6:$G$57\"),MATCH($B45,INDIRECT(\"'\"&H$68&\"'\"&\"!$B$6:$B$57\"),0),MATCH(Results!$C$15,INDIRECT(\"'\"&H$68&\"'\"&\"!$B$6:$G$6\"),0))","v":1000},{"$f":"INDEX(INDIRECT(\"'\"&I$68&\"'\"&\"!$B$6:$G$57\"),MATCH($B45,INDIRECT(\"'\"&I$68&\"'\"&\"!$B$6:$B$57\"),0),MATCH(Results!$C$15,INDIRECT(\"'\"&I$68&\"'\"&\"!$B$6:$G$6\"),0))","v":8700}]
[null,"10-Highest dec. (family income in 2008$)",{"$f":"INDEX(INDIRECT(\"'\"&C$68&\"'\"&\"!$B$6:$G$57\"),MATCH($B46,INDIRECT(\"'\"&C$68&\"'\"&\"!$B$6:$B$57\"),0),MATCH(Results!$C$15,INDIRECT(\"'\"&C$68&\"'\"&\"!$B$6:$G$6\"),0))","v":1500},{"$f":"INDEX(INDIRECT(\"'\"&D$68&\"'\"&\"!$B$6:$G$57\"),MATCH($B46,INDIRECT(\"'\"&D$68&\"'\"&\"!$B$6:$B$57\"),0),MATCH(Results!$C$15,INDIRECT(\"'\"&D$68&\"'\"&\"!$B$6:$G$6\"),0))","v":950},{"$f":"INDEX(INDIRECT(\"'\"&E$68&\"'\"&\"!$B$6:$G$57\"),MATCH($B46,INDIRECT(\"'\"&E$68&\"'\"&\"!$B$6:$B$57\"),0),MATCH(Results!$C$15,INDIRECT(\"'\"&E$68&\"'\"&\"!$B$6:$G$6\"),0))","v":900},{"$f":"INDEX(INDIRECT(\"'\"&F$68&\"'\"&\"!$B$6:$G$57\"),MATCH($B46,INDIRECT(\"'\"&F$68&\"'\"&\"!$B$6:$B$57\"),0),MATCH(Results!$C$15,INDIRECT(\"'\"&F$68&\"'\"&\"!$B$6:$G$6\"),0))","v":950},{"$f":"INDEX(INDIRECT(\"'\"&G$68&\"'\"&\"!$B$6:$G$57\"),MATCH($B46,INDIRECT(\"'\"&G$68&\"'\"&\"!$B$6:$B$57\"),0),MATCH(Results!$C$15,INDIRECT(\"'\"&G$68&\"'\"&\"!$B$6:$G$6\"),0))","v":800},{"$f":"INDEX(INDIRECT(\"'\"&H$68&\"'\"&\"!$B$6:$G$57\"),MATCH($B46,INDIRECT(\"'\"&H$68&\"'\"&\"!$B$6:$B$57\"),0),MATCH(Results!$C$15,INDIRECT(\"'\"&H$68&\"'\"&\"!$B$6:$G$6\"),0))","v":1000},{"$f":"INDEX(INDIRECT(\"'\"&I$68&\"'\"&\"!$B$6:$G$57\"),MATCH($B46,INDIRECT(\"'\"&I$68&\"'\"&\"!$B$6:$B$57\"),0),MATCH(Results!$C$15,INDIRECT(\"'\"&I$68&\"'\"&\"!$B$6:$G$6\"),0))","v":7800}]
[null,"1-Dropout      ",{"$f":"INDEX(INDIRECT(\"'\"&C$68&\"'\"&\"!$B$6:$G$57\"),MATCH($B47,INDIRECT(\"'\"&C$68&\"'\"&\"!$B$6:$B$57\"),0),MATCH(Results!$C$15,INDIRECT(\"'\"&C$68&\"'\"&\"!$B$6:$G$6\"),0))","v":31500},{"$f":"INDEX(INDIRECT(\"'\"&D$68&\"'\"&\"!$B$6:$G$57\"),MATCH($B47,INDIRECT(\"'\"&D$68&\"'\"&\"!$B$6:$B$57\"),0),MATCH(Results!$C$15,INDIRECT(\"'\"&D$68&\"'\"&\"!$B$6:$G$6\"),0))","v":11000},{"$f":"INDEX(INDIRECT(\"'\"&E$68&\"'\"&\"!$B$6:$G$57\"),MATCH($B47,INDIRECT(\"'\"&E$68&\"'\"&\"!$B$6:$B$57\"),0),MATCH(Results!$C$15,INDIRECT(\"'\"&E$68&\"'\"&\"!$B$6:$G$6\"),0))","v":9000},{"$f":"INDEX(INDIRECT(\"'\"&F$68&\"'\"&\"!$B$6:$G$57\"),MATCH($B47,INDIRECT(\"'\"&F$68&\"'\"&\"!$B$6:$B$57\"),0),MATCH(Results!$C$15,INDIRECT(\"'\"&F$68&\"'\"&\"!$B$6:$G$6\"),0))","v":9200},{"$f":"INDEX(INDIRECT(\"'\"&G$68&\"'\"&\"!$B$6:$G$57\"),MATCH($B47,INDIRECT(\"'\"&G$68&\"'\"&\"!$B$6:$B$57\"),0),MATCH(Results!$C$15,INDIRECT(\"'\"&G$68&\"'\"&\"!$B$6:$G$6\"),0))","v":6300},{"$f":"INDEX(INDIRECT(\"'\"&H$68&\"'\"&\"!$B$6:$G$57\"),MATCH($B47,INDIRECT(\"'\"&H$68&\"'\"&\"!$B$6:$B$57\"),0),MATCH(Results!$C$15,INDIRECT(\"'\"&H$68&\"'\"&\"!$B$6:$G$6\"),0))","v":6000},{"$f":"INDEX(INDIRECT(\"'\"&I$68&\"'\"&\"!$B$6:$G$57\"),MATCH($B47,INDIRECT(\"'\"&I$68&\"'\"&\"!$B$6:$B$57\"),0),MATCH(Results!$C$15,INDIRECT(\"'\"&I$68&\"'\"&\"!$B$6:$G$6\"),0))","v":41000}]
[null,"2-H.S.Diploma (education)      ",{"$f":"INDEX(INDIRECT(\"'\"&C$68&\"'\"&\"!$B$6:$G$57\"),MATCH($B48,INDIRECT(\"'\"&C$68&\"'\"&\"!$B$6:$B$57\"),0),MATCH(Results!$C$15,INDIRECT(\"'\"&C$68&\"'\"&\"!$B$6:$G$6\"),0))","v":14500},{"$f":"INDEX(INDIRECT(\"'\"&D$68&\"'\"&\"!$B$6:$G$57\"),MATCH($B48,INDIRECT(\"'\"&D$68&\"'\"&\"!$B$6:$B$57\"),0),MATCH(Results!$C$15,INDIRECT(\"'\"&D$68&\"'\"&\"!$B$6:$G$6\"),0))","v":6500},{"$f":"INDEX(INDIRECT(\"'\"&E$68&\"'\"&\"!$B$6:$G$57\"),MATCH($B48,INDIRECT(\"'\"&E$68&\"'\"&\"!$B$6:$B$57\"),0),MATCH(Results!$C$15,INDIRECT(\"'\"&E$68&\"'\"&\"!$B$6:$G$6\"),0))","v":6600},{"$f":"INDEX(INDIRECT(\"'\"&F$68&\"'\"&\"!$B$6:$G$57\"),MATCH($B48,INDIRECT(\"'\"&F$68&\"'\"&\"!$B$6:$B$57\"),0),MATCH(Results!$C$15,INDIRECT(\"'\"&F$68&\"'\"&\"!$B$6:$G$6\"),0))","v":7300},{"$f":"INDEX(INDIRECT(\"'\"&G$68&\"'\"&\"!$B$6:$G$57\"),MATCH($B48,INDIRECT(\"'\"&G$68&\"'\"&\"!$B$6:$B$57\"),0),MATCH(Results!$C$15,INDIRECT(\"'\"&G$68&\"'\"&\"!$B$6:$G$6\"),0))","v":6000},{"$f":"INDEX(INDIRECT(\"'\"&H$68&\"'\"&\"!$B$6:$G$57\"),MATCH($B48,INDIRECT(\"'\"&H$68&\"'\"&\"!$B$6:$B$57\"),0),MATCH(Results!$C$15,INDIRECT(\"'\"&H$68&\"'\"&\"!$B$6:$G$6\"),0))","v":6600},{"$f":"INDEX(INDIRECT(\"'\"&I$68&\"'\"&\"!$B$6:$G$57\"),MATCH($B48,INDIRECT(\"'\"&I$68&\"'\"&\"!$B$6:$B$57\"),0),MATCH(Results!$C$15,INDIRECT(\"'\"&I$68&\"'\"&\"!$B$6:$G$6\"),0))","v":57500}]
[null,"3-SomeColl/AA  ",{"$f":"INDEX(INDIRECT(\"'\"&C$68&\"'\"&\"!$B$6:$G$57\"),MATCH($B49,INDIRECT(\"'\"&C$68&\"'\"&\"!$B$6:$B$57\"),0),MATCH(Results!$C$15,INDIRECT(\"'\"&C$68&\"'\"&\"!$B$6:$G$6\"),0))","v":5100},{"$f":"INDEX(INDIRECT(\"'\"&D$68&\"'\"&\"!$B$6:$G$57\"),MATCH($B49,INDIRECT(\"'\"&D$68&\"'\"&\"!$B$6:$B$57\"),0),MATCH(Results!$C$15,INDIRECT(\"'\"&D$68&\"'\"&\"!$B$6:$G$6\"),0))","v":2200},{"$f":"INDEX(INDIRECT(\"'\"&E$68&\"'\"&\"!$B$6:$G$57\"),MATCH($B49,INDIRECT(\"'\"&E$68&\"'\"&\"!$B$6:$B$57\"),0),MATCH(Results!$C$15,INDIRECT(\"'\"&E$68&\"'\"&\"!$B$6:$G$6\"),0))","v":2200},{"$f":"INDEX(INDIRECT(\"'\"&F$68&\"'\"&\"!$B$6:$G$57\"),MATCH($B49,INDIRECT(\"'\"&F$68&\"'\"&\"!$B$6:$B$57\"),0),MATCH(Results!$C$15,INDIRECT(\"'\"&F$68&\"'\"&\"!$B$6:$G$6\"),0))","v":3500},{"$f":"INDEX(INDIRECT(\"'\"&G$68&\"'\"&\"!$B$6:$G$57\"),MATCH($B49,INDIRECT(\"'\"&G$68&\"'\"&\"!$B$6:$B$57\"),0),MATCH(Results!$C$15,INDIRECT(\"'\"&G$68&\"'\"&\"!$B$6:$G$6\"),0))","v":3000},{"$f":"INDEX(INDIRECT(\"'\"&H$68&\"'\"&\"!$B$6:$G$57\"),MATCH($B49,INDIRECT(\"'\"&H$68&\"'\"&\"!$B$6:$B$57\"),0),MATCH(Results!$C$15,INDIRECT(\"'\"&H$68&\"'\"&\"!$B$6:$G$6\"),0))","v":3500},{"$f":"INDEX(INDIRECT(\"'\"&I$68&\"'\"&\"!$B$6:$G$57\"),MATCH($B49,INDIRECT(\"'\"&I$68&\"'\"&\"!$B$6:$B$57\"),0),MATCH(Results!$C$15,INDIRECT(\"'\"&I$68&\"'\"&\"!$B$6:$G$6\"),0))","v":35500}]
[null,"4-4yr.Degree   ",{"$f":"INDEX(INDIRECT(\"'\"&C$68&\"'\"&\"!$B$6:$G$57\"),MATCH($B50,INDIRECT(\"'\"&C$68&\"'\"&\"!$B$6:$B$57\"),0),MATCH(Results!$C$15,INDIRECT(\"'\"&C$68&\"'\"&\"!$B$6:$G$6\"),0))","v":2800},{"$f":"INDEX(INDIRECT(\"'\"&D$68&\"'\"&\"!$B$6:$G$57\"),MATCH($B50,INDIRECT(\"'\"&D$68&\"'\"&\"!$B$6:$B$57\"),0),MATCH(Results!$C$15,INDIRECT(\"'\"&D$68&\"'\"&\"!$B$6:$G$6\"),0))","v":1200},{"$f":"INDEX(INDIRECT(\"'\"&E$68&\"'\"&\"!$B$6:$G$57\"),MATCH($B50,INDIRECT(\"'\"&E$68&\"'\"&\"!$B$6:$B$57\"),0),MATCH(Results!$C$15,INDIRECT(\"'\"&E$68&\"'\"&\"!$B$6:$G$6\"),0))","v":1200},{"$f":"INDEX(INDIRECT(\"'\"&F$68&\"'\"&\"!$B$6:$G$57\"),MATCH($B50,INDIRECT(\"'\"&F$68&\"'\"&\"!$B$6:$B$57\"),0),MATCH(Results!$C$15,INDIRECT(\"'\"&F$68&\"'\"&\"!$B$6:$G$6\"),0))","v":1600},{"$f":"INDEX(INDIRECT(\"'\"&G$68&\"'\"&\"!$B$6:$G$57\"),MATCH($B50,INDIRECT(\"'\"&G$68&\"'\"&\"!$B$6:$B$57\"),0),MATCH(Results!$C$15,INDIRECT(\"'\"&G$68&\"'\"&\"!$B$6:$G$6\"),0))","v":1500},{"$f":"INDEX(INDIRECT(\"'\"&H$68&\"'\"&\"!$B$6:$G$57\"),MATCH($B50,INDIRECT(\"'\"&H$68&\"'\"&\"!$B$6:$B$57\"),0),MATCH(Results!$C$15,INDIRECT(\"'\"&H$68&\"'\"&\"!$B$6:$G$6\"),0))","v":1700},{"$f":"INDEX(INDIRECT(\"'\"&I$68&\"'\"&\"!$B$6:$G$57\"),MATCH($B50,INDIRECT(\"'\"&I$68&\"'\"&\"!$B$6:$B$57\"),0),MATCH(Results!$C$15,INDIRECT(\"'\"&I$68&\"'\"&\"!$B$6:$G$6\"),0))","v":15500}]
[null,"5-Grad.Degree  ",{"$f":"INDEX(INDIRECT(\"'\"&C$68&\"'\"&\"!$B$6:$G$57\"),MATCH($B51,INDIRECT(\"'\"&C$68&\"'\"&\"!$B$6:$B$57\"),0),MATCH(Results!$C$15,INDIRECT(\"'\"&C$68&\"'\"&\"!$B$6:$G$6\"),0))","v":1800},{"$f":"INDEX(INDIRECT(\"'\"&D$68&\"'\"&\"!$B$6:$G$57\"),MATCH($B51,INDIRECT(\"'\"&D$68&\"'\"&\"!$B$6:$B$57\"),0),MATCH(Results!$C$15,INDIRECT(\"'\"&D$68&\"'\"&\"!$B$6:$G$6\"),0))","v":800},{"$f":"INDEX(INDIRECT(\"'\"&E$68&\"'\"&\"!$B$6:$G$57\"),MATCH($B51,INDIRECT(\"'\"&E$68&\"'\"&\"!$B$6:$B$57\"),0),MATCH(Results!$C$15,INDIRECT(\"'\"&E$68&\"'\"&\"!$B$6:$G$6\"),0))","v":900},{"$f":"INDEX(INDIRECT(\"'\"&F$68&\"'\"&\"!$B$6:$G$57\"),MATCH($B51,INDIRECT(\"'\"&F$68&\"'\"&\"!$B$6:$B$57\"),0),MATCH(Results!$C$15,INDIRECT(\"'\"&F$68&\"'\"&\"!$B$6:$G$6\"),0))","v":950},{"$f":"INDEX(INDIRECT(\"'\"&G$68&\"'\"&\"!$B$6:$G$57\"),MATCH($B51,INDIRECT(\"'\"&G$68&\"'\"&\"!$B$6:$B$57\"),0),MATCH(Results!$C$15,INDIRECT(\"'\"&G$68&\"'\"&\"!$B$6:$G$6\"),0))","v":800},{"$f":"INDEX(INDIRECT(\"'\"&H$68&\"'\"&\"!$B$6:$G$57\"),MATCH($B51,INDIRECT(\"'\"&H$68&\"'\"&\"!$B$6:$B$57\"),0),MATCH(Results!$C$15,INDIRECT(\"'\"&H$68&\"'\"&\"!$B$6:$G$6\"),0))","v":950},{"$f":"INDEX(INDIRECT(\"'\"&I$68&\"'\"&\"!$B$6:$G$57\"),MATCH($B51,INDIRECT(\"'\"&I$68&\"'\"&\"!$B$6:$B$57\"),0),MATCH(Results!$C$15,INDIRECT(\"'\"&I$68&\"'\"&\"!$B$6:$G$6\"),0))","v":8000}]
[null,"1-White NH (ethnic/race)     ",{"$f":"INDEX(INDIRECT(\"'\"&C$68&\"'\"&\"!$B$6:$G$57\"),MATCH($B52,INDIRECT(\"'\"&C$68&\"'\"&\"!$B$6:$B$57\"),0),MATCH(Results!$C$15,INDIRECT(\"'\"&C$68&\"'\"&\"!$B$6:$G$6\"),0))","v":47000},{"$f":"INDEX(INDIRECT(\"'\"&D$68&\"'\"&\"!$B$6:$G$57\"),MATCH($B52,INDIRECT(\"'\"&D$68&\"'\"&\"!$B$6:$B$57\"),0),MATCH(Results!$C$15,INDIRECT(\"'\"&D$68&\"'\"&\"!$B$6:$G$6\"),0))","v":9800},{"$f":"INDEX(INDIRECT(\"'\"&E$68&\"'\"&\"!$B$6:$G$57\"),MATCH($B52,INDIRECT(\"'\"&E$68&\"'\"&\"!$B$6:$B$57\"),0),MATCH(Results!$C$15,INDIRECT(\"'\"&E$68&\"'\"&\"!$B$6:$G$6\"),0))","v":16500},{"$f":"INDEX(INDIRECT(\"'\"&F$68&\"'\"&\"!$B$6:$G$57\"),MATCH($B52,INDIRECT(\"'\"&F$68&\"'\"&\"!$B$6:$B$57\"),0),MATCH(Results!$C$15,INDIRECT(\"'\"&F$68&\"'\"&\"!$B$6:$G$6\"),0))","v":18000},{"$f":"INDEX(INDIRECT(\"'\"&G$68&\"'\"&\"!$B$6:$G$57\"),MATCH($B52,INDIRECT(\"'\"&G$68&\"'\"&\"!$B$6:$B$57\"),0),MATCH(Results!$C$15,INDIRECT(\"'\"&G$68&\"'\"&\"!$B$6:$G$6\"),0))","v":14000},{"$f":"INDEX(INDIRECT(\"'\"&H$68&\"'\"&\"!$B$6:$G$57\"),MATCH($B52,INDIRECT(\"'\"&H$68&\"'\"&\"!$B$6:$B$57\"),0),MATCH(Results!$C$15,INDIRECT(\"'\"&H$68&\"'\"&\"!$B$6:$G$6\"),0))","v":14000},{"$f":"INDEX(INDIRECT(\"'\"&I$68&\"'\"&\"!$B$6:$G$57\"),MATCH($B52,INDIRECT(\"'\"&I$68&\"'\"&\"!$B$6:$B$57\"),0),MATCH(Results!$C$15,INDIRECT(\"'\"&I$68&\"'\"&\"!$B$6:$G$6\"),0))","v":130000}]
[null,"2-Black NH     ",{"$f":"INDEX(INDIRECT(\"'\"&C$68&\"'\"&\"!$B$6:$G$57\"),MATCH($B53,INDIRECT(\"'\"&C$68&\"'\"&\"!$B$6:$B$57\"),0),MATCH(Results!$C$15,INDIRECT(\"'\"&C$68&\"'\"&\"!$B$6:$G$6\"),0))","v":5500},{"$f":"INDEX(INDIRECT(\"'\"&D$68&\"'\"&\"!$B$6:$G$57\"),MATCH($B53,INDIRECT(\"'\"&D$68&\"'\"&\"!$B$6:$B$57\"),0),MATCH(Results!$C$15,INDIRECT(\"'\"&D$68&\"'\"&\"!$B$6:$G$6\"),0))","v":1200},{"$f":"INDEX(INDIRECT(\"'\"&E$68&\"'\"&\"!$B$6:$G$57\"),MATCH($B53,INDIRECT(\"'\"&E$68&\"'\"&\"!$B$6:$B$57\"),0),MATCH(Results!$C$15,INDIRECT(\"'\"&E$68&\"'\"&\"!$B$6:$G$6\"),0))","v":1600},{"$f":"INDEX(INDIRECT(\"'\"&F$68&\"'\"&\"!$B$6:$G$57\"),MATCH($B53,INDIRECT(\"'\"&F$68&\"'\"&\"!$B$6:$B$57\"),0),MATCH(Results!$C$15,INDIRECT(\"'\"&F$68&\"'\"&\"!$B$6:$G$6\"),0))","v":2000},{"$f":"INDEX(INDIRECT(\"'\"&G$68&\"'\"&\"!$B$6:$G$57\"),MATCH($B53,INDIRECT(\"'\"&G$68&\"'\"&\"!$B$6:$B$57\"),0),MATCH(Results!$C$15,INDIRECT(\"'\"&G$68&\"'\"&\"!$B$6:$G$6\"),0))","v":1500},{"$f":"INDEX(INDIRECT(\"'\"&H$68&\"'\"&\"!$B$6:$G$57\"),MATCH($B53,INDIRECT(\"'\"&H$68&\"'\"&\"!$B$6:$B$57\"),0),MATCH(Results!$C$15,INDIRECT(\"'\"&H$68&\"'\"&\"!$B$6:$G$6\"),0))","v":2000},{"$f":"INDEX(INDIRECT(\"'\"&I$68&\"'\"&\"!$B$6:$G$57\"),MATCH($B53,INDIRECT(\"'\"&I$68&\"'\"&\"!$B$6:$B$57\"),0),MATCH(Results!$C$15,INDIRECT(\"'\"&I$68&\"'\"&\"!$B$6:$G$6\"),0))","v":12500}]
[null,"3-Asian NH     ",{"$f":"INDEX(INDIRECT(\"'\"&C$68&\"'\"&\"!$B$6:$G$57\"),MATCH($B54,INDIRECT(\"'\"&C$68&\"'\"&\"!$B$6:$B$57\"),0),MATCH(Results!$C$15,INDIRECT(\"'\"&C$68&\"'\"&\"!$B$6:$G$6\"),0))","v":550},{"$f":"INDEX(INDIRECT(\"'\"&D$68&\"'\"&\"!$B$6:$G$57\"),MATCH($B54,INDIRECT(\"'\"&D$68&\"'\"&\"!$B$6:$B$57\"),0),MATCH(Results!$C$15,INDIRECT(\"'\"&D$68&\"'\"&\"!$B$6:$G$6\"),0))","v":100},{"$f":"INDEX(INDIRECT(\"'\"&E$68&\"'\"&\"!$B$6:$G$57\"),MATCH($B54,INDIRECT(\"'\"&E$68&\"'\"&\"!$B$6:$B$57\"),0),MATCH(Results!$C$15,INDIRECT(\"'\"&E$68&\"'\"&\"!$B$6:$G$6\"),0))","v":200},{"$f":"INDEX(INDIRECT(\"'\"&F$68&\"'\"&\"!$B$6:$G$57\"),MATCH($B54,INDIRECT(\"'\"&F$68&\"'\"&\"!$B$6:$B$57\"),0),MATCH(Results!$C$15,INDIRECT(\"'\"&F$68&\"'\"&\"!$B$6:$G$6\"),0))","v":250},{"$f":"INDEX(INDIRECT(\"'\"&G$68&\"'\"&\"!$B$6:$G$57\"),MATCH($B54,INDIRECT(\"'\"&G$68&\"'\"&\"!$B$6:$B$57\"),0),MATCH(Results!$C$15,INDIRECT(\"'\"&G$68&\"'\"&\"!$B$6:$G$6\"),0))","v":250},{"$f":"INDEX(INDIRECT(\"'\"&H$68&\"'\"&\"!$B$6:$G$57\"),MATCH($B54,INDIRECT(\"'\"&H$68&\"'\"&\"!$B$6:$B$57\"),0),MATCH(Results!$C$15,INDIRECT(\"'\"&H$68&\"'\"&\"!$B$6:$G$6\"),0))","v":400},{"$f":"INDEX(INDIRECT(\"'\"&I$68&\"'\"&\"!$B$6:$G$57\"),MATCH($B54,INDIRECT(\"'\"&I$68&\"'\"&\"!$B$6:$B$57\"),0),MATCH(Results!$C$15,INDIRECT(\"'\"&I$68&\"'\"&\"!$B$6:$G$6\"),0))","v":4800}]
[null,"4-Hispanic     ",{"$f":"INDEX(INDIRECT(\"'\"&C$68&\"'\"&\"!$B$6:$G$57\"),MATCH($B55,INDIRECT(\"'\"&C$68&\"'\"&\"!$B$6:$B$57\"),0),MATCH(Results!$C$15,INDIRECT(\"'\"&C$68&\"'\"&\"!$B$6:$G$6\"),0))","v":1400},{"$f":"INDEX(INDIRECT(\"'\"&D$68&\"'\"&\"!$B$6:$G$57\"),MATCH($B55,INDIRECT(\"'\"&D$68&\"'\"&\"!$B$6:$B$57\"),0),MATCH(Results!$C$15,INDIRECT(\"'\"&D$68&\"'\"&\"!$B$6:$G$6\"),0))","v":850},{"$f":"INDEX(INDIRECT(\"'\"&E$68&\"'\"&\"!$B$6:$G$57\"),MATCH($B55,INDIRECT(\"'\"&E$68&\"'\"&\"!$B$6:$B$57\"),0),MATCH(Results!$C$15,INDIRECT(\"'\"&E$68&\"'\"&\"!$B$6:$G$6\"),0))","v":900},{"$f":"INDEX(INDIRECT(\"'\"&F$68&\"'\"&\"!$B$6:$G$57\"),MATCH($B55,INDIRECT(\"'\"&F$68&\"'\"&\"!$B$6:$B$57\"),0),MATCH(Results!$C$15,INDIRECT(\"'\"&F$68&\"'\"&\"!$B$6:$G$6\"),0))","v":1200},{"$f":"INDEX(INDIRECT(\"'\"&G$68&\"'\"&\"!$B$6:$G$57\"),MATCH($B55,INDIRECT(\"'\"&G$68&\"'\"&\"!$B$6:$B$57\"),0),MATCH(Results!$C$15,INDIRECT(\"'\"&G$68&\"'\"&\"!$B$6:$G$6\"),0))","v":1100},{"$f":"INDEX(INDIRECT(\"'\"&H$68&\"'\"&\"!$B$6:$G$57\"),MATCH($B55,INDIRECT(\"'\"&H$68&\"'\"&\"!$B$6:$B$57\"),0),MATCH(Results!$C$15,INDIRECT(\"'\"&H$68&\"'\"&\"!$B$6:$G$6\"),0))","v":1400},{"$f":"INDEX(INDIRECT(\"'\"&I$68&\"'\"&\"!$B$6:$G$57\"),MATCH($B55,INDIRECT(\"'\"&I$68&\"'\"&\"!$B$6:$B$57\"),0),MATCH(Results!$C$15,INDIRECT(\"'\"&I$68&\"'\"&\"!$B$6:$G$6\"),0))","v":8400}]
[null,"5-Other NH     ",{"$f":"INDEX(INDIRECT(\"'\"&C$68&\"'\"&\"!$B$6:$G$57\"),MATCH($B56,INDIRECT(\"'\"&C$68&\"'\"&\"!$B$6:$B$57\"),0),MATCH(Results!$C$15,INDIRECT(\"'\"&C$68&\"'\"&\"!$B$6:$G$6\"),0))","v":1400},{"$f":"INDEX(INDIRECT(\"'\"&D$68&\"'\"&\"!$B$6:$G$57\"),MATCH($B56,INDIRECT(\"'\"&D$68&\"'\"&\"!$B$6:$B$57\"),0),MATCH(Results!$C$15,INDIRECT(\"'\"&D$68&\"'\"&\"!$B$6:$G$6\"),0))","v":9700},{"$f":"INDEX(INDIRECT(\"'\"&E$68&\"'\"&\"!$B$6:$G$57\"),MATCH($B56,INDIRECT(\"'\"&E$68&\"'\"&\"!$B$6:$B$57\"),0),MATCH(Results!$C$15,INDIRECT(\"'\"&E$68&\"'\"&\"!$B$6:$G$6\"),0))","v":1000},{"$f":"INDEX(INDIRECT(\"'\"&F$68&\"'\"&\"!$B$6:$G$57\"),MATCH($B56,INDIRECT(\"'\"&F$68&\"'\"&\"!$B$6:$B$57\"),0),MATCH(Results!$C$15,INDIRECT(\"'\"&F$68&\"'\"&\"!$B$6:$G$6\"),0))","v":950},{"$f":"INDEX(INDIRECT(\"'\"&G$68&\"'\"&\"!$B$6:$G$57\"),MATCH($B56,INDIRECT(\"'\"&G$68&\"'\"&\"!$B$6:$B$57\"),0),MATCH(Results!$C$15,INDIRECT(\"'\"&G$68&\"'\"&\"!$B$6:$G$6\"),0))","v":750},{"$f":"INDEX(INDIRECT(\"'\"&H$68&\"'\"&\"!$B$6:$G$57\"),MATCH($B56,INDIRECT(\"'\"&H$68&\"'\"&\"!$B$6:$B$57\"),0),MATCH(Results!$C$15,INDIRECT(\"'\"&H$68&\"'\"&\"!$B$6:$G$6\"),0))","v":900},{"$f":"INDEX(INDIRECT(\"'\"&I$68&\"'\"&\"!$B$6:$G$57\"),MATCH($B56,INDIRECT(\"'\"&I$68&\"'\"&\"!$B$6:$B$57\"),0),MATCH(Results!$C$15,INDIRECT(\"'\"&I$68&\"'\"&\"!$B$6:$G$6\"),0))","v":2300}]
[null,"1-Employed  (Labor force)",{"$f":"INDEX(INDIRECT(\"'\"&C$68&\"'\"&\"!$B$6:$G$57\"),MATCH($B57,INDIRECT(\"'\"&C$68&\"'\"&\"!$B$6:$B$57\"),0),MATCH(Results!$C$15,INDIRECT(\"'\"&C$68&\"'\"&\"!$B$6:$G$6\"),0))","v":13000},{"$f":"INDEX(INDIRECT(\"'\"&D$68&\"'\"&\"!$B$6:$G$57\"),MATCH($B57,INDIRECT(\"'\"&D$68&\"'\"&\"!$B$6:$B$57\"),0),MATCH(Results!$C$15,INDIRECT(\"'\"&D$68&\"'\"&\"!$B$6:$G$6\"),0))","v":4600},{"$f":"INDEX(INDIRECT(\"'\"&E$68&\"'\"&\"!$B$6:$G$57\"),MATCH($B57,INDIRECT(\"'\"&E$68&\"'\"&\"!$B$6:$B$57\"),0),MATCH(Results!$C$15,INDIRECT(\"'\"&E$68&\"'\"&\"!$B$6:$G$6\"),0))","v":4200},{"$f":"INDEX(INDIRECT(\"'\"&F$68&\"'\"&\"!$B$6:$G$57\"),MATCH($B57,INDIRECT(\"'\"&F$68&\"'\"&\"!$B$6:$B$57\"),0),MATCH(Results!$C$15,INDIRECT(\"'\"&F$68&\"'\"&\"!$B$6:$G$6\"),0))","v":4200},{"$f":"INDEX(INDIRECT(\"'\"&G$68&\"'\"&\"!$B$6:$G$57\"),MATCH($B57,INDIRECT(\"'\"&G$68&\"'\"&\"!$B$6:$B$57\"),0),MATCH(Results!$C$15,INDIRECT(\"'\"&G$68&\"'\"&\"!$B$6:$G$6\"),0))","v":3430},{"$f":"INDEX(INDIRECT(\"'\"&H$68&\"'\"&\"!$B$6:$G$57\"),MATCH($B57,INDIRECT(\"'\"&H$68&\"'\"&\"!$B$6:$B$57\"),0),MATCH(Results!$C$15,INDIRECT(\"'\"&H$68&\"'\"&\"!$B$6:$G$6\"),0))","v":3900},{"$f":"INDEX(INDIRECT(\"'\"&I$68&\"'\"&\"!$B$6:$G$57\"),MATCH($B57,INDIRECT(\"'\"&I$68&\"'\"&\"!$B$6:$B$57\"),0),MATCH(Results!$C$15,INDIRECT(\"'\"&I$68&\"'\"&\"!$B$6:$G$6\"),0))","v":33000}]
[null,"2-Unemployed   ",{"$f":"INDEX(INDIRECT(\"'\"&C$68&\"'\"&\"!$B$6:$G$57\"),MATCH($B58,INDIRECT(\"'\"&C$68&\"'\"&\"!$B$6:$B$57\"),0),MATCH(Results!$C$15,INDIRECT(\"'\"&C$68&\"'\"&\"!$B$6:$G$6\"),0))","v":750},{"$f":"INDEX(INDIRECT(\"'\"&D$68&\"'\"&\"!$B$6:$G$57\"),MATCH($B58,INDIRECT(\"'\"&D$68&\"'\"&\"!$B$6:$B$57\"),0),MATCH(Results!$C$15,INDIRECT(\"'\"&D$68&\"'\"&\"!$B$6:$G$6\"),0))","v":300},{"$f":"INDEX(INDIRECT(\"'\"&E$68&\"'\"&\"!$B$6:$G$57\"),MATCH($B58,INDIRECT(\"'\"&E$68&\"'\"&\"!$B$6:$B$57\"),0),MATCH(Results!$C$15,INDIRECT(\"'\"&E$68&\"'\"&\"!$B$6:$G$6\"),0))","v":200},{"$f":"INDEX(INDIRECT(\"'\"&F$68&\"'\"&\"!$B$6:$G$57\"),MATCH($B58,INDIRECT(\"'\"&F$68&\"'\"&\"!$B$6:$B$57\"),0),MATCH(Results!$C$15,INDIRECT(\"'\"&F$68&\"'\"&\"!$B$6:$G$6\"),0))","v":300},{"$f":"INDEX(INDIRECT(\"'\"&G$68&\"'\"&\"!$B$6:$G$57\"),MATCH($B58,INDIRECT(\"'\"&G$68&\"'\"&\"!$B$6:$B$57\"),0),MATCH(Results!$C$15,INDIRECT(\"'\"&G$68&\"'\"&\"!$B$6:$G$6\"),0))","v":150},{"$f":"INDEX(INDIRECT(\"'\"&H$68&\"'\"&\"!$B$6:$G$57\"),MATCH($B58,INDIRECT(\"'\"&H$68&\"'\"&\"!$B$6:$B$57\"),0),MATCH(Results!$C$15,INDIRECT(\"'\"&H$68&\"'\"&\"!$B$6:$G$6\"),0))","v":200},{"$f":"INDEX(INDIRECT(\"'\"&I$68&\"'\"&\"!$B$6:$G$57\"),MATCH($B58,INDIRECT(\"'\"&I$68&\"'\"&\"!$B$6:$B$57\"),0),MATCH(Results!$C$15,INDIRECT(\"'\"&I$68&\"'\"&\"!$B$6:$G$6\"),0))","v":2100}]
[null,"3-NILF         ",{"$f":"INDEX(INDIRECT(\"'\"&C$68&\"'\"&\"!$B$6:$G$57\"),MATCH($B59,INDIRECT(\"'\"&C$68&\"'\"&\"!$B$6:$B$57\"),0),MATCH(Results!$C$15,INDIRECT(\"'\"&C$68&\"'\"&\"!$B$6:$G$6\"),0))","v":42000},{"$f":"INDEX(INDIRECT(\"'\"&D$68&\"'\"&\"!$B$6:$G$57\"),MATCH($B59,INDIRECT(\"'\"&D$68&\"'\"&\"!$B$6:$B$57\"),0),MATCH(Results!$C$15,INDIRECT(\"'\"&D$68&\"'\"&\"!$B$6:$G$6\"),0))","v":17000},{"$f":"INDEX(INDIRECT(\"'\"&E$68&\"'\"&\"!$B$6:$G$57\"),MATCH($B59,INDIRECT(\"'\"&E$68&\"'\"&\"!$B$6:$B$57\"),0),MATCH(Results!$C$15,INDIRECT(\"'\"&E$68&\"'\"&\"!$B$6:$G$6\"),0))","v":15500},{"$f":"INDEX(INDIRECT(\"'\"&F$68&\"'\"&\"!$B$6:$G$57\"),MATCH($B59,INDIRECT(\"'\"&F$68&\"'\"&\"!$B$6:$B$57\"),0),MATCH(Results!$C$15,INDIRECT(\"'\"&F$68&\"'\"&\"!$B$6:$G$6\"),0))","v":18000},{"$f":"INDEX(INDIRECT(\"'\"&G$68&\"'\"&\"!$B$6:$G$57\"),MATCH($B59,INDIRECT(\"'\"&G$68&\"'\"&\"!$B$6:$B$57\"),0),MATCH(Results!$C$15,INDIRECT(\"'\"&G$68&\"'\"&\"!$B$6:$G$6\"),0))","v":14000},{"$f":"INDEX(INDIRECT(\"'\"&H$68&\"'\"&\"!$B$6:$G$57\"),MATCH($B59,INDIRECT(\"'\"&H$68&\"'\"&\"!$B$6:$B$57\"),0),MATCH(Results!$C$15,INDIRECT(\"'\"&H$68&\"'\"&\"!$B$6:$G$6\"),0))","v":14500},{"$f":"INDEX(INDIRECT(\"'\"&I$68&\"'\"&\"!$B$6:$G$57\"),MATCH($B59,INDIRECT(\"'\"&I$68&\"'\"&\"!$B$6:$B$57\"),0),MATCH(Results!$C$15,INDIRECT(\"'\"&I$68&\"'\"&\"!$B$6:$G$6\"),0))","v":123000}]
[null,"1-Prof./Managerial (occ.)",{"$f":"INDEX(INDIRECT(\"'\"&C$68&\"'\"&\"!$B$6:$G$57\"),MATCH($B60,INDIRECT(\"'\"&C$68&\"'\"&\"!$B$6:$B$57\"),0),MATCH(Results!$C$15,INDIRECT(\"'\"&C$68&\"'\"&\"!$B$6:$G$6\"),0))","v":1500},{"$f":"INDEX(INDIRECT(\"'\"&D$68&\"'\"&\"!$B$6:$G$57\"),MATCH($B60,INDIRECT(\"'\"&D$68&\"'\"&\"!$B$6:$B$57\"),0),MATCH(Results!$C$15,INDIRECT(\"'\"&D$68&\"'\"&\"!$B$6:$G$6\"),0))","v":600},{"$f":"INDEX(INDIRECT(\"'\"&E$68&\"'\"&\"!$B$6:$G$57\"),MATCH($B60,INDIRECT(\"'\"&E$68&\"'\"&\"!$B$6:$B$57\"),0),MATCH(Results!$C$15,INDIRECT(\"'\"&E$68&\"'\"&\"!$B$6:$G$6\"),0))","v":600},{"$f":"INDEX(INDIRECT(\"'\"&F$68&\"'\"&\"!$B$6:$G$57\"),MATCH($B60,INDIRECT(\"'\"&F$68&\"'\"&\"!$B$6:$B$57\"),0),MATCH(Results!$C$15,INDIRECT(\"'\"&F$68&\"'\"&\"!$B$6:$G$6\"),0))","v":600},{"$f":"INDEX(INDIRECT(\"'\"&G$68&\"'\"&\"!$B$6:$G$57\"),MATCH($B60,INDIRECT(\"'\"&G$68&\"'\"&\"!$B$6:$B$57\"),0),MATCH(Results!$C$15,INDIRECT(\"'\"&G$68&\"'\"&\"!$B$6:$G$6\"),0))","v":500},{"$f":"INDEX(INDIRECT(\"'\"&H$68&\"'\"&\"!$B$6:$G$57\"),MATCH($B60,INDIRECT(\"'\"&H$68&\"'\"&\"!$B$6:$B$57\"),0),MATCH(Results!$C$15,INDIRECT(\"'\"&H$68&\"'\"&\"!$B$6:$G$6\"),0))","v":600},{"$f":"INDEX(INDIRECT(\"'\"&I$68&\"'\"&\"!$B$6:$G$57\"),MATCH($B60,INDIRECT(\"'\"&I$68&\"'\"&\"!$B$6:$B$57\"),0),MATCH(Results!$C$15,INDIRECT(\"'\"&I$68&\"'\"&\"!$B$6:$G$6\"),0))","v":8100}]
[null,"2-Sklld/Sales  ",{"$f":"INDEX(INDIRECT(\"'\"&C$68&\"'\"&\"!$B$6:$G$57\"),MATCH($B61,INDIRECT(\"'\"&C$68&\"'\"&\"!$B$6:$B$57\"),0),MATCH(Results!$C$15,INDIRECT(\"'\"&C$68&\"'\"&\"!$B$6:$G$6\"),0))","v":3800},{"$f":"INDEX(INDIRECT(\"'\"&D$68&\"'\"&\"!$B$6:$G$57\"),MATCH($B61,INDIRECT(\"'\"&D$68&\"'\"&\"!$B$6:$B$57\"),0),MATCH(Results!$C$15,INDIRECT(\"'\"&D$68&\"'\"&\"!$B$6:$G$6\"),0))","v":1500},{"$f":"INDEX(INDIRECT(\"'\"&E$68&\"'\"&\"!$B$6:$G$57\"),MATCH($B61,INDIRECT(\"'\"&E$68&\"'\"&\"!$B$6:$B$57\"),0),MATCH(Results!$C$15,INDIRECT(\"'\"&E$68&\"'\"&\"!$B$6:$G$6\"),0))","v":1400},{"$f":"INDEX(INDIRECT(\"'\"&F$68&\"'\"&\"!$B$6:$G$57\"),MATCH($B61,INDIRECT(\"'\"&F$68&\"'\"&\"!$B$6:$B$57\"),0),MATCH(Results!$C$15,INDIRECT(\"'\"&F$68&\"'\"&\"!$B$6:$G$6\"),0))","v":1400},{"$f":"INDEX(INDIRECT(\"'\"&G$68&\"'\"&\"!$B$6:$G$57\"),MATCH($B61,INDIRECT(\"'\"&G$68&\"'\"&\"!$B$6:$B$57\"),0),MATCH(Results!$C$15,INDIRECT(\"'\"&G$68&\"'\"&\"!$B$6:$G$6\"),0))","v":1100},{"$f":"INDEX(INDIRECT(\"'\"&H$68&\"'\"&\"!$B$6:$G$57\"),MATCH($B61,INDIRECT(\"'\"&H$68&\"'\"&\"!$B$6:$B$57\"),0),MATCH(Results!$C$15,INDIRECT(\"'\"&H$68&\"'\"&\"!$B$6:$G$6\"),0))","v":1200},{"$f":"INDEX(INDIRECT(\"'\"&I$68&\"'\"&\"!$B$6:$G$57\"),MATCH($B61,INDIRECT(\"'\"&I$68&\"'\"&\"!$B$6:$B$57\"),0),MATCH(Results!$C$15,INDIRECT(\"'\"&I$68&\"'\"&\"!$B$6:$G$6\"),0))","v":13500}]
[null,"3-BlueCol.Lgt  ",{"$f":"INDEX(INDIRECT(\"'\"&C$68&\"'\"&\"!$B$6:$G$57\"),MATCH($B62,INDIRECT(\"'\"&C$68&\"'\"&\"!$B$6:$B$57\"),0),MATCH(Results!$C$15,INDIRECT(\"'\"&C$68&\"'\"&\"!$B$6:$G$6\"),0))","v":3200},{"$f":"INDEX(INDIRECT(\"'\"&D$68&\"'\"&\"!$B$6:$G$57\"),MATCH($B62,INDIRECT(\"'\"&D$68&\"'\"&\"!$B$6:$B$57\"),0),MATCH(Results!$C$15,INDIRECT(\"'\"&D$68&\"'\"&\"!$B$6:$G$6\"),0))","v":1100},{"$f":"INDEX(INDIRECT(\"'\"&E$68&\"'\"&\"!$B$6:$G$57\"),MATCH($B62,INDIRECT(\"'\"&E$68&\"'\"&\"!$B$6:$B$57\"),0),MATCH(Results!$C$15,INDIRECT(\"'\"&E$68&\"'\"&\"!$B$6:$G$6\"),0))","v":1000},{"$f":"INDEX(INDIRECT(\"'\"&F$68&\"'\"&\"!$B$6:$G$57\"),MATCH($B62,INDIRECT(\"'\"&F$68&\"'\"&\"!$B$6:$B$57\"),0),MATCH(Results!$C$15,INDIRECT(\"'\"&F$68&\"'\"&\"!$B$6:$G$6\"),0))","v":1000},{"$f":"INDEX(INDIRECT(\"'\"&G$68&\"'\"&\"!$B$6:$G$57\"),MATCH($B62,INDIRECT(\"'\"&G$68&\"'\"&\"!$B$6:$B$57\"),0),MATCH(Results!$C$15,INDIRECT(\"'\"&G$68&\"'\"&\"!$B$6:$G$6\"),0))","v":700},{"$f":"INDEX(INDIRECT(\"'\"&H$68&\"'\"&\"!$B$6:$G$57\"),MATCH($B62,INDIRECT(\"'\"&H$68&\"'\"&\"!$B$6:$B$57\"),0),MATCH(Results!$C$15,INDIRECT(\"'\"&H$68&\"'\"&\"!$B$6:$G$6\"),0))","v":900},{"$f":"INDEX(INDIRECT(\"'\"&I$68&\"'\"&\"!$B$6:$G$57\"),MATCH($B62,INDIRECT(\"'\"&I$68&\"'\"&\"!$B$6:$B$57\"),0),MATCH(Results!$C$15,INDIRECT(\"'\"&I$68&\"'\"&\"!$B$6:$G$6\"),0))","v":13500}]
[null,"4-BlueCol.Hvy  ",{"$f":"INDEX(INDIRECT(\"'\"&C$68&\"'\"&\"!$B$6:$G$57\"),MATCH($B63,INDIRECT(\"'\"&C$68&\"'\"&\"!$B$6:$B$57\"),0),MATCH(Results!$C$15,INDIRECT(\"'\"&C$68&\"'\"&\"!$B$6:$G$6\"),0))","v":6500},{"$f":"INDEX(INDIRECT(\"'\"&D$68&\"'\"&\"!$B$6:$G$57\"),MATCH($B63,INDIRECT(\"'\"&D$68&\"'\"&\"!$B$6:$B$57\"),0),MATCH(Results!$C$15,INDIRECT(\"'\"&D$68&\"'\"&\"!$B$6:$G$6\"),0))","v":2100},{"$f":"INDEX(INDIRECT(\"'\"&E$68&\"'\"&\"!$B$6:$G$57\"),MATCH($B63,INDIRECT(\"'\"&E$68&\"'\"&\"!$B$6:$B$57\"),0),MATCH(Results!$C$15,INDIRECT(\"'\"&E$68&\"'\"&\"!$B$6:$G$6\"),0))","v":1800},{"$f":"INDEX(INDIRECT(\"'\"&F$68&\"'\"&\"!$B$6:$G$57\"),MATCH($B63,INDIRECT(\"'\"&F$68&\"'\"&\"!$B$6:$B$57\"),0),MATCH(Results!$C$15,INDIRECT(\"'\"&F$68&\"'\"&\"!$B$6:$G$6\"),0))","v":1600},{"$f":"INDEX(INDIRECT(\"'\"&G$68&\"'\"&\"!$B$6:$G$57\"),MATCH($B63,INDIRECT(\"'\"&G$68&\"'\"&\"!$B$6:$B$57\"),0),MATCH(Results!$C$15,INDIRECT(\"'\"&G$68&\"'\"&\"!$B$6:$G$6\"),0))","v":1200},{"$f":"INDEX(INDIRECT(\"'\"&H$68&\"'\"&\"!$B$6:$G$57\"),MATCH($B63,INDIRECT(\"'\"&H$68&\"'\"&\"!$B$6:$B$57\"),0),MATCH(Results!$C$15,INDIRECT(\"'\"&H$68&\"'\"&\"!$B$6:$G$6\"),0))","v":1300},{"$f":"INDEX(INDIRECT(\"'\"&I$68&\"'\"&\"!$B$6:$G$57\"),MATCH($B63,INDIRECT(\"'\"&I$68&\"'\"&\"!$B$6:$B$57\"),0),MATCH(Results!$C$15,INDIRECT(\"'\"&I$68&\"'\"&\"!$B$6:$G$6\"),0))","v":16500}]
[null,"5-Medical.Occ  ",{"$f":"INDEX(INDIRECT(\"'\"&C$68&\"'\"&\"!$B$6:$G$57\"),MATCH($B64,INDIRECT(\"'\"&C$68&\"'\"&\"!$B$6:$B$57\"),0),MATCH(Results!$C$15,INDIRECT(\"'\"&C$68&\"'\"&\"!$B$6:$G$6\"),0))","v":600},{"$f":"INDEX(INDIRECT(\"'\"&D$68&\"'\"&\"!$B$6:$G$57\"),MATCH($B64,INDIRECT(\"'\"&D$68&\"'\"&\"!$B$6:$B$57\"),0),MATCH(Results!$C$15,INDIRECT(\"'\"&D$68&\"'\"&\"!$B$6:$G$6\"),0))","v":250},{"$f":"INDEX(INDIRECT(\"'\"&E$68&\"'\"&\"!$B$6:$G$57\"),MATCH($B64,INDIRECT(\"'\"&E$68&\"'\"&\"!$B$6:$B$57\"),0),MATCH(Results!$C$15,INDIRECT(\"'\"&E$68&\"'\"&\"!$B$6:$G$6\"),0))","v":200},{"$f":"INDEX(INDIRECT(\"'\"&F$68&\"'\"&\"!$B$6:$G$57\"),MATCH($B64,INDIRECT(\"'\"&F$68&\"'\"&\"!$B$6:$B$57\"),0),MATCH(Results!$C$15,INDIRECT(\"'\"&F$68&\"'\"&\"!$B$6:$G$6\"),0))","v":250},{"$f":"INDEX(INDIRECT(\"'\"&G$68&\"'\"&\"!$B$6:$G$57\"),MATCH($B64,INDIRECT(\"'\"&G$68&\"'\"&\"!$B$6:$B$57\"),0),MATCH(Results!$C$15,INDIRECT(\"'\"&G$68&\"'\"&\"!$B$6:$G$6\"),0))","v":200},{"$f":"INDEX(INDIRECT(\"'\"&H$68&\"'\"&\"!$B$6:$G$57\"),MATCH($B64,INDIRECT(\"'\"&H$68&\"'\"&\"!$B$6:$B$57\"),0),MATCH(Results!$C$15,INDIRECT(\"'\"&H$68&\"'\"&\"!$B$6:$G$6\"),0))","v":250},{"$f":"INDEX(INDIRECT(\"'\"&I$68&\"'\"&\"!$B$6:$G$57\"),MATCH($B64,INDIRECT(\"'\"&I$68&\"'\"&\"!$B$6:$B$57\"),0),MATCH(Results!$C$15,INDIRECT(\"'\"&I$68&\"'\"&\"!$B$6:$G$6\"),0))","v":2800}]
[null,"6-N/A          ",{"$f":"INDEX(INDIRECT(\"'\"&C$68&\"'\"&\"!$B$6:$G$57\"),MATCH($B65,INDIRECT(\"'\"&C$68&\"'\"&\"!$B$6:$B$57\"),0),MATCH(Results!$C$15,INDIRECT(\"'\"&C$68&\"'\"&\"!$B$6:$G$6\"),0))","v":40500},{"$f":"INDEX(INDIRECT(\"'\"&D$68&\"'\"&\"!$B$6:$G$57\"),MATCH($B65,INDIRECT(\"'\"&D$68&\"'\"&\"!$B$6:$B$57\"),0),MATCH(Results!$C$15,INDIRECT(\"'\"&D$68&\"'\"&\"!$B$6:$G$6\"),0))","v":16000},{"$f":"INDEX(INDIRECT(\"'\"&E$68&\"'\"&\"!$B$6:$G$57\"),MATCH($B65,INDIRECT(\"'\"&E$68&\"'\"&\"!$B$6:$B$57\"),0),MATCH(Results!$C$15,INDIRECT(\"'\"&E$68&\"'\"&\"!$B$6:$G$6\"),0))","v":15000},{"$f":"INDEX(INDIRECT(\"'\"&F$68&\"'\"&\"!$B$6:$G$57\"),MATCH($B65,INDIRECT(\"'\"&F$68&\"'\"&\"!$B$6:$B$57\"),0),MATCH(Results!$C$15,INDIRECT(\"'\"&F$68&\"'\"&\"!$B$6:$G$6\"),0))","v":17500},{"$f":"INDEX(INDIRECT(\"'\"&G$68&\"'\"&\"!$B$6:$G$57\"),MATCH($B65,INDIRECT(\"'\"&G$68&\"'\"&\"!$B$6:$B$57\"),0),MATCH(Results!$C$15,INDIRECT(\"'\"&G$68&\"'\"&\"!$B$6:$G$6\"),0))","v":14000},{"$f":"INDEX(INDIRECT(\"'\"&H$68&\"'\"&\"!$B$6:$G$57\"),MATCH($B65,INDIRECT(\"'\"&H$68&\"'\"&\"!$B$6:$B$57\"),0),MATCH(Results!$C$15,INDIRECT(\"'\"&H$68&\"'\"&\"!$B$6:$G$6\"),0))","v":14500},{"$f":"INDEX(INDIRECT(\"'\"&I$68&\"'\"&\"!$B$6:$G$57\"),MATCH($B65,INDIRECT(\"'\"&I$68&\"'\"&\"!$B$6:$B$57\"),0),MATCH(Results!$C$15,INDIRECT(\"'\"&I$68&\"'\"&\"!$B$6:$G$6\"),0))","v":103000}]
[]
[null,"Exposure count (all cause, cancer, and heart)"]
[null,null,"1980-1983","1984-1987","1988-1991","1992-1995","1996-1999","2000-2003","2004-2007","2008-11 (NLMS)","2008-11 (MDAC)"]
[null,"N(n)",{"$f":"'All cause parameters'!C58*Calculation!BK9","v":2772000},{"$f":"'All cause parameters'!D58*Calculation!BL9","v":1078000},{"$f":"'All cause parameters'!E58*Calculation!BM9","v":1001000},{"$f":"'All cause parameters'!F58*Calculation!BN9","v":1254000},{"$f":"'All cause parameters'!G58*Calculation!BO9","v":1166000},{"$f":"'All cause parameters'!H58*Calculation!BP9","v":1425679.9999999998},{"$f":"'All cause parameters'!I58*Calculation!BQ9","v":1206250},{"$f":"'All cause parameters'!J58*Calculation!BR9","v":422619.99999999994},{"$f":"'All cause parameters'!K58*Calculation!BS9","v":11393910}]
[]
[null,"Exposure count (pulmonary and stroke)"]
[null,null,"1980-1983","1984-1987","1988-1991","1992-1995","1996-1999","2000-2003","2008-11 (MDAC)"]
[null,"N(n)",{"$f":"'All cause parameters'!C58*Calculation!BK9","v":2772000},{"$f":"'All cause parameters'!D58*Calculation!BL9","v":1078000},{"$f":"'All cause parameters'!E58*Calculation!BM9","v":1001000},{"$f":"'All cause parameters'!F58*Calculation!BN9","v":1254000},{"$f":"'All cause parameters'!G58*Calculation!BO9","v":1166000},{"$f":"'All cause parameters'!H58*Calculation!BP9","v":1425679.9999999998},{"$f":"'All cause parameters'!K58*Calculation!BS9","v":11393910}]

{"sheet":"Death counts-->","index":15,"n_rows":0,"n_cols":0,"rows_kept":0,"cut":false,"hidden":false,"merged":[]}

{"sheet":"1980-1983","index":16,"n_rows":57,"n_cols":7,"rows_kept":57,"cut":false,"hidden":false,"merged":[]}
[]
["SOA MI Trends"]
["Detailed model parameter results"]
["Regression cohort 1980-1983"]
[]
[null,"Variable","All Cause","Cancer","Heart","Pulmonary","Stroke"]
[null,"All observations",56000,14000,22000,2400,4200]
[null,"age 40-44 ",1500,500,450,30,60]
[null,"age 45-49 ",2200,800,650,50,100]
[null,"age 50-54 ",3600,1300,1100,150,150]
[null,"age 55-59 ",5400,1900,1900,250,200]
[null,"age 60-64",7000,2300,2500,350,400]
[null,"age 65-69 (age group) ",8500,2400,3200,500,600]
[null,"age 70-74 ",8900,2100,3600,500,700]
[null,"age 75-79 ",8300,1500,3500,300,850]
[null,"age 80-84 ",6100,800,2700,150,650]
[null,"age 85+",4400,450,2100,70,550]
[null,"Male (Sex)",29500,7600,11500,1500,1700]
[null,"Female       ",26500,6400,10000,900,2500]
[null,"1-Never  ",0,0,0,0,0]
[null,"2-Current",0,0,0,0,0]
[null,"3-Former ",0,0,0,0,0]
[null,"4-Not_Asked (smoker)",56000,14000,22000,2400,4200]
[null,"1-Married (marital status)",33000,9400,12500,1500,2100]
[null,"2-Widowed    ",15500,2800,6700,550,1600]
[null,"3-Divorced   ",3100,800,1000,200,200]
[null,"4-Separated  ",1000,300,350,60,60]
[null,"5-NeverMar.  ",3300,750,1300,100,250]
[null,"1-Lowest inc.  ",13000,2500,5500,500,1100]
[null,"2-Second dec.  ",14500,3200,5800,700,1200]
[null,"3-Third dec.   ",5700,1400,2200,250,450]
[null,"4-Fourth dec.  ",5400,1400,2000,250,400]
[null,"5-Fifth dec.   ",5200,1500,1900,200,350]
[null,"6-Sixth dec.   ",4200,1300,1500,150,250]
[null,"7-Seventh dec. ",1100,350,400,50,70]
[null,"8-Eighth dec.  ",4700,1600,1700,200,250]
[null,"9-Ninth dec.   ",800,300,250,30,40]
[null,"10-Highest dec. (family income in 2008$)",1500,500,500,40,100]
[null,"1-Dropout      ",31500,7100,13000,1400,2500]
[null,"2-H.S.Diploma (education)      ",14500,4200,5400,650,1000]
[null,"3-SomeColl/AA  ",5100,1400,1900,200,400]
[null,"4-4yr.Degree   ",2800,750,1000,100,200]
[null,"5-Grad.Degree  ",1800,550,600,50,100]
[null,"1-White NH (ethnic/race)     ",47000,12000,18500,2100,3500]
[null,"2-Black NH     ",5500,1400,2000,150,450]
[null,"3-Asian NH     ",550,200,200,20,40]
[null,"4-Hispanic     ",1400,300,500,40,80]
[null,"5-Other NH     ",1400,300,500,60,100]
[null,"1-Employed  (Labor force)",13000,4700,4600,450,600]
[null,"2-Unemployed   ",750,250,250,20,40]
[null,"3-NILF         ",42000,9000,17000,1900,3500]
[null,"1-Prof./Managerial (occ.)",1500,550,550,40,60]
[null,"2-Sklld/Sales  ",3800,1400,1300,150,200]
[null,"3-BlueCol.Lgt  ",3200,1200,1200,100,150]
[null,"4-BlueCol.Hvy  ",6500,2100,2300,200,300]
[null,"5-Medical.Occ  ",600,250,200,20,30]
[null,"6-N/A          ",40500,8600,16500,1800,3400]

{"sheet":"1984-1987","index":17,"n_rows":57,"n_cols":7,"rows_kept":57,"cut":false,"hidden":false,"merged":[]}
[]
["SOA MI Trends"]
["Detailed model parameter results"]
["Regression cohort 1984-1987"]
[]
[null,"Variable","All Cause","Cancer","Heart","Pulmonary","Stroke"]
[null,"All observations",21500,5600,7900,1100,1500]
[null,"age 40-44 ",600,200,150,0,20]
[null,"age 45-49 ",750,250,200,20,20]
[null,"age 50-54 ",1200,450,350,40,60]
[null,"age 55-59 ",1900,700,600,80,80]
[null,"age 60-64",2600,900,850,150,150]
[null,"age 65-69 (age group) ",3300,990,1200,250,200]
[null,"age 70-74 ",3700,950,1400,200,300]
[null,"age 75-79 ",3300,650,1300,150,300]
[null,"age 80-84 ",2500,350,1100,100,250]
[null,"age 85+",1800,200,850,50,200]
[null,"Male (Sex)",11500,3000,4200,600,650]
[null,"Female       ",10500,2600,3800,450,850]
[null,"1-Never  ",0,0,0,0,0]
[null,"2-Current",0,0,0,0,0]
[null,"3-Former ",0,0,0,0,0]
[null,"4-Not_Asked (smoker)",21500,5600,7900,1100,1500]
[null,"1-Married (marital status)",12500,3700,4400,650,800]
[null,"2-Widowed    ",6200,1200,2500,250,550]
[null,"3-Divorced   ",1300,350,450,80,60]
[null,"4-Separated  ",350,100,100,0,20]
[null,"5-NeverMar.  ",1300,250,500,60,90]
[null,"1-Lowest inc.  ",3700,800,1400,200,250]
[null,"2-Second dec.  ",4000,850,1500,200,300]
[null,"3-Third dec.   ",3200,750,1200,150,250]
[null,"4-Fourth dec.  ",2600,650,950,150,150]
[null,"5-Fifth dec.   ",1900,550,650,100,150]
[null,"6-Sixth dec.   ",1600,500,550,80,100]
[null,"7-Seventh dec. ",1500,450,500,70,90]
[null,"8-Eighth dec.  ",1100,400,400,40,50]
[null,"9-Ninth dec.   ",1200,400,400,40,70]
[null,"10-Highest dec. (family income in 2008$)",950,300,300,30,60]
[null,"1-Dropout      ",11000,2600,4200,550,800]
[null,"2-H.S.Diploma (education)      ",6500,1900,2300,300,400]
[null,"3-SomeColl/AA  ",2200,650,700,100,150]
[null,"4-4yr.Degree   ",1200,300,450,60,90]
[null,"5-Grad.Degree  ",800,200,300,40,40]
[null,"1-White NH (ethnic/race)     ",9800,2500,3700,500,700]
[null,"2-Black NH     ",1200,300,400,20,80]
[null,"3-Asian NH     ",100,30,30,0,0]
[null,"4-Hispanic     ",850,200,300,30,40]
[null,"5-Other NH     ",9700,2600,3500,500,650]
[null,"1-Employed  (Labor force)",4600,1700,1500,150,200]
[null,"2-Unemployed   ",300,100,90,0,20]
[null,"3-NILF         ",17000,3800,6400,900,1300]
[null,"1-Prof./Managerial (occ.)",600,250,200,20,30]
[null,"2-Sklld/Sales  ",1500,600,450,60,80]
[null,"3-BlueCol.Lgt  ",1100,400,350,40,40]
[null,"4-BlueCol.Hvy  ",2100,700,700,80,100]
[null,"5-Medical.Occ  ",250,90,70,0,0]
[null,"6-N/A          ",16000,3600,6100,900,1200]

{"sheet":"1988-1991","index":18,"n_rows":57,"n_cols":7,"rows_kept":57,"cut":false,"hidden":false,"merged":[]}
[]
["SOA MI Trends"]
["Detailed model parameter results"]
["Regression cohort 1988-1991"]
[]
[null,"Variable","All Cause","Cancer","Heart","Pulmonary","Stroke"]
[null,"All observations",20000,5400,6900,1000,1400]
[null,"age 40-44 ",600,200,150,0,30]
[null,"age 45-49 ",750,300,200,20,30]
[null,"age 50-54 ",1000,400,300,40,30]
[null,"age 55-59 ",1500,550,450,70,60]
[null,"age 60-64",2300,850,700,100,100]
[null,"age 65-69 (age group) ",3100,1000,1000,200,150]
[null,"age 70-74 ",3400,900,1200,200,250]
[null,"age 75-79 ",3200,700,1200,150,300]
[null,"age 80-84 ",2400,350,950,100,250]
[null,"age 85+",1700,150,750,50,200]
[null,"Male (Sex)",10000,2900,3600,500,550]
[null,"Female       ",9700,2500,3300,500,850]
[null,"1-Never  ",0,0,0,0,0]
[null,"2-Current",0,0,0,0,0]
[null,"3-Former ",0,0,0,0,0]
[null,"4-Not_Asked (smoker)",20000,5400,6900,1000,1400]
[null,"1-Married (marital status)",11500,3500,3800,550,700]
[null,"2-Widowed    ",5700,1200,2100,300,550]
[null,"3-Divorced   ",1400,400,450,80,70]
[null,"4-Separated  ",350,100,100,20,20]
[null,"5-NeverMar.  ",1100,250,400,40,80]
[null,"1-Lowest inc.  ",3300,650,1200,150,250]
[null,"2-Second dec.  ",3700,850,1300,200,300]
[null,"3-Third dec.   ",3000,750,1100,150,250]
[null,"4-Fourth dec.  ",2300,650,800,150,150]
[null,"5-Fifth dec.   ",1800,550,600,100,100]
[null,"6-Sixth dec.   ",1600,500,550,70,100]
[null,"7-Seventh dec. ",1300,400,450,60,80]
[null,"8-Eighth dec.  ",1000,350,300,40,70]
[null,"9-Ninth dec.   ",1100,400,300,40,60]
[null,"10-Highest dec. (family income in 2008$)",900,300,250,40,40]
[null,"1-Dropout      ",9000,2100,3300,450,700]
[null,"2-H.S.Diploma (education)      ",6600,1900,2200,350,450]
[null,"3-SomeColl/AA  ",2200,650,700,100,150]
[null,"4-4yr.Degree   ",1200,400,350,50,70]
[null,"5-Grad.Degree  ",900,300,300,30,70]
[null,"1-White NH (ethnic/race)     ",16500,4400,5600,900,1100]
[null,"2-Black NH     ",1600,450,550,40,100]
[null,"3-Asian NH     ",200,60,60,0,20]
[null,"4-Hispanic     ",900,200,300,20,60]
[null,"5-Other NH     ",1000,250,300,50,80]
[null,"1-Employed  (Labor force)",4200,1600,1300,150,200]
[null,"2-Unemployed   ",200,60,70,0,0]
[null,"3-NILF         ",15500,3700,5600,850,1200]
[null,"1-Prof./Managerial (occ.)",600,250,200,20,20]
[null,"2-Sklld/Sales  ",1400,550,400,40,60]
[null,"3-BlueCol.Lgt  ",1000,400,300,40,50]
[null,"4-BlueCol.Hvy  ",1800,650,600,70,100]
[null,"5-Medical.Occ  ",200,80,50,0,0]
[null,"6-N/A          ",15000,3500,5400,800,1200]

{"sheet":"1992-1995","index":19,"n_rows":57,"n_cols":7,"rows_kept":57,"cut":false,"hidden":false,"merged":[]}
[]
["SOA MI Trends"]
["Detailed model parameter results"]
["Regression cohort 1992-1995"]
[]
[null,"Variable","All Cause","Cancer","Heart","Pulmonary","Stroke"]
[null,"All observations",22500,5800,7300,1200,1600]
[null,"age 40-44 ",700,200,150,0,30]
[null,"age 45-49 ",850,300,200,0,30]
[null,"age 50-54 ",1200,450,300,40,30]
[null,"age 55-59 ",1500,550,450,80,60]
[null,"age 60-64",2100,750,600,150,80]
[null,"age 65-69 (age group) ",3000,950,900,200,200]
[null,"age 70-74 ",3800,1100,1200,250,300]
[null,"age 75-79 ",3800,750,1300,250,300]
[null,"age 80-84 ",3200,500,1200,200,300]
[null,"age 85+",2400,300,1000,60,250]
[null,"Male (Sex)",11000,3000,3700,600,650]
[null,"Female       ",11500,2800,3600,600,900]
[null,"1-Never  ",4200,850,1500,80,400]
[null,"2-Current",2000,650,550,200,100]
[null,"3-Former ",3600,950,1100,250,250]
[null,"4-Not_Asked (smoker)",13000,3300,4200,650,850]
[null,"1-Married (marital status)",12000,3600,3800,650,750]
[null,"2-Widowed    ",6800,1300,2500,400,600]
[null,"3-Divorced   ",1800,550,500,100,100]
[null,"4-Separated  ",400,100,150,20,20]
[null,"5-NeverMar.  ",1300,300,450,40,80]
[null,"1-Lowest inc.  ",4200,900,1400,250,350]
[null,"2-Second dec.  ",4400,950,1500,250,350]
[null,"3-Third dec.   ",3500,850,1200,200,250]
[null,"4-Fourth dec.  ",2600,700,800,150,200]
[null,"5-Fifth dec.   ",2000,600,650,100,150]
[null,"6-Sixth dec.   ",1500,450,500,70,90]
[null,"7-Seventh dec. ",1300,400,405,80,80]
[null,"8-Eighth dec.  ",1000,300,300,40,60]
[null,"9-Ninth dec.   ",1000,350,300,40,60]
[null,"10-Highest dec. (family income in 2008$)",950,350,250,30,60]
[null,"1-Dropout      ",9200,2100,3200,550,650]
[null,"2-H.S.Diploma (education)      ",7300,2000,2300,450,500]
[null,"3-SomeColl/AA  ",3500,950,1000,200,250]
[null,"4-4yr.Degree   ",1600,450,500,60,100]
[null,"5-Grad.Degree  ",950,300,300,20,60]
[null,"1-White NH (ethnic/race)     ",18000,4700,5900,1100,1200]
[null,"2-Black NH     ",2000,550,650,50,150]
[null,"3-Asian NH     ",250,70,100,0,20]
[null,"4-Hispanic     ",1200,300,350,50,80]
[null,"5-Other NH     ",950,250,250,50,70]
[null,"1-Employed  (Labor force)",4200,1600,1200,150,150]
[null,"2-Unemployed   ",300,100,80,0,0]
[null,"3-NILF         ",18000,4100,6100,1100,1400]
[null,"1-Prof./Managerial (occ.)",600,250,150,0,20]
[null,"2-Sklld/Sales  ",1400,500,350,50,60]
[null,"3-BlueCol.Lgt  ",1000,350,300,40,50]
[null,"4-BlueCol.Hvy  ",1600,550,450,50,50]
[null,"5-Medical.Occ  ",250,90,60,0,0]
[null,"6-N/A          ",17500,4000,6000,1100,1400]

{"sheet":"1996-1999","index":20,"n_rows":57,"n_cols":7,"rows_kept":57,"cut":false,"hidden":false,"merged":[]}
[]
["SOA MI Trends"]
["Detailed model parameter results"]
["Regression cohort 1996-1999"]
[]
[null,"Variable","All Cause","Cancer","Heart","Pulmonary","Stroke"]
[null,"All observations",17500,4400,5300,1100,1100]
[null,"age 40-44 ",550,150,100,0,0]
[null,"age 45-49 ",800,250,200,20,20]
[null,"age 50-54 ",900,300,250,40,30]
[null,"age 55-59 ",1100,450,300,70,50]
[null,"age 60-64",1500,600,350,101,60]
[null,"age 65-69 (age group) ",2200,700,550,200,100]
[null,"age 70-74 ",2900,750,850,200,200]
[null,"age 75-79 ",3100,650,950,200,250]
[null,"age 80-84 ",2500,400,900,150,250]
[null,"age 85+",2000,200,800,90,150]
[null,"Male (Sex)",8700,2300,2700,500,450]
[null,"Female       ",8900,2100,2600,550,700]
[null,"1-Never  ",4500,900,1500,150,350]
[null,"2-Current",2100,700,550,200,80]
[null,"3-Former ",3900,950,1100,350,250]
[null,"4-Not_Asked (smoker)",7200,1900,2200,400,450]
[null,"1-Married (marital status)",9300,2700,2700,550,600]
[null,"2-Widowed    ",5300,1000,1800,350,450]
[null,"3-Divorced   ",1700,450,450,150,80]
[null,"4-Separated  ",300,90,80,20,0]
[null,"5-NeverMar.  ",1000,200,350,50,30]
[null,"1-Lowest inc.  ",3000,600,950,200,200]
[null,"2-Second dec.  ",3400,750,1100,200,250]
[null,"3-Third dec.   ",2700,600,850,150,200]
[null,"4-Fourth dec.  ",2000,500,600,150,150]
[null,"5-Fifth dec.   ",1500,400,450,100,90]
[null,"6-Sixth dec.   ",1300,350,400,60,70]
[null,"7-Seventh dec. ",1100,350,300,60,80]
[null,"8-Eighth dec.  ",800,250,200,60,40]
[null,"9-Ninth dec.   ",900,300,250,30,50]
[null,"10-Highest dec. (family income in 2008$)",800,250,200,50,50]
[null,"1-Dropout      ",6300,1400,2100,400,400]
[null,"2-H.S.Diploma (education)      ",6000,1600,1700,400,400]
[null,"3-SomeColl/AA  ",3000,850,900,150,200]
[null,"4-4yr.Degree   ",1500,400,400,70,80]
[null,"5-Grad.Degree  ",800,250,250,30,40]
[null,"1-White NH (ethnic/race)     ",14000,3500,4200,950,900]
[null,"2-Black NH     ",1500,400,450,60,100]
[null,"3-Asian NH     ",250,80,70,0,20]
[null,"4-Hispanic     ",1100,250,300,30,80]
[null,"5-Other NH     ",750,200,250,50,40]
[null,"1-Employed  (Labor force)",3430,1300,900,150,150]
[null,"2-Unemployed   ",150,50,30,0,0]
[null,"3-NILF         ",14000,3100,4400,900,1000]
[null,"1-Prof./Managerial (occ.)",500,200,100,0,20]
[null,"2-Sklld/Sales  ",1100,400,300,50,50]
[null,"3-BlueCol.Lgt  ",700,250,200,30,30]
[null,"4-BlueCol.Hvy  ",1200,400,300,50,50]
[null,"5-Medical.Occ  ",200,70,40,0,0]
[null,"6-N/A          ",14000,3100,4400,900,1000]

{"sheet":"2000-2003","index":21,"n_rows":57,"n_cols":7,"rows_kept":57,"cut":false,"hidden":false,"merged":[]}
[]
["SOA MI Trends"]
["Detailed model parameter results"]
["Regression cohort 2000-2003"]
[]
[null,"Variable","All Cause","Cancer","Heart","Pulmonary","Stroke"]
[null,"All observations",18500,4900,5200,1100,1100]
[null,"age 40-44 ",750,200,200,20,30]
[null,"age 45-49 ",950,300,200,30,40]
[null,"age 50-54 ",1200,400,250,30,60]
[null,"age 55-59 ",1300,500,350,70,50]
[null,"age 60-64",1600,600,350,100,60]
[null,"age 65-69 (age group) ",2000,650,500,150,100]
[null,"age 70-74 ",2700,750,700,200,150]
[null,"age 75-79 ",3200,750,950,200,250]
[null,"age 80-84 ",3300,550,1100,200,250]
[null,"age 85+",1800,200,650,80,150]
[null,"Male (Sex)",9300,2600,2700,500,500]
[null,"Female       ",9400,2300,2500,550,650]
[null,"1-Never  ",6400,1400,1900,200,500]
[null,"2-Current",2700,900,600,250,100]
[null,"3-Former ",5300,1400,1400,400,300]
[null,"4-Not_Asked (smoker)",4300,1100,1200,200,250]
[null,"1-Married (marital status)",9700,2900,2500,500,550]
[null,"2-Widowed    ",5400,1000,1700,350,400]
[null,"3-Divorced   ",2100,600,550,150,100]
[null,"4-Separated  ",300,70,80,20,20]
[null,"5-NeverMar.  ",1200,250,350,40,70]
[null,"1-Lowest inc.  ",3100,600,950,200,200]
[null,"2-Second dec.  ",3600,800,1100,250,250]
[null,"3-Third dec.   ",2700,700,750,150,200]
[null,"4-Fourth dec.  ",2200,600,600,150,150]
[null,"5-Fifth dec.   ",1700,450,500,90,100]
[null,"6-Sixth dec.   ",1200,400,300,70,60]
[null,"7-Seventh dec. ",1200,400,300,50,70]
[null,"8-Eighth dec.  ",900,300,250,40,50]
[null,"9-Ninth dec.   ",1000,300,250,40,50]
[null,"10-Highest dec. (family income in 2008$)",1000,350,250,40,60]
[null,"1-Dropout      ",6000,1300,1800,400,350]
[null,"2-H.S.Diploma (education)      ",6600,1800,1800,350,400]
[null,"3-SomeColl/AA  ",3500,1000,900,200,200]
[null,"4-4yr.Degree   ",1700,500,450,70,90]
[null,"5-Grad.Degree  ",950,250,250,30,60]
[null,"1-White NH (ethnic/race)     ",14000,3700,3900,900,800]
[null,"2-Black NH     ",2000,500,600,70,150]
[null,"3-Asian NH     ",400,100,90,0,30]
[null,"4-Hispanic     ",1400,300,400,40,90]
[null,"5-Other NH     ",900,250,250,50,60]
[null,"1-Employed  (Labor force)",3900,1500,900,150,200]
[null,"2-Unemployed   ",200,60,40,0,0]
[null,"3-NILF         ",14500,3400,4200,900,950]
[null,"1-Prof./Managerial (occ.)",600,200,150,0,20]
[null,"2-Sklld/Sales  ",1200,450,250,40,60]
[null,"3-BlueCol.Lgt  ",900,350,200,30,40]
[null,"4-BlueCol.Hvy  ",1300,450,300,50,60]
[null,"5-Medical.Occ  ",250,90,50,0,0]
[null,"6-N/A          ",14500,3300,4200,900,950]

{"sheet":"2004-2007","index":22,"n_rows":57,"n_cols":7,"rows_kept":57,"cut":false,"hidden":false,"merged":[]}
[]
["SOA MI Trends"]
["Detailed model parameter results"]
["Regression cohort 2004-2007"]
[]
[null,"Variable","All Cause","Cancer","Heart","Pulmonary","Stroke"]
[null,"All observations",14000,3800,3800,800,750]
[null,"age 40-44 ",500,100,80,0,20]
[null,"age 45-49 ",700,200,150,20,30]
[null,"age 50-54 ",900,300,200,20,30]
[null,"age 55-59 ",1100,400,250,60,40]
[null,"age 60-64",1200,400,250,80,50]
[null,"age 65-69 (age group) ",1400,550,350,100,60]
[null,"age 70-74 ",1700,550,400,100,100]
[null,"age 75-79 ",2200,550,550,200,100]
[null,"age 80-84 ",2100,400,650,150,150]
[null,"age 85+",2400,300,850,100,200]
[null,"Male (Sex)",7200,2000,1900,400,300]
[null,"Female       ",7000,1700,1800,400,450]
[null,"1-Never  ",2000,450,550,60,150]
[null,"2-Current",800,300,150,60,40]
[null,"3-Former ",1500,450,400,100,60]
[null,"4-Not_Asked (smoker)",9900,2600,2600,550,550]
[null,"1-Married (marital status)",6800,2100,1700,400,350]
[null,"2-Widowed    ",4300,900,1300,250,300]
[null,"3-Divorced   ",1700,450,400,100,80]
[null,"4-Separated  ",300,80,90,0,0]
[null,"5-NeverMar.  ",1000,250,250,40,50]
[null,"1-Lowest inc.  ",2700,600,750,150,150]
[null,"2-Second dec.  ",2700,650,800,150,150]
[null,"3-Third dec.   ",2200,550,600,150,150]
[null,"4-Fourth dec.  ",1500,400,350,100,90]
[null,"5-Fifth dec.   ",1100,300,300,70,60]
[null,"6-Sixth dec.   ",950,300,250,40,40]
[null,"7-Seventh dec. ",850,250,200,40,40]
[null,"8-Eighth dec.  ",600,200,150,30,20]
[null,"9-Ninth dec.   ",750,250,200,20,40]
[null,"10-Highest dec. (family income in 2008$)",700,250,150,30,40]
[null,"1-Dropout      ",4300,1000,1300,300,250]
[null,"2-H.S.Diploma (education)      ",5100,1400,1300,300,300]
[null,"3-SomeColl/AA  ",2700,800,650,150,150]
[null,"4-4yr.Degree   ",1300,400,300,50,80]
[null,"5-Grad.Degree  ",750,250,200,30,30]
[null,"1-White NH (ethnic/race)     ",10000,2700,2700,650,550]
[null,"2-Black NH     ",2100,550,600,80,150]
[null,"3-Asian NH     ",450,100,100,0,30]
[null,"4-Hispanic     ",950,250,250,30,50]
[null,"5-Other NH     ",500,150,100,40,30]
[null,"1-Employed  (Labor force)",2600,1000,550,80,100]
[null,"2-Unemployed   ",150,40,30,0,0]
[null,"3-NILF         ",11500,2700,3200,700,650]
[null,"1-Prof./Managerial (occ.)",400,200,80,0,20]
[null,"2-Sklld/Sales  ",650,300,150,20,30]
[null,"3-BlueCol.Lgt  ",700,250,150,30,30]
[null,"4-BlueCol.Hvy  ",900,300,200,20,50]
[null,"5-Medical.Occ  ",150,70,30,0,0]
[null,"6-N/A          ",11500,2700,3200,700,650]

{"sheet":"2008-11 (NLMS)","index":23,"n_rows":57,"n_cols":7,"rows_kept":57,"cut":false,"hidden":false,"merged":[]}
[]
["SOA MI Trends"]
["Detailed model parameter results"]
["Regression cohort 2008-11 (NLMS)"]
[]
[null,"Variable","All Cause","Cancer","Heart","Pulmonary","Stroke"]
[null,"All observations",5000,1400,1300,250,300]
[null,"age 40-44 ",150,40,20,0,0]
[null,"age 45-49 ",250,60,50,0,0]
[null,"age 50-54 ",250,100,60,0,0]
[null,"age 55-59 ",400,150,90,0,0]
[null,"age 60-64",450,150,80,20,20]
[null,"age 65-69 (age group) ",500,150,100,40,30]
[null,"age 70-74 ",550,200,150,40,30]
[null,"age 75-79 ",700,200,150,50,40]
[null,"age 80-84 ",750,150,200,60,50]
[null,"age 85+",1100,150,350,40,80]
[null,"Male (Sex)",2600,750,650,150,100]
[null,"Female       ",2400,650,600,150,150]
[null,"1-Never  ",450,100,150,20,20]
[null,"2-Current",150,50,40,20,0]
[null,"3-Former ",300,100,70,20,0]
[null,"4-Not_Asked (smoker)",4100,1100,1000,200,250]
[null,"1-Married (marital status)",2300,750,500,100,100]
[null,"2-Widowed    ",1600,350,450,100,100]
[null,"3-Divorced   ",650,200,150,40,30]
[null,"4-Separated  ",100,30,20,0,0]
[null,"5-NeverMar.  ",400,100,100,20,20]
[null,"1-Lowest inc.  ",1000,200,250,60,50]
[null,"2-Second dec.  ",1000,250,250,50,60]
[null,"3-Third dec.   ",700,200,150,40,50]
[null,"4-Fourth dec.  ",500,150,150,30,30]
[null,"5-Fifth dec.   ",400,100,100,30,20]
[null,"6-Sixth dec.   ",300,100,50,20,20]
[null,"7-Seventh dec. ",300,90,70,0,0]
[null,"8-Eighth dec.  ",250,70,70,0,20]
[null,"9-Ninth dec.   ",300,80,60,0,0]
[null,"10-Highest dec. (family income in 2008$)",250,90,50,0,0]
[null,"1-Dropout      ",1400,350,400,80,80]
[null,"2-H.S.Diploma (education)      ",1900,550,450,100,100]
[null,"3-SomeColl/AA  ",1000,300,250,50,50]
[null,"4-4yr.Degree   ",450,150,100,20,20]
[null,"5-Grad.Degree  ",250,80,60,0,20]
[null,"1-White NH (ethnic/race)     ",3500,1000,900,250,200]
[null,"2-Black NH     ",800,200,200,30,40]
[null,"3-Asian NH     ",150,40,30,0,0]
[null,"4-Hispanic     ",350,90,80,0,20]
[null,"5-Other NH     ",150,50,40,0,0]
[null,"1-Employed  (Labor force)",750,300,150,20,30]
[null,"2-Unemployed   ",60,0,0,0,0]
[null,"3-NILF         ",4200,1100,1100,250,250]
[null,"1-Prof./Managerial (occ.)",150,60,30,0,0]
[null,"2-Sklld/Sales  ",200,80,40,0,0]
[null,"3-BlueCol.Lgt  ",200,80,40,0,0]
[null,"4-BlueCol.Hvy  ",250,90,60,0,0]
[null,"5-Medical.Occ  ",50,20,0,0,0]
[null,"6-N/A          ",4200,1000,1100,250,250]

{"sheet":"2008-11 (MDAC)","index":24,"n_rows":57,"n_cols":7,"rows_kept":57,"cut":false,"hidden":false,"merged":[]}
[]
["SOA MI Trends"]
["Detailed model parameter results"]
["Regression cohort 2008-11 (MDAC)"]
[]
[null,"Variable","All Cause","Cancer","Heart","Pulmonary","Stroke"]
[null,"All observations",158000,43500,39000,9400,8300]
[null,"age 40-44 ",3900,1100,750,70,100]
[null,"age 45-49 ",6300,2100,1300,200,250]
[null,"age 50-54 ",9300,3400,1900,350,350]
[null,"age 55-59 ",12000,4700,2500,550,400]
[null,"age 60-64",15000,5800,3000,950,550]
[null,"age 65-69 (age group) ",18000,6700,3700,1400,750]
[null,"age 70-74 ",21000,6400,4700,1600,1100]
[null,"age 75-79 ",25000,6200,6300,1700,1500]
[null,"age 80-84 ",24500,4600,6900,1500,1700]
[null,"age 85+",23000,2700,7700,1100,1600]
[null,"Male (Sex)",88000,25000,23000,5100,4000]
[null,"Female       ",69500,19000,16000,4300,4300]
[null,"1-Never  ",0,0,0,0,0]
[null,"2-Current",0,0,0,0,0]
[null,"3-Former ",0,0,0,0,0]
[null,"4-Not_Asked (smoker)",158000,43500,39000,9400,8300]
[null,"1-Married (marital status)",120000,35500,28500,7000,6100]
[null,"2-Widowed    ",22000,3700,6500,1500,1500]
[null,"3-Divorced   ",8800,2500,2000,700,350]
[null,"4-Separated  ",1400,400,350,90,70]
[null,"5-NeverMar.  ",5400,1300,1300,200,250]
[null,"1-Lowest inc.  ",12500,3000,3100,800,650]
[null,"2-Second dec.  ",25500,6000,6600,1900,1400]
[null,"3-Third dec.   ",25500,6500,6600,1700,1400]
[null,"4-Fourth dec.  ",23000,6400,5800,1500,1200]
[null,"5-Fifth dec.   ",18500,5500,4300,1000,950]
[null,"6-Sixth dec.   ",14500,4300,3400,750,750]
[null,"7-Seventh dec. ",13000,3900,3000,600,700]
[null,"8-Eighth dec.  ",8900,2800,2100,400,450]
[null,"9-Ninth dec.   ",8700,2700,2000,350,450]
[null,"10-Highest dec. (family income in 2008$)",7800,2600,1800,300,350]
[null,"1-Dropout      ",41000,9700,11000,3000,2300]
[null,"2-H.S.Diploma (education)      ",57500,16000,14000,3600,3100]
[null,"3-SomeColl/AA  ",35500,11000,8400,2000,1700]
[null,"4-4yr.Degree   ",15500,4900,3600,600,800]
[null,"5-Grad.Degree  ",8000,2500,1900,250,400]
[null,"1-White NH (ethnic/race)     ",130000,36000,32000,8400,6600]
[null,"2-Black NH     ",12500,3400,3300,450,750]
[null,"3-Asian NH     ",4800,1600,1000,150,400]
[null,"4-Hispanic     ",8400,2200,2000,300,500]
[null,"5-Other NH     ",2300,600,550,150,100]
[null,"1-Employed  (Labor force)",33000,13500,6800,1100,1300]
[null,"2-Unemployed   ",2100,650,450,80,90]
[null,"3-NILF         ",123000,29500,31500,8200,6900]
[null,"1-Prof./Managerial (occ.)",8100,3200,1700,250,300]
[null,"2-Sklld/Sales  ",13500,5300,2700,600,550]
[null,"3-BlueCol.Lgt  ",13500,5000,2900,700,550]
[null,"4-BlueCol.Hvy  ",16500,5900,3800,800,750]
[null,"5-Medical.Occ  ",2800,1200,500,100,100]
[null,"6-N/A          ",103000,23000,27000,7000,6100]