{"text_format":"1","workbook":"xlsx","n_sheets":34,"sheets":["Contents","Read Me","Main","Mortality rates at t0","Mortality trends","Graphs","Graphscomparison","Life expectancy","Forecasts Cardiovascular","Forecasts Cerebrovascular","Forecasts NeoSmok","Forecasts Neoplasm","Forecasts Dementia","Forecasts Diabetes","Forecasts Influenza","Forecasts Respiratory","Forecasts Drug","Forecasts External","Forecasts Other","Forecasts Aggregate","Adjustment Cardiovascular","Adjustment Cerebrovascular","Adjustment NeoSmok","Adjustment Neoplasm","Adjustment Dementia","Adjustment Diabetes","Adjustment Influenza","Adjustment Respiratory","Adjustment Drug","Adjustment External","Adjustment Other","LC parameters","Expert opinion","Variables"],"not_rendered":{"charts":5,"images":0,"macros":1,"external_links":0,"defined_names":50,"comments":0,"pivot_tables":0},"unopened":[],"bounds":{"document_bytes":16777216,"sheet_cells":100000,"rows_first":2000,"rows_last":500,"rows_between":2000,"halvings":0,"cell_chars":16384,"cell_head_chars":4096},"cells_cut":0,"cells_raw":0,"read":"whole","date_system":"1900"}

{"sheet":"Contents","index":0,"n_rows":9,"n_cols":11,"rows_kept":9,"cut":false,"hidden":false,"merged":[[0,2,3,9],[0,10,3,16]]}
[null,null,"Society of Actuaries - Cause of deaths forecasting tool",null,null,null,null,null,null,null,"Contents"]
[]
[]
[]
[]
[null,null,"results"]
[null,null,"may not be modified"]
[null,null,"hypothesis"]
[null,null,"to be chosen"]

{"sheet":"Read Me","index":1,"n_rows":1,"n_cols":11,"rows_kept":1,"cut":false,"hidden":false,"merged":[[0,2,3,9],[0,10,3,16]]}
[null,null,"Society of Actuaries - Cause of deaths forecasting tool",null,null,null,null,null,null,null,"Read Me"]

{"sheet":"Main","index":2,"n_rows":25,"n_cols":18,"rows_kept":25,"cut":false,"hidden":false,"merged":[[0,2,3,9],[0,10,3,16],[12,1,12,2],[13,2,13,3],[11,8,12,9],[11,16,12,17],[11,4,12,5],[11,6,12,7],[11,10,12,11],[11,12,12,13],[11,14,12,15]]}
[null,null,"Society of Actuaries - Cause of deaths forecasting tool",null,null,null,null,null,null,null,"Main"]
[]
[]
[]
[]
[null,"initial date","maturity max",null,null,null,null,null,null,null,"User input"]
[null,2016,2026,null,null,null,null,null,null,null,"Default parameters"]
[null,null,null,null,null,null,null,null,null,null,"Calculation"]
[null,null,null,null,null,null,null,null,null,null,"Outputs"]
[]
[]
[null,null,null,null,"type of trend\nmanual vs historical",null,"If manual, enter targetted improvement below",null,"If manual, enter reference horizon for target below",null,"If manual, enter reference age group below",null,"adjustement (yes/no)",null,"basis risk parameters k1 \n(=1 if baseline)",null,"basis risk parameters k2\n(=0 if baseline)"]
[]
[null,"sex",null,null,"M","F","M","F","M","F","M","F","M","F","M","F","M","F"]
[null,"cause",{"$f":"Causes","v":"Cardiovascular"},null,"historical2","historical2",null,null,null,null,null,null,"no","no",1,1,0,0]
[null,null,"Cerebrovascular",null,"historical2","historical2",null,null,null,null,null,null,"no","no",1,1,0,0]
[null,null,"NeoSmok",null,"historical2","historical2",null,null,null,null,null,null,"no","no",1,1,0,0]
[null,null,"Neoplasm",null,"historical2","historical2",null,null,null,null,null,null,"no","no",1,1,0,0]
[null,null,"Dementia",null,"historical2","historical2",null,null,null,null,null,null,"no","no",1,1,0,0]
[null,null,"Diabetes",null,"historical2","historical2",null,null,null,null,null,null,"no","no",1,1,0,0]
[null,null,"Influenza",null,"historical2","historical2",null,null,null,null,null,null,"no","no",1,1,0,0]
[null,null,"Respiratory",null,"historical2","historical2",null,null,null,null,null,null,"no","no",1,1,0,0]
[null,null,"Drug",null,"historical2","historical2",null,null,null,null,null,null,"no","no",1,1,0,0]
[null,null,"External",null,"historical2","historical2",null,null,null,null,null,null,"no","no",1,1,0,0]
[null,null,"Other",null,"historical2","historical2",null,null,null,null,null,null,"no","no",1,1,0,0]

{"sheet":"Mortality rates at t0","index":3,"n_rows":31,"n_cols":25,"rows_kept":31,"cut":false,"hidden":false,"merged":[[0,2,3,9],[0,10,3,16]]}
[null,null,"Society of Actuaries - Cause of deaths forecasting tool",null,null,null,null,null,null,null,"Mortality rates at t0"]
[]
[]
[]
[]
[null,null,null,null,"age"]
[null,"sex","M",null,{"$f":"TRANSPOSE(Ages_group)","v":0},"1 - 4","5 - 9","10 - 14","15 - 19","20 - 24","25 - 29","30 - 34","35 - 39","40 - 44","45 - 49","50 - 54","55 - 59","60 - 64","65 - 69","70 - 74","75 - 79","80 - 84","85 - 89","90 - 94","95+"]
[null,"cause",{"$f":"Causes","v":"Cardiovascular"},null,9.9934260531207348E-5,1.3398330632730549E-5,4.1212085485864396E-6,6.2252219904720757E-6,2.1991390907493292E-5,4.2604645762644151E-5,8.0962198306634231E-5,1.5011780585423578E-4,2.597499528199682E-4,4.6461984820486837E-4,7.7884238962148413E-4,1.3719430423189628E-3,2.1851734748457004E-3,3.2884332006996239E-3,4.5456196475870646E-3,6.795752720657018E-3,1.0838927100531864E-2,1.8825629485588642E-2,3.4118130936925409E-2,6.621701560891638E-2,0.12437534541669801]
[null,null,"Cerebrovascular",null,2.9165967709281959E-5,2.9366620103654115E-6,1.89930662851766E-6,2.5290207760043646E-6,2.9994959632071623E-6,5.5552770002220831E-6,1.1170806548208468E-5,2.0280127853301923E-5,3.7581558981516841E-5,6.6690892901008543E-5,1.0584512972205872E-4,1.7528818758655171E-4,2.8783841527120653E-4,4.6142298828900257E-4,6.6710301024915011E-4,1.1705382707985206E-3,2.1024469340886922E-3,3.7973106866857321E-3,6.2936739659996766E-3,1.1320656193560314E-2,1.9180691640004983E-2]
[null,null,"NeoSmok",null,0,0,9.8898745744797942E-8,2.0023005648409106E-7,3.9807813491819037E-7,1.8656633906636579E-6,3.1628483314623886E-6,7.5959788600215932E-6,2.1503911964387921E-5,5.6051030555074756E-5,1.6734391364495291E-4,4.359890877927374E-4,9.0009760748580578E-4,1.431857164409736E-3,2.1894282771323624E-3,3.1693656362951511E-3,4.0331376330299444E-3,4.7646544776157136E-3,5.0993926724890327E-3,4.8760515599960714E-3,4.5291614925174898E-3]
[null,null,"Neoplasm",null,2.9577443590517056E-5,2.6996485240960338E-5,2.6043742213024593E-5,2.3836592389307377E-5,3.7012508126684199E-5,4.4961378757629554E-5,7.444857443992155E-5,1.0985538013460872E-4,1.6775897039715602E-4,2.7751206642987689E-4,5.2402316885978432E-4,1.0136092182696131E-3,1.8110818280555046E-3,2.923094883417503E-3,4.1597271129821933E-3,6.0629404143043419E-3,8.6838718685450754E-3,1.2484210246371492E-2,1.7099741007805026E-2,2.3598263208749574E-2,2.9691665834101252E-2]
[null,null,"Dementia",null,0,0,0,0,0,5.6894737619908819E-7,6.227660671961573E-7,1.0748541104217941E-6,1.0466207618605828E-6,2.738327477128844E-6,6.6548657280770933E-6,1.780828283139033E-5,5.144127000910785E-5,1.5879629025108164E-4,4.0406548807870012E-4,1.2252819835685345E-3,3.3659890289688401E-3,8.3521237367178269E-3,1.7719899245105798E-2,3.5026353485541714E-2,6.2895239442384898E-2]
[null,null,"Diabetes",null,2.8134139516206654E-5,5.5213012361557461E-7,3.0293143273897048E-7,1.4898556743993916E-6,4.7875124585322353E-6,1.4403054462988275E-5,3.1863922724876971E-5,6.2646782335438263E-5,1.0992831411339226E-4,1.8436794573139256E-4,2.9007988365536042E-4,4.6258360452606915E-4,7.1317572446021038E-4,1.0544639411073275E-3,1.4044645011656678E-3,1.9646921879984004E-3,3.0156049461876411E-3,4.7605450467090625E-3,7.6312398121262878E-3,1.3715325472802549E-2,2.3769583841198236E-2]
[null,null,"Influenza",null,7.0299788533994298E-5,9.4197500693383109E-6,3.728297725443933E-6,3.1868182108176383E-6,4.0751872097741136E-6,6.6019527333580332E-6,9.6821762875318845E-6,1.5911177031749351E-5,2.0143824996825521E-5,2.9115945042626943E-5,4.4519469720060711E-5,7.4699642010195492E-5,1.2226212251151131E-4,1.8064562559329126E-4,2.7676699911539509E-4,4.7826264373469556E-4,8.7600153615980151E-4,1.7823936707106014E-3,3.5994206342059381E-3,7.6010693759504889E-3,1.6861694140345846E-2]
[null,null,"Respiratory",null,8.2975435806953294E-5,1.2452221176541742E-5,6.4610027045806658E-6,6.5047516292423155E-6,5.6536887317130972E-6,1.2194496721967535E-5,1.6449605627500994E-5,2.0005679801463906E-5,3.1736685391866514E-5,4.3890320725990716E-5,8.7007995333328048E-5,2.0744950996227064E-4,4.3462051281550662E-4,8.3489688260819455E-4,1.4729229820859603E-3,2.782627396954891E-3,4.4914287253059728E-3,7.0370357058151456E-3,1.0722810218646441E-2,1.6262060052941237E-2,2.5357891206816301E-2]
[null,null,"Drug",null,0,2.1039837270480463E-6,2.614947871881069E-7,5.2266390437200715E-7,5.9716962931548838E-5,2.6462988816592839E-4,4.1854405410958305E-4,4.9984557512933788E-4,4.9472213252478678E-4,5.1112615292075276E-4,5.9898872301767075E-4,6.9983557348378444E-4,6.9762159494122177E-4,6.0455899996402938E-4,3.9484341671214046E-4,2.9154869345415476E-4,2.5274531345204066E-4,1.9654965452931355E-4,1.8378294753499836E-4,1.4042105108990447E-4,8.6450460692725776E-5]
[null,null,"External",null,4.4991975994727694E-4,1.3939878224536521E-4,5.345055666476097E-5,8.6649843318787866E-5,4.9507377969240922E-4,9.0492760530469409E-4,8.7126639443980839E-4,7.9213876129378979E-4,7.4438935605947577E-4,6.9551226677378179E-4,7.0359790211607664E-4,7.8002565216344927E-4,8.1340659235504351E-4,7.8242085399622143E-4,8.2035182058517976E-4,9.9304710105940991E-4,1.4076827006962028E-3,2.3107906503743534E-3,3.7743317075121228E-3,6.2373421628649488E-3,1.0390305272842459E-2]
[null,null,"Other",null,5.4702665564762814E-3,8.1605426316993076E-5,3.7335191298516959E-5,3.4074615296225984E-5,5.7686175624428144E-5,8.7900285699975432E-5,1.2011397922262808E-4,1.6631224686860572E-4,2.2624755484622341E-4,3.4656490676026366E-4,5.6456324551847667E-4,8.6844255435672099E-4,1.2554624094774597E-3,1.6431004078219023E-3,1.9464573626127651E-3,2.6651416208225225E-3,3.8877648594881921E-3,6.0369073940190207E-3,9.415746196675203E-3,1.5699995021038055E-2,2.6192213380540771E-2]
[]
[null,"sex","F",null,{"$f":"TRANSPOSE(Ages_group)","v":0},"1 - 4","5 - 9","10 - 14","15 - 19","20 - 24","25 - 29","30 - 34","35 - 39","40 - 44","45 - 49","50 - 54","55 - 59","60 - 64","65 - 69","70 - 74","75 - 79","80 - 84","85 - 89","90 - 94","95+"]
[null,"cause",{"$f":"Causes","v":"Cardiovascular"},null,8.0739250857215237E-5,1.0861706180838547E-5,4.1985093659792723E-6,5.0070624712054375E-6,1.2908190615041579E-5,2.2210494940643305E-5,4.2708250294081297E-5,7.3625882796716697E-5,1.2112046002775666E-4,1.9923222779489043E-4,3.2043884498012763E-4,5.5395228050079211E-4,8.774357633654985E-4,1.3442345936800757E-3,2.0852896175406746E-3,3.5647435882092114E-3,6.3867763779133146E-3,1.2498555461273611E-2,2.4639946645408393E-2,4.9883605670256424E-2,9.9764171070840207E-2]
[null,null,"Cerebrovascular",null,2.4256830665198548E-5,2.2280033819873084E-6,2.4087882244162652E-6,2.4444335006393212E-6,2.9872576938721516E-6,4.2489453695630396E-6,8.8603440428142248E-6,1.729157608652405E-5,2.8251369219600339E-5,5.0239792882426772E-5,7.7234119146630495E-5,1.3523521262422751E-4,2.0074471321480635E-4,2.9985465247968558E-4,4.8999309367245573E-4,9.0112500876273394E-4,1.8306482692893183E-3,3.7097827156364407E-3,6.8909784863153039E-3,1.2504338986207016E-2,2.0973284007522856E-2]
[null,null,"NeoSmok",null,0,0,2.0631490567184769E-7,2.0436912948276528E-7,3.0325646836070499E-7,1.0056354783415045E-6,2.9564584323268979E-6,4.9689643836238256E-6,1.4785030098315247E-5,4.667911782432654E-5,1.2910948395324209E-4,3.1646097228310181E-4,5.6834078249541652E-4,8.3284219457331469E-4,1.3593058490779931E-3,2.0574531486652454E-3,2.574200139707594E-3,2.8886809612483624E-3,2.8413190210792162E-3,2.5019816839040574E-3,2.2207424344301732E-3]
[null,null,"Neoplasm",null,3.0769007689892481E-5,2.4148615346030359E-5,2.2228014360846711E-5,2.357683863259283E-5,2.7000307419068004E-5,3.5062903850857898E-5,6.0936318208856834E-5,1.2494924239053569E-4,2.2378072220135758E-4,3.8449177414982756E-4,6.2485052693416507E-4,1.0203198926086495E-3,1.5565677239366784E-3,2.2884653004959054E-3,3.0987869786219119E-3,4.4304880483912682E-3,5.9979209450862691E-3,8.084948481768028E-3,1.034539611636601E-2,1.2937392204777562E-2,1.4850421399892115E-2]
[null,null,"Dementia",null,0,0,0,0,0,9.7733310684874834E-8,7.3044963106707237E-7,7.4338147674977237E-7,1.7587470254089992E-6,2.2040937407476315E-6,6.9148020288170306E-6,1.5375892891067183E-5,4.674232459361326E-5,1.2780240028303815E-4,3.1058059119917997E-4,9.987348907962287E-4,3.0591503356165407E-3,8.2279944792069629E-3,1.9196507958834198E-2,4.0431309048545333E-2,8.1481315857765607E-2]
[null,null,"Diabetes",null,1.7633115044240382E-5,7.0521730698187575E-7,6.4198381297073077E-7,1.0506907442797634E-6,2.5931341051750603E-6,8.2765066723496755E-6,2.1435377880197379E-5,3.7158590770996073E-5,6.0279691131012138E-5,9.7986580079243788E-5,1.6422272045188752E-4,2.6151494512370268E-4,4.1693370345293683E-4,6.1891144614048261E-4,8.8256056469364515E-4,1.4048212673397791E-3,2.1542317796767615E-3,3.5895265048882662E-3,5.9476631350688152E-3,1.0049961798880324E-2,1.7816861981309502E-2]
[null,null,"Influenza",null,4.3171253347336962E-5,8.8760315735259112E-6,3.3949721308052586E-6,2.9404792883097933E-6,3.5056105499142386E-6,5.1295467116588259E-6,8.4840540424849295E-6,1.284797170944891E-5,1.8647814809689273E-5,2.5113639353205142E-5,3.3765197310871586E-5,5.3502075134500418E-5,8.383560472651043E-5,1.2879389997625724E-4,1.9286238655502914E-4,3.3291939793915552E-4,6.2283515627992191E-4,1.2663762250494086E-3,2.5650965259997852E-3,5.3431681590675817E-3,1.1283377418028604E-2]
[null,null,"Respiratory",null,7.3253375634738942E-5,9.2435252731839215E-6,4.7397045506364245E-6,6.0273855084679972E-6,5.2823041072113356E-6,7.0743327009036086E-6,1.0985893164116935E-5,1.550772267434352E-5,2.7488510904862624E-5,4.2078253676121693E-5,9.4235254412883496E-5,2.0570062210804814E-4,3.8788195263556296E-4,6.3502368660913388E-4,1.1728039582873959E-3,2.1879651763136829E-3,3.4408419880382077E-3,5.2755353435168578E-3,7.533061432440381E-3,1.0380667499411959E-2,1.5137363747430422E-2]
[null,null,"Drug",null,0,1.6239222615427192E-6,4.0920917090231228E-7,1.1157690948259459E-6,2.4804017489541182E-5,9.8540510250570598E-5,1.6759832682607573E-4,2.2230882583017101E-4,2.4520881993319151E-4,2.7703271062920438E-4,3.4238177416356225E-4,3.8855307736006327E-4,3.1978203815666539E-4,2.1315940826746116E-4,1.3815204597461718E-4,9.5124027618698133E-5,7.7722031618132468E-5,7.037060837061218E-5,6.5392079071394994E-5,5.9712315907024722E-5,5.4438038809756383E-5]
[null,null,"External",null,3.4012760995658363E-4,9.2472365957207048E-5,3.9161322257827601E-5,5.1316812801787167E-5,1.6832608823400637E-4,2.324244666494321E-4,2.2170905840947843E-4,2.2323203944859925E-4,2.2077851274508834E-4,2.2774002870406794E-4,2.5212531999757365E-4,2.7884145937937021E-4,2.9464833942000556E-4,2.8508405450634194E-4,3.053985187087163E-4,4.226301983068454E-4,6.9919350762791927E-4,1.2707673364301759E-3,2.2682304779063434E-3,4.0430902016980646E-3,7.2218304722193871E-3]
[null,null,"Other",null,4.6016873864198494E-3,7.7168967359035856E-5,3.1772452050101033E-5,3.2065204710665512E-5,4.3215001680483774E-5,7.5898643628810104E-5,1.0367061299330573E-4,1.4724947567483921E-4,1.9402161126792086E-4,2.578831849957154E-4,4.0400300621435065E-4,5.8873583604470282E-4,8.3045936282856718E-4,1.1296857969538329E-3,1.5757105291631479E-3,2.2870860794778399E-3,3.4981013207304053E-3,5.3836245218104881E-3,8.5353808905871704E-3,1.3731089817682117E-2,2.3040137375457421E-2]

{"sheet":"Mortality trends","index":4,"n_rows":31,"n_cols":25,"rows_kept":31,"cut":false,"hidden":false,"merged":[[0,2,3,9],[0,10,3,16]]}
[null,null,"Society of Actuaries - Cause of deaths forecasting tool",null,null,null,null,null,null,null,"Mortality trends"]
[]
[]
[]
[null,{"$f":"CONCATENATE(\"mortality rate deviation over the next \",Year_max-Year_0,\" years\")","v":"mortality rate deviation over the next 10 years"}]
[null,null,null,null,"age"]
[null,"sex","M",null,{"$f":"TRANSPOSE(Ages_group)","v":0},"1 - 4","5 - 9","10 - 14","15 - 19","20 - 24","25 - 29","30 - 34","35 - 39","40 - 44","45 - 49","50 - 54","55 - 59","60 - 64","65 - 69","70 - 74","75 - 79","80 - 84","85 - 89","90 - 94","95+"]
[null,"cause",{"$f":"Causes","v":"Cardiovascular"},null,{"$f":"IF('Mortality rates at t0'!E8=0,0,OFFSET(INDIRECT(\"'Forecasts \" & $C8 & \"'!C17\"),Year_max-Year_0,MATCH('Mortality trends'!E$7,Ages_group,0))/'Mortality rates at t0'!E8-1)","v":-6.9505282533297463E-2},{"$f":"IF('Mortality rates at t0'!F8=0,0,OFFSET(INDIRECT(\"'Forecasts \" & $C8 & \"'!C17\"),Year_max-Year_0,MATCH('Mortality trends'!F$7,Ages_group,0))/'Mortality rates at t0'!F8-1)","v":-3.286686473405076E-2},{"$f":"IF('Mortality rates at t0'!G8=0,0,OFFSET(INDIRECT(\"'Forecasts \" & $C8 & \"'!C17\"),Year_max-Year_0,MATCH('Mortality trends'!G$7,Ages_group,0))/'Mortality rates at t0'!G8-1)","v":-7.2959179230717153E-2},{"$f":"IF('Mortality rates at t0'!H8=0,0,OFFSET(INDIRECT(\"'Forecasts \" & $C8 & \"'!C17\"),Year_max-Year_0,MATCH('Mortality trends'!H$7,Ages_group,0))/'Mortality rates at t0'!H8-1)","v":-9.6808841166580062E-2},{"$f":"IF('Mortality rates at t0'!I8=0,0,OFFSET(INDIRECT(\"'Forecasts \" & $C8 & \"'!C17\"),Year_max-Year_0,MATCH('Mortality trends'!I$7,Ages_group,0))/'Mortality rates at t0'!I8-1)","v":-5.461355316018135E-2},{"$f":"IF('Mortality rates at t0'!J8=0,0,OFFSET(INDIRECT(\"'Forecasts \" & $C8 & \"'!C17\"),Year_max-Year_0,MATCH('Mortality trends'!J$7,Ages_group,0))/'Mortality rates at t0'!J8-1)","v":-1.5194042006948072E-2},{"$f":"IF('Mortality rates at t0'!K8=0,0,OFFSET(INDIRECT(\"'Forecasts \" & $C8 & \"'!C17\"),Year_max-Year_0,MATCH('Mortality trends'!K$7,Ages_group,0))/'Mortality rates at t0'!K8-1)","v":8.4696865989670744E-3},{"$f":"IF('Mortality rates at t0'!L8=0,0,OFFSET(INDIRECT(\"'Forecasts \" & $C8 & \"'!C17\"),Year_max-Year_0,MATCH('Mortality trends'!L$7,Ages_group,0))/'Mortality rates at t0'!L8-1)","v":-8.1266213274211463E-4},{"$f":"IF('Mortality rates at t0'!M8=0,0,OFFSET(INDIRECT(\"'Forecasts \" & $C8 & \"'!C17\"),Year_max-Year_0,MATCH('Mortality trends'!M$7,Ages_group,0))/'Mortality rates at t0'!M8-1)","v":-3.2381694723543242E-2},{"$f":"IF('Mortality rates at t0'!N8=0,0,OFFSET(INDIRECT(\"'Forecasts \" & $C8 & \"'!C17\"),Year_max-Year_0,MATCH('Mortality trends'!N$7,Ages_group,0))/'Mortality rates at t0'!N8-1)","v":-5.6733742756555405E-2},{"$f":"IF('Mortality rates at t0'!O8=0,0,OFFSET(INDIRECT(\"'Forecasts \" & $C8 & \"'!C17\"),Year_max-Year_0,MATCH('Mortality trends'!O$7,Ages_group,0))/'Mortality rates at t0'!O8-1)","v":-6.18594229492897E-2},{"$f":"IF('Mortality rates at t0'!P8=0,0,OFFSET(INDIRECT(\"'Forecasts \" & $C8 & \"'!C17\"),Year_max-Year_0,MATCH('Mortality trends'!P$7,Ages_group,0))/'Mortality rates at t0'!P8-1)","v":-5.5918811449630734E-2},{"$f":"IF('Mortality rates at t0'!Q8=0,0,OFFSET(INDIRECT(\"'Forecasts \" & $C8 & \"'!C17\"),Year_max-Year_0,MATCH('Mortality trends'!Q$7,Ages_group,0))/'Mortality rates at t0'!Q8-1)","v":-6.4821381508423315E-2},{"$f":"IF('Mortality rates at t0'!R8=0,0,OFFSET(INDIRECT(\"'Forecasts \" & $C8 & \"'!C17\"),Year_max-Year_0,MATCH('Mortality trends'!R$7,Ages_group,0))/'Mortality rates at t0'!R8-1)","v":-7.9986374684581807E-2},{"$f":"IF('Mortality rates at t0'!S8=0,0,OFFSET(INDIRECT(\"'Forecasts \" & $C8 & \"'!C17\"),Year_max-Year_0,MATCH('Mortality trends'!S$7,Ages_group,0))/'Mortality rates at t0'!S8-1)","v":-9.9263772571642206E-2},{"$f":"IF('Mortality rates at t0'!T8=0,0,OFFSET(INDIRECT(\"'Forecasts \" & $C8 & \"'!C17\"),Year_max-Year_0,MATCH('Mortality trends'!T$7,Ages_group,0))/'Mortality rates at t0'!T8-1)","v":-0.11172900617122083},{"$f":"IF('Mortality rates at t0'!U8=0,0,OFFSET(INDIRECT(\"'Forecasts \" & $C8 & \"'!C17\"),Year_max-Year_0,MATCH('Mortality trends'!U$7,Ages_group,0))/'Mortality rates at t0'!U8-1)","v":-0.11184834125075849},{"$f":"IF('Mortality rates at t0'!V8=0,0,OFFSET(INDIRECT(\"'Forecasts \" & $C8 & \"'!C17\"),Year_max-Year_0,MATCH('Mortality trends'!V$7,Ages_group,0))/'Mortality rates at t0'!V8-1)","v":-0.11308479650906267},{"$f":"IF('Mortality rates at t0'!W8=0,0,OFFSET(INDIRECT(\"'Forecasts \" & $C8 & \"'!C17\"),Year_max-Year_0,MATCH('Mortality trends'!W$7,Ages_group,0))/'Mortality rates at t0'!W8-1)","v":-0.10553877989735438},{"$f":"IF('Mortality rates at t0'!X8=0,0,OFFSET(INDIRECT(\"'Forecasts \" & $C8 & \"'!C17\"),Year_max-Year_0,MATCH('Mortality trends'!X$7,Ages_group,0))/'Mortality rates at t0'!X8-1)","v":-8.1072266853335573E-2},{"$f":"IF('Mortality rates at t0'!Y8=0,0,OFFSET(INDIRECT(\"'Forecasts \" & $C8 & \"'!C17\"),Year_max-Year_0,MATCH('Mortality trends'!Y$7,Ages_group,0))/'Mortality rates at t0'!Y8-1)","v":-6.029096228852282E-2}]
[null,null,"Cerebrovascular",null,{"$f":"IF('Mortality rates at t0'!E9=0,0,OFFSET(INDIRECT(\"'Forecasts \" & $C9 & \"'!C17\"),Year_max-Year_0,MATCH('Mortality trends'!E$7,Ages_group,0))/'Mortality rates at t0'!E9-1)","v":-1.844677802433814E-2},{"$f":"IF('Mortality rates at t0'!F9=0,0,OFFSET(INDIRECT(\"'Forecasts \" & $C9 & \"'!C17\"),Year_max-Year_0,MATCH('Mortality trends'!F$7,Ages_group,0))/'Mortality rates at t0'!F9-1)","v":2.4127162752796139E-3},{"$f":"IF('Mortality rates at t0'!G9=0,0,OFFSET(INDIRECT(\"'Forecasts \" & $C9 & \"'!C17\"),Year_max-Year_0,MATCH('Mortality trends'!G$7,Ages_group,0))/'Mortality rates at t0'!G9-1)","v":2.5563593044504174E-2},{"$f":"IF('Mortality rates at t0'!H9=0,0,OFFSET(INDIRECT(\"'Forecasts \" & $C9 & \"'!C17\"),Year_max-Year_0,MATCH('Mortality trends'!H$7,Ages_group,0))/'Mortality rates at t0'!H9-1)","v":4.8103692265127451E-2},{"$f":"IF('Mortality rates at t0'!I9=0,0,OFFSET(INDIRECT(\"'Forecasts \" & $C9 & \"'!C17\"),Year_max-Year_0,MATCH('Mortality trends'!I$7,Ages_group,0))/'Mortality rates at t0'!I9-1)","v":-3.5417078518043543E-2},{"$f":"IF('Mortality rates at t0'!J9=0,0,OFFSET(INDIRECT(\"'Forecasts \" & $C9 & \"'!C17\"),Year_max-Year_0,MATCH('Mortality trends'!J$7,Ages_group,0))/'Mortality rates at t0'!J9-1)","v":-5.2722925050654124E-2},{"$f":"IF('Mortality rates at t0'!K9=0,0,OFFSET(INDIRECT(\"'Forecasts \" & $C9 & \"'!C17\"),Year_max-Year_0,MATCH('Mortality trends'!K$7,Ages_group,0))/'Mortality rates at t0'!K9-1)","v":-4.0161777615152161E-2},{"$f":"IF('Mortality rates at t0'!L9=0,0,OFFSET(INDIRECT(\"'Forecasts \" & $C9 & \"'!C17\"),Year_max-Year_0,MATCH('Mortality trends'!L$7,Ages_group,0))/'Mortality rates at t0'!L9-1)","v":-1.418460899847096E-2},{"$f":"IF('Mortality rates at t0'!M9=0,0,OFFSET(INDIRECT(\"'Forecasts \" & $C9 & \"'!C17\"),Year_max-Year_0,MATCH('Mortality trends'!M$7,Ages_group,0))/'Mortality rates at t0'!M9-1)","v":-3.6004706418495402E-2},{"$f":"IF('Mortality rates at t0'!N9=0,0,OFFSET(INDIRECT(\"'Forecasts \" & $C9 & \"'!C17\"),Year_max-Year_0,MATCH('Mortality trends'!N$7,Ages_group,0))/'Mortality rates at t0'!N9-1)","v":-5.2125853559528812E-2},{"$f":"IF('Mortality rates at t0'!O9=0,0,OFFSET(INDIRECT(\"'Forecasts \" & $C9 & \"'!C17\"),Year_max-Year_0,MATCH('Mortality trends'!O$7,Ages_group,0))/'Mortality rates at t0'!O9-1)","v":-5.6394528808508815E-2},{"$f":"IF('Mortality rates at t0'!P9=0,0,OFFSET(INDIRECT(\"'Forecasts \" & $C9 & \"'!C17\"),Year_max-Year_0,MATCH('Mortality trends'!P$7,Ages_group,0))/'Mortality rates at t0'!P9-1)","v":-4.4862129129936035E-2},{"$f":"IF('Mortality rates at t0'!Q9=0,0,OFFSET(INDIRECT(\"'Forecasts \" & $C9 & \"'!C17\"),Year_max-Year_0,MATCH('Mortality trends'!Q$7,Ages_group,0))/'Mortality rates at t0'!Q9-1)","v":-4.4546837747854062E-2},{"$f":"IF('Mortality rates at t0'!R9=0,0,OFFSET(INDIRECT(\"'Forecasts \" & $C9 & \"'!C17\"),Year_max-Year_0,MATCH('Mortality trends'!R$7,Ages_group,0))/'Mortality rates at t0'!R9-1)","v":-7.0902468440001365E-2},{"$f":"IF('Mortality rates at t0'!S9=0,0,OFFSET(INDIRECT(\"'Forecasts \" & $C9 & \"'!C17\"),Year_max-Year_0,MATCH('Mortality trends'!S$7,Ages_group,0))/'Mortality rates at t0'!S9-1)","v":-9.9265710870666268E-2},{"$f":"IF('Mortality rates at t0'!T9=0,0,OFFSET(INDIRECT(\"'Forecasts \" & $C9 & \"'!C17\"),Year_max-Year_0,MATCH('Mortality trends'!T$7,Ages_group,0))/'Mortality rates at t0'!T9-1)","v":-0.1149918177237349},{"$f":"IF('Mortality rates at t0'!U9=0,0,OFFSET(INDIRECT(\"'Forecasts \" & $C9 & \"'!C17\"),Year_max-Year_0,MATCH('Mortality trends'!U$7,Ages_group,0))/'Mortality rates at t0'!U9-1)","v":-0.12559371271709985},{"$f":"IF('Mortality rates at t0'!V9=0,0,OFFSET(INDIRECT(\"'Forecasts \" & $C9 & \"'!C17\"),Year_max-Year_0,MATCH('Mortality trends'!V$7,Ages_group,0))/'Mortality rates at t0'!V9-1)","v":-0.14364734066200113},{"$f":"IF('Mortality rates at t0'!W9=0,0,OFFSET(INDIRECT(\"'Forecasts \" & $C9 & \"'!C17\"),Year_max-Year_0,MATCH('Mortality trends'!W$7,Ages_group,0))/'Mortality rates at t0'!W9-1)","v":-0.15895896532477671},{"$f":"IF('Mortality rates at t0'!X9=0,0,OFFSET(INDIRECT(\"'Forecasts \" & $C9 & \"'!C17\"),Year_max-Year_0,MATCH('Mortality trends'!X$7,Ages_group,0))/'Mortality rates at t0'!X9-1)","v":-0.14333437460478604},{"$f":"IF('Mortality rates at t0'!Y9=0,0,OFFSET(INDIRECT(\"'Forecasts \" & $C9 & \"'!C17\"),Year_max-Year_0,MATCH('Mortality trends'!Y$7,Ages_group,0))/'Mortality rates at t0'!Y9-1)","v":-0.11411643282466888}]
[null,null,"NeoSmok",null,{"$f":"IF('Mortality rates at t0'!E10=0,0,OFFSET(INDIRECT(\"'Forecasts \" & $C10 & \"'!C17\"),Year_max-Year_0,MATCH('Mortality trends'!E$7,Ages_group,0))/'Mortality rates at t0'!E10-1)","v":0},{"$f":"IF('Mortality rates at t0'!F10=0,0,OFFSET(INDIRECT(\"'Forecasts \" & $C10 & \"'!C17\"),Year_max-Year_0,MATCH('Mortality trends'!F$7,Ages_group,0))/'Mortality rates at t0'!F10-1)","v":0},{"$f":"IF('Mortality rates at t0'!G10=0,0,OFFSET(INDIRECT(\"'Forecasts \" & $C10 & \"'!C17\"),Year_max-Year_0,MATCH('Mortality trends'!G$7,Ages_group,0))/'Mortality rates at t0'!G10-1)","v":-0.11200124192467975},{"$f":"IF('Mortality rates at t0'!H10=0,0,OFFSET(INDIRECT(\"'Forecasts \" & $C10 & \"'!C17\"),Year_max-Year_0,MATCH('Mortality trends'!H$7,Ages_group,0))/'Mortality rates at t0'!H10-1)","v":-0.15960847996434513},{"$f":"IF('Mortality rates at t0'!I10=0,0,OFFSET(INDIRECT(\"'Forecasts \" & $C10 & \"'!C17\"),Year_max-Year_0,MATCH('Mortality trends'!I$7,Ages_group,0))/'Mortality rates at t0'!I10-1)","v":-0.31318664375758209},{"$f":"IF('Mortality rates at t0'!J10=0,0,OFFSET(INDIRECT(\"'Forecasts \" & $C10 & \"'!C17\"),Year_max-Year_0,MATCH('Mortality trends'!J$7,Ages_group,0))/'Mortality rates at t0'!J10-1)","v":-2.9136000641977189E-2},{"$f":"IF('Mortality rates at t0'!K10=0,0,OFFSET(INDIRECT(\"'Forecasts \" & $C10 & \"'!C17\"),Year_max-Year_0,MATCH('Mortality trends'!K$7,Ages_group,0))/'Mortality rates at t0'!K10-1)","v":-8.6540060747397507E-2},{"$f":"IF('Mortality rates at t0'!L10=0,0,OFFSET(INDIRECT(\"'Forecasts \" & $C10 & \"'!C17\"),Year_max-Year_0,MATCH('Mortality trends'!L$7,Ages_group,0))/'Mortality rates at t0'!L10-1)","v":-0.13187969696002932},{"$f":"IF('Mortality rates at t0'!M10=0,0,OFFSET(INDIRECT(\"'Forecasts \" & $C10 & \"'!C17\"),Year_max-Year_0,MATCH('Mortality trends'!M$7,Ages_group,0))/'Mortality rates at t0'!M10-1)","v":-0.31655732826447425},{"$f":"IF('Mortality rates at t0'!N10=0,0,OFFSET(INDIRECT(\"'Forecasts \" & $C10 & \"'!C17\"),Year_max-Year_0,MATCH('Mortality trends'!N$7,Ages_group,0))/'Mortality rates at t0'!N10-1)","v":-0.41525766293277255},{"$f":"IF('Mortality rates at t0'!O10=0,0,OFFSET(INDIRECT(\"'Forecasts \" & $C10 & \"'!C17\"),Year_max-Year_0,MATCH('Mortality trends'!O$7,Ages_group,0))/'Mortality rates at t0'!O10-1)","v":-0.29389554255690598},{"$f":"IF('Mortality rates at t0'!P10=0,0,OFFSET(INDIRECT(\"'Forecasts \" & $C10 & \"'!C17\"),Year_max-Year_0,MATCH('Mortality trends'!P$7,Ages_group,0))/'Mortality rates at t0'!P10-1)","v":-0.18739453089400027},{"$f":"IF('Mortality rates at t0'!Q10=0,0,OFFSET(INDIRECT(\"'Forecasts \" & $C10 & \"'!C17\"),Year_max-Year_0,MATCH('Mortality trends'!Q$7,Ages_group,0))/'Mortality rates at t0'!Q10-1)","v":-0.19629199193849789},{"$f":"IF('Mortality rates at t0'!R10=0,0,OFFSET(INDIRECT(\"'Forecasts \" & $C10 & \"'!C17\"),Year_max-Year_0,MATCH('Mortality trends'!R$7,Ages_group,0))/'Mortality rates at t0'!R10-1)","v":-0.24815477138361608},{"$f":"IF('Mortality rates at t0'!S10=0,0,OFFSET(INDIRECT(\"'Forecasts \" & $C10 & \"'!C17\"),Year_max-Year_0,MATCH('Mortality trends'!S$7,Ages_group,0))/'Mortality rates at t0'!S10-1)","v":-0.23419948708092186},{"$f":"IF('Mortality rates at t0'!T10=0,0,OFFSET(INDIRECT(\"'Forecasts \" & $C10 & \"'!C17\"),Year_max-Year_0,MATCH('Mortality trends'!T$7,Ages_group,0))/'Mortality rates at t0'!T10-1)","v":-0.20757864704685081},{"$f":"IF('Mortality rates at t0'!U10=0,0,OFFSET(INDIRECT(\"'Forecasts \" & $C10 & \"'!C17\"),Year_max-Year_0,MATCH('Mortality trends'!U$7,Ages_group,0))/'Mortality rates at t0'!U10-1)","v":-0.17163472636826038},{"$f":"IF('Mortality rates at t0'!V10=0,0,OFFSET(INDIRECT(\"'Forecasts \" & $C10 & \"'!C17\"),Year_max-Year_0,MATCH('Mortality trends'!V$7,Ages_group,0))/'Mortality rates at t0'!V10-1)","v":-0.13336152694836911},{"$f":"IF('Mortality rates at t0'!W10=0,0,OFFSET(INDIRECT(\"'Forecasts \" & $C10 & \"'!C17\"),Year_max-Year_0,MATCH('Mortality trends'!W$7,Ages_group,0))/'Mortality rates at t0'!W10-1)","v":-0.11652589813531822},{"$f":"IF('Mortality rates at t0'!X10=0,0,OFFSET(INDIRECT(\"'Forecasts \" & $C10 & \"'!C17\"),Year_max-Year_0,MATCH('Mortality trends'!X$7,Ages_group,0))/'Mortality rates at t0'!X10-1)","v":-9.3428452019779673E-2},{"$f":"IF('Mortality rates at t0'!Y10=0,0,OFFSET(INDIRECT(\"'Forecasts \" & $C10 & \"'!C17\"),Year_max-Year_0,MATCH('Mortality trends'!Y$7,Ages_group,0))/'Mortality rates at t0'!Y10-1)","v":-7.8060639349645022E-2}]
[null,null,"Neoplasm",null,{"$f":"IF('Mortality rates at t0'!E11=0,0,OFFSET(INDIRECT(\"'Forecasts \" & $C11 & \"'!C17\"),Year_max-Year_0,MATCH('Mortality trends'!E$7,Ages_group,0))/'Mortality rates at t0'!E11-1)","v":-4.563614008821204E-2},{"$f":"IF('Mortality rates at t0'!F11=0,0,OFFSET(INDIRECT(\"'Forecasts \" & $C11 & \"'!C17\"),Year_max-Year_0,MATCH('Mortality trends'!F$7,Ages_group,0))/'Mortality rates at t0'!F11-1)","v":-7.5979468450242837E-2},{"$f":"IF('Mortality rates at t0'!G11=0,0,OFFSET(INDIRECT(\"'Forecasts \" & $C11 & \"'!C17\"),Year_max-Year_0,MATCH('Mortality trends'!G$7,Ages_group,0))/'Mortality rates at t0'!G11-1)","v":-5.290224527210996E-2},{"$f":"IF('Mortality rates at t0'!H11=0,0,OFFSET(INDIRECT(\"'Forecasts \" & $C11 & \"'!C17\"),Year_max-Year_0,MATCH('Mortality trends'!H$7,Ages_group,0))/'Mortality rates at t0'!H11-1)","v":-6.9369445313855693E-2},{"$f":"IF('Mortality rates at t0'!I11=0,0,OFFSET(INDIRECT(\"'Forecasts \" & $C11 & \"'!C17\"),Year_max-Year_0,MATCH('Mortality trends'!I$7,Ages_group,0))/'Mortality rates at t0'!I11-1)","v":-7.3152062137733842E-2},{"$f":"IF('Mortality rates at t0'!J11=0,0,OFFSET(INDIRECT(\"'Forecasts \" & $C11 & \"'!C17\"),Year_max-Year_0,MATCH('Mortality trends'!J$7,Ages_group,0))/'Mortality rates at t0'!J11-1)","v":-8.3329741105120259E-2},{"$f":"IF('Mortality rates at t0'!K11=0,0,OFFSET(INDIRECT(\"'Forecasts \" & $C11 & \"'!C17\"),Year_max-Year_0,MATCH('Mortality trends'!K$7,Ages_group,0))/'Mortality rates at t0'!K11-1)","v":-1.8664447509262327E-2},{"$f":"IF('Mortality rates at t0'!L11=0,0,OFFSET(INDIRECT(\"'Forecasts \" & $C11 & \"'!C17\"),Year_max-Year_0,MATCH('Mortality trends'!L$7,Ages_group,0))/'Mortality rates at t0'!L11-1)","v":-3.4437195900450579E-2},{"$f":"IF('Mortality rates at t0'!M11=0,0,OFFSET(INDIRECT(\"'Forecasts \" & $C11 & \"'!C17\"),Year_max-Year_0,MATCH('Mortality trends'!M$7,Ages_group,0))/'Mortality rates at t0'!M11-1)","v":-5.5570385888011553E-2},{"$f":"IF('Mortality rates at t0'!N11=0,0,OFFSET(INDIRECT(\"'Forecasts \" & $C11 & \"'!C17\"),Year_max-Year_0,MATCH('Mortality trends'!N$7,Ages_group,0))/'Mortality rates at t0'!N11-1)","v":-7.7177029805973074E-2},{"$f":"IF('Mortality rates at t0'!O11=0,0,OFFSET(INDIRECT(\"'Forecasts \" & $C11 & \"'!C17\"),Year_max-Year_0,MATCH('Mortality trends'!O$7,Ages_group,0))/'Mortality rates at t0'!O11-1)","v":-7.609321654266854E-2},{"$f":"IF('Mortality rates at t0'!P11=0,0,OFFSET(INDIRECT(\"'Forecasts \" & $C11 & \"'!C17\"),Year_max-Year_0,MATCH('Mortality trends'!P$7,Ages_group,0))/'Mortality rates at t0'!P11-1)","v":-4.3537185689953239E-2},{"$f":"IF('Mortality rates at t0'!Q11=0,0,OFFSET(INDIRECT(\"'Forecasts \" & $C11 & \"'!C17\"),Year_max-Year_0,MATCH('Mortality trends'!Q$7,Ages_group,0))/'Mortality rates at t0'!Q11-1)","v":-2.6486677149767601E-2},{"$f":"IF('Mortality rates at t0'!R11=0,0,OFFSET(INDIRECT(\"'Forecasts \" & $C11 & \"'!C17\"),Year_max-Year_0,MATCH('Mortality trends'!R$7,Ages_group,0))/'Mortality rates at t0'!R11-1)","v":-3.849370634017113E-2},{"$f":"IF('Mortality rates at t0'!S11=0,0,OFFSET(INDIRECT(\"'Forecasts \" & $C11 & \"'!C17\"),Year_max-Year_0,MATCH('Mortality trends'!S$7,Ages_group,0))/'Mortality rates at t0'!S11-1)","v":-6.3689654812556618E-2},{"$f":"IF('Mortality rates at t0'!T11=0,0,OFFSET(INDIRECT(\"'Forecasts \" & $C11 & \"'!C17\"),Year_max-Year_0,MATCH('Mortality trends'!T$7,Ages_group,0))/'Mortality rates at t0'!T11-1)","v":-6.9233560520512549E-2},{"$f":"IF('Mortality rates at t0'!U11=0,0,OFFSET(INDIRECT(\"'Forecasts \" & $C11 & \"'!C17\"),Year_max-Year_0,MATCH('Mortality trends'!U$7,Ages_group,0))/'Mortality rates at t0'!U11-1)","v":-6.7582789615667882E-2},{"$f":"IF('Mortality rates at t0'!V11=0,0,OFFSET(INDIRECT(\"'Forecasts \" & $C11 & \"'!C17\"),Year_max-Year_0,MATCH('Mortality trends'!V$7,Ages_group,0))/'Mortality rates at t0'!V11-1)","v":-7.3728151537670206E-2},{"$f":"IF('Mortality rates at t0'!W11=0,0,OFFSET(INDIRECT(\"'Forecasts \" & $C11 & \"'!C17\"),Year_max-Year_0,MATCH('Mortality trends'!W$7,Ages_group,0))/'Mortality rates at t0'!W11-1)","v":-8.1254645993043995E-2},{"$f":"IF('Mortality rates at t0'!X11=0,0,OFFSET(INDIRECT(\"'Forecasts \" & $C11 & \"'!C17\"),Year_max-Year_0,MATCH('Mortality trends'!X$7,Ages_group,0))/'Mortality rates at t0'!X11-1)","v":-6.3629673973035095E-2},{"$f":"IF('Mortality rates at t0'!Y11=0,0,OFFSET(INDIRECT(\"'Forecasts \" & $C11 & \"'!C17\"),Year_max-Year_0,MATCH('Mortality trends'!Y$7,Ages_group,0))/'Mortality rates at t0'!Y11-1)","v":-5.5956205141163728E-2}]
[null,null,"Dementia",null,{"$f":"IF('Mortality rates at t0'!E12=0,0,OFFSET(INDIRECT(\"'Forecasts \" & $C12 & \"'!C17\"),Year_max-Year_0,MATCH('Mortality trends'!E$7,Ages_group,0))/'Mortality rates at t0'!E12-1)","v":0},{"$f":"IF('Mortality rates at t0'!F12=0,0,OFFSET(INDIRECT(\"'Forecasts \" & $C12 & \"'!C17\"),Year_max-Year_0,MATCH('Mortality trends'!F$7,Ages_group,0))/'Mortality rates at t0'!F12-1)","v":0},{"$f":"IF('Mortality rates at t0'!G12=0,0,OFFSET(INDIRECT(\"'Forecasts \" & $C12 & \"'!C17\"),Year_max-Year_0,MATCH('Mortality trends'!G$7,Ages_group,0))/'Mortality rates at t0'!G12-1)","v":0},{"$f":"IF('Mortality rates at t0'!H12=0,0,OFFSET(INDIRECT(\"'Forecasts \" & $C12 & \"'!C17\"),Year_max-Year_0,MATCH('Mortality trends'!H$7,Ages_group,0))/'Mortality rates at t0'!H12-1)","v":0},{"$f":"IF('Mortality rates at t0'!I12=0,0,OFFSET(INDIRECT(\"'Forecasts \" & $C12 & \"'!C17\"),Year_max-Year_0,MATCH('Mortality trends'!I$7,Ages_group,0))/'Mortality rates at t0'!I12-1)","v":0},{"$f":"IF('Mortality rates at t0'!J12=0,0,OFFSET(INDIRECT(\"'Forecasts \" & $C12 & \"'!C17\"),Year_max-Year_0,MATCH('Mortality trends'!J$7,Ages_group,0))/'Mortality rates at t0'!J12-1)","v":-7.8135829411990043E-2},{"$f":"IF('Mortality rates at t0'!K12=0,0,OFFSET(INDIRECT(\"'Forecasts \" & $C12 & \"'!C17\"),Year_max-Year_0,MATCH('Mortality trends'!K$7,Ages_group,0))/'Mortality rates at t0'!K12-1)","v":-7.5108145264519699E-3},{"$f":"IF('Mortality rates at t0'!L12=0,0,OFFSET(INDIRECT(\"'Forecasts \" & $C12 & \"'!C17\"),Year_max-Year_0,MATCH('Mortality trends'!L$7,Ages_group,0))/'Mortality rates at t0'!L12-1)","v":0.11571966160015523},{"$f":"IF('Mortality rates at t0'!M12=0,0,OFFSET(INDIRECT(\"'Forecasts \" & $C12 & \"'!C17\"),Year_max-Year_0,MATCH('Mortality trends'!M$7,Ages_group,0))/'Mortality rates at t0'!M12-1)","v":-3.7739238314393408E-2},{"$f":"IF('Mortality rates at t0'!N12=0,0,OFFSET(INDIRECT(\"'Forecasts \" & $C12 & \"'!C17\"),Year_max-Year_0,MATCH('Mortality trends'!N$7,Ages_group,0))/'Mortality rates at t0'!N12-1)","v":3.7725094253635572E-2},{"$f":"IF('Mortality rates at t0'!O12=0,0,OFFSET(INDIRECT(\"'Forecasts \" & $C12 & \"'!C17\"),Year_max-Year_0,MATCH('Mortality trends'!O$7,Ages_group,0))/'Mortality rates at t0'!O12-1)","v":9.0287702119397961E-2},{"$f":"IF('Mortality rates at t0'!P12=0,0,OFFSET(INDIRECT(\"'Forecasts \" & $C12 & \"'!C17\"),Year_max-Year_0,MATCH('Mortality trends'!P$7,Ages_group,0))/'Mortality rates at t0'!P12-1)","v":0.13859619619311103},{"$f":"IF('Mortality rates at t0'!Q12=0,0,OFFSET(INDIRECT(\"'Forecasts \" & $C12 & \"'!C17\"),Year_max-Year_0,MATCH('Mortality trends'!Q$7,Ages_group,0))/'Mortality rates at t0'!Q12-1)","v":0.1573804156302383},{"$f":"IF('Mortality rates at t0'!R12=0,0,OFFSET(INDIRECT(\"'Forecasts \" & $C12 & \"'!C17\"),Year_max-Year_0,MATCH('Mortality trends'!R$7,Ages_group,0))/'Mortality rates at t0'!R12-1)","v":0.17439558567444835},{"$f":"IF('Mortality rates at t0'!S12=0,0,OFFSET(INDIRECT(\"'Forecasts \" & $C12 & \"'!C17\"),Year_max-Year_0,MATCH('Mortality trends'!S$7,Ages_group,0))/'Mortality rates at t0'!S12-1)","v":0.14065396626608639},{"$f":"IF('Mortality rates at t0'!T12=0,0,OFFSET(INDIRECT(\"'Forecasts \" & $C12 & \"'!C17\"),Year_max-Year_0,MATCH('Mortality trends'!T$7,Ages_group,0))/'Mortality rates at t0'!T12-1)","v":0.14441126224793588},{"$f":"IF('Mortality rates at t0'!U12=0,0,OFFSET(INDIRECT(\"'Forecasts \" & $C12 & \"'!C17\"),Year_max-Year_0,MATCH('Mortality trends'!U$7,Ages_group,0))/'Mortality rates at t0'!U12-1)","v":0.151066199662649},{"$f":"IF('Mortality rates at t0'!V12=0,0,OFFSET(INDIRECT(\"'Forecasts \" & $C12 & \"'!C17\"),Year_max-Year_0,MATCH('Mortality trends'!V$7,Ages_group,0))/'Mortality rates at t0'!V12-1)","v":0.14755485041039473},{"$f":"IF('Mortality rates at t0'!W12=0,0,OFFSET(INDIRECT(\"'Forecasts \" & $C12 & \"'!C17\"),Year_max-Year_0,MATCH('Mortality trends'!W$7,Ages_group,0))/'Mortality rates at t0'!W12-1)","v":0.15435240203484879},{"$f":"IF('Mortality rates at t0'!X12=0,0,OFFSET(INDIRECT(\"'Forecasts \" & $C12 & \"'!C17\"),Year_max-Year_0,MATCH('Mortality trends'!X$7,Ages_group,0))/'Mortality rates at t0'!X12-1)","v":0.19409966420449432},{"$f":"IF('Mortality rates at t0'!Y12=0,0,OFFSET(INDIRECT(\"'Forecasts \" & $C12 & \"'!C17\"),Year_max-Year_0,MATCH('Mortality trends'!Y$7,Ages_group,0))/'Mortality rates at t0'!Y12-1)","v":0.24559538919408075}]
[null,null,"Diabetes",null,{"$f":"IF('Mortality rates at t0'!E13=0,0,OFFSET(INDIRECT(\"'Forecasts \" & $C13 & \"'!C17\"),Year_max-Year_0,MATCH('Mortality trends'!E$7,Ages_group,0))/'Mortality rates at t0'!E13-1)","v":-0.11276262621462596},{"$f":"IF('Mortality rates at t0'!F13=0,0,OFFSET(INDIRECT(\"'Forecasts \" & $C13 & \"'!C17\"),Year_max-Year_0,MATCH('Mortality trends'!F$7,Ages_group,0))/'Mortality rates at t0'!F13-1)","v":-8.6313908064856615E-2},{"$f":"IF('Mortality rates at t0'!G13=0,0,OFFSET(INDIRECT(\"'Forecasts \" & $C13 & \"'!C17\"),Year_max-Year_0,MATCH('Mortality trends'!G$7,Ages_group,0))/'Mortality rates at t0'!G13-1)","v":-9.3100465861134851E-2},{"$f":"IF('Mortality rates at t0'!H13=0,0,OFFSET(INDIRECT(\"'Forecasts \" & $C13 & \"'!C17\"),Year_max-Year_0,MATCH('Mortality trends'!H$7,Ages_group,0))/'Mortality rates at t0'!H13-1)","v":-6.7539830957013547E-2},{"$f":"IF('Mortality rates at t0'!I13=0,0,OFFSET(INDIRECT(\"'Forecasts \" & $C13 & \"'!C17\"),Year_max-Year_0,MATCH('Mortality trends'!I$7,Ages_group,0))/'Mortality rates at t0'!I13-1)","v":-3.2116355413083442E-2},{"$f":"IF('Mortality rates at t0'!J13=0,0,OFFSET(INDIRECT(\"'Forecasts \" & $C13 & \"'!C17\"),Year_max-Year_0,MATCH('Mortality trends'!J$7,Ages_group,0))/'Mortality rates at t0'!J13-1)","v":1.7711280812376495E-2},{"$f":"IF('Mortality rates at t0'!K13=0,0,OFFSET(INDIRECT(\"'Forecasts \" & $C13 & \"'!C17\"),Year_max-Year_0,MATCH('Mortality trends'!K$7,Ages_group,0))/'Mortality rates at t0'!K13-1)","v":2.9353599099711136E-2},{"$f":"IF('Mortality rates at t0'!L13=0,0,OFFSET(INDIRECT(\"'Forecasts \" & $C13 & \"'!C17\"),Year_max-Year_0,MATCH('Mortality trends'!L$7,Ages_group,0))/'Mortality rates at t0'!L13-1)","v":2.9384197319559435E-2},{"$f":"IF('Mortality rates at t0'!M13=0,0,OFFSET(INDIRECT(\"'Forecasts \" & $C13 & \"'!C17\"),Year_max-Year_0,MATCH('Mortality trends'!M$7,Ages_group,0))/'Mortality rates at t0'!M13-1)","v":3.1760178902543235E-2},{"$f":"IF('Mortality rates at t0'!N13=0,0,OFFSET(INDIRECT(\"'Forecasts \" & $C13 & \"'!C17\"),Year_max-Year_0,MATCH('Mortality trends'!N$7,Ages_group,0))/'Mortality rates at t0'!N13-1)","v":2.5296156482087051E-2},{"$f":"IF('Mortality rates at t0'!O13=0,0,OFFSET(INDIRECT(\"'Forecasts \" & $C13 & \"'!C17\"),Year_max-Year_0,MATCH('Mortality trends'!O$7,Ages_group,0))/'Mortality rates at t0'!O13-1)","v":1.9056442805462703E-2},{"$f":"IF('Mortality rates at t0'!P13=0,0,OFFSET(INDIRECT(\"'Forecasts \" & $C13 & \"'!C17\"),Year_max-Year_0,MATCH('Mortality trends'!P$7,Ages_group,0))/'Mortality rates at t0'!P13-1)","v":1.9791075751869336E-2},{"$f":"IF('Mortality rates at t0'!Q13=0,0,OFFSET(INDIRECT(\"'Forecasts \" & $C13 & \"'!C17\"),Year_max-Year_0,MATCH('Mortality trends'!Q$7,Ages_group,0))/'Mortality rates at t0'!Q13-1)","v":1.7228253532085791E-2},{"$f":"IF('Mortality rates at t0'!R13=0,0,OFFSET(INDIRECT(\"'Forecasts \" & $C13 & \"'!C17\"),Year_max-Year_0,MATCH('Mortality trends'!R$7,Ages_group,0))/'Mortality rates at t0'!R13-1)","v":7.2917761856476915E-3},{"$f":"IF('Mortality rates at t0'!S13=0,0,OFFSET(INDIRECT(\"'Forecasts \" & $C13 & \"'!C17\"),Year_max-Year_0,MATCH('Mortality trends'!S$7,Ages_group,0))/'Mortality rates at t0'!S13-1)","v":-1.2722761139759009E-2},{"$f":"IF('Mortality rates at t0'!T13=0,0,OFFSET(INDIRECT(\"'Forecasts \" & $C13 & \"'!C17\"),Year_max-Year_0,MATCH('Mortality trends'!T$7,Ages_group,0))/'Mortality rates at t0'!T13-1)","v":-2.1825362781494606E-2},{"$f":"IF('Mortality rates at t0'!U13=0,0,OFFSET(INDIRECT(\"'Forecasts \" & $C13 & \"'!C17\"),Year_max-Year_0,MATCH('Mortality trends'!U$7,Ages_group,0))/'Mortality rates at t0'!U13-1)","v":-2.4974960528669321E-2},{"$f":"IF('Mortality rates at t0'!V13=0,0,OFFSET(INDIRECT(\"'Forecasts \" & $C13 & \"'!C17\"),Year_max-Year_0,MATCH('Mortality trends'!V$7,Ages_group,0))/'Mortality rates at t0'!V13-1)","v":-2.9122216802883294E-2},{"$f":"IF('Mortality rates at t0'!W13=0,0,OFFSET(INDIRECT(\"'Forecasts \" & $C13 & \"'!C17\"),Year_max-Year_0,MATCH('Mortality trends'!W$7,Ages_group,0))/'Mortality rates at t0'!W13-1)","v":-3.1601604263409078E-2},{"$f":"IF('Mortality rates at t0'!X13=0,0,OFFSET(INDIRECT(\"'Forecasts \" & $C13 & \"'!C17\"),Year_max-Year_0,MATCH('Mortality trends'!X$7,Ages_group,0))/'Mortality rates at t0'!X13-1)","v":-8.7962984819781598E-3},{"$f":"IF('Mortality rates at t0'!Y13=0,0,OFFSET(INDIRECT(\"'Forecasts \" & $C13 & \"'!C17\"),Year_max-Year_0,MATCH('Mortality trends'!Y$7,Ages_group,0))/'Mortality rates at t0'!Y13-1)","v":1.5008749978655977E-2}]
[null,null,"Influenza",null,{"$f":"IF('Mortality rates at t0'!E14=0,0,OFFSET(INDIRECT(\"'Forecasts \" & $C14 & \"'!C17\"),Year_max-Year_0,MATCH('Mortality trends'!E$7,Ages_group,0))/'Mortality rates at t0'!E14-1)","v":-4.8138339320794699E-2},{"$f":"IF('Mortality rates at t0'!F14=0,0,OFFSET(INDIRECT(\"'Forecasts \" & $C14 & \"'!C17\"),Year_max-Year_0,MATCH('Mortality trends'!F$7,Ages_group,0))/'Mortality rates at t0'!F14-1)","v":-1.6240705903746933E-2},{"$f":"IF('Mortality rates at t0'!G14=0,0,OFFSET(INDIRECT(\"'Forecasts \" & $C14 & \"'!C17\"),Year_max-Year_0,MATCH('Mortality trends'!G$7,Ages_group,0))/'Mortality rates at t0'!G14-1)","v":2.4270630087081857E-2},{"$f":"IF('Mortality rates at t0'!H14=0,0,OFFSET(INDIRECT(\"'Forecasts \" & $C14 & \"'!C17\"),Year_max-Year_0,MATCH('Mortality trends'!H$7,Ages_group,0))/'Mortality rates at t0'!H14-1)","v":2.6675415065994024E-2},{"$f":"IF('Mortality rates at t0'!I14=0,0,OFFSET(INDIRECT(\"'Forecasts \" & $C14 & \"'!C17\"),Year_max-Year_0,MATCH('Mortality trends'!I$7,Ages_group,0))/'Mortality rates at t0'!I14-1)","v":-1.5433967578529773E-3},{"$f":"IF('Mortality rates at t0'!J14=0,0,OFFSET(INDIRECT(\"'Forecasts \" & $C14 & \"'!C17\"),Year_max-Year_0,MATCH('Mortality trends'!J$7,Ages_group,0))/'Mortality rates at t0'!J14-1)","v":7.6454505118501714E-3},{"$f":"IF('Mortality rates at t0'!K14=0,0,OFFSET(INDIRECT(\"'Forecasts \" & $C14 & \"'!C17\"),Year_max-Year_0,MATCH('Mortality trends'!K$7,Ages_group,0))/'Mortality rates at t0'!K14-1)","v":3.0837206534130024E-2},{"$f":"IF('Mortality rates at t0'!L14=0,0,OFFSET(INDIRECT(\"'Forecasts \" & $C14 & \"'!C17\"),Year_max-Year_0,MATCH('Mortality trends'!L$7,Ages_group,0))/'Mortality rates at t0'!L14-1)","v":2.3582270429524543E-2},{"$f":"IF('Mortality rates at t0'!M14=0,0,OFFSET(INDIRECT(\"'Forecasts \" & $C14 & \"'!C17\"),Year_max-Year_0,MATCH('Mortality trends'!M$7,Ages_group,0))/'Mortality rates at t0'!M14-1)","v":-9.2411019274339923E-3},{"$f":"IF('Mortality rates at t0'!N14=0,0,OFFSET(INDIRECT(\"'Forecasts \" & $C14 & \"'!C17\"),Year_max-Year_0,MATCH('Mortality trends'!N$7,Ages_group,0))/'Mortality rates at t0'!N14-1)","v":-1.8924836092735986E-2},{"$f":"IF('Mortality rates at t0'!O14=0,0,OFFSET(INDIRECT(\"'Forecasts \" & $C14 & \"'!C17\"),Year_max-Year_0,MATCH('Mortality trends'!O$7,Ages_group,0))/'Mortality rates at t0'!O14-1)","v":-1.7238878651645195E-2},{"$f":"IF('Mortality rates at t0'!P14=0,0,OFFSET(INDIRECT(\"'Forecasts \" & $C14 & \"'!C17\"),Year_max-Year_0,MATCH('Mortality trends'!P$7,Ages_group,0))/'Mortality rates at t0'!P14-1)","v":-1.2456341681383876E-3},{"$f":"IF('Mortality rates at t0'!Q14=0,0,OFFSET(INDIRECT(\"'Forecasts \" & $C14 & \"'!C17\"),Year_max-Year_0,MATCH('Mortality trends'!Q$7,Ages_group,0))/'Mortality rates at t0'!Q14-1)","v":1.5986744814488363E-2},{"$f":"IF('Mortality rates at t0'!R14=0,0,OFFSET(INDIRECT(\"'Forecasts \" & $C14 & \"'!C17\"),Year_max-Year_0,MATCH('Mortality trends'!R$7,Ages_group,0))/'Mortality rates at t0'!R14-1)","v":-7.882340014218614E-3},{"$f":"IF('Mortality rates at t0'!S14=0,0,OFFSET(INDIRECT(\"'Forecasts \" & $C14 & \"'!C17\"),Year_max-Year_0,MATCH('Mortality trends'!S$7,Ages_group,0))/'Mortality rates at t0'!S14-1)","v":-2.3573633066287458E-2},{"$f":"IF('Mortality rates at t0'!T14=0,0,OFFSET(INDIRECT(\"'Forecasts \" & $C14 & \"'!C17\"),Year_max-Year_0,MATCH('Mortality trends'!T$7,Ages_group,0))/'Mortality rates at t0'!T14-1)","v":-4.0081869060075159E-2},{"$f":"IF('Mortality rates at t0'!U14=0,0,OFFSET(INDIRECT(\"'Forecasts \" & $C14 & \"'!C17\"),Year_max-Year_0,MATCH('Mortality trends'!U$7,Ages_group,0))/'Mortality rates at t0'!U14-1)","v":-5.3228427736367268E-2},{"$f":"IF('Mortality rates at t0'!V14=0,0,OFFSET(INDIRECT(\"'Forecasts \" & $C14 & \"'!C17\"),Year_max-Year_0,MATCH('Mortality trends'!V$7,Ages_group,0))/'Mortality rates at t0'!V14-1)","v":-6.764617523976324E-2},{"$f":"IF('Mortality rates at t0'!W14=0,0,OFFSET(INDIRECT(\"'Forecasts \" & $C14 & \"'!C17\"),Year_max-Year_0,MATCH('Mortality trends'!W$7,Ages_group,0))/'Mortality rates at t0'!W14-1)","v":-7.3600475063904325E-2},{"$f":"IF('Mortality rates at t0'!X14=0,0,OFFSET(INDIRECT(\"'Forecasts \" & $C14 & \"'!C17\"),Year_max-Year_0,MATCH('Mortality trends'!X$7,Ages_group,0))/'Mortality rates at t0'!X14-1)","v":-7.2857650475837588E-2},{"$f":"IF('Mortality rates at t0'!Y14=0,0,OFFSET(INDIRECT(\"'Forecasts \" & $C14 & \"'!C17\"),Year_max-Year_0,MATCH('Mortality trends'!Y$7,Ages_group,0))/'Mortality rates at t0'!Y14-1)","v":-6.5304868383280312E-2}]
[null,null,"Respiratory",null,{"$f":"IF('Mortality rates at t0'!E15=0,0,OFFSET(INDIRECT(\"'Forecasts \" & $C15 & \"'!C17\"),Year_max-Year_0,MATCH('Mortality trends'!E$7,Ages_group,0))/'Mortality rates at t0'!E15-1)","v":-5.0656724209282245E-2},{"$f":"IF('Mortality rates at t0'!F15=0,0,OFFSET(INDIRECT(\"'Forecasts \" & $C15 & \"'!C17\"),Year_max-Year_0,MATCH('Mortality trends'!F$7,Ages_group,0))/'Mortality rates at t0'!F15-1)","v":7.8057584536230795E-2},{"$f":"IF('Mortality rates at t0'!G15=0,0,OFFSET(INDIRECT(\"'Forecasts \" & $C15 & \"'!C17\"),Year_max-Year_0,MATCH('Mortality trends'!G$7,Ages_group,0))/'Mortality rates at t0'!G15-1)","v":0.27746376595822153},{"$f":"IF('Mortality rates at t0'!H15=0,0,OFFSET(INDIRECT(\"'Forecasts \" & $C15 & \"'!C17\"),Year_max-Year_0,MATCH('Mortality trends'!H$7,Ages_group,0))/'Mortality rates at t0'!H15-1)","v":-0.12479991940175961},{"$f":"IF('Mortality rates at t0'!I15=0,0,OFFSET(INDIRECT(\"'Forecasts \" & $C15 & \"'!C17\"),Year_max-Year_0,MATCH('Mortality trends'!I$7,Ages_group,0))/'Mortality rates at t0'!I15-1)","v":-0.28066968160488981},{"$f":"IF('Mortality rates at t0'!J15=0,0,OFFSET(INDIRECT(\"'Forecasts \" & $C15 & \"'!C17\"),Year_max-Year_0,MATCH('Mortality trends'!J$7,Ages_group,0))/'Mortality rates at t0'!J15-1)","v":-7.9616512395939143E-3},{"$f":"IF('Mortality rates at t0'!K15=0,0,OFFSET(INDIRECT(\"'Forecasts \" & $C15 & \"'!C17\"),Year_max-Year_0,MATCH('Mortality trends'!K$7,Ages_group,0))/'Mortality rates at t0'!K15-1)","v":0.1051731681341519},{"$f":"IF('Mortality rates at t0'!L15=0,0,OFFSET(INDIRECT(\"'Forecasts \" & $C15 & \"'!C17\"),Year_max-Year_0,MATCH('Mortality trends'!L$7,Ages_group,0))/'Mortality rates at t0'!L15-1)","v":1.631089725776258E-2},{"$f":"IF('Mortality rates at t0'!M15=0,0,OFFSET(INDIRECT(\"'Forecasts \" & $C15 & \"'!C17\"),Year_max-Year_0,MATCH('Mortality trends'!M$7,Ages_group,0))/'Mortality rates at t0'!M15-1)","v":-3.1227807584904288E-2},{"$f":"IF('Mortality rates at t0'!N15=0,0,OFFSET(INDIRECT(\"'Forecasts \" & $C15 & \"'!C17\"),Year_max-Year_0,MATCH('Mortality trends'!N$7,Ages_group,0))/'Mortality rates at t0'!N15-1)","v":-0.11966432839973828},{"$f":"IF('Mortality rates at t0'!O15=0,0,OFFSET(INDIRECT(\"'Forecasts \" & $C15 & \"'!C17\"),Year_max-Year_0,MATCH('Mortality trends'!O$7,Ages_group,0))/'Mortality rates at t0'!O15-1)","v":-7.1834416375935461E-2},{"$f":"IF('Mortality rates at t0'!P15=0,0,OFFSET(INDIRECT(\"'Forecasts \" & $C15 & \"'!C17\"),Year_max-Year_0,MATCH('Mortality trends'!P$7,Ages_group,0))/'Mortality rates at t0'!P15-1)","v":9.2844270025037368E-2},{"$f":"IF('Mortality rates at t0'!Q15=0,0,OFFSET(INDIRECT(\"'Forecasts \" & $C15 & \"'!C17\"),Year_max-Year_0,MATCH('Mortality trends'!Q$7,Ages_group,0))/'Mortality rates at t0'!Q15-1)","v":4.3891301066085742E-3},{"$f":"IF('Mortality rates at t0'!R15=0,0,OFFSET(INDIRECT(\"'Forecasts \" & $C15 & \"'!C17\"),Year_max-Year_0,MATCH('Mortality trends'!R$7,Ages_group,0))/'Mortality rates at t0'!R15-1)","v":-7.8828296545555898E-2},{"$f":"IF('Mortality rates at t0'!S15=0,0,OFFSET(INDIRECT(\"'Forecasts \" & $C15 & \"'!C17\"),Year_max-Year_0,MATCH('Mortality trends'!S$7,Ages_group,0))/'Mortality rates at t0'!S15-1)","v":-0.13065655581707702},{"$f":"IF('Mortality rates at t0'!T15=0,0,OFFSET(INDIRECT(\"'Forecasts \" & $C15 & \"'!C17\"),Year_max-Year_0,MATCH('Mortality trends'!T$7,Ages_group,0))/'Mortality rates at t0'!T15-1)","v":-0.12624830348355587},{"$f":"IF('Mortality rates at t0'!U15=0,0,OFFSET(INDIRECT(\"'Forecasts \" & $C15 & \"'!C17\"),Year_max-Year_0,MATCH('Mortality trends'!U$7,Ages_group,0))/'Mortality rates at t0'!U15-1)","v":-0.12337763261266133},{"$f":"IF('Mortality rates at t0'!V15=0,0,OFFSET(INDIRECT(\"'Forecasts \" & $C15 & \"'!C17\"),Year_max-Year_0,MATCH('Mortality trends'!V$7,Ages_group,0))/'Mortality rates at t0'!V15-1)","v":-0.13521200883118234},{"$f":"IF('Mortality rates at t0'!W15=0,0,OFFSET(INDIRECT(\"'Forecasts \" & $C15 & \"'!C17\"),Year_max-Year_0,MATCH('Mortality trends'!W$7,Ages_group,0))/'Mortality rates at t0'!W15-1)","v":-0.14673696420868676},{"$f":"IF('Mortality rates at t0'!X15=0,0,OFFSET(INDIRECT(\"'Forecasts \" & $C15 & \"'!C17\"),Year_max-Year_0,MATCH('Mortality trends'!X$7,Ages_group,0))/'Mortality rates at t0'!X15-1)","v":-0.1076015733799085},{"$f":"IF('Mortality rates at t0'!Y15=0,0,OFFSET(INDIRECT(\"'Forecasts \" & $C15 & \"'!C17\"),Year_max-Year_0,MATCH('Mortality trends'!Y$7,Ages_group,0))/'Mortality rates at t0'!Y15-1)","v":-4.5630885563466617E-2}]
[null,null,"Drug",null,{"$f":"IF('Mortality rates at t0'!E16=0,0,OFFSET(INDIRECT(\"'Forecasts \" & $C16 & \"'!C17\"),Year_max-Year_0,MATCH('Mortality trends'!E$7,Ages_group,0))/'Mortality rates at t0'!E16-1)","v":0},{"$f":"IF('Mortality rates at t0'!F16=0,0,OFFSET(INDIRECT(\"'Forecasts \" & $C16 & \"'!C17\"),Year_max-Year_0,MATCH('Mortality trends'!F$7,Ages_group,0))/'Mortality rates at t0'!F16-1)","v":-4.6010552214502232E-2},{"$f":"IF('Mortality rates at t0'!G16=0,0,OFFSET(INDIRECT(\"'Forecasts \" & $C16 & \"'!C17\"),Year_max-Year_0,MATCH('Mortality trends'!G$7,Ages_group,0))/'Mortality rates at t0'!G16-1)","v":-0.23162109620951821},{"$f":"IF('Mortality rates at t0'!H16=0,0,OFFSET(INDIRECT(\"'Forecasts \" & $C16 & \"'!C17\"),Year_max-Year_0,MATCH('Mortality trends'!H$7,Ages_group,0))/'Mortality rates at t0'!H16-1)","v":-0.27495278534488066},{"$f":"IF('Mortality rates at t0'!I16=0,0,OFFSET(INDIRECT(\"'Forecasts \" & $C16 & \"'!C17\"),Year_max-Year_0,MATCH('Mortality trends'!I$7,Ages_group,0))/'Mortality rates at t0'!I16-1)","v":0.33595969804259629},{"$f":"IF('Mortality rates at t0'!J16=0,0,OFFSET(INDIRECT(\"'Forecasts \" & $C16 & \"'!C17\"),Year_max-Year_0,MATCH('Mortality trends'!J$7,Ages_group,0))/'Mortality rates at t0'!J16-1)","v":0.85972101107508903},{"$f":"IF('Mortality rates at t0'!K16=0,0,OFFSET(INDIRECT(\"'Forecasts \" & $C16 & \"'!C17\"),Year_max-Year_0,MATCH('Mortality trends'!K$7,Ages_group,0))/'Mortality rates at t0'!K16-1)","v":1.192511399882985},{"$f":"IF('Mortality rates at t0'!L16=0,0,OFFSET(INDIRECT(\"'Forecasts \" & $C16 & \"'!C17\"),Year_max-Year_0,MATCH('Mortality trends'!L$7,Ages_group,0))/'Mortality rates at t0'!L16-1)","v":1.1219090802249201},{"$f":"IF('Mortality rates at t0'!M16=0,0,OFFSET(INDIRECT(\"'Forecasts \" & $C16 & \"'!C17\"),Year_max-Year_0,MATCH('Mortality trends'!M$7,Ages_group,0))/'Mortality rates at t0'!M16-1)","v":0.47095449269000778},{"$f":"IF('Mortality rates at t0'!N16=0,0,OFFSET(INDIRECT(\"'Forecasts \" & $C16 & \"'!C17\"),Year_max-Year_0,MATCH('Mortality trends'!N$7,Ages_group,0))/'Mortality rates at t0'!N16-1)","v":0.16148631209021302},{"$f":"IF('Mortality rates at t0'!O16=0,0,OFFSET(INDIRECT(\"'Forecasts \" & $C16 & \"'!C17\"),Year_max-Year_0,MATCH('Mortality trends'!O$7,Ages_group,0))/'Mortality rates at t0'!O16-1)","v":0.18788778863935973},{"$f":"IF('Mortality rates at t0'!P16=0,0,OFFSET(INDIRECT(\"'Forecasts \" & $C16 & \"'!C17\"),Year_max-Year_0,MATCH('Mortality trends'!P$7,Ages_group,0))/'Mortality rates at t0'!P16-1)","v":0.44009720471071523},{"$f":"IF('Mortality rates at t0'!Q16=0,0,OFFSET(INDIRECT(\"'Forecasts \" & $C16 & \"'!C17\"),Year_max-Year_0,MATCH('Mortality trends'!Q$7,Ages_group,0))/'Mortality rates at t0'!Q16-1)","v":0.63925849641183552},{"$f":"IF('Mortality rates at t0'!R16=0,0,OFFSET(INDIRECT(\"'Forecasts \" & $C16 & \"'!C17\"),Year_max-Year_0,MATCH('Mortality trends'!R$7,Ages_group,0))/'Mortality rates at t0'!R16-1)","v":0.53502870772236699},{"$f":"IF('Mortality rates at t0'!S16=0,0,OFFSET(INDIRECT(\"'Forecasts \" & $C16 & \"'!C17\"),Year_max-Year_0,MATCH('Mortality trends'!S$7,Ages_group,0))/'Mortality rates at t0'!S16-1)","v":0.18986821393971698},{"$f":"IF('Mortality rates at t0'!T16=0,0,OFFSET(INDIRECT(\"'Forecasts \" & $C16 & \"'!C17\"),Year_max-Year_0,MATCH('Mortality trends'!T$7,Ages_group,0))/'Mortality rates at t0'!T16-1)","v":5.8366874766210053E-2},{"$f":"IF('Mortality rates at t0'!U16=0,0,OFFSET(INDIRECT(\"'Forecasts \" & $C16 & \"'!C17\"),Year_max-Year_0,MATCH('Mortality trends'!U$7,Ages_group,0))/'Mortality rates at t0'!U16-1)","v":5.2650394260629119E-2},{"$f":"IF('Mortality rates at t0'!V16=0,0,OFFSET(INDIRECT(\"'Forecasts \" & $C16 & \"'!C17\"),Year_max-Year_0,MATCH('Mortality trends'!V$7,Ages_group,0))/'Mortality rates at t0'!V16-1)","v":-3.4480233960546336E-2},{"$f":"IF('Mortality rates at t0'!W16=0,0,OFFSET(INDIRECT(\"'Forecasts \" & $C16 & \"'!C17\"),Year_max-Year_0,MATCH('Mortality trends'!W$7,Ages_group,0))/'Mortality rates at t0'!W16-1)","v":-6.9490273601201524E-2},{"$f":"IF('Mortality rates at t0'!X16=0,0,OFFSET(INDIRECT(\"'Forecasts \" & $C16 & \"'!C17\"),Year_max-Year_0,MATCH('Mortality trends'!X$7,Ages_group,0))/'Mortality rates at t0'!X16-1)","v":-0.25163856000067364},{"$f":"IF('Mortality rates at t0'!Y16=0,0,OFFSET(INDIRECT(\"'Forecasts \" & $C16 & \"'!C17\"),Year_max-Year_0,MATCH('Mortality trends'!Y$7,Ages_group,0))/'Mortality rates at t0'!Y16-1)","v":-0.45504927474190748}]
[null,null,"External",null,{"$f":"IF('Mortality rates at t0'!E17=0,0,OFFSET(INDIRECT(\"'Forecasts \" & $C17 & \"'!C17\"),Year_max-Year_0,MATCH('Mortality trends'!E$7,Ages_group,0))/'Mortality rates at t0'!E17-1)","v":-2.5232940905733803E-2},{"$f":"IF('Mortality rates at t0'!F17=0,0,OFFSET(INDIRECT(\"'Forecasts \" & $C17 & \"'!C17\"),Year_max-Year_0,MATCH('Mortality trends'!F$7,Ages_group,0))/'Mortality rates at t0'!F17-1)","v":4.4230335414482402E-2},{"$f":"IF('Mortality rates at t0'!G17=0,0,OFFSET(INDIRECT(\"'Forecasts \" & $C17 & \"'!C17\"),Year_max-Year_0,MATCH('Mortality trends'!G$7,Ages_group,0))/'Mortality rates at t0'!G17-1)","v":0.10568889352058353},{"$f":"IF('Mortality rates at t0'!H17=0,0,OFFSET(INDIRECT(\"'Forecasts \" & $C17 & \"'!C17\"),Year_max-Year_0,MATCH('Mortality trends'!H$7,Ages_group,0))/'Mortality rates at t0'!H17-1)","v":9.6602476355243549E-2},{"$f":"IF('Mortality rates at t0'!I17=0,0,OFFSET(INDIRECT(\"'Forecasts \" & $C17 & \"'!C17\"),Year_max-Year_0,MATCH('Mortality trends'!I$7,Ages_group,0))/'Mortality rates at t0'!I17-1)","v":9.4355664813006168E-2},{"$f":"IF('Mortality rates at t0'!J17=0,0,OFFSET(INDIRECT(\"'Forecasts \" & $C17 & \"'!C17\"),Year_max-Year_0,MATCH('Mortality trends'!J$7,Ages_group,0))/'Mortality rates at t0'!J17-1)","v":5.350678999691949E-2},{"$f":"IF('Mortality rates at t0'!K17=0,0,OFFSET(INDIRECT(\"'Forecasts \" & $C17 & \"'!C17\"),Year_max-Year_0,MATCH('Mortality trends'!K$7,Ages_group,0))/'Mortality rates at t0'!K17-1)","v":2.7619445167144985E-2},{"$f":"IF('Mortality rates at t0'!L17=0,0,OFFSET(INDIRECT(\"'Forecasts \" & $C17 & \"'!C17\"),Year_max-Year_0,MATCH('Mortality trends'!L$7,Ages_group,0))/'Mortality rates at t0'!L17-1)","v":1.5834846070917896E-2},{"$f":"IF('Mortality rates at t0'!M17=0,0,OFFSET(INDIRECT(\"'Forecasts \" & $C17 & \"'!C17\"),Year_max-Year_0,MATCH('Mortality trends'!M$7,Ages_group,0))/'Mortality rates at t0'!M17-1)","v":2.7329632788026803E-2},{"$f":"IF('Mortality rates at t0'!N17=0,0,OFFSET(INDIRECT(\"'Forecasts \" & $C17 & \"'!C17\"),Year_max-Year_0,MATCH('Mortality trends'!N$7,Ages_group,0))/'Mortality rates at t0'!N17-1)","v":3.5354651736186682E-2},{"$f":"IF('Mortality rates at t0'!O17=0,0,OFFSET(INDIRECT(\"'Forecasts \" & $C17 & \"'!C17\"),Year_max-Year_0,MATCH('Mortality trends'!O$7,Ages_group,0))/'Mortality rates at t0'!O17-1)","v":1.7299757320168307E-2},{"$f":"IF('Mortality rates at t0'!P17=0,0,OFFSET(INDIRECT(\"'Forecasts \" & $C17 & \"'!C17\"),Year_max-Year_0,MATCH('Mortality trends'!P$7,Ages_group,0))/'Mortality rates at t0'!P17-1)","v":-1.4428433209836222E-2},{"$f":"IF('Mortality rates at t0'!Q17=0,0,OFFSET(INDIRECT(\"'Forecasts \" & $C17 & \"'!C17\"),Year_max-Year_0,MATCH('Mortality trends'!Q$7,Ages_group,0))/'Mortality rates at t0'!Q17-1)","v":-2.704682089104149E-2},{"$f":"IF('Mortality rates at t0'!R17=0,0,OFFSET(INDIRECT(\"'Forecasts \" & $C17 & \"'!C17\"),Year_max-Year_0,MATCH('Mortality trends'!R$7,Ages_group,0))/'Mortality rates at t0'!R17-1)","v":-1.4738250572762013E-2},{"$f":"IF('Mortality rates at t0'!S17=0,0,OFFSET(INDIRECT(\"'Forecasts \" & $C17 & \"'!C17\"),Year_max-Year_0,MATCH('Mortality trends'!S$7,Ages_group,0))/'Mortality rates at t0'!S17-1)","v":-4.7563811444157889E-3},{"$f":"IF('Mortality rates at t0'!T17=0,0,OFFSET(INDIRECT(\"'Forecasts \" & $C17 & \"'!C17\"),Year_max-Year_0,MATCH('Mortality trends'!T$7,Ages_group,0))/'Mortality rates at t0'!T17-1)","v":4.272871142192658E-3},{"$f":"IF('Mortality rates at t0'!U17=0,0,OFFSET(INDIRECT(\"'Forecasts \" & $C17 & \"'!C17\"),Year_max-Year_0,MATCH('Mortality trends'!U$7,Ages_group,0))/'Mortality rates at t0'!U17-1)","v":1.0933753647190292E-2},{"$f":"IF('Mortality rates at t0'!V17=0,0,OFFSET(INDIRECT(\"'Forecasts \" & $C17 & \"'!C17\"),Year_max-Year_0,MATCH('Mortality trends'!V$7,Ages_group,0))/'Mortality rates at t0'!V17-1)","v":7.7069429197464956E-3},{"$f":"IF('Mortality rates at t0'!W17=0,0,OFFSET(INDIRECT(\"'Forecasts \" & $C17 & \"'!C17\"),Year_max-Year_0,MATCH('Mortality trends'!W$7,Ages_group,0))/'Mortality rates at t0'!W17-1)","v":1.0313280818411874E-2},{"$f":"IF('Mortality rates at t0'!X17=0,0,OFFSET(INDIRECT(\"'Forecasts \" & $C17 & \"'!C17\"),Year_max-Year_0,MATCH('Mortality trends'!X$7,Ages_group,0))/'Mortality rates at t0'!X17-1)","v":2.5580532138946843E-4},{"$f":"IF('Mortality rates at t0'!Y17=0,0,OFFSET(INDIRECT(\"'Forecasts \" & $C17 & \"'!C17\"),Year_max-Year_0,MATCH('Mortality trends'!Y$7,Ages_group,0))/'Mortality rates at t0'!Y17-1)","v":-1.9643265422215173E-2}]
[null,null,"Other",null,{"$f":"IF('Mortality rates at t0'!E18=0,0,OFFSET(INDIRECT(\"'Forecasts \" & $C18 & \"'!C17\"),Year_max-Year_0,MATCH('Mortality trends'!E$7,Ages_group,0))/'Mortality rates at t0'!E18-1)","v":-0.13097054827621701},{"$f":"IF('Mortality rates at t0'!F18=0,0,OFFSET(INDIRECT(\"'Forecasts \" & $C18 & \"'!C17\"),Year_max-Year_0,MATCH('Mortality trends'!F$7,Ages_group,0))/'Mortality rates at t0'!F18-1)","v":-0.18082675806372772},{"$f":"IF('Mortality rates at t0'!G18=0,0,OFFSET(INDIRECT(\"'Forecasts \" & $C18 & \"'!C17\"),Year_max-Year_0,MATCH('Mortality trends'!G$7,Ages_group,0))/'Mortality rates at t0'!G18-1)","v":-7.5895350812398732E-2},{"$f":"IF('Mortality rates at t0'!H18=0,0,OFFSET(INDIRECT(\"'Forecasts \" & $C18 & \"'!C17\"),Year_max-Year_0,MATCH('Mortality trends'!H$7,Ages_group,0))/'Mortality rates at t0'!H18-1)","v":-0.16903040929771862},{"$f":"IF('Mortality rates at t0'!I18=0,0,OFFSET(INDIRECT(\"'Forecasts \" & $C18 & \"'!C17\"),Year_max-Year_0,MATCH('Mortality trends'!I$7,Ages_group,0))/'Mortality rates at t0'!I18-1)","v":-0.11815627867822209},{"$f":"IF('Mortality rates at t0'!J18=0,0,OFFSET(INDIRECT(\"'Forecasts \" & $C18 & \"'!C17\"),Year_max-Year_0,MATCH('Mortality trends'!J$7,Ages_group,0))/'Mortality rates at t0'!J18-1)","v":-3.6373862596413509E-2},{"$f":"IF('Mortality rates at t0'!K18=0,0,OFFSET(INDIRECT(\"'Forecasts \" & $C18 & \"'!C17\"),Year_max-Year_0,MATCH('Mortality trends'!K$7,Ages_group,0))/'Mortality rates at t0'!K18-1)","v":-7.7841244300173917E-2},{"$f":"IF('Mortality rates at t0'!L18=0,0,OFFSET(INDIRECT(\"'Forecasts \" & $C18 & \"'!C17\"),Year_max-Year_0,MATCH('Mortality trends'!L$7,Ages_group,0))/'Mortality rates at t0'!L18-1)","v":-0.21998778693734011},{"$f":"IF('Mortality rates at t0'!M18=0,0,OFFSET(INDIRECT(\"'Forecasts \" & $C18 & \"'!C17\"),Year_max-Year_0,MATCH('Mortality trends'!M$7,Ages_group,0))/'Mortality rates at t0'!M18-1)","v":-0.32327975616010007},{"$f":"IF('Mortality rates at t0'!N18=0,0,OFFSET(INDIRECT(\"'Forecasts \" & $C18 & \"'!C17\"),Year_max-Year_0,MATCH('Mortality trends'!N$7,Ages_group,0))/'Mortality rates at t0'!N18-1)","v":-0.28122914655868325},{"$f":"IF('Mortality rates at t0'!O18=0,0,OFFSET(INDIRECT(\"'Forecasts \" & $C18 & \"'!C17\"),Year_max-Year_0,MATCH('Mortality trends'!O$7,Ages_group,0))/'Mortality rates at t0'!O18-1)","v":-0.18812230940546759},{"$f":"IF('Mortality rates at t0'!P18=0,0,OFFSET(INDIRECT(\"'Forecasts \" & $C18 & \"'!C17\"),Year_max-Year_0,MATCH('Mortality trends'!P$7,Ages_group,0))/'Mortality rates at t0'!P18-1)","v":-3.7521999875477996E-2},{"$f":"IF('Mortality rates at t0'!Q18=0,0,OFFSET(INDIRECT(\"'Forecasts \" & $C18 & \"'!C17\"),Year_max-Year_0,MATCH('Mortality trends'!Q$7,Ages_group,0))/'Mortality rates at t0'!Q18-1)","v":0.12267285995059996},{"$f":"IF('Mortality rates at t0'!R18=0,0,OFFSET(INDIRECT(\"'Forecasts \" & $C18 & \"'!C17\"),Year_max-Year_0,MATCH('Mortality trends'!R$7,Ages_group,0))/'Mortality rates at t0'!R18-1)","v":0.13129176352081884},{"$f":"IF('Mortality rates at t0'!S18=0,0,OFFSET(INDIRECT(\"'Forecasts \" & $C18 & \"'!C17\"),Year_max-Year_0,MATCH('Mortality trends'!S$7,Ages_group,0))/'Mortality rates at t0'!S18-1)","v":2.5169776177374592E-2},{"$f":"IF('Mortality rates at t0'!T18=0,0,OFFSET(INDIRECT(\"'Forecasts \" & $C18 & \"'!C17\"),Year_max-Year_0,MATCH('Mortality trends'!T$7,Ages_group,0))/'Mortality rates at t0'!T18-1)","v":-2.6425026708459365E-2},{"$f":"IF('Mortality rates at t0'!U18=0,0,OFFSET(INDIRECT(\"'Forecasts \" & $C18 & \"'!C17\"),Year_max-Year_0,MATCH('Mortality trends'!U$7,Ages_group,0))/'Mortality rates at t0'!U18-1)","v":-4.8849752792192058E-2},{"$f":"IF('Mortality rates at t0'!V18=0,0,OFFSET(INDIRECT(\"'Forecasts \" & $C18 & \"'!C17\"),Year_max-Year_0,MATCH('Mortality trends'!V$7,Ages_group,0))/'Mortality rates at t0'!V18-1)","v":-8.9564634883954497E-2},{"$f":"IF('Mortality rates at t0'!W18=0,0,OFFSET(INDIRECT(\"'Forecasts \" & $C18 & \"'!C17\"),Year_max-Year_0,MATCH('Mortality trends'!W$7,Ages_group,0))/'Mortality rates at t0'!W18-1)","v":-0.12438597639113502},{"$f":"IF('Mortality rates at t0'!X18=0,0,OFFSET(INDIRECT(\"'Forecasts \" & $C18 & \"'!C17\"),Year_max-Year_0,MATCH('Mortality trends'!X$7,Ages_group,0))/'Mortality rates at t0'!X18-1)","v":-0.12114866864344953},{"$f":"IF('Mortality rates at t0'!Y18=0,0,OFFSET(INDIRECT(\"'Forecasts \" & $C18 & \"'!C17\"),Year_max-Year_0,MATCH('Mortality trends'!Y$7,Ages_group,0))/'Mortality rates at t0'!Y18-1)","v":-0.1150263530337654}]
[]
[null,"sex","F",null,{"$f":"TRANSPOSE(Ages_group)","v":0},"1 - 4","5 - 9","10 - 14","15 - 19","20 - 24","25 - 29","30 - 34","35 - 39","40 - 44","45 - 49","50 - 54","55 - 59","60 - 64","65 - 69","70 - 74","75 - 79","80 - 84","85 - 89","90 - 94","95+"]
[null,"cause",{"$f":"Causes","v":"Cardiovascular"},null,{"$f":"IF('Mortality rates at t0'!E21=0,0,OFFSET(INDIRECT(\"'Forecasts \" & $C21 & \"'!C58\"),Year_max-Year_0,MATCH('Mortality trends'!E$20,Ages_group,0))/'Mortality rates at t0'!E21-1)","v":-0.13678113907136058},{"$f":"IF('Mortality rates at t0'!F21=0,0,OFFSET(INDIRECT(\"'Forecasts \" & $C21 & \"'!C58\"),Year_max-Year_0,MATCH('Mortality trends'!F$20,Ages_group,0))/'Mortality rates at t0'!F21-1)","v":-4.457062752271379E-2},{"$f":"IF('Mortality rates at t0'!G21=0,0,OFFSET(INDIRECT(\"'Forecasts \" & $C21 & \"'!C58\"),Year_max-Year_0,MATCH('Mortality trends'!G$20,Ages_group,0))/'Mortality rates at t0'!G21-1)","v":-7.0412651469337617E-2},{"$f":"IF('Mortality rates at t0'!H21=0,0,OFFSET(INDIRECT(\"'Forecasts \" & $C21 & \"'!C58\"),Year_max-Year_0,MATCH('Mortality trends'!H$20,Ages_group,0))/'Mortality rates at t0'!H21-1)","v":-0.11808738165699029},{"$f":"IF('Mortality rates at t0'!I21=0,0,OFFSET(INDIRECT(\"'Forecasts \" & $C21 & \"'!C58\"),Year_max-Year_0,MATCH('Mortality trends'!I$20,Ages_group,0))/'Mortality rates at t0'!I21-1)","v":-9.8444399629450619E-2},{"$f":"IF('Mortality rates at t0'!J21=0,0,OFFSET(INDIRECT(\"'Forecasts \" & $C21 & \"'!C58\"),Year_max-Year_0,MATCH('Mortality trends'!J$20,Ages_group,0))/'Mortality rates at t0'!J21-1)","v":-7.8024370110490238E-2},{"$f":"IF('Mortality rates at t0'!K21=0,0,OFFSET(INDIRECT(\"'Forecasts \" & $C21 & \"'!C58\"),Year_max-Year_0,MATCH('Mortality trends'!K$20,Ages_group,0))/'Mortality rates at t0'!K21-1)","v":-3.4418753971829585E-2},{"$f":"IF('Mortality rates at t0'!L21=0,0,OFFSET(INDIRECT(\"'Forecasts \" & $C21 & \"'!C58\"),Year_max-Year_0,MATCH('Mortality trends'!L$20,Ages_group,0))/'Mortality rates at t0'!L21-1)","v":-1.7266136489761941E-2},{"$f":"IF('Mortality rates at t0'!M21=0,0,OFFSET(INDIRECT(\"'Forecasts \" & $C21 & \"'!C58\"),Year_max-Year_0,MATCH('Mortality trends'!M$20,Ages_group,0))/'Mortality rates at t0'!M21-1)","v":-3.7675806799797984E-2},{"$f":"IF('Mortality rates at t0'!N21=0,0,OFFSET(INDIRECT(\"'Forecasts \" & $C21 & \"'!C58\"),Year_max-Year_0,MATCH('Mortality trends'!N$20,Ages_group,0))/'Mortality rates at t0'!N21-1)","v":-5.0802472046931224E-2},{"$f":"IF('Mortality rates at t0'!O21=0,0,OFFSET(INDIRECT(\"'Forecasts \" & $C21 & \"'!C58\"),Year_max-Year_0,MATCH('Mortality trends'!O$20,Ages_group,0))/'Mortality rates at t0'!O21-1)","v":-4.1679892903594196E-2},{"$f":"IF('Mortality rates at t0'!P21=0,0,OFFSET(INDIRECT(\"'Forecasts \" & $C21 & \"'!C58\"),Year_max-Year_0,MATCH('Mortality trends'!P$20,Ages_group,0))/'Mortality rates at t0'!P21-1)","v":-5.251983381111025E-2},{"$f":"IF('Mortality rates at t0'!Q21=0,0,OFFSET(INDIRECT(\"'Forecasts \" & $C21 & \"'!C58\"),Year_max-Year_0,MATCH('Mortality trends'!Q$20,Ages_group,0))/'Mortality rates at t0'!Q21-1)","v":-9.1450561775270667E-2},{"$f":"IF('Mortality rates at t0'!R21=0,0,OFFSET(INDIRECT(\"'Forecasts \" & $C21 & \"'!C58\"),Year_max-Year_0,MATCH('Mortality trends'!R$20,Ages_group,0))/'Mortality rates at t0'!R21-1)","v":-0.13047724142651784},{"$f":"IF('Mortality rates at t0'!S21=0,0,OFFSET(INDIRECT(\"'Forecasts \" & $C21 & \"'!C58\"),Year_max-Year_0,MATCH('Mortality trends'!S$20,Ages_group,0))/'Mortality rates at t0'!S21-1)","v":-0.15094599148231624},{"$f":"IF('Mortality rates at t0'!T21=0,0,OFFSET(INDIRECT(\"'Forecasts \" & $C21 & \"'!C58\"),Year_max-Year_0,MATCH('Mortality trends'!T$20,Ages_group,0))/'Mortality rates at t0'!T21-1)","v":-0.15447911412061621},{"$f":"IF('Mortality rates at t0'!U21=0,0,OFFSET(INDIRECT(\"'Forecasts \" & $C21 & \"'!C58\"),Year_max-Year_0,MATCH('Mortality trends'!U$20,Ages_group,0))/'Mortality rates at t0'!U21-1)","v":-0.15216141917695258},{"$f":"IF('Mortality rates at t0'!V21=0,0,OFFSET(INDIRECT(\"'Forecasts \" & $C21 & \"'!C58\"),Year_max-Year_0,MATCH('Mortality trends'!V$20,Ages_group,0))/'Mortality rates at t0'!V21-1)","v":-0.15408556206467316},{"$f":"IF('Mortality rates at t0'!W21=0,0,OFFSET(INDIRECT(\"'Forecasts \" & $C21 & \"'!C58\"),Year_max-Year_0,MATCH('Mortality trends'!W$20,Ages_group,0))/'Mortality rates at t0'!W21-1)","v":-0.14854721256828929},{"$f":"IF('Mortality rates at t0'!X21=0,0,OFFSET(INDIRECT(\"'Forecasts \" & $C21 & \"'!C58\"),Year_max-Year_0,MATCH('Mortality trends'!X$20,Ages_group,0))/'Mortality rates at t0'!X21-1)","v":-0.13009323151037966},{"$f":"IF('Mortality rates at t0'!Y21=0,0,OFFSET(INDIRECT(\"'Forecasts \" & $C21 & \"'!C58\"),Year_max-Year_0,MATCH('Mortality trends'!Y$20,Ages_group,0))/'Mortality rates at t0'!Y21-1)","v":-0.11314953262087435}]
[null,null,"Cerebrovascular",null,{"$f":"IF('Mortality rates at t0'!E22=0,0,OFFSET(INDIRECT(\"'Forecasts \" & $C22 & \"'!C58\"),Year_max-Year_0,MATCH('Mortality trends'!E$20,Ages_group,0))/'Mortality rates at t0'!E22-1)","v":2.9315900921702109E-2},{"$f":"IF('Mortality rates at t0'!F22=0,0,OFFSET(INDIRECT(\"'Forecasts \" & $C22 & \"'!C58\"),Year_max-Year_0,MATCH('Mortality trends'!F$20,Ages_group,0))/'Mortality rates at t0'!F22-1)","v":-9.2383405714876798E-2},{"$f":"IF('Mortality rates at t0'!G22=0,0,OFFSET(INDIRECT(\"'Forecasts \" & $C22 & \"'!C58\"),Year_max-Year_0,MATCH('Mortality trends'!G$20,Ages_group,0))/'Mortality rates at t0'!G22-1)","v":0.1227609811692052},{"$f":"IF('Mortality rates at t0'!H22=0,0,OFFSET(INDIRECT(\"'Forecasts \" & $C22 & \"'!C58\"),Year_max-Year_0,MATCH('Mortality trends'!H$20,Ages_group,0))/'Mortality rates at t0'!H22-1)","v":-1.6347983104847197E-2},{"$f":"IF('Mortality rates at t0'!I22=0,0,OFFSET(INDIRECT(\"'Forecasts \" & $C22 & \"'!C58\"),Year_max-Year_0,MATCH('Mortality trends'!I$20,Ages_group,0))/'Mortality rates at t0'!I22-1)","v":-3.2688009856938316E-2},{"$f":"IF('Mortality rates at t0'!J22=0,0,OFFSET(INDIRECT(\"'Forecasts \" & $C22 & \"'!C58\"),Year_max-Year_0,MATCH('Mortality trends'!J$20,Ages_group,0))/'Mortality rates at t0'!J22-1)","v":-0.11378170435942414},{"$f":"IF('Mortality rates at t0'!K22=0,0,OFFSET(INDIRECT(\"'Forecasts \" & $C22 & \"'!C58\"),Year_max-Year_0,MATCH('Mortality trends'!K$20,Ages_group,0))/'Mortality rates at t0'!K22-1)","v":-6.5974770640243263E-2},{"$f":"IF('Mortality rates at t0'!L22=0,0,OFFSET(INDIRECT(\"'Forecasts \" & $C22 & \"'!C58\"),Year_max-Year_0,MATCH('Mortality trends'!L$20,Ages_group,0))/'Mortality rates at t0'!L22-1)","v":-6.0502265718034742E-2},{"$f":"IF('Mortality rates at t0'!M22=0,0,OFFSET(INDIRECT(\"'Forecasts \" & $C22 & \"'!C58\"),Year_max-Year_0,MATCH('Mortality trends'!M$20,Ages_group,0))/'Mortality rates at t0'!M22-1)","v":-0.10306891705900267},{"$f":"IF('Mortality rates at t0'!N22=0,0,OFFSET(INDIRECT(\"'Forecasts \" & $C22 & \"'!C58\"),Year_max-Year_0,MATCH('Mortality trends'!N$20,Ages_group,0))/'Mortality rates at t0'!N22-1)","v":-0.10799480077771828},{"$f":"IF('Mortality rates at t0'!O22=0,0,OFFSET(INDIRECT(\"'Forecasts \" & $C22 & \"'!C58\"),Year_max-Year_0,MATCH('Mortality trends'!O$20,Ages_group,0))/'Mortality rates at t0'!O22-1)","v":-9.1636634715198229E-2},{"$f":"IF('Mortality rates at t0'!P22=0,0,OFFSET(INDIRECT(\"'Forecasts \" & $C22 & \"'!C58\"),Year_max-Year_0,MATCH('Mortality trends'!P$20,Ages_group,0))/'Mortality rates at t0'!P22-1)","v":-6.1402475864005268E-2},{"$f":"IF('Mortality rates at t0'!Q22=0,0,OFFSET(INDIRECT(\"'Forecasts \" & $C22 & \"'!C58\"),Year_max-Year_0,MATCH('Mortality trends'!Q$20,Ages_group,0))/'Mortality rates at t0'!Q22-1)","v":-8.6280506360929765E-2},{"$f":"IF('Mortality rates at t0'!R22=0,0,OFFSET(INDIRECT(\"'Forecasts \" & $C22 & \"'!C58\"),Year_max-Year_0,MATCH('Mortality trends'!R$20,Ages_group,0))/'Mortality rates at t0'!R22-1)","v":-0.10681663032380584},{"$f":"IF('Mortality rates at t0'!S22=0,0,OFFSET(INDIRECT(\"'Forecasts \" & $C22 & \"'!C58\"),Year_max-Year_0,MATCH('Mortality trends'!S$20,Ages_group,0))/'Mortality rates at t0'!S22-1)","v":-0.1251181917471077},{"$f":"IF('Mortality rates at t0'!T22=0,0,OFFSET(INDIRECT(\"'Forecasts \" & $C22 & \"'!C58\"),Year_max-Year_0,MATCH('Mortality trends'!T$20,Ages_group,0))/'Mortality rates at t0'!T22-1)","v":-0.13419097643389233},{"$f":"IF('Mortality rates at t0'!U22=0,0,OFFSET(INDIRECT(\"'Forecasts \" & $C22 & \"'!C58\"),Year_max-Year_0,MATCH('Mortality trends'!U$20,Ages_group,0))/'Mortality rates at t0'!U22-1)","v":-0.13371511860628893},{"$f":"IF('Mortality rates at t0'!V22=0,0,OFFSET(INDIRECT(\"'Forecasts \" & $C22 & \"'!C58\"),Year_max-Year_0,MATCH('Mortality trends'!V$20,Ages_group,0))/'Mortality rates at t0'!V22-1)","v":-0.14736358946708383},{"$f":"IF('Mortality rates at t0'!W22=0,0,OFFSET(INDIRECT(\"'Forecasts \" & $C22 & \"'!C58\"),Year_max-Year_0,MATCH('Mortality trends'!W$20,Ages_group,0))/'Mortality rates at t0'!W22-1)","v":-0.153434813926553},{"$f":"IF('Mortality rates at t0'!X22=0,0,OFFSET(INDIRECT(\"'Forecasts \" & $C22 & \"'!C58\"),Year_max-Year_0,MATCH('Mortality trends'!X$20,Ages_group,0))/'Mortality rates at t0'!X22-1)","v":-0.14343864636924364},{"$f":"IF('Mortality rates at t0'!Y22=0,0,OFFSET(INDIRECT(\"'Forecasts \" & $C22 & \"'!C58\"),Year_max-Year_0,MATCH('Mortality trends'!Y$20,Ages_group,0))/'Mortality rates at t0'!Y22-1)","v":-0.12986240482340961}]
[null,null,"NeoSmok",null,{"$f":"IF('Mortality rates at t0'!E23=0,0,OFFSET(INDIRECT(\"'Forecasts \" & $C23 & \"'!C58\"),Year_max-Year_0,MATCH('Mortality trends'!E$20,Ages_group,0))/'Mortality rates at t0'!E23-1)","v":0},{"$f":"IF('Mortality rates at t0'!F23=0,0,OFFSET(INDIRECT(\"'Forecasts \" & $C23 & \"'!C58\"),Year_max-Year_0,MATCH('Mortality trends'!F$20,Ages_group,0))/'Mortality rates at t0'!F23-1)","v":0},{"$f":"IF('Mortality rates at t0'!G23=0,0,OFFSET(INDIRECT(\"'Forecasts \" & $C23 & \"'!C58\"),Year_max-Year_0,MATCH('Mortality trends'!G$20,Ages_group,0))/'Mortality rates at t0'!G23-1)","v":0.18321167927058757},{"$f":"IF('Mortality rates at t0'!H23=0,0,OFFSET(INDIRECT(\"'Forecasts \" & $C23 & \"'!C58\"),Year_max-Year_0,MATCH('Mortality trends'!H$20,Ages_group,0))/'Mortality rates at t0'!H23-1)","v":-0.16949365091363755},{"$f":"IF('Mortality rates at t0'!I23=0,0,OFFSET(INDIRECT(\"'Forecasts \" & $C23 & \"'!C58\"),Year_max-Year_0,MATCH('Mortality trends'!I$20,Ages_group,0))/'Mortality rates at t0'!I23-1)","v":-0.29900812820786449},{"$f":"IF('Mortality rates at t0'!J23=0,0,OFFSET(INDIRECT(\"'Forecasts \" & $C23 & \"'!C58\"),Year_max-Year_0,MATCH('Mortality trends'!J$20,Ages_group,0))/'Mortality rates at t0'!J23-1)","v":-0.13282941769352774},{"$f":"IF('Mortality rates at t0'!K23=0,0,OFFSET(INDIRECT(\"'Forecasts \" & $C23 & \"'!C58\"),Year_max-Year_0,MATCH('Mortality trends'!K$20,Ages_group,0))/'Mortality rates at t0'!K23-1)","v":8.7391904104101359E-2},{"$f":"IF('Mortality rates at t0'!L23=0,0,OFFSET(INDIRECT(\"'Forecasts \" & $C23 & \"'!C58\"),Year_max-Year_0,MATCH('Mortality trends'!L$20,Ages_group,0))/'Mortality rates at t0'!L23-1)","v":-0.19741574491626668},{"$f":"IF('Mortality rates at t0'!M23=0,0,OFFSET(INDIRECT(\"'Forecasts \" & $C23 & \"'!C58\"),Year_max-Year_0,MATCH('Mortality trends'!M$20,Ages_group,0))/'Mortality rates at t0'!M23-1)","v":-0.36332000981396695},{"$f":"IF('Mortality rates at t0'!N23=0,0,OFFSET(INDIRECT(\"'Forecasts \" & $C23 & \"'!C58\"),Year_max-Year_0,MATCH('Mortality trends'!N$20,Ages_group,0))/'Mortality rates at t0'!N23-1)","v":-0.32579928766754052},{"$f":"IF('Mortality rates at t0'!O23=0,0,OFFSET(INDIRECT(\"'Forecasts \" & $C23 & \"'!C58\"),Year_max-Year_0,MATCH('Mortality trends'!O$20,Ages_group,0))/'Mortality rates at t0'!O23-1)","v":-0.16446522222515036},{"$f":"IF('Mortality rates at t0'!P23=0,0,OFFSET(INDIRECT(\"'Forecasts \" & $C23 & \"'!C58\"),Year_max-Year_0,MATCH('Mortality trends'!P$20,Ages_group,0))/'Mortality rates at t0'!P23-1)","v":-4.6744848028093977E-2},{"$f":"IF('Mortality rates at t0'!Q23=0,0,OFFSET(INDIRECT(\"'Forecasts \" & $C23 & \"'!C58\"),Year_max-Year_0,MATCH('Mortality trends'!Q$20,Ages_group,0))/'Mortality rates at t0'!Q23-1)","v":-0.12621310524267859},{"$f":"IF('Mortality rates at t0'!R23=0,0,OFFSET(INDIRECT(\"'Forecasts \" & $C23 & \"'!C58\"),Year_max-Year_0,MATCH('Mortality trends'!R$20,Ages_group,0))/'Mortality rates at t0'!R23-1)","v":-0.21514425765715273},{"$f":"IF('Mortality rates at t0'!S23=0,0,OFFSET(INDIRECT(\"'Forecasts \" & $C23 & \"'!C58\"),Year_max-Year_0,MATCH('Mortality trends'!S$20,Ages_group,0))/'Mortality rates at t0'!S23-1)","v":-0.15799964036459957},{"$f":"IF('Mortality rates at t0'!T23=0,0,OFFSET(INDIRECT(\"'Forecasts \" & $C23 & \"'!C58\"),Year_max-Year_0,MATCH('Mortality trends'!T$20,Ages_group,0))/'Mortality rates at t0'!T23-1)","v":-9.8405087776404332E-2},{"$f":"IF('Mortality rates at t0'!U23=0,0,OFFSET(INDIRECT(\"'Forecasts \" & $C23 & \"'!C58\"),Year_max-Year_0,MATCH('Mortality trends'!U$20,Ages_group,0))/'Mortality rates at t0'!U23-1)","v":-4.7212902412969382E-2},{"$f":"IF('Mortality rates at t0'!V23=0,0,OFFSET(INDIRECT(\"'Forecasts \" & $C23 & \"'!C58\"),Year_max-Year_0,MATCH('Mortality trends'!V$20,Ages_group,0))/'Mortality rates at t0'!V23-1)","v":7.3979504583432387E-5},{"$f":"IF('Mortality rates at t0'!W23=0,0,OFFSET(INDIRECT(\"'Forecasts \" & $C23 & \"'!C58\"),Year_max-Year_0,MATCH('Mortality trends'!W$20,Ages_group,0))/'Mortality rates at t0'!W23-1)","v":3.3222143783661284E-2},{"$f":"IF('Mortality rates at t0'!X23=0,0,OFFSET(INDIRECT(\"'Forecasts \" & $C23 & \"'!C58\"),Year_max-Year_0,MATCH('Mortality trends'!X$20,Ages_group,0))/'Mortality rates at t0'!X23-1)","v":5.2606989598621423E-2},{"$f":"IF('Mortality rates at t0'!Y23=0,0,OFFSET(INDIRECT(\"'Forecasts \" & $C23 & \"'!C58\"),Year_max-Year_0,MATCH('Mortality trends'!Y$20,Ages_group,0))/'Mortality rates at t0'!Y23-1)","v":0.10032680685275364}]
[null,null,"Neoplasm",null,{"$f":"IF('Mortality rates at t0'!E24=0,0,OFFSET(INDIRECT(\"'Forecasts \" & $C24 & \"'!C58\"),Year_max-Year_0,MATCH('Mortality trends'!E$20,Ages_group,0))/'Mortality rates at t0'!E24-1)","v":-6.5993345885521415E-2},{"$f":"IF('Mortality rates at t0'!F24=0,0,OFFSET(INDIRECT(\"'Forecasts \" & $C24 & \"'!C58\"),Year_max-Year_0,MATCH('Mortality trends'!F$20,Ages_group,0))/'Mortality rates at t0'!F24-1)","v":-5.7680178613334743E-2},{"$f":"IF('Mortality rates at t0'!G24=0,0,OFFSET(INDIRECT(\"'Forecasts \" & $C24 & \"'!C58\"),Year_max-Year_0,MATCH('Mortality trends'!G$20,Ages_group,0))/'Mortality rates at t0'!G24-1)","v":-6.5009764786795321E-2},{"$f":"IF('Mortality rates at t0'!H24=0,0,OFFSET(INDIRECT(\"'Forecasts \" & $C24 & \"'!C58\"),Year_max-Year_0,MATCH('Mortality trends'!H$20,Ages_group,0))/'Mortality rates at t0'!H24-1)","v":-3.4617085711561746E-2},{"$f":"IF('Mortality rates at t0'!I24=0,0,OFFSET(INDIRECT(\"'Forecasts \" & $C24 & \"'!C58\"),Year_max-Year_0,MATCH('Mortality trends'!I$20,Ages_group,0))/'Mortality rates at t0'!I24-1)","v":-6.4365202806440758E-2},{"$f":"IF('Mortality rates at t0'!J24=0,0,OFFSET(INDIRECT(\"'Forecasts \" & $C24 & \"'!C58\"),Year_max-Year_0,MATCH('Mortality trends'!J$20,Ages_group,0))/'Mortality rates at t0'!J24-1)","v":-7.3768936889959225E-2},{"$f":"IF('Mortality rates at t0'!K24=0,0,OFFSET(INDIRECT(\"'Forecasts \" & $C24 & \"'!C58\"),Year_max-Year_0,MATCH('Mortality trends'!K$20,Ages_group,0))/'Mortality rates at t0'!K24-1)","v":-6.2137306858012886E-2},{"$f":"IF('Mortality rates at t0'!L24=0,0,OFFSET(INDIRECT(\"'Forecasts \" & $C24 & \"'!C58\"),Year_max-Year_0,MATCH('Mortality trends'!L$20,Ages_group,0))/'Mortality rates at t0'!L24-1)","v":-4.9536806817116585E-2},{"$f":"IF('Mortality rates at t0'!M24=0,0,OFFSET(INDIRECT(\"'Forecasts \" & $C24 & \"'!C58\"),Year_max-Year_0,MATCH('Mortality trends'!M$20,Ages_group,0))/'Mortality rates at t0'!M24-1)","v":-6.3561069873898979E-2},{"$f":"IF('Mortality rates at t0'!N24=0,0,OFFSET(INDIRECT(\"'Forecasts \" & $C24 & \"'!C58\"),Year_max-Year_0,MATCH('Mortality trends'!N$20,Ages_group,0))/'Mortality rates at t0'!N24-1)","v":-6.2165959200639942E-2},{"$f":"IF('Mortality rates at t0'!O24=0,0,OFFSET(INDIRECT(\"'Forecasts \" & $C24 & \"'!C58\"),Year_max-Year_0,MATCH('Mortality trends'!O$20,Ages_group,0))/'Mortality rates at t0'!O24-1)","v":-6.5132516825830433E-2},{"$f":"IF('Mortality rates at t0'!P24=0,0,OFFSET(INDIRECT(\"'Forecasts \" & $C24 & \"'!C58\"),Year_max-Year_0,MATCH('Mortality trends'!P$20,Ages_group,0))/'Mortality rates at t0'!P24-1)","v":-5.9591625122977221E-2},{"$f":"IF('Mortality rates at t0'!Q24=0,0,OFFSET(INDIRECT(\"'Forecasts \" & $C24 & \"'!C58\"),Year_max-Year_0,MATCH('Mortality trends'!Q$20,Ages_group,0))/'Mortality rates at t0'!Q24-1)","v":-6.3435885168506734E-2},{"$f":"IF('Mortality rates at t0'!R24=0,0,OFFSET(INDIRECT(\"'Forecasts \" & $C24 & \"'!C58\"),Year_max-Year_0,MATCH('Mortality trends'!R$20,Ages_group,0))/'Mortality rates at t0'!R24-1)","v":-6.4111090774764512E-2},{"$f":"IF('Mortality rates at t0'!S24=0,0,OFFSET(INDIRECT(\"'Forecasts \" & $C24 & \"'!C58\"),Year_max-Year_0,MATCH('Mortality trends'!S$20,Ages_group,0))/'Mortality rates at t0'!S24-1)","v":-6.694869400357073E-2},{"$f":"IF('Mortality rates at t0'!T24=0,0,OFFSET(INDIRECT(\"'Forecasts \" & $C24 & \"'!C58\"),Year_max-Year_0,MATCH('Mortality trends'!T$20,Ages_group,0))/'Mortality rates at t0'!T24-1)","v":-6.1821796844153787E-2},{"$f":"IF('Mortality rates at t0'!U24=0,0,OFFSET(INDIRECT(\"'Forecasts \" & $C24 & \"'!C58\"),Year_max-Year_0,MATCH('Mortality trends'!U$20,Ages_group,0))/'Mortality rates at t0'!U24-1)","v":-5.5718480987355767E-2},{"$f":"IF('Mortality rates at t0'!V24=0,0,OFFSET(INDIRECT(\"'Forecasts \" & $C24 & \"'!C58\"),Year_max-Year_0,MATCH('Mortality trends'!V$20,Ages_group,0))/'Mortality rates at t0'!V24-1)","v":-5.7645462538732484E-2},{"$f":"IF('Mortality rates at t0'!W24=0,0,OFFSET(INDIRECT(\"'Forecasts \" & $C24 & \"'!C58\"),Year_max-Year_0,MATCH('Mortality trends'!W$20,Ages_group,0))/'Mortality rates at t0'!W24-1)","v":-5.7453742257640994E-2},{"$f":"IF('Mortality rates at t0'!X24=0,0,OFFSET(INDIRECT(\"'Forecasts \" & $C24 & \"'!C58\"),Year_max-Year_0,MATCH('Mortality trends'!X$20,Ages_group,0))/'Mortality rates at t0'!X24-1)","v":-4.5508307240356372E-2},{"$f":"IF('Mortality rates at t0'!Y24=0,0,OFFSET(INDIRECT(\"'Forecasts \" & $C24 & \"'!C58\"),Year_max-Year_0,MATCH('Mortality trends'!Y$20,Ages_group,0))/'Mortality rates at t0'!Y24-1)","v":-3.7930271829910045E-2}]
[null,null,"Dementia",null,{"$f":"IF('Mortality rates at t0'!E25=0,0,OFFSET(INDIRECT(\"'Forecasts \" & $C25 & \"'!C58\"),Year_max-Year_0,MATCH('Mortality trends'!E$20,Ages_group,0))/'Mortality rates at t0'!E25-1)","v":0},{"$f":"IF('Mortality rates at t0'!F25=0,0,OFFSET(INDIRECT(\"'Forecasts \" & $C25 & \"'!C58\"),Year_max-Year_0,MATCH('Mortality trends'!F$20,Ages_group,0))/'Mortality rates at t0'!F25-1)","v":0},{"$f":"IF('Mortality rates at t0'!G25=0,0,OFFSET(INDIRECT(\"'Forecasts \" & $C25 & \"'!C58\"),Year_max-Year_0,MATCH('Mortality trends'!G$20,Ages_group,0))/'Mortality rates at t0'!G25-1)","v":0},{"$f":"IF('Mortality rates at t0'!H25=0,0,OFFSET(INDIRECT(\"'Forecasts \" & $C25 & \"'!C58\"),Year_max-Year_0,MATCH('Mortality trends'!H$20,Ages_group,0))/'Mortality rates at t0'!H25-1)","v":0},{"$f":"IF('Mortality rates at t0'!I25=0,0,OFFSET(INDIRECT(\"'Forecasts \" & $C25 & \"'!C58\"),Year_max-Year_0,MATCH('Mortality trends'!I$20,Ages_group,0))/'Mortality rates at t0'!I25-1)","v":0},{"$f":"IF('Mortality rates at t0'!J25=0,0,OFFSET(INDIRECT(\"'Forecasts \" & $C25 & \"'!C58\"),Year_max-Year_0,MATCH('Mortality trends'!J$20,Ages_group,0))/'Mortality rates at t0'!J25-1)","v":-0.13586567746889899},{"$f":"IF('Mortality rates at t0'!K25=0,0,OFFSET(INDIRECT(\"'Forecasts \" & $C25 & \"'!C58\"),Year_max-Year_0,MATCH('Mortality trends'!K$20,Ages_group,0))/'Mortality rates at t0'!K25-1)","v":9.9120720254956218E-2},{"$f":"IF('Mortality rates at t0'!L25=0,0,OFFSET(INDIRECT(\"'Forecasts \" & $C25 & \"'!C58\"),Year_max-Year_0,MATCH('Mortality trends'!L$20,Ages_group,0))/'Mortality rates at t0'!L25-1)","v":8.6085772065866983E-3},{"$f":"IF('Mortality rates at t0'!M25=0,0,OFFSET(INDIRECT(\"'Forecasts \" & $C25 & \"'!C58\"),Year_max-Year_0,MATCH('Mortality trends'!M$20,Ages_group,0))/'Mortality rates at t0'!M25-1)","v":0.10413604609715033},{"$f":"IF('Mortality rates at t0'!N25=0,0,OFFSET(INDIRECT(\"'Forecasts \" & $C25 & \"'!C58\"),Year_max-Year_0,MATCH('Mortality trends'!N$20,Ages_group,0))/'Mortality rates at t0'!N25-1)","v":5.5010355459156113E-2},{"$f":"IF('Mortality rates at t0'!O25=0,0,OFFSET(INDIRECT(\"'Forecasts \" & $C25 & \"'!C58\"),Year_max-Year_0,MATCH('Mortality trends'!O$20,Ages_group,0))/'Mortality rates at t0'!O25-1)","v":0.11404801886569671},{"$f":"IF('Mortality rates at t0'!P25=0,0,OFFSET(INDIRECT(\"'Forecasts \" & $C25 & \"'!C58\"),Year_max-Year_0,MATCH('Mortality trends'!P$20,Ages_group,0))/'Mortality rates at t0'!P25-1)","v":0.18032530171815964},{"$f":"IF('Mortality rates at t0'!Q25=0,0,OFFSET(INDIRECT(\"'Forecasts \" & $C25 & \"'!C58\"),Year_max-Year_0,MATCH('Mortality trends'!Q$20,Ages_group,0))/'Mortality rates at t0'!Q25-1)","v":0.15864733292425237},{"$f":"IF('Mortality rates at t0'!R25=0,0,OFFSET(INDIRECT(\"'Forecasts \" & $C25 & \"'!C58\"),Year_max-Year_0,MATCH('Mortality trends'!R$20,Ages_group,0))/'Mortality rates at t0'!R25-1)","v":0.16993873400363557},{"$f":"IF('Mortality rates at t0'!S25=0,0,OFFSET(INDIRECT(\"'Forecasts \" & $C25 & \"'!C58\"),Year_max-Year_0,MATCH('Mortality trends'!S$20,Ages_group,0))/'Mortality rates at t0'!S25-1)","v":0.14010091836039651},{"$f":"IF('Mortality rates at t0'!T25=0,0,OFFSET(INDIRECT(\"'Forecasts \" & $C25 & \"'!C58\"),Year_max-Year_0,MATCH('Mortality trends'!T$20,Ages_group,0))/'Mortality rates at t0'!T25-1)","v":0.15051228293998853},{"$f":"IF('Mortality rates at t0'!U25=0,0,OFFSET(INDIRECT(\"'Forecasts \" & $C25 & \"'!C58\"),Year_max-Year_0,MATCH('Mortality trends'!U$20,Ages_group,0))/'Mortality rates at t0'!U25-1)","v":0.1650126683177735},{"$f":"IF('Mortality rates at t0'!V25=0,0,OFFSET(INDIRECT(\"'Forecasts \" & $C25 & \"'!C58\"),Year_max-Year_0,MATCH('Mortality trends'!V$20,Ages_group,0))/'Mortality rates at t0'!V25-1)","v":0.16335245766110074},{"$f":"IF('Mortality rates at t0'!W25=0,0,OFFSET(INDIRECT(\"'Forecasts \" & $C25 & \"'!C58\"),Year_max-Year_0,MATCH('Mortality trends'!W$20,Ages_group,0))/'Mortality rates at t0'!W25-1)","v":0.17055988425963897},{"$f":"IF('Mortality rates at t0'!X25=0,0,OFFSET(INDIRECT(\"'Forecasts \" & $C25 & \"'!C58\"),Year_max-Year_0,MATCH('Mortality trends'!X$20,Ages_group,0))/'Mortality rates at t0'!X25-1)","v":0.18895585958728178},{"$f":"IF('Mortality rates at t0'!Y25=0,0,OFFSET(INDIRECT(\"'Forecasts \" & $C25 & \"'!C58\"),Year_max-Year_0,MATCH('Mortality trends'!Y$20,Ages_group,0))/'Mortality rates at t0'!Y25-1)","v":0.22352688597293513}]
[null,null,"Diabetes",null,{"$f":"IF('Mortality rates at t0'!E26=0,0,OFFSET(INDIRECT(\"'Forecasts \" & $C26 & \"'!C58\"),Year_max-Year_0,MATCH('Mortality trends'!E$20,Ages_group,0))/'Mortality rates at t0'!E26-1)","v":-0.13554919590632031},{"$f":"IF('Mortality rates at t0'!F26=0,0,OFFSET(INDIRECT(\"'Forecasts \" & $C26 & \"'!C58\"),Year_max-Year_0,MATCH('Mortality trends'!F$20,Ages_group,0))/'Mortality rates at t0'!F26-1)","v":-8.8302638001426237E-2},{"$f":"IF('Mortality rates at t0'!G26=0,0,OFFSET(INDIRECT(\"'Forecasts \" & $C26 & \"'!C58\"),Year_max-Year_0,MATCH('Mortality trends'!G$20,Ages_group,0))/'Mortality rates at t0'!G26-1)","v":-5.8915857339520539E-2},{"$f":"IF('Mortality rates at t0'!H26=0,0,OFFSET(INDIRECT(\"'Forecasts \" & $C26 & \"'!C58\"),Year_max-Year_0,MATCH('Mortality trends'!H$20,Ages_group,0))/'Mortality rates at t0'!H26-1)","v":-9.8041182191060172E-2},{"$f":"IF('Mortality rates at t0'!I26=0,0,OFFSET(INDIRECT(\"'Forecasts \" & $C26 & \"'!C58\"),Year_max-Year_0,MATCH('Mortality trends'!I$20,Ages_group,0))/'Mortality rates at t0'!I26-1)","v":-6.2347853956858712E-2},{"$f":"IF('Mortality rates at t0'!J26=0,0,OFFSET(INDIRECT(\"'Forecasts \" & $C26 & \"'!C58\"),Year_max-Year_0,MATCH('Mortality trends'!J$20,Ages_group,0))/'Mortality rates at t0'!J26-1)","v":-2.95162984882269E-2},{"$f":"IF('Mortality rates at t0'!K26=0,0,OFFSET(INDIRECT(\"'Forecasts \" & $C26 & \"'!C58\"),Year_max-Year_0,MATCH('Mortality trends'!K$20,Ages_group,0))/'Mortality rates at t0'!K26-1)","v":2.5255757646200916E-3},{"$f":"IF('Mortality rates at t0'!L26=0,0,OFFSET(INDIRECT(\"'Forecasts \" & $C26 & \"'!C58\"),Year_max-Year_0,MATCH('Mortality trends'!L$20,Ages_group,0))/'Mortality rates at t0'!L26-1)","v":1.2163966320147379E-2},{"$f":"IF('Mortality rates at t0'!M26=0,0,OFFSET(INDIRECT(\"'Forecasts \" & $C26 & \"'!C58\"),Year_max-Year_0,MATCH('Mortality trends'!M$20,Ages_group,0))/'Mortality rates at t0'!M26-1)","v":1.6566088919438116E-2},{"$f":"IF('Mortality rates at t0'!N26=0,0,OFFSET(INDIRECT(\"'Forecasts \" & $C26 & \"'!C58\"),Year_max-Year_0,MATCH('Mortality trends'!N$20,Ages_group,0))/'Mortality rates at t0'!N26-1)","v":1.3070571225656025E-2},{"$f":"IF('Mortality rates at t0'!O26=0,0,OFFSET(INDIRECT(\"'Forecasts \" & $C26 & \"'!C58\"),Year_max-Year_0,MATCH('Mortality trends'!O$20,Ages_group,0))/'Mortality rates at t0'!O26-1)","v":1.2062107304020575E-2},{"$f":"IF('Mortality rates at t0'!P26=0,0,OFFSET(INDIRECT(\"'Forecasts \" & $C26 & \"'!C58\"),Year_max-Year_0,MATCH('Mortality trends'!P$20,Ages_group,0))/'Mortality rates at t0'!P26-1)","v":-1.4649377014648302E-3},{"$f":"IF('Mortality rates at t0'!Q26=0,0,OFFSET(INDIRECT(\"'Forecasts \" & $C26 & \"'!C58\"),Year_max-Year_0,MATCH('Mortality trends'!Q$20,Ages_group,0))/'Mortality rates at t0'!Q26-1)","v":-2.1050914449745828E-2},{"$f":"IF('Mortality rates at t0'!R26=0,0,OFFSET(INDIRECT(\"'Forecasts \" & $C26 & \"'!C58\"),Year_max-Year_0,MATCH('Mortality trends'!R$20,Ages_group,0))/'Mortality rates at t0'!R26-1)","v":-4.0097899030980266E-2},{"$f":"IF('Mortality rates at t0'!S26=0,0,OFFSET(INDIRECT(\"'Forecasts \" & $C26 & \"'!C58\"),Year_max-Year_0,MATCH('Mortality trends'!S$20,Ages_group,0))/'Mortality rates at t0'!S26-1)","v":-6.0883050568257158E-2},{"$f":"IF('Mortality rates at t0'!T26=0,0,OFFSET(INDIRECT(\"'Forecasts \" & $C26 & \"'!C58\"),Year_max-Year_0,MATCH('Mortality trends'!T$20,Ages_group,0))/'Mortality rates at t0'!T26-1)","v":-5.2735937917146147E-2},{"$f":"IF('Mortality rates at t0'!U26=0,0,OFFSET(INDIRECT(\"'Forecasts \" & $C26 & \"'!C58\"),Year_max-Year_0,MATCH('Mortality trends'!U$20,Ages_group,0))/'Mortality rates at t0'!U26-1)","v":-4.953178418772719E-2},{"$f":"IF('Mortality rates at t0'!V26=0,0,OFFSET(INDIRECT(\"'Forecasts \" & $C26 & \"'!C58\"),Year_max-Year_0,MATCH('Mortality trends'!V$20,Ages_group,0))/'Mortality rates at t0'!V26-1)","v":-4.4258903911158165E-2},{"$f":"IF('Mortality rates at t0'!W26=0,0,OFFSET(INDIRECT(\"'Forecasts \" & $C26 & \"'!C58\"),Year_max-Year_0,MATCH('Mortality trends'!W$20,Ages_group,0))/'Mortality rates at t0'!W26-1)","v":-3.8144991995815336E-2},{"$f":"IF('Mortality rates at t0'!X26=0,0,OFFSET(INDIRECT(\"'Forecasts \" & $C26 & \"'!C58\"),Year_max-Year_0,MATCH('Mortality trends'!X$20,Ages_group,0))/'Mortality rates at t0'!X26-1)","v":-2.3921059363013586E-2},{"$f":"IF('Mortality rates at t0'!Y26=0,0,OFFSET(INDIRECT(\"'Forecasts \" & $C26 & \"'!C58\"),Year_max-Year_0,MATCH('Mortality trends'!Y$20,Ages_group,0))/'Mortality rates at t0'!Y26-1)","v":-7.5961873715424399E-4}]
[null,null,"Influenza",null,{"$f":"IF('Mortality rates at t0'!E27=0,0,OFFSET(INDIRECT(\"'Forecasts \" & $C27 & \"'!C58\"),Year_max-Year_0,MATCH('Mortality trends'!E$20,Ages_group,0))/'Mortality rates at t0'!E27-1)","v":-5.3386792036014263E-4},{"$f":"IF('Mortality rates at t0'!F27=0,0,OFFSET(INDIRECT(\"'Forecasts \" & $C27 & \"'!C58\"),Year_max-Year_0,MATCH('Mortality trends'!F$20,Ages_group,0))/'Mortality rates at t0'!F27-1)","v":-1.7428453845202974E-4},{"$f":"IF('Mortality rates at t0'!G27=0,0,OFFSET(INDIRECT(\"'Forecasts \" & $C27 & \"'!C58\"),Year_max-Year_0,MATCH('Mortality trends'!G$20,Ages_group,0))/'Mortality rates at t0'!G27-1)","v":2.1248466943446509E-4},{"$f":"IF('Mortality rates at t0'!H27=0,0,OFFSET(INDIRECT(\"'Forecasts \" & $C27 & \"'!C58\"),Year_max-Year_0,MATCH('Mortality trends'!H$20,Ages_group,0))/'Mortality rates at t0'!H27-1)","v":1.0064408103405142E-4},{"$f":"IF('Mortality rates at t0'!I27=0,0,OFFSET(INDIRECT(\"'Forecasts \" & $C27 & \"'!C58\"),Year_max-Year_0,MATCH('Mortality trends'!I$20,Ages_group,0))/'Mortality rates at t0'!I27-1)","v":-1.0345400492939305E-5},{"$f":"IF('Mortality rates at t0'!J27=0,0,OFFSET(INDIRECT(\"'Forecasts \" & $C27 & \"'!C58\"),Year_max-Year_0,MATCH('Mortality trends'!J$20,Ages_group,0))/'Mortality rates at t0'!J27-1)","v":6.0956099639186689E-5},{"$f":"IF('Mortality rates at t0'!K27=0,0,OFFSET(INDIRECT(\"'Forecasts \" & $C27 & \"'!C58\"),Year_max-Year_0,MATCH('Mortality trends'!K$20,Ages_group,0))/'Mortality rates at t0'!K27-1)","v":3.8102673551554389E-4},{"$f":"IF('Mortality rates at t0'!L27=0,0,OFFSET(INDIRECT(\"'Forecasts \" & $C27 & \"'!C58\"),Year_max-Year_0,MATCH('Mortality trends'!L$20,Ages_group,0))/'Mortality rates at t0'!L27-1)","v":3.0816552409551612E-4},{"$f":"IF('Mortality rates at t0'!M27=0,0,OFFSET(INDIRECT(\"'Forecasts \" & $C27 & \"'!C58\"),Year_max-Year_0,MATCH('Mortality trends'!M$20,Ages_group,0))/'Mortality rates at t0'!M27-1)","v":3.6381463408563519E-6},{"$f":"IF('Mortality rates at t0'!N27=0,0,OFFSET(INDIRECT(\"'Forecasts \" & $C27 & \"'!C58\"),Year_max-Year_0,MATCH('Mortality trends'!N$20,Ages_group,0))/'Mortality rates at t0'!N27-1)","v":6.0419911219966593E-5},{"$f":"IF('Mortality rates at t0'!O27=0,0,OFFSET(INDIRECT(\"'Forecasts \" & $C27 & \"'!C58\"),Year_max-Year_0,MATCH('Mortality trends'!O$20,Ages_group,0))/'Mortality rates at t0'!O27-1)","v":5.3304267369158609E-5},{"$f":"IF('Mortality rates at t0'!P27=0,0,OFFSET(INDIRECT(\"'Forecasts \" & $C27 & \"'!C58\"),Year_max-Year_0,MATCH('Mortality trends'!P$20,Ages_group,0))/'Mortality rates at t0'!P27-1)","v":1.8052807098301038E-4},{"$f":"IF('Mortality rates at t0'!Q27=0,0,OFFSET(INDIRECT(\"'Forecasts \" & $C27 & \"'!C58\"),Year_max-Year_0,MATCH('Mortality trends'!Q$20,Ages_group,0))/'Mortality rates at t0'!Q27-1)","v":1.1844483096723479E-4},{"$f":"IF('Mortality rates at t0'!R27=0,0,OFFSET(INDIRECT(\"'Forecasts \" & $C27 & \"'!C58\"),Year_max-Year_0,MATCH('Mortality trends'!R$20,Ages_group,0))/'Mortality rates at t0'!R27-1)","v":-5.1456416334749733E-5},{"$f":"IF('Mortality rates at t0'!S27=0,0,OFFSET(INDIRECT(\"'Forecasts \" & $C27 & \"'!C58\"),Year_max-Year_0,MATCH('Mortality trends'!S$20,Ages_group,0))/'Mortality rates at t0'!S27-1)","v":-1.0472155711882536E-4},{"$f":"IF('Mortality rates at t0'!T27=0,0,OFFSET(INDIRECT(\"'Forecasts \" & $C27 & \"'!C58\"),Year_max-Year_0,MATCH('Mortality trends'!T$20,Ages_group,0))/'Mortality rates at t0'!T27-1)","v":-2.5544554615997139E-4},{"$f":"IF('Mortality rates at t0'!U27=0,0,OFFSET(INDIRECT(\"'Forecasts \" & $C27 & \"'!C58\"),Year_max-Year_0,MATCH('Mortality trends'!U$20,Ages_group,0))/'Mortality rates at t0'!U27-1)","v":-3.6528842610239476E-4},{"$f":"IF('Mortality rates at t0'!V27=0,0,OFFSET(INDIRECT(\"'Forecasts \" & $C27 & \"'!C58\"),Year_max-Year_0,MATCH('Mortality trends'!V$20,Ages_group,0))/'Mortality rates at t0'!V27-1)","v":-4.9614901999750494E-4},{"$f":"IF('Mortality rates at t0'!W27=0,0,OFFSET(INDIRECT(\"'Forecasts \" & $C27 & \"'!C58\"),Year_max-Year_0,MATCH('Mortality trends'!W$20,Ages_group,0))/'Mortality rates at t0'!W27-1)","v":-5.9027709436454412E-4},{"$f":"IF('Mortality rates at t0'!X27=0,0,OFFSET(INDIRECT(\"'Forecasts \" & $C27 & \"'!C58\"),Year_max-Year_0,MATCH('Mortality trends'!X$20,Ages_group,0))/'Mortality rates at t0'!X27-1)","v":-6.0458782462124994E-4},{"$f":"IF('Mortality rates at t0'!Y27=0,0,OFFSET(INDIRECT(\"'Forecasts \" & $C27 & \"'!C58\"),Year_max-Year_0,MATCH('Mortality trends'!Y$20,Ages_group,0))/'Mortality rates at t0'!Y27-1)","v":-5.92826417921688E-4}]
[null,null,"Respiratory",null,{"$f":"IF('Mortality rates at t0'!E28=0,0,OFFSET(INDIRECT(\"'Forecasts \" & $C28 & \"'!C58\"),Year_max-Year_0,MATCH('Mortality trends'!E$20,Ages_group,0))/'Mortality rates at t0'!E28-1)","v":-1.2314073370138123E-2},{"$f":"IF('Mortality rates at t0'!F28=0,0,OFFSET(INDIRECT(\"'Forecasts \" & $C28 & \"'!C58\"),Year_max-Year_0,MATCH('Mortality trends'!F$20,Ages_group,0))/'Mortality rates at t0'!F28-1)","v":6.0357245470478382E-2},{"$f":"IF('Mortality rates at t0'!G28=0,0,OFFSET(INDIRECT(\"'Forecasts \" & $C28 & \"'!C58\"),Year_max-Year_0,MATCH('Mortality trends'!G$20,Ages_group,0))/'Mortality rates at t0'!G28-1)","v":0.12812826952587675},{"$f":"IF('Mortality rates at t0'!H28=0,0,OFFSET(INDIRECT(\"'Forecasts \" & $C28 & \"'!C58\"),Year_max-Year_0,MATCH('Mortality trends'!H$20,Ages_group,0))/'Mortality rates at t0'!H28-1)","v":2.5468514797446051E-2},{"$f":"IF('Mortality rates at t0'!I28=0,0,OFFSET(INDIRECT(\"'Forecasts \" & $C28 & \"'!C58\"),Year_max-Year_0,MATCH('Mortality trends'!I$20,Ages_group,0))/'Mortality rates at t0'!I28-1)","v":-0.16341944136568709},{"$f":"IF('Mortality rates at t0'!J28=0,0,OFFSET(INDIRECT(\"'Forecasts \" & $C28 & \"'!C58\"),Year_max-Year_0,MATCH('Mortality trends'!J$20,Ages_group,0))/'Mortality rates at t0'!J28-1)","v":-0.13956055589266614},{"$f":"IF('Mortality rates at t0'!K28=0,0,OFFSET(INDIRECT(\"'Forecasts \" & $C28 & \"'!C58\"),Year_max-Year_0,MATCH('Mortality trends'!K$20,Ages_group,0))/'Mortality rates at t0'!K28-1)","v":-9.7223447982323186E-2},{"$f":"IF('Mortality rates at t0'!L28=0,0,OFFSET(INDIRECT(\"'Forecasts \" & $C28 & \"'!C58\"),Year_max-Year_0,MATCH('Mortality trends'!L$20,Ages_group,0))/'Mortality rates at t0'!L28-1)","v":-8.569896951004341E-2},{"$f":"IF('Mortality rates at t0'!M28=0,0,OFFSET(INDIRECT(\"'Forecasts \" & $C28 & \"'!C58\"),Year_max-Year_0,MATCH('Mortality trends'!M$20,Ages_group,0))/'Mortality rates at t0'!M28-1)","v":-1.7816302063120681E-2},{"$f":"IF('Mortality rates at t0'!N28=0,0,OFFSET(INDIRECT(\"'Forecasts \" & $C28 & \"'!C58\"),Year_max-Year_0,MATCH('Mortality trends'!N$20,Ages_group,0))/'Mortality rates at t0'!N28-1)","v":-7.3101881092083487E-2},{"$f":"IF('Mortality rates at t0'!O28=0,0,OFFSET(INDIRECT(\"'Forecasts \" & $C28 & \"'!C58\"),Year_max-Year_0,MATCH('Mortality trends'!O$20,Ages_group,0))/'Mortality rates at t0'!O28-1)","v":9.4541399279124416E-2},{"$f":"IF('Mortality rates at t0'!P28=0,0,OFFSET(INDIRECT(\"'Forecasts \" & $C28 & \"'!C58\"),Year_max-Year_0,MATCH('Mortality trends'!P$20,Ages_group,0))/'Mortality rates at t0'!P28-1)","v":0.18607383503490449},{"$f":"IF('Mortality rates at t0'!Q28=0,0,OFFSET(INDIRECT(\"'Forecasts \" & $C28 & \"'!C58\"),Year_max-Year_0,MATCH('Mortality trends'!Q$20,Ages_group,0))/'Mortality rates at t0'!Q28-1)","v":4.8282256234015275E-2},{"$f":"IF('Mortality rates at t0'!R28=0,0,OFFSET(INDIRECT(\"'Forecasts \" & $C28 & \"'!C58\"),Year_max-Year_0,MATCH('Mortality trends'!R$20,Ages_group,0))/'Mortality rates at t0'!R28-1)","v":-8.5584869633679395E-2},{"$f":"IF('Mortality rates at t0'!S28=0,0,OFFSET(INDIRECT(\"'Forecasts \" & $C28 & \"'!C58\"),Year_max-Year_0,MATCH('Mortality trends'!S$20,Ages_group,0))/'Mortality rates at t0'!S28-1)","v":-6.5318758993091808E-2},{"$f":"IF('Mortality rates at t0'!T28=0,0,OFFSET(INDIRECT(\"'Forecasts \" & $C28 & \"'!C58\"),Year_max-Year_0,MATCH('Mortality trends'!T$20,Ages_group,0))/'Mortality rates at t0'!T28-1)","v":-1.8943302591743816E-2},{"$f":"IF('Mortality rates at t0'!U28=0,0,OFFSET(INDIRECT(\"'Forecasts \" & $C28 & \"'!C58\"),Year_max-Year_0,MATCH('Mortality trends'!U$20,Ages_group,0))/'Mortality rates at t0'!U28-1)","v":2.5666500066965359E-3},{"$f":"IF('Mortality rates at t0'!V28=0,0,OFFSET(INDIRECT(\"'Forecasts \" & $C28 & \"'!C58\"),Year_max-Year_0,MATCH('Mortality trends'!V$20,Ages_group,0))/'Mortality rates at t0'!V28-1)","v":1.4021955805252784E-2},{"$f":"IF('Mortality rates at t0'!W28=0,0,OFFSET(INDIRECT(\"'Forecasts \" & $C28 & \"'!C58\"),Year_max-Year_0,MATCH('Mortality trends'!W$20,Ages_group,0))/'Mortality rates at t0'!W28-1)","v":2.1217404991792144E-2},{"$f":"IF('Mortality rates at t0'!X28=0,0,OFFSET(INDIRECT(\"'Forecasts \" & $C28 & \"'!C58\"),Year_max-Year_0,MATCH('Mortality trends'!X$20,Ages_group,0))/'Mortality rates at t0'!X28-1)","v":6.6583739972358336E-2},{"$f":"IF('Mortality rates at t0'!Y28=0,0,OFFSET(INDIRECT(\"'Forecasts \" & $C28 & \"'!C58\"),Year_max-Year_0,MATCH('Mortality trends'!Y$20,Ages_group,0))/'Mortality rates at t0'!Y28-1)","v":9.2141946696506549E-2}]
[null,null,"Drug",null,{"$f":"IF('Mortality rates at t0'!E29=0,0,OFFSET(INDIRECT(\"'Forecasts \" & $C29 & \"'!C58\"),Year_max-Year_0,MATCH('Mortality trends'!E$20,Ages_group,0))/'Mortality rates at t0'!E29-1)","v":0},{"$f":"IF('Mortality rates at t0'!F29=0,0,OFFSET(INDIRECT(\"'Forecasts \" & $C29 & \"'!C58\"),Year_max-Year_0,MATCH('Mortality trends'!F$20,Ages_group,0))/'Mortality rates at t0'!F29-1)","v":-0.11939974975102463},{"$f":"IF('Mortality rates at t0'!G29=0,0,OFFSET(INDIRECT(\"'Forecasts \" & $C29 & \"'!C58\"),Year_max-Year_0,MATCH('Mortality trends'!G$20,Ages_group,0))/'Mortality rates at t0'!G29-1)","v":-0.26766478066469801},{"$f":"IF('Mortality rates at t0'!H29=0,0,OFFSET(INDIRECT(\"'Forecasts \" & $C29 & \"'!C58\"),Year_max-Year_0,MATCH('Mortality trends'!H$20,Ages_group,0))/'Mortality rates at t0'!H29-1)","v":-0.14768767821518047},{"$f":"IF('Mortality rates at t0'!I29=0,0,OFFSET(INDIRECT(\"'Forecasts \" & $C29 & \"'!C58\"),Year_max-Year_0,MATCH('Mortality trends'!I$20,Ages_group,0))/'Mortality rates at t0'!I29-1)","v":0.57038513570921578},{"$f":"IF('Mortality rates at t0'!J29=0,0,OFFSET(INDIRECT(\"'Forecasts \" & $C29 & \"'!C58\"),Year_max-Year_0,MATCH('Mortality trends'!J$20,Ages_group,0))/'Mortality rates at t0'!J29-1)","v":1.4238217178906973},{"$f":"IF('Mortality rates at t0'!K29=0,0,OFFSET(INDIRECT(\"'Forecasts \" & $C29 & \"'!C58\"),Year_max-Year_0,MATCH('Mortality trends'!K$20,Ages_group,0))/'Mortality rates at t0'!K29-1)","v":1.8882807318397101},{"$f":"IF('Mortality rates at t0'!L29=0,0,OFFSET(INDIRECT(\"'Forecasts \" & $C29 & \"'!C58\"),Year_max-Year_0,MATCH('Mortality trends'!L$20,Ages_group,0))/'Mortality rates at t0'!L29-1)","v":1.4778177083986752},{"$f":"IF('Mortality rates at t0'!M29=0,0,OFFSET(INDIRECT(\"'Forecasts \" & $C29 & \"'!C58\"),Year_max-Year_0,MATCH('Mortality trends'!M$20,Ages_group,0))/'Mortality rates at t0'!M29-1)","v":0.68696872098371831},{"$f":"IF('Mortality rates at t0'!N29=0,0,OFFSET(INDIRECT(\"'Forecasts \" & $C29 & \"'!C58\"),Year_max-Year_0,MATCH('Mortality trends'!N$20,Ages_group,0))/'Mortality rates at t0'!N29-1)","v":0.4809672184725835},{"$f":"IF('Mortality rates at t0'!O29=0,0,OFFSET(INDIRECT(\"'Forecasts \" & $C29 & \"'!C58\"),Year_max-Year_0,MATCH('Mortality trends'!O$20,Ages_group,0))/'Mortality rates at t0'!O29-1)","v":0.7193492555590979},{"$f":"IF('Mortality rates at t0'!P29=0,0,OFFSET(INDIRECT(\"'Forecasts \" & $C29 & \"'!C58\"),Year_max-Year_0,MATCH('Mortality trends'!P$20,Ages_group,0))/'Mortality rates at t0'!P29-1)","v":1.2215223804098212},{"$f":"IF('Mortality rates at t0'!Q29=0,0,OFFSET(INDIRECT(\"'Forecasts \" & $C29 & \"'!C58\"),Year_max-Year_0,MATCH('Mortality trends'!Q$20,Ages_group,0))/'Mortality rates at t0'!Q29-1)","v":1.1956526085855645},{"$f":"IF('Mortality rates at t0'!R29=0,0,OFFSET(INDIRECT(\"'Forecasts \" & $C29 & \"'!C58\"),Year_max-Year_0,MATCH('Mortality trends'!R$20,Ages_group,0))/'Mortality rates at t0'!R29-1)","v":0.72999777679504296},{"$f":"IF('Mortality rates at t0'!S29=0,0,OFFSET(INDIRECT(\"'Forecasts \" & $C29 & \"'!C58\"),Year_max-Year_0,MATCH('Mortality trends'!S$20,Ages_group,0))/'Mortality rates at t0'!S29-1)","v":0.3452763260853684},{"$f":"IF('Mortality rates at t0'!T29=0,0,OFFSET(INDIRECT(\"'Forecasts \" & $C29 & \"'!C58\"),Year_max-Year_0,MATCH('Mortality trends'!T$20,Ages_group,0))/'Mortality rates at t0'!T29-1)","v":8.1949969661242905E-2},{"$f":"IF('Mortality rates at t0'!U29=0,0,OFFSET(INDIRECT(\"'Forecasts \" & $C29 & \"'!C58\"),Year_max-Year_0,MATCH('Mortality trends'!U$20,Ages_group,0))/'Mortality rates at t0'!U29-1)","v":-2.0721785764470479E-2},{"$f":"IF('Mortality rates at t0'!V29=0,0,OFFSET(INDIRECT(\"'Forecasts \" & $C29 & \"'!C58\"),Year_max-Year_0,MATCH('Mortality trends'!V$20,Ages_group,0))/'Mortality rates at t0'!V29-1)","v":-7.5016290467238012E-2},{"$f":"IF('Mortality rates at t0'!W29=0,0,OFFSET(INDIRECT(\"'Forecasts \" & $C29 & \"'!C58\"),Year_max-Year_0,MATCH('Mortality trends'!W$20,Ages_group,0))/'Mortality rates at t0'!W29-1)","v":-0.15754449580894048},{"$f":"IF('Mortality rates at t0'!X29=0,0,OFFSET(INDIRECT(\"'Forecasts \" & $C29 & \"'!C58\"),Year_max-Year_0,MATCH('Mortality trends'!X$20,Ages_group,0))/'Mortality rates at t0'!X29-1)","v":-0.12437387908958719},{"$f":"IF('Mortality rates at t0'!Y29=0,0,OFFSET(INDIRECT(\"'Forecasts \" & $C29 & \"'!C58\"),Year_max-Year_0,MATCH('Mortality trends'!Y$20,Ages_group,0))/'Mortality rates at t0'!Y29-1)","v":-0.14532543476260051}]
[null,null,"External",null,{"$f":"IF('Mortality rates at t0'!E30=0,0,OFFSET(INDIRECT(\"'Forecasts \" & $C30 & \"'!C58\"),Year_max-Year_0,MATCH('Mortality trends'!E$20,Ages_group,0))/'Mortality rates at t0'!E30-1)","v":-3.1812213154850388E-3},{"$f":"IF('Mortality rates at t0'!F30=0,0,OFFSET(INDIRECT(\"'Forecasts \" & $C30 & \"'!C58\"),Year_max-Year_0,MATCH('Mortality trends'!F$20,Ages_group,0))/'Mortality rates at t0'!F30-1)","v":9.7625446688307527E-3},{"$f":"IF('Mortality rates at t0'!G30=0,0,OFFSET(INDIRECT(\"'Forecasts \" & $C30 & \"'!C58\"),Year_max-Year_0,MATCH('Mortality trends'!G$20,Ages_group,0))/'Mortality rates at t0'!G30-1)","v":1.8061193768100781E-2},{"$f":"IF('Mortality rates at t0'!H30=0,0,OFFSET(INDIRECT(\"'Forecasts \" & $C30 & \"'!C58\"),Year_max-Year_0,MATCH('Mortality trends'!H$20,Ages_group,0))/'Mortality rates at t0'!H30-1)","v":1.3757264973420114E-2},{"$f":"IF('Mortality rates at t0'!I30=0,0,OFFSET(INDIRECT(\"'Forecasts \" & $C30 & \"'!C58\"),Year_max-Year_0,MATCH('Mortality trends'!I$20,Ages_group,0))/'Mortality rates at t0'!I30-1)","v":1.7094206866452133E-2},{"$f":"IF('Mortality rates at t0'!J30=0,0,OFFSET(INDIRECT(\"'Forecasts \" & $C30 & \"'!C58\"),Year_max-Year_0,MATCH('Mortality trends'!J$20,Ages_group,0))/'Mortality rates at t0'!J30-1)","v":5.8927489151883172E-3},{"$f":"IF('Mortality rates at t0'!K30=0,0,OFFSET(INDIRECT(\"'Forecasts \" & $C30 & \"'!C58\"),Year_max-Year_0,MATCH('Mortality trends'!K$20,Ages_group,0))/'Mortality rates at t0'!K30-1)","v":2.4767169252095655E-3},{"$f":"IF('Mortality rates at t0'!L30=0,0,OFFSET(INDIRECT(\"'Forecasts \" & $C30 & \"'!C58\"),Year_max-Year_0,MATCH('Mortality trends'!L$20,Ages_group,0))/'Mortality rates at t0'!L30-1)","v":2.931846733929655E-3},{"$f":"IF('Mortality rates at t0'!M30=0,0,OFFSET(INDIRECT(\"'Forecasts \" & $C30 & \"'!C58\"),Year_max-Year_0,MATCH('Mortality trends'!M$20,Ages_group,0))/'Mortality rates at t0'!M30-1)","v":6.7369569708477517E-3},{"$f":"IF('Mortality rates at t0'!N30=0,0,OFFSET(INDIRECT(\"'Forecasts \" & $C30 & \"'!C58\"),Year_max-Year_0,MATCH('Mortality trends'!N$20,Ages_group,0))/'Mortality rates at t0'!N30-1)","v":5.9855723874258082E-3},{"$f":"IF('Mortality rates at t0'!O30=0,0,OFFSET(INDIRECT(\"'Forecasts \" & $C30 & \"'!C58\"),Year_max-Year_0,MATCH('Mortality trends'!O$20,Ages_group,0))/'Mortality rates at t0'!O30-1)","v":9.183421678127246E-4},{"$f":"IF('Mortality rates at t0'!P30=0,0,OFFSET(INDIRECT(\"'Forecasts \" & $C30 & \"'!C58\"),Year_max-Year_0,MATCH('Mortality trends'!P$20,Ages_group,0))/'Mortality rates at t0'!P30-1)","v":-3.2736673927651339E-3},{"$f":"IF('Mortality rates at t0'!Q30=0,0,OFFSET(INDIRECT(\"'Forecasts \" & $C30 & \"'!C58\"),Year_max-Year_0,MATCH('Mortality trends'!Q$20,Ages_group,0))/'Mortality rates at t0'!Q30-1)","v":-4.4411433089956986E-3},{"$f":"IF('Mortality rates at t0'!R30=0,0,OFFSET(INDIRECT(\"'Forecasts \" & $C30 & \"'!C58\"),Year_max-Year_0,MATCH('Mortality trends'!R$20,Ages_group,0))/'Mortality rates at t0'!R30-1)","v":2.3234033386754227E-4},{"$f":"IF('Mortality rates at t0'!S30=0,0,OFFSET(INDIRECT(\"'Forecasts \" & $C30 & \"'!C58\"),Year_max-Year_0,MATCH('Mortality trends'!S$20,Ages_group,0))/'Mortality rates at t0'!S30-1)","v":1.8006861051202971E-3},{"$f":"IF('Mortality rates at t0'!T30=0,0,OFFSET(INDIRECT(\"'Forecasts \" & $C30 & \"'!C58\"),Year_max-Year_0,MATCH('Mortality trends'!T$20,Ages_group,0))/'Mortality rates at t0'!T30-1)","v":2.3053399719736856E-3},{"$f":"IF('Mortality rates at t0'!U30=0,0,OFFSET(INDIRECT(\"'Forecasts \" & $C30 & \"'!C58\"),Year_max-Year_0,MATCH('Mortality trends'!U$20,Ages_group,0))/'Mortality rates at t0'!U30-1)","v":4.9620641112291253E-4},{"$f":"IF('Mortality rates at t0'!V30=0,0,OFFSET(INDIRECT(\"'Forecasts \" & $C30 & \"'!C58\"),Year_max-Year_0,MATCH('Mortality trends'!V$20,Ages_group,0))/'Mortality rates at t0'!V30-1)","v":-1.2321797612271368E-3},{"$f":"IF('Mortality rates at t0'!W30=0,0,OFFSET(INDIRECT(\"'Forecasts \" & $C30 & \"'!C58\"),Year_max-Year_0,MATCH('Mortality trends'!W$20,Ages_group,0))/'Mortality rates at t0'!W30-1)","v":-3.0797356595124725E-3},{"$f":"IF('Mortality rates at t0'!X30=0,0,OFFSET(INDIRECT(\"'Forecasts \" & $C30 & \"'!C58\"),Year_max-Year_0,MATCH('Mortality trends'!X$20,Ages_group,0))/'Mortality rates at t0'!X30-1)","v":-5.3639794868965973E-3},{"$f":"IF('Mortality rates at t0'!Y30=0,0,OFFSET(INDIRECT(\"'Forecasts \" & $C30 & \"'!C58\"),Year_max-Year_0,MATCH('Mortality trends'!Y$20,Ages_group,0))/'Mortality rates at t0'!Y30-1)","v":-8.7434314795888923E-3}]
[null,null,"Other",null,{"$f":"IF('Mortality rates at t0'!E31=0,0,OFFSET(INDIRECT(\"'Forecasts \" & $C31 & \"'!C58\"),Year_max-Year_0,MATCH('Mortality trends'!E$20,Ages_group,0))/'Mortality rates at t0'!E31-1)","v":-0.12128126674007433},{"$f":"IF('Mortality rates at t0'!F31=0,0,OFFSET(INDIRECT(\"'Forecasts \" & $C31 & \"'!C58\"),Year_max-Year_0,MATCH('Mortality trends'!F$20,Ages_group,0))/'Mortality rates at t0'!F31-1)","v":-0.13766716943097468},{"$f":"IF('Mortality rates at t0'!G31=0,0,OFFSET(INDIRECT(\"'Forecasts \" & $C31 & \"'!C58\"),Year_max-Year_0,MATCH('Mortality trends'!G$20,Ages_group,0))/'Mortality rates at t0'!G31-1)","v":-0.11968014178801079},{"$f":"IF('Mortality rates at t0'!H31=0,0,OFFSET(INDIRECT(\"'Forecasts \" & $C31 & \"'!C58\"),Year_max-Year_0,MATCH('Mortality trends'!H$20,Ages_group,0))/'Mortality rates at t0'!H31-1)","v":-0.1534316880965555},{"$f":"IF('Mortality rates at t0'!I31=0,0,OFFSET(INDIRECT(\"'Forecasts \" & $C31 & \"'!C58\"),Year_max-Year_0,MATCH('Mortality trends'!I$20,Ages_group,0))/'Mortality rates at t0'!I31-1)","v":-0.14337002151578293},{"$f":"IF('Mortality rates at t0'!J31=0,0,OFFSET(INDIRECT(\"'Forecasts \" & $C31 & \"'!C58\"),Year_max-Year_0,MATCH('Mortality trends'!J$20,Ages_group,0))/'Mortality rates at t0'!J31-1)","v":-8.8852230341437743E-2},{"$f":"IF('Mortality rates at t0'!K31=0,0,OFFSET(INDIRECT(\"'Forecasts \" & $C31 & \"'!C58\"),Year_max-Year_0,MATCH('Mortality trends'!K$20,Ages_group,0))/'Mortality rates at t0'!K31-1)","v":-9.4746323183044656E-2},{"$f":"IF('Mortality rates at t0'!L31=0,0,OFFSET(INDIRECT(\"'Forecasts \" & $C31 & \"'!C58\"),Year_max-Year_0,MATCH('Mortality trends'!L$20,Ages_group,0))/'Mortality rates at t0'!L31-1)","v":-9.7616511085506064E-2},{"$f":"IF('Mortality rates at t0'!M31=0,0,OFFSET(INDIRECT(\"'Forecasts \" & $C31 & \"'!C58\"),Year_max-Year_0,MATCH('Mortality trends'!M$20,Ages_group,0))/'Mortality rates at t0'!M31-1)","v":-0.1292265054834969},{"$f":"IF('Mortality rates at t0'!N31=0,0,OFFSET(INDIRECT(\"'Forecasts \" & $C31 & \"'!C58\"),Year_max-Year_0,MATCH('Mortality trends'!N$20,Ages_group,0))/'Mortality rates at t0'!N31-1)","v":-0.13687151866942171},{"$f":"IF('Mortality rates at t0'!O31=0,0,OFFSET(INDIRECT(\"'Forecasts \" & $C31 & \"'!C58\"),Year_max-Year_0,MATCH('Mortality trends'!O$20,Ages_group,0))/'Mortality rates at t0'!O31-1)","v":-4.389160188942276E-2},{"$f":"IF('Mortality rates at t0'!P31=0,0,OFFSET(INDIRECT(\"'Forecasts \" & $C31 & \"'!C58\"),Year_max-Year_0,MATCH('Mortality trends'!P$20,Ages_group,0))/'Mortality rates at t0'!P31-1)","v":5.3035250938029854E-2},{"$f":"IF('Mortality rates at t0'!Q31=0,0,OFFSET(INDIRECT(\"'Forecasts \" & $C31 & \"'!C58\"),Year_max-Year_0,MATCH('Mortality trends'!Q$20,Ages_group,0))/'Mortality rates at t0'!Q31-1)","v":8.6492422764585131E-2},{"$f":"IF('Mortality rates at t0'!R31=0,0,OFFSET(INDIRECT(\"'Forecasts \" & $C31 & \"'!C58\"),Year_max-Year_0,MATCH('Mortality trends'!R$20,Ages_group,0))/'Mortality rates at t0'!R31-1)","v":4.1642285721720684E-2},{"$f":"IF('Mortality rates at t0'!S31=0,0,OFFSET(INDIRECT(\"'Forecasts \" & $C31 & \"'!C58\"),Year_max-Year_0,MATCH('Mortality trends'!S$20,Ages_group,0))/'Mortality rates at t0'!S31-1)","v":1.5086541266096765E-2},{"$f":"IF('Mortality rates at t0'!T31=0,0,OFFSET(INDIRECT(\"'Forecasts \" & $C31 & \"'!C58\"),Year_max-Year_0,MATCH('Mortality trends'!T$20,Ages_group,0))/'Mortality rates at t0'!T31-1)","v":-1.8502946074301474E-2},{"$f":"IF('Mortality rates at t0'!U31=0,0,OFFSET(INDIRECT(\"'Forecasts \" & $C31 & \"'!C58\"),Year_max-Year_0,MATCH('Mortality trends'!U$20,Ages_group,0))/'Mortality rates at t0'!U31-1)","v":-3.7739366754976467E-2},{"$f":"IF('Mortality rates at t0'!V31=0,0,OFFSET(INDIRECT(\"'Forecasts \" & $C31 & \"'!C58\"),Year_max-Year_0,MATCH('Mortality trends'!V$20,Ages_group,0))/'Mortality rates at t0'!V31-1)","v":-9.8579262555172242E-2},{"$f":"IF('Mortality rates at t0'!W31=0,0,OFFSET(INDIRECT(\"'Forecasts \" & $C31 & \"'!C58\"),Year_max-Year_0,MATCH('Mortality trends'!W$20,Ages_group,0))/'Mortality rates at t0'!W31-1)","v":-0.1479269261634224},{"$f":"IF('Mortality rates at t0'!X31=0,0,OFFSET(INDIRECT(\"'Forecasts \" & $C31 & \"'!C58\"),Year_max-Year_0,MATCH('Mortality trends'!X$20,Ages_group,0))/'Mortality rates at t0'!X31-1)","v":-0.16843110718413534},{"$f":"IF('Mortality rates at t0'!Y31=0,0,OFFSET(INDIRECT(\"'Forecasts \" & $C31 & \"'!C58\"),Year_max-Year_0,MATCH('Mortality trends'!Y$20,Ages_group,0))/'Mortality rates at t0'!Y31-1)","v":-0.17215630956601002}]

{"sheet":"Graphs","index":5,"n_rows":67,"n_cols":29,"rows_kept":67,"cut":false,"hidden":false,"merged":[[0,2,3,9],[0,10,3,16],[6,2,6,3],[7,2,7,3],[8,2,8,3]]}
[null,null,"Society of Actuaries - Cause of deaths forecasting tool",null,null,null,null,null,null,null,"Graphs"]
[]
[]
[]
[]
[]
[null,"Gender","F"]
[null,"age group","65 - 69"]
[null,"cause","Cerebrovascular"]
[]
[null,"I - Mortality rates by cause of deaths",null,null,null,null,null,"II - Aggregate mortality rates",null,null,null,null,null,"III - Mortality rates all causes",null,null,null,null,null,null,null,"IV - Life expectancy",null,null,null,null,null,"Select age",65]
[]
[]
[]
[]
[]
[]
[]
[]
[]
[]
[]
[]
[]
[]
[]
[]
[]
[]
[]
[]
[]
[null,{"$f":"\"Forecast Death rate \" & $C$9 & IF(sex_plot=\"M\",\" Male\",\" Female\") & \" age \" & $C$8","v":"Forecast Death rate Cerebrovascular Female age 65 - 69"},null,null,null,{"$f":"\"Forecast aggregate Death rate\" & IF(sex_plot=\"M\",\" Male\",\" Female\") & \" age \" & $C$8","v":"Forecast aggregate Death rate Female age 65 - 69"},null,null,null,null,{"$f":"\"Forecast Death rate by cause\" & IF(sex_plot=\"M\",\" Male\",\" Female\") & \" age \" & age_plot","v":"Forecast Death rate by cause Female age 65 - 69"},null,null,null,null,null,null,null,null,null,null,null,null,{"$f":"\"Forecast Life expectancy at birth\" & IF(sex_plot=\"M\",\" Male\",\" Female\")","v":"Forecast Life expectancy at birth Female"},null,null,null,{"$f":"\"Forecast Life expectancy at \" & age_LE & IF(sex_plot=\"M\",\" Male\",\" Female\")","v":"Forecast Life expectancy at 65 Female"}]
[]
[]
[null,null,"years",{"$f":" cause_plot & \" Death rate\"","v":"Cerebrovascular Death rate"},null,"years","All causes Death rate",null,null,null,"cause",{"$f":"TRANSPOSE(Causes)","v":"Cardiovascular"},"Cerebrovascular","NeoSmok","Neoplasm","Dementia","Diabetes","Influenza","Respiratory","Drug","External","Other",null,"years","Life expectancy at birth",null,null,"years",{"$f":"\"Life expectancy at \" & age_LE","v":"Life expectancy at 65"}]
[null,null,{"$f":"Year_0","v":2016},{"$f":"IF(ISNA($C37),\"\",base_tx*OFFSET(INDIRECT(\"'Forecasts \" & cause_plot & \"'!\" & IF(sex_plot=\"M\",\"C17\",IF(sex_plot=\"F\",\"C58\",NA()))),$C37-$C$37,MATCH(age_plot,Ages_group,0)))","v":489.99309367245576},null,{"$f":"Year_0","v":2016},{"$f":"IF(ISNA($C37),\"\",base_tx*OFFSET(INDIRECT(\"'Forecasts Aggregate'!\" & IF(sex_plot=\"M\",\"C17\",IF(sex_plot=\"F\",\"C58\",NA()))),$C37-$C$37,MATCH(age_plot,Ages_group,0)))","v":11611.444133494768},null,null,null,{"$f":"Year_0","v":2016},{"$f":"IF(ISNA($C37),\"\",base_tx*OFFSET(INDIRECT(\"'Forecasts \" & L$36 & \"'!\" & IF(sex_plot=\"M\",\"C17\",IF(sex_plot=\"F\",\"C58\",NA()))),$C37-$C$37,MATCH(age_plot,Ages_group,0)))","v":2085.2896175406745},489.99309367245576,1359.3058490779931,3098.7869786219117,310.58059119917999,882.56056469364512,192.86238655502913,1172.803958287396,138.15204597461718,305.39851870871632,1575.7105291631478,null,{"$f":"Year_0","v":2016},{"$f":"IF($C$7=\"M\",'Life expectancy'!$DN$17:$DN$47,IF($C$7=\"F\",'Life expectancy'!$DN$58:$DN$88,NA()))","v":81.191978706522789},null,null,{"$f":"Year_0","v":2016},{"$f":"IF($C$7=\"M\",'Life expectancy'!$DO$17:$DO$47,IF($C$7=\"F\",'Life expectancy'!$DO$58:$DO$88,NA()))","v":20.673387514123412}]
[null,null,{"$f":"IF(C37<Year_max,C37+1,NA())","v":2017},{"$f":"IF(ISNA($C38),\"\",base_tx*OFFSET(INDIRECT(\"'Forecasts \" & cause_plot & \"'!\" & IF(sex_plot=\"M\",\"C17\",IF(sex_plot=\"F\",\"C58\",NA()))),$C38-$C$37,MATCH(age_plot,Ages_group,0)))","v":483.48710704628076},null,{"$f":"IF(F37<Year_max,F37+1,NA())","v":2017},11523.768202972493,null,null,null,{"$f":"IF(K37<Year_max,K37+1,NA())","v":2017},2051.4451640504544,483.48710704628076,1336.1290711567806,3077.3881339525506,314.67963797580148,877.03411294140244,192.86036677490281,1164.9083967955958,142.31100019451389,305.45346688533004,1578.0717451988812,null,{"$f":"IF(X37<Year_max,X37+1,NA())","v":2017},81.216337184091429,null,null,{"$f":"IF(AB37<Year_max,AB37+1,NA())","v":2017},20.712292263647115]
[null,null,2018,477.06750502945346,null,2018,11437.541510972442,null,null,null,2018,2018.1500093350503,477.06750502945346,1313.3474677543666,3056.1370601872054,318.83278402634102,871.54226693769601,192.85834701592893,1157.0659898747965,146.59515632569011,305.50842494837724,1580.4364995375352,null,2018,81.237035153650638,null,null,2018,20.750233901148381]
[null,null,2019,470.73314063210734,null,2019,11352.750150852815,null,null,null,2019,1985.395238221874,470.73314063210734,1290.9543009669387,3035.0327368857347,323.04074335373599,866.08480998691618,192.85632727810727,1149.2763796773108,151.00828346916481,305.5633928996366,1582.8047974812878,null,2019,81.25385020501804,null,null,2019,20.787203800289578]
[null,null,2020,464.48288209377563,null,2020,11269.380624489431,null,null,null,2020,1953.1720802324569,464.48288209377563,1268.9429477749845,3014.0741506547033,327.30423938434382,860.66152675036642,192.85430756143762,1141.5392107645573,155.55426419165684,305.61837074088726,1585.1766443402621,null,2020,81.266541140734901,null,null,2020,20.823193728464926]
[null,null,2021,458.31561268117986,null,2021,11187.419841233072,null,null,null,2021,1921.4719072340486,458.31561268117986,1247.3068980844616,2993.2602950987202,331.62400509231276,855.27220323776578,192.85228786591975,1133.854130090841,160.2370979413769,305.67335847390865,1587.552045432539,null,2021,81.274846288150556,null,null,2021,20.858195859633966]
[null,null,2022,452.23023048870311,null,2022,11106.855117046016,null,null,null,2022,1890.2862311293341,452.23023048870311,1226.0397528013684,2972.5901707721141,336.00078312559367,849.91662679880653,192.85026819155343,1126.2207869872445,165.06090456664927,305.72835610048054,1589.9310060841678,null,2022,81.278481664620642,null,null,2022,20.892202786538629]
[null,null,2023,446.22564824151272,null,2023,11027.674173819601,null,null,null,2023,1859.6067015836438,446.22564824151272,1205.1352219391422,2952.0627851309396,340.43532593361471,844.59458611476248,192.84824853833848,1118.6388331456271,170.02992794045846,305.78336362238304,1592.3135316291798,null,2023,81.277138984792941,null,null,2023,20.925207532258657]
[null,null,2024,440.30079310129685,null,2024,10949.8651388749,null,null,null,2024,1829.4251037890526,440.30079310129685,1184.5871227583286,2931.6771524853189,344.92839589664197,839.30587119015115,192.84622890627466,1111.1079226027312,175.14853969411018,305.83838104139647,1594.6996274095989,null,2024,81.270483498499758,null,null,2024,20.957203561060524]
[null,null,2025,434.45460647458049,null,2025,10873.416544648524,null,null,null,2025,1799.7333562647682,434.45460647458049,1164.3893779379703,2911.4322939521103,349.48076545684609,834.0502733444481,192.84420929536171,1103.6277117243956,180.42124306329086,305.89340835930159,1597.0892987754539,null,2025,81.258151647404063,null,null,2025,20.988184788496319]
[null,null,2026,428.68604382358689,null,2026,10798.31732856589,null,null,null,2026,{"$f":"IF(ISNA($C47),\"\",base_tx*OFFSET(INDIRECT(\"'Forecasts \" & L$36 & \"'!\" & IF(sex_plot=\"M\",\"C17\",IF(sex_plot=\"F\",\"C58\",NA()))),$C47-$C$37,MATCH(age_plot,Ages_group,0)))","v":1770.5235086932173},428.68604382358689,1144.5360137781736,2891.3272374079042,354.09321725109999,828.82758520385232,192.84218970559942,1096.1978591898774,185.8526768499099,305.9484455778794,1599.4825510847911,null,2026,81.2397485282833,null,null,2026,21.018145590711352]
[null,null,{"$error":"#N/A"},"",null,{"$error":"#N/A"},"",null,null,null,{"$error":"#N/A"},"","","","","","","","","","","",null,{"$error":"#N/A"},"",null,null,{"$error":"#N/A"},""]
[null,null,{"$error":"#N/A"},"",null,{"$error":"#N/A"},"",null,null,null,{"$error":"#N/A"},"","","","","","","","","","","",null,{"$error":"#N/A"},"",null,null,{"$error":"#N/A"},""]
[null,null,{"$error":"#N/A"},"",null,{"$error":"#N/A"},"",null,null,null,{"$error":"#N/A"},"","","","","","","","","","","",null,{"$error":"#N/A"},"",null,null,{"$error":"#N/A"},""]
[null,null,{"$error":"#N/A"},"",null,{"$error":"#N/A"},"",null,null,null,{"$error":"#N/A"},"","","","","","","","","","","",null,{"$error":"#N/A"},"",null,null,{"$error":"#N/A"},""]
[null,null,{"$error":"#N/A"},"",null,{"$error":"#N/A"},"",null,null,null,{"$error":"#N/A"},"","","","","","","","","","","",null,{"$error":"#N/A"},"",null,null,{"$error":"#N/A"},""]
[null,null,{"$error":"#N/A"},"",null,{"$error":"#N/A"},"",null,null,null,{"$error":"#N/A"},"","","","","","","","","","","",null,{"$error":"#N/A"},"",null,null,{"$error":"#N/A"},""]
[null,null,{"$error":"#N/A"},"",null,{"$error":"#N/A"},"",null,null,null,{"$error":"#N/A"},"","","","","","","","","","","",null,{"$error":"#N/A"},"",null,null,{"$error":"#N/A"},""]
[null,null,{"$error":"#N/A"},"",null,{"$error":"#N/A"},"",null,null,null,{"$error":"#N/A"},"","","","","","","","","","","",null,{"$error":"#N/A"},"",null,null,{"$error":"#N/A"},""]
[null,null,{"$error":"#N/A"},"",null,{"$error":"#N/A"},"",null,null,null,{"$error":"#N/A"},"","","","","","","","","","","",null,{"$error":"#N/A"},"",null,null,{"$error":"#N/A"},""]
[null,null,{"$error":"#N/A"},"",null,{"$error":"#N/A"},"",null,null,null,{"$error":"#N/A"},{"$f":"IF(ISNA($C57),\"\",base_tx*OFFSET(INDIRECT(\"'Forecasts \" & L$36 & \"'!\" & IF(sex_plot=\"M\",\"C17\",IF(sex_plot=\"F\",\"C58\",NA()))),$C57-$C$37,MATCH(age_plot,Ages_group,0)))","v":""},"","","","","","","","","","",null,{"$error":"#N/A"},"",null,null,{"$error":"#N/A"},""]
[null,null,{"$error":"#N/A"},"",null,{"$error":"#N/A"},"",null,null,null,{"$error":"#N/A"},"","","","","","","","","","","",null,{"$error":"#N/A"},"",null,null,{"$error":"#N/A"},""]
[null,null,{"$error":"#N/A"},"",null,{"$error":"#N/A"},"",null,null,null,{"$error":"#N/A"},"","","","","","","","","","","",null,{"$error":"#N/A"},"",null,null,{"$error":"#N/A"},""]
[null,null,{"$error":"#N/A"},"",null,{"$error":"#N/A"},"",null,null,null,{"$error":"#N/A"},"","","","","","","","","","","",null,{"$error":"#N/A"},"",null,null,{"$error":"#N/A"},""]
[null,null,{"$error":"#N/A"},"",null,{"$error":"#N/A"},"",null,null,null,{"$error":"#N/A"},"","","","","","","","","","","",null,{"$error":"#N/A"},"",null,null,{"$error":"#N/A"},""]
[null,null,{"$error":"#N/A"},"",null,{"$error":"#N/A"},"",null,null,null,{"$error":"#N/A"},"","","","","","","","","","","",null,{"$error":"#N/A"},"",null,null,{"$error":"#N/A"},""]
[null,null,{"$error":"#N/A"},"",null,{"$error":"#N/A"},"",null,null,null,{"$error":"#N/A"},"","","","","","","","","","","",null,{"$error":"#N/A"},"",null,null,{"$error":"#N/A"},""]
[null,null,{"$error":"#N/A"},"",null,{"$error":"#N/A"},"",null,null,null,{"$error":"#N/A"},"","","","","","","","","","","",null,{"$error":"#N/A"},"",null,null,{"$error":"#N/A"},""]
[null,null,{"$error":"#N/A"},"",null,{"$error":"#N/A"},"",null,null,null,{"$error":"#N/A"},"","","","","","","","","","","",null,{"$error":"#N/A"},"",null,null,{"$error":"#N/A"},""]
[null,null,{"$error":"#N/A"},"",null,{"$error":"#N/A"},"",null,null,null,{"$error":"#N/A"},"","","","","","","","","","","",null,{"$error":"#N/A"},"",null,null,{"$error":"#N/A"},""]
[null,null,{"$error":"#N/A"},"",null,{"$error":"#N/A"},"",null,null,null,{"$error":"#N/A"},"","","","","","","","","","","",null,{"$error":"#N/A"},"",null,null,{"$error":"#N/A"},""]

{"sheet":"Graphscomparison","index":6,"n_rows":67,"n_cols":23,"rows_kept":67,"cut":false,"hidden":false,"merged":[[6,2,6,3],[7,2,7,3],[8,2,8,3],[0,2,3,9],[0,10,3,16]]}
[null,null,"Society of Actuaries - Cause of deaths forecasting tool",null,null,null,null,null,null,null,"GraphsComparison"]
[]
[]
[]
[]
[]
[null,"Gender","F"]
[null,"age group","65 - 69"]
[null,"cause","Cerebrovascular"]
[null,null,null,null,null,null,null,null,null,null,null,null,null,null,null,null,null,null,null,"Select age",65]
[]
[null,null,{"$f":"\"Forecast Death rate \" & $C$9 & IF(sex_plot=\"M\",\" Male\",\" Female\") & \" age \" & $C$8","v":"Forecast Death rate Cerebrovascular Female age 65 - 69"},null,null,null,null,{"$f":"\"Forecast aggregate Death rate\" & IF(sex_plot=\"M\",\" Male\",\" Female\") & \" age \" & $C$8","v":"Forecast aggregate Death rate Female age 65 - 69"},null,null,null,null,null,{"$f":"\"Forecast Life expectancy at birth\" & IF(sex_plot=\"M\",\" Male\",\" Female\")","v":"Forecast Life expectancy at birth Female"},null,null,null,null,null,{"$f":"\"Forecast Life expectancy at \" & age_LE & IF(sex_plot=\"M\",\" Male\",\" Female\")","v":"Forecast Life expectancy at 65 Female"}]
[]
[null,null,null,{"$f":" cause_plot & \" Death rate\"","v":"Cerebrovascular Death rate"},null,null,null,null,"All causes Death rate",null,null,null,null,null,"Life expectancy at birth",null,null,null,null,null,{"$f":"\"Life expectancy at \" & age_LE","v":"Life expectancy at 65"}]
[null,null,"years","Historical 1","Historical 2","Actual",null,"years","Historical 1","Historical 2","Actual",null,null,"years","Historical 1","Historical 2","Actual",null,null,"years","Historical 1","Historical 2","Actual"]
[null,null,{"$f":"Year_0","v":2016},489.99309367245576,489.99309367245576,489.99309367245576,null,{"$f":"Year_0","v":2016},11611.444133494768,11611.444133494768,11611.444133494768,null,null,{"$f":"Year_0","v":2016},81.191978706522789,81.191978706522789,81.191978706522789,null,null,{"$f":"Year_0","v":2016},20.673387514123412,20.673387514123412,20.673387514123412]
[null,null,{"$f":"IF(C16<Year_max,C16+1,NA())","v":2017},475.73989421109985,483.48710704628076,483.48710704628076,null,{"$f":"IF(H16<Year_max,H16+1,NA())","v":2017},{"$error":"#DIV/0!"},{"$error":"#DIV/0!"},{"$error":"#DIV/0!"},null,null,{"$f":"IF(N16<Year_max,N16+1,NA())","v":2017},{"$error":"#DIV/0!"},{"$error":"#DIV/0!"},{"$error":"#DIV/0!"},null,null,{"$f":"IF(T16<Year_max,T16+1,NA())","v":2017},{"$error":"#DIV/0!"},{"$error":"#DIV/0!"},{"$error":"#DIV/0!"}]
[null,null,2018,461.90129997073302,477.06750502945346,477.06750502945346,null,2018,{"$error":"#DIV/0!"},{"$error":"#DIV/0!"},{"$error":"#DIV/0!"},null,null,2018,{"$error":"#DIV/0!"},{"$error":"#DIV/0!"},{"$error":"#DIV/0!"},null,null,2018,{"$error":"#DIV/0!"},{"$error":"#DIV/0!"},{"$error":"#DIV/0!"}]
[null,null,2019,448.46525067746819,470.73314063210734,470.73314063210734,null,2019,{"$error":"#DIV/0!"},{"$error":"#DIV/0!"},{"$error":"#DIV/0!"},null,null,2019,{"$error":"#DIV/0!"},{"$error":"#DIV/0!"},{"$error":"#DIV/0!"},null,null,2019,{"$error":"#DIV/0!"},{"$error":"#DIV/0!"},{"$error":"#DIV/0!"}]
[null,null,2020,435.42003687356544,464.48288209377563,464.48288209377563,null,2020,{"$error":"#DIV/0!"},{"$error":"#DIV/0!"},{"$error":"#DIV/0!"},null,null,2020,{"$error":"#DIV/0!"},{"$error":"#DIV/0!"},{"$error":"#DIV/0!"},null,null,2020,{"$error":"#DIV/0!"},{"$error":"#DIV/0!"},{"$error":"#DIV/0!"}]
[null,null,2021,422.75428971269122,458.31561268117986,458.31561268117986,null,2021,{"$error":"#DIV/0!"},{"$error":"#DIV/0!"},{"$error":"#DIV/0!"},null,null,2021,{"$error":"#DIV/0!"},{"$error":"#DIV/0!"},{"$error":"#DIV/0!"},null,null,2021,{"$error":"#DIV/0!"},{"$error":"#DIV/0!"},{"$error":"#DIV/0!"}]
[null,null,2022,410.45697105201896,452.23023048870311,452.23023048870311,null,2022,{"$error":"#DIV/0!"},{"$error":"#DIV/0!"},{"$error":"#DIV/0!"},null,null,2022,{"$error":"#DIV/0!"},{"$error":"#DIV/0!"},{"$error":"#DIV/0!"},null,null,2022,{"$error":"#DIV/0!"},{"$error":"#DIV/0!"},{"$error":"#DIV/0!"}]
[null,null,2023,398.51736383253609,446.22564824151272,446.22564824151272,null,2023,{"$error":"#DIV/0!"},{"$error":"#DIV/0!"},{"$error":"#DIV/0!"},null,null,2023,{"$error":"#DIV/0!"},{"$error":"#DIV/0!"},{"$error":"#DIV/0!"},null,null,2023,{"$error":"#DIV/0!"},{"$error":"#DIV/0!"},{"$error":"#DIV/0!"}]
[null,null,2024,386.92506273917439,440.30079310129685,440.30079310129685,null,2024,{"$error":"#DIV/0!"},{"$error":"#DIV/0!"},{"$error":"#DIV/0!"},null,null,2024,{"$error":"#DIV/0!"},{"$error":"#DIV/0!"},{"$error":"#DIV/0!"},null,null,2024,{"$error":"#DIV/0!"},{"$error":"#DIV/0!"},{"$error":"#DIV/0!"}]
[null,null,2025,375.66996513262399,434.45460647458049,434.45460647458049,null,2025,{"$error":"#DIV/0!"},{"$error":"#DIV/0!"},{"$error":"#DIV/0!"},null,null,2025,{"$error":"#DIV/0!"},{"$error":"#DIV/0!"},{"$error":"#DIV/0!"},null,null,2025,{"$error":"#DIV/0!"},{"$error":"#DIV/0!"},{"$error":"#DIV/0!"}]
[null,null,2026,364.7422622449273,428.68604382358689,428.68604382358689,null,2026,{"$error":"#DIV/0!"},{"$error":"#DIV/0!"},{"$error":"#DIV/0!"},null,null,2026,{"$error":"#DIV/0!"},{"$error":"#DIV/0!"},{"$error":"#DIV/0!"},null,null,2026,{"$error":"#DIV/0!"},{"$error":"#DIV/0!"},{"$error":"#DIV/0!"}]
[null,null,{"$error":"#N/A"},"","","",null,{"$error":"#N/A"},"","","",null,null,{"$error":"#N/A"},"","","",null,null,{"$error":"#N/A"},"","",""]
[null,null,{"$error":"#N/A"},"","","",null,{"$error":"#N/A"},"","","",null,null,{"$error":"#N/A"},"","","",null,null,{"$error":"#N/A"},"","",""]
[null,null,{"$error":"#N/A"},"","","",null,{"$error":"#N/A"},"","","",null,null,{"$error":"#N/A"},"","","",null,null,{"$error":"#N/A"},"","",""]
[null,null,{"$error":"#N/A"},"","","",null,{"$error":"#N/A"},"","","",null,null,{"$error":"#N/A"},"","","",null,null,{"$error":"#N/A"},"","",""]
[null,null,{"$error":"#N/A"},"","","",null,{"$error":"#N/A"},"","","",null,null,{"$error":"#N/A"},"","","",null,null,{"$error":"#N/A"},"","",""]
[null,null,{"$error":"#N/A"},"","","",null,{"$error":"#N/A"},"","","",null,null,{"$error":"#N/A"},"","","",null,null,{"$error":"#N/A"},"","",""]
[null,null,{"$error":"#N/A"},"","","",null,{"$error":"#N/A"},"","","",null,null,{"$error":"#N/A"},"","","",null,null,{"$error":"#N/A"},"","",""]
[null,null,{"$error":"#N/A"},"","","",null,{"$error":"#N/A"},"","","",null,null,{"$error":"#N/A"},"","","",null,null,{"$error":"#N/A"},"","",""]
[null,null,{"$error":"#N/A"},"","","",null,{"$error":"#N/A"},"","","",null,null,{"$error":"#N/A"},"","","",null,null,{"$error":"#N/A"},"","",""]
[null,null,{"$error":"#N/A"},"","","",null,{"$error":"#N/A"},"","","",null,null,{"$error":"#N/A"},"","","",null,null,{"$error":"#N/A"},"","",""]
[null,null,{"$error":"#N/A"},"","","",null,{"$error":"#N/A"},"","","",null,null,{"$error":"#N/A"},"","","",null,null,{"$error":"#N/A"},"","",""]
[null,null,{"$error":"#N/A"},"","","",null,{"$error":"#N/A"},"","","",null,null,{"$error":"#N/A"},"","","",null,null,{"$error":"#N/A"},"","",""]
[null,null,{"$error":"#N/A"},"","","",null,{"$error":"#N/A"},"","","",null,null,{"$error":"#N/A"},"","","",null,null,{"$error":"#N/A"},"","",""]
[null,null,{"$error":"#N/A"},"","","",null,{"$error":"#N/A"},"","","",null,null,{"$error":"#N/A"},"","","",null,null,{"$error":"#N/A"},"","",""]
[null,null,{"$error":"#N/A"},"","","",null,{"$error":"#N/A"},"","","",null,null,{"$error":"#N/A"},"","","",null,null,{"$error":"#N/A"},"","",""]
[null,null,{"$error":"#N/A"},"","","",null,{"$error":"#N/A"},"","","",null,null,{"$error":"#N/A"},"","","",null,null,{"$error":"#N/A"},"","",""]
[null,null,{"$error":"#N/A"},"","","",null,{"$error":"#N/A"},"","","",null,null,{"$error":"#N/A"},"","","",null,null,{"$error":"#N/A"},"","",""]
[null,null,{"$error":"#N/A"},"","","",null,{"$error":"#N/A"},"","","",null,null,{"$error":"#N/A"},"","","",null,null,{"$error":"#N/A"},"","",""]
[null,null,{"$error":"#N/A"},"","","",null,{"$error":"#N/A"},"","","",null,null,{"$error":"#N/A"},"","","",null,null,{"$error":"#N/A"},"","",""]
[null,null,{"$error":"#N/A"},"","","",null,{"$error":"#N/A"},"","","",null,null,{"$error":"#N/A"},"","","",null,null,{"$error":"#N/A"},"","",""]
[]
[]
[]
[]
[]
[]
[]
[]
[]
[null,null,null,null,null,"H1",null,null,"H2",null,null,"Actual"]
[null,null,null,null,null,"historical1","historical1",null,"historical2","historical2",null,"historical2","historical2"]
[null,null,null,null,null,"historical1","historical1",null,"historical2","historical2",null,"historical2","historical2"]
[null,null,null,null,null,"historical1","historical1",null,"historical2","historical2",null,"historical2","historical2"]
[null,null,null,null,null,"historical1","historical1",null,"historical2","historical2",null,"historical2","historical2"]
[null,null,null,null,null,"historical1","historical1",null,"historical2","historical2",null,"historical2","historical2"]
[null,null,null,null,null,"historical1","historical1",null,"historical2","historical2",null,"historical2","historical2"]
[null,null,null,null,null,"historical1","historical1",null,"historical2","historical2",null,"historical2","historical2"]
[null,null,null,null,null,"historical1","historical1",null,"historical2","historical2",null,"historical2","historical2"]
[null,null,null,null,null,"historical1","historical1",null,"historical2","historical2",null,"historical2","historical2"]
[null,null,null,null,null,"historical1","historical1",null,"historical2","historical2",null,"historical2","historical2"]
[null,null,null,null,null,"historical1","historical1",null,"historical2","historical2",null,"historical2","historical2"]

{"sheet":"Life expectancy","index":7,"n_rows":88,"n_cols":119,"rows_kept":88,"cut":false,"hidden":false,"merged":[[5,1,5,98],[0,2,3,9],[0,10,3,16]]}
[null,null,"Society of Actuaries - Cause of deaths forecasting tool",null,null,null,null,null,null,null,"Life Expectancy"]
[]
[]
[]
[]
[null,"central scenario - diffusion LC"]
[null,"Life Expectancy"]
[]
[null,"Male"]
[]
[]
[]
[]
[]
[null,"Survival probability",null,"age",null,null,null,null,null,null,null,null,null,null,null,null,null,null,null,null,null,null,null,null,null,null,null,null,null,null,null,null,null,null,null,null,null,null,null,null,null,null,null,null,null,null,null,null,null,null,null,null,null,null,null,null,null,null,null,null,null,null,null,null,null,null,null,null,null,null,null,null,null,null,null,null,null,null,null,null,null,null,null,null,null,null,null,null,null,null,null,null,null,null,null,null,null,null,null,null,null,null,null,null,null,null,null,null,null,null,null,null,null,null,null,null,null,"Life expectancies"]
[null,"sex","M",0,1,2,3,4,5,6,7,8,9,10,11,12,13,14,15,16,17,18,19,20,21,22,23,24,25,26,27,28,29,30,31,32,33,34,35,36,37,38,39,40,41,42,43,44,45,46,47,48,49,50,51,52,53,54,55,56,57,58,59,60,61,62,63,64,65,66,67,68,69,70,71,72,73,74,75,76,77,78,79,80,81,82,83,84,85,86,87,88,89,90,91,92,93,94,95,96,97,98,99,100,101,102,103,104,105,106,107,108,109,110,111,null,null,"at birth","at age plot"]
[null,"time",{"$f":"Year_0","v":2016},{"$f":"IF(C17<>\"\",100%,\"\")","v":1},{"$f":"IF($C17<>\"\",D17*EXP(-OFFSET('Forecasts Aggregate'!$C$17,$C17-$C$17,MATCH(D$16,Ages,1))),\"\")","v":0.99375928133194158},{"$f":"IF($C17<>\"\",E17*EXP(-OFFSET('Forecasts Aggregate'!$C$17,$C17-$C$17,MATCH(E$16,Ages,1))),\"\")","v":0.99347226173470771},{"$f":"IF($C17<>\"\",F17*EXP(-OFFSET('Forecasts Aggregate'!$C$17,$C17-$C$17,MATCH(F$16,Ages,1))),\"\")","v":0.99318532503506363},{"$f":"IF($C17<>\"\",G17*EXP(-OFFSET('Forecasts Aggregate'!$C$17,$C17-$C$17,MATCH(G$16,Ages,1))),\"\")","v":0.9928984712090666},{"$f":"IF($C17<>\"\",H17*EXP(-OFFSET('Forecasts Aggregate'!$C$17,$C17-$C$17,MATCH(H$16,Ages,1))),\"\")","v":0.99261170023278089},{"$f":"IF($C17<>\"\",I17*EXP(-OFFSET('Forecasts Aggregate'!$C$17,$C17-$C$17,MATCH(I$16,Ages,1))),\"\")","v":0.99247899430891073},{"$f":"IF($C17<>\"\",J17*EXP(-OFFSET('Forecasts Aggregate'!$C$17,$C17-$C$17,MATCH(J$16,Ages,1))),\"\")","v":0.9923463061269856},{"$f":"IF($C17<>\"\",K17*EXP(-OFFSET('Forecasts Aggregate'!$C$17,$C17-$C$17,MATCH(K$16,Ages,1))),\"\")","v":0.9922136356846335},{"$f":"IF($C17<>\"\",L17*EXP(-OFFSET('Forecasts Aggregate'!$C$17,$C17-$C$17,MATCH(L$16,Ages,1))),\"\")","v":0.99208098297948277},{"$f":"IF($C17<>\"\",M17*EXP(-OFFSET('Forecasts Aggregate'!$C$17,$C17-$C$17,MATCH(M$16,Ages,1))),\"\")","v":0.9919483480091621},{"$f":"IF($C17<>\"\",N17*EXP(-OFFSET('Forecasts Aggregate'!$C$17,$C17-$C$17,MATCH(N$16,Ages,1))),\"\")","v":0.99178447222486354},{"$f":"IF($C17<>\"\",O17*EXP(-OFFSET('Forecasts Aggregate'!$C$17,$C17-$C$17,MATCH(O$16,Ages,1))),\"\")","v":0.99162062351382207},{"$f":"IF($C17<>\"\",P17*EXP(-OFFSET('Forecasts Aggregate'!$C$17,$C17-$C$17,MATCH(P$16,Ages,1))),\"\")","v":0.99145680187156504},{"$f":"IF($C17<>\"\",Q17*EXP(-OFFSET('Forecasts Aggregate'!$C$17,$C17-$C$17,MATCH(Q$16,Ages,1))),\"\")","v":0.99129300729362058},{"$f":"IF($C17<>\"\",R17*EXP(-OFFSET('Forecasts Aggregate'!$C$17,$C17-$C$17,MATCH(R$16,Ages,1))),\"\")","v":0.99112923977551748},{"$f":"IF($C17<>\"\",S17*EXP(-OFFSET('Forecasts Aggregate'!$C$17,$C17-$C$17,MATCH(S$16,Ages,1))),\"\")","v":0.99044619592201399},{"$f":"IF($C17<>\"\",T17*EXP(-OFFSET('Forecasts Aggregate'!$C$17,$C17-$C$17,MATCH(T$16,Ages,1))),\"\")","v":0.98976362279310126},{"$f":"IF($C17<>\"\",U17*EXP(-OFFSET('Forecasts Aggregate'!$C$17,$C17-$C$17,MATCH(U$16,Ages,1))),\"\")","v":0.98908152006437611},{"$f":"IF($C17<>\"\",V17*EXP(-OFFSET('Forecasts Aggregate'!$C$17,$C17-$C$17,MATCH(V$16,Ages,1))),\"\")","v":0.98839988741165885},{"$f":"IF($C17<>\"\",W17*EXP(-OFFSET('Forecasts Aggregate'!$C$17,$C17-$C$17,MATCH(W$16,Ages,1))),\"\")","v":0.98771872451099318},{"$f":"IF($C17<>\"\",X17*EXP(-OFFSET('Forecasts Aggregate'!$C$17,$C17-$C$17,MATCH(X$16,Ages,1))),\"\")","v":0.98635048433714689},{"$f":"IF($C17<>\"\",Y17*EXP(-OFFSET('Forecasts Aggregate'!$C$17,$C17-$C$17,MATCH(Y$16,Ages,1))),\"\")","v":0.98498413952189501},{"$f":"IF($C17<>\"\",Z17*EXP(-OFFSET('Forecasts Aggregate'!$C$17,$C17-$C$17,MATCH(Z$16,Ages,1))),\"\")","v":0.98361968743968664},{"$f":"IF($C17<>\"\",AA17*EXP(-OFFSET('Forecasts Aggregate'!$C$17,$C17-$C$17,MATCH(AA$16,Ages,1))),\"\")","v":0.98225712546860788},{"$f":"IF($C17<>\"\",AB17*EXP(-OFFSET('Forecasts Aggregate'!$C$17,$C17-$C$17,MATCH(AB$16,Ages,1))),\"\")","v":0.98089645099037692},{"$f":"IF($C17<>\"\",AC17*EXP(-OFFSET('Forecasts Aggregate'!$C$17,$C17-$C$17,MATCH(AC$16,Ages,1))),\"\")","v":0.97929077640379403},{"$f":"IF($C17<>\"\",AD17*EXP(-OFFSET('Forecasts Aggregate'!$C$17,$C17-$C$17,MATCH(AD$16,Ages,1))),\"\")","v":0.97768773021990896},{"$f":"IF($C17<>\"\",AE17*EXP(-OFFSET('Forecasts Aggregate'!$C$17,$C17-$C$17,MATCH(AE$16,Ages,1))),\"\")","v":0.97608730813616817},{"$f":"IF($C17<>\"\",AF17*EXP(-OFFSET('Forecasts Aggregate'!$C$17,$C17-$C$17,MATCH(AF$16,Ages,1))),\"\")","v":0.97448950585706129},{"$f":"IF($C17<>\"\",AG17*EXP(-OFFSET('Forecasts Aggregate'!$C$17,$C17-$C$17,MATCH(AG$16,Ages,1))),\"\")","v":0.97289431909410939},{"$f":"IF($C17<>\"\",AH17*EXP(-OFFSET('Forecasts Aggregate'!$C$17,$C17-$C$17,MATCH(AH$16,Ages,1))),\"\")","v":0.97110022223430337},{"$f":"IF($C17<>\"\",AI17*EXP(-OFFSET('Forecasts Aggregate'!$C$17,$C17-$C$17,MATCH(AI$16,Ages,1))),\"\")","v":0.96930943383614543},{"$f":"IF($C17<>\"\",AJ17*EXP(-OFFSET('Forecasts Aggregate'!$C$17,$C17-$C$17,MATCH(AJ$16,Ages,1))),\"\")","v":0.96752194779856115},{"$f":"IF($C17<>\"\",AK17*EXP(-OFFSET('Forecasts Aggregate'!$C$17,$C17-$C$17,MATCH(AK$16,Ages,1))),\"\")","v":0.96573775803172701},{"$f":"IF($C17<>\"\",AL17*EXP(-OFFSET('Forecasts Aggregate'!$C$17,$C17-$C$17,MATCH(AL$16,Ages,1))),\"\")","v":0.96395685845704959},{"$f":"IF($C17<>\"\",AM17*EXP(-OFFSET('Forecasts Aggregate'!$C$17,$C17-$C$17,MATCH(AM$16,Ages,1))),\"\")","v":0.96192042801966282},{"$f":"IF($C17<>\"\",AN17*EXP(-OFFSET('Forecasts Aggregate'!$C$17,$C17-$C$17,MATCH(AN$16,Ages,1))),\"\")","v":0.95988829969278022},{"$f":"IF($C17<>\"\",AO17*EXP(-OFFSET('Forecasts Aggregate'!$C$17,$C17-$C$17,MATCH(AO$16,Ages,1))),\"\")","v":0.95786046438787387},{"$f":"IF($C17<>\"\",AP17*EXP(-OFFSET('Forecasts Aggregate'!$C$17,$C17-$C$17,MATCH(AP$16,Ages,1))),\"\")","v":0.95583691303561613},{"$f":"IF($C17<>\"\",AQ17*EXP(-OFFSET('Forecasts Aggregate'!$C$17,$C17-$C$17,MATCH(AQ$16,Ages,1))),\"\")","v":0.95381763658583896},{"$f":"IF($C17<>\"\",AR17*EXP(-OFFSET('Forecasts Aggregate'!$C$17,$C17-$C$17,MATCH(AR$16,Ages,1))),\"\")","v":0.95126654968468038},{"$f":"IF($C17<>\"\",AS17*EXP(-OFFSET('Forecasts Aggregate'!$C$17,$C17-$C$17,MATCH(AS$16,Ages,1))),\"\")","v":0.94872228593726482},{"$f":"IF($C17<>\"\",AT17*EXP(-OFFSET('Forecasts Aggregate'!$C$17,$C17-$C$17,MATCH(AT$16,Ages,1))),\"\")","v":0.9461848270943406},{"$f":"IF($C17<>\"\",AU17*EXP(-OFFSET('Forecasts Aggregate'!$C$17,$C17-$C$17,MATCH(AU$16,Ages,1))),\"\")","v":0.94365415495546556},{"$f":"IF($C17<>\"\",AV17*EXP(-OFFSET('Forecasts Aggregate'!$C$17,$C17-$C$17,MATCH(AV$16,Ages,1))),\"\")","v":0.94113025136887662},{"$f":"IF($C17<>\"\",AW17*EXP(-OFFSET('Forecasts Aggregate'!$C$17,$C17-$C$17,MATCH(AW$16,Ages,1))),\"\")","v":0.93749374080945447},{"$f":"IF($C17<>\"\",AX17*EXP(-OFFSET('Forecasts Aggregate'!$C$17,$C17-$C$17,MATCH(AX$16,Ages,1))),\"\")","v":0.93387128166218225},{"$f":"IF($C17<>\"\",AY17*EXP(-OFFSET('Forecasts Aggregate'!$C$17,$C17-$C$17,MATCH(AY$16,Ages,1))),\"\")","v":0.93026281963265334},{"$f":"IF($C17<>\"\",AZ17*EXP(-OFFSET('Forecasts Aggregate'!$C$17,$C17-$C$17,MATCH(AZ$16,Ages,1))),\"\")","v":0.92666830063625349},{"$f":"IF($C17<>\"\",BA17*EXP(-OFFSET('Forecasts Aggregate'!$C$17,$C17-$C$17,MATCH(BA$16,Ages,1))),\"\")","v":0.92308767079735066},{"$f":"IF($C17<>\"\",BB17*EXP(-OFFSET('Forecasts Aggregate'!$C$17,$C17-$C$17,MATCH(BB$16,Ages,1))),\"\")","v":0.91746693418998249},{"$f":"IF($C17<>\"\",BC17*EXP(-OFFSET('Forecasts Aggregate'!$C$17,$C17-$C$17,MATCH(BC$16,Ages,1))),\"\")","v":0.9118804225874636},{"$f":"IF($C17<>\"\",BD17*EXP(-OFFSET('Forecasts Aggregate'!$C$17,$C17-$C$17,MATCH(BD$16,Ages,1))),\"\")","v":0.90632792759167147},{"$f":"IF($C17<>\"\",BE17*EXP(-OFFSET('Forecasts Aggregate'!$C$17,$C17-$C$17,MATCH(BE$16,Ages,1))),\"\")","v":0.90080924207343216},{"$f":"IF($C17<>\"\",BF17*EXP(-OFFSET('Forecasts Aggregate'!$C$17,$C17-$C$17,MATCH(BF$16,Ages,1))),\"\")","v":0.89532416016479377},{"$f":"IF($C17<>\"\",BG17*EXP(-OFFSET('Forecasts Aggregate'!$C$17,$C17-$C$17,MATCH(BG$16,Ages,1))),\"\")","v":0.88706092033505479},{"$f":"IF($C17<>\"\",BH17*EXP(-OFFSET('Forecasts Aggregate'!$C$17,$C17-$C$17,MATCH(BH$16,Ages,1))),\"\")","v":0.87887394465133328},{"$f":"IF($C17<>\"\",BI17*EXP(-OFFSET('Forecasts Aggregate'!$C$17,$C17-$C$17,MATCH(BI$16,Ages,1))),\"\")","v":0.8707625292468546},{"$f":"IF($C17<>\"\",BJ17*EXP(-OFFSET('Forecasts Aggregate'!$C$17,$C17-$C$17,MATCH(BJ$16,Ages,1))),\"\")","v":0.86272597675106077},{"$f":"IF($C17<>\"\",BK17*EXP(-OFFSET('Forecasts Aggregate'!$C$17,$C17-$C$17,MATCH(BK$16,Ages,1))),\"\")","v":0.85476359622965536},{"$f":"IF($C17<>\"\",BL17*EXP(-OFFSET('Forecasts Aggregate'!$C$17,$C17-$C$17,MATCH(BL$16,Ages,1))),\"\")","v":0.84341678594932734},{"$f":"IF($C17<>\"\",BM17*EXP(-OFFSET('Forecasts Aggregate'!$C$17,$C17-$C$17,MATCH(BM$16,Ages,1))),\"\")","v":0.83222060223300565},{"$f":"IF($C17<>\"\",BN17*EXP(-OFFSET('Forecasts Aggregate'!$C$17,$C17-$C$17,MATCH(BN$16,Ages,1))),\"\")","v":0.82117304554414883},{"$f":"IF($C17<>\"\",BO17*EXP(-OFFSET('Forecasts Aggregate'!$C$17,$C17-$C$17,MATCH(BO$16,Ages,1))),\"\")","v":0.81027214288965022},{"$f":"IF($C17<>\"\",BP17*EXP(-OFFSET('Forecasts Aggregate'!$C$17,$C17-$C$17,MATCH(BP$16,Ages,1))),\"\")","v":0.79951594746747945},{"$f":"IF($C17<>\"\",BQ17*EXP(-OFFSET('Forecasts Aggregate'!$C$17,$C17-$C$17,MATCH(BQ$16,Ages,1))),\"\")","v":0.78503219388337409},{"$f":"IF($C17<>\"\",BR17*EXP(-OFFSET('Forecasts Aggregate'!$C$17,$C17-$C$17,MATCH(BR$16,Ages,1))),\"\")","v":0.77081082295536163},{"$f":"IF($C17<>\"\",BS17*EXP(-OFFSET('Forecasts Aggregate'!$C$17,$C17-$C$17,MATCH(BS$16,Ages,1))),\"\")","v":0.75684708145025426},{"$f":"IF($C17<>\"\",BT17*EXP(-OFFSET('Forecasts Aggregate'!$C$17,$C17-$C$17,MATCH(BT$16,Ages,1))),\"\")","v":0.74313630224278804},{"$f":"IF($C17<>\"\",BU17*EXP(-OFFSET('Forecasts Aggregate'!$C$17,$C17-$C$17,MATCH(BU$16,Ages,1))),\"\")","v":0.72967390275572142},{"$f":"IF($C17<>\"\",BV17*EXP(-OFFSET('Forecasts Aggregate'!$C$17,$C17-$C$17,MATCH(BV$16,Ages,1))),\"\")","v":0.70981085072640049},{"$f":"IF($C17<>\"\",BW17*EXP(-OFFSET('Forecasts Aggregate'!$C$17,$C17-$C$17,MATCH(BW$16,Ages,1))),\"\")","v":0.69048850713468368},{"$f":"IF($C17<>\"\",BX17*EXP(-OFFSET('Forecasts Aggregate'!$C$17,$C17-$C$17,MATCH(BX$16,Ages,1))),\"\")","v":0.67169215291252116},{"$f":"IF($C17<>\"\",BY17*EXP(-OFFSET('Forecasts Aggregate'!$C$17,$C17-$C$17,MATCH(BY$16,Ages,1))),\"\")","v":0.65340746967169194},{"$f":"IF($C17<>\"\",BZ17*EXP(-OFFSET('Forecasts Aggregate'!$C$17,$C17-$C$17,MATCH(BZ$16,Ages,1))),\"\")","v":0.63562052879656961},{"$f":"IF($C17<>\"\",CA17*EXP(-OFFSET('Forecasts Aggregate'!$C$17,$C17-$C$17,MATCH(CA$16,Ages,1))),\"\")","v":0.60889517824680495},{"$f":"IF($C17<>\"\",CB17*EXP(-OFFSET('Forecasts Aggregate'!$C$17,$C17-$C$17,MATCH(CB$16,Ages,1))),\"\")","v":0.58329352387998157},{"$f":"IF($C17<>\"\",CC17*EXP(-OFFSET('Forecasts Aggregate'!$C$17,$C17-$C$17,MATCH(CC$16,Ages,1))),\"\")","v":0.55876831867835852},{"$f":"IF($C17<>\"\",CD17*EXP(-OFFSET('Forecasts Aggregate'!$C$17,$C17-$C$17,MATCH(CD$16,Ages,1))),\"\")","v":0.53527430217600425},{"$f":"IF($C17<>\"\",CE17*EXP(-OFFSET('Forecasts Aggregate'!$C$17,$C17-$C$17,MATCH(CE$16,Ages,1))),\"\")","v":0.51276811693208357},{"$f":"IF($C17<>\"\",CF17*EXP(-OFFSET('Forecasts Aggregate'!$C$17,$C17-$C$17,MATCH(CF$16,Ages,1))),\"\")","v":0.47793540073322804},{"$f":"IF($C17<>\"\",CG17*EXP(-OFFSET('Forecasts Aggregate'!$C$17,$C17-$C$17,MATCH(CG$16,Ages,1))),\"\")","v":0.44546889662464317},{"$f":"IF($C17<>\"\",CH17*EXP(-OFFSET('Forecasts Aggregate'!$C$17,$C17-$C$17,MATCH(CH$16,Ages,1))),\"\")","v":0.41520786607465149},{"$f":"IF($C17<>\"\",CI17*EXP(-OFFSET('Forecasts Aggregate'!$C$17,$C17-$C$17,MATCH(CI$16,Ages,1))),\"\")","v":0.38700248963852968},{"$f":"IF($C17<>\"\",CJ17*EXP(-OFFSET('Forecasts Aggregate'!$C$17,$C17-$C$17,MATCH(CJ$16,Ages,1))),\"\")","v":0.36071312521688231},{"$f":"IF($C17<>\"\",CK17*EXP(-OFFSET('Forecasts Aggregate'!$C$17,$C17-$C$17,MATCH(CK$16,Ages,1))),\"\")","v":0.32131591758393985},{"$f":"IF($C17<>\"\",CL17*EXP(-OFFSET('Forecasts Aggregate'!$C$17,$C17-$C$17,MATCH(CL$16,Ages,1))),\"\")","v":0.28622168608567489},{"$f":"IF($C17<>\"\",CM17*EXP(-OFFSET('Forecasts Aggregate'!$C$17,$C17-$C$17,MATCH(CM$16,Ages,1))),\"\")","v":0.25496045823601404},{"$f":"IF($C17<>\"\",CN17*EXP(-OFFSET('Forecasts Aggregate'!$C$17,$C17-$C$17,MATCH(CN$16,Ages,1))),\"\")","v":0.22711359210028664},{"$f":"IF($C17<>\"\",CO17*EXP(-OFFSET('Forecasts Aggregate'!$C$17,$C17-$C$17,MATCH(CO$16,Ages,1))),\"\")","v":0.20230816995531054},{"$f":"IF($C17<>\"\",CP17*EXP(-OFFSET('Forecasts Aggregate'!$C$17,$C17-$C$17,MATCH(CP$16,Ages,1))),\"\")","v":0.16552091732639523},{"$f":"IF($C17<>\"\",CQ17*EXP(-OFFSET('Forecasts Aggregate'!$C$17,$C17-$C$17,MATCH(CQ$16,Ages,1))),\"\")","v":0.13542297416176194},{"$f":"IF($C17<>\"\",CR17*EXP(-OFFSET('Forecasts Aggregate'!$C$17,$C17-$C$17,MATCH(CR$16,Ages,1))),\"\")","v":0.11079797180348701},{"$f":"IF($C17<>\"\",CS17*EXP(-OFFSET('Forecasts Aggregate'!$C$17,$C17-$C$17,MATCH(CS$16,Ages,1))),\"\")","v":9.0650723274637773E-2},{"$f":"IF($C17<>\"\",CT17*EXP(-OFFSET('Forecasts Aggregate'!$C$17,$C17-$C$17,MATCH(CT$16,Ages,1))),\"\")","v":7.4167004110776813E-2},{"$f":"IF($C17<>\"\",CU17*EXP(-OFFSET('Forecasts Aggregate'!$C$17,$C17-$C$17,MATCH(CU$16,Ages,1))),\"\")","v":5.2614361805763274E-2},{"$f":"IF($C17<>\"\",CV17*EXP(-OFFSET('Forecasts Aggregate'!$C$17,$C17-$C$17,MATCH(CV$16,Ages,1))),\"\")","v":3.732483334628206E-2},{"$f":"IF($C17<>\"\",CW17*EXP(-OFFSET('Forecasts Aggregate'!$C$17,$C17-$C$17,MATCH(CW$16,Ages,1))),\"\")","v":2.6478382261307352E-2},{"$f":"IF($C17<>\"\",CX17*EXP(-OFFSET('Forecasts Aggregate'!$C$17,$C17-$C$17,MATCH(CX$16,Ages,1))),\"\")","v":1.8783867584120189E-2},{"$f":"IF($C17<>\"\",CY17*EXP(-OFFSET('Forecasts Aggregate'!$C$17,$C17-$C$17,MATCH(CY$16,Ages,1))),\"\")","v":1.3325348880295993E-2},{"$f":"IF($C17<>\"\",CZ17*EXP(-OFFSET('Forecasts Aggregate'!$C$17,$C17-$C$17,MATCH(CZ$16,Ages,1))),\"\")","v":9.4530544354836914E-3},{"$f":"IF($C17<>\"\",DA17*EXP(-OFFSET('Forecasts Aggregate'!$C$17,$C17-$C$17,MATCH(DA$16,Ages,1))),\"\")","v":6.7060336628299187E-3},{"$f":"IF($C17<>\"\",DB17*EXP(-OFFSET('Forecasts Aggregate'!$C$17,$C17-$C$17,MATCH(DB$16,Ages,1))),\"\")","v":4.7572864193188152E-3},{"$f":"IF($C17<>\"\",DC17*EXP(-OFFSET('Forecasts Aggregate'!$C$17,$C17-$C$17,MATCH(DC$16,Ages,1))),\"\")","v":3.3748375289074702E-3},{"$f":"IF($C17<>\"\",DD17*EXP(-OFFSET('Forecasts Aggregate'!$C$17,$C17-$C$17,MATCH(DD$16,Ages,1))),\"\")","v":2.3941228975137303E-3},{"$f":"IF($C17<>\"\",DE17*EXP(-OFFSET('Forecasts Aggregate'!$C$17,$C17-$C$17,MATCH(DE$16,Ages,1))),\"\")","v":1.6984001153546172E-3},{"$f":"IF($C17<>\"\",DF17*EXP(-OFFSET('Forecasts Aggregate'!$C$17,$C17-$C$17,MATCH(DF$16,Ages,1))),\"\")","v":1.204851661889272E-3},{"$f":"IF($C17<>\"\",DG17*EXP(-OFFSET('Forecasts Aggregate'!$C$17,$C17-$C$17,MATCH(DG$16,Ages,1))),\"\")","v":8.5472646523828094E-4},{"$f":"IF($C17<>\"\",DH17*EXP(-OFFSET('Forecasts Aggregate'!$C$17,$C17-$C$17,MATCH(DH$16,Ages,1))),\"\")","v":6.0634628600932767E-4},{"$f":"IF($C17<>\"\",DI17*EXP(-OFFSET('Forecasts Aggregate'!$C$17,$C17-$C$17,MATCH(DI$16,Ages,1))),\"\")","v":4.3014441872325809E-4},{"$f":"IF($C17<>\"\",DJ17*EXP(-OFFSET('Forecasts Aggregate'!$C$17,$C17-$C$17,MATCH(DJ$16,Ages,1))),\"\")","v":3.0514612726748568E-4},null,{"$f":"Year_0","v":2016},{"$f":"IF($C17<>\"\",0.5+SUM(E17:DK17),\"\")","v":76.210771141331136},{"$f":"IF($C17<>\"\",0.5+SUMIF($E$16:$DK$16,CONCATENATE(\">\",age_LE),E17:DK17)/INDEX(D17:DK17,age_LE+1),\"\")","v":18.111453822611658}]
[null,null,{"$f":"IF(C17<Year_max,C17+1,\"\")","v":2017},{"$f":"IF(C18<>\"\",100%,\"\")","v":1},{"$f":"IF($C18<>\"\",D18*EXP(-OFFSET('Forecasts Aggregate'!$C$17,$C18-$C$17,MATCH(D$16,Ages,1))),\"\")","v":0.99383821158648966},{"$f":"IF($C18<>\"\",E18*EXP(-OFFSET('Forecasts Aggregate'!$C$17,$C18-$C$17,MATCH(E$16,Ages,1))),\"\")","v":0.99355236120023982},{"$f":"IF($C18<>\"\",F18*EXP(-OFFSET('Forecasts Aggregate'!$C$17,$C18-$C$17,MATCH(F$16,Ages,1))),\"\")","v":0.99326659303103737},{"$f":"IF($C18<>\"\",G18*EXP(-OFFSET('Forecasts Aggregate'!$C$17,$C18-$C$17,MATCH(G$16,Ages,1))),\"\")","v":0.99298090705523478},{"$f":"IF($C18<>\"\",H18*EXP(-OFFSET('Forecasts Aggregate'!$C$17,$C18-$C$17,MATCH(H$16,Ages,1))),\"\")","v":0.99269530324919142},{"$f":"IF($C18<>\"\",I18*EXP(-OFFSET('Forecasts Aggregate'!$C$17,$C18-$C$17,MATCH(I$16,Ages,1))),\"\")","v":0.99256235098849566},{"$f":"IF($C18<>\"\",J18*EXP(-OFFSET('Forecasts Aggregate'!$C$17,$C18-$C$17,MATCH(J$16,Ages,1))),\"\")","v":0.99242941653417371},{"$f":"IF($C18<>\"\",K18*EXP(-OFFSET('Forecasts Aggregate'!$C$17,$C18-$C$17,MATCH(K$16,Ages,1))),\"\")","v":0.99229649988384072},{"$f":"IF($C18<>\"\",L18*EXP(-OFFSET('Forecasts Aggregate'!$C$17,$C18-$C$17,MATCH(L$16,Ages,1))),\"\")","v":0.99216360103511214},{"$f":"IF($C18<>\"\",M18*EXP(-OFFSET('Forecasts Aggregate'!$C$17,$C18-$C$17,MATCH(M$16,Ages,1))),\"\")","v":0.99203071998560388},{"$f":"IF($C18<>\"\",N18*EXP(-OFFSET('Forecasts Aggregate'!$C$17,$C18-$C$17,MATCH(N$16,Ages,1))),\"\")","v":0.99186698174173682},{"$f":"IF($C18<>\"\",O18*EXP(-OFFSET('Forecasts Aggregate'!$C$17,$C18-$C$17,MATCH(O$16,Ages,1))),\"\")","v":0.99170327052345675},{"$f":"IF($C18<>\"\",P18*EXP(-OFFSET('Forecasts Aggregate'!$C$17,$C18-$C$17,MATCH(P$16,Ages,1))),\"\")","v":0.9915395863263029},{"$f":"IF($C18<>\"\",Q18*EXP(-OFFSET('Forecasts Aggregate'!$C$17,$C18-$C$17,MATCH(Q$16,Ages,1))),\"\")","v":0.99137592914581552},{"$f":"IF($C18<>\"\",R18*EXP(-OFFSET('Forecasts Aggregate'!$C$17,$C18-$C$17,MATCH(R$16,Ages,1))),\"\")","v":0.99121229897753527},{"$f":"IF($C18<>\"\",S18*EXP(-OFFSET('Forecasts Aggregate'!$C$17,$C18-$C$17,MATCH(S$16,Ages,1))),\"\")","v":0.99052435415252182},{"$f":"IF($C18<>\"\",T18*EXP(-OFFSET('Forecasts Aggregate'!$C$17,$C18-$C$17,MATCH(T$16,Ages,1))),\"\")","v":0.98983688679140058},{"$f":"IF($C18<>\"\",U18*EXP(-OFFSET('Forecasts Aggregate'!$C$17,$C18-$C$17,MATCH(U$16,Ages,1))),\"\")","v":0.98914989656279062},{"$f":"IF($C18<>\"\",V18*EXP(-OFFSET('Forecasts Aggregate'!$C$17,$C18-$C$17,MATCH(V$16,Ages,1))),\"\")","v":0.98846338313554105},{"$f":"IF($C18<>\"\",W18*EXP(-OFFSET('Forecasts Aggregate'!$C$17,$C18-$C$17,MATCH(W$16,Ages,1))),\"\")","v":0.98777734617873081},{"$f":"IF($C18<>\"\",X18*EXP(-OFFSET('Forecasts Aggregate'!$C$17,$C18-$C$17,MATCH(X$16,Ages,1))),\"\")","v":0.98638844037926687},{"$f":"IF($C18<>\"\",Y18*EXP(-OFFSET('Forecasts Aggregate'!$C$17,$C18-$C$17,MATCH(Y$16,Ages,1))),\"\")","v":0.98500148750910155},{"$f":"IF($C18<>\"\",Z18*EXP(-OFFSET('Forecasts Aggregate'!$C$17,$C18-$C$17,MATCH(Z$16,Ages,1))),\"\")","v":0.98361648482223651},{"$f":"IF($C18<>\"\",AA18*EXP(-OFFSET('Forecasts Aggregate'!$C$17,$C18-$C$17,MATCH(AA$16,Ages,1))),\"\")","v":0.9822334295765347},{"$f":"IF($C18<>\"\",AB18*EXP(-OFFSET('Forecasts Aggregate'!$C$17,$C18-$C$17,MATCH(AB$16,Ages,1))),\"\")","v":0.98085231903371473},{"$f":"IF($C18<>\"\",AC18*EXP(-OFFSET('Forecasts Aggregate'!$C$17,$C18-$C$17,MATCH(AC$16,Ages,1))),\"\")","v":0.97921172880452179},{"$f":"IF($C18<>\"\",AD18*EXP(-OFFSET('Forecasts Aggregate'!$C$17,$C18-$C$17,MATCH(AD$16,Ages,1))),\"\")","v":0.97757388265437917},{"$f":"IF($C18<>\"\",AE18*EXP(-OFFSET('Forecasts Aggregate'!$C$17,$C18-$C$17,MATCH(AE$16,Ages,1))),\"\")","v":0.97593877599349366},{"$f":"IF($C18<>\"\",AF18*EXP(-OFFSET('Forecasts Aggregate'!$C$17,$C18-$C$17,MATCH(AF$16,Ages,1))),\"\")","v":0.97430640423974912},{"$f":"IF($C18<>\"\",AG18*EXP(-OFFSET('Forecasts Aggregate'!$C$17,$C18-$C$17,MATCH(AG$16,Ages,1))),\"\")","v":0.97267676281869342},{"$f":"IF($C18<>\"\",AH18*EXP(-OFFSET('Forecasts Aggregate'!$C$17,$C18-$C$17,MATCH(AH$16,Ages,1))),\"\")","v":0.97084816432443133},{"$f":"IF($C18<>\"\",AI18*EXP(-OFFSET('Forecasts Aggregate'!$C$17,$C18-$C$17,MATCH(AI$16,Ages,1))),\"\")","v":0.9690230035317583},{"$f":"IF($C18<>\"\",AJ18*EXP(-OFFSET('Forecasts Aggregate'!$C$17,$C18-$C$17,MATCH(AJ$16,Ages,1))),\"\")","v":0.96720127397791489},{"$f":"IF($C18<>\"\",AK18*EXP(-OFFSET('Forecasts Aggregate'!$C$17,$C18-$C$17,MATCH(AK$16,Ages,1))),\"\")","v":0.9653829692122915},{"$f":"IF($C18<>\"\",AL18*EXP(-OFFSET('Forecasts Aggregate'!$C$17,$C18-$C$17,MATCH(AL$16,Ages,1))),\"\")","v":0.96356808279640527},{"$f":"IF($C18<>\"\",AM18*EXP(-OFFSET('Forecasts Aggregate'!$C$17,$C18-$C$17,MATCH(AM$16,Ages,1))),\"\")","v":0.96152258863631623},{"$f":"IF($C18<>\"\",AN18*EXP(-OFFSET('Forecasts Aggregate'!$C$17,$C18-$C$17,MATCH(AN$16,Ages,1))),\"\")","v":0.95948143671880837},{"$f":"IF($C18<>\"\",AO18*EXP(-OFFSET('Forecasts Aggregate'!$C$17,$C18-$C$17,MATCH(AO$16,Ages,1))),\"\")","v":0.95744461782602563},{"$f":"IF($C18<>\"\",AP18*EXP(-OFFSET('Forecasts Aggregate'!$C$17,$C18-$C$17,MATCH(AP$16,Ages,1))),\"\")","v":0.95541212275968002},{"$f":"IF($C18<>\"\",AQ18*EXP(-OFFSET('Forecasts Aggregate'!$C$17,$C18-$C$17,MATCH(AQ$16,Ages,1))),\"\")","v":0.95338394234100987},{"$f":"IF($C18<>\"\",AR18*EXP(-OFFSET('Forecasts Aggregate'!$C$17,$C18-$C$17,MATCH(AR$16,Ages,1))),\"\")","v":0.95084302704418366},{"$f":"IF($C18<>\"\",AS18*EXP(-OFFSET('Forecasts Aggregate'!$C$17,$C18-$C$17,MATCH(AS$16,Ages,1))),\"\")","v":0.9483088836786423},{"$f":"IF($C18<>\"\",AT18*EXP(-OFFSET('Forecasts Aggregate'!$C$17,$C18-$C$17,MATCH(AT$16,Ages,1))),\"\")","v":0.94578149419614421},{"$f":"IF($C18<>\"\",AU18*EXP(-OFFSET('Forecasts Aggregate'!$C$17,$C18-$C$17,MATCH(AU$16,Ages,1))),\"\")","v":0.94326084059654902},{"$f":"IF($C18<>\"\",AV18*EXP(-OFFSET('Forecasts Aggregate'!$C$17,$C18-$C$17,MATCH(AV$16,Ages,1))),\"\")","v":0.94074690492768953},{"$f":"IF($C18<>\"\",AW18*EXP(-OFFSET('Forecasts Aggregate'!$C$17,$C18-$C$17,MATCH(AW$16,Ages,1))),\"\")","v":0.93712647194013687},{"$f":"IF($C18<>\"\",AX18*EXP(-OFFSET('Forecasts Aggregate'!$C$17,$C18-$C$17,MATCH(AX$16,Ages,1))),\"\")","v":0.93351997206780224},{"$f":"IF($C18<>\"\",AY18*EXP(-OFFSET('Forecasts Aggregate'!$C$17,$C18-$C$17,MATCH(AY$16,Ages,1))),\"\")","v":0.92992735168955787},{"$f":"IF($C18<>\"\",AZ18*EXP(-OFFSET('Forecasts Aggregate'!$C$17,$C18-$C$17,MATCH(AZ$16,Ages,1))),\"\")","v":0.92634855739063515},{"$f":"IF($C18<>\"\",BA18*EXP(-OFFSET('Forecasts Aggregate'!$C$17,$C18-$C$17,MATCH(BA$16,Ages,1))),\"\")","v":0.92278353596183049},{"$f":"IF($C18<>\"\",BB18*EXP(-OFFSET('Forecasts Aggregate'!$C$17,$C18-$C$17,MATCH(BB$16,Ages,1))),\"\")","v":0.91716245240389771},{"$f":"IF($C18<>\"\",BC18*EXP(-OFFSET('Forecasts Aggregate'!$C$17,$C18-$C$17,MATCH(BC$16,Ages,1))),\"\")","v":0.91157560935756254},{"$f":"IF($C18<>\"\",BD18*EXP(-OFFSET('Forecasts Aggregate'!$C$17,$C18-$C$17,MATCH(BD$16,Ages,1))),\"\")","v":0.90602279824869125},{"$f":"IF($C18<>\"\",BE18*EXP(-OFFSET('Forecasts Aggregate'!$C$17,$C18-$C$17,MATCH(BE$16,Ages,1))),\"\")","v":0.90050381177366745},{"$f":"IF($C18<>\"\",BF18*EXP(-OFFSET('Forecasts Aggregate'!$C$17,$C18-$C$17,MATCH(BF$16,Ages,1))),\"\")","v":0.89501844389165297},{"$f":"IF($C18<>\"\",BG18*EXP(-OFFSET('Forecasts Aggregate'!$C$17,$C18-$C$17,MATCH(BG$16,Ages,1))),\"\")","v":0.88674926770076268},{"$f":"IF($C18<>\"\",BH18*EXP(-OFFSET('Forecasts Aggregate'!$C$17,$C18-$C$17,MATCH(BH$16,Ages,1))),\"\")","v":0.87855649135988956},{"$f":"IF($C18<>\"\",BI18*EXP(-OFFSET('Forecasts Aggregate'!$C$17,$C18-$C$17,MATCH(BI$16,Ages,1))),\"\")","v":0.87043940900221606},{"$f":"IF($C18<>\"\",BJ18*EXP(-OFFSET('Forecasts Aggregate'!$C$17,$C18-$C$17,MATCH(BJ$16,Ages,1))),\"\")","v":0.86239732128250746},{"$f":"IF($C18<>\"\",BK18*EXP(-OFFSET('Forecasts Aggregate'!$C$17,$C18-$C$17,MATCH(BK$16,Ages,1))),\"\")","v":0.8544295353168585},{"$f":"IF($C18<>\"\",BL18*EXP(-OFFSET('Forecasts Aggregate'!$C$17,$C18-$C$17,MATCH(BL$16,Ages,1))),\"\")","v":0.84312115488577899},{"$f":"IF($C18<>\"\",BM18*EXP(-OFFSET('Forecasts Aggregate'!$C$17,$C18-$C$17,MATCH(BM$16,Ages,1))),\"\")","v":0.83196244094290972},{"$f":"IF($C18<>\"\",BN18*EXP(-OFFSET('Forecasts Aggregate'!$C$17,$C18-$C$17,MATCH(BN$16,Ages,1))),\"\")","v":0.82095141265131044},{"$f":"IF($C18<>\"\",BO18*EXP(-OFFSET('Forecasts Aggregate'!$C$17,$C18-$C$17,MATCH(BO$16,Ages,1))),\"\")","v":0.81008611539043052},{"$f":"IF($C18<>\"\",BP18*EXP(-OFFSET('Forecasts Aggregate'!$C$17,$C18-$C$17,MATCH(BP$16,Ages,1))),\"\")","v":0.79936462040913492},{"$f":"IF($C18<>\"\",BQ18*EXP(-OFFSET('Forecasts Aggregate'!$C$17,$C18-$C$17,MATCH(BQ$16,Ages,1))),\"\")","v":0.78499770005257863},{"$f":"IF($C18<>\"\",BR18*EXP(-OFFSET('Forecasts Aggregate'!$C$17,$C18-$C$17,MATCH(BR$16,Ages,1))),\"\")","v":0.77088899527782528},{"$f":"IF($C18<>\"\",BS18*EXP(-OFFSET('Forecasts Aggregate'!$C$17,$C18-$C$17,MATCH(BS$16,Ages,1))),\"\")","v":0.75703386519559368},{"$f":"IF($C18<>\"\",BT18*EXP(-OFFSET('Forecasts Aggregate'!$C$17,$C18-$C$17,MATCH(BT$16,Ages,1))),\"\")","v":0.74342775232695768},{"$f":"IF($C18<>\"\",BU18*EXP(-OFFSET('Forecasts Aggregate'!$C$17,$C18-$C$17,MATCH(BU$16,Ages,1))),\"\")","v":0.73006618110421784},{"$f":"IF($C18<>\"\",BV18*EXP(-OFFSET('Forecasts Aggregate'!$C$17,$C18-$C$17,MATCH(BV$16,Ages,1))),\"\")","v":0.71036467522592961},{"$f":"IF($C18<>\"\",BW18*EXP(-OFFSET('Forecasts Aggregate'!$C$17,$C18-$C$17,MATCH(BW$16,Ages,1))),\"\")","v":0.6911948325638243},{"$f":"IF($C18<>\"\",BX18*EXP(-OFFSET('Forecasts Aggregate'!$C$17,$C18-$C$17,MATCH(BX$16,Ages,1))),\"\")","v":0.67254230569810625},{"$f":"IF($C18<>\"\",BY18*EXP(-OFFSET('Forecasts Aggregate'!$C$17,$C18-$C$17,MATCH(BY$16,Ages,1))),\"\")","v":0.65439313438726965},{"$f":"IF($C18<>\"\",BZ18*EXP(-OFFSET('Forecasts Aggregate'!$C$17,$C18-$C$17,MATCH(BZ$16,Ages,1))),\"\")","v":0.63673373511973697},{"$f":"IF($C18<>\"\",CA18*EXP(-OFFSET('Forecasts Aggregate'!$C$17,$C18-$C$17,MATCH(CA$16,Ages,1))),\"\")","v":0.6101639186317569},{"$f":"IF($C18<>\"\",CB18*EXP(-OFFSET('Forecasts Aggregate'!$C$17,$C18-$C$17,MATCH(CB$16,Ages,1))),\"\")","v":0.58470281542417524},{"$f":"IF($C18<>\"\",CC18*EXP(-OFFSET('Forecasts Aggregate'!$C$17,$C18-$C$17,MATCH(CC$16,Ages,1))),\"\")","v":0.56030416077631962},{"$f":"IF($C18<>\"\",CD18*EXP(-OFFSET('Forecasts Aggregate'!$C$17,$C18-$C$17,MATCH(CD$16,Ages,1))),\"\")","v":0.53692362051567366},{"$f":"IF($C18<>\"\",CE18*EXP(-OFFSET('Forecasts Aggregate'!$C$17,$C18-$C$17,MATCH(CE$16,Ages,1))),\"\")","v":0.51451871045938358},{"$f":"IF($C18<>\"\",CF18*EXP(-OFFSET('Forecasts Aggregate'!$C$17,$C18-$C$17,MATCH(CF$16,Ages,1))),\"\")","v":0.47981338930279949},{"$f":"IF($C18<>\"\",CG18*EXP(-OFFSET('Forecasts Aggregate'!$C$17,$C18-$C$17,MATCH(CG$16,Ages,1))),\"\")","v":0.44744901181278535},{"$f":"IF($C18<>\"\",CH18*EXP(-OFFSET('Forecasts Aggregate'!$C$17,$C18-$C$17,MATCH(CH$16,Ages,1))),\"\")","v":0.41726767663394587},{"$f":"IF($C18<>\"\",CI18*EXP(-OFFSET('Forecasts Aggregate'!$C$17,$C18-$C$17,MATCH(CI$16,Ages,1))),\"\")","v":0.38912213317467464},{"$f":"IF($C18<>\"\",CJ18*EXP(-OFFSET('Forecasts Aggregate'!$C$17,$C18-$C$17,MATCH(CJ$16,Ages,1))),\"\")","v":0.36287506319172941},{"$f":"IF($C18<>\"\",CK18*EXP(-OFFSET('Forecasts Aggregate'!$C$17,$C18-$C$17,MATCH(CK$16,Ages,1))),\"\")","v":0.32349386361182164},{"$f":"IF($C18<>\"\",CL18*EXP(-OFFSET('Forecasts Aggregate'!$C$17,$C18-$C$17,MATCH(CL$16,Ages,1))),\"\")","v":0.28838652861415193},{"$f":"IF($C18<>\"\",CM18*EXP(-OFFSET('Forecasts Aggregate'!$C$17,$C18-$C$17,MATCH(CM$16,Ages,1))),\"\")","v":0.257089234885511},{"$f":"IF($C18<>\"\",CN18*EXP(-OFFSET('Forecasts Aggregate'!$C$17,$C18-$C$17,MATCH(CN$16,Ages,1))),\"\")","v":0.22918849577210793},{"$f":"IF($C18<>\"\",CO18*EXP(-OFFSET('Forecasts Aggregate'!$C$17,$C18-$C$17,MATCH(CO$16,Ages,1))),\"\")","v":0.20431569846817363},{"$f":"IF($C18<>\"\",CP18*EXP(-OFFSET('Forecasts Aggregate'!$C$17,$C18-$C$17,MATCH(CP$16,Ages,1))),\"\")","v":0.16729139757478947},{"$f":"IF($C18<>\"\",CQ18*EXP(-OFFSET('Forecasts Aggregate'!$C$17,$C18-$C$17,MATCH(CQ$16,Ages,1))),\"\")","v":0.13697631612426364},{"$f":"IF($C18<>\"\",CR18*EXP(-OFFSET('Forecasts Aggregate'!$C$17,$C18-$C$17,MATCH(CR$16,Ages,1))),\"\")","v":0.1121546681477523},{"$f":"IF($C18<>\"\",CS18*EXP(-OFFSET('Forecasts Aggregate'!$C$17,$C18-$C$17,MATCH(CS$16,Ages,1))),\"\")","v":9.1830981758344199E-2},{"$f":"IF($C18<>\"\",CT18*EXP(-OFFSET('Forecasts Aggregate'!$C$17,$C18-$C$17,MATCH(CT$16,Ages,1))),\"\")","v":7.5190175763275621E-2},{"$f":"IF($C18<>\"\",CU18*EXP(-OFFSET('Forecasts Aggregate'!$C$17,$C18-$C$17,MATCH(CU$16,Ages,1))),\"\")","v":5.3359017414076261E-2},{"$f":"IF($C18<>\"\",CV18*EXP(-OFFSET('Forecasts Aggregate'!$C$17,$C18-$C$17,MATCH(CV$16,Ages,1))),\"\")","v":3.7866446121360385E-2},{"$f":"IF($C18<>\"\",CW18*EXP(-OFFSET('Forecasts Aggregate'!$C$17,$C18-$C$17,MATCH(CW$16,Ages,1))),\"\")","v":2.6872079197688345E-2},{"$f":"IF($C18<>\"\",CX18*EXP(-OFFSET('Forecasts Aggregate'!$C$17,$C18-$C$17,MATCH(CX$16,Ages,1))),\"\")","v":1.906988150122424E-2},{"$f":"IF($C18<>\"\",CY18*EXP(-OFFSET('Forecasts Aggregate'!$C$17,$C18-$C$17,MATCH(CY$16,Ages,1))),\"\")","v":1.353301982311879E-2},{"$f":"IF($C18<>\"\",CZ18*EXP(-OFFSET('Forecasts Aggregate'!$C$17,$C18-$C$17,MATCH(CZ$16,Ages,1))),\"\")","v":9.6037631655534316E-3},{"$f":"IF($C18<>\"\",DA18*EXP(-OFFSET('Forecasts Aggregate'!$C$17,$C18-$C$17,MATCH(DA$16,Ages,1))),\"\")","v":6.8153500213217911E-3},{"$f":"IF($C18<>\"\",DB18*EXP(-OFFSET('Forecasts Aggregate'!$C$17,$C18-$C$17,MATCH(DB$16,Ages,1))),\"\")","v":4.8365411675012132E-3},{"$f":"IF($C18<>\"\",DC18*EXP(-OFFSET('Forecasts Aggregate'!$C$17,$C18-$C$17,MATCH(DC$16,Ages,1))),\"\")","v":3.4322713274816149E-3},{"$f":"IF($C18<>\"\",DD18*EXP(-OFFSET('Forecasts Aggregate'!$C$17,$C18-$C$17,MATCH(DD$16,Ages,1))),\"\")","v":2.4357254611230292E-3},{"$f":"IF($C18<>\"\",DE18*EXP(-OFFSET('Forecasts Aggregate'!$C$17,$C18-$C$17,MATCH(DE$16,Ages,1))),\"\")","v":1.7285225892429894E-3},{"$f":"IF($C18<>\"\",DF18*EXP(-OFFSET('Forecasts Aggregate'!$C$17,$C18-$C$17,MATCH(DF$16,Ages,1))),\"\")","v":1.2266531631794501E-3},{"$f":"IF($C18<>\"\",DG18*EXP(-OFFSET('Forecasts Aggregate'!$C$17,$C18-$C$17,MATCH(DG$16,Ages,1))),\"\")","v":8.7049946127526619E-4},{"$f":"IF($C18<>\"\",DH18*EXP(-OFFSET('Forecasts Aggregate'!$C$17,$C18-$C$17,MATCH(DH$16,Ages,1))),\"\")","v":6.1775352220705339E-4},{"$f":"IF($C18<>\"\",DI18*EXP(-OFFSET('Forecasts Aggregate'!$C$17,$C18-$C$17,MATCH(DI$16,Ages,1))),\"\")","v":4.38391327250398E-4},{"$f":"IF($C18<>\"\",DJ18*EXP(-OFFSET('Forecasts Aggregate'!$C$17,$C18-$C$17,MATCH(DJ$16,Ages,1))),\"\")","v":3.1110620805809014E-4},null,{"$f":"IF(DM17<Year_max,DM17+1,\"\")","v":2017},76.243039799219204,18.168680472546136]
[null,null,{"$f":"IF(C18<Year_max,C18+1,\"\")","v":2018},1,{"$f":"IF($C19<>\"\",D19*EXP(-OFFSET('Forecasts Aggregate'!$C$17,$C19-$C$17,MATCH(D$16,Ages,1))),\"\")","v":0.9939160749776369},{"$f":"IF($C19<>\"\",E19*EXP(-OFFSET('Forecasts Aggregate'!$C$17,$C19-$C$17,MATCH(E$16,Ages,1))),\"\")","v":0.99363135743970288},{"$f":"IF($C19<>\"\",F19*EXP(-OFFSET('Forecasts Aggregate'!$C$17,$C19-$C$17,MATCH(F$16,Ages,1))),\"\")","v":0.99334672146205183},{"$f":"IF($C19<>\"\",G19*EXP(-OFFSET('Forecasts Aggregate'!$C$17,$C19-$C$17,MATCH(G$16,Ages,1))),\"\")","v":0.99306216702132011},{"$f":"IF($C19<>\"\",H19*EXP(-OFFSET('Forecasts Aggregate'!$C$17,$C19-$C$17,MATCH(H$16,Ages,1))),\"\")","v":0.99277769409415051},{"$f":"IF($C19<>\"\",I19*EXP(-OFFSET('Forecasts Aggregate'!$C$17,$C19-$C$17,MATCH(I$16,Ages,1))),\"\")","v":0.9926444827343156},{"$f":"IF($C19<>\"\",J19*EXP(-OFFSET('Forecasts Aggregate'!$C$17,$C19-$C$17,MATCH(J$16,Ages,1))),\"\")","v":0.99251128924884124},{"$f":"IF($C19<>\"\",K19*EXP(-OFFSET('Forecasts Aggregate'!$C$17,$C19-$C$17,MATCH(K$16,Ages,1))),\"\")","v":0.99237811363532902},{"$f":"IF($C19<>\"\",L19*EXP(-OFFSET('Forecasts Aggregate'!$C$17,$C19-$C$17,MATCH(L$16,Ages,1))),\"\")","v":0.99224495589138073},{"$f":"IF($C19<>\"\",M19*EXP(-OFFSET('Forecasts Aggregate'!$C$17,$C19-$C$17,MATCH(M$16,Ages,1))),\"\")","v":0.99211181601459875},{"$f":"IF($C19<>\"\",N19*EXP(-OFFSET('Forecasts Aggregate'!$C$17,$C19-$C$17,MATCH(N$16,Ages,1))),\"\")","v":0.99194819308758064},{"$f":"IF($C19<>\"\",O19*EXP(-OFFSET('Forecasts Aggregate'!$C$17,$C19-$C$17,MATCH(O$16,Ages,1))),\"\")","v":0.99178459714588996},{"$f":"IF($C19<>\"\",P19*EXP(-OFFSET('Forecasts Aggregate'!$C$17,$C19-$C$17,MATCH(P$16,Ages,1))),\"\")","v":0.99162102818507625},{"$f":"IF($C19<>\"\",Q19*EXP(-OFFSET('Forecasts Aggregate'!$C$17,$C19-$C$17,MATCH(Q$16,Ages,1))),\"\")","v":0.99145748620068974},{"$f":"IF($C19<>\"\",R19*EXP(-OFFSET('Forecasts Aggregate'!$C$17,$C19-$C$17,MATCH(R$16,Ages,1))),\"\")","v":0.99129397118828133},{"$f":"IF($C19<>\"\",S19*EXP(-OFFSET('Forecasts Aggregate'!$C$17,$C19-$C$17,MATCH(S$16,Ages,1))),\"\")","v":0.99060101603721951},{"$f":"IF($C19<>\"\",T19*EXP(-OFFSET('Forecasts Aggregate'!$C$17,$C19-$C$17,MATCH(T$16,Ages,1))),\"\")","v":0.98990854529023498},{"$f":"IF($C19<>\"\",U19*EXP(-OFFSET('Forecasts Aggregate'!$C$17,$C19-$C$17,MATCH(U$16,Ages,1))),\"\")","v":0.98921655860870938},{"$f":"IF($C19<>\"\",V19*EXP(-OFFSET('Forecasts Aggregate'!$C$17,$C19-$C$17,MATCH(V$16,Ages,1))),\"\")","v":0.98852505565426108},{"$f":"IF($C19<>\"\",W19*EXP(-OFFSET('Forecasts Aggregate'!$C$17,$C19-$C$17,MATCH(W$16,Ages,1))),\"\")","v":0.98783403608874498},{"$f":"IF($C19<>\"\",X19*EXP(-OFFSET('Forecasts Aggregate'!$C$17,$C19-$C$17,MATCH(X$16,Ages,1))),\"\")","v":0.98642336667954578},{"$f":"IF($C19<>\"\",Y19*EXP(-OFFSET('Forecasts Aggregate'!$C$17,$C19-$C$17,MATCH(Y$16,Ages,1))),\"\")","v":0.98501471176681998},{"$f":"IF($C19<>\"\",Z19*EXP(-OFFSET('Forecasts Aggregate'!$C$17,$C19-$C$17,MATCH(Z$16,Ages,1))),\"\")","v":0.98360806847378024},{"$f":"IF($C19<>\"\",AA19*EXP(-OFFSET('Forecasts Aggregate'!$C$17,$C19-$C$17,MATCH(AA$16,Ages,1))),\"\")","v":0.98220343392774723},{"$f":"IF($C19<>\"\",AB19*EXP(-OFFSET('Forecasts Aggregate'!$C$17,$C19-$C$17,MATCH(AB$16,Ages,1))),\"\")","v":0.9808008052601439},{"$f":"IF($C19<>\"\",AC19*EXP(-OFFSET('Forecasts Aggregate'!$C$17,$C19-$C$17,MATCH(AC$16,Ages,1))),\"\")","v":0.97912256635543682},{"$f":"IF($C19<>\"\",AD19*EXP(-OFFSET('Forecasts Aggregate'!$C$17,$C19-$C$17,MATCH(AD$16,Ages,1))),\"\")","v":0.97744719906931554},{"$f":"IF($C19<>\"\",AE19*EXP(-OFFSET('Forecasts Aggregate'!$C$17,$C19-$C$17,MATCH(AE$16,Ages,1))),\"\")","v":0.97577469848818077},{"$f":"IF($C19<>\"\",AF19*EXP(-OFFSET('Forecasts Aggregate'!$C$17,$C19-$C$17,MATCH(AF$16,Ages,1))),\"\")","v":0.97410505970684091},{"$f":"IF($C19<>\"\",AG19*EXP(-OFFSET('Forecasts Aggregate'!$C$17,$C19-$C$17,MATCH(AG$16,Ages,1))),\"\")","v":0.97243827782849779},{"$f":"IF($C19<>\"\",AH19*EXP(-OFFSET('Forecasts Aggregate'!$C$17,$C19-$C$17,MATCH(AH$16,Ages,1))),\"\")","v":0.97057217028325682},{"$f":"IF($C19<>\"\",AI19*EXP(-OFFSET('Forecasts Aggregate'!$C$17,$C19-$C$17,MATCH(AI$16,Ages,1))),\"\")","v":0.96870964379549762},{"$f":"IF($C19<>\"\",AJ19*EXP(-OFFSET('Forecasts Aggregate'!$C$17,$C19-$C$17,MATCH(AJ$16,Ages,1))),\"\")","v":0.96685069149317648},{"$f":"IF($C19<>\"\",AK19*EXP(-OFFSET('Forecasts Aggregate'!$C$17,$C19-$C$17,MATCH(AK$16,Ages,1))),\"\")","v":0.96499530651743703},{"$f":"IF($C19<>\"\",AL19*EXP(-OFFSET('Forecasts Aggregate'!$C$17,$C19-$C$17,MATCH(AL$16,Ages,1))),\"\")","v":0.96314348202258526},{"$f":"IF($C19<>\"\",AM19*EXP(-OFFSET('Forecasts Aggregate'!$C$17,$C19-$C$17,MATCH(AM$16,Ages,1))),\"\")","v":0.96108790982253378},{"$f":"IF($C19<>\"\",AN19*EXP(-OFFSET('Forecasts Aggregate'!$C$17,$C19-$C$17,MATCH(AN$16,Ages,1))),\"\")","v":0.95903672469164547},{"$f":"IF($C19<>\"\",AO19*EXP(-OFFSET('Forecasts Aggregate'!$C$17,$C19-$C$17,MATCH(AO$16,Ages,1))),\"\")","v":0.95698991726689431},{"$f":"IF($C19<>\"\",AP19*EXP(-OFFSET('Forecasts Aggregate'!$C$17,$C19-$C$17,MATCH(AP$16,Ages,1))),\"\")","v":0.95494747820523718},{"$f":"IF($C19<>\"\",AQ19*EXP(-OFFSET('Forecasts Aggregate'!$C$17,$C19-$C$17,MATCH(AQ$16,Ages,1))),\"\")","v":0.95290939818357134},{"$f":"IF($C19<>\"\",AR19*EXP(-OFFSET('Forecasts Aggregate'!$C$17,$C19-$C$17,MATCH(AR$16,Ages,1))),\"\")","v":0.95037810186094673},{"$f":"IF($C19<>\"\",AS19*EXP(-OFFSET('Forecasts Aggregate'!$C$17,$C19-$C$17,MATCH(AS$16,Ages,1))),\"\")","v":0.94785352964145841},{"$f":"IF($C19<>\"\",AT19*EXP(-OFFSET('Forecasts Aggregate'!$C$17,$C19-$C$17,MATCH(AT$16,Ages,1))),\"\")","v":0.94533566366328492},{"$f":"IF($C19<>\"\",AU19*EXP(-OFFSET('Forecasts Aggregate'!$C$17,$C19-$C$17,MATCH(AU$16,Ages,1))),\"\")","v":0.94282448611205272},{"$f":"IF($C19<>\"\",AV19*EXP(-OFFSET('Forecasts Aggregate'!$C$17,$C19-$C$17,MATCH(AV$16,Ages,1))),\"\")","v":0.94031997922071009},{"$f":"IF($C19<>\"\",AW19*EXP(-OFFSET('Forecasts Aggregate'!$C$17,$C19-$C$17,MATCH(AW$16,Ages,1))),\"\")","v":0.93671513024967312},{"$f":"IF($C19<>\"\",AX19*EXP(-OFFSET('Forecasts Aggregate'!$C$17,$C19-$C$17,MATCH(AX$16,Ages,1))),\"\")","v":0.93312410097447496},{"$f":"IF($C19<>\"\",AY19*EXP(-OFFSET('Forecasts Aggregate'!$C$17,$C19-$C$17,MATCH(AY$16,Ages,1))),\"\")","v":0.92954683841536678},{"$f":"IF($C19<>\"\",AZ19*EXP(-OFFSET('Forecasts Aggregate'!$C$17,$C19-$C$17,MATCH(AZ$16,Ages,1))),\"\")","v":0.92598328979570499},{"$f":"IF($C19<>\"\",BA19*EXP(-OFFSET('Forecasts Aggregate'!$C$17,$C19-$C$17,MATCH(BA$16,Ages,1))),\"\")","v":0.9224334025411729},{"$f":"IF($C19<>\"\",BB19*EXP(-OFFSET('Forecasts Aggregate'!$C$17,$C19-$C$17,MATCH(BB$16,Ages,1))),\"\")","v":0.91681110419842948},{"$f":"IF($C19<>\"\",BC19*EXP(-OFFSET('Forecasts Aggregate'!$C$17,$C19-$C$17,MATCH(BC$16,Ages,1))),\"\")","v":0.91122307417095716},{"$f":"IF($C19<>\"\",BD19*EXP(-OFFSET('Forecasts Aggregate'!$C$17,$C19-$C$17,MATCH(BD$16,Ages,1))),\"\")","v":0.90566910359089436},{"$f":"IF($C19<>\"\",BE19*EXP(-OFFSET('Forecasts Aggregate'!$C$17,$C19-$C$17,MATCH(BE$16,Ages,1))),\"\")","v":0.9001489848634443},{"$f":"IF($C19<>\"\",BF19*EXP(-OFFSET('Forecasts Aggregate'!$C$17,$C19-$C$17,MATCH(BF$16,Ages,1))),\"\")","v":0.89466251165911559},{"$f":"IF($C19<>\"\",BG19*EXP(-OFFSET('Forecasts Aggregate'!$C$17,$C19-$C$17,MATCH(BG$16,Ages,1))),\"\")","v":0.88638563804954018},{"$f":"IF($C19<>\"\",BH19*EXP(-OFFSET('Forecasts Aggregate'!$C$17,$C19-$C$17,MATCH(BH$16,Ages,1))),\"\")","v":0.87818533704232171},{"$f":"IF($C19<>\"\",BI19*EXP(-OFFSET('Forecasts Aggregate'!$C$17,$C19-$C$17,MATCH(BI$16,Ages,1))),\"\")","v":0.87006090023429872},{"$f":"IF($C19<>\"\",BJ19*EXP(-OFFSET('Forecasts Aggregate'!$C$17,$C19-$C$17,MATCH(BJ$16,Ages,1))),\"\")","v":0.86201162577602508},{"$f":"IF($C19<>\"\",BK19*EXP(-OFFSET('Forecasts Aggregate'!$C$17,$C19-$C$17,MATCH(BK$16,Ages,1))),\"\")","v":0.85403681831113909},{"$f":"IF($C19<>\"\",BL19*EXP(-OFFSET('Forecasts Aggregate'!$C$17,$C19-$C$17,MATCH(BL$16,Ages,1))),\"\")","v":0.84276513822898413},{"$f":"IF($C19<>\"\",BM19*EXP(-OFFSET('Forecasts Aggregate'!$C$17,$C19-$C$17,MATCH(BM$16,Ages,1))),\"\")","v":0.83164222312879521},{"$f":"IF($C19<>\"\",BN19*EXP(-OFFSET('Forecasts Aggregate'!$C$17,$C19-$C$17,MATCH(BN$16,Ages,1))),\"\")","v":0.82066610959254616},{"$f":"IF($C19<>\"\",BO19*EXP(-OFFSET('Forecasts Aggregate'!$C$17,$C19-$C$17,MATCH(BO$16,Ages,1))),\"\")","v":0.80983486011563677},{"$f":"IF($C19<>\"\",BP19*EXP(-OFFSET('Forecasts Aggregate'!$C$17,$C19-$C$17,MATCH(BP$16,Ages,1))),\"\")","v":0.79914656276488405},{"$f":"IF($C19<>\"\",BQ19*EXP(-OFFSET('Forecasts Aggregate'!$C$17,$C19-$C$17,MATCH(BQ$16,Ages,1))),\"\")","v":0.78489547732997877},{"$f":"IF($C19<>\"\",BR19*EXP(-OFFSET('Forecasts Aggregate'!$C$17,$C19-$C$17,MATCH(BR$16,Ages,1))),\"\")","v":0.77089852980360729},{"$f":"IF($C19<>\"\",BS19*EXP(-OFFSET('Forecasts Aggregate'!$C$17,$C19-$C$17,MATCH(BS$16,Ages,1))),\"\")","v":0.75715118817472726},{"$f":"IF($C19<>\"\",BT19*EXP(-OFFSET('Forecasts Aggregate'!$C$17,$C19-$C$17,MATCH(BT$16,Ages,1))),\"\")","v":0.74364900125110955},{"$f":"IF($C19<>\"\",BU19*EXP(-OFFSET('Forecasts Aggregate'!$C$17,$C19-$C$17,MATCH(BU$16,Ages,1))),\"\")","v":0.73038759721810553},{"$f":"IF($C19<>\"\",BV19*EXP(-OFFSET('Forecasts Aggregate'!$C$17,$C19-$C$17,MATCH(BV$16,Ages,1))),\"\")","v":0.71084700638490883},{"$f":"IF($C19<>\"\",BW19*EXP(-OFFSET('Forecasts Aggregate'!$C$17,$C19-$C$17,MATCH(BW$16,Ages,1))),\"\")","v":0.69182919919640262},{"$f":"IF($C19<>\"\",BX19*EXP(-OFFSET('Forecasts Aggregate'!$C$17,$C19-$C$17,MATCH(BX$16,Ages,1))),\"\")","v":0.67332018924135251},{"$f":"IF($C19<>\"\",BY19*EXP(-OFFSET('Forecasts Aggregate'!$C$17,$C19-$C$17,MATCH(BY$16,Ages,1))),\"\")","v":0.65530636429716072},{"$f":"IF($C19<>\"\",BZ19*EXP(-OFFSET('Forecasts Aggregate'!$C$17,$C19-$C$17,MATCH(BZ$16,Ages,1))),\"\")","v":0.63777447631892503},{"$f":"IF($C19<>\"\",CA19*EXP(-OFFSET('Forecasts Aggregate'!$C$17,$C19-$C$17,MATCH(CA$16,Ages,1))),\"\")","v":0.61136072845541578},{"$f":"IF($C19<>\"\",CB19*EXP(-OFFSET('Forecasts Aggregate'!$C$17,$C19-$C$17,MATCH(CB$16,Ages,1))),\"\")","v":0.58604091912676903},{"$f":"IF($C19<>\"\",CC19*EXP(-OFFSET('Forecasts Aggregate'!$C$17,$C19-$C$17,MATCH(CC$16,Ages,1))),\"\")","v":0.56176974232324173},{"$f":"IF($C19<>\"\",CD19*EXP(-OFFSET('Forecasts Aggregate'!$C$17,$C19-$C$17,MATCH(CD$16,Ages,1))),\"\")","v":0.53850376840606895},{"$f":"IF($C19<>\"\",CE19*EXP(-OFFSET('Forecasts Aggregate'!$C$17,$C19-$C$17,MATCH(CE$16,Ages,1))),\"\")","v":0.51620136639662462},{"$f":"IF($C19<>\"\",CF19*EXP(-OFFSET('Forecasts Aggregate'!$C$17,$C19-$C$17,MATCH(CF$16,Ages,1))),\"\")","v":0.48162546187393973},{"$f":"IF($C19<>\"\",CG19*EXP(-OFFSET('Forecasts Aggregate'!$C$17,$C19-$C$17,MATCH(CG$16,Ages,1))),\"\")","v":0.44936550080159293},{"$f":"IF($C19<>\"\",CH19*EXP(-OFFSET('Forecasts Aggregate'!$C$17,$C19-$C$17,MATCH(CH$16,Ages,1))),\"\")","v":0.41926635798071499},{"$f":"IF($C19<>\"\",CI19*EXP(-OFFSET('Forecasts Aggregate'!$C$17,$C19-$C$17,MATCH(CI$16,Ages,1))),\"\")","v":0.39118329871973545},{"$f":"IF($C19<>\"\",CJ19*EXP(-OFFSET('Forecasts Aggregate'!$C$17,$C19-$C$17,MATCH(CJ$16,Ages,1))),\"\")","v":0.36498128286336878},{"$f":"IF($C19<>\"\",CK19*EXP(-OFFSET('Forecasts Aggregate'!$C$17,$C19-$C$17,MATCH(CK$16,Ages,1))),\"\")","v":0.32561997985993119},{"$f":"IF($C19<>\"\",CL19*EXP(-OFFSET('Forecasts Aggregate'!$C$17,$C19-$C$17,MATCH(CL$16,Ages,1))),\"\")","v":0.29050358542269095},{"$f":"IF($C19<>\"\",CM19*EXP(-OFFSET('Forecasts Aggregate'!$C$17,$C19-$C$17,MATCH(CM$16,Ages,1))),\"\")","v":0.2591743085904647},{"$f":"IF($C19<>\"\",CN19*EXP(-OFFSET('Forecasts Aggregate'!$C$17,$C19-$C$17,MATCH(CN$16,Ages,1))),\"\")","v":0.2312237287385257},{"$f":"IF($C19<>\"\",CO19*EXP(-OFFSET('Forecasts Aggregate'!$C$17,$C19-$C$17,MATCH(CO$16,Ages,1))),\"\")","v":0.2062874712486619},{"$f":"IF($C19<>\"\",CP19*EXP(-OFFSET('Forecasts Aggregate'!$C$17,$C19-$C$17,MATCH(CP$16,Ages,1))),\"\")","v":0.16903091932792894},{"$f":"IF($C19<>\"\",CQ19*EXP(-OFFSET('Forecasts Aggregate'!$C$17,$C19-$C$17,MATCH(CQ$16,Ages,1))),\"\")","v":0.13850308754041771},{"$f":"IF($C19<>\"\",CR19*EXP(-OFFSET('Forecasts Aggregate'!$C$17,$C19-$C$17,MATCH(CR$16,Ages,1))),\"\")","v":0.11348873528287669},{"$f":"IF($C19<>\"\",CS19*EXP(-OFFSET('Forecasts Aggregate'!$C$17,$C19-$C$17,MATCH(CS$16,Ages,1))),\"\")","v":9.2992100499913632E-2},{"$f":"IF($C19<>\"\",CT19*EXP(-OFFSET('Forecasts Aggregate'!$C$17,$C19-$C$17,MATCH(CT$16,Ages,1))),\"\")","v":7.6197260757480553E-2},{"$f":"IF($C19<>\"\",CU19*EXP(-OFFSET('Forecasts Aggregate'!$C$17,$C19-$C$17,MATCH(CU$16,Ages,1))),\"\")","v":5.4090315024669336E-2},{"$f":"IF($C19<>\"\",CV19*EXP(-OFFSET('Forecasts Aggregate'!$C$17,$C19-$C$17,MATCH(CV$16,Ages,1))),\"\")","v":3.8397209432239822E-2},{"$f":"IF($C19<>\"\",CW19*EXP(-OFFSET('Forecasts Aggregate'!$C$17,$C19-$C$17,MATCH(CW$16,Ages,1))),\"\")","v":2.725711047367485E-2},{"$f":"IF($C19<>\"\",CX19*EXP(-OFFSET('Forecasts Aggregate'!$C$17,$C19-$C$17,MATCH(CX$16,Ages,1))),\"\")","v":1.9349064225232599E-2},{"$f":"IF($C19<>\"\",CY19*EXP(-OFFSET('Forecasts Aggregate'!$C$17,$C19-$C$17,MATCH(CY$16,Ages,1))),\"\")","v":1.3735362255429146E-2},{"$f":"IF($C19<>\"\",CZ19*EXP(-OFFSET('Forecasts Aggregate'!$C$17,$C19-$C$17,MATCH(CZ$16,Ages,1))),\"\")","v":9.7503514429313296E-3},{"$f":"IF($C19<>\"\",DA19*EXP(-OFFSET('Forecasts Aggregate'!$C$17,$C19-$C$17,MATCH(DA$16,Ages,1))),\"\")","v":6.9215031604350444E-3},{"$f":"IF($C19<>\"\",DB19*EXP(-OFFSET('Forecasts Aggregate'!$C$17,$C19-$C$17,MATCH(DB$16,Ages,1))),\"\")","v":4.9133824847558075E-3},{"$f":"IF($C19<>\"\",DC19*EXP(-OFFSET('Forecasts Aggregate'!$C$17,$C19-$C$17,MATCH(DC$16,Ages,1))),\"\")","v":3.487873498274582E-3},{"$f":"IF($C19<>\"\",DD19*EXP(-OFFSET('Forecasts Aggregate'!$C$17,$C19-$C$17,MATCH(DD$16,Ages,1))),\"\")","v":2.4759443372686621E-3},{"$f":"IF($C19<>\"\",DE19*EXP(-OFFSET('Forecasts Aggregate'!$C$17,$C19-$C$17,MATCH(DE$16,Ages,1))),\"\")","v":1.7576039854327733E-3},{"$f":"IF($C19<>\"\",DF19*EXP(-OFFSET('Forecasts Aggregate'!$C$17,$C19-$C$17,MATCH(DF$16,Ages,1))),\"\")","v":1.2476741593540782E-3},{"$f":"IF($C19<>\"\",DG19*EXP(-OFFSET('Forecasts Aggregate'!$C$17,$C19-$C$17,MATCH(DG$16,Ages,1))),\"\")","v":8.8568916594519622E-4},{"$f":"IF($C19<>\"\",DH19*EXP(-OFFSET('Forecasts Aggregate'!$C$17,$C19-$C$17,MATCH(DH$16,Ages,1))),\"\")","v":6.2872609229865366E-4},{"$f":"IF($C19<>\"\",DI19*EXP(-OFFSET('Forecasts Aggregate'!$C$17,$C19-$C$17,MATCH(DI$16,Ages,1))),\"\")","v":4.4631515698318359E-4},{"$f":"IF($C19<>\"\",DJ19*EXP(-OFFSET('Forecasts Aggregate'!$C$17,$C19-$C$17,MATCH(DJ$16,Ages,1))),\"\")","v":3.168267100616883E-4},null,{"$f":"IF(DM18<Year_max,DM18+1,\"\")","v":2018},76.271800169083662,18.225208672648829]
[null,null,2019,1,{"$f":"IF($C20<>\"\",D20*EXP(-OFFSET('Forecasts Aggregate'!$C$17,$C20-$C$17,MATCH(D$16,Ages,1))),\"\")","v":0.99399288609631431},{"$f":"IF($C20<>\"\",E20*EXP(-OFFSET('Forecasts Aggregate'!$C$17,$C20-$C$17,MATCH(E$16,Ages,1))),\"\")","v":0.993709265649525},{"$f":"IF($C20<>\"\",F20*EXP(-OFFSET('Forecasts Aggregate'!$C$17,$C20-$C$17,MATCH(F$16,Ages,1))),\"\")","v":0.99342572612942937},{"$f":"IF($C20<>\"\",G20*EXP(-OFFSET('Forecasts Aggregate'!$C$17,$C20-$C$17,MATCH(G$16,Ages,1))),\"\")","v":0.99314226751293633},{"$f":"IF($C20<>\"\",H20*EXP(-OFFSET('Forecasts Aggregate'!$C$17,$C20-$C$17,MATCH(H$16,Ages,1))),\"\")","v":0.99285888977696124},{"$f":"IF($C20<>\"\",I20*EXP(-OFFSET('Forecasts Aggregate'!$C$17,$C20-$C$17,MATCH(I$16,Ages,1))),\"\")","v":0.99272540642756257},{"$f":"IF($C20<>\"\",J20*EXP(-OFFSET('Forecasts Aggregate'!$C$17,$C20-$C$17,MATCH(J$16,Ages,1))),\"\")","v":0.99259194102412251},{"$f":"IF($C20<>\"\",K20*EXP(-OFFSET('Forecasts Aggregate'!$C$17,$C20-$C$17,MATCH(K$16,Ages,1))),\"\")","v":0.99245849356422833},{"$f":"IF($C20<>\"\",L20*EXP(-OFFSET('Forecasts Aggregate'!$C$17,$C20-$C$17,MATCH(L$16,Ages,1))),\"\")","v":0.99232506404546772},{"$f":"IF($C20<>\"\",M20*EXP(-OFFSET('Forecasts Aggregate'!$C$17,$C20-$C$17,MATCH(M$16,Ages,1))),\"\")","v":0.99219165246542851},{"$f":"IF($C20<>\"\",N20*EXP(-OFFSET('Forecasts Aggregate'!$C$17,$C20-$C$17,MATCH(N$16,Ages,1))),\"\")","v":0.99202812281105623},{"$f":"IF($C20<>\"\",O20*EXP(-OFFSET('Forecasts Aggregate'!$C$17,$C20-$C$17,MATCH(O$16,Ages,1))),\"\")","v":0.99186462010908549},{"$f":"IF($C20<>\"\",P20*EXP(-OFFSET('Forecasts Aggregate'!$C$17,$C20-$C$17,MATCH(P$16,Ages,1))),\"\")","v":0.99170114435507417},{"$f":"IF($C20<>\"\",Q20*EXP(-OFFSET('Forecasts Aggregate'!$C$17,$C20-$C$17,MATCH(Q$16,Ages,1))),\"\")","v":0.99153769554458071},{"$f":"IF($C20<>\"\",R20*EXP(-OFFSET('Forecasts Aggregate'!$C$17,$C20-$C$17,MATCH(R$16,Ages,1))),\"\")","v":0.99137427367316444},{"$f":"IF($C20<>\"\",S20*EXP(-OFFSET('Forecasts Aggregate'!$C$17,$C20-$C$17,MATCH(S$16,Ages,1))),\"\")","v":0.99067619730057521},{"$f":"IF($C20<>\"\",T20*EXP(-OFFSET('Forecasts Aggregate'!$C$17,$C20-$C$17,MATCH(T$16,Ages,1))),\"\")","v":0.98997861247858887},{"$f":"IF($C20<>\"\",U20*EXP(-OFFSET('Forecasts Aggregate'!$C$17,$C20-$C$17,MATCH(U$16,Ages,1))),\"\")","v":0.98928151886108007},{"$f":"IF($C20<>\"\",V20*EXP(-OFFSET('Forecasts Aggregate'!$C$17,$C20-$C$17,MATCH(V$16,Ages,1))),\"\")","v":0.98858491610216703},{"$f":"IF($C20<>\"\",W20*EXP(-OFFSET('Forecasts Aggregate'!$C$17,$C20-$C$17,MATCH(W$16,Ages,1))),\"\")","v":0.98788880385621158},{"$f":"IF($C20<>\"\",X20*EXP(-OFFSET('Forecasts Aggregate'!$C$17,$C20-$C$17,MATCH(X$16,Ages,1))),\"\")","v":0.98645520430058309},{"$f":"IF($C20<>\"\",Y20*EXP(-OFFSET('Forecasts Aggregate'!$C$17,$C20-$C$17,MATCH(Y$16,Ages,1))),\"\")","v":0.98502368514881977},{"$f":"IF($C20<>\"\",Z20*EXP(-OFFSET('Forecasts Aggregate'!$C$17,$C20-$C$17,MATCH(Z$16,Ages,1))),\"\")","v":0.9835942433818915},{"$f":"IF($C20<>\"\",AA20*EXP(-OFFSET('Forecasts Aggregate'!$C$17,$C20-$C$17,MATCH(AA$16,Ages,1))),\"\")","v":0.98216687598514929},{"$f":"IF($C20<>\"\",AB20*EXP(-OFFSET('Forecasts Aggregate'!$C$17,$C20-$C$17,MATCH(AB$16,Ages,1))),\"\")","v":0.9807415799483189},{"$f":"IF($C20<>\"\",AC20*EXP(-OFFSET('Forecasts Aggregate'!$C$17,$C20-$C$17,MATCH(AC$16,Ages,1))),\"\")","v":0.97902273834468234},{"$f":"IF($C20<>\"\",AD20*EXP(-OFFSET('Forecasts Aggregate'!$C$17,$C20-$C$17,MATCH(AD$16,Ages,1))),\"\")","v":0.97730690917216811},{"$f":"IF($C20<>\"\",AE20*EXP(-OFFSET('Forecasts Aggregate'!$C$17,$C20-$C$17,MATCH(AE$16,Ages,1))),\"\")","v":0.97559408715120821},{"$f":"IF($C20<>\"\",AF20*EXP(-OFFSET('Forecasts Aggregate'!$C$17,$C20-$C$17,MATCH(AF$16,Ages,1))),\"\")","v":0.97388426701148734},{"$f":"IF($C20<>\"\",AG20*EXP(-OFFSET('Forecasts Aggregate'!$C$17,$C20-$C$17,MATCH(AG$16,Ages,1))),\"\")","v":0.97217744349192714},{"$f":"IF($C20<>\"\",AH20*EXP(-OFFSET('Forecasts Aggregate'!$C$17,$C20-$C$17,MATCH(AH$16,Ages,1))),\"\")","v":0.97027059839463192},{"$f":"IF($C20<>\"\",AI20*EXP(-OFFSET('Forecasts Aggregate'!$C$17,$C20-$C$17,MATCH(AI$16,Ages,1))),\"\")","v":0.96836749341520245},{"$f":"IF($C20<>\"\",AJ20*EXP(-OFFSET('Forecasts Aggregate'!$C$17,$C20-$C$17,MATCH(AJ$16,Ages,1))),\"\")","v":0.96646812121770898},{"$f":"IF($C20<>\"\",AK20*EXP(-OFFSET('Forecasts Aggregate'!$C$17,$C20-$C$17,MATCH(AK$16,Ages,1))),\"\")","v":0.96457247448061068},{"$f":"IF($C20<>\"\",AL20*EXP(-OFFSET('Forecasts Aggregate'!$C$17,$C20-$C$17,MATCH(AL$16,Ages,1))),\"\")","v":0.96268054589672714},{"$f":"IF($C20<>\"\",AM20*EXP(-OFFSET('Forecasts Aggregate'!$C$17,$C20-$C$17,MATCH(AM$16,Ages,1))),\"\")","v":0.96061387380570606},{"$f":"IF($C20<>\"\",AN20*EXP(-OFFSET('Forecasts Aggregate'!$C$17,$C20-$C$17,MATCH(AN$16,Ages,1))),\"\")","v":0.95855163842377811},{"$f":"IF($C20<>\"\",AO20*EXP(-OFFSET('Forecasts Aggregate'!$C$17,$C20-$C$17,MATCH(AO$16,Ages,1))),\"\")","v":0.95649383022626466},{"$f":"IF($C20<>\"\",AP20*EXP(-OFFSET('Forecasts Aggregate'!$C$17,$C20-$C$17,MATCH(AP$16,Ages,1))),\"\")","v":0.95444043970893455},{"$f":"IF($C20<>\"\",AQ20*EXP(-OFFSET('Forecasts Aggregate'!$C$17,$C20-$C$17,MATCH(AQ$16,Ages,1))),\"\")","v":0.95239145738796016},{"$f":"IF($C20<>\"\",AR20*EXP(-OFFSET('Forecasts Aggregate'!$C$17,$C20-$C$17,MATCH(AR$16,Ages,1))),\"\")","v":0.94986925153169732},{"$f":"IF($C20<>\"\",AS20*EXP(-OFFSET('Forecasts Aggregate'!$C$17,$C20-$C$17,MATCH(AS$16,Ages,1))),\"\")","v":0.94735372520025807},{"$f":"IF($C20<>\"\",AT20*EXP(-OFFSET('Forecasts Aggregate'!$C$17,$C20-$C$17,MATCH(AT$16,Ages,1))),\"\")","v":0.94484486070434404},{"$f":"IF($C20<>\"\",AU20*EXP(-OFFSET('Forecasts Aggregate'!$C$17,$C20-$C$17,MATCH(AU$16,Ages,1))),\"\")","v":0.94234264040150317},{"$f":"IF($C20<>\"\",AV20*EXP(-OFFSET('Forecasts Aggregate'!$C$17,$C20-$C$17,MATCH(AV$16,Ages,1))),\"\")","v":0.93984704669600583},{"$f":"IF($C20<>\"\",AW20*EXP(-OFFSET('Forecasts Aggregate'!$C$17,$C20-$C$17,MATCH(AW$16,Ages,1))),\"\")","v":0.9362573048142232},{"$f":"IF($C20<>\"\",AX20*EXP(-OFFSET('Forecasts Aggregate'!$C$17,$C20-$C$17,MATCH(AX$16,Ages,1))),\"\")","v":0.93268127393661215},{"$f":"IF($C20<>\"\",AY20*EXP(-OFFSET('Forecasts Aggregate'!$C$17,$C20-$C$17,MATCH(AY$16,Ages,1))),\"\")","v":0.9291189016940492},{"$f":"IF($C20<>\"\",AZ20*EXP(-OFFSET('Forecasts Aggregate'!$C$17,$C20-$C$17,MATCH(AZ$16,Ages,1))),\"\")","v":0.92557013591743476},{"$f":"IF($C20<>\"\",BA20*EXP(-OFFSET('Forecasts Aggregate'!$C$17,$C20-$C$17,MATCH(BA$16,Ages,1))),\"\")","v":0.92203492463692871},{"$f":"IF($C20<>\"\",BB20*EXP(-OFFSET('Forecasts Aggregate'!$C$17,$C20-$C$17,MATCH(BB$16,Ages,1))),\"\")","v":0.91641053060748812},{"$f":"IF($C20<>\"\",BC20*EXP(-OFFSET('Forecasts Aggregate'!$C$17,$C20-$C$17,MATCH(BC$16,Ages,1))),\"\")","v":0.9108204452656613},{"$f":"IF($C20<>\"\",BD20*EXP(-OFFSET('Forecasts Aggregate'!$C$17,$C20-$C$17,MATCH(BD$16,Ages,1))),\"\")","v":0.90526445932916133},{"$f":"IF($C20<>\"\",BE20*EXP(-OFFSET('Forecasts Aggregate'!$C$17,$C20-$C$17,MATCH(BE$16,Ages,1))),\"\")","v":0.89974236479231862},{"$f":"IF($C20<>\"\",BF20*EXP(-OFFSET('Forecasts Aggregate'!$C$17,$C20-$C$17,MATCH(BF$16,Ages,1))),\"\")","v":0.89425395491829418},{"$f":"IF($C20<>\"\",BG20*EXP(-OFFSET('Forecasts Aggregate'!$C$17,$C20-$C$17,MATCH(BG$16,Ages,1))),\"\")","v":0.88596757615572197},{"$f":"IF($C20<>\"\",BH20*EXP(-OFFSET('Forecasts Aggregate'!$C$17,$C20-$C$17,MATCH(BH$16,Ages,1))),\"\")","v":0.87775798103231539},{"$f":"IF($C20<>\"\",BI20*EXP(-OFFSET('Forecasts Aggregate'!$C$17,$C20-$C$17,MATCH(BI$16,Ages,1))),\"\")","v":0.86962445805184507},{"$f":"IF($C20<>\"\",BJ20*EXP(-OFFSET('Forecasts Aggregate'!$C$17,$C20-$C$17,MATCH(BJ$16,Ages,1))),\"\")","v":0.86156630231098219},{"$f":"IF($C20<>\"\",BK20*EXP(-OFFSET('Forecasts Aggregate'!$C$17,$C20-$C$17,MATCH(BK$16,Ages,1))),\"\")","v":0.85358281543820691},{"$f":"IF($C20<>\"\",BL20*EXP(-OFFSET('Forecasts Aggregate'!$C$17,$C20-$C$17,MATCH(BL$16,Ages,1))),\"\")","v":0.84234612059409475},{"$f":"IF($C20<>\"\",BM20*EXP(-OFFSET('Forecasts Aggregate'!$C$17,$C20-$C$17,MATCH(BM$16,Ages,1))),\"\")","v":0.8312573473209609},{"$f":"IF($C20<>\"\",BN20*EXP(-OFFSET('Forecasts Aggregate'!$C$17,$C20-$C$17,MATCH(BN$16,Ages,1))),\"\")","v":0.820314548356602},{"$f":"IF($C20<>\"\",BO20*EXP(-OFFSET('Forecasts Aggregate'!$C$17,$C20-$C$17,MATCH(BO$16,Ages,1))),\"\")","v":0.80951580207287244},{"$f":"IF($C20<>\"\",BP20*EXP(-OFFSET('Forecasts Aggregate'!$C$17,$C20-$C$17,MATCH(BP$16,Ages,1))),\"\")","v":0.79885921213823352},{"$f":"IF($C20<>\"\",BQ20*EXP(-OFFSET('Forecasts Aggregate'!$C$17,$C20-$C$17,MATCH(BQ$16,Ages,1))),\"\")","v":0.78472301902659058},{"$f":"IF($C20<>\"\",BR20*EXP(-OFFSET('Forecasts Aggregate'!$C$17,$C20-$C$17,MATCH(BR$16,Ages,1))),\"\")","v":0.77083697256488715},{"$f":"IF($C20<>\"\",BS20*EXP(-OFFSET('Forecasts Aggregate'!$C$17,$C20-$C$17,MATCH(BS$16,Ages,1))),\"\")","v":0.75719664628936578},{"$f":"IF($C20<>\"\",BT20*EXP(-OFFSET('Forecasts Aggregate'!$C$17,$C20-$C$17,MATCH(BT$16,Ages,1))),\"\")","v":0.7437976920646473},{"$f":"IF($C20<>\"\",BU20*EXP(-OFFSET('Forecasts Aggregate'!$C$17,$C20-$C$17,MATCH(BU$16,Ages,1))),\"\")","v":0.73063583869767279},{"$f":"IF($C20<>\"\",BV20*EXP(-OFFSET('Forecasts Aggregate'!$C$17,$C20-$C$17,MATCH(BV$16,Ages,1))),\"\")","v":0.71125557924100069},{"$f":"IF($C20<>\"\",BW20*EXP(-OFFSET('Forecasts Aggregate'!$C$17,$C20-$C$17,MATCH(BW$16,Ages,1))),\"\")","v":0.69238938498167424},{"$f":"IF($C20<>\"\",BX20*EXP(-OFFSET('Forecasts Aggregate'!$C$17,$C20-$C$17,MATCH(BX$16,Ages,1))),\"\")","v":0.67402362023913343},{"$f":"IF($C20<>\"\",BY20*EXP(-OFFSET('Forecasts Aggregate'!$C$17,$C20-$C$17,MATCH(BY$16,Ages,1))),\"\")","v":0.65614501102192935},{"$f":"IF($C20<>\"\",BZ20*EXP(-OFFSET('Forecasts Aggregate'!$C$17,$C20-$C$17,MATCH(BZ$16,Ages,1))),\"\")","v":0.63874063543384951},{"$f":"IF($C20<>\"\",CA20*EXP(-OFFSET('Forecasts Aggregate'!$C$17,$C20-$C$17,MATCH(CA$16,Ages,1))),\"\")","v":0.61248352354380797},{"$f":"IF($C20<>\"\",CB20*EXP(-OFFSET('Forecasts Aggregate'!$C$17,$C20-$C$17,MATCH(CB$16,Ages,1))),\"\")","v":0.58730577921950433},{"$f":"IF($C20<>\"\",CC20*EXP(-OFFSET('Forecasts Aggregate'!$C$17,$C20-$C$17,MATCH(CC$16,Ages,1))),\"\")","v":0.56316303222148334},{"$f":"IF($C20<>\"\",CD20*EXP(-OFFSET('Forecasts Aggregate'!$C$17,$C20-$C$17,MATCH(CD$16,Ages,1))),\"\")","v":0.54001273626554991},{"$f":"IF($C20<>\"\",CE20*EXP(-OFFSET('Forecasts Aggregate'!$C$17,$C20-$C$17,MATCH(CE$16,Ages,1))),\"\")","v":0.51781409404429657},{"$f":"IF($C20<>\"\",CF20*EXP(-OFFSET('Forecasts Aggregate'!$C$17,$C20-$C$17,MATCH(CF$16,Ages,1))),\"\")","v":0.48336965024237172},{"$f":"IF($C20<>\"\",CG20*EXP(-OFFSET('Forecasts Aggregate'!$C$17,$C20-$C$17,MATCH(CG$16,Ages,1))),\"\")","v":0.45121641427443537},{"$f":"IF($C20<>\"\",CH20*EXP(-OFFSET('Forecasts Aggregate'!$C$17,$C20-$C$17,MATCH(CH$16,Ages,1))),\"\")","v":0.42120197742781629},{"$f":"IF($C20<>\"\",CI20*EXP(-OFFSET('Forecasts Aggregate'!$C$17,$C20-$C$17,MATCH(CI$16,Ages,1))),\"\")","v":0.39318406905560627},{"$f":"IF($C20<>\"\",CJ20*EXP(-OFFSET('Forecasts Aggregate'!$C$17,$C20-$C$17,MATCH(CJ$16,Ages,1))),\"\")","v":0.36702988220328892},{"$f":"IF($C20<>\"\",CK20*EXP(-OFFSET('Forecasts Aggregate'!$C$17,$C20-$C$17,MATCH(CK$16,Ages,1))),\"\")","v":0.32769238959001962},{"$f":"IF($C20<>\"\",CL20*EXP(-OFFSET('Forecasts Aggregate'!$C$17,$C20-$C$17,MATCH(CL$16,Ages,1))),\"\")","v":0.2925710068907707},{"$f":"IF($C20<>\"\",CM20*EXP(-OFFSET('Forecasts Aggregate'!$C$17,$C20-$C$17,MATCH(CM$16,Ages,1))),\"\")","v":0.2612138602918791},{"$f":"IF($C20<>\"\",CN20*EXP(-OFFSET('Forecasts Aggregate'!$C$17,$C20-$C$17,MATCH(CN$16,Ages,1))),\"\")","v":0.23321750686683562},{"$f":"IF($C20<>\"\",CO20*EXP(-OFFSET('Forecasts Aggregate'!$C$17,$C20-$C$17,MATCH(CO$16,Ages,1))),\"\")","v":0.20822174385542538},{"$f":"IF($C20<>\"\",CP20*EXP(-OFFSET('Forecasts Aggregate'!$C$17,$C20-$C$17,MATCH(CP$16,Ages,1))),\"\")","v":0.17073785009411355},{"$f":"IF($C20<>\"\",CQ20*EXP(-OFFSET('Forecasts Aggregate'!$C$17,$C20-$C$17,MATCH(CQ$16,Ages,1))),\"\")","v":0.14000177366202779},{"$f":"IF($C20<>\"\",CR20*EXP(-OFFSET('Forecasts Aggregate'!$C$17,$C20-$C$17,MATCH(CR$16,Ages,1))),\"\")","v":0.11479877846481923},{"$f":"IF($C20<>\"\",CS20*EXP(-OFFSET('Forecasts Aggregate'!$C$17,$C20-$C$17,MATCH(CS$16,Ages,1))),\"\")","v":9.4132804123102862E-2},{"$f":"IF($C20<>\"\",CT20*EXP(-OFFSET('Forecasts Aggregate'!$C$17,$C20-$C$17,MATCH(CT$16,Ages,1))),\"\")","v":7.7187100164083658E-2},{"$f":"IF($C20<>\"\",CU20*EXP(-OFFSET('Forecasts Aggregate'!$C$17,$C20-$C$17,MATCH(CU$16,Ages,1))),\"\")","v":5.4807291895967121E-2},{"$f":"IF($C20<>\"\",CV20*EXP(-OFFSET('Forecasts Aggregate'!$C$17,$C20-$C$17,MATCH(CV$16,Ages,1))),\"\")","v":3.891633755620056E-2},{"$f":"IF($C20<>\"\",CW20*EXP(-OFFSET('Forecasts Aggregate'!$C$17,$C20-$C$17,MATCH(CW$16,Ages,1))),\"\")","v":2.7632843667278261E-2},{"$f":"IF($C20<>\"\",CX20*EXP(-OFFSET('Forecasts Aggregate'!$C$17,$C20-$C$17,MATCH(CX$16,Ages,1))),\"\")","v":1.9620912374848583E-2},{"$f":"IF($C20<>\"\",CY20*EXP(-OFFSET('Forecasts Aggregate'!$C$17,$C20-$C$17,MATCH(CY$16,Ages,1))),\"\")","v":1.393197917148733E-2},{"$f":"IF($C20<>\"\",CZ20*EXP(-OFFSET('Forecasts Aggregate'!$C$17,$C20-$C$17,MATCH(CZ$16,Ages,1))),\"\")","v":9.8925085605890278E-3},{"$f":"IF($C20<>\"\",DA20*EXP(-OFFSET('Forecasts Aggregate'!$C$17,$C20-$C$17,MATCH(DA$16,Ages,1))),\"\")","v":7.0242515020125318E-3},{"$f":"IF($C20<>\"\",DB20*EXP(-OFFSET('Forecasts Aggregate'!$C$17,$C20-$C$17,MATCH(DB$16,Ages,1))),\"\")","v":4.98762360035678E-3},{"$f":"IF($C20<>\"\",DC20*EXP(-OFFSET('Forecasts Aggregate'!$C$17,$C20-$C$17,MATCH(DC$16,Ages,1))),\"\")","v":3.541500353697265E-3},{"$f":"IF($C20<>\"\",DD20*EXP(-OFFSET('Forecasts Aggregate'!$C$17,$C20-$C$17,MATCH(DD$16,Ages,1))),\"\")","v":2.5146694618937704E-3},{"$f":"IF($C20<>\"\",DE20*EXP(-OFFSET('Forecasts Aggregate'!$C$17,$C20-$C$17,MATCH(DE$16,Ages,1))),\"\")","v":1.7855603193656087E-3},{"$f":"IF($C20<>\"\",DF20*EXP(-OFFSET('Forecasts Aggregate'!$C$17,$C20-$C$17,MATCH(DF$16,Ages,1))),\"\")","v":1.2678507861196185E-3},{"$f":"IF($C20<>\"\",DG20*EXP(-OFFSET('Forecasts Aggregate'!$C$17,$C20-$C$17,MATCH(DG$16,Ages,1))),\"\")","v":9.0024716523452058E-4},{"$f":"IF($C20<>\"\",DH20*EXP(-OFFSET('Forecasts Aggregate'!$C$17,$C20-$C$17,MATCH(DH$16,Ages,1))),\"\")","v":6.3922739756563658E-4},{"$f":"IF($C20<>\"\",DI20*EXP(-OFFSET('Forecasts Aggregate'!$C$17,$C20-$C$17,MATCH(DI$16,Ages,1))),\"\")","v":4.5388831154174222E-4},{"$f":"IF($C20<>\"\",DJ20*EXP(-OFFSET('Forecasts Aggregate'!$C$17,$C20-$C$17,MATCH(DJ$16,Ages,1))),\"\")","v":3.2228687340182387E-4},null,2019,76.296898339654661,18.281029667342203]
[null,null,2020,1,{"$f":"IF($C21<>\"\",D21*EXP(-OFFSET('Forecasts Aggregate'!$C$17,$C21-$C$17,MATCH(D$16,Ages,1))),\"\")","v":0.99406865933513056},{"$f":"IF($C21<>\"\",E21*EXP(-OFFSET('Forecasts Aggregate'!$C$17,$C21-$C$17,MATCH(E$16,Ages,1))),\"\")","v":0.99378610081583296},{"$f":"IF($C21<>\"\",F21*EXP(-OFFSET('Forecasts Aggregate'!$C$17,$C21-$C$17,MATCH(F$16,Ages,1))),\"\")","v":0.99350362261223191},{"$f":"IF($C21<>\"\",G21*EXP(-OFFSET('Forecasts Aggregate'!$C$17,$C21-$C$17,MATCH(G$16,Ages,1))),\"\")","v":0.9932212247014981},{"$f":"IF($C21<>\"\",H21*EXP(-OFFSET('Forecasts Aggregate'!$C$17,$C21-$C$17,MATCH(H$16,Ages,1))),\"\")","v":0.99293890706080878},{"$f":"IF($C21<>\"\",I21*EXP(-OFFSET('Forecasts Aggregate'!$C$17,$C21-$C$17,MATCH(I$16,Ages,1))),\"\")","v":0.99280513870010523},{"$f":"IF($C21<>\"\",J21*EXP(-OFFSET('Forecasts Aggregate'!$C$17,$C21-$C$17,MATCH(J$16,Ages,1))),\"\")","v":0.99267138836062552},{"$f":"IF($C21<>\"\",K21*EXP(-OFFSET('Forecasts Aggregate'!$C$17,$C21-$C$17,MATCH(K$16,Ages,1))),\"\")","v":0.99253765603994182},{"$f":"IF($C21<>\"\",L21*EXP(-OFFSET('Forecasts Aggregate'!$C$17,$C21-$C$17,MATCH(L$16,Ages,1))),\"\")","v":0.99240394173562674},{"$f":"IF($C21<>\"\",M21*EXP(-OFFSET('Forecasts Aggregate'!$C$17,$C21-$C$17,MATCH(M$16,Ages,1))),\"\")","v":0.992270245445253},{"$f":"IF($C21<>\"\",N21*EXP(-OFFSET('Forecasts Aggregate'!$C$17,$C21-$C$17,MATCH(N$16,Ages,1))),\"\")","v":0.99210678719365519},{"$f":"IF($C21<>\"\",O21*EXP(-OFFSET('Forecasts Aggregate'!$C$17,$C21-$C$17,MATCH(O$16,Ages,1))),\"\")","v":0.99194335586879445},{"$f":"IF($C21<>\"\",P21*EXP(-OFFSET('Forecasts Aggregate'!$C$17,$C21-$C$17,MATCH(P$16,Ages,1))),\"\")","v":0.9917799514662351},{"$f":"IF($C21<>\"\",Q21*EXP(-OFFSET('Forecasts Aggregate'!$C$17,$C21-$C$17,MATCH(Q$16,Ages,1))),\"\")","v":0.99161657398154224},{"$f":"IF($C21<>\"\",R21*EXP(-OFFSET('Forecasts Aggregate'!$C$17,$C21-$C$17,MATCH(R$16,Ages,1))),\"\")","v":0.99145322341028153},{"$f":"IF($C21<>\"\",S21*EXP(-OFFSET('Forecasts Aggregate'!$C$17,$C21-$C$17,MATCH(S$16,Ages,1))),\"\")","v":0.99074991332421292},{"$f":"IF($C21<>\"\",T21*EXP(-OFFSET('Forecasts Aggregate'!$C$17,$C21-$C$17,MATCH(T$16,Ages,1))),\"\")","v":0.99004710214728642},{"$f":"IF($C21<>\"\",U21*EXP(-OFFSET('Forecasts Aggregate'!$C$17,$C21-$C$17,MATCH(U$16,Ages,1))),\"\")","v":0.98934478952558946},{"$f":"IF($C21<>\"\",V21*EXP(-OFFSET('Forecasts Aggregate'!$C$17,$C21-$C$17,MATCH(V$16,Ages,1))),\"\")","v":0.9886429751054604},{"$f":"IF($C21<>\"\",W21*EXP(-OFFSET('Forecasts Aggregate'!$C$17,$C21-$C$17,MATCH(W$16,Ages,1))),\"\")","v":0.98794165853348848},{"$f":"IF($C21<>\"\",X21*EXP(-OFFSET('Forecasts Aggregate'!$C$17,$C21-$C$17,MATCH(X$16,Ages,1))),\"\")","v":0.98648388936783038},{"$f":"IF($C21<>\"\",Y21*EXP(-OFFSET('Forecasts Aggregate'!$C$17,$C21-$C$17,MATCH(Y$16,Ages,1))),\"\")","v":0.98502827123095216},{"$f":"IF($C21<>\"\",Z21*EXP(-OFFSET('Forecasts Aggregate'!$C$17,$C21-$C$17,MATCH(Z$16,Ages,1))),\"\")","v":0.9835748009488775},{"$f":"IF($C21<>\"\",AA21*EXP(-OFFSET('Forecasts Aggregate'!$C$17,$C21-$C$17,MATCH(AA$16,Ages,1))),\"\")","v":0.98212347535231348},{"$f":"IF($C21<>\"\",AB21*EXP(-OFFSET('Forecasts Aggregate'!$C$17,$C21-$C$17,MATCH(AB$16,Ages,1))),\"\")","v":0.98067429127664363},{"$f":"IF($C21<>\"\",AC21*EXP(-OFFSET('Forecasts Aggregate'!$C$17,$C21-$C$17,MATCH(AC$16,Ages,1))),\"\")","v":0.97891165407890546},{"$f":"IF($C21<>\"\",AD21*EXP(-OFFSET('Forecasts Aggregate'!$C$17,$C21-$C$17,MATCH(AD$16,Ages,1))),\"\")","v":0.97715218499714473},{"$f":"IF($C21<>\"\",AE21*EXP(-OFFSET('Forecasts Aggregate'!$C$17,$C21-$C$17,MATCH(AE$16,Ages,1))),\"\")","v":0.97539587833707631},{"$f":"IF($C21<>\"\",AF21*EXP(-OFFSET('Forecasts Aggregate'!$C$17,$C21-$C$17,MATCH(AF$16,Ages,1))),\"\")","v":0.97364272841464972},{"$f":"IF($C21<>\"\",AG21*EXP(-OFFSET('Forecasts Aggregate'!$C$17,$C21-$C$17,MATCH(AG$16,Ages,1))),\"\")","v":0.9718927295560309},{"$f":"IF($C21<>\"\",AH21*EXP(-OFFSET('Forecasts Aggregate'!$C$17,$C21-$C$17,MATCH(AH$16,Ages,1))),\"\")","v":0.96994168040482909},{"$f":"IF($C21<>\"\",AI21*EXP(-OFFSET('Forecasts Aggregate'!$C$17,$C21-$C$17,MATCH(AI$16,Ages,1))),\"\")","v":0.96799454793360096},{"$f":"IF($C21<>\"\",AJ21*EXP(-OFFSET('Forecasts Aggregate'!$C$17,$C21-$C$17,MATCH(AJ$16,Ages,1))),\"\")","v":0.9660513242797143},{"$f":"IF($C21<>\"\",AK21*EXP(-OFFSET('Forecasts Aggregate'!$C$17,$C21-$C$17,MATCH(AK$16,Ages,1))),\"\")","v":0.96411200159632071},{"$f":"IF($C21<>\"\",AL21*EXP(-OFFSET('Forecasts Aggregate'!$C$17,$C21-$C$17,MATCH(AL$16,Ages,1))),\"\")","v":0.96217657205232443},{"$f":"IF($C21<>\"\",AM21*EXP(-OFFSET('Forecasts Aggregate'!$C$17,$C21-$C$17,MATCH(AM$16,Ages,1))),\"\")","v":0.96009776987455064},{"$f":"IF($C21<>\"\",AN21*EXP(-OFFSET('Forecasts Aggregate'!$C$17,$C21-$C$17,MATCH(AN$16,Ages,1))),\"\")","v":0.95802345899143093},{"$f":"IF($C21<>\"\",AO21*EXP(-OFFSET('Forecasts Aggregate'!$C$17,$C21-$C$17,MATCH(AO$16,Ages,1))),\"\")","v":0.95595362969943121},{"$f":"IF($C21<>\"\",AP21*EXP(-OFFSET('Forecasts Aggregate'!$C$17,$C21-$C$17,MATCH(AP$16,Ages,1))),\"\")","v":0.95388827231598217},{"$f":"IF($C21<>\"\",AQ21*EXP(-OFFSET('Forecasts Aggregate'!$C$17,$C21-$C$17,MATCH(AQ$16,Ages,1))),\"\")","v":0.95182737717943389},{"$f":"IF($C21<>\"\",AR21*EXP(-OFFSET('Forecasts Aggregate'!$C$17,$C21-$C$17,MATCH(AR$16,Ages,1))),\"\")","v":0.94931375718420474},{"$f":"IF($C21<>\"\",AS21*EXP(-OFFSET('Forecasts Aggregate'!$C$17,$C21-$C$17,MATCH(AS$16,Ages,1))),\"\")","v":0.94680677524712764},{"$f":"IF($C21<>\"\",AT21*EXP(-OFFSET('Forecasts Aggregate'!$C$17,$C21-$C$17,MATCH(AT$16,Ages,1))),\"\")","v":0.94430641383817959},{"$f":"IF($C21<>\"\",AU21*EXP(-OFFSET('Forecasts Aggregate'!$C$17,$C21-$C$17,MATCH(AU$16,Ages,1))),\"\")","v":0.9418126554736318},{"$f":"IF($C21<>\"\",AV21*EXP(-OFFSET('Forecasts Aggregate'!$C$17,$C21-$C$17,MATCH(AV$16,Ages,1))),\"\")","v":0.93932548271592686},{"$f":"IF($C21<>\"\",AW21*EXP(-OFFSET('Forecasts Aggregate'!$C$17,$C21-$C$17,MATCH(AW$16,Ages,1))),\"\")","v":0.93575038804298116},{"$f":"IF($C21<>\"\",AX21*EXP(-OFFSET('Forecasts Aggregate'!$C$17,$C21-$C$17,MATCH(AX$16,Ages,1))),\"\")","v":0.9321889002636583},{"$f":"IF($C21<>\"\",AY21*EXP(-OFFSET('Forecasts Aggregate'!$C$17,$C21-$C$17,MATCH(AY$16,Ages,1))),\"\")","v":0.92864096758980408},{"$f":"IF($C21<>\"\",AZ21*EXP(-OFFSET('Forecasts Aggregate'!$C$17,$C21-$C$17,MATCH(AZ$16,Ages,1))),\"\")","v":0.92510653843037127},{"$f":"IF($C21<>\"\",BA21*EXP(-OFFSET('Forecasts Aggregate'!$C$17,$C21-$C$17,MATCH(BA$16,Ages,1))),\"\")","v":0.92158556139066938},{"$f":"IF($C21<>\"\",BB21*EXP(-OFFSET('Forecasts Aggregate'!$C$17,$C21-$C$17,MATCH(BB$16,Ages,1))),\"\")","v":0.91595817806387159},{"$f":"IF($C21<>\"\",BC21*EXP(-OFFSET('Forecasts Aggregate'!$C$17,$C21-$C$17,MATCH(BC$16,Ages,1))),\"\")","v":0.91036515665031703},{"$f":"IF($C21<>\"\",BD21*EXP(-OFFSET('Forecasts Aggregate'!$C$17,$C21-$C$17,MATCH(BD$16,Ages,1))),\"\")","v":0.90480628732938162},{"$f":"IF($C21<>\"\",BE21*EXP(-OFFSET('Forecasts Aggregate'!$C$17,$C21-$C$17,MATCH(BE$16,Ages,1))),\"\")","v":0.89928136156164729},{"$f":"IF($C21<>\"\",BF21*EXP(-OFFSET('Forecasts Aggregate'!$C$17,$C21-$C$17,MATCH(BF$16,Ages,1))),\"\")","v":0.89379017208107903},{"$f":"IF($C21<>\"\",BG21*EXP(-OFFSET('Forecasts Aggregate'!$C$17,$C21-$C$17,MATCH(BG$16,Ages,1))),\"\")","v":0.88549243236746444},{"$f":"IF($C21<>\"\",BH21*EXP(-OFFSET('Forecasts Aggregate'!$C$17,$C21-$C$17,MATCH(BH$16,Ages,1))),\"\")","v":0.87727172693606237},{"$f":"IF($C21<>\"\",BI21*EXP(-OFFSET('Forecasts Aggregate'!$C$17,$C21-$C$17,MATCH(BI$16,Ages,1))),\"\")","v":0.86912734061854502},{"$f":"IF($C21<>\"\",BJ21*EXP(-OFFSET('Forecasts Aggregate'!$C$17,$C21-$C$17,MATCH(BJ$16,Ages,1))),\"\")","v":0.8610585648860406},{"$f":"IF($C21<>\"\",BK21*EXP(-OFFSET('Forecasts Aggregate'!$C$17,$C21-$C$17,MATCH(BK$16,Ages,1))),\"\")","v":0.85306469778749439},{"$f":"IF($C21<>\"\",BL21*EXP(-OFFSET('Forecasts Aggregate'!$C$17,$C21-$C$17,MATCH(BL$16,Ages,1))),\"\")","v":0.84186128814574035},{"$f":"IF($C21<>\"\",BM21*EXP(-OFFSET('Forecasts Aggregate'!$C$17,$C21-$C$17,MATCH(BM$16,Ages,1))),\"\")","v":0.83080501434013854},{"$f":"IF($C21<>\"\",BN21*EXP(-OFFSET('Forecasts Aggregate'!$C$17,$C21-$C$17,MATCH(BN$16,Ages,1))),\"\")","v":0.81989394401661353},{"$f":"IF($C21<>\"\",BO21*EXP(-OFFSET('Forecasts Aggregate'!$C$17,$C21-$C$17,MATCH(BO$16,Ages,1))),\"\")","v":0.80912617019894728},{"$f":"IF($C21<>\"\",BP21*EXP(-OFFSET('Forecasts Aggregate'!$C$17,$C21-$C$17,MATCH(BP$16,Ages,1))),\"\")","v":0.79849981095548861},{"$f":"IF($C21<>\"\",BQ21*EXP(-OFFSET('Forecasts Aggregate'!$C$17,$C21-$C$17,MATCH(BQ$16,Ages,1))),\"\")","v":0.78447762540847021},{"$f":"IF($C21<>\"\",BR21*EXP(-OFFSET('Forecasts Aggregate'!$C$17,$C21-$C$17,MATCH(BR$16,Ages,1))),\"\")","v":0.77070167872690598},{"$f":"IF($C21<>\"\",BS21*EXP(-OFFSET('Forecasts Aggregate'!$C$17,$C21-$C$17,MATCH(BS$16,Ages,1))),\"\")","v":0.75716764679322823},{"$f":"IF($C21<>\"\",BT21*EXP(-OFFSET('Forecasts Aggregate'!$C$17,$C21-$C$17,MATCH(BT$16,Ages,1))),\"\")","v":0.74387128142423786},{"$f":"IF($C21<>\"\",BU21*EXP(-OFFSET('Forecasts Aggregate'!$C$17,$C21-$C$17,MATCH(BU$16,Ages,1))),\"\")","v":0.73080840903764632},{"$f":"IF($C21<>\"\",BV21*EXP(-OFFSET('Forecasts Aggregate'!$C$17,$C21-$C$17,MATCH(BV$16,Ages,1))),\"\")","v":0.71158794832649619},{"$f":"IF($C21<>\"\",BW21*EXP(-OFFSET('Forecasts Aggregate'!$C$17,$C21-$C$17,MATCH(BW$16,Ages,1))),\"\")","v":0.69287299098035982},{"$f":"IF($C21<>\"\",BX21*EXP(-OFFSET('Forecasts Aggregate'!$C$17,$C21-$C$17,MATCH(BX$16,Ages,1))),\"\")","v":0.6746502421227053},{"$f":"IF($C21<>\"\",BY21*EXP(-OFFSET('Forecasts Aggregate'!$C$17,$C21-$C$17,MATCH(BY$16,Ages,1))),\"\")","v":0.65690675653588393},{"$f":"IF($C21<>\"\",BZ21*EXP(-OFFSET('Forecasts Aggregate'!$C$17,$C21-$C$17,MATCH(BZ$16,Ages,1))),\"\")","v":0.63962992946500574},{"$f":"IF($C21<>\"\",CA21*EXP(-OFFSET('Forecasts Aggregate'!$C$17,$C21-$C$17,MATCH(CA$16,Ages,1))),\"\")","v":0.61353005966446328},{"$f":"IF($C21<>\"\",CB21*EXP(-OFFSET('Forecasts Aggregate'!$C$17,$C21-$C$17,MATCH(CB$16,Ages,1))),\"\")","v":0.58849518568763881},{"$f":"IF($C21<>\"\",CC21*EXP(-OFFSET('Forecasts Aggregate'!$C$17,$C21-$C$17,MATCH(CC$16,Ages,1))),\"\")","v":0.56448185076201951},{"$f":"IF($C21<>\"\",CD21*EXP(-OFFSET('Forecasts Aggregate'!$C$17,$C21-$C$17,MATCH(CD$16,Ages,1))),\"\")","v":0.54144837135310453},{"$f":"IF($C21<>\"\",CE21*EXP(-OFFSET('Forecasts Aggregate'!$C$17,$C21-$C$17,MATCH(CE$16,Ages,1))),\"\")","v":0.51935476480806408},{"$f":"IF($C21<>\"\",CF21*EXP(-OFFSET('Forecasts Aggregate'!$C$17,$C21-$C$17,MATCH(CF$16,Ages,1))),\"\")","v":0.48504385689640844},{"$f":"IF($C21<>\"\",CG21*EXP(-OFFSET('Forecasts Aggregate'!$C$17,$C21-$C$17,MATCH(CG$16,Ages,1))),\"\")","v":0.45299968163359483},{"$f":"IF($C21<>\"\",CH21*EXP(-OFFSET('Forecasts Aggregate'!$C$17,$C21-$C$17,MATCH(CH$16,Ages,1))),\"\")","v":0.42307248848213952},{"$f":"IF($C21<>\"\",CI21*EXP(-OFFSET('Forecasts Aggregate'!$C$17,$C21-$C$17,MATCH(CI$16,Ages,1))),\"\")","v":0.39512242009751558},{"$f":"IF($C21<>\"\",CJ21*EXP(-OFFSET('Forecasts Aggregate'!$C$17,$C21-$C$17,MATCH(CJ$16,Ages,1))),\"\")","v":0.36901885873940121},{"$f":"IF($C21<>\"\",CK21*EXP(-OFFSET('Forecasts Aggregate'!$C$17,$C21-$C$17,MATCH(CK$16,Ages,1))),\"\")","v":0.32970912592943896},{"$f":"IF($C21<>\"\",CL21*EXP(-OFFSET('Forecasts Aggregate'!$C$17,$C21-$C$17,MATCH(CL$16,Ages,1))),\"\")","v":0.29458686228804265},{"$f":"IF($C21<>\"\",CM21*EXP(-OFFSET('Forecasts Aggregate'!$C$17,$C21-$C$17,MATCH(CM$16,Ages,1))),\"\")","v":0.26320599767470887},{"$f":"IF($C21<>\"\",CN21*EXP(-OFFSET('Forecasts Aggregate'!$C$17,$C21-$C$17,MATCH(CN$16,Ages,1))),\"\")","v":0.2351679795693008},{"$f":"IF($C21<>\"\",CO21*EXP(-OFFSET('Forecasts Aggregate'!$C$17,$C21-$C$17,MATCH(CO$16,Ages,1))),\"\")","v":0.21011671125768261},{"$f":"IF($C21<>\"\",CP21*EXP(-OFFSET('Forecasts Aggregate'!$C$17,$C21-$C$17,MATCH(CP$16,Ages,1))),\"\")","v":0.17241050678265935},{"$f":"IF($C21<>\"\",CQ21*EXP(-OFFSET('Forecasts Aggregate'!$C$17,$C21-$C$17,MATCH(CQ$16,Ages,1))),\"\")","v":0.14147081720025045},{"$f":"IF($C21<>\"\",CR21*EXP(-OFFSET('Forecasts Aggregate'!$C$17,$C21-$C$17,MATCH(CR$16,Ages,1))),\"\")","v":0.11608336691763405},{"$f":"IF($C21<>\"\",CS21*EXP(-OFFSET('Forecasts Aggregate'!$C$17,$C21-$C$17,MATCH(CS$16,Ages,1))),\"\")","v":9.5251786492897977E-2},{"$f":"IF($C21<>\"\",CT21*EXP(-OFFSET('Forecasts Aggregate'!$C$17,$C21-$C$17,MATCH(CT$16,Ages,1))),\"\")","v":7.8158508587420808E-2},{"$f":"IF($C21<>\"\",CU21*EXP(-OFFSET('Forecasts Aggregate'!$C$17,$C21-$C$17,MATCH(CU$16,Ages,1))),\"\")","v":5.5508966601078527E-2},{"$f":"IF($C21<>\"\",CV21*EXP(-OFFSET('Forecasts Aggregate'!$C$17,$C21-$C$17,MATCH(CV$16,Ages,1))),\"\")","v":3.9423031846536047E-2},{"$f":"IF($C21<>\"\",CW21*EXP(-OFFSET('Forecasts Aggregate'!$C$17,$C21-$C$17,MATCH(CW$16,Ages,1))),\"\")","v":2.7998637610068534E-2},{"$f":"IF($C21<>\"\",CX21*EXP(-OFFSET('Forecasts Aggregate'!$C$17,$C21-$C$17,MATCH(CX$16,Ages,1))),\"\")","v":1.9884916793603349E-2},{"$f":"IF($C21<>\"\",CY21*EXP(-OFFSET('Forecasts Aggregate'!$C$17,$C21-$C$17,MATCH(CY$16,Ages,1))),\"\")","v":1.4122469864259963E-2},{"$f":"IF($C21<>\"\",CZ21*EXP(-OFFSET('Forecasts Aggregate'!$C$17,$C21-$C$17,MATCH(CZ$16,Ages,1))),\"\")","v":1.0029921529824491E-2},{"$f":"IF($C21<>\"\",DA21*EXP(-OFFSET('Forecasts Aggregate'!$C$17,$C21-$C$17,MATCH(DA$16,Ages,1))),\"\")","v":7.123352137505758E-3},{"$f":"IF($C21<>\"\",DB21*EXP(-OFFSET('Forecasts Aggregate'!$C$17,$C21-$C$17,MATCH(DB$16,Ages,1))),\"\")","v":5.0590770350519149E-3},{"$f":"IF($C21<>\"\",DC21*EXP(-OFFSET('Forecasts Aggregate'!$C$17,$C21-$C$17,MATCH(DC$16,Ages,1))),\"\")","v":3.5930078918647288E-3},{"$f":"IF($C21<>\"\",DD21*EXP(-OFFSET('Forecasts Aggregate'!$C$17,$C21-$C$17,MATCH(DD$16,Ages,1))),\"\")","v":2.5517906965158016E-3},{"$f":"IF($C21<>\"\",DE21*EXP(-OFFSET('Forecasts Aggregate'!$C$17,$C21-$C$17,MATCH(DE$16,Ages,1))),\"\")","v":1.8123076694510508E-3},{"$f":"IF($C21<>\"\",DF21*EXP(-OFFSET('Forecasts Aggregate'!$C$17,$C21-$C$17,MATCH(DF$16,Ages,1))),\"\")","v":1.2871193132084377E-3},{"$f":"IF($C21<>\"\",DG21*EXP(-OFFSET('Forecasts Aggregate'!$C$17,$C21-$C$17,MATCH(DG$16,Ages,1))),\"\")","v":9.1412520862750005E-4},{"$f":"IF($C21<>\"\",DH21*EXP(-OFFSET('Forecasts Aggregate'!$C$17,$C21-$C$17,MATCH(DH$16,Ages,1))),\"\")","v":6.4922100730917124E-4},{"$f":"IF($C21<>\"\",DI21*EXP(-OFFSET('Forecasts Aggregate'!$C$17,$C21-$C$17,MATCH(DI$16,Ages,1))),\"\")","v":4.6108335308285813E-4},{"$f":"IF($C21<>\"\",DJ21*EXP(-OFFSET('Forecasts Aggregate'!$C$17,$C21-$C$17,MATCH(DJ$16,Ages,1))),\"\")","v":3.2746608026638994E-4},null,2020,76.318169543650626,18.336134722738826]
[null,null,2021,1,{"$f":"IF($C22<>\"\",D22*EXP(-OFFSET('Forecasts Aggregate'!$C$17,$C22-$C$17,MATCH(D$16,Ages,1))),\"\")","v":0.99414340889101183},{"$f":"IF($C22<>\"\",E22*EXP(-OFFSET('Forecasts Aggregate'!$C$17,$C22-$C$17,MATCH(E$16,Ages,1))),\"\")","v":0.99386187771731604},{"$f":"IF($C22<>\"\",F22*EXP(-OFFSET('Forecasts Aggregate'!$C$17,$C22-$C$17,MATCH(F$16,Ages,1))),\"\")","v":0.99358042627034893},{"$f":"IF($C22<>\"\",G22*EXP(-OFFSET('Forecasts Aggregate'!$C$17,$C22-$C$17,MATCH(G$16,Ages,1))),\"\")","v":0.99329905452753264},{"$f":"IF($C22<>\"\",H22*EXP(-OFFSET('Forecasts Aggregate'!$C$17,$C22-$C$17,MATCH(H$16,Ages,1))),\"\")","v":0.99301776246629581},{"$f":"IF($C22<>\"\",I22*EXP(-OFFSET('Forecasts Aggregate'!$C$17,$C22-$C$17,MATCH(I$16,Ages,1))),\"\")","v":0.99288369593796122},{"$f":"IF($C22<>\"\",J22*EXP(-OFFSET('Forecasts Aggregate'!$C$17,$C22-$C$17,MATCH(J$16,Ages,1))),\"\")","v":0.99274964750984063},{"$f":"IF($C22<>\"\",K22*EXP(-OFFSET('Forecasts Aggregate'!$C$17,$C22-$C$17,MATCH(K$16,Ages,1))),\"\")","v":0.99261561717949032},{"$f":"IF($C22<>\"\",L22*EXP(-OFFSET('Forecasts Aggregate'!$C$17,$C22-$C$17,MATCH(L$16,Ages,1))),\"\")","v":0.99248160494446702},{"$f":"IF($C22<>\"\",M22*EXP(-OFFSET('Forecasts Aggregate'!$C$17,$C22-$C$17,MATCH(M$16,Ages,1))),\"\")","v":0.99234761080232758},{"$f":"IF($C22<>\"\",N22*EXP(-OFFSET('Forecasts Aggregate'!$C$17,$C22-$C$17,MATCH(N$16,Ages,1))),\"\")","v":0.99218420225299353},{"$f":"IF($C22<>\"\",O22*EXP(-OFFSET('Forecasts Aggregate'!$C$17,$C22-$C$17,MATCH(O$16,Ages,1))),\"\")","v":0.99202082061192598},{"$f":"IF($C22<>\"\",P22*EXP(-OFFSET('Forecasts Aggregate'!$C$17,$C22-$C$17,MATCH(P$16,Ages,1))),\"\")","v":0.99185746587469403},{"$f":"IF($C22<>\"\",Q22*EXP(-OFFSET('Forecasts Aggregate'!$C$17,$C22-$C$17,MATCH(Q$16,Ages,1))),\"\")","v":0.99169413803686746},{"$f":"IF($C22<>\"\",R22*EXP(-OFFSET('Forecasts Aggregate'!$C$17,$C22-$C$17,MATCH(R$16,Ages,1))),\"\")","v":0.99153083709401668},{"$f":"IF($C22<>\"\",S22*EXP(-OFFSET('Forecasts Aggregate'!$C$17,$C22-$C$17,MATCH(S$16,Ages,1))),\"\")","v":0.99082217914941828},{"$f":"IF($C22<>\"\",T22*EXP(-OFFSET('Forecasts Aggregate'!$C$17,$C22-$C$17,MATCH(T$16,Ages,1))),\"\")","v":0.99011402769041135},{"$f":"IF($C22<>\"\",U22*EXP(-OFFSET('Forecasts Aggregate'!$C$17,$C22-$C$17,MATCH(U$16,Ages,1))),\"\")","v":0.989406382355005},{"$f":"IF($C22<>\"\",V22*EXP(-OFFSET('Forecasts Aggregate'!$C$17,$C22-$C$17,MATCH(V$16,Ages,1))),\"\")","v":0.98869924278146726},{"$f":"IF($C22<>\"\",W22*EXP(-OFFSET('Forecasts Aggregate'!$C$17,$C22-$C$17,MATCH(W$16,Ages,1))),\"\")","v":0.9879926086083245},{"$f":"IF($C22<>\"\",X22*EXP(-OFFSET('Forecasts Aggregate'!$C$17,$C22-$C$17,MATCH(X$16,Ages,1))),\"\")","v":0.98650935278887675},{"$f":"IF($C22<>\"\",Y22*EXP(-OFFSET('Forecasts Aggregate'!$C$17,$C22-$C$17,MATCH(Y$16,Ages,1))),\"\")","v":0.98502832375514249},{"$f":"IF($C22<>\"\",Z22*EXP(-OFFSET('Forecasts Aggregate'!$C$17,$C22-$C$17,MATCH(Z$16,Ages,1))),\"\")","v":0.98354951816408775},{"$f":"IF($C22<>\"\",AA22*EXP(-OFFSET('Forecasts Aggregate'!$C$17,$C22-$C$17,MATCH(AA$16,Ages,1))),\"\")","v":0.98207293267769746},{"$f":"IF($C22<>\"\",AB22*EXP(-OFFSET('Forecasts Aggregate'!$C$17,$C22-$C$17,MATCH(AB$16,Ages,1))),\"\")","v":0.98059856396296774},{"$f":"IF($C22<>\"\",AC22*EXP(-OFFSET('Forecasts Aggregate'!$C$17,$C22-$C$17,MATCH(AC$16,Ages,1))),\"\")","v":0.97878868008915643},{"$f":"IF($C22<>\"\",AD22*EXP(-OFFSET('Forecasts Aggregate'!$C$17,$C22-$C$17,MATCH(AD$16,Ages,1))),\"\")","v":0.97698213670528367},{"$f":"IF($C22<>\"\",AE22*EXP(-OFFSET('Forecasts Aggregate'!$C$17,$C22-$C$17,MATCH(AE$16,Ages,1))),\"\")","v":0.97517892764583058},{"$f":"IF($C22<>\"\",AF22*EXP(-OFFSET('Forecasts Aggregate'!$C$17,$C22-$C$17,MATCH(AF$16,Ages,1))),\"\")","v":0.97337904675665821},{"$f":"IF($C22<>\"\",AG22*EXP(-OFFSET('Forecasts Aggregate'!$C$17,$C22-$C$17,MATCH(AG$16,Ages,1))),\"\")","v":0.97158248789498591},{"$f":"IF($C22<>\"\",AH22*EXP(-OFFSET('Forecasts Aggregate'!$C$17,$C22-$C$17,MATCH(AH$16,Ages,1))),\"\")","v":0.96958351205084603},{"$f":"IF($C22<>\"\",AI22*EXP(-OFFSET('Forecasts Aggregate'!$C$17,$C22-$C$17,MATCH(AI$16,Ages,1))),\"\")","v":0.96758864898608954},{"$f":"IF($C22<>\"\",AJ22*EXP(-OFFSET('Forecasts Aggregate'!$C$17,$C22-$C$17,MATCH(AJ$16,Ages,1))),\"\")","v":0.96559789023890619},{"$f":"IF($C22<>\"\",AK22*EXP(-OFFSET('Forecasts Aggregate'!$C$17,$C22-$C$17,MATCH(AK$16,Ages,1))),\"\")","v":0.96361122736489535},{"$f":"IF($C22<>\"\",AL22*EXP(-OFFSET('Forecasts Aggregate'!$C$17,$C22-$C$17,MATCH(AL$16,Ages,1))),\"\")","v":0.96162865193703051},{"$f":"IF($C22<>\"\",AM22*EXP(-OFFSET('Forecasts Aggregate'!$C$17,$C22-$C$17,MATCH(AM$16,Ages,1))),\"\")","v":0.9595366803810953},{"$f":"IF($C22<>\"\",AN22*EXP(-OFFSET('Forecasts Aggregate'!$C$17,$C22-$C$17,MATCH(AN$16,Ages,1))),\"\")","v":0.9574492597970784},{"$f":"IF($C22<>\"\",AO22*EXP(-OFFSET('Forecasts Aggregate'!$C$17,$C22-$C$17,MATCH(AO$16,Ages,1))),\"\")","v":0.95536638028458454},{"$f":"IF($C22<>\"\",AP22*EXP(-OFFSET('Forecasts Aggregate'!$C$17,$C22-$C$17,MATCH(AP$16,Ages,1))),\"\")","v":0.9532880319647562},{"$f":"IF($C22<>\"\",AQ22*EXP(-OFFSET('Forecasts Aggregate'!$C$17,$C22-$C$17,MATCH(AQ$16,Ages,1))),\"\")","v":0.95121420498022669},{"$f":"IF($C22<>\"\",AR22*EXP(-OFFSET('Forecasts Aggregate'!$C$17,$C22-$C$17,MATCH(AR$16,Ages,1))),\"\")","v":0.94870868999615898},{"$f":"IF($C22<>\"\",AS22*EXP(-OFFSET('Forecasts Aggregate'!$C$17,$C22-$C$17,MATCH(AS$16,Ages,1))),\"\")","v":0.94620977458272693},{"$f":"IF($C22<>\"\",AT22*EXP(-OFFSET('Forecasts Aggregate'!$C$17,$C22-$C$17,MATCH(AT$16,Ages,1))),\"\")","v":0.94371744135654512},{"$f":"IF($C22<>\"\",AU22*EXP(-OFFSET('Forecasts Aggregate'!$C$17,$C22-$C$17,MATCH(AU$16,Ages,1))),\"\")","v":0.9412316729800162},{"$f":"IF($C22<>\"\",AV22*EXP(-OFFSET('Forecasts Aggregate'!$C$17,$C22-$C$17,MATCH(AV$16,Ages,1))),\"\")","v":0.93875245216121062},{"$f":"IF($C22<>\"\",AW22*EXP(-OFFSET('Forecasts Aggregate'!$C$17,$C22-$C$17,MATCH(AW$16,Ages,1))),\"\")","v":0.93519156234212331},{"$f":"IF($C22<>\"\",AX22*EXP(-OFFSET('Forecasts Aggregate'!$C$17,$C22-$C$17,MATCH(AX$16,Ages,1))),\"\")","v":0.93164417974346936},{"$f":"IF($C22<>\"\",AY22*EXP(-OFFSET('Forecasts Aggregate'!$C$17,$C22-$C$17,MATCH(AY$16,Ages,1))),\"\")","v":0.9281102531294585},{"$f":"IF($C22<>\"\",AZ22*EXP(-OFFSET('Forecasts Aggregate'!$C$17,$C22-$C$17,MATCH(AZ$16,Ages,1))),\"\")","v":0.92458973145864887},{"$f":"IF($C22<>\"\",BA22*EXP(-OFFSET('Forecasts Aggregate'!$C$17,$C22-$C$17,MATCH(BA$16,Ages,1))),\"\")","v":0.92108256388320975},{"$f":"IF($C22<>\"\",BB22*EXP(-OFFSET('Forecasts Aggregate'!$C$17,$C22-$C$17,MATCH(BB$16,Ages,1))),\"\")","v":0.91545128539207699},{"$f":"IF($C22<>\"\",BC22*EXP(-OFFSET('Forecasts Aggregate'!$C$17,$C22-$C$17,MATCH(BC$16,Ages,1))),\"\")","v":0.90985443519075027},{"$f":"IF($C22<>\"\",BD22*EXP(-OFFSET('Forecasts Aggregate'!$C$17,$C22-$C$17,MATCH(BD$16,Ages,1))),\"\")","v":0.90429180279290033},{"$f":"IF($C22<>\"\",BE22*EXP(-OFFSET('Forecasts Aggregate'!$C$17,$C22-$C$17,MATCH(BE$16,Ages,1))),\"\")","v":0.89876317899906089},{"$f":"IF($C22<>\"\",BF22*EXP(-OFFSET('Forecasts Aggregate'!$C$17,$C22-$C$17,MATCH(BF$16,Ages,1))),\"\")","v":0.89326835588876119},{"$f":"IF($C22<>\"\",BG22*EXP(-OFFSET('Forecasts Aggregate'!$C$17,$C22-$C$17,MATCH(BG$16,Ages,1))),\"\")","v":0.88495735003190534},{"$f":"IF($C22<>\"\",BH22*EXP(-OFFSET('Forecasts Aggregate'!$C$17,$C22-$C$17,MATCH(BH$16,Ages,1))),\"\")","v":0.87672367011847663},{"$f":"IF($C22<>\"\",BI22*EXP(-OFFSET('Forecasts Aggregate'!$C$17,$C22-$C$17,MATCH(BI$16,Ages,1))),\"\")","v":0.86856659670468817},{"$f":"IF($C22<>\"\",BJ22*EXP(-OFFSET('Forecasts Aggregate'!$C$17,$C22-$C$17,MATCH(BJ$16,Ages,1))),\"\")","v":0.86048541704048775},{"$f":"IF($C22<>\"\",BK22*EXP(-OFFSET('Forecasts Aggregate'!$C$17,$C22-$C$17,MATCH(BK$16,Ages,1))),\"\")","v":0.85247942500727947},{"$f":"IF($C22<>\"\",BL22*EXP(-OFFSET('Forecasts Aggregate'!$C$17,$C22-$C$17,MATCH(BL$16,Ages,1))),\"\")","v":0.84130761646427399},{"$f":"IF($C22<>\"\",BM22*EXP(-OFFSET('Forecasts Aggregate'!$C$17,$C22-$C$17,MATCH(BM$16,Ages,1))),\"\")","v":0.83028221533294355},{"$f":"IF($C22<>\"\",BN22*EXP(-OFFSET('Forecasts Aggregate'!$C$17,$C22-$C$17,MATCH(BN$16,Ages,1))),\"\")","v":0.81940130293287838},{"$f":"IF($C22<>\"\",BO22*EXP(-OFFSET('Forecasts Aggregate'!$C$17,$C22-$C$17,MATCH(BO$16,Ages,1))),\"\")","v":0.80866298572812334},{"$f":"IF($C22<>\"\",BP22*EXP(-OFFSET('Forecasts Aggregate'!$C$17,$C22-$C$17,MATCH(BP$16,Ages,1))),\"\")","v":0.79806539499765772},{"$f":"IF($C22<>\"\",BQ22*EXP(-OFFSET('Forecasts Aggregate'!$C$17,$C22-$C$17,MATCH(BQ$16,Ages,1))),\"\")","v":0.78415639235715195},{"$f":"IF($C22<>\"\",BR22*EXP(-OFFSET('Forecasts Aggregate'!$C$17,$C22-$C$17,MATCH(BR$16,Ages,1))),\"\")","v":0.77048980137321743},{"$f":"IF($C22<>\"\",BS22*EXP(-OFFSET('Forecasts Aggregate'!$C$17,$C22-$C$17,MATCH(BS$16,Ages,1))),\"\")","v":0.75706139719862675},{"$f":"IF($C22<>\"\",BT22*EXP(-OFFSET('Forecasts Aggregate'!$C$17,$C22-$C$17,MATCH(BT$16,Ages,1))),\"\")","v":0.74386702861847853},{"$f":"IF($C22<>\"\",BU22*EXP(-OFFSET('Forecasts Aggregate'!$C$17,$C22-$C$17,MATCH(BU$16,Ages,1))),\"\")","v":0.73090261676690338},{"$f":"IF($C22<>\"\",BV22*EXP(-OFFSET('Forecasts Aggregate'!$C$17,$C22-$C$17,MATCH(BV$16,Ages,1))),\"\")","v":0.71184147694515876},{"$f":"IF($C22<>\"\",BW22*EXP(-OFFSET('Forecasts Aggregate'!$C$17,$C22-$C$17,MATCH(BW$16,Ages,1))),\"\")","v":0.69327743077579596},{"$f":"IF($C22<>\"\",BX22*EXP(-OFFSET('Forecasts Aggregate'!$C$17,$C22-$C$17,MATCH(BX$16,Ages,1))),\"\")","v":0.6751975146007364},{"$f":"IF($C22<>\"\",BY22*EXP(-OFFSET('Forecasts Aggregate'!$C$17,$C22-$C$17,MATCH(BY$16,Ages,1))),\"\")","v":0.65758910283990735},{"$f":"IF($C22<>\"\",BZ22*EXP(-OFFSET('Forecasts Aggregate'!$C$17,$C22-$C$17,MATCH(BZ$16,Ages,1))),\"\")","v":0.64043989917453792},{"$f":"IF($C22<>\"\",CA22*EXP(-OFFSET('Forecasts Aggregate'!$C$17,$C22-$C$17,MATCH(CA$16,Ages,1))),\"\")","v":0.61449792256360003},{"$f":"IF($C22<>\"\",CB22*EXP(-OFFSET('Forecasts Aggregate'!$C$17,$C22-$C$17,MATCH(CB$16,Ages,1))),\"\")","v":0.58960676454055749},{"$f":"IF($C22<>\"\",CC22*EXP(-OFFSET('Forecasts Aggregate'!$C$17,$C22-$C$17,MATCH(CC$16,Ages,1))),\"\")","v":0.56572386012583198},{"$f":"IF($C22<>\"\",CD22*EXP(-OFFSET('Forecasts Aggregate'!$C$17,$C22-$C$17,MATCH(CD$16,Ages,1))),\"\")","v":0.54280836849804659},{"$f":"IF($C22<>\"\",CE22*EXP(-OFFSET('Forecasts Aggregate'!$C$17,$C22-$C$17,MATCH(CE$16,Ages,1))),\"\")","v":0.52082110315441743},{"$f":"IF($C22<>\"\",CF22*EXP(-OFFSET('Forecasts Aggregate'!$C$17,$C22-$C$17,MATCH(CF$16,Ages,1))),\"\")","v":0.48664584637519231},{"$f":"IF($C22<>\"\",CG22*EXP(-OFFSET('Forecasts Aggregate'!$C$17,$C22-$C$17,MATCH(CG$16,Ages,1))),\"\")","v":0.4547131027523123},{"$f":"IF($C22<>\"\",CH22*EXP(-OFFSET('Forecasts Aggregate'!$C$17,$C22-$C$17,MATCH(CH$16,Ages,1))),\"\")","v":0.42487572298156395},{"$f":"IF($C22<>\"\",CI22*EXP(-OFFSET('Forecasts Aggregate'!$C$17,$C22-$C$17,MATCH(CI$16,Ages,1))),\"\")","v":0.39699621340675934},{"$f":"IF($C22<>\"\",CJ22*EXP(-OFFSET('Forecasts Aggregate'!$C$17,$C22-$C$17,MATCH(CJ$16,Ages,1))),\"\")","v":0.37094610243509724},{"$f":"IF($C22<>\"\",CK22*EXP(-OFFSET('Forecasts Aggregate'!$C$17,$C22-$C$17,MATCH(CK$16,Ages,1))),\"\")","v":0.33166812539203155},{"$f":"IF($C22<>\"\",CL22*EXP(-OFFSET('Forecasts Aggregate'!$C$17,$C22-$C$17,MATCH(CL$16,Ages,1))),\"\")","v":0.29654913390095866},{"$f":"IF($C22<>\"\",CM22*EXP(-OFFSET('Forecasts Aggregate'!$C$17,$C22-$C$17,MATCH(CM$16,Ages,1))),\"\")","v":0.26514874986392506},{"$f":"IF($C22<>\"\",CN22*EXP(-OFFSET('Forecasts Aggregate'!$C$17,$C22-$C$17,MATCH(CN$16,Ages,1))),\"\")","v":0.23707322503218758},{"$f":"IF($C22<>\"\",CO22*EXP(-OFFSET('Forecasts Aggregate'!$C$17,$C22-$C$17,MATCH(CO$16,Ages,1))),\"\")","v":0.21197050356076025},{"$f":"IF($C22<>\"\",CP22*EXP(-OFFSET('Forecasts Aggregate'!$C$17,$C22-$C$17,MATCH(CP$16,Ages,1))),\"\")","v":0.17404715238084698},{"$f":"IF($C22<>\"\",CQ22*EXP(-OFFSET('Forecasts Aggregate'!$C$17,$C22-$C$17,MATCH(CQ$16,Ages,1))),\"\")","v":0.14290861578860478},{"$f":"IF($C22<>\"\",CR22*EXP(-OFFSET('Forecasts Aggregate'!$C$17,$C22-$C$17,MATCH(CR$16,Ages,1))),\"\")","v":0.11734103194016116},{"$f":"IF($C22<>\"\",CS22*EXP(-OFFSET('Forecasts Aggregate'!$C$17,$C22-$C$17,MATCH(CS$16,Ages,1))),\"\")","v":9.6347709344196328E-2},{"$f":"IF($C22<>\"\",CT22*EXP(-OFFSET('Forecasts Aggregate'!$C$17,$C22-$C$17,MATCH(CT$16,Ages,1))),\"\")","v":7.9110273212933763E-2},{"$f":"IF($C22<>\"\",CU22*EXP(-OFFSET('Forecasts Aggregate'!$C$17,$C22-$C$17,MATCH(CU$16,Ages,1))),\"\")","v":5.6194338748300543E-2},{"$f":"IF($C22<>\"\",CV22*EXP(-OFFSET('Forecasts Aggregate'!$C$17,$C22-$C$17,MATCH(CV$16,Ages,1))),\"\")","v":3.9916480870432404E-2},{"$f":"IF($C22<>\"\",CW22*EXP(-OFFSET('Forecasts Aggregate'!$C$17,$C22-$C$17,MATCH(CW$16,Ages,1))),\"\")","v":2.8353842763703351E-2},{"$f":"IF($C22<>\"\",CX22*EXP(-OFFSET('Forecasts Aggregate'!$C$17,$C22-$C$17,MATCH(CX$16,Ages,1))),\"\")","v":2.0140563044081395E-2},{"$f":"IF($C22<>\"\",CY22*EXP(-OFFSET('Forecasts Aggregate'!$C$17,$C22-$C$17,MATCH(CY$16,Ages,1))),\"\")","v":1.4306430458586473E-2},{"$f":"IF($C22<>\"\",CZ22*EXP(-OFFSET('Forecasts Aggregate'!$C$17,$C22-$C$17,MATCH(CZ$16,Ages,1))),\"\")","v":1.0162275603636476E-2},{"$f":"IF($C22<>\"\",DA22*EXP(-OFFSET('Forecasts Aggregate'!$C$17,$C22-$C$17,MATCH(DA$16,Ages,1))),\"\")","v":7.2185613136142648E-3},{"$f":"IF($C22<>\"\",DB22*EXP(-OFFSET('Forecasts Aggregate'!$C$17,$C22-$C$17,MATCH(DB$16,Ages,1))),\"\")","v":5.1275550349925824E-3},{"$f":"IF($C22<>\"\",DC22*EXP(-OFFSET('Forecasts Aggregate'!$C$17,$C22-$C$17,MATCH(DC$16,Ages,1))),\"\")","v":3.6422521738911045E-3},{"$f":"IF($C22<>\"\",DD22*EXP(-OFFSET('Forecasts Aggregate'!$C$17,$C22-$C$17,MATCH(DD$16,Ages,1))),\"\")","v":2.5871981495433462E-3},{"$f":"IF($C22<>\"\",DE22*EXP(-OFFSET('Forecasts Aggregate'!$C$17,$C22-$C$17,MATCH(DE$16,Ages,1))),\"\")","v":1.8377624462640072E-3},{"$f":"IF($C22<>\"\",DF22*EXP(-OFFSET('Forecasts Aggregate'!$C$17,$C22-$C$17,MATCH(DF$16,Ages,1))),\"\")","v":1.3054163669274392E-3},{"$f":"IF($C22<>\"\",DG22*EXP(-OFFSET('Forecasts Aggregate'!$C$17,$C22-$C$17,MATCH(DG$16,Ages,1))),\"\")","v":9.2727539106391495E-4},{"$f":"IF($C22<>\"\",DH22*EXP(-OFFSET('Forecasts Aggregate'!$C$17,$C22-$C$17,MATCH(DH$16,Ages,1))),\"\")","v":6.5867080623214689E-4},{"$f":"IF($C22<>\"\",DI22*EXP(-OFFSET('Forecasts Aggregate'!$C$17,$C22-$C$17,MATCH(DI$16,Ages,1))),\"\")","v":4.678731207184623E-4},{"$f":"IF($C22<>\"\",DJ22*EXP(-OFFSET('Forecasts Aggregate'!$C$17,$C22-$C$17,MATCH(DJ$16,Ages,1))),\"\")","v":3.3234394938961388E-4},null,2021,76.335437451525635,18.390515135271311]
[null,null,2022,1,{"$f":"IF($C23<>\"\",D23*EXP(-OFFSET('Forecasts Aggregate'!$C$17,$C23-$C$17,MATCH(D$16,Ages,1))),\"\")","v":0.99421714876780698},{"$f":"IF($C23<>\"\",E23*EXP(-OFFSET('Forecasts Aggregate'!$C$17,$C23-$C$17,MATCH(E$16,Ages,1))),\"\")","v":0.99393661092805374},{"$f":"IF($C23<>\"\",F23*EXP(-OFFSET('Forecasts Aggregate'!$C$17,$C23-$C$17,MATCH(F$16,Ages,1))),\"\")","v":0.99365615224754611},{"$f":"IF($C23<>\"\",G23*EXP(-OFFSET('Forecasts Aggregate'!$C$17,$C23-$C$17,MATCH(G$16,Ages,1))),\"\")","v":0.99337577270394783},{"$f":"IF($C23<>\"\",H23*EXP(-OFFSET('Forecasts Aggregate'!$C$17,$C23-$C$17,MATCH(H$16,Ages,1))),\"\")","v":0.99309547227492889},{"$f":"IF($C23<>\"\",I23*EXP(-OFFSET('Forecasts Aggregate'!$C$17,$C23-$C$17,MATCH(I$16,Ages,1))),\"\")","v":0.9929610942847189},{"$f":"IF($C23<>\"\",J23*EXP(-OFFSET('Forecasts Aggregate'!$C$17,$C23-$C$17,MATCH(J$16,Ages,1))),\"\")","v":0.99282673447749814},{"$f":"IF($C23<>\"\",K23*EXP(-OFFSET('Forecasts Aggregate'!$C$17,$C23-$C$17,MATCH(K$16,Ages,1))),\"\")","v":0.99269239285080624},{"$f":"IF($C23<>\"\",L23*EXP(-OFFSET('Forecasts Aggregate'!$C$17,$C23-$C$17,MATCH(L$16,Ages,1))),\"\")","v":0.99255806940218305},{"$f":"IF($C23<>\"\",M23*EXP(-OFFSET('Forecasts Aggregate'!$C$17,$C23-$C$17,MATCH(M$16,Ages,1))),\"\")","v":0.99242376412916899},{"$f":"IF($C23<>\"\",N23*EXP(-OFFSET('Forecasts Aggregate'!$C$17,$C23-$C$17,MATCH(N$16,Ages,1))),\"\")","v":0.99226038374605185},{"$f":"IF($C23<>\"\",O23*EXP(-OFFSET('Forecasts Aggregate'!$C$17,$C23-$C$17,MATCH(O$16,Ages,1))),\"\")","v":0.99209703025986173},{"$f":"IF($C23<>\"\",P23*EXP(-OFFSET('Forecasts Aggregate'!$C$17,$C23-$C$17,MATCH(P$16,Ages,1))),\"\")","v":0.99193370366617062},{"$f":"IF($C23<>\"\",Q23*EXP(-OFFSET('Forecasts Aggregate'!$C$17,$C23-$C$17,MATCH(Q$16,Ages,1))),\"\")","v":0.99177040396055138},{"$f":"IF($C23<>\"\",R23*EXP(-OFFSET('Forecasts Aggregate'!$C$17,$C23-$C$17,MATCH(R$16,Ages,1))),\"\")","v":0.99160713113857746},{"$f":"IF($C23<>\"\",S23*EXP(-OFFSET('Forecasts Aggregate'!$C$17,$C23-$C$17,MATCH(S$16,Ages,1))),\"\")","v":0.99089300947953596},{"$f":"IF($C23<>\"\",T23*EXP(-OFFSET('Forecasts Aggregate'!$C$17,$C23-$C$17,MATCH(T$16,Ages,1))),\"\")","v":0.99017940210657396},{"$f":"IF($C23<>\"\",U23*EXP(-OFFSET('Forecasts Aggregate'!$C$17,$C23-$C$17,MATCH(U$16,Ages,1))),\"\")","v":0.98946630864932028},{"$f":"IF($C23<>\"\",V23*EXP(-OFFSET('Forecasts Aggregate'!$C$17,$C23-$C$17,MATCH(V$16,Ages,1))),\"\")","v":0.9887537287376702},{"$f":"IF($C23<>\"\",W23*EXP(-OFFSET('Forecasts Aggregate'!$C$17,$C23-$C$17,MATCH(W$16,Ages,1))),\"\")","v":0.98804166200178578},{"$f":"IF($C23<>\"\",X23*EXP(-OFFSET('Forecasts Aggregate'!$C$17,$C23-$C$17,MATCH(X$16,Ages,1))),\"\")","v":0.98653151995472632},{"$f":"IF($C23<>\"\",Y23*EXP(-OFFSET('Forecasts Aggregate'!$C$17,$C23-$C$17,MATCH(Y$16,Ages,1))),\"\")","v":0.98502368603807267},{"$f":"IF($C23<>\"\",Z23*EXP(-OFFSET('Forecasts Aggregate'!$C$17,$C23-$C$17,MATCH(Z$16,Ages,1))),\"\")","v":0.98351815672403353},{"$f":"IF($C23<>\"\",AA23*EXP(-OFFSET('Forecasts Aggregate'!$C$17,$C23-$C$17,MATCH(AA$16,Ages,1))),\"\")","v":0.98201492849020966},{"$f":"IF($C23<>\"\",AB23*EXP(-OFFSET('Forecasts Aggregate'!$C$17,$C23-$C$17,MATCH(AB$16,Ages,1))),\"\")","v":0.98051399781958526},{"$f":"IF($C23<>\"\",AC23*EXP(-OFFSET('Forecasts Aggregate'!$C$17,$C23-$C$17,MATCH(AC$16,Ages,1))),\"\")","v":0.97865313713909552},{"$f":"IF($C23<>\"\",AD23*EXP(-OFFSET('Forecasts Aggregate'!$C$17,$C23-$C$17,MATCH(AD$16,Ages,1))),\"\")","v":0.97679580807822552},{"$f":"IF($C23<>\"\",AE23*EXP(-OFFSET('Forecasts Aggregate'!$C$17,$C23-$C$17,MATCH(AE$16,Ages,1))),\"\")","v":0.97494200393451913},{"$f":"IF($C23<>\"\",AF23*EXP(-OFFSET('Forecasts Aggregate'!$C$17,$C23-$C$17,MATCH(AF$16,Ages,1))),\"\")","v":0.97309171801824046},{"$f":"IF($C23<>\"\",AG23*EXP(-OFFSET('Forecasts Aggregate'!$C$17,$C23-$C$17,MATCH(AG$16,Ages,1))),\"\")","v":0.97124494365234959},{"$f":"IF($C23<>\"\",AH23*EXP(-OFFSET('Forecasts Aggregate'!$C$17,$C23-$C$17,MATCH(AH$16,Ages,1))),\"\")","v":0.96919404290222511},{"$f":"IF($C23<>\"\",AI23*EXP(-OFFSET('Forecasts Aggregate'!$C$17,$C23-$C$17,MATCH(AI$16,Ages,1))),\"\")","v":0.96714747287620306},{"$f":"IF($C23<>\"\",AJ23*EXP(-OFFSET('Forecasts Aggregate'!$C$17,$C23-$C$17,MATCH(AJ$16,Ages,1))),\"\")","v":0.96510522442943758},{"$f":"IF($C23<>\"\",AK23*EXP(-OFFSET('Forecasts Aggregate'!$C$17,$C23-$C$17,MATCH(AK$16,Ages,1))),\"\")","v":0.96306728843639333},{"$f":"IF($C23<>\"\",AL23*EXP(-OFFSET('Forecasts Aggregate'!$C$17,$C23-$C$17,MATCH(AL$16,Ages,1))),\"\")","v":0.96103365579080446},{"$f":"IF($C23<>\"\",AM23*EXP(-OFFSET('Forecasts Aggregate'!$C$17,$C23-$C$17,MATCH(AM$16,Ages,1))),\"\")","v":0.95892746578559485},{"$f":"IF($C23<>\"\",AN23*EXP(-OFFSET('Forecasts Aggregate'!$C$17,$C23-$C$17,MATCH(AN$16,Ages,1))),\"\")","v":0.95682589168151555},{"$f":"IF($C23<>\"\",AO23*EXP(-OFFSET('Forecasts Aggregate'!$C$17,$C23-$C$17,MATCH(AO$16,Ages,1))),\"\")","v":0.95472892336241211},{"$f":"IF($C23<>\"\",AP23*EXP(-OFFSET('Forecasts Aggregate'!$C$17,$C23-$C$17,MATCH(AP$16,Ages,1))),\"\")","v":0.95263655073430076},{"$f":"IF($C23<>\"\",AQ23*EXP(-OFFSET('Forecasts Aggregate'!$C$17,$C23-$C$17,MATCH(AQ$16,Ages,1))),\"\")","v":0.95054876372531927},{"$f":"IF($C23<>\"\",AR23*EXP(-OFFSET('Forecasts Aggregate'!$C$17,$C23-$C$17,MATCH(AR$16,Ages,1))),\"\")","v":0.94805089658551489},{"$f":"IF($C23<>\"\",AS23*EXP(-OFFSET('Forecasts Aggregate'!$C$17,$C23-$C$17,MATCH(AS$16,Ages,1))),\"\")","v":0.94555959338065654},{"$f":"IF($C23<>\"\",AT23*EXP(-OFFSET('Forecasts Aggregate'!$C$17,$C23-$C$17,MATCH(AT$16,Ages,1))),\"\")","v":0.94307483686193172},{"$f":"IF($C23<>\"\",AU23*EXP(-OFFSET('Forecasts Aggregate'!$C$17,$C23-$C$17,MATCH(AU$16,Ages,1))),\"\")","v":0.94059660982585458},{"$f":"IF($C23<>\"\",AV23*EXP(-OFFSET('Forecasts Aggregate'!$C$17,$C23-$C$17,MATCH(AV$16,Ages,1))),\"\")","v":0.93812489511414687},{"$f":"IF($C23<>\"\",AW23*EXP(-OFFSET('Forecasts Aggregate'!$C$17,$C23-$C$17,MATCH(AW$16,Ages,1))),\"\")","v":0.93457778586180207},{"$f":"IF($C23<>\"\",AX23*EXP(-OFFSET('Forecasts Aggregate'!$C$17,$C23-$C$17,MATCH(AX$16,Ages,1))),\"\")","v":0.93104408845271358},{"$f":"IF($C23<>\"\",AY23*EXP(-OFFSET('Forecasts Aggregate'!$C$17,$C23-$C$17,MATCH(AY$16,Ages,1))),\"\")","v":0.92752375217585814},{"$f":"IF($C23<>\"\",AZ23*EXP(-OFFSET('Forecasts Aggregate'!$C$17,$C23-$C$17,MATCH(AZ$16,Ages,1))),\"\")","v":0.92401672651195421},{"$f":"IF($C23<>\"\",BA23*EXP(-OFFSET('Forecasts Aggregate'!$C$17,$C23-$C$17,MATCH(BA$16,Ages,1))),\"\")","v":0.92052296113273668},{"$f":"IF($C23<>\"\",BB23*EXP(-OFFSET('Forecasts Aggregate'!$C$17,$C23-$C$17,MATCH(BB$16,Ages,1))),\"\")","v":0.91488686991141011},{"$f":"IF($C23<>\"\",BC23*EXP(-OFFSET('Forecasts Aggregate'!$C$17,$C23-$C$17,MATCH(BC$16,Ages,1))),\"\")","v":0.90928528681817633},{"$f":"IF($C23<>\"\",BD23*EXP(-OFFSET('Forecasts Aggregate'!$C$17,$C23-$C$17,MATCH(BD$16,Ages,1))),\"\")","v":0.90371800056992124},{"$f":"IF($C23<>\"\",BE23*EXP(-OFFSET('Forecasts Aggregate'!$C$17,$C23-$C$17,MATCH(BE$16,Ages,1))),\"\")","v":0.89818480117715516},{"$f":"IF($C23<>\"\",BF23*EXP(-OFFSET('Forecasts Aggregate'!$C$17,$C23-$C$17,MATCH(BF$16,Ages,1))),\"\")","v":0.89268547993609215},{"$f":"IF($C23<>\"\",BG23*EXP(-OFFSET('Forecasts Aggregate'!$C$17,$C23-$C$17,MATCH(BG$16,Ages,1))),\"\")","v":0.88435925209241073},{"$f":"IF($C23<>\"\",BH23*EXP(-OFFSET('Forecasts Aggregate'!$C$17,$C23-$C$17,MATCH(BH$16,Ages,1))),\"\")","v":0.87611068437837525},{"$f":"IF($C23<>\"\",BI23*EXP(-OFFSET('Forecasts Aggregate'!$C$17,$C23-$C$17,MATCH(BI$16,Ages,1))),\"\")","v":0.86793905244487468},{"$f":"IF($C23<>\"\",BJ23*EXP(-OFFSET('Forecasts Aggregate'!$C$17,$C23-$C$17,MATCH(BJ$16,Ages,1))),\"\")","v":0.85984363869892422},{"$f":"IF($C23<>\"\",BK23*EXP(-OFFSET('Forecasts Aggregate'!$C$17,$C23-$C$17,MATCH(BK$16,Ages,1))),\"\")","v":0.85182373224064978},{"$f":"IF($C23<>\"\",BL23*EXP(-OFFSET('Forecasts Aggregate'!$C$17,$C23-$C$17,MATCH(BL$16,Ages,1))),\"\")","v":0.8406818576704097},{"$f":"IF($C23<>\"\",BM23*EXP(-OFFSET('Forecasts Aggregate'!$C$17,$C23-$C$17,MATCH(BM$16,Ages,1))),\"\")","v":0.82968571908314392},{"$f":"IF($C23<>\"\",BN23*EXP(-OFFSET('Forecasts Aggregate'!$C$17,$C23-$C$17,MATCH(BN$16,Ages,1))),\"\")","v":0.81883341024874734},{"$f":"IF($C23<>\"\",BO23*EXP(-OFFSET('Forecasts Aggregate'!$C$17,$C23-$C$17,MATCH(BO$16,Ages,1))),\"\")","v":0.80812304987064976},{"$f":"IF($C23<>\"\",BP23*EXP(-OFFSET('Forecasts Aggregate'!$C$17,$C23-$C$17,MATCH(BP$16,Ages,1))),\"\")","v":0.79755278125968443},{"$f":"IF($C23<>\"\",BQ23*EXP(-OFFSET('Forecasts Aggregate'!$C$17,$C23-$C$17,MATCH(BQ$16,Ages,1))),\"\")","v":0.78375619936584162},{"$f":"IF($C23<>\"\",BR23*EXP(-OFFSET('Forecasts Aggregate'!$C$17,$C23-$C$17,MATCH(BR$16,Ages,1))),\"\")","v":0.77019827963508836},{"$f":"IF($C23<>\"\",BS23*EXP(-OFFSET('Forecasts Aggregate'!$C$17,$C23-$C$17,MATCH(BS$16,Ages,1))),\"\")","v":0.75687489353555137},{"$f":"IF($C23<>\"\",BT23*EXP(-OFFSET('Forecasts Aggregate'!$C$17,$C23-$C$17,MATCH(BT$16,Ages,1))),\"\")","v":0.74378198395336192},{"$f":"IF($C23<>\"\",BU23*EXP(-OFFSET('Forecasts Aggregate'!$C$17,$C23-$C$17,MATCH(BU$16,Ages,1))),\"\")","v":0.73091556395722102},{"$f":"IF($C23<>\"\",BV23*EXP(-OFFSET('Forecasts Aggregate'!$C$17,$C23-$C$17,MATCH(BV$16,Ages,1))),\"\")","v":0.71201332582843779},{"$f":"IF($C23<>\"\",BW23*EXP(-OFFSET('Forecasts Aggregate'!$C$17,$C23-$C$17,MATCH(BW$16,Ages,1))),\"\")","v":0.6935999192745943},{"$f":"IF($C23<>\"\",BX23*EXP(-OFFSET('Forecasts Aggregate'!$C$17,$C23-$C$17,MATCH(BX$16,Ages,1))),\"\")","v":0.67566270260177963},{"$f":"IF($C23<>\"\",BY23*EXP(-OFFSET('Forecasts Aggregate'!$C$17,$C23-$C$17,MATCH(BY$16,Ages,1))),\"\")","v":0.65818936104346037},{"$f":"IF($C23<>\"\",BZ23*EXP(-OFFSET('Forecasts Aggregate'!$C$17,$C23-$C$17,MATCH(BZ$16,Ages,1))),\"\")","v":0.64116789830579823},{"$f":"IF($C23<>\"\",CA23*EXP(-OFFSET('Forecasts Aggregate'!$C$17,$C23-$C$17,MATCH(CA$16,Ages,1))),\"\")","v":0.6153845174384357},{"$f":"IF($C23<>\"\",CB23*EXP(-OFFSET('Forecasts Aggregate'!$C$17,$C23-$C$17,MATCH(CB$16,Ages,1))),\"\")","v":0.59063796753330333},{"$f":"IF($C23<>\"\",CC23*EXP(-OFFSET('Forecasts Aggregate'!$C$17,$C23-$C$17,MATCH(CC$16,Ages,1))),\"\")","v":0.56688655435139612},{"$f":"IF($C23<>\"\",CD23*EXP(-OFFSET('Forecasts Aggregate'!$C$17,$C23-$C$17,MATCH(CD$16,Ages,1))),\"\")","v":0.54409026031039631},{"$f":"IF($C23<>\"\",CE23*EXP(-OFFSET('Forecasts Aggregate'!$C$17,$C23-$C$17,MATCH(CE$16,Ages,1))),\"\")","v":0.5222106770610262},{"$f":"IF($C23<>\"\",CF23*EXP(-OFFSET('Forecasts Aggregate'!$C$17,$C23-$C$17,MATCH(CF$16,Ages,1))),\"\")","v":0.48817323614632452},{"$f":"IF($C23<>\"\",CG23*EXP(-OFFSET('Forecasts Aggregate'!$C$17,$C23-$C$17,MATCH(CG$16,Ages,1))),\"\")","v":0.456354339269332},{"$f":"IF($C23<>\"\",CH23*EXP(-OFFSET('Forecasts Aggregate'!$C$17,$C23-$C$17,MATCH(CH$16,Ages,1))),\"\")","v":0.42660938279608013},{"$f":"IF($C23<>\"\",CI23*EXP(-OFFSET('Forecasts Aggregate'!$C$17,$C23-$C$17,MATCH(CI$16,Ages,1))),\"\")","v":0.39880318828795441},{"$f":"IF($C23<>\"\",CJ23*EXP(-OFFSET('Forecasts Aggregate'!$C$17,$C23-$C$17,MATCH(CJ$16,Ages,1))),\"\")","v":0.37280938817199166},{"$f":"IF($C23<>\"\",CK23*EXP(-OFFSET('Forecasts Aggregate'!$C$17,$C23-$C$17,MATCH(CK$16,Ages,1))),\"\")","v":0.33356722103763936},{"$f":"IF($C23<>\"\",CL23*EXP(-OFFSET('Forecasts Aggregate'!$C$17,$C23-$C$17,MATCH(CL$16,Ages,1))),\"\")","v":0.29845571082947475},{"$f":"IF($C23<>\"\",CM23*EXP(-OFFSET('Forecasts Aggregate'!$C$17,$C23-$C$17,MATCH(CM$16,Ages,1))),\"\")","v":0.26704006181913131},{"$f":"IF($C23<>\"\",CN23*EXP(-OFFSET('Forecasts Aggregate'!$C$17,$C23-$C$17,MATCH(CN$16,Ages,1))),\"\")","v":0.23893124516926831},{"$f":"IF($C23<>\"\",CO23*EXP(-OFFSET('Forecasts Aggregate'!$C$17,$C23-$C$17,MATCH(CO$16,Ages,1))),\"\")","v":0.21378118147981601},{"$f":"IF($C23<>\"\",CP23*EXP(-OFFSET('Forecasts Aggregate'!$C$17,$C23-$C$17,MATCH(CP$16,Ages,1))),\"\")","v":0.17564599243379658},{"$f":"IF($C23<>\"\",CQ23*EXP(-OFFSET('Forecasts Aggregate'!$C$17,$C23-$C$17,MATCH(CQ$16,Ages,1))),\"\")","v":0.14431351929340025},{"$f":"IF($C23<>\"\",CR23*EXP(-OFFSET('Forecasts Aggregate'!$C$17,$C23-$C$17,MATCH(CR$16,Ages,1))),\"\")","v":0.11857026489628769},{"$f":"IF($C23<>\"\",CS23*EXP(-OFFSET('Forecasts Aggregate'!$C$17,$C23-$C$17,MATCH(CS$16,Ages,1))),\"\")","v":9.7419200823403218E-2},{"$f":"IF($C23<>\"\",CT23*EXP(-OFFSET('Forecasts Aggregate'!$C$17,$C23-$C$17,MATCH(CT$16,Ages,1))),\"\")","v":8.004115279131592E-2},{"$f":"IF($C23<>\"\",CU23*EXP(-OFFSET('Forecasts Aggregate'!$C$17,$C23-$C$17,MATCH(CU$16,Ages,1))),\"\")","v":5.686238868197261E-2},{"$f":"IF($C23<>\"\",CV23*EXP(-OFFSET('Forecasts Aggregate'!$C$17,$C23-$C$17,MATCH(CV$16,Ages,1))),\"\")","v":4.0395860552504784E-2},{"$f":"IF($C23<>\"\",CW23*EXP(-OFFSET('Forecasts Aggregate'!$C$17,$C23-$C$17,MATCH(CW$16,Ages,1))),\"\")","v":2.8697801615477306E-2},{"$f":"IF($C23<>\"\",CX23*EXP(-OFFSET('Forecasts Aggregate'!$C$17,$C23-$C$17,MATCH(CX$16,Ages,1))),\"\")","v":2.0387331927014141E-2},{"$f":"IF($C23<>\"\",CY23*EXP(-OFFSET('Forecasts Aggregate'!$C$17,$C23-$C$17,MATCH(CY$16,Ages,1))),\"\")","v":1.4483454470536351E-2},{"$f":"IF($C23<>\"\",CZ23*EXP(-OFFSET('Forecasts Aggregate'!$C$17,$C23-$C$17,MATCH(CZ$16,Ages,1))),\"\")","v":1.0289254825058498E-2},{"$f":"IF($C23<>\"\",DA23*EXP(-OFFSET('Forecasts Aggregate'!$C$17,$C23-$C$17,MATCH(DA$16,Ages,1))),\"\")","v":7.3096349403630268E-3},{"$f":"IF($C23<>\"\",DB23*EXP(-OFFSET('Forecasts Aggregate'!$C$17,$C23-$C$17,MATCH(DB$16,Ages,1))),\"\")","v":5.1928700250722199E-3},{"$f":"IF($C23<>\"\",DC23*EXP(-OFFSET('Forecasts Aggregate'!$C$17,$C23-$C$17,MATCH(DC$16,Ages,1))),\"\")","v":3.6890897175166346E-3},{"$f":"IF($C23<>\"\",DD23*EXP(-OFFSET('Forecasts Aggregate'!$C$17,$C23-$C$17,MATCH(DD$16,Ages,1))),\"\")","v":2.6207825110542201E-3},{"$f":"IF($C23<>\"\",DE23*EXP(-OFFSET('Forecasts Aggregate'!$C$17,$C23-$C$17,MATCH(DE$16,Ages,1))),\"\")","v":1.8618416726582882E-3},{"$f":"IF($C23<>\"\",DF23*EXP(-OFFSET('Forecasts Aggregate'!$C$17,$C23-$C$17,MATCH(DF$16,Ages,1))),\"\")","v":1.32267916144351E-3},{"$f":"IF($C23<>\"\",DG23*EXP(-OFFSET('Forecasts Aggregate'!$C$17,$C23-$C$17,MATCH(DG$16,Ages,1))),\"\")","v":9.3965034181399832E-4},{"$f":"IF($C23<>\"\",DH23*EXP(-OFFSET('Forecasts Aggregate'!$C$17,$C23-$C$17,MATCH(DH$16,Ages,1))),\"\")","v":6.675411472481063E-4},{"$f":"IF($C23<>\"\",DI23*EXP(-OFFSET('Forecasts Aggregate'!$C$17,$C23-$C$17,MATCH(DI$16,Ages,1))),\"\")","v":4.7423085315870153E-4},{"$f":"IF($C23<>\"\",DJ23*EXP(-OFFSET('Forecasts Aggregate'!$C$17,$C23-$C$17,MATCH(DJ$16,Ages,1))),\"\")","v":3.369004338005891E-4},null,2022,76.348513420007436,18.444162240539892]
[null,null,2023,1,{"$f":"IF($C24<>\"\",D24*EXP(-OFFSET('Forecasts Aggregate'!$C$17,$C24-$C$17,MATCH(D$16,Ages,1))),\"\")","v":0.99428989277886048},{"$f":"IF($C24<>\"\",E24*EXP(-OFFSET('Forecasts Aggregate'!$C$17,$C24-$C$17,MATCH(E$16,Ages,1))),\"\")","v":0.99401031482030455},{"$f":"IF($C24<>\"\",F24*EXP(-OFFSET('Forecasts Aggregate'!$C$17,$C24-$C$17,MATCH(F$16,Ages,1))),\"\")","v":0.99373081547447062},{"$f":"IF($C24<>\"\",G24*EXP(-OFFSET('Forecasts Aggregate'!$C$17,$C24-$C$17,MATCH(G$16,Ages,1))),\"\")","v":0.99345139471925403},{"$f":"IF($C24<>\"\",H24*EXP(-OFFSET('Forecasts Aggregate'!$C$17,$C24-$C$17,MATCH(H$16,Ages,1))),\"\")","v":0.99317205253255636},{"$f":"IF($C24<>\"\",I24*EXP(-OFFSET('Forecasts Aggregate'!$C$17,$C24-$C$17,MATCH(I$16,Ages,1))),\"\")","v":0.99303734964490786},{"$f":"IF($C24<>\"\",J24*EXP(-OFFSET('Forecasts Aggregate'!$C$17,$C24-$C$17,MATCH(J$16,Ages,1))),\"\")","v":0.9929026650268713},{"$f":"IF($C24<>\"\",K24*EXP(-OFFSET('Forecasts Aggregate'!$C$17,$C24-$C$17,MATCH(K$16,Ages,1))),\"\")","v":0.99276799867596865},{"$f":"IF($C24<>\"\",L24*EXP(-OFFSET('Forecasts Aggregate'!$C$17,$C24-$C$17,MATCH(L$16,Ages,1))),\"\")","v":0.99263335058972246},{"$f":"IF($C24<>\"\",M24*EXP(-OFFSET('Forecasts Aggregate'!$C$17,$C24-$C$17,MATCH(M$16,Ages,1))),\"\")","v":0.9924987207656556},{"$f":"IF($C24<>\"\",N24*EXP(-OFFSET('Forecasts Aggregate'!$C$17,$C24-$C$17,MATCH(N$16,Ages,1))),\"\")","v":0.99233534717234861},{"$f":"IF($C24<>\"\",O24*EXP(-OFFSET('Forecasts Aggregate'!$C$17,$C24-$C$17,MATCH(O$16,Ages,1))),\"\")","v":0.99217200047170195},{"$f":"IF($C24<>\"\",P24*EXP(-OFFSET('Forecasts Aggregate'!$C$17,$C24-$C$17,MATCH(P$16,Ages,1))),\"\")","v":0.99200868065928893},{"$f":"IF($C24<>\"\",Q24*EXP(-OFFSET('Forecasts Aggregate'!$C$17,$C24-$C$17,MATCH(Q$16,Ages,1))),\"\")","v":0.99184538773068343},{"$f":"IF($C24<>\"\",R24*EXP(-OFFSET('Forecasts Aggregate'!$C$17,$C24-$C$17,MATCH(R$16,Ages,1))),\"\")","v":0.99168212168146019},{"$f":"IF($C24<>\"\",S24*EXP(-OFFSET('Forecasts Aggregate'!$C$17,$C24-$C$17,MATCH(S$16,Ages,1))),\"\")","v":0.99096241868224966},{"$f":"IF($C24<>\"\",T24*EXP(-OFFSET('Forecasts Aggregate'!$C$17,$C24-$C$17,MATCH(T$16,Ages,1))),\"\")","v":0.99024323800001524},{"$f":"IF($C24<>\"\",U24*EXP(-OFFSET('Forecasts Aggregate'!$C$17,$C24-$C$17,MATCH(U$16,Ages,1))),\"\")","v":0.98952457925569082},{"$f":"IF($C24<>\"\",V24*EXP(-OFFSET('Forecasts Aggregate'!$C$17,$C24-$C$17,MATCH(V$16,Ages,1))),\"\")","v":0.98880644207048529},{"$f":"IF($C24<>\"\",W24*EXP(-OFFSET('Forecasts Aggregate'!$C$17,$C24-$C$17,MATCH(W$16,Ages,1))),\"\")","v":0.98808882606588266},{"$f":"IF($C24<>\"\",X24*EXP(-OFFSET('Forecasts Aggregate'!$C$17,$C24-$C$17,MATCH(X$16,Ages,1))),\"\")","v":0.98655031042193153},{"$f":"IF($C24<>\"\",Y24*EXP(-OFFSET('Forecasts Aggregate'!$C$17,$C24-$C$17,MATCH(Y$16,Ages,1))),\"\")","v":0.98501419034235094},{"$f":"IF($C24<>\"\",Z24*EXP(-OFFSET('Forecasts Aggregate'!$C$17,$C24-$C$17,MATCH(Z$16,Ages,1))),\"\")","v":0.9834804620970985},{"$f":"IF($C24<>\"\",AA24*EXP(-OFFSET('Forecasts Aggregate'!$C$17,$C24-$C$17,MATCH(AA$16,Ages,1))),\"\")","v":0.98194912196193962},{"$f":"IF($C24<>\"\",AB24*EXP(-OFFSET('Forecasts Aggregate'!$C$17,$C24-$C$17,MATCH(AB$16,Ages,1))),\"\")","v":0.98042016621843864},{"$f":"IF($C24<>\"\",AC24*EXP(-OFFSET('Forecasts Aggregate'!$C$17,$C24-$C$17,MATCH(AC$16,Ages,1))),\"\")","v":0.97850429702181108},{"$f":"IF($C24<>\"\",AD24*EXP(-OFFSET('Forecasts Aggregate'!$C$17,$C24-$C$17,MATCH(AD$16,Ages,1))),\"\")","v":0.97659217168409729},{"$f":"IF($C24<>\"\",AE24*EXP(-OFFSET('Forecasts Aggregate'!$C$17,$C24-$C$17,MATCH(AE$16,Ages,1))),\"\")","v":0.97468378288930757},{"$f":"IF($C24<>\"\",AF24*EXP(-OFFSET('Forecasts Aggregate'!$C$17,$C24-$C$17,MATCH(AF$16,Ages,1))),\"\")","v":0.97277912333574834},{"$f":"IF($C24<>\"\",AG24*EXP(-OFFSET('Forecasts Aggregate'!$C$17,$C24-$C$17,MATCH(AG$16,Ages,1))),\"\")","v":0.97087818573599471},{"$f":"IF($C24<>\"\",AH24*EXP(-OFFSET('Forecasts Aggregate'!$C$17,$C24-$C$17,MATCH(AH$16,Ages,1))),\"\")","v":0.96877106547144187},{"$f":"IF($C24<>\"\",AI24*EXP(-OFFSET('Forecasts Aggregate'!$C$17,$C24-$C$17,MATCH(AI$16,Ages,1))),\"\")","v":0.96666851834065026},{"$f":"IF($C24<>\"\",AJ24*EXP(-OFFSET('Forecasts Aggregate'!$C$17,$C24-$C$17,MATCH(AJ$16,Ages,1))),\"\")","v":0.96457053441843787},{"$f":"IF($C24<>\"\",AK24*EXP(-OFFSET('Forecasts Aggregate'!$C$17,$C24-$C$17,MATCH(AK$16,Ages,1))),\"\")","v":0.96247710380116336},{"$f":"IF($C24<>\"\",AL24*EXP(-OFFSET('Forecasts Aggregate'!$C$17,$C24-$C$17,MATCH(AL$16,Ages,1))),\"\")","v":0.96038821660667961},{"$f":"IF($C24<>\"\",AM24*EXP(-OFFSET('Forecasts Aggregate'!$C$17,$C24-$C$17,MATCH(AM$16,Ages,1))),\"\")","v":0.95826674869156847},{"$f":"IF($C24<>\"\",AN24*EXP(-OFFSET('Forecasts Aggregate'!$C$17,$C24-$C$17,MATCH(AN$16,Ages,1))),\"\")","v":0.95614996703357402},{"$f":"IF($C24<>\"\",AO24*EXP(-OFFSET('Forecasts Aggregate'!$C$17,$C24-$C$17,MATCH(AO$16,Ages,1))),\"\")","v":0.95403786128089896},{"$f":"IF($C24<>\"\",AP24*EXP(-OFFSET('Forecasts Aggregate'!$C$17,$C24-$C$17,MATCH(AP$16,Ages,1))),\"\")","v":0.95193042110461279},{"$f":"IF($C24<>\"\",AQ24*EXP(-OFFSET('Forecasts Aggregate'!$C$17,$C24-$C$17,MATCH(AQ$16,Ages,1))),\"\")","v":0.94982763619860144},{"$f":"IF($C24<>\"\",AR24*EXP(-OFFSET('Forecasts Aggregate'!$C$17,$C24-$C$17,MATCH(AR$16,Ages,1))),\"\")","v":0.94733698342335304},{"$f":"IF($C24<>\"\",AS24*EXP(-OFFSET('Forecasts Aggregate'!$C$17,$C24-$C$17,MATCH(AS$16,Ages,1))),\"\")","v":0.9448528616764833},{"$f":"IF($C24<>\"\",AT24*EXP(-OFFSET('Forecasts Aggregate'!$C$17,$C24-$C$17,MATCH(AT$16,Ages,1))),\"\")","v":0.9423752538322282},{"$f":"IF($C24<>\"\",AU24*EXP(-OFFSET('Forecasts Aggregate'!$C$17,$C24-$C$17,MATCH(AU$16,Ages,1))),\"\")","v":0.93990414280973111},{"$f":"IF($C24<>\"\",AV24*EXP(-OFFSET('Forecasts Aggregate'!$C$17,$C24-$C$17,MATCH(AV$16,Ages,1))),\"\")","v":0.93743951157292527},{"$f":"IF($C24<>\"\",AW24*EXP(-OFFSET('Forecasts Aggregate'!$C$17,$C24-$C$17,MATCH(AW$16,Ages,1))),\"\")","v":0.93390577727857771},{"$f":"IF($C24<>\"\",AX24*EXP(-OFFSET('Forecasts Aggregate'!$C$17,$C24-$C$17,MATCH(AX$16,Ages,1))),\"\")","v":0.93038536360695723},{"$f":"IF($C24<>\"\",AY24*EXP(-OFFSET('Forecasts Aggregate'!$C$17,$C24-$C$17,MATCH(AY$16,Ages,1))),\"\")","v":0.92687822034517986},{"$f":"IF($C24<>\"\",AZ24*EXP(-OFFSET('Forecasts Aggregate'!$C$17,$C24-$C$17,MATCH(AZ$16,Ages,1))),\"\")","v":0.92338429746964212},{"$f":"IF($C24<>\"\",BA24*EXP(-OFFSET('Forecasts Aggregate'!$C$17,$C24-$C$17,MATCH(BA$16,Ages,1))),\"\")","v":0.91990354514530759},{"$f":"IF($C24<>\"\",BB24*EXP(-OFFSET('Forecasts Aggregate'!$C$17,$C24-$C$17,MATCH(BB$16,Ages,1))),\"\")","v":0.9142617126039756},{"$f":"IF($C24<>\"\",BC24*EXP(-OFFSET('Forecasts Aggregate'!$C$17,$C24-$C$17,MATCH(BC$16,Ages,1))),\"\")","v":0.90865448181474295},{"$f":"IF($C24<>\"\",BD24*EXP(-OFFSET('Forecasts Aggregate'!$C$17,$C24-$C$17,MATCH(BD$16,Ages,1))),\"\")","v":0.90308164056265294},{"$f":"IF($C24<>\"\",BE24*EXP(-OFFSET('Forecasts Aggregate'!$C$17,$C24-$C$17,MATCH(BE$16,Ages,1))),\"\")","v":0.89754297793427806},{"$f":"IF($C24<>\"\",BF24*EXP(-OFFSET('Forecasts Aggregate'!$C$17,$C24-$C$17,MATCH(BF$16,Ages,1))),\"\")","v":0.89203828430973742},{"$f":"IF($C24<>\"\",BG24*EXP(-OFFSET('Forecasts Aggregate'!$C$17,$C24-$C$17,MATCH(BG$16,Ages,1))),\"\")","v":0.88369482681912548},{"$f":"IF($C24<>\"\",BH24*EXP(-OFFSET('Forecasts Aggregate'!$C$17,$C24-$C$17,MATCH(BH$16,Ages,1))),\"\")","v":0.87542940777610267},{"$f":"IF($C24<>\"\",BI24*EXP(-OFFSET('Forecasts Aggregate'!$C$17,$C24-$C$17,MATCH(BI$16,Ages,1))),\"\")","v":0.86724129726752341},{"$f":"IF($C24<>\"\",BJ24*EXP(-OFFSET('Forecasts Aggregate'!$C$17,$C24-$C$17,MATCH(BJ$16,Ages,1))),\"\")","v":0.85912977220730269},{"$f":"IF($C24<>\"\",BK24*EXP(-OFFSET('Forecasts Aggregate'!$C$17,$C24-$C$17,MATCH(BK$16,Ages,1))),\"\")","v":0.85109411627256049},{"$f":"IF($C24<>\"\",BL24*EXP(-OFFSET('Forecasts Aggregate'!$C$17,$C24-$C$17,MATCH(BL$16,Ages,1))),\"\")","v":0.83998052678007262},{"$f":"IF($C24<>\"\",BM24*EXP(-OFFSET('Forecasts Aggregate'!$C$17,$C24-$C$17,MATCH(BM$16,Ages,1))),\"\")","v":0.82901205857211258},{"$f":"IF($C24<>\"\",BN24*EXP(-OFFSET('Forecasts Aggregate'!$C$17,$C24-$C$17,MATCH(BN$16,Ages,1))),\"\")","v":0.81818681665451687},{"$f":"IF($C24<>\"\",BO24*EXP(-OFFSET('Forecasts Aggregate'!$C$17,$C24-$C$17,MATCH(BO$16,Ages,1))),\"\")","v":0.80750293077796154},{"$f":"IF($C24<>\"\",BP24*EXP(-OFFSET('Forecasts Aggregate'!$C$17,$C24-$C$17,MATCH(BP$16,Ages,1))),\"\")","v":0.7969585551148437},{"$f":"IF($C24<>\"\",BQ24*EXP(-OFFSET('Forecasts Aggregate'!$C$17,$C24-$C$17,MATCH(BQ$16,Ages,1))),\"\")","v":0.78327369684937187},{"$f":"IF($C24<>\"\",BR24*EXP(-OFFSET('Forecasts Aggregate'!$C$17,$C24-$C$17,MATCH(BR$16,Ages,1))),\"\")","v":0.76982382614322054},{"$f":"IF($C24<>\"\",BS24*EXP(-OFFSET('Forecasts Aggregate'!$C$17,$C24-$C$17,MATCH(BS$16,Ages,1))),\"\")","v":0.75660490794158941},{"$f":"IF($C24<>\"\",BT24*EXP(-OFFSET('Forecasts Aggregate'!$C$17,$C24-$C$17,MATCH(BT$16,Ages,1))),\"\")","v":0.74361297647703661},{"$f":"IF($C24<>\"\",BU24*EXP(-OFFSET('Forecasts Aggregate'!$C$17,$C24-$C$17,MATCH(BU$16,Ages,1))),\"\")","v":0.73084413407972093},{"$f":"IF($C24<>\"\",BV24*EXP(-OFFSET('Forecasts Aggregate'!$C$17,$C24-$C$17,MATCH(BV$16,Ages,1))),\"\")","v":0.71210044114984072},{"$f":"IF($C24<>\"\",BW24*EXP(-OFFSET('Forecasts Aggregate'!$C$17,$C24-$C$17,MATCH(BW$16,Ages,1))),\"\")","v":0.69383746087573361},{"$f":"IF($C24<>\"\",BX24*EXP(-OFFSET('Forecasts Aggregate'!$C$17,$C24-$C$17,MATCH(BX$16,Ages,1))),\"\")","v":0.67604286459525786},{"$f":"IF($C24<>\"\",BY24*EXP(-OFFSET('Forecasts Aggregate'!$C$17,$C24-$C$17,MATCH(BY$16,Ages,1))),\"\")","v":0.65870463983497285},{"$f":"IF($C24<>\"\",BZ24*EXP(-OFFSET('Forecasts Aggregate'!$C$17,$C24-$C$17,MATCH(BZ$16,Ages,1))),\"\")","v":0.64181108220096261},{"$f":"IF($C24<>\"\",CA24*EXP(-OFFSET('Forecasts Aggregate'!$C$17,$C24-$C$17,MATCH(CA$16,Ages,1))),\"\")","v":0.61618705782446626},{"$f":"IF($C24<>\"\",CB24*EXP(-OFFSET('Forecasts Aggregate'!$C$17,$C24-$C$17,MATCH(CB$16,Ages,1))),\"\")","v":0.59158606131934233},{"$f":"IF($C24<>\"\",CC24*EXP(-OFFSET('Forecasts Aggregate'!$C$17,$C24-$C$17,MATCH(CC$16,Ages,1))),\"\")","v":0.56796724874904803},{"$f":"IF($C24<>\"\",CD24*EXP(-OFFSET('Forecasts Aggregate'!$C$17,$C24-$C$17,MATCH(CD$16,Ages,1))),\"\")","v":0.54529140685319222},{"$f":"IF($C24<>\"\",CE24*EXP(-OFFSET('Forecasts Aggregate'!$C$17,$C24-$C$17,MATCH(CE$16,Ages,1))),\"\")","v":0.52352088794350915},{"$f":"IF($C24<>\"\",CF24*EXP(-OFFSET('Forecasts Aggregate'!$C$17,$C24-$C$17,MATCH(CF$16,Ages,1))),\"\")","v":0.48962348698559532},{"$f":"IF($C24<>\"\",CG24*EXP(-OFFSET('Forecasts Aggregate'!$C$17,$C24-$C$17,MATCH(CG$16,Ages,1))),\"\")","v":0.45792090540960761},{"$f":"IF($C24<>\"\",CH24*EXP(-OFFSET('Forecasts Aggregate'!$C$17,$C24-$C$17,MATCH(CH$16,Ages,1))),\"\")","v":0.42827103107764908},{"$f":"IF($C24<>\"\",CI24*EXP(-OFFSET('Forecasts Aggregate'!$C$17,$C24-$C$17,MATCH(CI$16,Ages,1))),\"\")","v":0.40054095345624813},{"$f":"IF($C24<>\"\",CJ24*EXP(-OFFSET('Forecasts Aggregate'!$C$17,$C24-$C$17,MATCH(CJ$16,Ages,1))),\"\")","v":0.37460636782260553},{"$f":"IF($C24<>\"\",CK24*EXP(-OFFSET('Forecasts Aggregate'!$C$17,$C24-$C$17,MATCH(CK$16,Ages,1))),\"\")","v":0.33540413525819707},{"$f":"IF($C24<>\"\",CL24*EXP(-OFFSET('Forecasts Aggregate'!$C$17,$C24-$C$17,MATCH(CL$16,Ages,1))),\"\")","v":0.30030438244330993},{"$f":"IF($C24<>\"\",CM24*EXP(-OFFSET('Forecasts Aggregate'!$C$17,$C24-$C$17,MATCH(CM$16,Ages,1))),\"\")","v":0.2688777884185426},{"$f":"IF($C24<>\"\",CN24*EXP(-OFFSET('Forecasts Aggregate'!$C$17,$C24-$C$17,MATCH(CN$16,Ages,1))),\"\")","v":0.2407399602917687},{"$f":"IF($C24<>\"\",CO24*EXP(-OFFSET('Forecasts Aggregate'!$C$17,$C24-$C$17,MATCH(CO$16,Ages,1))),\"\")","v":0.21554673155473475},{"$f":"IF($C24<>\"\",CP24*EXP(-OFFSET('Forecasts Aggregate'!$C$17,$C24-$C$17,MATCH(CP$16,Ages,1))),\"\")","v":0.17720517132290156},{"$f":"IF($C24<>\"\",CQ24*EXP(-OFFSET('Forecasts Aggregate'!$C$17,$C24-$C$17,MATCH(CQ$16,Ages,1))),\"\")","v":0.14568382696911794},{"$f":"IF($C24<>\"\",CR24*EXP(-OFFSET('Forecasts Aggregate'!$C$17,$C24-$C$17,MATCH(CR$16,Ages,1))),\"\")","v":0.1197695150876502},{"$f":"IF($C24<>\"\",CS24*EXP(-OFFSET('Forecasts Aggregate'!$C$17,$C24-$C$17,MATCH(CS$16,Ages,1))),\"\")","v":9.8464853942721225E-2},{"$f":"IF($C24<>\"\",CT24*EXP(-OFFSET('Forecasts Aggregate'!$C$17,$C24-$C$17,MATCH(CT$16,Ages,1))),\"\")","v":8.0949876559708464E-2},{"$f":"IF($C24<>\"\",CU24*EXP(-OFFSET('Forecasts Aggregate'!$C$17,$C24-$C$17,MATCH(CU$16,Ages,1))),\"\")","v":5.7512077165417813E-2},{"$f":"IF($C24<>\"\",CV24*EXP(-OFFSET('Forecasts Aggregate'!$C$17,$C24-$C$17,MATCH(CV$16,Ages,1))),\"\")","v":4.0860334326035259E-2},{"$f":"IF($C24<>\"\",CW24*EXP(-OFFSET('Forecasts Aggregate'!$C$17,$C24-$C$17,MATCH(CW$16,Ages,1))),\"\")","v":2.9029849094709643E-2},{"$f":"IF($C24<>\"\",CX24*EXP(-OFFSET('Forecasts Aggregate'!$C$17,$C24-$C$17,MATCH(CX$16,Ages,1))),\"\")","v":2.0624700026613457E-2},{"$f":"IF($C24<>\"\",CY24*EXP(-OFFSET('Forecasts Aggregate'!$C$17,$C24-$C$17,MATCH(CY$16,Ages,1))),\"\")","v":1.465313339383874E-2},{"$f":"IF($C24<>\"\",CZ24*EXP(-OFFSET('Forecasts Aggregate'!$C$17,$C24-$C$17,MATCH(CZ$16,Ages,1))),\"\")","v":1.0410542600889782E-2},{"$f":"IF($C24<>\"\",DA24*EXP(-OFFSET('Forecasts Aggregate'!$C$17,$C24-$C$17,MATCH(DA$16,Ages,1))),\"\")","v":7.3963291216956849E-3},{"$f":"IF($C24<>\"\",DB24*EXP(-OFFSET('Forecasts Aggregate'!$C$17,$C24-$C$17,MATCH(DB$16,Ages,1))),\"\")","v":5.2548350814844175E-3},{"$f":"IF($C24<>\"\",DC24*EXP(-OFFSET('Forecasts Aggregate'!$C$17,$C24-$C$17,MATCH(DC$16,Ages,1))),\"\")","v":3.7333779066971418E-3},{"$f":"IF($C24<>\"\",DD24*EXP(-OFFSET('Forecasts Aggregate'!$C$17,$C24-$C$17,MATCH(DD$16,Ages,1))),\"\")","v":2.6524354005562838E-3},{"$f":"IF($C24<>\"\",DE24*EXP(-OFFSET('Forecasts Aggregate'!$C$17,$C24-$C$17,MATCH(DE$16,Ages,1))),\"\")","v":1.8844632742652855E-3},{"$f":"IF($C24<>\"\",DF24*EXP(-OFFSET('Forecasts Aggregate'!$C$17,$C24-$C$17,MATCH(DF$16,Ages,1))),\"\")","v":1.338845738263734E-3},{"$f":"IF($C24<>\"\",DG24*EXP(-OFFSET('Forecasts Aggregate'!$C$17,$C24-$C$17,MATCH(DG$16,Ages,1))),\"\")","v":9.5120341974604182E-4},{"$f":"IF($C24<>\"\",DH24*EXP(-OFFSET('Forecasts Aggregate'!$C$17,$C24-$C$17,MATCH(DH$16,Ages,1))),\"\")","v":6.7579700922820881E-4},{"$f":"IF($C24<>\"\",DI24*EXP(-OFFSET('Forecasts Aggregate'!$C$17,$C24-$C$17,MATCH(DI$16,Ages,1))),\"\")","v":4.8013031513671886E-4},{"$f":"IF($C24<>\"\",DJ24*EXP(-OFFSET('Forecasts Aggregate'!$C$17,$C24-$C$17,MATCH(DJ$16,Ages,1))),\"\")","v":3.4111592144593129E-4},null,2023,76.357195693336251,18.49706742236652]
[null,null,2024,1,{"$f":"IF($C25<>\"\",D25*EXP(-OFFSET('Forecasts Aggregate'!$C$17,$C25-$C$17,MATCH(D$16,Ages,1))),\"\")","v":0.99436165454955294},{"$f":"IF($C25<>\"\",E25*EXP(-OFFSET('Forecasts Aggregate'!$C$17,$C25-$C$17,MATCH(E$16,Ages,1))),\"\")","v":0.99408300356726043},{"$f":"IF($C25<>\"\",F25*EXP(-OFFSET('Forecasts Aggregate'!$C$17,$C25-$C$17,MATCH(F$16,Ages,1))),\"\")","v":0.99380443067161728},{"$f":"IF($C25<>\"\",G25*EXP(-OFFSET('Forecasts Aggregate'!$C$17,$C25-$C$17,MATCH(G$16,Ages,1))),\"\")","v":0.99352593584074134},{"$f":"IF($C25<>\"\",H25*EXP(-OFFSET('Forecasts Aggregate'!$C$17,$C25-$C$17,MATCH(H$16,Ages,1))),\"\")","v":0.99324751905275632},{"$f":"IF($C25<>\"\",I25*EXP(-OFFSET('Forecasts Aggregate'!$C$17,$C25-$C$17,MATCH(I$16,Ages,1))),\"\")","v":0.99311247768731925},{"$f":"IF($C25<>\"\",J25*EXP(-OFFSET('Forecasts Aggregate'!$C$17,$C25-$C$17,MATCH(J$16,Ages,1))),\"\")","v":0.99297745468202914},{"$f":"IF($C25<>\"\",K25*EXP(-OFFSET('Forecasts Aggregate'!$C$17,$C25-$C$17,MATCH(K$16,Ages,1))),\"\")","v":0.99284245003438976},{"$f":"IF($C25<>\"\",L25*EXP(-OFFSET('Forecasts Aggregate'!$C$17,$C25-$C$17,MATCH(L$16,Ages,1))),\"\")","v":0.99270746374190511},{"$f":"IF($C25<>\"\",M25*EXP(-OFFSET('Forecasts Aggregate'!$C$17,$C25-$C$17,MATCH(M$16,Ages,1))),\"\")","v":0.99257249580207974},{"$f":"IF($C25<>\"\",N25*EXP(-OFFSET('Forecasts Aggregate'!$C$17,$C25-$C$17,MATCH(N$16,Ages,1))),\"\")","v":0.99240910777706381},{"$f":"IF($C25<>\"\",O25*EXP(-OFFSET('Forecasts Aggregate'!$C$17,$C25-$C$17,MATCH(O$16,Ages,1))),\"\")","v":0.99224574664746035},{"$f":"IF($C25<>\"\",P25*EXP(-OFFSET('Forecasts Aggregate'!$C$17,$C25-$C$17,MATCH(P$16,Ages,1))),\"\")","v":0.9920824124088421},{"$f":"IF($C25<>\"\",Q25*EXP(-OFFSET('Forecasts Aggregate'!$C$17,$C25-$C$17,MATCH(Q$16,Ages,1))),\"\")","v":0.9919191050567826},{"$f":"IF($C25<>\"\",R25*EXP(-OFFSET('Forecasts Aggregate'!$C$17,$C25-$C$17,MATCH(R$16,Ages,1))),\"\")","v":0.99175582458685596},{"$f":"IF($C25<>\"\",S25*EXP(-OFFSET('Forecasts Aggregate'!$C$17,$C25-$C$17,MATCH(S$16,Ages,1))),\"\")","v":0.99103042079175496},{"$f":"IF($C25<>\"\",T25*EXP(-OFFSET('Forecasts Aggregate'!$C$17,$C25-$C$17,MATCH(T$16,Ages,1))),\"\")","v":0.99030554758155498},{"$f":"IF($C25<>\"\",U25*EXP(-OFFSET('Forecasts Aggregate'!$C$17,$C25-$C$17,MATCH(U$16,Ages,1))),\"\")","v":0.98958120456816812},{"$f":"IF($C25<>\"\",V25*EXP(-OFFSET('Forecasts Aggregate'!$C$17,$C25-$C$17,MATCH(V$16,Ages,1))),\"\")","v":0.98885739136379058},{"$f":"IF($C25<>\"\",W25*EXP(-OFFSET('Forecasts Aggregate'!$C$17,$C25-$C$17,MATCH(W$16,Ages,1))),\"\")","v":0.98813410758090203},{"$f":"IF($C25<>\"\",X25*EXP(-OFFSET('Forecasts Aggregate'!$C$17,$C25-$C$17,MATCH(X$16,Ages,1))),\"\")","v":0.9865656375743973},{"$f":"IF($C25<>\"\",Y25*EXP(-OFFSET('Forecasts Aggregate'!$C$17,$C25-$C$17,MATCH(Y$16,Ages,1))),\"\")","v":0.98499965720785376},{"$f":"IF($C25<>\"\",Z25*EXP(-OFFSET('Forecasts Aggregate'!$C$17,$C25-$C$17,MATCH(Z$16,Ages,1))),\"\")","v":0.98343616252945409},{"$f":"IF($C25<>\"\",AA25*EXP(-OFFSET('Forecasts Aggregate'!$C$17,$C25-$C$17,MATCH(AA$16,Ages,1))),\"\")","v":0.98187514959365352},{"$f":"IF($C25<>\"\",AB25*EXP(-OFFSET('Forecasts Aggregate'!$C$17,$C25-$C$17,MATCH(AB$16,Ages,1))),\"\")","v":0.98031661446117002},{"$f":"IF($C25<>\"\",AC25*EXP(-OFFSET('Forecasts Aggregate'!$C$17,$C25-$C$17,MATCH(AC$16,Ages,1))),\"\")","v":0.97834137913068919},{"$f":"IF($C25<>\"\",AD25*EXP(-OFFSET('Forecasts Aggregate'!$C$17,$C25-$C$17,MATCH(AD$16,Ages,1))),\"\")","v":0.97637012369257503},{"$f":"IF($C25<>\"\",AE25*EXP(-OFFSET('Forecasts Aggregate'!$C$17,$C25-$C$17,MATCH(AE$16,Ages,1))),\"\")","v":0.97440284012776113},{"$f":"IF($C25<>\"\",AF25*EXP(-OFFSET('Forecasts Aggregate'!$C$17,$C25-$C$17,MATCH(AF$16,Ages,1))),\"\")","v":0.97243952043333859},{"$f":"IF($C25<>\"\",AG25*EXP(-OFFSET('Forecasts Aggregate'!$C$17,$C25-$C$17,MATCH(AG$16,Ages,1))),\"\")","v":0.97048015662252374},{"$f":"IF($C25<>\"\",AH25*EXP(-OFFSET('Forecasts Aggregate'!$C$17,$C25-$C$17,MATCH(AH$16,Ages,1))),\"\")","v":0.96831220354588154},{"$f":"IF($C25<>\"\",AI25*EXP(-OFFSET('Forecasts Aggregate'!$C$17,$C25-$C$17,MATCH(AI$16,Ages,1))),\"\")","v":0.96614909345393152},{"$f":"IF($C25<>\"\",AJ25*EXP(-OFFSET('Forecasts Aggregate'!$C$17,$C25-$C$17,MATCH(AJ$16,Ages,1))),\"\")","v":0.96399081552794275},{"$f":"IF($C25<>\"\",AK25*EXP(-OFFSET('Forecasts Aggregate'!$C$17,$C25-$C$17,MATCH(AK$16,Ages,1))),\"\")","v":0.96183735897335243},{"$f":"IF($C25<>\"\",AL25*EXP(-OFFSET('Forecasts Aggregate'!$C$17,$C25-$C$17,MATCH(AL$16,Ages,1))),\"\")","v":0.95968871301971159},{"$f":"IF($C25<>\"\",AM25*EXP(-OFFSET('Forecasts Aggregate'!$C$17,$C25-$C$17,MATCH(AM$16,Ages,1))),\"\")","v":0.95755089681751626},{"$f":"IF($C25<>\"\",AN25*EXP(-OFFSET('Forecasts Aggregate'!$C$17,$C25-$C$17,MATCH(AN$16,Ages,1))),\"\")","v":0.95541784284504438},{"$f":"IF($C25<>\"\",AO25*EXP(-OFFSET('Forecasts Aggregate'!$C$17,$C25-$C$17,MATCH(AO$16,Ages,1))),\"\")","v":0.95328954049388537},{"$f":"IF($C25<>\"\",AP25*EXP(-OFFSET('Forecasts Aggregate'!$C$17,$C25-$C$17,MATCH(AP$16,Ages,1))),\"\")","v":0.95116597917926005},{"$f":"IF($C25<>\"\",AQ25*EXP(-OFFSET('Forecasts Aggregate'!$C$17,$C25-$C$17,MATCH(AQ$16,Ages,1))),\"\")","v":0.94904714833996828},{"$f":"IF($C25<>\"\",AR25*EXP(-OFFSET('Forecasts Aggregate'!$C$17,$C25-$C$17,MATCH(AR$16,Ages,1))),\"\")","v":0.94656330022007817},{"$f":"IF($C25<>\"\",AS25*EXP(-OFFSET('Forecasts Aggregate'!$C$17,$C25-$C$17,MATCH(AS$16,Ages,1))),\"\")","v":0.94408595283252095},{"$f":"IF($C25<>\"\",AT25*EXP(-OFFSET('Forecasts Aggregate'!$C$17,$C25-$C$17,MATCH(AT$16,Ages,1))),\"\")","v":0.94161508916356684},{"$f":"IF($C25<>\"\",AU25*EXP(-OFFSET('Forecasts Aggregate'!$C$17,$C25-$C$17,MATCH(AU$16,Ages,1))),\"\")","v":0.93915069224401437},{"$f":"IF($C25<>\"\",AV25*EXP(-OFFSET('Forecasts Aggregate'!$C$17,$C25-$C$17,MATCH(AV$16,Ages,1))),\"\")","v":0.93669274514907386},{"$f":"IF($C25<>\"\",AW25*EXP(-OFFSET('Forecasts Aggregate'!$C$17,$C25-$C$17,MATCH(AW$16,Ages,1))),\"\")","v":0.93317199956547703},{"$f":"IF($C25<>\"\",AX25*EXP(-OFFSET('Forecasts Aggregate'!$C$17,$C25-$C$17,MATCH(AX$16,Ages,1))),\"\")","v":0.92966448740290175},{"$f":"IF($C25<>\"\",AY25*EXP(-OFFSET('Forecasts Aggregate'!$C$17,$C25-$C$17,MATCH(AY$16,Ages,1))),\"\")","v":0.92617015892090881},{"$f":"IF($C25<>\"\",AZ25*EXP(-OFFSET('Forecasts Aggregate'!$C$17,$C25-$C$17,MATCH(AZ$16,Ages,1))),\"\")","v":0.92268896456601823},{"$f":"IF($C25<>\"\",BA25*EXP(-OFFSET('Forecasts Aggregate'!$C$17,$C25-$C$17,MATCH(BA$16,Ages,1))),\"\")","v":0.91922085497100658},{"$f":"IF($C25<>\"\",BB25*EXP(-OFFSET('Forecasts Aggregate'!$C$17,$C25-$C$17,MATCH(BB$16,Ages,1))),\"\")","v":0.91357234230205475},{"$f":"IF($C25<>\"\",BC25*EXP(-OFFSET('Forecasts Aggregate'!$C$17,$C25-$C$17,MATCH(BC$16,Ages,1))),\"\")","v":0.90795853913212998},{"$f":"IF($C25<>\"\",BD25*EXP(-OFFSET('Forecasts Aggregate'!$C$17,$C25-$C$17,MATCH(BD$16,Ages,1))),\"\")","v":0.90237923217511729},{"$f":"IF($C25<>\"\",BE25*EXP(-OFFSET('Forecasts Aggregate'!$C$17,$C25-$C$17,MATCH(BE$16,Ages,1))),\"\")","v":0.89683420945552184},{"$f":"IF($C25<>\"\",BF25*EXP(-OFFSET('Forecasts Aggregate'!$C$17,$C25-$C$17,MATCH(BF$16,Ages,1))),\"\")","v":0.89132326030041509},{"$f":"IF($C25<>\"\",BG25*EXP(-OFFSET('Forecasts Aggregate'!$C$17,$C25-$C$17,MATCH(BG$16,Ages,1))),\"\")","v":0.88296051263464959},{"$f":"IF($C25<>\"\",BH25*EXP(-OFFSET('Forecasts Aggregate'!$C$17,$C25-$C$17,MATCH(BH$16,Ages,1))),\"\")","v":0.87467622757794661},{"$f":"IF($C25<>\"\",BI25*EXP(-OFFSET('Forecasts Aggregate'!$C$17,$C25-$C$17,MATCH(BI$16,Ages,1))),\"\")","v":0.86646966896304789},{"$f":"IF($C25<>\"\",BJ25*EXP(-OFFSET('Forecasts Aggregate'!$C$17,$C25-$C$17,MATCH(BJ$16,Ages,1))),\"\")","v":0.85834010752970769},{"$f":"IF($C25<>\"\",BK25*EXP(-OFFSET('Forecasts Aggregate'!$C$17,$C25-$C$17,MATCH(BK$16,Ages,1))),\"\")","v":0.85028682085988871},{"$f":"IF($C25<>\"\",BL25*EXP(-OFFSET('Forecasts Aggregate'!$C$17,$C25-$C$17,MATCH(BL$16,Ages,1))),\"\")","v":0.83919988726306349},{"$f":"IF($C25<>\"\",BM25*EXP(-OFFSET('Forecasts Aggregate'!$C$17,$C25-$C$17,MATCH(BM$16,Ages,1))),\"\")","v":0.82825751676373061},{"$f":"IF($C25<>\"\",BN25*EXP(-OFFSET('Forecasts Aggregate'!$C$17,$C25-$C$17,MATCH(BN$16,Ages,1))),\"\")","v":0.81745782439622539},{"$f":"IF($C25<>\"\",BO25*EXP(-OFFSET('Forecasts Aggregate'!$C$17,$C25-$C$17,MATCH(BO$16,Ages,1))),\"\")","v":0.80679894977304745},{"$f":"IF($C25<>\"\",BP25*EXP(-OFFSET('Forecasts Aggregate'!$C$17,$C25-$C$17,MATCH(BP$16,Ages,1))),\"\")","v":0.7962790567643846},{"$f":"IF($C25<>\"\",BQ25*EXP(-OFFSET('Forecasts Aggregate'!$C$17,$C25-$C$17,MATCH(BQ$16,Ages,1))),\"\")","v":0.78270529274813916},{"$f":"IF($C25<>\"\",BR25*EXP(-OFFSET('Forecasts Aggregate'!$C$17,$C25-$C$17,MATCH(BR$16,Ages,1))),\"\")","v":0.7693629137821516},{"$f":"IF($C25<>\"\",BS25*EXP(-OFFSET('Forecasts Aggregate'!$C$17,$C25-$C$17,MATCH(BS$16,Ages,1))),\"\")","v":0.75624797556317491},{"$f":"IF($C25<>\"\",BT25*EXP(-OFFSET('Forecasts Aggregate'!$C$17,$C25-$C$17,MATCH(BT$16,Ages,1))),\"\")","v":0.74335660102449319},{"$f":"IF($C25<>\"\",BU25*EXP(-OFFSET('Forecasts Aggregate'!$C$17,$C25-$C$17,MATCH(BU$16,Ages,1))),\"\")","v":0.73068497918977449},{"$f":"IF($C25<>\"\",BV25*EXP(-OFFSET('Forecasts Aggregate'!$C$17,$C25-$C$17,MATCH(BV$16,Ages,1))),\"\")","v":0.71209954187830959},{"$f":"IF($C25<>\"\",BW25*EXP(-OFFSET('Forecasts Aggregate'!$C$17,$C25-$C$17,MATCH(BW$16,Ages,1))),\"\")","v":0.69398683698901842},{"$f":"IF($C25<>\"\",BX25*EXP(-OFFSET('Forecasts Aggregate'!$C$17,$C25-$C$17,MATCH(BX$16,Ages,1))),\"\")","v":0.67633484027198809},{"$f":"IF($C25<>\"\",BY25*EXP(-OFFSET('Forecasts Aggregate'!$C$17,$C25-$C$17,MATCH(BY$16,Ages,1))),\"\")","v":0.65913183332175218},{"$f":"IF($C25<>\"\",BZ25*EXP(-OFFSET('Forecasts Aggregate'!$C$17,$C25-$C$17,MATCH(BZ$16,Ages,1))),\"\")","v":0.64236639579794241},{"$f":"IF($C25<>\"\",CA25*EXP(-OFFSET('Forecasts Aggregate'!$C$17,$C25-$C$17,MATCH(CA$16,Ages,1))),\"\")","v":0.61690255387936332},{"$f":"IF($C25<>\"\",CB25*EXP(-OFFSET('Forecasts Aggregate'!$C$17,$C25-$C$17,MATCH(CB$16,Ages,1))),\"\")","v":0.59244811601662517},{"$f":"IF($C25<>\"\",CC25*EXP(-OFFSET('Forecasts Aggregate'!$C$17,$C25-$C$17,MATCH(CC$16,Ages,1))),\"\")","v":0.56896306874470548},{"$f":"IF($C25<>\"\",CD25*EXP(-OFFSET('Forecasts Aggregate'!$C$17,$C25-$C$17,MATCH(CD$16,Ages,1))),\"\")","v":0.54640898475961786},{"$f":"IF($C25<>\"\",CE25*EXP(-OFFSET('Forecasts Aggregate'!$C$17,$C25-$C$17,MATCH(CE$16,Ages,1))),\"\")","v":0.52474896004190708},{"$f":"IF($C25<>\"\",CF25*EXP(-OFFSET('Forecasts Aggregate'!$C$17,$C25-$C$17,MATCH(CF$16,Ages,1))),\"\")","v":0.49099389284303074},{"$f":"IF($C25<>\"\",CG25*EXP(-OFFSET('Forecasts Aggregate'!$C$17,$C25-$C$17,MATCH(CG$16,Ages,1))),\"\")","v":0.45941015831627569},{"$f":"IF($C25<>\"\",CH25*EXP(-OFFSET('Forecasts Aggregate'!$C$17,$C25-$C$17,MATCH(CH$16,Ages,1))),\"\")","v":0.42985808304475182},{"$f":"IF($C25<>\"\",CI25*EXP(-OFFSET('Forecasts Aggregate'!$C$17,$C25-$C$17,MATCH(CI$16,Ages,1))),\"\")","v":0.40220697826124358},{"$f":"IF($C25<>\"\",CJ25*EXP(-OFFSET('Forecasts Aggregate'!$C$17,$C25-$C$17,MATCH(CJ$16,Ages,1))),\"\")","v":0.37633456190051173},{"$f":"IF($C25<>\"\",CK25*EXP(-OFFSET('Forecasts Aggregate'!$C$17,$C25-$C$17,MATCH(CK$16,Ages,1))),\"\")","v":0.33717647217958485},{"$f":"IF($C25<>\"\",CL25*EXP(-OFFSET('Forecasts Aggregate'!$C$17,$C25-$C$17,MATCH(CL$16,Ages,1))),\"\")","v":0.30209283148839527},{"$f":"IF($C25<>\"\",CM25*EXP(-OFFSET('Forecasts Aggregate'!$C$17,$C25-$C$17,MATCH(CM$16,Ages,1))),\"\")","v":0.27065968822424125},{"$f":"IF($C25<>\"\",CN25*EXP(-OFFSET('Forecasts Aggregate'!$C$17,$C25-$C$17,MATCH(CN$16,Ages,1))),\"\")","v":0.24249720348778814},{"$f":"IF($C25<>\"\",CO25*EXP(-OFFSET('Forecasts Aggregate'!$C$17,$C25-$C$17,MATCH(CO$16,Ages,1))),\"\")","v":0.21726506110018842},{"$f":"IF($C25<>\"\",CP25*EXP(-OFFSET('Forecasts Aggregate'!$C$17,$C25-$C$17,MATCH(CP$16,Ages,1))),\"\")","v":0.17872276833943662},{"$f":"IF($C25<>\"\",CQ25*EXP(-OFFSET('Forecasts Aggregate'!$C$17,$C25-$C$17,MATCH(CQ$16,Ages,1))),\"\")","v":0.14701778445721858},{"$f":"IF($C25<>\"\",CR25*EXP(-OFFSET('Forecasts Aggregate'!$C$17,$C25-$C$17,MATCH(CR$16,Ages,1))),\"\")","v":0.12093718750852533},{"$f":"IF($C25<>\"\",CS25*EXP(-OFFSET('Forecasts Aggregate'!$C$17,$C25-$C$17,MATCH(CS$16,Ages,1))),\"\")","v":9.9483224947715429E-2},{"$f":"IF($C25<>\"\",CT25*EXP(-OFFSET('Forecasts Aggregate'!$C$17,$C25-$C$17,MATCH(CT$16,Ages,1))),\"\")","v":8.1835143101042243E-2},{"$f":"IF($C25<>\"\",CU25*EXP(-OFFSET('Forecasts Aggregate'!$C$17,$C25-$C$17,MATCH(CU$16,Ages,1))),\"\")","v":5.814234504832877E-2},{"$f":"IF($C25<>\"\",CV25*EXP(-OFFSET('Forecasts Aggregate'!$C$17,$C25-$C$17,MATCH(CV$16,Ages,1))),\"\")","v":4.1309053294438083E-2},{"$f":"IF($C25<>\"\",CW25*EXP(-OFFSET('Forecasts Aggregate'!$C$17,$C25-$C$17,MATCH(CW$16,Ages,1))),\"\")","v":2.9349313012130999E-2},{"$f":"IF($C25<>\"\",CX25*EXP(-OFFSET('Forecasts Aggregate'!$C$17,$C25-$C$17,MATCH(CX$16,Ages,1))),\"\")","v":2.0852140283738236E-2},{"$f":"IF($C25<>\"\",CY25*EXP(-OFFSET('Forecasts Aggregate'!$C$17,$C25-$C$17,MATCH(CY$16,Ages,1))),\"\")","v":1.4815057314390201E-2},{"$f":"IF($C25<>\"\",CZ25*EXP(-OFFSET('Forecasts Aggregate'!$C$17,$C25-$C$17,MATCH(CZ$16,Ages,1))),\"\")","v":1.0525822301312399E-2},{"$f":"IF($C25<>\"\",DA25*EXP(-OFFSET('Forecasts Aggregate'!$C$17,$C25-$C$17,MATCH(DA$16,Ages,1))),\"\")","v":7.4784007086621104E-3},{"$f":"IF($C25<>\"\",DB25*EXP(-OFFSET('Forecasts Aggregate'!$C$17,$C25-$C$17,MATCH(DB$16,Ages,1))),\"\")","v":5.3132644232788189E-3},{"$f":"IF($C25<>\"\",DC25*EXP(-OFFSET('Forecasts Aggregate'!$C$17,$C25-$C$17,MATCH(DC$16,Ages,1))),\"\")","v":3.7749754167333057E-3},{"$f":"IF($C25<>\"\",DD25*EXP(-OFFSET('Forecasts Aggregate'!$C$17,$C25-$C$17,MATCH(DD$16,Ages,1))),\"\")","v":2.682049727189531E-3},{"$f":"IF($C25<>\"\",DE25*EXP(-OFFSET('Forecasts Aggregate'!$C$17,$C25-$C$17,MATCH(DE$16,Ages,1))),\"\")","v":1.9055463797807389E-3},{"$f":"IF($C25<>\"\",DF25*EXP(-OFFSET('Forecasts Aggregate'!$C$17,$C25-$C$17,MATCH(DF$16,Ages,1))),\"\")","v":1.3538552133037624E-3},{"$f":"IF($C25<>\"\",DG25*EXP(-OFFSET('Forecasts Aggregate'!$C$17,$C25-$C$17,MATCH(DG$16,Ages,1))),\"\")","v":9.6188891440190537E-4},{"$f":"IF($C25<>\"\",DH25*EXP(-OFFSET('Forecasts Aggregate'!$C$17,$C25-$C$17,MATCH(DH$16,Ages,1))),\"\")","v":6.8340415914303803E-4},{"$f":"IF($C25<>\"\",DI25*EXP(-OFFSET('Forecasts Aggregate'!$C$17,$C25-$C$17,MATCH(DI$16,Ages,1))),\"\")","v":4.8554592712444892E-4},{"$f":"IF($C25<>\"\",DJ25*EXP(-OFFSET('Forecasts Aggregate'!$C$17,$C25-$C$17,MATCH(DJ$16,Ages,1))),\"\")","v":3.4497133825285461E-4},null,2024,76.361268555160379,18.549222122042828]
[null,null,2025,1,{"$f":"IF($C26<>\"\",D26*EXP(-OFFSET('Forecasts Aggregate'!$C$17,$C26-$C$17,MATCH(D$16,Ages,1))),\"\")","v":0.99443244751980797},{"$f":"IF($C26<>\"\",E26*EXP(-OFFSET('Forecasts Aggregate'!$C$17,$C26-$C$17,MATCH(E$16,Ages,1))),\"\")","v":0.99415469114576183},{"$f":"IF($C26<>\"\",F26*EXP(-OFFSET('Forecasts Aggregate'!$C$17,$C26-$C$17,MATCH(F$16,Ages,1))),\"\")","v":0.99387701235225279},{"$f":"IF($C26<>\"\",G26*EXP(-OFFSET('Forecasts Aggregate'!$C$17,$C26-$C$17,MATCH(G$16,Ages,1))),\"\")","v":0.99359941111761163},{"$f":"IF($C26<>\"\",H26*EXP(-OFFSET('Forecasts Aggregate'!$C$17,$C26-$C$17,MATCH(H$16,Ages,1))),\"\")","v":0.99332188742017524},{"$f":"IF($C26<>\"\",I26*EXP(-OFFSET('Forecasts Aggregate'!$C$17,$C26-$C$17,MATCH(I$16,Ages,1))),\"\")","v":0.99318649384827462},{"$f":"IF($C26<>\"\",J26*EXP(-OFFSET('Forecasts Aggregate'!$C$17,$C26-$C$17,MATCH(J$16,Ages,1))),\"\")","v":0.99305111873103558},{"$f":"IF($C26<>\"\",K26*EXP(-OFFSET('Forecasts Aggregate'!$C$17,$C26-$C$17,MATCH(K$16,Ages,1))),\"\")","v":0.99291576206594268},{"$f":"IF($C26<>\"\",L26*EXP(-OFFSET('Forecasts Aggregate'!$C$17,$C26-$C$17,MATCH(L$16,Ages,1))),\"\")","v":0.99278042385048093},{"$f":"IF($C26<>\"\",M26*EXP(-OFFSET('Forecasts Aggregate'!$C$17,$C26-$C$17,MATCH(M$16,Ages,1))),\"\")","v":0.99264510408213547},{"$f":"IF($C26<>\"\",N26*EXP(-OFFSET('Forecasts Aggregate'!$C$17,$C26-$C$17,MATCH(N$16,Ages,1))),\"\")","v":0.99248168055409614},{"$f":"IF($C26<>\"\",O26*EXP(-OFFSET('Forecasts Aggregate'!$C$17,$C26-$C$17,MATCH(O$16,Ages,1))),\"\")","v":0.99231828393119081},{"$f":"IF($C26<>\"\",P26*EXP(-OFFSET('Forecasts Aggregate'!$C$17,$C26-$C$17,MATCH(P$16,Ages,1))),\"\")","v":0.99215491420898994},{"$f":"IF($C26<>\"\",Q26*EXP(-OFFSET('Forecasts Aggregate'!$C$17,$C26-$C$17,MATCH(Q$16,Ages,1))),\"\")","v":0.99199157138306471},{"$f":"IF($C26<>\"\",R26*EXP(-OFFSET('Forecasts Aggregate'!$C$17,$C26-$C$17,MATCH(R$16,Ages,1))),\"\")","v":0.99182825544898712},{"$f":"IF($C26<>\"\",S26*EXP(-OFFSET('Forecasts Aggregate'!$C$17,$C26-$C$17,MATCH(S$16,Ages,1))),\"\")","v":0.99109702951081591},{"$f":"IF($C26<>\"\",T26*EXP(-OFFSET('Forecasts Aggregate'!$C$17,$C26-$C$17,MATCH(T$16,Ages,1))),\"\")","v":0.99036634266937817},{"$f":"IF($C26<>\"\",U26*EXP(-OFFSET('Forecasts Aggregate'!$C$17,$C26-$C$17,MATCH(U$16,Ages,1))),\"\")","v":0.98963619452722451},{"$f":"IF($C26<>\"\",V26*EXP(-OFFSET('Forecasts Aggregate'!$C$17,$C26-$C$17,MATCH(V$16,Ages,1))),\"\")","v":0.98890658468719861},{"$f":"IF($C26<>\"\",W26*EXP(-OFFSET('Forecasts Aggregate'!$C$17,$C26-$C$17,MATCH(W$16,Ages,1))),\"\")","v":0.98817751275243693},{"$f":"IF($C26<>\"\",X26*EXP(-OFFSET('Forecasts Aggregate'!$C$17,$C26-$C$17,MATCH(X$16,Ages,1))),\"\")","v":0.98657740826358697},{"$f":"IF($C26<>\"\",Y26*EXP(-OFFSET('Forecasts Aggregate'!$C$17,$C26-$C$17,MATCH(Y$16,Ages,1))),\"\")","v":0.9849798947407753},{"$f":"IF($C26<>\"\",Z26*EXP(-OFFSET('Forecasts Aggregate'!$C$17,$C26-$C$17,MATCH(Z$16,Ages,1))),\"\")","v":0.9833849679885851},{"$f":"IF($C26<>\"\",AA26*EXP(-OFFSET('Forecasts Aggregate'!$C$17,$C26-$C$17,MATCH(AA$16,Ages,1))),\"\")","v":0.98179262381839316},{"$f":"IF($C26<>\"\",AB26*EXP(-OFFSET('Forecasts Aggregate'!$C$17,$C26-$C$17,MATCH(AB$16,Ages,1))),\"\")","v":0.98020285804835883},{"$f":"IF($C26<>\"\",AC26*EXP(-OFFSET('Forecasts Aggregate'!$C$17,$C26-$C$17,MATCH(AC$16,Ages,1))),\"\")","v":0.97816354678883166},{"$f":"IF($C26<>\"\",AD26*EXP(-OFFSET('Forecasts Aggregate'!$C$17,$C26-$C$17,MATCH(AD$16,Ages,1))),\"\")","v":0.97612847831474325},{"$f":"IF($C26<>\"\",AE26*EXP(-OFFSET('Forecasts Aggregate'!$C$17,$C26-$C$17,MATCH(AE$16,Ages,1))),\"\")","v":0.974097643798982},{"$f":"IF($C26<>\"\",AF26*EXP(-OFFSET('Forecasts Aggregate'!$C$17,$C26-$C$17,MATCH(AF$16,Ages,1))),\"\")","v":0.97207103443280107},{"$f":"IF($C26<>\"\",AG26*EXP(-OFFSET('Forecasts Aggregate'!$C$17,$C26-$C$17,MATCH(AG$16,Ages,1))),\"\")","v":0.97004864142578007},{"$f":"IF($C26<>\"\",AH26*EXP(-OFFSET('Forecasts Aggregate'!$C$17,$C26-$C$17,MATCH(AH$16,Ages,1))),\"\")","v":0.96781489969238244},{"$f":"IF($C26<>\"\",AI26*EXP(-OFFSET('Forecasts Aggregate'!$C$17,$C26-$C$17,MATCH(AI$16,Ages,1))),\"\")","v":0.96558630162077497},{"$f":"IF($C26<>\"\",AJ26*EXP(-OFFSET('Forecasts Aggregate'!$C$17,$C26-$C$17,MATCH(AJ$16,Ages,1))),\"\")","v":0.96336283536659084},{"$f":"IF($C26<>\"\",AK26*EXP(-OFFSET('Forecasts Aggregate'!$C$17,$C26-$C$17,MATCH(AK$16,Ages,1))),\"\")","v":0.9611444891127372},{"$f":"IF($C26<>\"\",AL26*EXP(-OFFSET('Forecasts Aggregate'!$C$17,$C26-$C$17,MATCH(AL$16,Ages,1))),\"\")","v":0.95893125106933275},{"$f":"IF($C26<>\"\",AM26*EXP(-OFFSET('Forecasts Aggregate'!$C$17,$C26-$C$17,MATCH(AM$16,Ages,1))),\"\")","v":0.95677600485163716},{"$f":"IF($C26<>\"\",AN26*EXP(-OFFSET('Forecasts Aggregate'!$C$17,$C26-$C$17,MATCH(AN$16,Ages,1))),\"\")","v":0.95462560265821728},{"$f":"IF($C26<>\"\",AO26*EXP(-OFFSET('Forecasts Aggregate'!$C$17,$C26-$C$17,MATCH(AO$16,Ages,1))),\"\")","v":0.95248003360188493},{"$f":"IF($C26<>\"\",AP26*EXP(-OFFSET('Forecasts Aggregate'!$C$17,$C26-$C$17,MATCH(AP$16,Ages,1))),\"\")","v":0.9503392868199213},{"$f":"IF($C26<>\"\",AQ26*EXP(-OFFSET('Forecasts Aggregate'!$C$17,$C26-$C$17,MATCH(AQ$16,Ages,1))),\"\")","v":0.94820335147402235},{"$f":"IF($C26<>\"\",AR26*EXP(-OFFSET('Forecasts Aggregate'!$C$17,$C26-$C$17,MATCH(AR$16,Ages,1))),\"\")","v":0.94572592223591401},{"$f":"IF($C26<>\"\",AS26*EXP(-OFFSET('Forecasts Aggregate'!$C$17,$C26-$C$17,MATCH(AS$16,Ages,1))),\"\")","v":0.94325496592960911},{"$f":"IF($C26<>\"\",AT26*EXP(-OFFSET('Forecasts Aggregate'!$C$17,$C26-$C$17,MATCH(AT$16,Ages,1))),\"\")","v":0.94079046564288038},{"$f":"IF($C26<>\"\",AU26*EXP(-OFFSET('Forecasts Aggregate'!$C$17,$C26-$C$17,MATCH(AU$16,Ages,1))),\"\")","v":0.93833240450768829},{"$f":"IF($C26<>\"\",AV26*EXP(-OFFSET('Forecasts Aggregate'!$C$17,$C26-$C$17,MATCH(AV$16,Ages,1))),\"\")","v":0.9358807657000654},{"$f":"IF($C26<>\"\",AW26*EXP(-OFFSET('Forecasts Aggregate'!$C$17,$C26-$C$17,MATCH(AW$16,Ages,1))),\"\")","v":0.93237264270205134},{"$f":"IF($C26<>\"\",AX26*EXP(-OFFSET('Forecasts Aggregate'!$C$17,$C26-$C$17,MATCH(AX$16,Ages,1))),\"\")","v":0.92887766980543929},{"$f":"IF($C26<>\"\",AY26*EXP(-OFFSET('Forecasts Aggregate'!$C$17,$C26-$C$17,MATCH(AY$16,Ages,1))),\"\")","v":0.92539579771744029},{"$f":"IF($C26<>\"\",AZ26*EXP(-OFFSET('Forecasts Aggregate'!$C$17,$C26-$C$17,MATCH(AZ$16,Ages,1))),\"\")","v":0.92192697733003792},{"$f":"IF($C26<>\"\",BA26*EXP(-OFFSET('Forecasts Aggregate'!$C$17,$C26-$C$17,MATCH(BA$16,Ages,1))),\"\")","v":0.91847115971929583},{"$f":"IF($C26<>\"\",BB26*EXP(-OFFSET('Forecasts Aggregate'!$C$17,$C26-$C$17,MATCH(BB$16,Ages,1))),\"\")","v":0.91281501884973504},{"$f":"IF($C26<>\"\",BC26*EXP(-OFFSET('Forecasts Aggregate'!$C$17,$C26-$C$17,MATCH(BC$16,Ages,1))),\"\")","v":0.90719370969938262},{"$f":"IF($C26<>\"\",BD26*EXP(-OFFSET('Forecasts Aggregate'!$C$17,$C26-$C$17,MATCH(BD$16,Ages,1))),\"\")","v":0.90160701776709873},{"$f":"IF($C26<>\"\",BE26*EXP(-OFFSET('Forecasts Aggregate'!$C$17,$C26-$C$17,MATCH(BE$16,Ages,1))),\"\")","v":0.89605472987268742},{"$f":"IF($C26<>\"\",BF26*EXP(-OFFSET('Forecasts Aggregate'!$C$17,$C26-$C$17,MATCH(BF$16,Ages,1))),\"\")","v":0.89053663414876161},{"$f":"IF($C26<>\"\",BG26*EXP(-OFFSET('Forecasts Aggregate'!$C$17,$C26-$C$17,MATCH(BG$16,Ages,1))),\"\")","v":0.88215248199769458},{"$f":"IF($C26<>\"\",BH26*EXP(-OFFSET('Forecasts Aggregate'!$C$17,$C26-$C$17,MATCH(BH$16,Ages,1))),\"\")","v":0.87384726428300752},{"$f":"IF($C26<>\"\",BI26*EXP(-OFFSET('Forecasts Aggregate'!$C$17,$C26-$C$17,MATCH(BI$16,Ages,1))),\"\")","v":0.86562023785916409},{"$f":"IF($C26<>\"\",BJ26*EXP(-OFFSET('Forecasts Aggregate'!$C$17,$C26-$C$17,MATCH(BJ$16,Ages,1))),\"\")","v":0.85747066657713444},{"$f":"IF($C26<>\"\",BK26*EXP(-OFFSET('Forecasts Aggregate'!$C$17,$C26-$C$17,MATCH(BK$16,Ages,1))),\"\")","v":0.84939782121852492},{"$f":"IF($C26<>\"\",BL26*EXP(-OFFSET('Forecasts Aggregate'!$C$17,$C26-$C$17,MATCH(BL$16,Ages,1))),\"\")","v":0.8383359357814133},{"$f":"IF($C26<>\"\",BM26*EXP(-OFFSET('Forecasts Aggregate'!$C$17,$C26-$C$17,MATCH(BM$16,Ages,1))),\"\")","v":0.82741811159141943},{"$f":"IF($C26<>\"\",BN26*EXP(-OFFSET('Forecasts Aggregate'!$C$17,$C26-$C$17,MATCH(BN$16,Ages,1))),\"\")","v":0.8166424725087984},{"$f":"IF($C26<>\"\",BO26*EXP(-OFFSET('Forecasts Aggregate'!$C$17,$C26-$C$17,MATCH(BO$16,Ages,1))),\"\")","v":0.80600716682716567},{"$f":"IF($C26<>\"\",BP26*EXP(-OFFSET('Forecasts Aggregate'!$C$17,$C26-$C$17,MATCH(BP$16,Ages,1))),\"\")","v":0.79551036695529598},{"$f":"IF($C26<>\"\",BQ26*EXP(-OFFSET('Forecasts Aggregate'!$C$17,$C26-$C$17,MATCH(BQ$16,Ages,1))),\"\")","v":0.78204713840900442},{"$f":"IF($C26<>\"\",BR26*EXP(-OFFSET('Forecasts Aggregate'!$C$17,$C26-$C$17,MATCH(BR$16,Ages,1))),\"\")","v":0.7688117617304181},{"$f":"IF($C26<>\"\",BS26*EXP(-OFFSET('Forecasts Aggregate'!$C$17,$C26-$C$17,MATCH(BS$16,Ages,1))),\"\")","v":0.75580038075134992},{"$f":"IF($C26<>\"\",BT26*EXP(-OFFSET('Forecasts Aggregate'!$C$17,$C26-$C$17,MATCH(BT$16,Ages,1))),\"\")","v":0.74300920456545683},{"$f":"IF($C26<>\"\",BU26*EXP(-OFFSET('Forecasts Aggregate'!$C$17,$C26-$C$17,MATCH(BU$16,Ages,1))),\"\")","v":0.73043450642374774},{"$f":"IF($C26<>\"\",BV26*EXP(-OFFSET('Forecasts Aggregate'!$C$17,$C26-$C$17,MATCH(BV$16,Ages,1))),\"\")","v":0.71200710645400622},{"$f":"IF($C26<>\"\",BW26*EXP(-OFFSET('Forecasts Aggregate'!$C$17,$C26-$C$17,MATCH(BW$16,Ages,1))),\"\")","v":0.69404459288634246},{"$f":"IF($C26<>\"\",BX26*EXP(-OFFSET('Forecasts Aggregate'!$C$17,$C26-$C$17,MATCH(BX$16,Ages,1))),\"\")","v":0.67653523756772405},{"$f":"IF($C26<>\"\",BY26*EXP(-OFFSET('Forecasts Aggregate'!$C$17,$C26-$C$17,MATCH(BY$16,Ages,1))),\"\")","v":0.65946760822293482},{"$f":"IF($C26<>\"\",BZ26*EXP(-OFFSET('Forecasts Aggregate'!$C$17,$C26-$C$17,MATCH(BZ$16,Ages,1))),\"\")","v":0.64283056099017044},{"$f":"IF($C26<>\"\",CA26*EXP(-OFFSET('Forecasts Aggregate'!$C$17,$C26-$C$17,MATCH(CA$16,Ages,1))),\"\")","v":0.61752780004741115},{"$f":"IF($C26<>\"\",CB26*EXP(-OFFSET('Forecasts Aggregate'!$C$17,$C26-$C$17,MATCH(CB$16,Ages,1))),\"\")","v":0.59322099317121069},{"$f":"IF($C26<>\"\",CC26*EXP(-OFFSET('Forecasts Aggregate'!$C$17,$C26-$C$17,MATCH(CC$16,Ages,1))),\"\")","v":0.56987093813755318},{"$f":"IF($C26<>\"\",CD26*EXP(-OFFSET('Forecasts Aggregate'!$C$17,$C26-$C$17,MATCH(CD$16,Ages,1))),\"\")","v":0.54743997577989867},{"$f":"IF($C26<>\"\",CE26*EXP(-OFFSET('Forecasts Aggregate'!$C$17,$C26-$C$17,MATCH(CE$16,Ages,1))),\"\")","v":0.52589192925215977},{"$f":"IF($C26<>\"\",CF26*EXP(-OFFSET('Forecasts Aggregate'!$C$17,$C26-$C$17,MATCH(CF$16,Ages,1))),\"\")","v":0.49228157018140345},{"$f":"IF($C26<>\"\",CG26*EXP(-OFFSET('Forecasts Aggregate'!$C$17,$C26-$C$17,MATCH(CG$16,Ages,1))),\"\")","v":0.46081928788085275},{"$f":"IF($C26<>\"\",CH26*EXP(-OFFSET('Forecasts Aggregate'!$C$17,$C26-$C$17,MATCH(CH$16,Ages,1))),\"\")","v":0.43136779628935656},{"$f":"IF($C26<>\"\",CI26*EXP(-OFFSET('Forecasts Aggregate'!$C$17,$C26-$C$17,MATCH(CI$16,Ages,1))),\"\")","v":0.40379858345609726},{"$f":"IF($C26<>\"\",CJ26*EXP(-OFFSET('Forecasts Aggregate'!$C$17,$C26-$C$17,MATCH(CJ$16,Ages,1))),\"\")","v":0.37799135077709062},{"$f":"IF($C26<>\"\",CK26*EXP(-OFFSET('Forecasts Aggregate'!$C$17,$C26-$C$17,MATCH(CK$16,Ages,1))),\"\")","v":0.33888170966996134},{"$f":"IF($C26<>\"\",CL26*EXP(-OFFSET('Forecasts Aggregate'!$C$17,$C26-$C$17,MATCH(CL$16,Ages,1))),\"\")","v":0.30381862683561772},{"$f":"IF($C26<>\"\",CM26*EXP(-OFFSET('Forecasts Aggregate'!$C$17,$C26-$C$17,MATCH(CM$16,Ages,1))),\"\")","v":0.27238341692202089},{"$f":"IF($C26<>\"\",CN26*EXP(-OFFSET('Forecasts Aggregate'!$C$17,$C26-$C$17,MATCH(CN$16,Ages,1))),\"\")","v":0.24420071470554613},{"$f":"IF($C26<>\"\",CO26*EXP(-OFFSET('Forecasts Aggregate'!$C$17,$C26-$C$17,MATCH(CO$16,Ages,1))),\"\")","v":0.2189339928861081},{"$f":"IF($C26<>\"\",CP26*EXP(-OFFSET('Forecasts Aggregate'!$C$17,$C26-$C$17,MATCH(CP$16,Ages,1))),\"\")","v":0.18019679355116347},{"$f":"IF($C26<>\"\",CQ26*EXP(-OFFSET('Forecasts Aggregate'!$C$17,$C26-$C$17,MATCH(CQ$16,Ages,1))),\"\")","v":0.14831358062798564},{"$f":"IF($C26<>\"\",CR26*EXP(-OFFSET('Forecasts Aggregate'!$C$17,$C26-$C$17,MATCH(CR$16,Ages,1))),\"\")","v":0.12207164048370477},{"$f":"IF($C26<>\"\",CS26*EXP(-OFFSET('Forecasts Aggregate'!$C$17,$C26-$C$17,MATCH(CS$16,Ages,1))),\"\")","v":0.1004728315996915},{"$f":"IF($C26<>\"\",CT26*EXP(-OFFSET('Forecasts Aggregate'!$C$17,$C26-$C$17,MATCH(CT$16,Ages,1))),\"\")","v":8.2695619143477561E-2},{"$f":"IF($C26<>\"\",CU26*EXP(-OFFSET('Forecasts Aggregate'!$C$17,$C26-$C$17,MATCH(CU$16,Ages,1))),\"\")","v":5.8752112921672837E-2},{"$f":"IF($C26<>\"\",CV26*EXP(-OFFSET('Forecasts Aggregate'!$C$17,$C26-$C$17,MATCH(CV$16,Ages,1))),\"\")","v":4.1741156406025291E-2},{"$f":"IF($C26<>\"\",CW26*EXP(-OFFSET('Forecasts Aggregate'!$C$17,$C26-$C$17,MATCH(CW$16,Ages,1))),\"\")","v":2.9655514524815449E-2},{"$f":"IF($C26<>\"\",CX26*EXP(-OFFSET('Forecasts Aggregate'!$C$17,$C26-$C$17,MATCH(CX$16,Ages,1))),\"\")","v":2.1069122598735487E-2},{"$f":"IF($C26<>\"\",CY26*EXP(-OFFSET('Forecasts Aggregate'!$C$17,$C26-$C$17,MATCH(CY$16,Ages,1))),\"\")","v":1.4968815553987052E-2},{"$f":"IF($C26<>\"\",CZ26*EXP(-OFFSET('Forecasts Aggregate'!$C$17,$C26-$C$17,MATCH(CZ$16,Ages,1))),\"\")","v":1.0634777885944455E-2},{"$f":"IF($C26<>\"\",DA26*EXP(-OFFSET('Forecasts Aggregate'!$C$17,$C26-$C$17,MATCH(DA$16,Ages,1))),\"\")","v":7.5556078752836656E-3},{"$f":"IF($C26<>\"\",DB26*EXP(-OFFSET('Forecasts Aggregate'!$C$17,$C26-$C$17,MATCH(DB$16,Ages,1))),\"\")","v":5.3679739226616431E-3},{"$f":"IF($C26<>\"\",DC26*EXP(-OFFSET('Forecasts Aggregate'!$C$17,$C26-$C$17,MATCH(DC$16,Ages,1))),\"\")","v":3.8137426544642642E-3},{"$f":"IF($C26<>\"\",DD26*EXP(-OFFSET('Forecasts Aggregate'!$C$17,$C26-$C$17,MATCH(DD$16,Ages,1))),\"\")","v":2.7095200617644499E-3},{"$f":"IF($C26<>\"\",DE26*EXP(-OFFSET('Forecasts Aggregate'!$C$17,$C26-$C$17,MATCH(DE$16,Ages,1))),\"\")","v":1.9250116303758116E-3},{"$f":"IF($C26<>\"\",DF26*EXP(-OFFSET('Forecasts Aggregate'!$C$17,$C26-$C$17,MATCH(DF$16,Ages,1))),\"\")","v":1.3676480308726681E-3},{"$f":"IF($C26<>\"\",DG26*EXP(-OFFSET('Forecasts Aggregate'!$C$17,$C26-$C$17,MATCH(DG$16,Ages,1))),\"\")","v":9.7166225223518509E-4},{"$f":"IF($C26<>\"\",DH26*EXP(-OFFSET('Forecasts Aggregate'!$C$17,$C26-$C$17,MATCH(DH$16,Ages,1))),\"\")","v":6.9032931800174055E-4},{"$f":"IF($C26<>\"\",DI26*EXP(-OFFSET('Forecasts Aggregate'!$C$17,$C26-$C$17,MATCH(DI$16,Ages,1))),\"\")","v":4.9045289780116008E-4},{"$f":"IF($C26<>\"\",DJ26*EXP(-OFFSET('Forecasts Aggregate'!$C$17,$C26-$C$17,MATCH(DJ$16,Ages,1))),\"\")","v":3.4844825315813791E-4},null,2025,76.360501429110187,18.600617847757643]
[null,null,2026,1,{"$f":"IF($C27<>\"\",D27*EXP(-OFFSET('Forecasts Aggregate'!$C$17,$C27-$C$17,MATCH(D$16,Ages,1))),\"\")","v":0.99450228494656856},{"$f":"IF($C27<>\"\",E27*EXP(-OFFSET('Forecasts Aggregate'!$C$17,$C27-$C$17,MATCH(E$16,Ages,1))),\"\")","v":0.99422539133898025},{"$f":"IF($C27<>\"\",F27*EXP(-OFFSET('Forecasts Aggregate'!$C$17,$C27-$C$17,MATCH(F$16,Ages,1))),\"\")","v":0.99394857482530219},{"$f":"IF($C27<>\"\",G27*EXP(-OFFSET('Forecasts Aggregate'!$C$17,$C27-$C$17,MATCH(G$16,Ages,1))),\"\")","v":0.99367183538406956},{"$f":"IF($C27<>\"\",H27*EXP(-OFFSET('Forecasts Aggregate'!$C$17,$C27-$C$17,MATCH(H$16,Ages,1))),\"\")","v":0.99339517299382352},{"$f":"IF($C27<>\"\",I27*EXP(-OFFSET('Forecasts Aggregate'!$C$17,$C27-$C$17,MATCH(I$16,Ages,1))),\"\")","v":0.99325941333484913},{"$f":"IF($C27<>\"\",J27*EXP(-OFFSET('Forecasts Aggregate'!$C$17,$C27-$C$17,MATCH(J$16,Ages,1))),\"\")","v":0.99312367222910058},{"$f":"IF($C27<>\"\",K27*EXP(-OFFSET('Forecasts Aggregate'!$C$17,$C27-$C$17,MATCH(K$16,Ages,1))),\"\")","v":0.99298794967404236},{"$f":"IF($C27<>\"\",L27*EXP(-OFFSET('Forecasts Aggregate'!$C$17,$C27-$C$17,MATCH(L$16,Ages,1))),\"\")","v":0.99285224566713925},{"$f":"IF($C27<>\"\",M27*EXP(-OFFSET('Forecasts Aggregate'!$C$17,$C27-$C$17,MATCH(M$16,Ages,1))),\"\")","v":0.99271656020585652},{"$f":"IF($C27<>\"\",N27*EXP(-OFFSET('Forecasts Aggregate'!$C$17,$C27-$C$17,MATCH(N$16,Ages,1))),\"\")","v":0.99255308024907052},{"$f":"IF($C27<>\"\",O27*EXP(-OFFSET('Forecasts Aggregate'!$C$17,$C27-$C$17,MATCH(O$16,Ages,1))),\"\")","v":0.99238962721406387},{"$f":"IF($C27<>\"\",P27*EXP(-OFFSET('Forecasts Aggregate'!$C$17,$C27-$C$17,MATCH(P$16,Ages,1))),\"\")","v":0.99222620109640325},{"$f":"IF($C27<>\"\",Q27*EXP(-OFFSET('Forecasts Aggregate'!$C$17,$C27-$C$17,MATCH(Q$16,Ages,1))),\"\")","v":0.99206280189165585},{"$f":"IF($C27<>\"\",R27*EXP(-OFFSET('Forecasts Aggregate'!$C$17,$C27-$C$17,MATCH(R$16,Ages,1))),\"\")","v":0.99189942959538968},{"$f":"IF($C27<>\"\",S27*EXP(-OFFSET('Forecasts Aggregate'!$C$17,$C27-$C$17,MATCH(S$16,Ages,1))),\"\")","v":0.99116225821271686},{"$f":"IF($C27<>\"\",T27*EXP(-OFFSET('Forecasts Aggregate'!$C$17,$C27-$C$17,MATCH(T$16,Ages,1))),\"\")","v":0.99042563468966693},{"$f":"IF($C27<>\"\",U27*EXP(-OFFSET('Forecasts Aggregate'!$C$17,$C27-$C$17,MATCH(U$16,Ages,1))),\"\")","v":0.98968955861907515},{"$f":"IF($C27<>\"\",V27*EXP(-OFFSET('Forecasts Aggregate'!$C$17,$C27-$C$17,MATCH(V$16,Ages,1))),\"\")","v":0.98895402959407941},{"$f":"IF($C27<>\"\",W27*EXP(-OFFSET('Forecasts Aggregate'!$C$17,$C27-$C$17,MATCH(W$16,Ages,1))),\"\")","v":0.98821904720812004},{"$f":"IF($C27<>\"\",X27*EXP(-OFFSET('Forecasts Aggregate'!$C$17,$C27-$C$17,MATCH(X$16,Ages,1))),\"\")","v":0.98658552242579411},{"$f":"IF($C27<>\"\",Y27*EXP(-OFFSET('Forecasts Aggregate'!$C$17,$C27-$C$17,MATCH(Y$16,Ages,1))),\"\")","v":0.98495469785778},{"$f":"IF($C27<>\"\",Z27*EXP(-OFFSET('Forecasts Aggregate'!$C$17,$C27-$C$17,MATCH(Z$16,Ages,1))),\"\")","v":0.98332656904062699},{"$f":"IF($C27<>\"\",AA27*EXP(-OFFSET('Forecasts Aggregate'!$C$17,$C27-$C$17,MATCH(AA$16,Ages,1))),\"\")","v":0.98170113151826244},{"$f":"IF($C27<>\"\",AB27*EXP(-OFFSET('Forecasts Aggregate'!$C$17,$C27-$C$17,MATCH(AB$16,Ages,1))),\"\")","v":0.98007838084197962},{"$f":"IF($C27<>\"\",AC27*EXP(-OFFSET('Forecasts Aggregate'!$C$17,$C27-$C$17,MATCH(AC$16,Ages,1))),\"\")","v":0.97796990332054023},{"$f":"IF($C27<>\"\",AD27*EXP(-OFFSET('Forecasts Aggregate'!$C$17,$C27-$C$17,MATCH(AD$16,Ages,1))),\"\")","v":0.97586596184187591},{"$f":"IF($C27<>\"\",AE27*EXP(-OFFSET('Forecasts Aggregate'!$C$17,$C27-$C$17,MATCH(AE$16,Ages,1))),\"\")","v":0.97376654664743634},{"$f":"IF($C27<>\"\",AF27*EXP(-OFFSET('Forecasts Aggregate'!$C$17,$C27-$C$17,MATCH(AF$16,Ages,1))),\"\")","v":0.97167164799966499},{"$f":"IF($C27<>\"\",AG27*EXP(-OFFSET('Forecasts Aggregate'!$C$17,$C27-$C$17,MATCH(AG$16,Ages,1))),\"\")","v":0.96958125618195423},{"$f":"IF($C27<>\"\",AH27*EXP(-OFFSET('Forecasts Aggregate'!$C$17,$C27-$C$17,MATCH(AH$16,Ages,1))),\"\")","v":0.96727640188342834},{"$f":"IF($C27<>\"\",AI27*EXP(-OFFSET('Forecasts Aggregate'!$C$17,$C27-$C$17,MATCH(AI$16,Ages,1))),\"\")","v":0.96497702660309059},{"$f":"IF($C27<>\"\",AJ27*EXP(-OFFSET('Forecasts Aggregate'!$C$17,$C27-$C$17,MATCH(AJ$16,Ages,1))),\"\")","v":0.96268311731641243},{"$f":"IF($C27<>\"\",AK27*EXP(-OFFSET('Forecasts Aggregate'!$C$17,$C27-$C$17,MATCH(AK$16,Ages,1))),\"\")","v":0.96039466102982696},{"$f":"IF($C27<>\"\",AL27*EXP(-OFFSET('Forecasts Aggregate'!$C$17,$C27-$C$17,MATCH(AL$16,Ages,1))),\"\")","v":0.95811164478065503},{"$f":"IF($C27<>\"\",AM27*EXP(-OFFSET('Forecasts Aggregate'!$C$17,$C27-$C$17,MATCH(AM$16,Ages,1))),\"\")","v":0.95593787513630235},{"$f":"IF($C27<>\"\",AN27*EXP(-OFFSET('Forecasts Aggregate'!$C$17,$C27-$C$17,MATCH(AN$16,Ages,1))),\"\")","v":0.95376903735400609},{"$f":"IF($C27<>\"\",AO27*EXP(-OFFSET('Forecasts Aggregate'!$C$17,$C27-$C$17,MATCH(AO$16,Ages,1))),\"\")","v":0.95160512024432709},{"$f":"IF($C27<>\"\",AP27*EXP(-OFFSET('Forecasts Aggregate'!$C$17,$C27-$C$17,MATCH(AP$16,Ages,1))),\"\")","v":0.94944611264321266},{"$f":"IF($C27<>\"\",AQ27*EXP(-OFFSET('Forecasts Aggregate'!$C$17,$C27-$C$17,MATCH(AQ$16,Ages,1))),\"\")","v":0.94729200341193931},{"$f":"IF($C27<>\"\",AR27*EXP(-OFFSET('Forecasts Aggregate'!$C$17,$C27-$C$17,MATCH(AR$16,Ages,1))),\"\")","v":0.94482063146754092},{"$f":"IF($C27<>\"\",AS27*EXP(-OFFSET('Forecasts Aggregate'!$C$17,$C27-$C$17,MATCH(AS$16,Ages,1))),\"\")","v":0.94235570703802229},{"$f":"IF($C27<>\"\",AT27*EXP(-OFFSET('Forecasts Aggregate'!$C$17,$C27-$C$17,MATCH(AT$16,Ages,1))),\"\")","v":0.93989721330258558},{"$f":"IF($C27<>\"\",AU27*EXP(-OFFSET('Forecasts Aggregate'!$C$17,$C27-$C$17,MATCH(AU$16,Ages,1))),\"\")","v":0.93744513348431635},{"$f":"IF($C27<>\"\",AV27*EXP(-OFFSET('Forecasts Aggregate'!$C$17,$C27-$C$17,MATCH(AV$16,Ages,1))),\"\")","v":0.93499945085006897},{"$f":"IF($C27<>\"\",AW27*EXP(-OFFSET('Forecasts Aggregate'!$C$17,$C27-$C$17,MATCH(AW$16,Ages,1))),\"\")","v":0.93150360527771159},{"$f":"IF($C27<>\"\",AX27*EXP(-OFFSET('Forecasts Aggregate'!$C$17,$C27-$C$17,MATCH(AX$16,Ages,1))),\"\")","v":0.92802083023310122},{"$f":"IF($C27<>\"\",AY27*EXP(-OFFSET('Forecasts Aggregate'!$C$17,$C27-$C$17,MATCH(AY$16,Ages,1))),\"\")","v":0.92455107684717541},{"$f":"IF($C27<>\"\",AZ27*EXP(-OFFSET('Forecasts Aggregate'!$C$17,$C27-$C$17,MATCH(AZ$16,Ages,1))),\"\")","v":0.92109429643358698},{"$f":"IF($C27<>\"\",BA27*EXP(-OFFSET('Forecasts Aggregate'!$C$17,$C27-$C$17,MATCH(BA$16,Ages,1))),\"\")","v":0.91765044048802091},{"$f":"IF($C27<>\"\",BB27*EXP(-OFFSET('Forecasts Aggregate'!$C$17,$C27-$C$17,MATCH(BB$16,Ages,1))),\"\")","v":0.9119857151946914},{"$f":"IF($C27<>\"\",BC27*EXP(-OFFSET('Forecasts Aggregate'!$C$17,$C27-$C$17,MATCH(BC$16,Ages,1))),\"\")","v":0.90635595867730656},{"$f":"IF($C27<>\"\",BD27*EXP(-OFFSET('Forecasts Aggregate'!$C$17,$C27-$C$17,MATCH(BD$16,Ages,1))),\"\")","v":0.90076095507097831},{"$f":"IF($C27<>\"\",BE27*EXP(-OFFSET('Forecasts Aggregate'!$C$17,$C27-$C$17,MATCH(BE$16,Ages,1))),\"\")","v":0.89520048984336886},{"$f":"IF($C27<>\"\",BF27*EXP(-OFFSET('Forecasts Aggregate'!$C$17,$C27-$C$17,MATCH(BF$16,Ages,1))),\"\")","v":0.88967434978646465},{"$f":"IF($C27<>\"\",BG27*EXP(-OFFSET('Forecasts Aggregate'!$C$17,$C27-$C$17,MATCH(BG$16,Ages,1))),\"\")","v":0.8812666243093964},{"$f":"IF($C27<>\"\",BH27*EXP(-OFFSET('Forecasts Aggregate'!$C$17,$C27-$C$17,MATCH(BH$16,Ages,1))),\"\")","v":0.87293835470032599},{"$f":"IF($C27<>\"\",BI27*EXP(-OFFSET('Forecasts Aggregate'!$C$17,$C27-$C$17,MATCH(BI$16,Ages,1))),\"\")","v":0.86468879007425181},{"$f":"IF($C27<>\"\",BJ27*EXP(-OFFSET('Forecasts Aggregate'!$C$17,$C27-$C$17,MATCH(BJ$16,Ages,1))),\"\")","v":0.85651718664229093},{"$f":"IF($C27<>\"\",BK27*EXP(-OFFSET('Forecasts Aggregate'!$C$17,$C27-$C$17,MATCH(BK$16,Ages,1))),\"\")","v":0.84842280764461875},{"$f":"IF($C27<>\"\",BL27*EXP(-OFFSET('Forecasts Aggregate'!$C$17,$C27-$C$17,MATCH(BL$16,Ages,1))),\"\")","v":0.83738438608651655},{"$f":"IF($C27<>\"\",BM27*EXP(-OFFSET('Forecasts Aggregate'!$C$17,$C27-$C$17,MATCH(BM$16,Ages,1))),\"\")","v":0.82648958012832097},{"$f":"IF($C27<>\"\",BN27*EXP(-OFFSET('Forecasts Aggregate'!$C$17,$C27-$C$17,MATCH(BN$16,Ages,1))),\"\")","v":0.81573652125645635},{"$f":"IF($C27<>\"\",BO27*EXP(-OFFSET('Forecasts Aggregate'!$C$17,$C27-$C$17,MATCH(BO$16,Ages,1))),\"\")","v":0.80512336526767925},{"$f":"IF($C27<>\"\",BP27*EXP(-OFFSET('Forecasts Aggregate'!$C$17,$C27-$C$17,MATCH(BP$16,Ages,1))),\"\")","v":0.79464829195278885},{"$f":"IF($C27<>\"\",BQ27*EXP(-OFFSET('Forecasts Aggregate'!$C$17,$C27-$C$17,MATCH(BQ$16,Ages,1))),\"\")","v":0.78129511372980565},{"$f":"IF($C27<>\"\",BR27*EXP(-OFFSET('Forecasts Aggregate'!$C$17,$C27-$C$17,MATCH(BR$16,Ages,1))),\"\")","v":0.76816632077318547},{"$f":"IF($C27<>\"\",BS27*EXP(-OFFSET('Forecasts Aggregate'!$C$17,$C27-$C$17,MATCH(BS$16,Ages,1))),\"\")","v":0.75525814253879864},{"$f":"IF($C27<>\"\",BT27*EXP(-OFFSET('Forecasts Aggregate'!$C$17,$C27-$C$17,MATCH(BT$16,Ages,1))),\"\")","v":0.74256687184230408},{"$f":"IF($C27<>\"\",BU27*EXP(-OFFSET('Forecasts Aggregate'!$C$17,$C27-$C$17,MATCH(BU$16,Ages,1))),\"\")","v":0.73008886379445881},{"$f":"IF($C27<>\"\",BV27*EXP(-OFFSET('Forecasts Aggregate'!$C$17,$C27-$C$17,MATCH(BV$16,Ages,1))),\"\")","v":0.71181935877333546},{"$f":"IF($C27<>\"\",BW27*EXP(-OFFSET('Forecasts Aggregate'!$C$17,$C27-$C$17,MATCH(BW$16,Ages,1))),\"\")","v":0.69400702387254809},{"$f":"IF($C27<>\"\",BX27*EXP(-OFFSET('Forecasts Aggregate'!$C$17,$C27-$C$17,MATCH(BX$16,Ages,1))),\"\")","v":0.67664041901647964},{"$f":"IF($C27<>\"\",BY27*EXP(-OFFSET('Forecasts Aggregate'!$C$17,$C27-$C$17,MATCH(BY$16,Ages,1))),\"\")","v":0.65970839040222484},{"$f":"IF($C27<>\"\",BZ27*EXP(-OFFSET('Forecasts Aggregate'!$C$17,$C27-$C$17,MATCH(BZ$16,Ages,1))),\"\")","v":0.64320006333599555},{"$f":"IF($C27<>\"\",CA27*EXP(-OFFSET('Forecasts Aggregate'!$C$17,$C27-$C$17,MATCH(CA$16,Ages,1))),\"\")","v":0.61805936209146606},{"$f":"IF($C27<>\"\",CB27*EXP(-OFFSET('Forecasts Aggregate'!$C$17,$C27-$C$17,MATCH(CB$16,Ages,1))),\"\")","v":0.59390133310568682},{"$f":"IF($C27<>\"\",CC27*EXP(-OFFSET('Forecasts Aggregate'!$C$17,$C27-$C$17,MATCH(CC$16,Ages,1))),\"\")","v":0.57068756675918353},{"$f":"IF($C27<>\"\",CD27*EXP(-OFFSET('Forecasts Aggregate'!$C$17,$C27-$C$17,MATCH(CD$16,Ages,1))),\"\")","v":0.54838115474571758},{"$f":"IF($C27<>\"\",CE27*EXP(-OFFSET('Forecasts Aggregate'!$C$17,$C27-$C$17,MATCH(CE$16,Ages,1))),\"\")","v":0.52694663139059428},{"$f":"IF($C27<>\"\",CF27*EXP(-OFFSET('Forecasts Aggregate'!$C$17,$C27-$C$17,MATCH(CF$16,Ages,1))),\"\")","v":0.49348344677594436},{"$f":"IF($C27<>\"\",CG27*EXP(-OFFSET('Forecasts Aggregate'!$C$17,$C27-$C$17,MATCH(CG$16,Ages,1))),\"\")","v":0.4621453060610895},{"$f":"IF($C27<>\"\",CH27*EXP(-OFFSET('Forecasts Aggregate'!$C$17,$C27-$C$17,MATCH(CH$16,Ages,1))),\"\")","v":0.4327972605964},{"$f":"IF($C27<>\"\",CI27*EXP(-OFFSET('Forecasts Aggregate'!$C$17,$C27-$C$17,MATCH(CI$16,Ages,1))),\"\")","v":0.40531293150251713},{"$f":"IF($C27<>\"\",CJ27*EXP(-OFFSET('Forecasts Aggregate'!$C$17,$C27-$C$17,MATCH(CJ$16,Ages,1))),\"\")","v":0.37957396545621896},{"$f":"IF($C27<>\"\",CK27*EXP(-OFFSET('Forecasts Aggregate'!$C$17,$C27-$C$17,MATCH(CK$16,Ages,1))),\"\")","v":0.34051719094735194},{"$f":"IF($C27<>\"\",CL27*EXP(-OFFSET('Forecasts Aggregate'!$C$17,$C27-$C$17,MATCH(CL$16,Ages,1))),\"\")","v":0.30547921586589832},{"$f":"IF($C27<>\"\",CM27*EXP(-OFFSET('Forecasts Aggregate'!$C$17,$C27-$C$17,MATCH(CM$16,Ages,1))),\"\")","v":0.27404652043095268},{"$f":"IF($C27<>\"\",CN27*EXP(-OFFSET('Forecasts Aggregate'!$C$17,$C27-$C$17,MATCH(CN$16,Ages,1))),\"\")","v":0.2458481345365284},{"$f":"IF($C27<>\"\",CO27*EXP(-OFFSET('Forecasts Aggregate'!$C$17,$C27-$C$17,MATCH(CO$16,Ages,1))),\"\")","v":0.22055125954543706},{"$f":"IF($C27<>\"\",CP27*EXP(-OFFSET('Forecasts Aggregate'!$C$17,$C27-$C$17,MATCH(CP$16,Ages,1))),\"\")","v":0.1816251834612792},{"$f":"IF($C27<>\"\",CQ27*EXP(-OFFSET('Forecasts Aggregate'!$C$17,$C27-$C$17,MATCH(CQ$16,Ages,1))),\"\")","v":0.14956934426641683},{"$f":"IF($C27<>\"\",CR27*EXP(-OFFSET('Forecasts Aggregate'!$C$17,$C27-$C$17,MATCH(CR$16,Ages,1))),\"\")","v":0.12317118319142788},{"$f":"IF($C27<>\"\",CS27*EXP(-OFFSET('Forecasts Aggregate'!$C$17,$C27-$C$17,MATCH(CS$16,Ages,1))),\"\")","v":0.10143215137557235},{"$f":"IF($C27<>\"\",CT27*EXP(-OFFSET('Forecasts Aggregate'!$C$17,$C27-$C$17,MATCH(CT$16,Ages,1))),\"\")","v":8.3529938302915094E-2},{"$f":"IF($C27<>\"\",CU27*EXP(-OFFSET('Forecasts Aggregate'!$C$17,$C27-$C$17,MATCH(CU$16,Ages,1))),\"\")","v":5.9340280764024429E-2},{"$f":"IF($C27<>\"\",CV27*EXP(-OFFSET('Forecasts Aggregate'!$C$17,$C27-$C$17,MATCH(CV$16,Ages,1))),\"\")","v":4.2155770645772882E-2},{"$f":"IF($C27<>\"\",CW27*EXP(-OFFSET('Forecasts Aggregate'!$C$17,$C27-$C$17,MATCH(CW$16,Ages,1))),\"\")","v":2.9947768629642119E-2},{"$f":"IF($C27<>\"\",CX27*EXP(-OFFSET('Forecasts Aggregate'!$C$17,$C27-$C$17,MATCH(CX$16,Ages,1))),\"\")","v":2.1275114466078656E-2},{"$f":"IF($C27<>\"\",CY27*EXP(-OFFSET('Forecasts Aggregate'!$C$17,$C27-$C$17,MATCH(CY$16,Ages,1))),\"\")","v":1.5113997344588084E-2},{"$f":"IF($C27<>\"\",CZ27*EXP(-OFFSET('Forecasts Aggregate'!$C$17,$C27-$C$17,MATCH(CZ$16,Ages,1))),\"\")","v":1.0737094556949732E-2},{"$f":"IF($C27<>\"\",DA27*EXP(-OFFSET('Forecasts Aggregate'!$C$17,$C27-$C$17,MATCH(DA$16,Ages,1))),\"\")","v":7.6277107171889309E-3},{"$f":"IF($C27<>\"\",DB27*EXP(-OFFSET('Forecasts Aggregate'!$C$17,$C27-$C$17,MATCH(DB$16,Ages,1))),\"\")","v":5.4187816337576905E-3},{"$f":"IF($C27<>\"\",DC27*EXP(-OFFSET('Forecasts Aggregate'!$C$17,$C27-$C$17,MATCH(DC$16,Ages,1))),\"\")","v":3.8495422129971642E-3},{"$f":"IF($C27<>\"\",DD27*EXP(-OFFSET('Forecasts Aggregate'!$C$17,$C27-$C$17,MATCH(DD$16,Ages,1))),\"\")","v":2.7347430199675324E-3},{"$f":"IF($C27<>\"\",DE27*EXP(-OFFSET('Forecasts Aggregate'!$C$17,$C27-$C$17,MATCH(DE$16,Ages,1))),\"\")","v":1.9427814975013103E-3},{"$f":"IF($C27<>\"\",DF27*EXP(-OFFSET('Forecasts Aggregate'!$C$17,$C27-$C$17,MATCH(DF$16,Ages,1))),\"\")","v":1.3801662238370918E-3},{"$f":"IF($C27<>\"\",DG27*EXP(-OFFSET('Forecasts Aggregate'!$C$17,$C27-$C$17,MATCH(DG$16,Ages,1))),\"\")","v":9.8048020730620166E-4},{"$f":"IF($C27<>\"\",DH27*EXP(-OFFSET('Forecasts Aggregate'!$C$17,$C27-$C$17,MATCH(DH$16,Ages,1))),\"\")","v":6.9654032993687019E-4},{"$f":"IF($C27<>\"\",DI27*EXP(-OFFSET('Forecasts Aggregate'!$C$17,$C27-$C$17,MATCH(DI$16,Ages,1))),\"\")","v":4.9482735868940086E-4},{"$f":"IF($C27<>\"\",DJ27*EXP(-OFFSET('Forecasts Aggregate'!$C$17,$C27-$C$17,MATCH(DJ$16,Ages,1))),\"\")","v":3.5152898458833094E-4},null,2026,76.354647926187297,18.65124618418924]
[null,null,"","",{"$f":"IF($C28<>\"\",D28*EXP(-OFFSET('Forecasts Aggregate'!$C$17,$C28-$C$17,MATCH(D$16,Ages,1))),\"\")","v":""},{"$f":"IF($C28<>\"\",E28*EXP(-OFFSET('Forecasts Aggregate'!$C$17,$C28-$C$17,MATCH(E$16,Ages,1))),\"\")","v":""},{"$f":"IF($C28<>\"\",F28*EXP(-OFFSET('Forecasts Aggregate'!$C$17,$C28-$C$17,MATCH(F$16,Ages,1))),\"\")","v":""},{"$f":"IF($C28<>\"\",G28*EXP(-OFFSET('Forecasts Aggregate'!$C$17,$C28-$C$17,MATCH(G$16,Ages,1))),\"\")","v":""},{"$f":"IF($C28<>\"\",H28*EXP(-OFFSET('Forecasts Aggregate'!$C$17,$C28-$C$17,MATCH(H$16,Ages,1))),\"\")","v":""},{"$f":"IF($C28<>\"\",I28*EXP(-OFFSET('Forecasts Aggregate'!$C$17,$C28-$C$17,MATCH(I$16,Ages,1))),\"\")","v":""},{"$f":"IF($C28<>\"\",J28*EXP(-OFFSET('Forecasts Aggregate'!$C$17,$C28-$C$17,MATCH(J$16,Ages,1))),\"\")","v":""},{"$f":"IF($C28<>\"\",K28*EXP(-OFFSET('Forecasts Aggregate'!$C$17,$C28-$C$17,MATCH(K$16,Ages,1))),\"\")","v":""},{"$f":"IF($C28<>\"\",L28*EXP(-OFFSET('Forecasts Aggregate'!$C$17,$C28-$C$17,MATCH(L$16,Ages,1))),\"\")","v":""},{"$f":"IF($C28<>\"\",M28*EXP(-OFFSET('Forecasts Aggregate'!$C$17,$C28-$C$17,MATCH(M$16,Ages,1))),\"\")","v":""},{"$f":"IF($C28<>\"\",N28*EXP(-OFFSET('Forecasts Aggregate'!$C$17,$C28-$C$17,MATCH(N$16,Ages,1))),\"\")","v":""},{"$f":"IF($C28<>\"\",O28*EXP(-OFFSET('Forecasts Aggregate'!$C$17,$C28-$C$17,MATCH(O$16,Ages,1))),\"\")","v":""},{"$f":"IF($C28<>\"\",P28*EXP(-OFFSET('Forecasts Aggregate'!$C$17,$C28-$C$17,MATCH(P$16,Ages,1))),\"\")","v":""},{"$f":"IF($C28<>\"\",Q28*EXP(-OFFSET('Forecasts Aggregate'!$C$17,$C28-$C$17,MATCH(Q$16,Ages,1))),\"\")","v":""},{"$f":"IF($C28<>\"\",R28*EXP(-OFFSET('Forecasts Aggregate'!$C$17,$C28-$C$17,MATCH(R$16,Ages,1))),\"\")","v":""},{"$f":"IF($C28<>\"\",S28*EXP(-OFFSET('Forecasts Aggregate'!$C$17,$C28-$C$17,MATCH(S$16,Ages,1))),\"\")","v":""},{"$f":"IF($C28<>\"\",T28*EXP(-OFFSET('Forecasts Aggregate'!$C$17,$C28-$C$17,MATCH(T$16,Ages,1))),\"\")","v":""},{"$f":"IF($C28<>\"\",U28*EXP(-OFFSET('Forecasts Aggregate'!$C$17,$C28-$C$17,MATCH(U$16,Ages,1))),\"\")","v":""},{"$f":"IF($C28<>\"\",V28*EXP(-OFFSET('Forecasts Aggregate'!$C$17,$C28-$C$17,MATCH(V$16,Ages,1))),\"\")","v":""},{"$f":"IF($C28<>\"\",W28*EXP(-OFFSET('Forecasts Aggregate'!$C$17,$C28-$C$17,MATCH(W$16,Ages,1))),\"\")","v":""},{"$f":"IF($C28<>\"\",X28*EXP(-OFFSET('Forecasts Aggregate'!$C$17,$C28-$C$17,MATCH(X$16,Ages,1))),\"\")","v":""},{"$f":"IF($C28<>\"\",Y28*EXP(-OFFSET('Forecasts Aggregate'!$C$17,$C28-$C$17,MATCH(Y$16,Ages,1))),\"\")","v":""},{"$f":"IF($C28<>\"\",Z28*EXP(-OFFSET('Forecasts Aggregate'!$C$17,$C28-$C$17,MATCH(Z$16,Ages,1))),\"\")","v":""},{"$f":"IF($C28<>\"\",AA28*EXP(-OFFSET('Forecasts Aggregate'!$C$17,$C28-$C$17,MATCH(AA$16,Ages,1))),\"\")","v":""},{"$f":"IF($C28<>\"\",AB28*EXP(-OFFSET('Forecasts Aggregate'!$C$17,$C28-$C$17,MATCH(AB$16,Ages,1))),\"\")","v":""},{"$f":"IF($C28<>\"\",AC28*EXP(-OFFSET('Forecasts Aggregate'!$C$17,$C28-$C$17,MATCH(AC$16,Ages,1))),\"\")","v":""},{"$f":"IF($C28<>\"\",AD28*EXP(-OFFSET('Forecasts Aggregate'!$C$17,$C28-$C$17,MATCH(AD$16,Ages,1))),\"\")","v":""},{"$f":"IF($C28<>\"\",AE28*EXP(-OFFSET('Forecasts Aggregate'!$C$17,$C28-$C$17,MATCH(AE$16,Ages,1))),\"\")","v":""},{"$f":"IF($C28<>\"\",AF28*EXP(-OFFSET('Forecasts Aggregate'!$C$17,$C28-$C$17,MATCH(AF$16,Ages,1))),\"\")","v":""},{"$f":"IF($C28<>\"\",AG28*EXP(-OFFSET('Forecasts Aggregate'!$C$17,$C28-$C$17,MATCH(AG$16,Ages,1))),\"\")","v":""},{"$f":"IF($C28<>\"\",AH28*EXP(-OFFSET('Forecasts Aggregate'!$C$17,$C28-$C$17,MATCH(AH$16,Ages,1))),\"\")","v":""},{"$f":"IF($C28<>\"\",AI28*EXP(-OFFSET('Forecasts Aggregate'!$C$17,$C28-$C$17,MATCH(AI$16,Ages,1))),\"\")","v":""},{"$f":"IF($C28<>\"\",AJ28*EXP(-OFFSET('Forecasts Aggregate'!$C$17,$C28-$C$17,MATCH(AJ$16,Ages,1))),\"\")","v":""},{"$f":"IF($C28<>\"\",AK28*EXP(-OFFSET('Forecasts Aggregate'!$C$17,$C28-$C$17,MATCH(AK$16,Ages,1))),\"\")","v":""},{"$f":"IF($C28<>\"\",AL28*EXP(-OFFSET('Forecasts Aggregate'!$C$17,$C28-$C$17,MATCH(AL$16,Ages,1))),\"\")","v":""},{"$f":"IF($C28<>\"\",AM28*EXP(-OFFSET('Forecasts Aggregate'!$C$17,$C28-$C$17,MATCH(AM$16,Ages,1))),\"\")","v":""},{"$f":"IF($C28<>\"\",AN28*EXP(-OFFSET('Forecasts Aggregate'!$C$17,$C28-$C$17,MATCH(AN$16,Ages,1))),\"\")","v":""},{"$f":"IF($C28<>\"\",AO28*EXP(-OFFSET('Forecasts Aggregate'!$C$17,$C28-$C$17,MATCH(AO$16,Ages,1))),\"\")","v":""},{"$f":"IF($C28<>\"\",AP28*EXP(-OFFSET('Forecasts Aggregate'!$C$17,$C28-$C$17,MATCH(AP$16,Ages,1))),\"\")","v":""},{"$f":"IF($C28<>\"\",AQ28*EXP(-OFFSET('Forecasts Aggregate'!$C$17,$C28-$C$17,MATCH(AQ$16,Ages,1))),\"\")","v":""},{"$f":"IF($C28<>\"\",AR28*EXP(-OFFSET('Forecasts Aggregate'!$C$17,$C28-$C$17,MATCH(AR$16,Ages,1))),\"\")","v":""},{"$f":"IF($C28<>\"\",AS28*EXP(-OFFSET('Forecasts Aggregate'!$C$17,$C28-$C$17,MATCH(AS$16,Ages,1))),\"\")","v":""},{"$f":"IF($C28<>\"\",AT28*EXP(-OFFSET('Forecasts Aggregate'!$C$17,$C28-$C$17,MATCH(AT$16,Ages,1))),\"\")","v":""},{"$f":"IF($C28<>\"\",AU28*EXP(-OFFSET('Forecasts Aggregate'!$C$17,$C28-$C$17,MATCH(AU$16,Ages,1))),\"\")","v":""},{"$f":"IF($C28<>\"\",AV28*EXP(-OFFSET('Forecasts Aggregate'!$C$17,$C28-$C$17,MATCH(AV$16,Ages,1))),\"\")","v":""},{"$f":"IF($C28<>\"\",AW28*EXP(-OFFSET('Forecasts Aggregate'!$C$17,$C28-$C$17,MATCH(AW$16,Ages,1))),\"\")","v":""},{"$f":"IF($C28<>\"\",AX28*EXP(-OFFSET('Forecasts Aggregate'!$C$17,$C28-$C$17,MATCH(AX$16,Ages,1))),\"\")","v":""},{"$f":"IF($C28<>\"\",AY28*EXP(-OFFSET('Forecasts Aggregate'!$C$17,$C28-$C$17,MATCH(AY$16,Ages,1))),\"\")","v":""},{"$f":"IF($C28<>\"\",AZ28*EXP(-OFFSET('Forecasts Aggregate'!$C$17,$C28-$C$17,MATCH(AZ$16,Ages,1))),\"\")","v":""},{"$f":"IF($C28<>\"\",BA28*EXP(-OFFSET('Forecasts Aggregate'!$C$17,$C28-$C$17,MATCH(BA$16,Ages,1))),\"\")","v":""},{"$f":"IF($C28<>\"\",BB28*EXP(-OFFSET('Forecasts Aggregate'!$C$17,$C28-$C$17,MATCH(BB$16,Ages,1))),\"\")","v":""},{"$f":"IF($C28<>\"\",BC28*EXP(-OFFSET('Forecasts Aggregate'!$C$17,$C28-$C$17,MATCH(BC$16,Ages,1))),\"\")","v":""},{"$f":"IF($C28<>\"\",BD28*EXP(-OFFSET('Forecasts Aggregate'!$C$17,$C28-$C$17,MATCH(BD$16,Ages,1))),\"\")","v":""},{"$f":"IF($C28<>\"\",BE28*EXP(-OFFSET('Forecasts Aggregate'!$C$17,$C28-$C$17,MATCH(BE$16,Ages,1))),\"\")","v":""},{"$f":"IF($C28<>\"\",BF28*EXP(-OFFSET('Forecasts Aggregate'!$C$17,$C28-$C$17,MATCH(BF$16,Ages,1))),\"\")","v":""},{"$f":"IF($C28<>\"\",BG28*EXP(-OFFSET('Forecasts Aggregate'!$C$17,$C28-$C$17,MATCH(BG$16,Ages,1))),\"\")","v":""},{"$f":"IF($C28<>\"\",BH28*EXP(-OFFSET('Forecasts Aggregate'!$C$17,$C28-$C$17,MATCH(BH$16,Ages,1))),\"\")","v":""},{"$f":"IF($C28<>\"\",BI28*EXP(-OFFSET('Forecasts Aggregate'!$C$17,$C28-$C$17,MATCH(BI$16,Ages,1))),\"\")","v":""},{"$f":"IF($C28<>\"\",BJ28*EXP(-OFFSET('Forecasts Aggregate'!$C$17,$C28-$C$17,MATCH(BJ$16,Ages,1))),\"\")","v":""},{"$f":"IF($C28<>\"\",BK28*EXP(-OFFSET('Forecasts Aggregate'!$C$17,$C28-$C$17,MATCH(BK$16,Ages,1))),\"\")","v":""},{"$f":"IF($C28<>\"\",BL28*EXP(-OFFSET('Forecasts Aggregate'!$C$17,$C28-$C$17,MATCH(BL$16,Ages,1))),\"\")","v":""},{"$f":"IF($C28<>\"\",BM28*EXP(-OFFSET('Forecasts Aggregate'!$C$17,$C28-$C$17,MATCH(BM$16,Ages,1))),\"\")","v":""},{"$f":"IF($C28<>\"\",BN28*EXP(-OFFSET('Forecasts Aggregate'!$C$17,$C28-$C$17,MATCH(BN$16,Ages,1))),\"\")","v":""},{"$f":"IF($C28<>\"\",BO28*EXP(-OFFSET('Forecasts Aggregate'!$C$17,$C28-$C$17,MATCH(BO$16,Ages,1))),\"\")","v":""},{"$f":"IF($C28<>\"\",BP28*EXP(-OFFSET('Forecasts Aggregate'!$C$17,$C28-$C$17,MATCH(BP$16,Ages,1))),\"\")","v":""},{"$f":"IF($C28<>\"\",BQ28*EXP(-OFFSET('Forecasts Aggregate'!$C$17,$C28-$C$17,MATCH(BQ$16,Ages,1))),\"\")","v":""},{"$f":"IF($C28<>\"\",BR28*EXP(-OFFSET('Forecasts Aggregate'!$C$17,$C28-$C$17,MATCH(BR$16,Ages,1))),\"\")","v":""},{"$f":"IF($C28<>\"\",BS28*EXP(-OFFSET('Forecasts Aggregate'!$C$17,$C28-$C$17,MATCH(BS$16,Ages,1))),\"\")","v":""},{"$f":"IF($C28<>\"\",BT28*EXP(-OFFSET('Forecasts Aggregate'!$C$17,$C28-$C$17,MATCH(BT$16,Ages,1))),\"\")","v":""},{"$f":"IF($C28<>\"\",BU28*EXP(-OFFSET('Forecasts Aggregate'!$C$17,$C28-$C$17,MATCH(BU$16,Ages,1))),\"\")","v":""},{"$f":"IF($C28<>\"\",BV28*EXP(-OFFSET('Forecasts Aggregate'!$C$17,$C28-$C$17,MATCH(BV$16,Ages,1))),\"\")","v":""},{"$f":"IF($C28<>\"\",BW28*EXP(-OFFSET('Forecasts Aggregate'!$C$17,$C28-$C$17,MATCH(BW$16,Ages,1))),\"\")","v":""},{"$f":"IF($C28<>\"\",BX28*EXP(-OFFSET('Forecasts Aggregate'!$C$17,$C28-$C$17,MATCH(BX$16,Ages,1))),\"\")","v":""},{"$f":"IF($C28<>\"\",BY28*EXP(-OFFSET('Forecasts Aggregate'!$C$17,$C28-$C$17,MATCH(BY$16,Ages,1))),\"\")","v":""},{"$f":"IF($C28<>\"\",BZ28*EXP(-OFFSET('Forecasts Aggregate'!$C$17,$C28-$C$17,MATCH(BZ$16,Ages,1))),\"\")","v":""},{"$f":"IF($C28<>\"\",CA28*EXP(-OFFSET('Forecasts Aggregate'!$C$17,$C28-$C$17,MATCH(CA$16,Ages,1))),\"\")","v":""},{"$f":"IF($C28<>\"\",CB28*EXP(-OFFSET('Forecasts Aggregate'!$C$17,$C28-$C$17,MATCH(CB$16,Ages,1))),\"\")","v":""},{"$f":"IF($C28<>\"\",CC28*EXP(-OFFSET('Forecasts Aggregate'!$C$17,$C28-$C$17,MATCH(CC$16,Ages,1))),\"\")","v":""},{"$f":"IF($C28<>\"\",CD28*EXP(-OFFSET('Forecasts Aggregate'!$C$17,$C28-$C$17,MATCH(CD$16,Ages,1))),\"\")","v":""},{"$f":"IF($C28<>\"\",CE28*EXP(-OFFSET('Forecasts Aggregate'!$C$17,$C28-$C$17,MATCH(CE$16,Ages,1))),\"\")","v":""},{"$f":"IF($C28<>\"\",CF28*EXP(-OFFSET('Forecasts Aggregate'!$C$17,$C28-$C$17,MATCH(CF$16,Ages,1))),\"\")","v":""},{"$f":"IF($C28<>\"\",CG28*EXP(-OFFSET('Forecasts Aggregate'!$C$17,$C28-$C$17,MATCH(CG$16,Ages,1))),\"\")","v":""},{"$f":"IF($C28<>\"\",CH28*EXP(-OFFSET('Forecasts Aggregate'!$C$17,$C28-$C$17,MATCH(CH$16,Ages,1))),\"\")","v":""},{"$f":"IF($C28<>\"\",CI28*EXP(-OFFSET('Forecasts Aggregate'!$C$17,$C28-$C$17,MATCH(CI$16,Ages,1))),\"\")","v":""},{"$f":"IF($C28<>\"\",CJ28*EXP(-OFFSET('Forecasts Aggregate'!$C$17,$C28-$C$17,MATCH(CJ$16,Ages,1))),\"\")","v":""},{"$f":"IF($C28<>\"\",CK28*EXP(-OFFSET('Forecasts Aggregate'!$C$17,$C28-$C$17,MATCH(CK$16,Ages,1))),\"\")","v":""},{"$f":"IF($C28<>\"\",CL28*EXP(-OFFSET('Forecasts Aggregate'!$C$17,$C28-$C$17,MATCH(CL$16,Ages,1))),\"\")","v":""},{"$f":"IF($C28<>\"\",CM28*EXP(-OFFSET('Forecasts Aggregate'!$C$17,$C28-$C$17,MATCH(CM$16,Ages,1))),\"\")","v":""},{"$f":"IF($C28<>\"\",CN28*EXP(-OFFSET('Forecasts Aggregate'!$C$17,$C28-$C$17,MATCH(CN$16,Ages,1))),\"\")","v":""},{"$f":"IF($C28<>\"\",CO28*EXP(-OFFSET('Forecasts Aggregate'!$C$17,$C28-$C$17,MATCH(CO$16,Ages,1))),\"\")","v":""},{"$f":"IF($C28<>\"\",CP28*EXP(-OFFSET('Forecasts Aggregate'!$C$17,$C28-$C$17,MATCH(CP$16,Ages,1))),\"\")","v":""},{"$f":"IF($C28<>\"\",CQ28*EXP(-OFFSET('Forecasts Aggregate'!$C$17,$C28-$C$17,MATCH(CQ$16,Ages,1))),\"\")","v":""},{"$f":"IF($C28<>\"\",CR28*EXP(-OFFSET('Forecasts Aggregate'!$C$17,$C28-$C$17,MATCH(CR$16,Ages,1))),\"\")","v":""},{"$f":"IF($C28<>\"\",CS28*EXP(-OFFSET('Forecasts Aggregate'!$C$17,$C28-$C$17,MATCH(CS$16,Ages,1))),\"\")","v":""},{"$f":"IF($C28<>\"\",CT28*EXP(-OFFSET('Forecasts Aggregate'!$C$17,$C28-$C$17,MATCH(CT$16,Ages,1))),\"\")","v":""},{"$f":"IF($C28<>\"\",CU28*EXP(-OFFSET('Forecasts Aggregate'!$C$17,$C28-$C$17,MATCH(CU$16,Ages,1))),\"\")","v":""},{"$f":"IF($C28<>\"\",CV28*EXP(-OFFSET('Forecasts Aggregate'!$C$17,$C28-$C$17,MATCH(CV$16,Ages,1))),\"\")","v":""},{"$f":"IF($C28<>\"\",CW28*EXP(-OFFSET('Forecasts Aggregate'!$C$17,$C28-$C$17,MATCH(CW$16,Ages,1))),\"\")","v":""},{"$f":"IF($C28<>\"\",CX28*EXP(-OFFSET('Forecasts Aggregate'!$C$17,$C28-$C$17,MATCH(CX$16,Ages,1))),\"\")","v":""},{"$f":"IF($C28<>\"\",CY28*EXP(-OFFSET('Forecasts Aggregate'!$C$17,$C28-$C$17,MATCH(CY$16,Ages,1))),\"\")","v":""},{"$f":"IF($C28<>\"\",CZ28*EXP(-OFFSET('Forecasts Aggregate'!$C$17,$C28-$C$17,MATCH(CZ$16,Ages,1))),\"\")","v":""},{"$f":"IF($C28<>\"\",DA28*EXP(-OFFSET('Forecasts Aggregate'!$C$17,$C28-$C$17,MATCH(DA$16,Ages,1))),\"\")","v":""},{"$f":"IF($C28<>\"\",DB28*EXP(-OFFSET('Forecasts Aggregate'!$C$17,$C28-$C$17,MATCH(DB$16,Ages,1))),\"\")","v":""},{"$f":"IF($C28<>\"\",DC28*EXP(-OFFSET('Forecasts Aggregate'!$C$17,$C28-$C$17,MATCH(DC$16,Ages,1))),\"\")","v":""},{"$f":"IF($C28<>\"\",DD28*EXP(-OFFSET('Forecasts Aggregate'!$C$17,$C28-$C$17,MATCH(DD$16,Ages,1))),\"\")","v":""},{"$f":"IF($C28<>\"\",DE28*EXP(-OFFSET('Forecasts Aggregate'!$C$17,$C28-$C$17,MATCH(DE$16,Ages,1))),\"\")","v":""},{"$f":"IF($C28<>\"\",DF28*EXP(-OFFSET('Forecasts Aggregate'!$C$17,$C28-$C$17,MATCH(DF$16,Ages,1))),\"\")","v":""},{"$f":"IF($C28<>\"\",DG28*EXP(-OFFSET('Forecasts Aggregate'!$C$17,$C28-$C$17,MATCH(DG$16,Ages,1))),\"\")","v":""},{"$f":"IF($C28<>\"\",DH28*EXP(-OFFSET('Forecasts Aggregate'!$C$17,$C28-$C$17,MATCH(DH$16,Ages,1))),\"\")","v":""},{"$f":"IF($C28<>\"\",DI28*EXP(-OFFSET('Forecasts Aggregate'!$C$17,$C28-$C$17,MATCH(DI$16,Ages,1))),\"\")","v":""},{"$f":"IF($C28<>\"\",DJ28*EXP(-OFFSET('Forecasts Aggregate'!$C$17,$C28-$C$17,MATCH(DJ$16,Ages,1))),\"\")","v":""},null,"","",""]
[null,null,"","",{"$f":"IF($C29<>\"\",D29*EXP(-OFFSET('Forecasts Aggregate'!$C$17,$C29-$C$17,MATCH(D$16,Ages,1))),\"\")","v":""},{"$f":"IF($C29<>\"\",E29*EXP(-OFFSET('Forecasts Aggregate'!$C$17,$C29-$C$17,MATCH(E$16,Ages,1))),\"\")","v":""},{"$f":"IF($C29<>\"\",F29*EXP(-OFFSET('Forecasts Aggregate'!$C$17,$C29-$C$17,MATCH(F$16,Ages,1))),\"\")","v":""},{"$f":"IF($C29<>\"\",G29*EXP(-OFFSET('Forecasts Aggregate'!$C$17,$C29-$C$17,MATCH(G$16,Ages,1))),\"\")","v":""},{"$f":"IF($C29<>\"\",H29*EXP(-OFFSET('Forecasts Aggregate'!$C$17,$C29-$C$17,MATCH(H$16,Ages,1))),\"\")","v":""},{"$f":"IF($C29<>\"\",I29*EXP(-OFFSET('Forecasts Aggregate'!$C$17,$C29-$C$17,MATCH(I$16,Ages,1))),\"\")","v":""},{"$f":"IF($C29<>\"\",J29*EXP(-OFFSET('Forecasts Aggregate'!$C$17,$C29-$C$17,MATCH(J$16,Ages,1))),\"\")","v":""},{"$f":"IF($C29<>\"\",K29*EXP(-OFFSET('Forecasts Aggregate'!$C$17,$C29-$C$17,MATCH(K$16,Ages,1))),\"\")","v":""},{"$f":"IF($C29<>\"\",L29*EXP(-OFFSET('Forecasts Aggregate'!$C$17,$C29-$C$17,MATCH(L$16,Ages,1))),\"\")","v":""},{"$f":"IF($C29<>\"\",M29*EXP(-OFFSET('Forecasts Aggregate'!$C$17,$C29-$C$17,MATCH(M$16,Ages,1))),\"\")","v":""},{"$f":"IF($C29<>\"\",N29*EXP(-OFFSET('Forecasts Aggregate'!$C$17,$C29-$C$17,MATCH(N$16,Ages,1))),\"\")","v":""},{"$f":"IF($C29<>\"\",O29*EXP(-OFFSET('Forecasts Aggregate'!$C$17,$C29-$C$17,MATCH(O$16,Ages,1))),\"\")","v":""},{"$f":"IF($C29<>\"\",P29*EXP(-OFFSET('Forecasts Aggregate'!$C$17,$C29-$C$17,MATCH(P$16,Ages,1))),\"\")","v":""},{"$f":"IF($C29<>\"\",Q29*EXP(-OFFSET('Forecasts Aggregate'!$C$17,$C29-$C$17,MATCH(Q$16,Ages,1))),\"\")","v":""},{"$f":"IF($C29<>\"\",R29*EXP(-OFFSET('Forecasts Aggregate'!$C$17,$C29-$C$17,MATCH(R$16,Ages,1))),\"\")","v":""},{"$f":"IF($C29<>\"\",S29*EXP(-OFFSET('Forecasts Aggregate'!$C$17,$C29-$C$17,MATCH(S$16,Ages,1))),\"\")","v":""},{"$f":"IF($C29<>\"\",T29*EXP(-OFFSET('Forecasts Aggregate'!$C$17,$C29-$C$17,MATCH(T$16,Ages,1))),\"\")","v":""},{"$f":"IF($C29<>\"\",U29*EXP(-OFFSET('Forecasts Aggregate'!$C$17,$C29-$C$17,MATCH(U$16,Ages,1))),\"\")","v":""},{"$f":"IF($C29<>\"\",V29*EXP(-OFFSET('Forecasts Aggregate'!$C$17,$C29-$C$17,MATCH(V$16,Ages,1))),\"\")","v":""},{"$f":"IF($C29<>\"\",W29*EXP(-OFFSET('Forecasts Aggregate'!$C$17,$C29-$C$17,MATCH(W$16,Ages,1))),\"\")","v":""},{"$f":"IF($C29<>\"\",X29*EXP(-OFFSET('Forecasts Aggregate'!$C$17,$C29-$C$17,MATCH(X$16,Ages,1))),\"\")","v":""},{"$f":"IF($C29<>\"\",Y29*EXP(-OFFSET('Forecasts Aggregate'!$C$17,$C29-$C$17,MATCH(Y$16,Ages,1))),\"\")","v":""},{"$f":"IF($C29<>\"\",Z29*EXP(-OFFSET('Forecasts Aggregate'!$C$17,$C29-$C$17,MATCH(Z$16,Ages,1))),\"\")","v":""},{"$f":"IF($C29<>\"\",AA29*EXP(-OFFSET('Forecasts Aggregate'!$C$17,$C29-$C$17,MATCH(AA$16,Ages,1))),\"\")","v":""},{"$f":"IF($C29<>\"\",AB29*EXP(-OFFSET('Forecasts Aggregate'!$C$17,$C29-$C$17,MATCH(AB$16,Ages,1))),\"\")","v":""},{"$f":"IF($C29<>\"\",AC29*EXP(-OFFSET('Forecasts Aggregate'!$C$17,$C29-$C$17,MATCH(AC$16,Ages,1))),\"\")","v":""},{"$f":"IF($C29<>\"\",AD29*EXP(-OFFSET('Forecasts Aggregate'!$C$17,$C29-$C$17,MATCH(AD$16,Ages,1))),\"\")","v":""},{"$f":"IF($C29<>\"\",AE29*EXP(-OFFSET('Forecasts Aggregate'!$C$17,$C29-$C$17,MATCH(AE$16,Ages,1))),\"\")","v":""},{"$f":"IF($C29<>\"\",AF29*EXP(-OFFSET('Forecasts Aggregate'!$C$17,$C29-$C$17,MATCH(AF$16,Ages,1))),\"\")","v":""},{"$f":"IF($C29<>\"\",AG29*EXP(-OFFSET('Forecasts Aggregate'!$C$17,$C29-$C$17,MATCH(AG$16,Ages,1))),\"\")","v":""},{"$f":"IF($C29<>\"\",AH29*EXP(-OFFSET('Forecasts Aggregate'!$C$17,$C29-$C$17,MATCH(AH$16,Ages,1))),\"\")","v":""},{"$f":"IF($C29<>\"\",AI29*EXP(-OFFSET('Forecasts Aggregate'!$C$17,$C29-$C$17,MATCH(AI$16,Ages,1))),\"\")","v":""},{"$f":"IF($C29<>\"\",AJ29*EXP(-OFFSET('Forecasts Aggregate'!$C$17,$C29-$C$17,MATCH(AJ$16,Ages,1))),\"\")","v":""},{"$f":"IF($C29<>\"\",AK29*EXP(-OFFSET('Forecasts Aggregate'!$C$17,$C29-$C$17,MATCH(AK$16,Ages,1))),\"\")","v":""},{"$f":"IF($C29<>\"\",AL29*EXP(-OFFSET('Forecasts Aggregate'!$C$17,$C29-$C$17,MATCH(AL$16,Ages,1))),\"\")","v":""},{"$f":"IF($C29<>\"\",AM29*EXP(-OFFSET('Forecasts Aggregate'!$C$17,$C29-$C$17,MATCH(AM$16,Ages,1))),\"\")","v":""},{"$f":"IF($C29<>\"\",AN29*EXP(-OFFSET('Forecasts Aggregate'!$C$17,$C29-$C$17,MATCH(AN$16,Ages,1))),\"\")","v":""},{"$f":"IF($C29<>\"\",AO29*EXP(-OFFSET('Forecasts Aggregate'!$C$17,$C29-$C$17,MATCH(AO$16,Ages,1))),\"\")","v":""},{"$f":"IF($C29<>\"\",AP29*EXP(-OFFSET('Forecasts Aggregate'!$C$17,$C29-$C$17,MATCH(AP$16,Ages,1))),\"\")","v":""},{"$f":"IF($C29<>\"\",AQ29*EXP(-OFFSET('Forecasts Aggregate'!$C$17,$C29-$C$17,MATCH(AQ$16,Ages,1))),\"\")","v":""},{"$f":"IF($C29<>\"\",AR29*EXP(-OFFSET('Forecasts Aggregate'!$C$17,$C29-$C$17,MATCH(AR$16,Ages,1))),\"\")","v":""},{"$f":"IF($C29<>\"\",AS29*EXP(-OFFSET('Forecasts Aggregate'!$C$17,$C29-$C$17,MATCH(AS$16,Ages,1))),\"\")","v":""},{"$f":"IF($C29<>\"\",AT29*EXP(-OFFSET('Forecasts Aggregate'!$C$17,$C29-$C$17,MATCH(AT$16,Ages,1))),\"\")","v":""},{"$f":"IF($C29<>\"\",AU29*EXP(-OFFSET('Forecasts Aggregate'!$C$17,$C29-$C$17,MATCH(AU$16,Ages,1))),\"\")","v":""},{"$f":"IF($C29<>\"\",AV29*EXP(-OFFSET('Forecasts Aggregate'!$C$17,$C29-$C$17,MATCH(AV$16,Ages,1))),\"\")","v":""},{"$f":"IF($C29<>\"\",AW29*EXP(-OFFSET('Forecasts Aggregate'!$C$17,$C29-$C$17,MATCH(AW$16,Ages,1))),\"\")","v":""},{"$f":"IF($C29<>\"\",AX29*EXP(-OFFSET('Forecasts Aggregate'!$C$17,$C29-$C$17,MATCH(AX$16,Ages,1))),\"\")","v":""},{"$f":"IF($C29<>\"\",AY29*EXP(-OFFSET('Forecasts Aggregate'!$C$17,$C29-$C$17,MATCH(AY$16,Ages,1))),\"\")","v":""},{"$f":"IF($C29<>\"\",AZ29*EXP(-OFFSET('Forecasts Aggregate'!$C$17,$C29-$C$17,MATCH(AZ$16,Ages,1))),\"\")","v":""},{"$f":"IF($C29<>\"\",BA29*EXP(-OFFSET('Forecasts Aggregate'!$C$17,$C29-$C$17,MATCH(BA$16,Ages,1))),\"\")","v":""},{"$f":"IF($C29<>\"\",BB29*EXP(-OFFSET('Forecasts Aggregate'!$C$17,$C29-$C$17,MATCH(BB$16,Ages,1))),\"\")","v":""},{"$f":"IF($C29<>\"\",BC29*EXP(-OFFSET('Forecasts Aggregate'!$C$17,$C29-$C$17,MATCH(BC$16,Ages,1))),\"\")","v":""},{"$f":"IF($C29<>\"\",BD29*EXP(-OFFSET('Forecasts Aggregate'!$C$17,$C29-$C$17,MATCH(BD$16,Ages,1))),\"\")","v":""},{"$f":"IF($C29<>\"\",BE29*EXP(-OFFSET('Forecasts Aggregate'!$C$17,$C29-$C$17,MATCH(BE$16,Ages,1))),\"\")","v":""},{"$f":"IF($C29<>\"\",BF29*EXP(-OFFSET('Forecasts Aggregate'!$C$17,$C29-$C$17,MATCH(BF$16,Ages,1))),\"\")","v":""},{"$f":"IF($C29<>\"\",BG29*EXP(-OFFSET('Forecasts Aggregate'!$C$17,$C29-$C$17,MATCH(BG$16,Ages,1))),\"\")","v":""},{"$f":"IF($C29<>\"\",BH29*EXP(-OFFSET('Forecasts Aggregate'!$C$17,$C29-$C$17,MATCH(BH$16,Ages,1))),\"\")","v":""},{"$f":"IF($C29<>\"\",BI29*EXP(-OFFSET('Forecasts Aggregate'!$C$17,$C29-$C$17,MATCH(BI$16,Ages,1))),\"\")","v":""},{"$f":"IF($C29<>\"\",BJ29*EXP(-OFFSET('Forecasts Aggregate'!$C$17,$C29-$C$17,MATCH(BJ$16,Ages,1))),\"\")","v":""},{"$f":"IF($C29<>\"\",BK29*EXP(-OFFSET('Forecasts Aggregate'!$C$17,$C29-$C$17,MATCH(BK$16,Ages,1))),\"\")","v":""},{"$f":"IF($C29<>\"\",BL29*EXP(-OFFSET('Forecasts Aggregate'!$C$17,$C29-$C$17,MATCH(BL$16,Ages,1))),\"\")","v":""},{"$f":"IF($C29<>\"\",BM29*EXP(-OFFSET('Forecasts Aggregate'!$C$17,$C29-$C$17,MATCH(BM$16,Ages,1))),\"\")","v":""},{"$f":"IF($C29<>\"\",BN29*EXP(-OFFSET('Forecasts Aggregate'!$C$17,$C29-$C$17,MATCH(BN$16,Ages,1))),\"\")","v":""},{"$f":"IF($C29<>\"\",BO29*EXP(-OFFSET('Forecasts Aggregate'!$C$17,$C29-$C$17,MATCH(BO$16,Ages,1))),\"\")","v":""},{"$f":"IF($C29<>\"\",BP29*EXP(-OFFSET('Forecasts Aggregate'!$C$17,$C29-$C$17,MATCH(BP$16,Ages,1))),\"\")","v":""},{"$f":"IF($C29<>\"\",BQ29*EXP(-OFFSET('Forecasts Aggregate'!$C$17,$C29-$C$17,MATCH(BQ$16,Ages,1))),\"\")","v":""},{"$f":"IF($C29<>\"\",BR29*EXP(-OFFSET('Forecasts Aggregate'!$C$17,$C29-$C$17,MATCH(BR$16,Ages,1))),\"\")","v":""},{"$f":"IF($C29<>\"\",BS29*EXP(-OFFSET('Forecasts Aggregate'!$C$17,$C29-$C$17,MATCH(BS$16,Ages,1))),\"\")","v":""},{"$f":"IF($C29<>\"\",BT29*EXP(-OFFSET('Forecasts Aggregate'!$C$17,$C29-$C$17,MATCH(BT$16,Ages,1))),\"\")","v":""},{"$f":"IF($C29<>\"\",BU29*EXP(-OFFSET('Forecasts Aggregate'!$C$17,$C29-$C$17,MATCH(BU$16,Ages,1))),\"\")","v":""},{"$f":"IF($C29<>\"\",BV29*EXP(-OFFSET('Forecasts Aggregate'!$C$17,$C29-$C$17,MATCH(BV$16,Ages,1))),\"\")","v":""},{"$f":"IF($C29<>\"\",BW29*EXP(-OFFSET('Forecasts Aggregate'!$C$17,$C29-$C$17,MATCH(BW$16,Ages,1))),\"\")","v":""},{"$f":"IF($C29<>\"\",BX29*EXP(-OFFSET('Forecasts Aggregate'!$C$17,$C29-$C$17,MATCH(BX$16,Ages,1))),\"\")","v":""},{"$f":"IF($C29<>\"\",BY29*EXP(-OFFSET('Forecasts Aggregate'!$C$17,$C29-$C$17,MATCH(BY$16,Ages,1))),\"\")","v":""},{"$f":"IF($C29<>\"\",BZ29*EXP(-OFFSET('Forecasts Aggregate'!$C$17,$C29-$C$17,MATCH(BZ$16,Ages,1))),\"\")","v":""},{"$f":"IF($C29<>\"\",CA29*EXP(-OFFSET('Forecasts Aggregate'!$C$17,$C29-$C$17,MATCH(CA$16,Ages,1))),\"\")","v":""},{"$f":"IF($C29<>\"\",CB29*EXP(-OFFSET('Forecasts Aggregate'!$C$17,$C29-$C$17,MATCH(CB$16,Ages,1))),\"\")","v":""},{"$f":"IF($C29<>\"\",CC29*EXP(-OFFSET('Forecasts Aggregate'!$C$17,$C29-$C$17,MATCH(CC$16,Ages,1))),\"\")","v":""},{"$f":"IF($C29<>\"\",CD29*EXP(-OFFSET('Forecasts Aggregate'!$C$17,$C29-$C$17,MATCH(CD$16,Ages,1))),\"\")","v":""},{"$f":"IF($C29<>\"\",CE29*EXP(-OFFSET('Forecasts Aggregate'!$C$17,$C29-$C$17,MATCH(CE$16,Ages,1))),\"\")","v":""},{"$f":"IF($C29<>\"\",CF29*EXP(-OFFSET('Forecasts Aggregate'!$C$17,$C29-$C$17,MATCH(CF$16,Ages,1))),\"\")","v":""},{"$f":"IF($C29<>\"\",CG29*EXP(-OFFSET('Forecasts Aggregate'!$C$17,$C29-$C$17,MATCH(CG$16,Ages,1))),\"\")","v":""},{"$f":"IF($C29<>\"\",CH29*EXP(-OFFSET('Forecasts Aggregate'!$C$17,$C29-$C$17,MATCH(CH$16,Ages,1))),\"\")","v":""},{"$f":"IF($C29<>\"\",CI29*EXP(-OFFSET('Forecasts Aggregate'!$C$17,$C29-$C$17,MATCH(CI$16,Ages,1))),\"\")","v":""},{"$f":"IF($C29<>\"\",CJ29*EXP(-OFFSET('Forecasts Aggregate'!$C$17,$C29-$C$17,MATCH(CJ$16,Ages,1))),\"\")","v":""},{"$f":"IF($C29<>\"\",CK29*EXP(-OFFSET('Forecasts Aggregate'!$C$17,$C29-$C$17,MATCH(CK$16,Ages,1))),\"\")","v":""},{"$f":"IF($C29<>\"\",CL29*EXP(-OFFSET('Forecasts Aggregate'!$C$17,$C29-$C$17,MATCH(CL$16,Ages,1))),\"\")","v":""},{"$f":"IF($C29<>\"\",CM29*EXP(-OFFSET('Forecasts Aggregate'!$C$17,$C29-$C$17,MATCH(CM$16,Ages,1))),\"\")","v":""},{"$f":"IF($C29<>\"\",CN29*EXP(-OFFSET('Forecasts Aggregate'!$C$17,$C29-$C$17,MATCH(CN$16,Ages,1))),\"\")","v":""},{"$f":"IF($C29<>\"\",CO29*EXP(-OFFSET('Forecasts Aggregate'!$C$17,$C29-$C$17,MATCH(CO$16,Ages,1))),\"\")","v":""},{"$f":"IF($C29<>\"\",CP29*EXP(-OFFSET('Forecasts Aggregate'!$C$17,$C29-$C$17,MATCH(CP$16,Ages,1))),\"\")","v":""},{"$f":"IF($C29<>\"\",CQ29*EXP(-OFFSET('Forecasts Aggregate'!$C$17,$C29-$C$17,MATCH(CQ$16,Ages,1))),\"\")","v":""},{"$f":"IF($C29<>\"\",CR29*EXP(-OFFSET('Forecasts Aggregate'!$C$17,$C29-$C$17,MATCH(CR$16,Ages,1))),\"\")","v":""},{"$f":"IF($C29<>\"\",CS29*EXP(-OFFSET('Forecasts Aggregate'!$C$17,$C29-$C$17,MATCH(CS$16,Ages,1))),\"\")","v":""},{"$f":"IF($C29<>\"\",CT29*EXP(-OFFSET('Forecasts Aggregate'!$C$17,$C29-$C$17,MATCH(CT$16,Ages,1))),\"\")","v":""},{"$f":"IF($C29<>\"\",CU29*EXP(-OFFSET('Forecasts Aggregate'!$C$17,$C29-$C$17,MATCH(CU$16,Ages,1))),\"\")","v":""},{"$f":"IF($C29<>\"\",CV29*EXP(-OFFSET('Forecasts Aggregate'!$C$17,$C29-$C$17,MATCH(CV$16,Ages,1))),\"\")","v":""},{"$f":"IF($C29<>\"\",CW29*EXP(-OFFSET('Forecasts Aggregate'!$C$17,$C29-$C$17,MATCH(CW$16,Ages,1))),\"\")","v":""},{"$f":"IF($C29<>\"\",CX29*EXP(-OFFSET('Forecasts Aggregate'!$C$17,$C29-$C$17,MATCH(CX$16,Ages,1))),\"\")","v":""},{"$f":"IF($C29<>\"\",CY29*EXP(-OFFSET('Forecasts Aggregate'!$C$17,$C29-$C$17,MATCH(CY$16,Ages,1))),\"\")","v":""},{"$f":"IF($C29<>\"\",CZ29*EXP(-OFFSET('Forecasts Aggregate'!$C$17,$C29-$C$17,MATCH(CZ$16,Ages,1))),\"\")","v":""},{"$f":"IF($C29<>\"\",DA29*EXP(-OFFSET('Forecasts Aggregate'!$C$17,$C29-$C$17,MATCH(DA$16,Ages,1))),\"\")","v":""},{"$f":"IF($C29<>\"\",DB29*EXP(-OFFSET('Forecasts Aggregate'!$C$17,$C29-$C$17,MATCH(DB$16,Ages,1))),\"\")","v":""},{"$f":"IF($C29<>\"\",DC29*EXP(-OFFSET('Forecasts Aggregate'!$C$17,$C29-$C$17,MATCH(DC$16,Ages,1))),\"\")","v":""},{"$f":"IF($C29<>\"\",DD29*EXP(-OFFSET('Forecasts Aggregate'!$C$17,$C29-$C$17,MATCH(DD$16,Ages,1))),\"\")","v":""},{"$f":"IF($C29<>\"\",DE29*EXP(-OFFSET('Forecasts Aggregate'!$C$17,$C29-$C$17,MATCH(DE$16,Ages,1))),\"\")","v":""},{"$f":"IF($C29<>\"\",DF29*EXP(-OFFSET('Forecasts Aggregate'!$C$17,$C29-$C$17,MATCH(DF$16,Ages,1))),\"\")","v":""},{"$f":"IF($C29<>\"\",DG29*EXP(-OFFSET('Forecasts Aggregate'!$C$17,$C29-$C$17,MATCH(DG$16,Ages,1))),\"\")","v":""},{"$f":"IF($C29<>\"\",DH29*EXP(-OFFSET('Forecasts Aggregate'!$C$17,$C29-$C$17,MATCH(DH$16,Ages,1))),\"\")","v":""},{"$f":"IF($C29<>\"\",DI29*EXP(-OFFSET('Forecasts Aggregate'!$C$17,$C29-$C$17,MATCH(DI$16,Ages,1))),\"\")","v":""},{"$f":"IF($C29<>\"\",DJ29*EXP(-OFFSET('Forecasts Aggregate'!$C$17,$C29-$C$17,MATCH(DJ$16,Ages,1))),\"\")","v":""},null,"","",""]
[null,null,"","",{"$f":"IF($C30<>\"\",D30*EXP(-OFFSET('Forecasts Aggregate'!$C$17,$C30-$C$17,MATCH(D$16,Ages,1))),\"\")","v":""},{"$f":"IF($C30<>\"\",E30*EXP(-OFFSET('Forecasts Aggregate'!$C$17,$C30-$C$17,MATCH(E$16,Ages,1))),\"\")","v":""},{"$f":"IF($C30<>\"\",F30*EXP(-OFFSET('Forecasts Aggregate'!$C$17,$C30-$C$17,MATCH(F$16,Ages,1))),\"\")","v":""},{"$f":"IF($C30<>\"\",G30*EXP(-OFFSET('Forecasts Aggregate'!$C$17,$C30-$C$17,MATCH(G$16,Ages,1))),\"\")","v":""},{"$f":"IF($C30<>\"\",H30*EXP(-OFFSET('Forecasts Aggregate'!$C$17,$C30-$C$17,MATCH(H$16,Ages,1))),\"\")","v":""},{"$f":"IF($C30<>\"\",I30*EXP(-OFFSET('Forecasts Aggregate'!$C$17,$C30-$C$17,MATCH(I$16,Ages,1))),\"\")","v":""},{"$f":"IF($C30<>\"\",J30*EXP(-OFFSET('Forecasts Aggregate'!$C$17,$C30-$C$17,MATCH(J$16,Ages,1))),\"\")","v":""},{"$f":"IF($C30<>\"\",K30*EXP(-OFFSET('Forecasts Aggregate'!$C$17,$C30-$C$17,MATCH(K$16,Ages,1))),\"\")","v":""},{"$f":"IF($C30<>\"\",L30*EXP(-OFFSET('Forecasts Aggregate'!$C$17,$C30-$C$17,MATCH(L$16,Ages,1))),\"\")","v":""},{"$f":"IF($C30<>\"\",M30*EXP(-OFFSET('Forecasts Aggregate'!$C$17,$C30-$C$17,MATCH(M$16,Ages,1))),\"\")","v":""},{"$f":"IF($C30<>\"\",N30*EXP(-OFFSET('Forecasts Aggregate'!$C$17,$C30-$C$17,MATCH(N$16,Ages,1))),\"\")","v":""},{"$f":"IF($C30<>\"\",O30*EXP(-OFFSET('Forecasts Aggregate'!$C$17,$C30-$C$17,MATCH(O$16,Ages,1))),\"\")","v":""},{"$f":"IF($C30<>\"\",P30*EXP(-OFFSET('Forecasts Aggregate'!$C$17,$C30-$C$17,MATCH(P$16,Ages,1))),\"\")","v":""},{"$f":"IF($C30<>\"\",Q30*EXP(-OFFSET('Forecasts Aggregate'!$C$17,$C30-$C$17,MATCH(Q$16,Ages,1))),\"\")","v":""},{"$f":"IF($C30<>\"\",R30*EXP(-OFFSET('Forecasts Aggregate'!$C$17,$C30-$C$17,MATCH(R$16,Ages,1))),\"\")","v":""},{"$f":"IF($C30<>\"\",S30*EXP(-OFFSET('Forecasts Aggregate'!$C$17,$C30-$C$17,MATCH(S$16,Ages,1))),\"\")","v":""},{"$f":"IF($C30<>\"\",T30*EXP(-OFFSET('Forecasts Aggregate'!$C$17,$C30-$C$17,MATCH(T$16,Ages,1))),\"\")","v":""},{"$f":"IF($C30<>\"\",U30*EXP(-OFFSET('Forecasts Aggregate'!$C$17,$C30-$C$17,MATCH(U$16,Ages,1))),\"\")","v":""},{"$f":"IF($C30<>\"\",V30*EXP(-OFFSET('Forecasts Aggregate'!$C$17,$C30-$C$17,MATCH(V$16,Ages,1))),\"\")","v":""},{"$f":"IF($C30<>\"\",W30*EXP(-OFFSET('Forecasts Aggregate'!$C$17,$C30-$C$17,MATCH(W$16,Ages,1))),\"\")","v":""},{"$f":"IF($C30<>\"\",X30*EXP(-OFFSET('Forecasts Aggregate'!$C$17,$C30-$C$17,MATCH(X$16,Ages,1))),\"\")","v":""},{"$f":"IF($C30<>\"\",Y30*EXP(-OFFSET('Forecasts Aggregate'!$C$17,$C30-$C$17,MATCH(Y$16,Ages,1))),\"\")","v":""},{"$f":"IF($C30<>\"\",Z30*EXP(-OFFSET('Forecasts Aggregate'!$C$17,$C30-$C$17,MATCH(Z$16,Ages,1))),\"\")","v":""},{"$f":"IF($C30<>\"\",AA30*EXP(-OFFSET('Forecasts Aggregate'!$C$17,$C30-$C$17,MATCH(AA$16,Ages,1))),\"\")","v":""},{"$f":"IF($C30<>\"\",AB30*EXP(-OFFSET('Forecasts Aggregate'!$C$17,$C30-$C$17,MATCH(AB$16,Ages,1))),\"\")","v":""},{"$f":"IF($C30<>\"\",AC30*EXP(-OFFSET('Forecasts Aggregate'!$C$17,$C30-$C$17,MATCH(AC$16,Ages,1))),\"\")","v":""},{"$f":"IF($C30<>\"\",AD30*EXP(-OFFSET('Forecasts Aggregate'!$C$17,$C30-$C$17,MATCH(AD$16,Ages,1))),\"\")","v":""},{"$f":"IF($C30<>\"\",AE30*EXP(-OFFSET('Forecasts Aggregate'!$C$17,$C30-$C$17,MATCH(AE$16,Ages,1))),\"\")","v":""},{"$f":"IF($C30<>\"\",AF30*EXP(-OFFSET('Forecasts Aggregate'!$C$17,$C30-$C$17,MATCH(AF$16,Ages,1))),\"\")","v":""},{"$f":"IF($C30<>\"\",AG30*EXP(-OFFSET('Forecasts Aggregate'!$C$17,$C30-$C$17,MATCH(AG$16,Ages,1))),\"\")","v":""},{"$f":"IF($C30<>\"\",AH30*EXP(-OFFSET('Forecasts Aggregate'!$C$17,$C30-$C$17,MATCH(AH$16,Ages,1))),\"\")","v":""},{"$f":"IF($C30<>\"\",AI30*EXP(-OFFSET('Forecasts Aggregate'!$C$17,$C30-$C$17,MATCH(AI$16,Ages,1))),\"\")","v":""},{"$f":"IF($C30<>\"\",AJ30*EXP(-OFFSET('Forecasts Aggregate'!$C$17,$C30-$C$17,MATCH(AJ$16,Ages,1))),\"\")","v":""},{"$f":"IF($C30<>\"\",AK30*EXP(-OFFSET('Forecasts Aggregate'!$C$17,$C30-$C$17,MATCH(AK$16,Ages,1))),\"\")","v":""},{"$f":"IF($C30<>\"\",AL30*EXP(-OFFSET('Forecasts Aggregate'!$C$17,$C30-$C$17,MATCH(AL$16,Ages,1))),\"\")","v":""},{"$f":"IF($C30<>\"\",AM30*EXP(-OFFSET('Forecasts Aggregate'!$C$17,$C30-$C$17,MATCH(AM$16,Ages,1))),\"\")","v":""},{"$f":"IF($C30<>\"\",AN30*EXP(-OFFSET('Forecasts Aggregate'!$C$17,$C30-$C$17,MATCH(AN$16,Ages,1))),\"\")","v":""},{"$f":"IF($C30<>\"\",AO30*EXP(-OFFSET('Forecasts Aggregate'!$C$17,$C30-$C$17,MATCH(AO$16,Ages,1))),\"\")","v":""},{"$f":"IF($C30<>\"\",AP30*EXP(-OFFSET('Forecasts Aggregate'!$C$17,$C30-$C$17,MATCH(AP$16,Ages,1))),\"\")","v":""},{"$f":"IF($C30<>\"\",AQ30*EXP(-OFFSET('Forecasts Aggregate'!$C$17,$C30-$C$17,MATCH(AQ$16,Ages,1))),\"\")","v":""},{"$f":"IF($C30<>\"\",AR30*EXP(-OFFSET('Forecasts Aggregate'!$C$17,$C30-$C$17,MATCH(AR$16,Ages,1))),\"\")","v":""},{"$f":"IF($C30<>\"\",AS30*EXP(-OFFSET('Forecasts Aggregate'!$C$17,$C30-$C$17,MATCH(AS$16,Ages,1))),\"\")","v":""},{"$f":"IF($C30<>\"\",AT30*EXP(-OFFSET('Forecasts Aggregate'!$C$17,$C30-$C$17,MATCH(AT$16,Ages,1))),\"\")","v":""},{"$f":"IF($C30<>\"\",AU30*EXP(-OFFSET('Forecasts Aggregate'!$C$17,$C30-$C$17,MATCH(AU$16,Ages,1))),\"\")","v":""},{"$f":"IF($C30<>\"\",AV30*EXP(-OFFSET('Forecasts Aggregate'!$C$17,$C30-$C$17,MATCH(AV$16,Ages,1))),\"\")","v":""},{"$f":"IF($C30<>\"\",AW30*EXP(-OFFSET('Forecasts Aggregate'!$C$17,$C30-$C$17,MATCH(AW$16,Ages,1))),\"\")","v":""},{"$f":"IF($C30<>\"\",AX30*EXP(-OFFSET('Forecasts Aggregate'!$C$17,$C30-$C$17,MATCH(AX$16,Ages,1))),\"\")","v":""},{"$f":"IF($C30<>\"\",AY30*EXP(-OFFSET('Forecasts Aggregate'!$C$17,$C30-$C$17,MATCH(AY$16,Ages,1))),\"\")","v":""},{"$f":"IF($C30<>\"\",AZ30*EXP(-OFFSET('Forecasts Aggregate'!$C$17,$C30-$C$17,MATCH(AZ$16,Ages,1))),\"\")","v":""},{"$f":"IF($C30<>\"\",BA30*EXP(-OFFSET('Forecasts Aggregate'!$C$17,$C30-$C$17,MATCH(BA$16,Ages,1))),\"\")","v":""},{"$f":"IF($C30<>\"\",BB30*EXP(-OFFSET('Forecasts Aggregate'!$C$17,$C30-$C$17,MATCH(BB$16,Ages,1))),\"\")","v":""},{"$f":"IF($C30<>\"\",BC30*EXP(-OFFSET('Forecasts Aggregate'!$C$17,$C30-$C$17,MATCH(BC$16,Ages,1))),\"\")","v":""},{"$f":"IF($C30<>\"\",BD30*EXP(-OFFSET('Forecasts Aggregate'!$C$17,$C30-$C$17,MATCH(BD$16,Ages,1))),\"\")","v":""},{"$f":"IF($C30<>\"\",BE30*EXP(-OFFSET('Forecasts Aggregate'!$C$17,$C30-$C$17,MATCH(BE$16,Ages,1))),\"\")","v":""},{"$f":"IF($C30<>\"\",BF30*EXP(-OFFSET('Forecasts Aggregate'!$C$17,$C30-$C$17,MATCH(BF$16,Ages,1))),\"\")","v":""},{"$f":"IF($C30<>\"\",BG30*EXP(-OFFSET('Forecasts Aggregate'!$C$17,$C30-$C$17,MATCH(BG$16,Ages,1))),\"\")","v":""},{"$f":"IF($C30<>\"\",BH30*EXP(-OFFSET('Forecasts Aggregate'!$C$17,$C30-$C$17,MATCH(BH$16,Ages,1))),\"\")","v":""},{"$f":"IF($C30<>\"\",BI30*EXP(-OFFSET('Forecasts Aggregate'!$C$17,$C30-$C$17,MATCH(BI$16,Ages,1))),\"\")","v":""},{"$f":"IF($C30<>\"\",BJ30*EXP(-OFFSET('Forecasts Aggregate'!$C$17,$C30-$C$17,MATCH(BJ$16,Ages,1))),\"\")","v":""},{"$f":"IF($C30<>\"\",BK30*EXP(-OFFSET('Forecasts Aggregate'!$C$17,$C30-$C$17,MATCH(BK$16,Ages,1))),\"\")","v":""},{"$f":"IF($C30<>\"\",BL30*EXP(-OFFSET('Forecasts Aggregate'!$C$17,$C30-$C$17,MATCH(BL$16,Ages,1))),\"\")","v":""},{"$f":"IF($C30<>\"\",BM30*EXP(-OFFSET('Forecasts Aggregate'!$C$17,$C30-$C$17,MATCH(BM$16,Ages,1))),\"\")","v":""},{"$f":"IF($C30<>\"\",BN30*EXP(-OFFSET('Forecasts Aggregate'!$C$17,$C30-$C$17,MATCH(BN$16,Ages,1))),\"\")","v":""},{"$f":"IF($C30<>\"\",BO30*EXP(-OFFSET('Forecasts Aggregate'!$C$17,$C30-$C$17,MATCH(BO$16,Ages,1))),\"\")","v":""},{"$f":"IF($C30<>\"\",BP30*EXP(-OFFSET('Forecasts Aggregate'!$C$17,$C30-$C$17,MATCH(BP$16,Ages,1))),\"\")","v":""},{"$f":"IF($C30<>\"\",BQ30*EXP(-OFFSET('Forecasts Aggregate'!$C$17,$C30-$C$17,MATCH(BQ$16,Ages,1))),\"\")","v":""},{"$f":"IF($C30<>\"\",BR30*EXP(-OFFSET('Forecasts Aggregate'!$C$17,$C30-$C$17,MATCH(BR$16,Ages,1))),\"\")","v":""},{"$f":"IF($C30<>\"\",BS30*EXP(-OFFSET('Forecasts Aggregate'!$C$17,$C30-$C$17,MATCH(BS$16,Ages,1))),\"\")","v":""},{"$f":"IF($C30<>\"\",BT30*EXP(-OFFSET('Forecasts Aggregate'!$C$17,$C30-$C$17,MATCH(BT$16,Ages,1))),\"\")","v":""},{"$f":"IF($C30<>\"\",BU30*EXP(-OFFSET('Forecasts Aggregate'!$C$17,$C30-$C$17,MATCH(BU$16,Ages,1))),\"\")","v":""},{"$f":"IF($C30<>\"\",BV30*EXP(-OFFSET('Forecasts Aggregate'!$C$17,$C30-$C$17,MATCH(BV$16,Ages,1))),\"\")","v":""},{"$f":"IF($C30<>\"\",BW30*EXP(-OFFSET('Forecasts Aggregate'!$C$17,$C30-$C$17,MATCH(BW$16,Ages,1))),\"\")","v":""},{"$f":"IF($C30<>\"\",BX30*EXP(-OFFSET('Forecasts Aggregate'!$C$17,$C30-$C$17,MATCH(BX$16,Ages,1))),\"\")","v":""},{"$f":"IF($C30<>\"\",BY30*EXP(-OFFSET('Forecasts Aggregate'!$C$17,$C30-$C$17,MATCH(BY$16,Ages,1))),\"\")","v":""},{"$f":"IF($C30<>\"\",BZ30*EXP(-OFFSET('Forecasts Aggregate'!$C$17,$C30-$C$17,MATCH(BZ$16,Ages,1))),\"\")","v":""},{"$f":"IF($C30<>\"\",CA30*EXP(-OFFSET('Forecasts Aggregate'!$C$17,$C30-$C$17,MATCH(CA$16,Ages,1))),\"\")","v":""},{"$f":"IF($C30<>\"\",CB30*EXP(-OFFSET('Forecasts Aggregate'!$C$17,$C30-$C$17,MATCH(CB$16,Ages,1))),\"\")","v":""},{"$f":"IF($C30<>\"\",CC30*EXP(-OFFSET('Forecasts Aggregate'!$C$17,$C30-$C$17,MATCH(CC$16,Ages,1))),\"\")","v":""},{"$f":"IF($C30<>\"\",CD30*EXP(-OFFSET('Forecasts Aggregate'!$C$17,$C30-$C$17,MATCH(CD$16,Ages,1))),\"\")","v":""},{"$f":"IF($C30<>\"\",CE30*EXP(-OFFSET('Forecasts Aggregate'!$C$17,$C30-$C$17,MATCH(CE$16,Ages,1))),\"\")","v":""},{"$f":"IF($C30<>\"\",CF30*EXP(-OFFSET('Forecasts Aggregate'!$C$17,$C30-$C$17,MATCH(CF$16,Ages,1))),\"\")","v":""},{"$f":"IF($C30<>\"\",CG30*EXP(-OFFSET('Forecasts Aggregate'!$C$17,$C30-$C$17,MATCH(CG$16,Ages,1))),\"\")","v":""},{"$f":"IF($C30<>\"\",CH30*EXP(-OFFSET('Forecasts Aggregate'!$C$17,$C30-$C$17,MATCH(CH$16,Ages,1))),\"\")","v":""},{"$f":"IF($C30<>\"\",CI30*EXP(-OFFSET('Forecasts Aggregate'!$C$17,$C30-$C$17,MATCH(CI$16,Ages,1))),\"\")","v":""},{"$f":"IF($C30<>\"\",CJ30*EXP(-OFFSET('Forecasts Aggregate'!$C$17,$C30-$C$17,MATCH(CJ$16,Ages,1))),\"\")","v":""},{"$f":"IF($C30<>\"\",CK30*EXP(-OFFSET('Forecasts Aggregate'!$C$17,$C30-$C$17,MATCH(CK$16,Ages,1))),\"\")","v":""},{"$f":"IF($C30<>\"\",CL30*EXP(-OFFSET('Forecasts Aggregate'!$C$17,$C30-$C$17,MATCH(CL$16,Ages,1))),\"\")","v":""},{"$f":"IF($C30<>\"\",CM30*EXP(-OFFSET('Forecasts Aggregate'!$C$17,$C30-$C$17,MATCH(CM$16,Ages,1))),\"\")","v":""},{"$f":"IF($C30<>\"\",CN30*EXP(-OFFSET('Forecasts Aggregate'!$C$17,$C30-$C$17,MATCH(CN$16,Ages,1))),\"\")","v":""},{"$f":"IF($C30<>\"\",CO30*EXP(-OFFSET('Forecasts Aggregate'!$C$17,$C30-$C$17,MATCH(CO$16,Ages,1))),\"\")","v":""},{"$f":"IF($C30<>\"\",CP30*EXP(-OFFSET('Forecasts Aggregate'!$C$17,$C30-$C$17,MATCH(CP$16,Ages,1))),\"\")","v":""},{"$f":"IF($C30<>\"\",CQ30*EXP(-OFFSET('Forecasts Aggregate'!$C$17,$C30-$C$17,MATCH(CQ$16,Ages,1))),\"\")","v":""},{"$f":"IF($C30<>\"\",CR30*EXP(-OFFSET('Forecasts Aggregate'!$C$17,$C30-$C$17,MATCH(CR$16,Ages,1))),\"\")","v":""},{"$f":"IF($C30<>\"\",CS30*EXP(-OFFSET('Forecasts Aggregate'!$C$17,$C30-$C$17,MATCH(CS$16,Ages,1))),\"\")","v":""},{"$f":"IF($C30<>\"\",CT30*EXP(-OFFSET('Forecasts Aggregate'!$C$17,$C30-$C$17,MATCH(CT$16,Ages,1))),\"\")","v":""},{"$f":"IF($C30<>\"\",CU30*EXP(-OFFSET('Forecasts Aggregate'!$C$17,$C30-$C$17,MATCH(CU$16,Ages,1))),\"\")","v":""},{"$f":"IF($C30<>\"\",CV30*EXP(-OFFSET('Forecasts Aggregate'!$C$17,$C30-$C$17,MATCH(CV$16,Ages,1))),\"\")","v":""},{"$f":"IF($C30<>\"\",CW30*EXP(-OFFSET('Forecasts Aggregate'!$C$17,$C30-$C$17,MATCH(CW$16,Ages,1))),\"\")","v":""},{"$f":"IF($C30<>\"\",CX30*EXP(-OFFSET('Forecasts Aggregate'!$C$17,$C30-$C$17,MATCH(CX$16,Ages,1))),\"\")","v":""},{"$f":"IF($C30<>\"\",CY30*EXP(-OFFSET('Forecasts Aggregate'!$C$17,$C30-$C$17,MATCH(CY$16,Ages,1))),\"\")","v":""},{"$f":"IF($C30<>\"\",CZ30*EXP(-OFFSET('Forecasts Aggregate'!$C$17,$C30-$C$17,MATCH(CZ$16,Ages,1))),\"\")","v":""},{"$f":"IF($C30<>\"\",DA30*EXP(-OFFSET('Forecasts Aggregate'!$C$17,$C30-$C$17,MATCH(DA$16,Ages,1))),\"\")","v":""},{"$f":"IF($C30<>\"\",DB30*EXP(-OFFSET('Forecasts Aggregate'!$C$17,$C30-$C$17,MATCH(DB$16,Ages,1))),\"\")","v":""},{"$f":"IF($C30<>\"\",DC30*EXP(-OFFSET('Forecasts Aggregate'!$C$17,$C30-$C$17,MATCH(DC$16,Ages,1))),\"\")","v":""},{"$f":"IF($C30<>\"\",DD30*EXP(-OFFSET('Forecasts Aggregate'!$C$17,$C30-$C$17,MATCH(DD$16,Ages,1))),\"\")","v":""},{"$f":"IF($C30<>\"\",DE30*EXP(-OFFSET('Forecasts Aggregate'!$C$17,$C30-$C$17,MATCH(DE$16,Ages,1))),\"\")","v":""},{"$f":"IF($C30<>\"\",DF30*EXP(-OFFSET('Forecasts Aggregate'!$C$17,$C30-$C$17,MATCH(DF$16,Ages,1))),\"\")","v":""},{"$f":"IF($C30<>\"\",DG30*EXP(-OFFSET('Forecasts Aggregate'!$C$17,$C30-$C$17,MATCH(DG$16,Ages,1))),\"\")","v":""},{"$f":"IF($C30<>\"\",DH30*EXP(-OFFSET('Forecasts Aggregate'!$C$17,$C30-$C$17,MATCH(DH$16,Ages,1))),\"\")","v":""},{"$f":"IF($C30<>\"\",DI30*EXP(-OFFSET('Forecasts Aggregate'!$C$17,$C30-$C$17,MATCH(DI$16,Ages,1))),\"\")","v":""},{"$f":"IF($C30<>\"\",DJ30*EXP(-OFFSET('Forecasts Aggregate'!$C$17,$C30-$C$17,MATCH(DJ$16,Ages,1))),\"\")","v":""},null,"","",""]
[null,null,"","",{"$f":"IF($C31<>\"\",D31*EXP(-OFFSET('Forecasts Aggregate'!$C$17,$C31-$C$17,MATCH(D$16,Ages,1))),\"\")","v":""},{"$f":"IF($C31<>\"\",E31*EXP(-OFFSET('Forecasts Aggregate'!$C$17,$C31-$C$17,MATCH(E$16,Ages,1))),\"\")","v":""},{"$f":"IF($C31<>\"\",F31*EXP(-OFFSET('Forecasts Aggregate'!$C$17,$C31-$C$17,MATCH(F$16,Ages,1))),\"\")","v":""},{"$f":"IF($C31<>\"\",G31*EXP(-OFFSET('Forecasts Aggregate'!$C$17,$C31-$C$17,MATCH(G$16,Ages,1))),\"\")","v":""},{"$f":"IF($C31<>\"\",H31*EXP(-OFFSET('Forecasts Aggregate'!$C$17,$C31-$C$17,MATCH(H$16,Ages,1))),\"\")","v":""},{"$f":"IF($C31<>\"\",I31*EXP(-OFFSET('Forecasts Aggregate'!$C$17,$C31-$C$17,MATCH(I$16,Ages,1))),\"\")","v":""},{"$f":"IF($C31<>\"\",J31*EXP(-OFFSET('Forecasts Aggregate'!$C$17,$C31-$C$17,MATCH(J$16,Ages,1))),\"\")","v":""},{"$f":"IF($C31<>\"\",K31*EXP(-OFFSET('Forecasts Aggregate'!$C$17,$C31-$C$17,MATCH(K$16,Ages,1))),\"\")","v":""},{"$f":"IF($C31<>\"\",L31*EXP(-OFFSET('Forecasts Aggregate'!$C$17,$C31-$C$17,MATCH(L$16,Ages,1))),\"\")","v":""},{"$f":"IF($C31<>\"\",M31*EXP(-OFFSET('Forecasts Aggregate'!$C$17,$C31-$C$17,MATCH(M$16,Ages,1))),\"\")","v":""},{"$f":"IF($C31<>\"\",N31*EXP(-OFFSET('Forecasts Aggregate'!$C$17,$C31-$C$17,MATCH(N$16,Ages,1))),\"\")","v":""},{"$f":"IF($C31<>\"\",O31*EXP(-OFFSET('Forecasts Aggregate'!$C$17,$C31-$C$17,MATCH(O$16,Ages,1))),\"\")","v":""},{"$f":"IF($C31<>\"\",P31*EXP(-OFFSET('Forecasts Aggregate'!$C$17,$C31-$C$17,MATCH(P$16,Ages,1))),\"\")","v":""},{"$f":"IF($C31<>\"\",Q31*EXP(-OFFSET('Forecasts Aggregate'!$C$17,$C31-$C$17,MATCH(Q$16,Ages,1))),\"\")","v":""},{"$f":"IF($C31<>\"\",R31*EXP(-OFFSET('Forecasts Aggregate'!$C$17,$C31-$C$17,MATCH(R$16,Ages,1))),\"\")","v":""},{"$f":"IF($C31<>\"\",S31*EXP(-OFFSET('Forecasts Aggregate'!$C$17,$C31-$C$17,MATCH(S$16,Ages,1))),\"\")","v":""},{"$f":"IF($C31<>\"\",T31*EXP(-OFFSET('Forecasts Aggregate'!$C$17,$C31-$C$17,MATCH(T$16,Ages,1))),\"\")","v":""},{"$f":"IF($C31<>\"\",U31*EXP(-OFFSET('Forecasts Aggregate'!$C$17,$C31-$C$17,MATCH(U$16,Ages,1))),\"\")","v":""},{"$f":"IF($C31<>\"\",V31*EXP(-OFFSET('Forecasts Aggregate'!$C$17,$C31-$C$17,MATCH(V$16,Ages,1))),\"\")","v":""},{"$f":"IF($C31<>\"\",W31*EXP(-OFFSET('Forecasts Aggregate'!$C$17,$C31-$C$17,MATCH(W$16,Ages,1))),\"\")","v":""},{"$f":"IF($C31<>\"\",X31*EXP(-OFFSET('Forecasts Aggregate'!$C$17,$C31-$C$17,MATCH(X$16,Ages,1))),\"\")","v":""},{"$f":"IF($C31<>\"\",Y31*EXP(-OFFSET('Forecasts Aggregate'!$C$17,$C31-$C$17,MATCH(Y$16,Ages,1))),\"\")","v":""},{"$f":"IF($C31<>\"\",Z31*EXP(-OFFSET('Forecasts Aggregate'!$C$17,$C31-$C$17,MATCH(Z$16,Ages,1))),\"\")","v":""},{"$f":"IF($C31<>\"\",AA31*EXP(-OFFSET('Forecasts Aggregate'!$C$17,$C31-$C$17,MATCH(AA$16,Ages,1))),\"\")","v":""},{"$f":"IF($C31<>\"\",AB31*EXP(-OFFSET('Forecasts Aggregate'!$C$17,$C31-$C$17,MATCH(AB$16,Ages,1))),\"\")","v":""},{"$f":"IF($C31<>\"\",AC31*EXP(-OFFSET('Forecasts Aggregate'!$C$17,$C31-$C$17,MATCH(AC$16,Ages,1))),\"\")","v":""},{"$f":"IF($C31<>\"\",AD31*EXP(-OFFSET('Forecasts Aggregate'!$C$17,$C31-$C$17,MATCH(AD$16,Ages,1))),\"\")","v":""},{"$f":"IF($C31<>\"\",AE31*EXP(-OFFSET('Forecasts Aggregate'!$C$17,$C31-$C$17,MATCH(AE$16,Ages,1))),\"\")","v":""},{"$f":"IF($C31<>\"\",AF31*EXP(-OFFSET('Forecasts Aggregate'!$C$17,$C31-$C$17,MATCH(AF$16,Ages,1))),\"\")","v":""},{"$f":"IF($C31<>\"\",AG31*EXP(-OFFSET('Forecasts Aggregate'!$C$17,$C31-$C$17,MATCH(AG$16,Ages,1))),\"\")","v":""},{"$f":"IF($C31<>\"\",AH31*EXP(-OFFSET('Forecasts Aggregate'!$C$17,$C31-$C$17,MATCH(AH$16,Ages,1))),\"\")","v":""},{"$f":"IF($C31<>\"\",AI31*EXP(-OFFSET('Forecasts Aggregate'!$C$17,$C31-$C$17,MATCH(AI$16,Ages,1))),\"\")","v":""},{"$f":"IF($C31<>\"\",AJ31*EXP(-OFFSET('Forecasts Aggregate'!$C$17,$C31-$C$17,MATCH(AJ$16,Ages,1))),\"\")","v":""},{"$f":"IF($C31<>\"\",AK31*EXP(-OFFSET('Forecasts Aggregate'!$C$17,$C31-$C$17,MATCH(AK$16,Ages,1))),\"\")","v":""},{"$f":"IF($C31<>\"\",AL31*EXP(-OFFSET('Forecasts Aggregate'!$C$17,$C31-$C$17,MATCH(AL$16,Ages,1))),\"\")","v":""},{"$f":"IF($C31<>\"\",AM31*EXP(-OFFSET('Forecasts Aggregate'!$C$17,$C31-$C$17,MATCH(AM$16,Ages,1))),\"\")","v":""},{"$f":"IF($C31<>\"\",AN31*EXP(-OFFSET('Forecasts Aggregate'!$C$17,$C31-$C$17,MATCH(AN$16,Ages,1))),\"\")","v":""},{"$f":"IF($C31<>\"\",AO31*EXP(-OFFSET('Forecasts Aggregate'!$C$17,$C31-$C$17,MATCH(AO$16,Ages,1))),\"\")","v":""},{"$f":"IF($C31<>\"\",AP31*EXP(-OFFSET('Forecasts Aggregate'!$C$17,$C31-$C$17,MATCH(AP$16,Ages,1))),\"\")","v":""},{"$f":"IF($C31<>\"\",AQ31*EXP(-OFFSET('Forecasts Aggregate'!$C$17,$C31-$C$17,MATCH(AQ$16,Ages,1))),\"\")","v":""},{"$f":"IF($C31<>\"\",AR31*EXP(-OFFSET('Forecasts Aggregate'!$C$17,$C31-$C$17,MATCH(AR$16,Ages,1))),\"\")","v":""},{"$f":"IF($C31<>\"\",AS31*EXP(-OFFSET('Forecasts Aggregate'!$C$17,$C31-$C$17,MATCH(AS$16,Ages,1))),\"\")","v":""},{"$f":"IF($C31<>\"\",AT31*EXP(-OFFSET('Forecasts Aggregate'!$C$17,$C31-$C$17,MATCH(AT$16,Ages,1))),\"\")","v":""},{"$f":"IF($C31<>\"\",AU31*EXP(-OFFSET('Forecasts Aggregate'!$C$17,$C31-$C$17,MATCH(AU$16,Ages,1))),\"\")","v":""},{"$f":"IF($C31<>\"\",AV31*EXP(-OFFSET('Forecasts Aggregate'!$C$17,$C31-$C$17,MATCH(AV$16,Ages,1))),\"\")","v":""},{"$f":"IF($C31<>\"\",AW31*EXP(-OFFSET('Forecasts Aggregate'!$C$17,$C31-$C$17,MATCH(AW$16,Ages,1))),\"\")","v":""},{"$f":"IF($C31<>\"\",AX31*EXP(-OFFSET('Forecasts Aggregate'!$C$17,$C31-$C$17,MATCH(AX$16,Ages,1))),\"\")","v":""},{"$f":"IF($C31<>\"\",AY31*EXP(-OFFSET('Forecasts Aggregate'!$C$17,$C31-$C$17,MATCH(AY$16,Ages,1))),\"\")","v":""},{"$f":"IF($C31<>\"\",AZ31*EXP(-OFFSET('Forecasts Aggregate'!$C$17,$C31-$C$17,MATCH(AZ$16,Ages,1))),\"\")","v":""},{"$f":"IF($C31<>\"\",BA31*EXP(-OFFSET('Forecasts Aggregate'!$C$17,$C31-$C$17,MATCH(BA$16,Ages,1))),\"\")","v":""},{"$f":"IF($C31<>\"\",BB31*EXP(-OFFSET('Forecasts Aggregate'!$C$17,$C31-$C$17,MATCH(BB$16,Ages,1))),\"\")","v":""},{"$f":"IF($C31<>\"\",BC31*EXP(-OFFSET('Forecasts Aggregate'!$C$17,$C31-$C$17,MATCH(BC$16,Ages,1))),\"\")","v":""},{"$f":"IF($C31<>\"\",BD31*EXP(-OFFSET('Forecasts Aggregate'!$C$17,$C31-$C$17,MATCH(BD$16,Ages,1))),\"\")","v":""},{"$f":"IF($C31<>\"\",BE31*EXP(-OFFSET('Forecasts Aggregate'!$C$17,$C31-$C$17,MATCH(BE$16,Ages,1))),\"\")","v":""},{"$f":"IF($C31<>\"\",BF31*EXP(-OFFSET('Forecasts Aggregate'!$C$17,$C31-$C$17,MATCH(BF$16,Ages,1))),\"\")","v":""},{"$f":"IF($C31<>\"\",BG31*EXP(-OFFSET('Forecasts Aggregate'!$C$17,$C31-$C$17,MATCH(BG$16,Ages,1))),\"\")","v":""},{"$f":"IF($C31<>\"\",BH31*EXP(-OFFSET('Forecasts Aggregate'!$C$17,$C31-$C$17,MATCH(BH$16,Ages,1))),\"\")","v":""},{"$f":"IF($C31<>\"\",BI31*EXP(-OFFSET('Forecasts Aggregate'!$C$17,$C31-$C$17,MATCH(BI$16,Ages,1))),\"\")","v":""},{"$f":"IF($C31<>\"\",BJ31*EXP(-OFFSET('Forecasts Aggregate'!$C$17,$C31-$C$17,MATCH(BJ$16,Ages,1))),\"\")","v":""},{"$f":"IF($C31<>\"\",BK31*EXP(-OFFSET('Forecasts Aggregate'!$C$17,$C31-$C$17,MATCH(BK$16,Ages,1))),\"\")","v":""},{"$f":"IF($C31<>\"\",BL31*EXP(-OFFSET('Forecasts Aggregate'!$C$17,$C31-$C$17,MATCH(BL$16,Ages,1))),\"\")","v":""},{"$f":"IF($C31<>\"\",BM31*EXP(-OFFSET('Forecasts Aggregate'!$C$17,$C31-$C$17,MATCH(BM$16,Ages,1))),\"\")","v":""},{"$f":"IF($C31<>\"\",BN31*EXP(-OFFSET('Forecasts Aggregate'!$C$17,$C31-$C$17,MATCH(BN$16,Ages,1))),\"\")","v":""},{"$f":"IF($C31<>\"\",BO31*EXP(-OFFSET('Forecasts Aggregate'!$C$17,$C31-$C$17,MATCH(BO$16,Ages,1))),\"\")","v":""},{"$f":"IF($C31<>\"\",BP31*EXP(-OFFSET('Forecasts Aggregate'!$C$17,$C31-$C$17,MATCH(BP$16,Ages,1))),\"\")","v":""},{"$f":"IF($C31<>\"\",BQ31*EXP(-OFFSET('Forecasts Aggregate'!$C$17,$C31-$C$17,MATCH(BQ$16,Ages,1))),\"\")","v":""},{"$f":"IF($C31<>\"\",BR31*EXP(-OFFSET('Forecasts Aggregate'!$C$17,$C31-$C$17,MATCH(BR$16,Ages,1))),\"\")","v":""},{"$f":"IF($C31<>\"\",BS31*EXP(-OFFSET('Forecasts Aggregate'!$C$17,$C31-$C$17,MATCH(BS$16,Ages,1))),\"\")","v":""},{"$f":"IF($C31<>\"\",BT31*EXP(-OFFSET('Forecasts Aggregate'!$C$17,$C31-$C$17,MATCH(BT$16,Ages,1))),\"\")","v":""},{"$f":"IF($C31<>\"\",BU31*EXP(-OFFSET('Forecasts Aggregate'!$C$17,$C31-$C$17,MATCH(BU$16,Ages,1))),\"\")","v":""},{"$f":"IF($C31<>\"\",BV31*EXP(-OFFSET('Forecasts Aggregate'!$C$17,$C31-$C$17,MATCH(BV$16,Ages,1))),\"\")","v":""},{"$f":"IF($C31<>\"\",BW31*EXP(-OFFSET('Forecasts Aggregate'!$C$17,$C31-$C$17,MATCH(BW$16,Ages,1))),\"\")","v":""},{"$f":"IF($C31<>\"\",BX31*EXP(-OFFSET('Forecasts Aggregate'!$C$17,$C31-$C$17,MATCH(BX$16,Ages,1))),\"\")","v":""},{"$f":"IF($C31<>\"\",BY31*EXP(-OFFSET('Forecasts Aggregate'!$C$17,$C31-$C$17,MATCH(BY$16,Ages,1))),\"\")","v":""},{"$f":"IF($C31<>\"\",BZ31*EXP(-OFFSET('Forecasts Aggregate'!$C$17,$C31-$C$17,MATCH(BZ$16,Ages,1))),\"\")","v":""},{"$f":"IF($C31<>\"\",CA31*EXP(-OFFSET('Forecasts Aggregate'!$C$17,$C31-$C$17,MATCH(CA$16,Ages,1))),\"\")","v":""},{"$f":"IF($C31<>\"\",CB31*EXP(-OFFSET('Forecasts Aggregate'!$C$17,$C31-$C$17,MATCH(CB$16,Ages,1))),\"\")","v":""},{"$f":"IF($C31<>\"\",CC31*EXP(-OFFSET('Forecasts Aggregate'!$C$17,$C31-$C$17,MATCH(CC$16,Ages,1))),\"\")","v":""},{"$f":"IF($C31<>\"\",CD31*EXP(-OFFSET('Forecasts Aggregate'!$C$17,$C31-$C$17,MATCH(CD$16,Ages,1))),\"\")","v":""},{"$f":"IF($C31<>\"\",CE31*EXP(-OFFSET('Forecasts Aggregate'!$C$17,$C31-$C$17,MATCH(CE$16,Ages,1))),\"\")","v":""},{"$f":"IF($C31<>\"\",CF31*EXP(-OFFSET('Forecasts Aggregate'!$C$17,$C31-$C$17,MATCH(CF$16,Ages,1))),\"\")","v":""},{"$f":"IF($C31<>\"\",CG31*EXP(-OFFSET('Forecasts Aggregate'!$C$17,$C31-$C$17,MATCH(CG$16,Ages,1))),\"\")","v":""},{"$f":"IF($C31<>\"\",CH31*EXP(-OFFSET('Forecasts Aggregate'!$C$17,$C31-$C$17,MATCH(CH$16,Ages,1))),\"\")","v":""},{"$f":"IF($C31<>\"\",CI31*EXP(-OFFSET('Forecasts Aggregate'!$C$17,$C31-$C$17,MATCH(CI$16,Ages,1))),\"\")","v":""},{"$f":"IF($C31<>\"\",CJ31*EXP(-OFFSET('Forecasts Aggregate'!$C$17,$C31-$C$17,MATCH(CJ$16,Ages,1))),\"\")","v":""},{"$f":"IF($C31<>\"\",CK31*EXP(-OFFSET('Forecasts Aggregate'!$C$17,$C31-$C$17,MATCH(CK$16,Ages,1))),\"\")","v":""},{"$f":"IF($C31<>\"\",CL31*EXP(-OFFSET('Forecasts Aggregate'!$C$17,$C31-$C$17,MATCH(CL$16,Ages,1))),\"\")","v":""},{"$f":"IF($C31<>\"\",CM31*EXP(-OFFSET('Forecasts Aggregate'!$C$17,$C31-$C$17,MATCH(CM$16,Ages,1))),\"\")","v":""},{"$f":"IF($C31<>\"\",CN31*EXP(-OFFSET('Forecasts Aggregate'!$C$17,$C31-$C$17,MATCH(CN$16,Ages,1))),\"\")","v":""},{"$f":"IF($C31<>\"\",CO31*EXP(-OFFSET('Forecasts Aggregate'!$C$17,$C31-$C$17,MATCH(CO$16,Ages,1))),\"\")","v":""},{"$f":"IF($C31<>\"\",CP31*EXP(-OFFSET('Forecasts Aggregate'!$C$17,$C31-$C$17,MATCH(CP$16,Ages,1))),\"\")","v":""},{"$f":"IF($C31<>\"\",CQ31*EXP(-OFFSET('Forecasts Aggregate'!$C$17,$C31-$C$17,MATCH(CQ$16,Ages,1))),\"\")","v":""},{"$f":"IF($C31<>\"\",CR31*EXP(-OFFSET('Forecasts Aggregate'!$C$17,$C31-$C$17,MATCH(CR$16,Ages,1))),\"\")","v":""},{"$f":"IF($C31<>\"\",CS31*EXP(-OFFSET('Forecasts Aggregate'!$C$17,$C31-$C$17,MATCH(CS$16,Ages,1))),\"\")","v":""},{"$f":"IF($C31<>\"\",CT31*EXP(-OFFSET('Forecasts Aggregate'!$C$17,$C31-$C$17,MATCH(CT$16,Ages,1))),\"\")","v":""},{"$f":"IF($C31<>\"\",CU31*EXP(-OFFSET('Forecasts Aggregate'!$C$17,$C31-$C$17,MATCH(CU$16,Ages,1))),\"\")","v":""},{"$f":"IF($C31<>\"\",CV31*EXP(-OFFSET('Forecasts Aggregate'!$C$17,$C31-$C$17,MATCH(CV$16,Ages,1))),\"\")","v":""},{"$f":"IF($C31<>\"\",CW31*EXP(-OFFSET('Forecasts Aggregate'!$C$17,$C31-$C$17,MATCH(CW$16,Ages,1))),\"\")","v":""},{"$f":"IF($C31<>\"\",CX31*EXP(-OFFSET('Forecasts Aggregate'!$C$17,$C31-$C$17,MATCH(CX$16,Ages,1))),\"\")","v":""},{"$f":"IF($C31<>\"\",CY31*EXP(-OFFSET('Forecasts Aggregate'!$C$17,$C31-$C$17,MATCH(CY$16,Ages,1))),\"\")","v":""},{"$f":"IF($C31<>\"\",CZ31*EXP(-OFFSET('Forecasts Aggregate'!$C$17,$C31-$C$17,MATCH(CZ$16,Ages,1))),\"\")","v":""},{"$f":"IF($C31<>\"\",DA31*EXP(-OFFSET('Forecasts Aggregate'!$C$17,$C31-$C$17,MATCH(DA$16,Ages,1))),\"\")","v":""},{"$f":"IF($C31<>\"\",DB31*EXP(-OFFSET('Forecasts Aggregate'!$C$17,$C31-$C$17,MATCH(DB$16,Ages,1))),\"\")","v":""},{"$f":"IF($C31<>\"\",DC31*EXP(-OFFSET('Forecasts Aggregate'!$C$17,$C31-$C$17,MATCH(DC$16,Ages,1))),\"\")","v":""},{"$f":"IF($C31<>\"\",DD31*EXP(-OFFSET('Forecasts Aggregate'!$C$17,$C31-$C$17,MATCH(DD$16,Ages,1))),\"\")","v":""},{"$f":"IF($C31<>\"\",DE31*EXP(-OFFSET('Forecasts Aggregate'!$C$17,$C31-$C$17,MATCH(DE$16,Ages,1))),\"\")","v":""},{"$f":"IF($C31<>\"\",DF31*EXP(-OFFSET('Forecasts Aggregate'!$C$17,$C31-$C$17,MATCH(DF$16,Ages,1))),\"\")","v":""},{"$f":"IF($C31<>\"\",DG31*EXP(-OFFSET('Forecasts Aggregate'!$C$17,$C31-$C$17,MATCH(DG$16,Ages,1))),\"\")","v":""},{"$f":"IF($C31<>\"\",DH31*EXP(-OFFSET('Forecasts Aggregate'!$C$17,$C31-$C$17,MATCH(DH$16,Ages,1))),\"\")","v":""},{"$f":"IF($C31<>\"\",DI31*EXP(-OFFSET('Forecasts Aggregate'!$C$17,$C31-$C$17,MATCH(DI$16,Ages,1))),\"\")","v":""},{"$f":"IF($C31<>\"\",DJ31*EXP(-OFFSET('Forecasts Aggregate'!$C$17,$C31-$C$17,MATCH(DJ$16,Ages,1))),\"\")","v":""},null,"","",""]
[null,null,"","",{"$f":"IF($C32<>\"\",D32*EXP(-OFFSET('Forecasts Aggregate'!$C$17,$C32-$C$17,MATCH(D$16,Ages,1))),\"\")","v":""},{"$f":"IF($C32<>\"\",E32*EXP(-OFFSET('Forecasts Aggregate'!$C$17,$C32-$C$17,MATCH(E$16,Ages,1))),\"\")","v":""},{"$f":"IF($C32<>\"\",F32*EXP(-OFFSET('Forecasts Aggregate'!$C$17,$C32-$C$17,MATCH(F$16,Ages,1))),\"\")","v":""},{"$f":"IF($C32<>\"\",G32*EXP(-OFFSET('Forecasts Aggregate'!$C$17,$C32-$C$17,MATCH(G$16,Ages,1))),\"\")","v":""},{"$f":"IF($C32<>\"\",H32*EXP(-OFFSET('Forecasts Aggregate'!$C$17,$C32-$C$17,MATCH(H$16,Ages,1))),\"\")","v":""},{"$f":"IF($C32<>\"\",I32*EXP(-OFFSET('Forecasts Aggregate'!$C$17,$C32-$C$17,MATCH(I$16,Ages,1))),\"\")","v":""},{"$f":"IF($C32<>\"\",J32*EXP(-OFFSET('Forecasts Aggregate'!$C$17,$C32-$C$17,MATCH(J$16,Ages,1))),\"\")","v":""},{"$f":"IF($C32<>\"\",K32*EXP(-OFFSET('Forecasts Aggregate'!$C$17,$C32-$C$17,MATCH(K$16,Ages,1))),\"\")","v":""},{"$f":"IF($C32<>\"\",L32*EXP(-OFFSET('Forecasts Aggregate'!$C$17,$C32-$C$17,MATCH(L$16,Ages,1))),\"\")","v":""},{"$f":"IF($C32<>\"\",M32*EXP(-OFFSET('Forecasts Aggregate'!$C$17,$C32-$C$17,MATCH(M$16,Ages,1))),\"\")","v":""},{"$f":"IF($C32<>\"\",N32*EXP(-OFFSET('Forecasts Aggregate'!$C$17,$C32-$C$17,MATCH(N$16,Ages,1))),\"\")","v":""},{"$f":"IF($C32<>\"\",O32*EXP(-OFFSET('Forecasts Aggregate'!$C$17,$C32-$C$17,MATCH(O$16,Ages,1))),\"\")","v":""},{"$f":"IF($C32<>\"\",P32*EXP(-OFFSET('Forecasts Aggregate'!$C$17,$C32-$C$17,MATCH(P$16,Ages,1))),\"\")","v":""},{"$f":"IF($C32<>\"\",Q32*EXP(-OFFSET('Forecasts Aggregate'!$C$17,$C32-$C$17,MATCH(Q$16,Ages,1))),\"\")","v":""},{"$f":"IF($C32<>\"\",R32*EXP(-OFFSET('Forecasts Aggregate'!$C$17,$C32-$C$17,MATCH(R$16,Ages,1))),\"\")","v":""},{"$f":"IF($C32<>\"\",S32*EXP(-OFFSET('Forecasts Aggregate'!$C$17,$C32-$C$17,MATCH(S$16,Ages,1))),\"\")","v":""},{"$f":"IF($C32<>\"\",T32*EXP(-OFFSET('Forecasts Aggregate'!$C$17,$C32-$C$17,MATCH(T$16,Ages,1))),\"\")","v":""},{"$f":"IF($C32<>\"\",U32*EXP(-OFFSET('Forecasts Aggregate'!$C$17,$C32-$C$17,MATCH(U$16,Ages,1))),\"\")","v":""},{"$f":"IF($C32<>\"\",V32*EXP(-OFFSET('Forecasts Aggregate'!$C$17,$C32-$C$17,MATCH(V$16,Ages,1))),\"\")","v":""},{"$f":"IF($C32<>\"\",W32*EXP(-OFFSET('Forecasts Aggregate'!$C$17,$C32-$C$17,MATCH(W$16,Ages,1))),\"\")","v":""},{"$f":"IF($C32<>\"\",X32*EXP(-OFFSET('Forecasts Aggregate'!$C$17,$C32-$C$17,MATCH(X$16,Ages,1))),\"\")","v":""},{"$f":"IF($C32<>\"\",Y32*EXP(-OFFSET('Forecasts Aggregate'!$C$17,$C32-$C$17,MATCH(Y$16,Ages,1))),\"\")","v":""},{"$f":"IF($C32<>\"\",Z32*EXP(-OFFSET('Forecasts Aggregate'!$C$17,$C32-$C$17,MATCH(Z$16,Ages,1))),\"\")","v":""},{"$f":"IF($C32<>\"\",AA32*EXP(-OFFSET('Forecasts Aggregate'!$C$17,$C32-$C$17,MATCH(AA$16,Ages,1))),\"\")","v":""},{"$f":"IF($C32<>\"\",AB32*EXP(-OFFSET('Forecasts Aggregate'!$C$17,$C32-$C$17,MATCH(AB$16,Ages,1))),\"\")","v":""},{"$f":"IF($C32<>\"\",AC32*EXP(-OFFSET('Forecasts Aggregate'!$C$17,$C32-$C$17,MATCH(AC$16,Ages,1))),\"\")","v":""},{"$f":"IF($C32<>\"\",AD32*EXP(-OFFSET('Forecasts Aggregate'!$C$17,$C32-$C$17,MATCH(AD$16,Ages,1))),\"\")","v":""},{"$f":"IF($C32<>\"\",AE32*EXP(-OFFSET('Forecasts Aggregate'!$C$17,$C32-$C$17,MATCH(AE$16,Ages,1))),\"\")","v":""},{"$f":"IF($C32<>\"\",AF32*EXP(-OFFSET('Forecasts Aggregate'!$C$17,$C32-$C$17,MATCH(AF$16,Ages,1))),\"\")","v":""},{"$f":"IF($C32<>\"\",AG32*EXP(-OFFSET('Forecasts Aggregate'!$C$17,$C32-$C$17,MATCH(AG$16,Ages,1))),\"\")","v":""},{"$f":"IF($C32<>\"\",AH32*EXP(-OFFSET('Forecasts Aggregate'!$C$17,$C32-$C$17,MATCH(AH$16,Ages,1))),\"\")","v":""},{"$f":"IF($C32<>\"\",AI32*EXP(-OFFSET('Forecasts Aggregate'!$C$17,$C32-$C$17,MATCH(AI$16,Ages,1))),\"\")","v":""},{"$f":"IF($C32<>\"\",AJ32*EXP(-OFFSET('Forecasts Aggregate'!$C$17,$C32-$C$17,MATCH(AJ$16,Ages,1))),\"\")","v":""},{"$f":"IF($C32<>\"\",AK32*EXP(-OFFSET('Forecasts Aggregate'!$C$17,$C32-$C$17,MATCH(AK$16,Ages,1))),\"\")","v":""},{"$f":"IF($C32<>\"\",AL32*EXP(-OFFSET('Forecasts Aggregate'!$C$17,$C32-$C$17,MATCH(AL$16,Ages,1))),\"\")","v":""},{"$f":"IF($C32<>\"\",AM32*EXP(-OFFSET('Forecasts Aggregate'!$C$17,$C32-$C$17,MATCH(AM$16,Ages,1))),\"\")","v":""},{"$f":"IF($C32<>\"\",AN32*EXP(-OFFSET('Forecasts Aggregate'!$C$17,$C32-$C$17,MATCH(AN$16,Ages,1))),\"\")","v":""},{"$f":"IF($C32<>\"\",AO32*EXP(-OFFSET('Forecasts Aggregate'!$C$17,$C32-$C$17,MATCH(AO$16,Ages,1))),\"\")","v":""},{"$f":"IF($C32<>\"\",AP32*EXP(-OFFSET('Forecasts Aggregate'!$C$17,$C32-$C$17,MATCH(AP$16,Ages,1))),\"\")","v":""},{"$f":"IF($C32<>\"\",AQ32*EXP(-OFFSET('Forecasts Aggregate'!$C$17,$C32-$C$17,MATCH(AQ$16,Ages,1))),\"\")","v":""},{"$f":"IF($C32<>\"\",AR32*EXP(-OFFSET('Forecasts Aggregate'!$C$17,$C32-$C$17,MATCH(AR$16,Ages,1))),\"\")","v":""},{"$f":"IF($C32<>\"\",AS32*EXP(-OFFSET('Forecasts Aggregate'!$C$17,$C32-$C$17,MATCH(AS$16,Ages,1))),\"\")","v":""},{"$f":"IF($C32<>\"\",AT32*EXP(-OFFSET('Forecasts Aggregate'!$C$17,$C32-$C$17,MATCH(AT$16,Ages,1))),\"\")","v":""},{"$f":"IF($C32<>\"\",AU32*EXP(-OFFSET('Forecasts Aggregate'!$C$17,$C32-$C$17,MATCH(AU$16,Ages,1))),\"\")","v":""},{"$f":"IF($C32<>\"\",AV32*EXP(-OFFSET('Forecasts Aggregate'!$C$17,$C32-$C$17,MATCH(AV$16,Ages,1))),\"\")","v":""},{"$f":"IF($C32<>\"\",AW32*EXP(-OFFSET('Forecasts Aggregate'!$C$17,$C32-$C$17,MATCH(AW$16,Ages,1))),\"\")","v":""},{"$f":"IF($C32<>\"\",AX32*EXP(-OFFSET('Forecasts Aggregate'!$C$17,$C32-$C$17,MATCH(AX$16,Ages,1))),\"\")","v":""},{"$f":"IF($C32<>\"\",AY32*EXP(-OFFSET('Forecasts Aggregate'!$C$17,$C32-$C$17,MATCH(AY$16,Ages,1))),\"\")","v":""},{"$f":"IF($C32<>\"\",AZ32*EXP(-OFFSET('Forecasts Aggregate'!$C$17,$C32-$C$17,MATCH(AZ$16,Ages,1))),\"\")","v":""},{"$f":"IF($C32<>\"\",BA32*EXP(-OFFSET('Forecasts Aggregate'!$C$17,$C32-$C$17,MATCH(BA$16,Ages,1))),\"\")","v":""},{"$f":"IF($C32<>\"\",BB32*EXP(-OFFSET('Forecasts Aggregate'!$C$17,$C32-$C$17,MATCH(BB$16,Ages,1))),\"\")","v":""},{"$f":"IF($C32<>\"\",BC32*EXP(-OFFSET('Forecasts Aggregate'!$C$17,$C32-$C$17,MATCH(BC$16,Ages,1))),\"\")","v":""},{"$f":"IF($C32<>\"\",BD32*EXP(-OFFSET('Forecasts Aggregate'!$C$17,$C32-$C$17,MATCH(BD$16,Ages,1))),\"\")","v":""},{"$f":"IF($C32<>\"\",BE32*EXP(-OFFSET('Forecasts Aggregate'!$C$17,$C32-$C$17,MATCH(BE$16,Ages,1))),\"\")","v":""},{"$f":"IF($C32<>\"\",BF32*EXP(-OFFSET('Forecasts Aggregate'!$C$17,$C32-$C$17,MATCH(BF$16,Ages,1))),\"\")","v":""},{"$f":"IF($C32<>\"\",BG32*EXP(-OFFSET('Forecasts Aggregate'!$C$17,$C32-$C$17,MATCH(BG$16,Ages,1))),\"\")","v":""},{"$f":"IF($C32<>\"\",BH32*EXP(-OFFSET('Forecasts Aggregate'!$C$17,$C32-$C$17,MATCH(BH$16,Ages,1))),\"\")","v":""},{"$f":"IF($C32<>\"\",BI32*EXP(-OFFSET('Forecasts Aggregate'!$C$17,$C32-$C$17,MATCH(BI$16,Ages,1))),\"\")","v":""},{"$f":"IF($C32<>\"\",BJ32*EXP(-OFFSET('Forecasts Aggregate'!$C$17,$C32-$C$17,MATCH(BJ$16,Ages,1))),\"\")","v":""},{"$f":"IF($C32<>\"\",BK32*EXP(-OFFSET('Forecasts Aggregate'!$C$17,$C32-$C$17,MATCH(BK$16,Ages,1))),\"\")","v":""},{"$f":"IF($C32<>\"\",BL32*EXP(-OFFSET('Forecasts Aggregate'!$C$17,$C32-$C$17,MATCH(BL$16,Ages,1))),\"\")","v":""},{"$f":"IF($C32<>\"\",BM32*EXP(-OFFSET('Forecasts Aggregate'!$C$17,$C32-$C$17,MATCH(BM$16,Ages,1))),\"\")","v":""},{"$f":"IF($C32<>\"\",BN32*EXP(-OFFSET('Forecasts Aggregate'!$C$17,$C32-$C$17,MATCH(BN$16,Ages,1))),\"\")","v":""},{"$f":"IF($C32<>\"\",BO32*EXP(-OFFSET('Forecasts Aggregate'!$C$17,$C32-$C$17,MATCH(BO$16,Ages,1))),\"\")","v":""},{"$f":"IF($C32<>\"\",BP32*EXP(-OFFSET('Forecasts Aggregate'!$C$17,$C32-$C$17,MATCH(BP$16,Ages,1))),\"\")","v":""},{"$f":"IF($C32<>\"\",BQ32*EXP(-OFFSET('Forecasts Aggregate'!$C$17,$C32-$C$17,MATCH(BQ$16,Ages,1))),\"\")","v":""},{"$f":"IF($C32<>\"\",BR32*EXP(-OFFSET('Forecasts Aggregate'!$C$17,$C32-$C$17,MATCH(BR$16,Ages,1))),\"\")","v":""},{"$f":"IF($C32<>\"\",BS32*EXP(-OFFSET('Forecasts Aggregate'!$C$17,$C32-$C$17,MATCH(BS$16,Ages,1))),\"\")","v":""},{"$f":"IF($C32<>\"\",BT32*EXP(-OFFSET('Forecasts Aggregate'!$C$17,$C32-$C$17,MATCH(BT$16,Ages,1))),\"\")","v":""},{"$f":"IF($C32<>\"\",BU32*EXP(-OFFSET('Forecasts Aggregate'!$C$17,$C32-$C$17,MATCH(BU$16,Ages,1))),\"\")","v":""},{"$f":"IF($C32<>\"\",BV32*EXP(-OFFSET('Forecasts Aggregate'!$C$17,$C32-$C$17,MATCH(BV$16,Ages,1))),\"\")","v":""},{"$f":"IF($C32<>\"\",BW32*EXP(-OFFSET('Forecasts Aggregate'!$C$17,$C32-$C$17,MATCH(BW$16,Ages,1))),\"\")","v":""},{"$f":"IF($C32<>\"\",BX32*EXP(-OFFSET('Forecasts Aggregate'!$C$17,$C32-$C$17,MATCH(BX$16,Ages,1))),\"\")","v":""},{"$f":"IF($C32<>\"\",BY32*EXP(-OFFSET('Forecasts Aggregate'!$C$17,$C32-$C$17,MATCH(BY$16,Ages,1))),\"\")","v":""},{"$f":"IF($C32<>\"\",BZ32*EXP(-OFFSET('Forecasts Aggregate'!$C$17,$C32-$C$17,MATCH(BZ$16,Ages,1))),\"\")","v":""},{"$f":"IF($C32<>\"\",CA32*EXP(-OFFSET('Forecasts Aggregate'!$C$17,$C32-$C$17,MATCH(CA$16,Ages,1))),\"\")","v":""},{"$f":"IF($C32<>\"\",CB32*EXP(-OFFSET('Forecasts Aggregate'!$C$17,$C32-$C$17,MATCH(CB$16,Ages,1))),\"\")","v":""},{"$f":"IF($C32<>\"\",CC32*EXP(-OFFSET('Forecasts Aggregate'!$C$17,$C32-$C$17,MATCH(CC$16,Ages,1))),\"\")","v":""},{"$f":"IF($C32<>\"\",CD32*EXP(-OFFSET('Forecasts Aggregate'!$C$17,$C32-$C$17,MATCH(CD$16,Ages,1))),\"\")","v":""},{"$f":"IF($C32<>\"\",CE32*EXP(-OFFSET('Forecasts Aggregate'!$C$17,$C32-$C$17,MATCH(CE$16,Ages,1))),\"\")","v":""},{"$f":"IF($C32<>\"\",CF32*EXP(-OFFSET('Forecasts Aggregate'!$C$17,$C32-$C$17,MATCH(CF$16,Ages,1))),\"\")","v":""},{"$f":"IF($C32<>\"\",CG32*EXP(-OFFSET('Forecasts Aggregate'!$C$17,$C32-$C$17,MATCH(CG$16,Ages,1))),\"\")","v":""},{"$f":"IF($C32<>\"\",CH32*EXP(-OFFSET('Forecasts Aggregate'!$C$17,$C32-$C$17,MATCH(CH$16,Ages,1))),\"\")","v":""},{"$f":"IF($C32<>\"\",CI32*EXP(-OFFSET('Forecasts Aggregate'!$C$17,$C32-$C$17,MATCH(CI$16,Ages,1))),\"\")","v":""},{"$f":"IF($C32<>\"\",CJ32*EXP(-OFFSET('Forecasts Aggregate'!$C$17,$C32-$C$17,MATCH(CJ$16,Ages,1))),\"\")","v":""},{"$f":"IF($C32<>\"\",CK32*EXP(-OFFSET('Forecasts Aggregate'!$C$17,$C32-$C$17,MATCH(CK$16,Ages,1))),\"\")","v":""},{"$f":"IF($C32<>\"\",CL32*EXP(-OFFSET('Forecasts Aggregate'!$C$17,$C32-$C$17,MATCH(CL$16,Ages,1))),\"\")","v":""},{"$f":"IF($C32<>\"\",CM32*EXP(-OFFSET('Forecasts Aggregate'!$C$17,$C32-$C$17,MATCH(CM$16,Ages,1))),\"\")","v":""},{"$f":"IF($C32<>\"\",CN32*EXP(-OFFSET('Forecasts Aggregate'!$C$17,$C32-$C$17,MATCH(CN$16,Ages,1))),\"\")","v":""},{"$f":"IF($C32<>\"\",CO32*EXP(-OFFSET('Forecasts Aggregate'!$C$17,$C32-$C$17,MATCH(CO$16,Ages,1))),\"\")","v":""},{"$f":"IF($C32<>\"\",CP32*EXP(-OFFSET('Forecasts Aggregate'!$C$17,$C32-$C$17,MATCH(CP$16,Ages,1))),\"\")","v":""},{"$f":"IF($C32<>\"\",CQ32*EXP(-OFFSET('Forecasts Aggregate'!$C$17,$C32-$C$17,MATCH(CQ$16,Ages,1))),\"\")","v":""},{"$f":"IF($C32<>\"\",CR32*EXP(-OFFSET('Forecasts Aggregate'!$C$17,$C32-$C$17,MATCH(CR$16,Ages,1))),\"\")","v":""},{"$f":"IF($C32<>\"\",CS32*EXP(-OFFSET('Forecasts Aggregate'!$C$17,$C32-$C$17,MATCH(CS$16,Ages,1))),\"\")","v":""},{"$f":"IF($C32<>\"\",CT32*EXP(-OFFSET('Forecasts Aggregate'!$C$17,$C32-$C$17,MATCH(CT$16,Ages,1))),\"\")","v":""},{"$f":"IF($C32<>\"\",CU32*EXP(-OFFSET('Forecasts Aggregate'!$C$17,$C32-$C$17,MATCH(CU$16,Ages,1))),\"\")","v":""},{"$f":"IF($C32<>\"\",CV32*EXP(-OFFSET('Forecasts Aggregate'!$C$17,$C32-$C$17,MATCH(CV$16,Ages,1))),\"\")","v":""},{"$f":"IF($C32<>\"\",CW32*EXP(-OFFSET('Forecasts Aggregate'!$C$17,$C32-$C$17,MATCH(CW$16,Ages,1))),\"\")","v":""},{"$f":"IF($C32<>\"\",CX32*EXP(-OFFSET('Forecasts Aggregate'!$C$17,$C32-$C$17,MATCH(CX$16,Ages,1))),\"\")","v":""},{"$f":"IF($C32<>\"\",CY32*EXP(-OFFSET('Forecasts Aggregate'!$C$17,$C32-$C$17,MATCH(CY$16,Ages,1))),\"\")","v":""},{"$f":"IF($C32<>\"\",CZ32*EXP(-OFFSET('Forecasts Aggregate'!$C$17,$C32-$C$17,MATCH(CZ$16,Ages,1))),\"\")","v":""},{"$f":"IF($C32<>\"\",DA32*EXP(-OFFSET('Forecasts Aggregate'!$C$17,$C32-$C$17,MATCH(DA$16,Ages,1))),\"\")","v":""},{"$f":"IF($C32<>\"\",DB32*EXP(-OFFSET('Forecasts Aggregate'!$C$17,$C32-$C$17,MATCH(DB$16,Ages,1))),\"\")","v":""},{"$f":"IF($C32<>\"\",DC32*EXP(-OFFSET('Forecasts Aggregate'!$C$17,$C32-$C$17,MATCH(DC$16,Ages,1))),\"\")","v":""},{"$f":"IF($C32<>\"\",DD32*EXP(-OFFSET('Forecasts Aggregate'!$C$17,$C32-$C$17,MATCH(DD$16,Ages,1))),\"\")","v":""},{"$f":"IF($C32<>\"\",DE32*EXP(-OFFSET('Forecasts Aggregate'!$C$17,$C32-$C$17,MATCH(DE$16,Ages,1))),\"\")","v":""},{"$f":"IF($C32<>\"\",DF32*EXP(-OFFSET('Forecasts Aggregate'!$C$17,$C32-$C$17,MATCH(DF$16,Ages,1))),\"\")","v":""},{"$f":"IF($C32<>\"\",DG32*EXP(-OFFSET('Forecasts Aggregate'!$C$17,$C32-$C$17,MATCH(DG$16,Ages,1))),\"\")","v":""},{"$f":"IF($C32<>\"\",DH32*EXP(-OFFSET('Forecasts Aggregate'!$C$17,$C32-$C$17,MATCH(DH$16,Ages,1))),\"\")","v":""},{"$f":"IF($C32<>\"\",DI32*EXP(-OFFSET('Forecasts Aggregate'!$C$17,$C32-$C$17,MATCH(DI$16,Ages,1))),\"\")","v":""},{"$f":"IF($C32<>\"\",DJ32*EXP(-OFFSET('Forecasts Aggregate'!$C$17,$C32-$C$17,MATCH(DJ$16,Ages,1))),\"\")","v":""},null,"","",""]
[null,null,"","",{"$f":"IF($C33<>\"\",D33*EXP(-OFFSET('Forecasts Aggregate'!$C$17,$C33-$C$17,MATCH(D$16,Ages,1))),\"\")","v":""},{"$f":"IF($C33<>\"\",E33*EXP(-OFFSET('Forecasts Aggregate'!$C$17,$C33-$C$17,MATCH(E$16,Ages,1))),\"\")","v":""},{"$f":"IF($C33<>\"\",F33*EXP(-OFFSET('Forecasts Aggregate'!$C$17,$C33-$C$17,MATCH(F$16,Ages,1))),\"\")","v":""},{"$f":"IF($C33<>\"\",G33*EXP(-OFFSET('Forecasts Aggregate'!$C$17,$C33-$C$17,MATCH(G$16,Ages,1))),\"\")","v":""},{"$f":"IF($C33<>\"\",H33*EXP(-OFFSET('Forecasts Aggregate'!$C$17,$C33-$C$17,MATCH(H$16,Ages,1))),\"\")","v":""},{"$f":"IF($C33<>\"\",I33*EXP(-OFFSET('Forecasts Aggregate'!$C$17,$C33-$C$17,MATCH(I$16,Ages,1))),\"\")","v":""},{"$f":"IF($C33<>\"\",J33*EXP(-OFFSET('Forecasts Aggregate'!$C$17,$C33-$C$17,MATCH(J$16,Ages,1))),\"\")","v":""},{"$f":"IF($C33<>\"\",K33*EXP(-OFFSET('Forecasts Aggregate'!$C$17,$C33-$C$17,MATCH(K$16,Ages,1))),\"\")","v":""},{"$f":"IF($C33<>\"\",L33*EXP(-OFFSET('Forecasts Aggregate'!$C$17,$C33-$C$17,MATCH(L$16,Ages,1))),\"\")","v":""},{"$f":"IF($C33<>\"\",M33*EXP(-OFFSET('Forecasts Aggregate'!$C$17,$C33-$C$17,MATCH(M$16,Ages,1))),\"\")","v":""},{"$f":"IF($C33<>\"\",N33*EXP(-OFFSET('Forecasts Aggregate'!$C$17,$C33-$C$17,MATCH(N$16,Ages,1))),\"\")","v":""},{"$f":"IF($C33<>\"\",O33*EXP(-OFFSET('Forecasts Aggregate'!$C$17,$C33-$C$17,MATCH(O$16,Ages,1))),\"\")","v":""},{"$f":"IF($C33<>\"\",P33*EXP(-OFFSET('Forecasts Aggregate'!$C$17,$C33-$C$17,MATCH(P$16,Ages,1))),\"\")","v":""},{"$f":"IF($C33<>\"\",Q33*EXP(-OFFSET('Forecasts Aggregate'!$C$17,$C33-$C$17,MATCH(Q$16,Ages,1))),\"\")","v":""},{"$f":"IF($C33<>\"\",R33*EXP(-OFFSET('Forecasts Aggregate'!$C$17,$C33-$C$17,MATCH(R$16,Ages,1))),\"\")","v":""},{"$f":"IF($C33<>\"\",S33*EXP(-OFFSET('Forecasts Aggregate'!$C$17,$C33-$C$17,MATCH(S$16,Ages,1))),\"\")","v":""},{"$f":"IF($C33<>\"\",T33*EXP(-OFFSET('Forecasts Aggregate'!$C$17,$C33-$C$17,MATCH(T$16,Ages,1))),\"\")","v":""},{"$f":"IF($C33<>\"\",U33*EXP(-OFFSET('Forecasts Aggregate'!$C$17,$C33-$C$17,MATCH(U$16,Ages,1))),\"\")","v":""},{"$f":"IF($C33<>\"\",V33*EXP(-OFFSET('Forecasts Aggregate'!$C$17,$C33-$C$17,MATCH(V$16,Ages,1))),\"\")","v":""},{"$f":"IF($C33<>\"\",W33*EXP(-OFFSET('Forecasts Aggregate'!$C$17,$C33-$C$17,MATCH(W$16,Ages,1))),\"\")","v":""},{"$f":"IF($C33<>\"\",X33*EXP(-OFFSET('Forecasts Aggregate'!$C$17,$C33-$C$17,MATCH(X$16,Ages,1))),\"\")","v":""},{"$f":"IF($C33<>\"\",Y33*EXP(-OFFSET('Forecasts Aggregate'!$C$17,$C33-$C$17,MATCH(Y$16,Ages,1))),\"\")","v":""},{"$f":"IF($C33<>\"\",Z33*EXP(-OFFSET('Forecasts Aggregate'!$C$17,$C33-$C$17,MATCH(Z$16,Ages,1))),\"\")","v":""},{"$f":"IF($C33<>\"\",AA33*EXP(-OFFSET('Forecasts Aggregate'!$C$17,$C33-$C$17,MATCH(AA$16,Ages,1))),\"\")","v":""},{"$f":"IF($C33<>\"\",AB33*EXP(-OFFSET('Forecasts Aggregate'!$C$17,$C33-$C$17,MATCH(AB$16,Ages,1))),\"\")","v":""},{"$f":"IF($C33<>\"\",AC33*EXP(-OFFSET('Forecasts Aggregate'!$C$17,$C33-$C$17,MATCH(AC$16,Ages,1))),\"\")","v":""},{"$f":"IF($C33<>\"\",AD33*EXP(-OFFSET('Forecasts Aggregate'!$C$17,$C33-$C$17,MATCH(AD$16,Ages,1))),\"\")","v":""},{"$f":"IF($C33<>\"\",AE33*EXP(-OFFSET('Forecasts Aggregate'!$C$17,$C33-$C$17,MATCH(AE$16,Ages,1))),\"\")","v":""},{"$f":"IF($C33<>\"\",AF33*EXP(-OFFSET('Forecasts Aggregate'!$C$17,$C33-$C$17,MATCH(AF$16,Ages,1))),\"\")","v":""},{"$f":"IF($C33<>\"\",AG33*EXP(-OFFSET('Forecasts Aggregate'!$C$17,$C33-$C$17,MATCH(AG$16,Ages,1))),\"\")","v":""},{"$f":"IF($C33<>\"\",AH33*EXP(-OFFSET('Forecasts Aggregate'!$C$17,$C33-$C$17,MATCH(AH$16,Ages,1))),\"\")","v":""},{"$f":"IF($C33<>\"\",AI33*EXP(-OFFSET('Forecasts Aggregate'!$C$17,$C33-$C$17,MATCH(AI$16,Ages,1))),\"\")","v":""},{"$f":"IF($C33<>\"\",AJ33*EXP(-OFFSET('Forecasts Aggregate'!$C$17,$C33-$C$17,MATCH(AJ$16,Ages,1))),\"\")","v":""},{"$f":"IF($C33<>\"\",AK33*EXP(-OFFSET('Forecasts Aggregate'!$C$17,$C33-$C$17,MATCH(AK$16,Ages,1))),\"\")","v":""},{"$f":"IF($C33<>\"\",AL33*EXP(-OFFSET('Forecasts Aggregate'!$C$17,$C33-$C$17,MATCH(AL$16,Ages,1))),\"\")","v":""},{"$f":"IF($C33<>\"\",AM33*EXP(-OFFSET('Forecasts Aggregate'!$C$17,$C33-$C$17,MATCH(AM$16,Ages,1))),\"\")","v":""},{"$f":"IF($C33<>\"\",AN33*EXP(-OFFSET('Forecasts Aggregate'!$C$17,$C33-$C$17,MATCH(AN$16,Ages,1))),\"\")","v":""},{"$f":"IF($C33<>\"\",AO33*EXP(-OFFSET('Forecasts Aggregate'!$C$17,$C33-$C$17,MATCH(AO$16,Ages,1))),\"\")","v":""},{"$f":"IF($C33<>\"\",AP33*EXP(-OFFSET('Forecasts Aggregate'!$C$17,$C33-$C$17,MATCH(AP$16,Ages,1))),\"\")","v":""},{"$f":"IF($C33<>\"\",AQ33*EXP(-OFFSET('Forecasts Aggregate'!$C$17,$C33-$C$17,MATCH(AQ$16,Ages,1))),\"\")","v":""},{"$f":"IF($C33<>\"\",AR33*EXP(-OFFSET('Forecasts Aggregate'!$C$17,$C33-$C$17,MATCH(AR$16,Ages,1))),\"\")","v":""},{"$f":"IF($C33<>\"\",AS33*EXP(-OFFSET('Forecasts Aggregate'!$C$17,$C33-$C$17,MATCH(AS$16,Ages,1))),\"\")","v":""},{"$f":"IF($C33<>\"\",AT33*EXP(-OFFSET('Forecasts Aggregate'!$C$17,$C33-$C$17,MATCH(AT$16,Ages,1))),\"\")","v":""},{"$f":"IF($C33<>\"\",AU33*EXP(-OFFSET('Forecasts Aggregate'!$C$17,$C33-$C$17,MATCH(AU$16,Ages,1))),\"\")","v":""},{"$f":"IF($C33<>\"\",AV33*EXP(-OFFSET('Forecasts Aggregate'!$C$17,$C33-$C$17,MATCH(AV$16,Ages,1))),\"\")","v":""},{"$f":"IF($C33<>\"\",AW33*EXP(-OFFSET('Forecasts Aggregate'!$C$17,$C33-$C$17,MATCH(AW$16,Ages,1))),\"\")","v":""},{"$f":"IF($C33<>\"\",AX33*EXP(-OFFSET('Forecasts Aggregate'!$C$17,$C33-$C$17,MATCH(AX$16,Ages,1))),\"\")","v":""},{"$f":"IF($C33<>\"\",AY33*EXP(-OFFSET('Forecasts Aggregate'!$C$17,$C33-$C$17,MATCH(AY$16,Ages,1))),\"\")","v":""},{"$f":"IF($C33<>\"\",AZ33*EXP(-OFFSET('Forecasts Aggregate'!$C$17,$C33-$C$17,MATCH(AZ$16,Ages,1))),\"\")","v":""},{"$f":"IF($C33<>\"\",BA33*EXP(-OFFSET('Forecasts Aggregate'!$C$17,$C33-$C$17,MATCH(BA$16,Ages,1))),\"\")","v":""},{"$f":"IF($C33<>\"\",BB33*EXP(-OFFSET('Forecasts Aggregate'!$C$17,$C33-$C$17,MATCH(BB$16,Ages,1))),\"\")","v":""},{"$f":"IF($C33<>\"\",BC33*EXP(-OFFSET('Forecasts Aggregate'!$C$17,$C33-$C$17,MATCH(BC$16,Ages,1))),\"\")","v":""},{"$f":"IF($C33<>\"\",BD33*EXP(-OFFSET('Forecasts Aggregate'!$C$17,$C33-$C$17,MATCH(BD$16,Ages,1))),\"\")","v":""},{"$f":"IF($C33<>\"\",BE33*EXP(-OFFSET('Forecasts Aggregate'!$C$17,$C33-$C$17,MATCH(BE$16,Ages,1))),\"\")","v":""},{"$f":"IF($C33<>\"\",BF33*EXP(-OFFSET('Forecasts Aggregate'!$C$17,$C33-$C$17,MATCH(BF$16,Ages,1))),\"\")","v":""},{"$f":"IF($C33<>\"\",BG33*EXP(-OFFSET('Forecasts Aggregate'!$C$17,$C33-$C$17,MATCH(BG$16,Ages,1))),\"\")","v":""},{"$f":"IF($C33<>\"\",BH33*EXP(-OFFSET('Forecasts Aggregate'!$C$17,$C33-$C$17,MATCH(BH$16,Ages,1))),\"\")","v":""},{"$f":"IF($C33<>\"\",BI33*EXP(-OFFSET('Forecasts Aggregate'!$C$17,$C33-$C$17,MATCH(BI$16,Ages,1))),\"\")","v":""},{"$f":"IF($C33<>\"\",BJ33*EXP(-OFFSET('Forecasts Aggregate'!$C$17,$C33-$C$17,MATCH(BJ$16,Ages,1))),\"\")","v":""},{"$f":"IF($C33<>\"\",BK33*EXP(-OFFSET('Forecasts Aggregate'!$C$17,$C33-$C$17,MATCH(BK$16,Ages,1))),\"\")","v":""},{"$f":"IF($C33<>\"\",BL33*EXP(-OFFSET('Forecasts Aggregate'!$C$17,$C33-$C$17,MATCH(BL$16,Ages,1))),\"\")","v":""},{"$f":"IF($C33<>\"\",BM33*EXP(-OFFSET('Forecasts Aggregate'!$C$17,$C33-$C$17,MATCH(BM$16,Ages,1))),\"\")","v":""},{"$f":"IF($C33<>\"\",BN33*EXP(-OFFSET('Forecasts Aggregate'!$C$17,$C33-$C$17,MATCH(BN$16,Ages,1))),\"\")","v":""},{"$f":"IF($C33<>\"\",BO33*EXP(-OFFSET('Forecasts Aggregate'!$C$17,$C33-$C$17,MATCH(BO$16,Ages,1))),\"\")","v":""},{"$f":"IF($C33<>\"\",BP33*EXP(-OFFSET('Forecasts Aggregate'!$C$17,$C33-$C$17,MATCH(BP$16,Ages,1))),\"\")","v":""},{"$f":"IF($C33<>\"\",BQ33*EXP(-OFFSET('Forecasts Aggregate'!$C$17,$C33-$C$17,MATCH(BQ$16,Ages,1))),\"\")","v":""},{"$f":"IF($C33<>\"\",BR33*EXP(-OFFSET('Forecasts Aggregate'!$C$17,$C33-$C$17,MATCH(BR$16,Ages,1))),\"\")","v":""},{"$f":"IF($C33<>\"\",BS33*EXP(-OFFSET('Forecasts Aggregate'!$C$17,$C33-$C$17,MATCH(BS$16,Ages,1))),\"\")","v":""},{"$f":"IF($C33<>\"\",BT33*EXP(-OFFSET('Forecasts Aggregate'!$C$17,$C33-$C$17,MATCH(BT$16,Ages,1))),\"\")","v":""},{"$f":"IF($C33<>\"\",BU33*EXP(-OFFSET('Forecasts Aggregate'!$C$17,$C33-$C$17,MATCH(BU$16,Ages,1))),\"\")","v":""},{"$f":"IF($C33<>\"\",BV33*EXP(-OFFSET('Forecasts Aggregate'!$C$17,$C33-$C$17,MATCH(BV$16,Ages,1))),\"\")","v":""},{"$f":"IF($C33<>\"\",BW33*EXP(-OFFSET('Forecasts Aggregate'!$C$17,$C33-$C$17,MATCH(BW$16,Ages,1))),\"\")","v":""},{"$f":"IF($C33<>\"\",BX33*EXP(-OFFSET('Forecasts Aggregate'!$C$17,$C33-$C$17,MATCH(BX$16,Ages,1))),\"\")","v":""},{"$f":"IF($C33<>\"\",BY33*EXP(-OFFSET('Forecasts Aggregate'!$C$17,$C33-$C$17,MATCH(BY$16,Ages,1))),\"\")","v":""},{"$f":"IF($C33<>\"\",BZ33*EXP(-OFFSET('Forecasts Aggregate'!$C$17,$C33-$C$17,MATCH(BZ$16,Ages,1))),\"\")","v":""},{"$f":"IF($C33<>\"\",CA33*EXP(-OFFSET('Forecasts Aggregate'!$C$17,$C33-$C$17,MATCH(CA$16,Ages,1))),\"\")","v":""},{"$f":"IF($C33<>\"\",CB33*EXP(-OFFSET('Forecasts Aggregate'!$C$17,$C33-$C$17,MATCH(CB$16,Ages,1))),\"\")","v":""},{"$f":"IF($C33<>\"\",CC33*EXP(-OFFSET('Forecasts Aggregate'!$C$17,$C33-$C$17,MATCH(CC$16,Ages,1))),\"\")","v":""},{"$f":"IF($C33<>\"\",CD33*EXP(-OFFSET('Forecasts Aggregate'!$C$17,$C33-$C$17,MATCH(CD$16,Ages,1))),\"\")","v":""},{"$f":"IF($C33<>\"\",CE33*EXP(-OFFSET('Forecasts Aggregate'!$C$17,$C33-$C$17,MATCH(CE$16,Ages,1))),\"\")","v":""},{"$f":"IF($C33<>\"\",CF33*EXP(-OFFSET('Forecasts Aggregate'!$C$17,$C33-$C$17,MATCH(CF$16,Ages,1))),\"\")","v":""},{"$f":"IF($C33<>\"\",CG33*EXP(-OFFSET('Forecasts Aggregate'!$C$17,$C33-$C$17,MATCH(CG$16,Ages,1))),\"\")","v":""},{"$f":"IF($C33<>\"\",CH33*EXP(-OFFSET('Forecasts Aggregate'!$C$17,$C33-$C$17,MATCH(CH$16,Ages,1))),\"\")","v":""},{"$f":"IF($C33<>\"\",CI33*EXP(-OFFSET('Forecasts Aggregate'!$C$17,$C33-$C$17,MATCH(CI$16,Ages,1))),\"\")","v":""},{"$f":"IF($C33<>\"\",CJ33*EXP(-OFFSET('Forecasts Aggregate'!$C$17,$C33-$C$17,MATCH(CJ$16,Ages,1))),\"\")","v":""},{"$f":"IF($C33<>\"\",CK33*EXP(-OFFSET('Forecasts Aggregate'!$C$17,$C33-$C$17,MATCH(CK$16,Ages,1))),\"\")","v":""},{"$f":"IF($C33<>\"\",CL33*EXP(-OFFSET('Forecasts Aggregate'!$C$17,$C33-$C$17,MATCH(CL$16,Ages,1))),\"\")","v":""},{"$f":"IF($C33<>\"\",CM33*EXP(-OFFSET('Forecasts Aggregate'!$C$17,$C33-$C$17,MATCH(CM$16,Ages,1))),\"\")","v":""},{"$f":"IF($C33<>\"\",CN33*EXP(-OFFSET('Forecasts Aggregate'!$C$17,$C33-$C$17,MATCH(CN$16,Ages,1))),\"\")","v":""},{"$f":"IF($C33<>\"\",CO33*EXP(-OFFSET('Forecasts Aggregate'!$C$17,$C33-$C$17,MATCH(CO$16,Ages,1))),\"\")","v":""},{"$f":"IF($C33<>\"\",CP33*EXP(-OFFSET('Forecasts Aggregate'!$C$17,$C33-$C$17,MATCH(CP$16,Ages,1))),\"\")","v":""},{"$f":"IF($C33<>\"\",CQ33*EXP(-OFFSET('Forecasts Aggregate'!$C$17,$C33-$C$17,MATCH(CQ$16,Ages,1))),\"\")","v":""},{"$f":"IF($C33<>\"\",CR33*EXP(-OFFSET('Forecasts Aggregate'!$C$17,$C33-$C$17,MATCH(CR$16,Ages,1))),\"\")","v":""},{"$f":"IF($C33<>\"\",CS33*EXP(-OFFSET('Forecasts Aggregate'!$C$17,$C33-$C$17,MATCH(CS$16,Ages,1))),\"\")","v":""},{"$f":"IF($C33<>\"\",CT33*EXP(-OFFSET('Forecasts Aggregate'!$C$17,$C33-$C$17,MATCH(CT$16,Ages,1))),\"\")","v":""},{"$f":"IF($C33<>\"\",CU33*EXP(-OFFSET('Forecasts Aggregate'!$C$17,$C33-$C$17,MATCH(CU$16,Ages,1))),\"\")","v":""},{"$f":"IF($C33<>\"\",CV33*EXP(-OFFSET('Forecasts Aggregate'!$C$17,$C33-$C$17,MATCH(CV$16,Ages,1))),\"\")","v":""},{"$f":"IF($C33<>\"\",CW33*EXP(-OFFSET('Forecasts Aggregate'!$C$17,$C33-$C$17,MATCH(CW$16,Ages,1))),\"\")","v":""},{"$f":"IF($C33<>\"\",CX33*EXP(-OFFSET('Forecasts Aggregate'!$C$17,$C33-$C$17,MATCH(CX$16,Ages,1))),\"\")","v":""},{"$f":"IF($C33<>\"\",CY33*EXP(-OFFSET('Forecasts Aggregate'!$C$17,$C33-$C$17,MATCH(CY$16,Ages,1))),\"\")","v":""},{"$f":"IF($C33<>\"\",CZ33*EXP(-OFFSET('Forecasts Aggregate'!$C$17,$C33-$C$17,MATCH(CZ$16,Ages,1))),\"\")","v":""},{"$f":"IF($C33<>\"\",DA33*EXP(-OFFSET('Forecasts Aggregate'!$C$17,$C33-$C$17,MATCH(DA$16,Ages,1))),\"\")","v":""},{"$f":"IF($C33<>\"\",DB33*EXP(-OFFSET('Forecasts Aggregate'!$C$17,$C33-$C$17,MATCH(DB$16,Ages,1))),\"\")","v":""},{"$f":"IF($C33<>\"\",DC33*EXP(-OFFSET('Forecasts Aggregate'!$C$17,$C33-$C$17,MATCH(DC$16,Ages,1))),\"\")","v":""},{"$f":"IF($C33<>\"\",DD33*EXP(-OFFSET('Forecasts Aggregate'!$C$17,$C33-$C$17,MATCH(DD$16,Ages,1))),\"\")","v":""},{"$f":"IF($C33<>\"\",DE33*EXP(-OFFSET('Forecasts Aggregate'!$C$17,$C33-$C$17,MATCH(DE$16,Ages,1))),\"\")","v":""},{"$f":"IF($C33<>\"\",DF33*EXP(-OFFSET('Forecasts Aggregate'!$C$17,$C33-$C$17,MATCH(DF$16,Ages,1))),\"\")","v":""},{"$f":"IF($C33<>\"\",DG33*EXP(-OFFSET('Forecasts Aggregate'!$C$17,$C33-$C$17,MATCH(DG$16,Ages,1))),\"\")","v":""},{"$f":"IF($C33<>\"\",DH33*EXP(-OFFSET('Forecasts Aggregate'!$C$17,$C33-$C$17,MATCH(DH$16,Ages,1))),\"\")","v":""},{"$f":"IF($C33<>\"\",DI33*EXP(-OFFSET('Forecasts Aggregate'!$C$17,$C33-$C$17,MATCH(DI$16,Ages,1))),\"\")","v":""},{"$f":"IF($C33<>\"\",DJ33*EXP(-OFFSET('Forecasts Aggregate'!$C$17,$C33-$C$17,MATCH(DJ$16,Ages,1))),\"\")","v":""},null,"","",""]
[null,null,"","",{"$f":"IF($C34<>\"\",D34*EXP(-OFFSET('Forecasts Aggregate'!$C$17,$C34-$C$17,MATCH(D$16,Ages,1))),\"\")","v":""},{"$f":"IF($C34<>\"\",E34*EXP(-OFFSET('Forecasts Aggregate'!$C$17,$C34-$C$17,MATCH(E$16,Ages,1))),\"\")","v":""},{"$f":"IF($C34<>\"\",F34*EXP(-OFFSET('Forecasts Aggregate'!$C$17,$C34-$C$17,MATCH(F$16,Ages,1))),\"\")","v":""},{"$f":"IF($C34<>\"\",G34*EXP(-OFFSET('Forecasts Aggregate'!$C$17,$C34-$C$17,MATCH(G$16,Ages,1))),\"\")","v":""},{"$f":"IF($C34<>\"\",H34*EXP(-OFFSET('Forecasts Aggregate'!$C$17,$C34-$C$17,MATCH(H$16,Ages,1))),\"\")","v":""},{"$f":"IF($C34<>\"\",I34*EXP(-OFFSET('Forecasts Aggregate'!$C$17,$C34-$C$17,MATCH(I$16,Ages,1))),\"\")","v":""},{"$f":"IF($C34<>\"\",J34*EXP(-OFFSET('Forecasts Aggregate'!$C$17,$C34-$C$17,MATCH(J$16,Ages,1))),\"\")","v":""},{"$f":"IF($C34<>\"\",K34*EXP(-OFFSET('Forecasts Aggregate'!$C$17,$C34-$C$17,MATCH(K$16,Ages,1))),\"\")","v":""},{"$f":"IF($C34<>\"\",L34*EXP(-OFFSET('Forecasts Aggregate'!$C$17,$C34-$C$17,MATCH(L$16,Ages,1))),\"\")","v":""},{"$f":"IF($C34<>\"\",M34*EXP(-OFFSET('Forecasts Aggregate'!$C$17,$C34-$C$17,MATCH(M$16,Ages,1))),\"\")","v":""},{"$f":"IF($C34<>\"\",N34*EXP(-OFFSET('Forecasts Aggregate'!$C$17,$C34-$C$17,MATCH(N$16,Ages,1))),\"\")","v":""},{"$f":"IF($C34<>\"\",O34*EXP(-OFFSET('Forecasts Aggregate'!$C$17,$C34-$C$17,MATCH(O$16,Ages,1))),\"\")","v":""},{"$f":"IF($C34<>\"\",P34*EXP(-OFFSET('Forecasts Aggregate'!$C$17,$C34-$C$17,MATCH(P$16,Ages,1))),\"\")","v":""},{"$f":"IF($C34<>\"\",Q34*EXP(-OFFSET('Forecasts Aggregate'!$C$17,$C34-$C$17,MATCH(Q$16,Ages,1))),\"\")","v":""},{"$f":"IF($C34<>\"\",R34*EXP(-OFFSET('Forecasts Aggregate'!$C$17,$C34-$C$17,MATCH(R$16,Ages,1))),\"\")","v":""},{"$f":"IF($C34<>\"\",S34*EXP(-OFFSET('Forecasts Aggregate'!$C$17,$C34-$C$17,MATCH(S$16,Ages,1))),\"\")","v":""},{"$f":"IF($C34<>\"\",T34*EXP(-OFFSET('Forecasts Aggregate'!$C$17,$C34-$C$17,MATCH(T$16,Ages,1))),\"\")","v":""},{"$f":"IF($C34<>\"\",U34*EXP(-OFFSET('Forecasts Aggregate'!$C$17,$C34-$C$17,MATCH(U$16,Ages,1))),\"\")","v":""},{"$f":"IF($C34<>\"\",V34*EXP(-OFFSET('Forecasts Aggregate'!$C$17,$C34-$C$17,MATCH(V$16,Ages,1))),\"\")","v":""},{"$f":"IF($C34<>\"\",W34*EXP(-OFFSET('Forecasts Aggregate'!$C$17,$C34-$C$17,MATCH(W$16,Ages,1))),\"\")","v":""},{"$f":"IF($C34<>\"\",X34*EXP(-OFFSET('Forecasts Aggregate'!$C$17,$C34-$C$17,MATCH(X$16,Ages,1))),\"\")","v":""},{"$f":"IF($C34<>\"\",Y34*EXP(-OFFSET('Forecasts Aggregate'!$C$17,$C34-$C$17,MATCH(Y$16,Ages,1))),\"\")","v":""},{"$f":"IF($C34<>\"\",Z34*EXP(-OFFSET('Forecasts Aggregate'!$C$17,$C34-$C$17,MATCH(Z$16,Ages,1))),\"\")","v":""},{"$f":"IF($C34<>\"\",AA34*EXP(-OFFSET('Forecasts Aggregate'!$C$17,$C34-$C$17,MATCH(AA$16,Ages,1))),\"\")","v":""},{"$f":"IF($C34<>\"\",AB34*EXP(-OFFSET('Forecasts Aggregate'!$C$17,$C34-$C$17,MATCH(AB$16,Ages,1))),\"\")","v":""},{"$f":"IF($C34<>\"\",AC34*EXP(-OFFSET('Forecasts Aggregate'!$C$17,$C34-$C$17,MATCH(AC$16,Ages,1))),\"\")","v":""},{"$f":"IF($C34<>\"\",AD34*EXP(-OFFSET('Forecasts Aggregate'!$C$17,$C34-$C$17,MATCH(AD$16,Ages,1))),\"\")","v":""},{"$f":"IF($C34<>\"\",AE34*EXP(-OFFSET('Forecasts Aggregate'!$C$17,$C34-$C$17,MATCH(AE$16,Ages,1))),\"\")","v":""},{"$f":"IF($C34<>\"\",AF34*EXP(-OFFSET('Forecasts Aggregate'!$C$17,$C34-$C$17,MATCH(AF$16,Ages,1))),\"\")","v":""},{"$f":"IF($C34<>\"\",AG34*EXP(-OFFSET('Forecasts Aggregate'!$C$17,$C34-$C$17,MATCH(AG$16,Ages,1))),\"\")","v":""},{"$f":"IF($C34<>\"\",AH34*EXP(-OFFSET('Forecasts Aggregate'!$C$17,$C34-$C$17,MATCH(AH$16,Ages,1))),\"\")","v":""},{"$f":"IF($C34<>\"\",AI34*EXP(-OFFSET('Forecasts Aggregate'!$C$17,$C34-$C$17,MATCH(AI$16,Ages,1))),\"\")","v":""},{"$f":"IF($C34<>\"\",AJ34*EXP(-OFFSET('Forecasts Aggregate'!$C$17,$C34-$C$17,MATCH(AJ$16,Ages,1))),\"\")","v":""},{"$f":"IF($C34<>\"\",AK34*EXP(-OFFSET('Forecasts Aggregate'!$C$17,$C34-$C$17,MATCH(AK$16,Ages,1))),\"\")","v":""},{"$f":"IF($C34<>\"\",AL34*EXP(-OFFSET('Forecasts Aggregate'!$C$17,$C34-$C$17,MATCH(AL$16,Ages,1))),\"\")","v":""},{"$f":"IF($C34<>\"\",AM34*EXP(-OFFSET('Forecasts Aggregate'!$C$17,$C34-$C$17,MATCH(AM$16,Ages,1))),\"\")","v":""},{"$f":"IF($C34<>\"\",AN34*EXP(-OFFSET('Forecasts Aggregate'!$C$17,$C34-$C$17,MATCH(AN$16,Ages,1))),\"\")","v":""},{"$f":"IF($C34<>\"\",AO34*EXP(-OFFSET('Forecasts Aggregate'!$C$17,$C34-$C$17,MATCH(AO$16,Ages,1))),\"\")","v":""},{"$f":"IF($C34<>\"\",AP34*EXP(-OFFSET('Forecasts Aggregate'!$C$17,$C34-$C$17,MATCH(AP$16,Ages,1))),\"\")","v":""},{"$f":"IF($C34<>\"\",AQ34*EXP(-OFFSET('Forecasts Aggregate'!$C$17,$C34-$C$17,MATCH(AQ$16,Ages,1))),\"\")","v":""},{"$f":"IF($C34<>\"\",AR34*EXP(-OFFSET('Forecasts Aggregate'!$C$17,$C34-$C$17,MATCH(AR$16,Ages,1))),\"\")","v":""},{"$f":"IF($C34<>\"\",AS34*EXP(-OFFSET('Forecasts Aggregate'!$C$17,$C34-$C$17,MATCH(AS$16,Ages,1))),\"\")","v":""},{"$f":"IF($C34<>\"\",AT34*EXP(-OFFSET('Forecasts Aggregate'!$C$17,$C34-$C$17,MATCH(AT$16,Ages,1))),\"\")","v":""},{"$f":"IF($C34<>\"\",AU34*EXP(-OFFSET('Forecasts Aggregate'!$C$17,$C34-$C$17,MATCH(AU$16,Ages,1))),\"\")","v":""},{"$f":"IF($C34<>\"\",AV34*EXP(-OFFSET('Forecasts Aggregate'!$C$17,$C34-$C$17,MATCH(AV$16,Ages,1))),\"\")","v":""},{"$f":"IF($C34<>\"\",AW34*EXP(-OFFSET('Forecasts Aggregate'!$C$17,$C34-$C$17,MATCH(AW$16,Ages,1))),\"\")","v":""},{"$f":"IF($C34<>\"\",AX34*EXP(-OFFSET('Forecasts Aggregate'!$C$17,$C34-$C$17,MATCH(AX$16,Ages,1))),\"\")","v":""},{"$f":"IF($C34<>\"\",AY34*EXP(-OFFSET('Forecasts Aggregate'!$C$17,$C34-$C$17,MATCH(AY$16,Ages,1))),\"\")","v":""},{"$f":"IF($C34<>\"\",AZ34*EXP(-OFFSET('Forecasts Aggregate'!$C$17,$C34-$C$17,MATCH(AZ$16,Ages,1))),\"\")","v":""},{"$f":"IF($C34<>\"\",BA34*EXP(-OFFSET('Forecasts Aggregate'!$C$17,$C34-$C$17,MATCH(BA$16,Ages,1))),\"\")","v":""},{"$f":"IF($C34<>\"\",BB34*EXP(-OFFSET('Forecasts Aggregate'!$C$17,$C34-$C$17,MATCH(BB$16,Ages,1))),\"\")","v":""},{"$f":"IF($C34<>\"\",BC34*EXP(-OFFSET('Forecasts Aggregate'!$C$17,$C34-$C$17,MATCH(BC$16,Ages,1))),\"\")","v":""},{"$f":"IF($C34<>\"\",BD34*EXP(-OFFSET('Forecasts Aggregate'!$C$17,$C34-$C$17,MATCH(BD$16,Ages,1))),\"\")","v":""},{"$f":"IF($C34<>\"\",BE34*EXP(-OFFSET('Forecasts Aggregate'!$C$17,$C34-$C$17,MATCH(BE$16,Ages,1))),\"\")","v":""},{"$f":"IF($C34<>\"\",BF34*EXP(-OFFSET('Forecasts Aggregate'!$C$17,$C34-$C$17,MATCH(BF$16,Ages,1))),\"\")","v":""},{"$f":"IF($C34<>\"\",BG34*EXP(-OFFSET('Forecasts Aggregate'!$C$17,$C34-$C$17,MATCH(BG$16,Ages,1))),\"\")","v":""},{"$f":"IF($C34<>\"\",BH34*EXP(-OFFSET('Forecasts Aggregate'!$C$17,$C34-$C$17,MATCH(BH$16,Ages,1))),\"\")","v":""},{"$f":"IF($C34<>\"\",BI34*EXP(-OFFSET('Forecasts Aggregate'!$C$17,$C34-$C$17,MATCH(BI$16,Ages,1))),\"\")","v":""},{"$f":"IF($C34<>\"\",BJ34*EXP(-OFFSET('Forecasts Aggregate'!$C$17,$C34-$C$17,MATCH(BJ$16,Ages,1))),\"\")","v":""},{"$f":"IF($C34<>\"\",BK34*EXP(-OFFSET('Forecasts Aggregate'!$C$17,$C34-$C$17,MATCH(BK$16,Ages,1))),\"\")","v":""},{"$f":"IF($C34<>\"\",BL34*EXP(-OFFSET('Forecasts Aggregate'!$C$17,$C34-$C$17,MATCH(BL$16,Ages,1))),\"\")","v":""},{"$f":"IF($C34<>\"\",BM34*EXP(-OFFSET('Forecasts Aggregate'!$C$17,$C34-$C$17,MATCH(BM$16,Ages,1))),\"\")","v":""},{"$f":"IF($C34<>\"\",BN34*EXP(-OFFSET('Forecasts Aggregate'!$C$17,$C34-$C$17,MATCH(BN$16,Ages,1))),\"\")","v":""},{"$f":"IF($C34<>\"\",BO34*EXP(-OFFSET('Forecasts Aggregate'!$C$17,$C34-$C$17,MATCH(BO$16,Ages,1))),\"\")","v":""},{"$f":"IF($C34<>\"\",BP34*EXP(-OFFSET('Forecasts Aggregate'!$C$17,$C34-$C$17,MATCH(BP$16,Ages,1))),\"\")","v":""},{"$f":"IF($C34<>\"\",BQ34*EXP(-OFFSET('Forecasts Aggregate'!$C$17,$C34-$C$17,MATCH(BQ$16,Ages,1))),\"\")","v":""},{"$f":"IF($C34<>\"\",BR34*EXP(-OFFSET('Forecasts Aggregate'!$C$17,$C34-$C$17,MATCH(BR$16,Ages,1))),\"\")","v":""},{"$f":"IF($C34<>\"\",BS34*EXP(-OFFSET('Forecasts Aggregate'!$C$17,$C34-$C$17,MATCH(BS$16,Ages,1))),\"\")","v":""},{"$f":"IF($C34<>\"\",BT34*EXP(-OFFSET('Forecasts Aggregate'!$C$17,$C34-$C$17,MATCH(BT$16,Ages,1))),\"\")","v":""},{"$f":"IF($C34<>\"\",BU34*EXP(-OFFSET('Forecasts Aggregate'!$C$17,$C34-$C$17,MATCH(BU$16,Ages,1))),\"\")","v":""},{"$f":"IF($C34<>\"\",BV34*EXP(-OFFSET('Forecasts Aggregate'!$C$17,$C34-$C$17,MATCH(BV$16,Ages,1))),\"\")","v":""},{"$f":"IF($C34<>\"\",BW34*EXP(-OFFSET('Forecasts Aggregate'!$C$17,$C34-$C$17,MATCH(BW$16,Ages,1))),\"\")","v":""},{"$f":"IF($C34<>\"\",BX34*EXP(-OFFSET('Forecasts Aggregate'!$C$17,$C34-$C$17,MATCH(BX$16,Ages,1))),\"\")","v":""},{"$f":"IF($C34<>\"\",BY34*EXP(-OFFSET('Forecasts Aggregate'!$C$17,$C34-$C$17,MATCH(BY$16,Ages,1))),\"\")","v":""},{"$f":"IF($C34<>\"\",BZ34*EXP(-OFFSET('Forecasts Aggregate'!$C$17,$C34-$C$17,MATCH(BZ$16,Ages,1))),\"\")","v":""},{"$f":"IF($C34<>\"\",CA34*EXP(-OFFSET('Forecasts Aggregate'!$C$17,$C34-$C$17,MATCH(CA$16,Ages,1))),\"\")","v":""},{"$f":"IF($C34<>\"\",CB34*EXP(-OFFSET('Forecasts Aggregate'!$C$17,$C34-$C$17,MATCH(CB$16,Ages,1))),\"\")","v":""},{"$f":"IF($C34<>\"\",CC34*EXP(-OFFSET('Forecasts Aggregate'!$C$17,$C34-$C$17,MATCH(CC$16,Ages,1))),\"\")","v":""},{"$f":"IF($C34<>\"\",CD34*EXP(-OFFSET('Forecasts Aggregate'!$C$17,$C34-$C$17,MATCH(CD$16,Ages,1))),\"\")","v":""},{"$f":"IF($C34<>\"\",CE34*EXP(-OFFSET('Forecasts Aggregate'!$C$17,$C34-$C$17,MATCH(CE$16,Ages,1))),\"\")","v":""},{"$f":"IF($C34<>\"\",CF34*EXP(-OFFSET('Forecasts Aggregate'!$C$17,$C34-$C$17,MATCH(CF$16,Ages,1))),\"\")","v":""},{"$f":"IF($C34<>\"\",CG34*EXP(-OFFSET('Forecasts Aggregate'!$C$17,$C34-$C$17,MATCH(CG$16,Ages,1))),\"\")","v":""},{"$f":"IF($C34<>\"\",CH34*EXP(-OFFSET('Forecasts Aggregate'!$C$17,$C34-$C$17,MATCH(CH$16,Ages,1))),\"\")","v":""},{"$f":"IF($C34<>\"\",CI34*EXP(-OFFSET('Forecasts Aggregate'!$C$17,$C34-$C$17,MATCH(CI$16,Ages,1))),\"\")","v":""},{"$f":"IF($C34<>\"\",CJ34*EXP(-OFFSET('Forecasts Aggregate'!$C$17,$C34-$C$17,MATCH(CJ$16,Ages,1))),\"\")","v":""},{"$f":"IF($C34<>\"\",CK34*EXP(-OFFSET('Forecasts Aggregate'!$C$17,$C34-$C$17,MATCH(CK$16,Ages,1))),\"\")","v":""},{"$f":"IF($C34<>\"\",CL34*EXP(-OFFSET('Forecasts Aggregate'!$C$17,$C34-$C$17,MATCH(CL$16,Ages,1))),\"\")","v":""},{"$f":"IF($C34<>\"\",CM34*EXP(-OFFSET('Forecasts Aggregate'!$C$17,$C34-$C$17,MATCH(CM$16,Ages,1))),\"\")","v":""},{"$f":"IF($C34<>\"\",CN34*EXP(-OFFSET('Forecasts Aggregate'!$C$17,$C34-$C$17,MATCH(CN$16,Ages,1))),\"\")","v":""},{"$f":"IF($C34<>\"\",CO34*EXP(-OFFSET('Forecasts Aggregate'!$C$17,$C34-$C$17,MATCH(CO$16,Ages,1))),\"\")","v":""},{"$f":"IF($C34<>\"\",CP34*EXP(-OFFSET('Forecasts Aggregate'!$C$17,$C34-$C$17,MATCH(CP$16,Ages,1))),\"\")","v":""},{"$f":"IF($C34<>\"\",CQ34*EXP(-OFFSET('Forecasts Aggregate'!$C$17,$C34-$C$17,MATCH(CQ$16,Ages,1))),\"\")","v":""},{"$f":"IF($C34<>\"\",CR34*EXP(-OFFSET('Forecasts Aggregate'!$C$17,$C34-$C$17,MATCH(CR$16,Ages,1))),\"\")","v":""},{"$f":"IF($C34<>\"\",CS34*EXP(-OFFSET('Forecasts Aggregate'!$C$17,$C34-$C$17,MATCH(CS$16,Ages,1))),\"\")","v":""},{"$f":"IF($C34<>\"\",CT34*EXP(-OFFSET('Forecasts Aggregate'!$C$17,$C34-$C$17,MATCH(CT$16,Ages,1))),\"\")","v":""},{"$f":"IF($C34<>\"\",CU34*EXP(-OFFSET('Forecasts Aggregate'!$C$17,$C34-$C$17,MATCH(CU$16,Ages,1))),\"\")","v":""},{"$f":"IF($C34<>\"\",CV34*EXP(-OFFSET('Forecasts Aggregate'!$C$17,$C34-$C$17,MATCH(CV$16,Ages,1))),\"\")","v":""},{"$f":"IF($C34<>\"\",CW34*EXP(-OFFSET('Forecasts Aggregate'!$C$17,$C34-$C$17,MATCH(CW$16,Ages,1))),\"\")","v":""},{"$f":"IF($C34<>\"\",CX34*EXP(-OFFSET('Forecasts Aggregate'!$C$17,$C34-$C$17,MATCH(CX$16,Ages,1))),\"\")","v":""},{"$f":"IF($C34<>\"\",CY34*EXP(-OFFSET('Forecasts Aggregate'!$C$17,$C34-$C$17,MATCH(CY$16,Ages,1))),\"\")","v":""},{"$f":"IF($C34<>\"\",CZ34*EXP(-OFFSET('Forecasts Aggregate'!$C$17,$C34-$C$17,MATCH(CZ$16,Ages,1))),\"\")","v":""},{"$f":"IF($C34<>\"\",DA34*EXP(-OFFSET('Forecasts Aggregate'!$C$17,$C34-$C$17,MATCH(DA$16,Ages,1))),\"\")","v":""},{"$f":"IF($C34<>\"\",DB34*EXP(-OFFSET('Forecasts Aggregate'!$C$17,$C34-$C$17,MATCH(DB$16,Ages,1))),\"\")","v":""},{"$f":"IF($C34<>\"\",DC34*EXP(-OFFSET('Forecasts Aggregate'!$C$17,$C34-$C$17,MATCH(DC$16,Ages,1))),\"\")","v":""},{"$f":"IF($C34<>\"\",DD34*EXP(-OFFSET('Forecasts Aggregate'!$C$17,$C34-$C$17,MATCH(DD$16,Ages,1))),\"\")","v":""},{"$f":"IF($C34<>\"\",DE34*EXP(-OFFSET('Forecasts Aggregate'!$C$17,$C34-$C$17,MATCH(DE$16,Ages,1))),\"\")","v":""},{"$f":"IF($C34<>\"\",DF34*EXP(-OFFSET('Forecasts Aggregate'!$C$17,$C34-$C$17,MATCH(DF$16,Ages,1))),\"\")","v":""},{"$f":"IF($C34<>\"\",DG34*EXP(-OFFSET('Forecasts Aggregate'!$C$17,$C34-$C$17,MATCH(DG$16,Ages,1))),\"\")","v":""},{"$f":"IF($C34<>\"\",DH34*EXP(-OFFSET('Forecasts Aggregate'!$C$17,$C34-$C$17,MATCH(DH$16,Ages,1))),\"\")","v":""},{"$f":"IF($C34<>\"\",DI34*EXP(-OFFSET('Forecasts Aggregate'!$C$17,$C34-$C$17,MATCH(DI$16,Ages,1))),\"\")","v":""},{"$f":"IF($C34<>\"\",DJ34*EXP(-OFFSET('Forecasts Aggregate'!$C$17,$C34-$C$17,MATCH(DJ$16,Ages,1))),\"\")","v":""},null,"","",""]
[null,null,"","",{"$f":"IF($C35<>\"\",D35*EXP(-OFFSET('Forecasts Aggregate'!$C$17,$C35-$C$17,MATCH(D$16,Ages,1))),\"\")","v":""},{"$f":"IF($C35<>\"\",E35*EXP(-OFFSET('Forecasts Aggregate'!$C$17,$C35-$C$17,MATCH(E$16,Ages,1))),\"\")","v":""},{"$f":"IF($C35<>\"\",F35*EXP(-OFFSET('Forecasts Aggregate'!$C$17,$C35-$C$17,MATCH(F$16,Ages,1))),\"\")","v":""},{"$f":"IF($C35<>\"\",G35*EXP(-OFFSET('Forecasts Aggregate'!$C$17,$C35-$C$17,MATCH(G$16,Ages,1))),\"\")","v":""},{"$f":"IF($C35<>\"\",H35*EXP(-OFFSET('Forecasts Aggregate'!$C$17,$C35-$C$17,MATCH(H$16,Ages,1))),\"\")","v":""},{"$f":"IF($C35<>\"\",I35*EXP(-OFFSET('Forecasts Aggregate'!$C$17,$C35-$C$17,MATCH(I$16,Ages,1))),\"\")","v":""},{"$f":"IF($C35<>\"\",J35*EXP(-OFFSET('Forecasts Aggregate'!$C$17,$C35-$C$17,MATCH(J$16,Ages,1))),\"\")","v":""},{"$f":"IF($C35<>\"\",K35*EXP(-OFFSET('Forecasts Aggregate'!$C$17,$C35-$C$17,MATCH(K$16,Ages,1))),\"\")","v":""},{"$f":"IF($C35<>\"\",L35*EXP(-OFFSET('Forecasts Aggregate'!$C$17,$C35-$C$17,MATCH(L$16,Ages,1))),\"\")","v":""},{"$f":"IF($C35<>\"\",M35*EXP(-OFFSET('Forecasts Aggregate'!$C$17,$C35-$C$17,MATCH(M$16,Ages,1))),\"\")","v":""},{"$f":"IF($C35<>\"\",N35*EXP(-OFFSET('Forecasts Aggregate'!$C$17,$C35-$C$17,MATCH(N$16,Ages,1))),\"\")","v":""},{"$f":"IF($C35<>\"\",O35*EXP(-OFFSET('Forecasts Aggregate'!$C$17,$C35-$C$17,MATCH(O$16,Ages,1))),\"\")","v":""},{"$f":"IF($C35<>\"\",P35*EXP(-OFFSET('Forecasts Aggregate'!$C$17,$C35-$C$17,MATCH(P$16,Ages,1))),\"\")","v":""},{"$f":"IF($C35<>\"\",Q35*EXP(-OFFSET('Forecasts Aggregate'!$C$17,$C35-$C$17,MATCH(Q$16,Ages,1))),\"\")","v":""},{"$f":"IF($C35<>\"\",R35*EXP(-OFFSET('Forecasts Aggregate'!$C$17,$C35-$C$17,MATCH(R$16,Ages,1))),\"\")","v":""},{"$f":"IF($C35<>\"\",S35*EXP(-OFFSET('Forecasts Aggregate'!$C$17,$C35-$C$17,MATCH(S$16,Ages,1))),\"\")","v":""},{"$f":"IF($C35<>\"\",T35*EXP(-OFFSET('Forecasts Aggregate'!$C$17,$C35-$C$17,MATCH(T$16,Ages,1))),\"\")","v":""},{"$f":"IF($C35<>\"\",U35*EXP(-OFFSET('Forecasts Aggregate'!$C$17,$C35-$C$17,MATCH(U$16,Ages,1))),\"\")","v":""},{"$f":"IF($C35<>\"\",V35*EXP(-OFFSET('Forecasts Aggregate'!$C$17,$C35-$C$17,MATCH(V$16,Ages,1))),\"\")","v":""},{"$f":"IF($C35<>\"\",W35*EXP(-OFFSET('Forecasts Aggregate'!$C$17,$C35-$C$17,MATCH(W$16,Ages,1))),\"\")","v":""},{"$f":"IF($C35<>\"\",X35*EXP(-OFFSET('Forecasts Aggregate'!$C$17,$C35-$C$17,MATCH(X$16,Ages,1))),\"\")","v":""},{"$f":"IF($C35<>\"\",Y35*EXP(-OFFSET('Forecasts Aggregate'!$C$17,$C35-$C$17,MATCH(Y$16,Ages,1))),\"\")","v":""},{"$f":"IF($C35<>\"\",Z35*EXP(-OFFSET('Forecasts Aggregate'!$C$17,$C35-$C$17,MATCH(Z$16,Ages,1))),\"\")","v":""},{"$f":"IF($C35<>\"\",AA35*EXP(-OFFSET('Forecasts Aggregate'!$C$17,$C35-$C$17,MATCH(AA$16,Ages,1))),\"\")","v":""},{"$f":"IF($C35<>\"\",AB35*EXP(-OFFSET('Forecasts Aggregate'!$C$17,$C35-$C$17,MATCH(AB$16,Ages,1))),\"\")","v":""},{"$f":"IF($C35<>\"\",AC35*EXP(-OFFSET('Forecasts Aggregate'!$C$17,$C35-$C$17,MATCH(AC$16,Ages,1))),\"\")","v":""},{"$f":"IF($C35<>\"\",AD35*EXP(-OFFSET('Forecasts Aggregate'!$C$17,$C35-$C$17,MATCH(AD$16,Ages,1))),\"\")","v":""},{"$f":"IF($C35<>\"\",AE35*EXP(-OFFSET('Forecasts Aggregate'!$C$17,$C35-$C$17,MATCH(AE$16,Ages,1))),\"\")","v":""},{"$f":"IF($C35<>\"\",AF35*EXP(-OFFSET('Forecasts Aggregate'!$C$17,$C35-$C$17,MATCH(AF$16,Ages,1))),\"\")","v":""},{"$f":"IF($C35<>\"\",AG35*EXP(-OFFSET('Forecasts Aggregate'!$C$17,$C35-$C$17,MATCH(AG$16,Ages,1))),\"\")","v":""},{"$f":"IF($C35<>\"\",AH35*EXP(-OFFSET('Forecasts Aggregate'!$C$17,$C35-$C$17,MATCH(AH$16,Ages,1))),\"\")","v":""},{"$f":"IF($C35<>\"\",AI35*EXP(-OFFSET('Forecasts Aggregate'!$C$17,$C35-$C$17,MATCH(AI$16,Ages,1))),\"\")","v":""},{"$f":"IF($C35<>\"\",AJ35*EXP(-OFFSET('Forecasts Aggregate'!$C$17,$C35-$C$17,MATCH(AJ$16,Ages,1))),\"\")","v":""},{"$f":"IF($C35<>\"\",AK35*EXP(-OFFSET('Forecasts Aggregate'!$C$17,$C35-$C$17,MATCH(AK$16,Ages,1))),\"\")","v":""},{"$f":"IF($C35<>\"\",AL35*EXP(-OFFSET('Forecasts Aggregate'!$C$17,$C35-$C$17,MATCH(AL$16,Ages,1))),\"\")","v":""},{"$f":"IF($C35<>\"\",AM35*EXP(-OFFSET('Forecasts Aggregate'!$C$17,$C35-$C$17,MATCH(AM$16,Ages,1))),\"\")","v":""},{"$f":"IF($C35<>\"\",AN35*EXP(-OFFSET('Forecasts Aggregate'!$C$17,$C35-$C$17,MATCH(AN$16,Ages,1))),\"\")","v":""},{"$f":"IF($C35<>\"\",AO35*EXP(-OFFSET('Forecasts Aggregate'!$C$17,$C35-$C$17,MATCH(AO$16,Ages,1))),\"\")","v":""},{"$f":"IF($C35<>\"\",AP35*EXP(-OFFSET('Forecasts Aggregate'!$C$17,$C35-$C$17,MATCH(AP$16,Ages,1))),\"\")","v":""},{"$f":"IF($C35<>\"\",AQ35*EXP(-OFFSET('Forecasts Aggregate'!$C$17,$C35-$C$17,MATCH(AQ$16,Ages,1))),\"\")","v":""},{"$f":"IF($C35<>\"\",AR35*EXP(-OFFSET('Forecasts Aggregate'!$C$17,$C35-$C$17,MATCH(AR$16,Ages,1))),\"\")","v":""},{"$f":"IF($C35<>\"\",AS35*EXP(-OFFSET('Forecasts Aggregate'!$C$17,$C35-$C$17,MATCH(AS$16,Ages,1))),\"\")","v":""},{"$f":"IF($C35<>\"\",AT35*EXP(-OFFSET('Forecasts Aggregate'!$C$17,$C35-$C$17,MATCH(AT$16,Ages,1))),\"\")","v":""},{"$f":"IF($C35<>\"\",AU35*EXP(-OFFSET('Forecasts Aggregate'!$C$17,$C35-$C$17,MATCH(AU$16,Ages,1))),\"\")","v":""},{"$f":"IF($C35<>\"\",AV35*EXP(-OFFSET('Forecasts Aggregate'!$C$17,$C35-$C$17,MATCH(AV$16,Ages,1))),\"\")","v":""},{"$f":"IF($C35<>\"\",AW35*EXP(-OFFSET('Forecasts Aggregate'!$C$17,$C35-$C$17,MATCH(AW$16,Ages,1))),\"\")","v":""},{"$f":"IF($C35<>\"\",AX35*EXP(-OFFSET('Forecasts Aggregate'!$C$17,$C35-$C$17,MATCH(AX$16,Ages,1))),\"\")","v":""},{"$f":"IF($C35<>\"\",AY35*EXP(-OFFSET('Forecasts Aggregate'!$C$17,$C35-$C$17,MATCH(AY$16,Ages,1))),\"\")","v":""},{"$f":"IF($C35<>\"\",AZ35*EXP(-OFFSET('Forecasts Aggregate'!$C$17,$C35-$C$17,MATCH(AZ$16,Ages,1))),\"\")","v":""},{"$f":"IF($C35<>\"\",BA35*EXP(-OFFSET('Forecasts Aggregate'!$C$17,$C35-$C$17,MATCH(BA$16,Ages,1))),\"\")","v":""},{"$f":"IF($C35<>\"\",BB35*EXP(-OFFSET('Forecasts Aggregate'!$C$17,$C35-$C$17,MATCH(BB$16,Ages,1))),\"\")","v":""},{"$f":"IF($C35<>\"\",BC35*EXP(-OFFSET('Forecasts Aggregate'!$C$17,$C35-$C$17,MATCH(BC$16,Ages,1))),\"\")","v":""},{"$f":"IF($C35<>\"\",BD35*EXP(-OFFSET('Forecasts Aggregate'!$C$17,$C35-$C$17,MATCH(BD$16,Ages,1))),\"\")","v":""},{"$f":"IF($C35<>\"\",BE35*EXP(-OFFSET('Forecasts Aggregate'!$C$17,$C35-$C$17,MATCH(BE$16,Ages,1))),\"\")","v":""},{"$f":"IF($C35<>\"\",BF35*EXP(-OFFSET('Forecasts Aggregate'!$C$17,$C35-$C$17,MATCH(BF$16,Ages,1))),\"\")","v":""},{"$f":"IF($C35<>\"\",BG35*EXP(-OFFSET('Forecasts Aggregate'!$C$17,$C35-$C$17,MATCH(BG$16,Ages,1))),\"\")","v":""},{"$f":"IF($C35<>\"\",BH35*EXP(-OFFSET('Forecasts Aggregate'!$C$17,$C35-$C$17,MATCH(BH$16,Ages,1))),\"\")","v":""},{"$f":"IF($C35<>\"\",BI35*EXP(-OFFSET('Forecasts Aggregate'!$C$17,$C35-$C$17,MATCH(BI$16,Ages,1))),\"\")","v":""},{"$f":"IF($C35<>\"\",BJ35*EXP(-OFFSET('Forecasts Aggregate'!$C$17,$C35-$C$17,MATCH(BJ$16,Ages,1))),\"\")","v":""},{"$f":"IF($C35<>\"\",BK35*EXP(-OFFSET('Forecasts Aggregate'!$C$17,$C35-$C$17,MATCH(BK$16,Ages,1))),\"\")","v":""},{"$f":"IF($C35<>\"\",BL35*EXP(-OFFSET('Forecasts Aggregate'!$C$17,$C35-$C$17,MATCH(BL$16,Ages,1))),\"\")","v":""},{"$f":"IF($C35<>\"\",BM35*EXP(-OFFSET('Forecasts Aggregate'!$C$17,$C35-$C$17,MATCH(BM$16,Ages,1))),\"\")","v":""},{"$f":"IF($C35<>\"\",BN35*EXP(-OFFSET('Forecasts Aggregate'!$C$17,$C35-$C$17,MATCH(BN$16,Ages,1))),\"\")","v":""},{"$f":"IF($C35<>\"\",BO35*EXP(-OFFSET('Forecasts Aggregate'!$C$17,$C35-$C$17,MATCH(BO$16,Ages,1))),\"\")","v":""},{"$f":"IF($C35<>\"\",BP35*EXP(-OFFSET('Forecasts Aggregate'!$C$17,$C35-$C$17,MATCH(BP$16,Ages,1))),\"\")","v":""},{"$f":"IF($C35<>\"\",BQ35*EXP(-OFFSET('Forecasts Aggregate'!$C$17,$C35-$C$17,MATCH(BQ$16,Ages,1))),\"\")","v":""},{"$f":"IF($C35<>\"\",BR35*EXP(-OFFSET('Forecasts Aggregate'!$C$17,$C35-$C$17,MATCH(BR$16,Ages,1))),\"\")","v":""},{"$f":"IF($C35<>\"\",BS35*EXP(-OFFSET('Forecasts Aggregate'!$C$17,$C35-$C$17,MATCH(BS$16,Ages,1))),\"\")","v":""},{"$f":"IF($C35<>\"\",BT35*EXP(-OFFSET('Forecasts Aggregate'!$C$17,$C35-$C$17,MATCH(BT$16,Ages,1))),\"\")","v":""},{"$f":"IF($C35<>\"\",BU35*EXP(-OFFSET('Forecasts Aggregate'!$C$17,$C35-$C$17,MATCH(BU$16,Ages,1))),\"\")","v":""},{"$f":"IF($C35<>\"\",BV35*EXP(-OFFSET('Forecasts Aggregate'!$C$17,$C35-$C$17,MATCH(BV$16,Ages,1))),\"\")","v":""},{"$f":"IF($C35<>\"\",BW35*EXP(-OFFSET('Forecasts Aggregate'!$C$17,$C35-$C$17,MATCH(BW$16,Ages,1))),\"\")","v":""},{"$f":"IF($C35<>\"\",BX35*EXP(-OFFSET('Forecasts Aggregate'!$C$17,$C35-$C$17,MATCH(BX$16,Ages,1))),\"\")","v":""},{"$f":"IF($C35<>\"\",BY35*EXP(-OFFSET('Forecasts Aggregate'!$C$17,$C35-$C$17,MATCH(BY$16,Ages,1))),\"\")","v":""},{"$f":"IF($C35<>\"\",BZ35*EXP(-OFFSET('Forecasts Aggregate'!$C$17,$C35-$C$17,MATCH(BZ$16,Ages,1))),\"\")","v":""},{"$f":"IF($C35<>\"\",CA35*EXP(-OFFSET('Forecasts Aggregate'!$C$17,$C35-$C$17,MATCH(CA$16,Ages,1))),\"\")","v":""},{"$f":"IF($C35<>\"\",CB35*EXP(-OFFSET('Forecasts Aggregate'!$C$17,$C35-$C$17,MATCH(CB$16,Ages,1))),\"\")","v":""},{"$f":"IF($C35<>\"\",CC35*EXP(-OFFSET('Forecasts Aggregate'!$C$17,$C35-$C$17,MATCH(CC$16,Ages,1))),\"\")","v":""},{"$f":"IF($C35<>\"\",CD35*EXP(-OFFSET('Forecasts Aggregate'!$C$17,$C35-$C$17,MATCH(CD$16,Ages,1))),\"\")","v":""},{"$f":"IF($C35<>\"\",CE35*EXP(-OFFSET('Forecasts Aggregate'!$C$17,$C35-$C$17,MATCH(CE$16,Ages,1))),\"\")","v":""},{"$f":"IF($C35<>\"\",CF35*EXP(-OFFSET('Forecasts Aggregate'!$C$17,$C35-$C$17,MATCH(CF$16,Ages,1))),\"\")","v":""},{"$f":"IF($C35<>\"\",CG35*EXP(-OFFSET('Forecasts Aggregate'!$C$17,$C35-$C$17,MATCH(CG$16,Ages,1))),\"\")","v":""},{"$f":"IF($C35<>\"\",CH35*EXP(-OFFSET('Forecasts Aggregate'!$C$17,$C35-$C$17,MATCH(CH$16,Ages,1))),\"\")","v":""},{"$f":"IF($C35<>\"\",CI35*EXP(-OFFSET('Forecasts Aggregate'!$C$17,$C35-$C$17,MATCH(CI$16,Ages,1))),\"\")","v":""},{"$f":"IF($C35<>\"\",CJ35*EXP(-OFFSET('Forecasts Aggregate'!$C$17,$C35-$C$17,MATCH(CJ$16,Ages,1))),\"\")","v":""},{"$f":"IF($C35<>\"\",CK35*EXP(-OFFSET('Forecasts Aggregate'!$C$17,$C35-$C$17,MATCH(CK$16,Ages,1))),\"\")","v":""},{"$f":"IF($C35<>\"\",CL35*EXP(-OFFSET('Forecasts Aggregate'!$C$17,$C35-$C$17,MATCH(CL$16,Ages,1))),\"\")","v":""},{"$f":"IF($C35<>\"\",CM35*EXP(-OFFSET('Forecasts Aggregate'!$C$17,$C35-$C$17,MATCH(CM$16,Ages,1))),\"\")","v":""},{"$f":"IF($C35<>\"\",CN35*EXP(-OFFSET('Forecasts Aggregate'!$C$17,$C35-$C$17,MATCH(CN$16,Ages,1))),\"\")","v":""},{"$f":"IF($C35<>\"\",CO35*EXP(-OFFSET('Forecasts Aggregate'!$C$17,$C35-$C$17,MATCH(CO$16,Ages,1))),\"\")","v":""},{"$f":"IF($C35<>\"\",CP35*EXP(-OFFSET('Forecasts Aggregate'!$C$17,$C35-$C$17,MATCH(CP$16,Ages,1))),\"\")","v":""},{"$f":"IF($C35<>\"\",CQ35*EXP(-OFFSET('Forecasts Aggregate'!$C$17,$C35-$C$17,MATCH(CQ$16,Ages,1))),\"\")","v":""},{"$f":"IF($C35<>\"\",CR35*EXP(-OFFSET('Forecasts Aggregate'!$C$17,$C35-$C$17,MATCH(CR$16,Ages,1))),\"\")","v":""},{"$f":"IF($C35<>\"\",CS35*EXP(-OFFSET('Forecasts Aggregate'!$C$17,$C35-$C$17,MATCH(CS$16,Ages,1))),\"\")","v":""},{"$f":"IF($C35<>\"\",CT35*EXP(-OFFSET('Forecasts Aggregate'!$C$17,$C35-$C$17,MATCH(CT$16,Ages,1))),\"\")","v":""},{"$f":"IF($C35<>\"\",CU35*EXP(-OFFSET('Forecasts Aggregate'!$C$17,$C35-$C$17,MATCH(CU$16,Ages,1))),\"\")","v":""},{"$f":"IF($C35<>\"\",CV35*EXP(-OFFSET('Forecasts Aggregate'!$C$17,$C35-$C$17,MATCH(CV$16,Ages,1))),\"\")","v":""},{"$f":"IF($C35<>\"\",CW35*EXP(-OFFSET('Forecasts Aggregate'!$C$17,$C35-$C$17,MATCH(CW$16,Ages,1))),\"\")","v":""},{"$f":"IF($C35<>\"\",CX35*EXP(-OFFSET('Forecasts Aggregate'!$C$17,$C35-$C$17,MATCH(CX$16,Ages,1))),\"\")","v":""},{"$f":"IF($C35<>\"\",CY35*EXP(-OFFSET('Forecasts Aggregate'!$C$17,$C35-$C$17,MATCH(CY$16,Ages,1))),\"\")","v":""},{"$f":"IF($C35<>\"\",CZ35*EXP(-OFFSET('Forecasts Aggregate'!$C$17,$C35-$C$17,MATCH(CZ$16,Ages,1))),\"\")","v":""},{"$f":"IF($C35<>\"\",DA35*EXP(-OFFSET('Forecasts Aggregate'!$C$17,$C35-$C$17,MATCH(DA$16,Ages,1))),\"\")","v":""},{"$f":"IF($C35<>\"\",DB35*EXP(-OFFSET('Forecasts Aggregate'!$C$17,$C35-$C$17,MATCH(DB$16,Ages,1))),\"\")","v":""},{"$f":"IF($C35<>\"\",DC35*EXP(-OFFSET('Forecasts Aggregate'!$C$17,$C35-$C$17,MATCH(DC$16,Ages,1))),\"\")","v":""},{"$f":"IF($C35<>\"\",DD35*EXP(-OFFSET('Forecasts Aggregate'!$C$17,$C35-$C$17,MATCH(DD$16,Ages,1))),\"\")","v":""},{"$f":"IF($C35<>\"\",DE35*EXP(-OFFSET('Forecasts Aggregate'!$C$17,$C35-$C$17,MATCH(DE$16,Ages,1))),\"\")","v":""},{"$f":"IF($C35<>\"\",DF35*EXP(-OFFSET('Forecasts Aggregate'!$C$17,$C35-$C$17,MATCH(DF$16,Ages,1))),\"\")","v":""},{"$f":"IF($C35<>\"\",DG35*EXP(-OFFSET('Forecasts Aggregate'!$C$17,$C35-$C$17,MATCH(DG$16,Ages,1))),\"\")","v":""},{"$f":"IF($C35<>\"\",DH35*EXP(-OFFSET('Forecasts Aggregate'!$C$17,$C35-$C$17,MATCH(DH$16,Ages,1))),\"\")","v":""},{"$f":"IF($C35<>\"\",DI35*EXP(-OFFSET('Forecasts Aggregate'!$C$17,$C35-$C$17,MATCH(DI$16,Ages,1))),\"\")","v":""},{"$f":"IF($C35<>\"\",DJ35*EXP(-OFFSET('Forecasts Aggregate'!$C$17,$C35-$C$17,MATCH(DJ$16,Ages,1))),\"\")","v":""},null,"","",""]
[null,null,"","",{"$f":"IF($C36<>\"\",D36*EXP(-OFFSET('Forecasts Aggregate'!$C$17,$C36-$C$17,MATCH(D$16,Ages,1))),\"\")","v":""},{"$f":"IF($C36<>\"\",E36*EXP(-OFFSET('Forecasts Aggregate'!$C$17,$C36-$C$17,MATCH(E$16,Ages,1))),\"\")","v":""},{"$f":"IF($C36<>\"\",F36*EXP(-OFFSET('Forecasts Aggregate'!$C$17,$C36-$C$17,MATCH(F$16,Ages,1))),\"\")","v":""},{"$f":"IF($C36<>\"\",G36*EXP(-OFFSET('Forecasts Aggregate'!$C$17,$C36-$C$17,MATCH(G$16,Ages,1))),\"\")","v":""},{"$f":"IF($C36<>\"\",H36*EXP(-OFFSET('Forecasts Aggregate'!$C$17,$C36-$C$17,MATCH(H$16,Ages,1))),\"\")","v":""},{"$f":"IF($C36<>\"\",I36*EXP(-OFFSET('Forecasts Aggregate'!$C$17,$C36-$C$17,MATCH(I$16,Ages,1))),\"\")","v":""},{"$f":"IF($C36<>\"\",J36*EXP(-OFFSET('Forecasts Aggregate'!$C$17,$C36-$C$17,MATCH(J$16,Ages,1))),\"\")","v":""},{"$f":"IF($C36<>\"\",K36*EXP(-OFFSET('Forecasts Aggregate'!$C$17,$C36-$C$17,MATCH(K$16,Ages,1))),\"\")","v":""},{"$f":"IF($C36<>\"\",L36*EXP(-OFFSET('Forecasts Aggregate'!$C$17,$C36-$C$17,MATCH(L$16,Ages,1))),\"\")","v":""},{"$f":"IF($C36<>\"\",M36*EXP(-OFFSET('Forecasts Aggregate'!$C$17,$C36-$C$17,MATCH(M$16,Ages,1))),\"\")","v":""},{"$f":"IF($C36<>\"\",N36*EXP(-OFFSET('Forecasts Aggregate'!$C$17,$C36-$C$17,MATCH(N$16,Ages,1))),\"\")","v":""},{"$f":"IF($C36<>\"\",O36*EXP(-OFFSET('Forecasts Aggregate'!$C$17,$C36-$C$17,MATCH(O$16,Ages,1))),\"\")","v":""},{"$f":"IF($C36<>\"\",P36*EXP(-OFFSET('Forecasts Aggregate'!$C$17,$C36-$C$17,MATCH(P$16,Ages,1))),\"\")","v":""},{"$f":"IF($C36<>\"\",Q36*EXP(-OFFSET('Forecasts Aggregate'!$C$17,$C36-$C$17,MATCH(Q$16,Ages,1))),\"\")","v":""},{"$f":"IF($C36<>\"\",R36*EXP(-OFFSET('Forecasts Aggregate'!$C$17,$C36-$C$17,MATCH(R$16,Ages,1))),\"\")","v":""},{"$f":"IF($C36<>\"\",S36*EXP(-OFFSET('Forecasts Aggregate'!$C$17,$C36-$C$17,MATCH(S$16,Ages,1))),\"\")","v":""},{"$f":"IF($C36<>\"\",T36*EXP(-OFFSET('Forecasts Aggregate'!$C$17,$C36-$C$17,MATCH(T$16,Ages,1))),\"\")","v":""},{"$f":"IF($C36<>\"\",U36*EXP(-OFFSET('Forecasts Aggregate'!$C$17,$C36-$C$17,MATCH(U$16,Ages,1))),\"\")","v":""},{"$f":"IF($C36<>\"\",V36*EXP(-OFFSET('Forecasts Aggregate'!$C$17,$C36-$C$17,MATCH(V$16,Ages,1))),\"\")","v":""},{"$f":"IF($C36<>\"\",W36*EXP(-OFFSET('Forecasts Aggregate'!$C$17,$C36-$C$17,MATCH(W$16,Ages,1))),\"\")","v":""},{"$f":"IF($C36<>\"\",X36*EXP(-OFFSET('Forecasts Aggregate'!$C$17,$C36-$C$17,MATCH(X$16,Ages,1))),\"\")","v":""},{"$f":"IF($C36<>\"\",Y36*EXP(-OFFSET('Forecasts Aggregate'!$C$17,$C36-$C$17,MATCH(Y$16,Ages,1))),\"\")","v":""},{"$f":"IF($C36<>\"\",Z36*EXP(-OFFSET('Forecasts Aggregate'!$C$17,$C36-$C$17,MATCH(Z$16,Ages,1))),\"\")","v":""},{"$f":"IF($C36<>\"\",AA36*EXP(-OFFSET('Forecasts Aggregate'!$C$17,$C36-$C$17,MATCH(AA$16,Ages,1))),\"\")","v":""},{"$f":"IF($C36<>\"\",AB36*EXP(-OFFSET('Forecasts Aggregate'!$C$17,$C36-$C$17,MATCH(AB$16,Ages,1))),\"\")","v":""},{"$f":"IF($C36<>\"\",AC36*EXP(-OFFSET('Forecasts Aggregate'!$C$17,$C36-$C$17,MATCH(AC$16,Ages,1))),\"\")","v":""},{"$f":"IF($C36<>\"\",AD36*EXP(-OFFSET('Forecasts Aggregate'!$C$17,$C36-$C$17,MATCH(AD$16,Ages,1))),\"\")","v":""},{"$f":"IF($C36<>\"\",AE36*EXP(-OFFSET('Forecasts Aggregate'!$C$17,$C36-$C$17,MATCH(AE$16,Ages,1))),\"\")","v":""},{"$f":"IF($C36<>\"\",AF36*EXP(-OFFSET('Forecasts Aggregate'!$C$17,$C36-$C$17,MATCH(AF$16,Ages,1))),\"\")","v":""},{"$f":"IF($C36<>\"\",AG36*EXP(-OFFSET('Forecasts Aggregate'!$C$17,$C36-$C$17,MATCH(AG$16,Ages,1))),\"\")","v":""},{"$f":"IF($C36<>\"\",AH36*EXP(-OFFSET('Forecasts Aggregate'!$C$17,$C36-$C$17,MATCH(AH$16,Ages,1))),\"\")","v":""},{"$f":"IF($C36<>\"\",AI36*EXP(-OFFSET('Forecasts Aggregate'!$C$17,$C36-$C$17,MATCH(AI$16,Ages,1))),\"\")","v":""},{"$f":"IF($C36<>\"\",AJ36*EXP(-OFFSET('Forecasts Aggregate'!$C$17,$C36-$C$17,MATCH(AJ$16,Ages,1))),\"\")","v":""},{"$f":"IF($C36<>\"\",AK36*EXP(-OFFSET('Forecasts Aggregate'!$C$17,$C36-$C$17,MATCH(AK$16,Ages,1))),\"\")","v":""},{"$f":"IF($C36<>\"\",AL36*EXP(-OFFSET('Forecasts Aggregate'!$C$17,$C36-$C$17,MATCH(AL$16,Ages,1))),\"\")","v":""},{"$f":"IF($C36<>\"\",AM36*EXP(-OFFSET('Forecasts Aggregate'!$C$17,$C36-$C$17,MATCH(AM$16,Ages,1))),\"\")","v":""},{"$f":"IF($C36<>\"\",AN36*EXP(-OFFSET('Forecasts Aggregate'!$C$17,$C36-$C$17,MATCH(AN$16,Ages,1))),\"\")","v":""},{"$f":"IF($C36<>\"\",AO36*EXP(-OFFSET('Forecasts Aggregate'!$C$17,$C36-$C$17,MATCH(AO$16,Ages,1))),\"\")","v":""},{"$f":"IF($C36<>\"\",AP36*EXP(-OFFSET('Forecasts Aggregate'!$C$17,$C36-$C$17,MATCH(AP$16,Ages,1))),\"\")","v":""},{"$f":"IF($C36<>\"\",AQ36*EXP(-OFFSET('Forecasts Aggregate'!$C$17,$C36-$C$17,MATCH(AQ$16,Ages,1))),\"\")","v":""},{"$f":"IF($C36<>\"\",AR36*EXP(-OFFSET('Forecasts Aggregate'!$C$17,$C36-$C$17,MATCH(AR$16,Ages,1))),\"\")","v":""},{"$f":"IF($C36<>\"\",AS36*EXP(-OFFSET('Forecasts Aggregate'!$C$17,$C36-$C$17,MATCH(AS$16,Ages,1))),\"\")","v":""},{"$f":"IF($C36<>\"\",AT36*EXP(-OFFSET('Forecasts Aggregate'!$C$17,$C36-$C$17,MATCH(AT$16,Ages,1))),\"\")","v":""},{"$f":"IF($C36<>\"\",AU36*EXP(-OFFSET('Forecasts Aggregate'!$C$17,$C36-$C$17,MATCH(AU$16,Ages,1))),\"\")","v":""},{"$f":"IF($C36<>\"\",AV36*EXP(-OFFSET('Forecasts Aggregate'!$C$17,$C36-$C$17,MATCH(AV$16,Ages,1))),\"\")","v":""},{"$f":"IF($C36<>\"\",AW36*EXP(-OFFSET('Forecasts Aggregate'!$C$17,$C36-$C$17,MATCH(AW$16,Ages,1))),\"\")","v":""},{"$f":"IF($C36<>\"\",AX36*EXP(-OFFSET('Forecasts Aggregate'!$C$17,$C36-$C$17,MATCH(AX$16,Ages,1))),\"\")","v":""},{"$f":"IF($C36<>\"\",AY36*EXP(-OFFSET('Forecasts Aggregate'!$C$17,$C36-$C$17,MATCH(AY$16,Ages,1))),\"\")","v":""},{"$f":"IF($C36<>\"\",AZ36*EXP(-OFFSET('Forecasts Aggregate'!$C$17,$C36-$C$17,MATCH(AZ$16,Ages,1))),\"\")","v":""},{"$f":"IF($C36<>\"\",BA36*EXP(-OFFSET('Forecasts Aggregate'!$C$17,$C36-$C$17,MATCH(BA$16,Ages,1))),\"\")","v":""},{"$f":"IF($C36<>\"\",BB36*EXP(-OFFSET('Forecasts Aggregate'!$C$17,$C36-$C$17,MATCH(BB$16,Ages,1))),\"\")","v":""},{"$f":"IF($C36<>\"\",BC36*EXP(-OFFSET('Forecasts Aggregate'!$C$17,$C36-$C$17,MATCH(BC$16,Ages,1))),\"\")","v":""},{"$f":"IF($C36<>\"\",BD36*EXP(-OFFSET('Forecasts Aggregate'!$C$17,$C36-$C$17,MATCH(BD$16,Ages,1))),\"\")","v":""},{"$f":"IF($C36<>\"\",BE36*EXP(-OFFSET('Forecasts Aggregate'!$C$17,$C36-$C$17,MATCH(BE$16,Ages,1))),\"\")","v":""},{"$f":"IF($C36<>\"\",BF36*EXP(-OFFSET('Forecasts Aggregate'!$C$17,$C36-$C$17,MATCH(BF$16,Ages,1))),\"\")","v":""},{"$f":"IF($C36<>\"\",BG36*EXP(-OFFSET('Forecasts Aggregate'!$C$17,$C36-$C$17,MATCH(BG$16,Ages,1))),\"\")","v":""},{"$f":"IF($C36<>\"\",BH36*EXP(-OFFSET('Forecasts Aggregate'!$C$17,$C36-$C$17,MATCH(BH$16,Ages,1))),\"\")","v":""},{"$f":"IF($C36<>\"\",BI36*EXP(-OFFSET('Forecasts Aggregate'!$C$17,$C36-$C$17,MATCH(BI$16,Ages,1))),\"\")","v":""},{"$f":"IF($C36<>\"\",BJ36*EXP(-OFFSET('Forecasts Aggregate'!$C$17,$C36-$C$17,MATCH(BJ$16,Ages,1))),\"\")","v":""},{"$f":"IF($C36<>\"\",BK36*EXP(-OFFSET('Forecasts Aggregate'!$C$17,$C36-$C$17,MATCH(BK$16,Ages,1))),\"\")","v":""},{"$f":"IF($C36<>\"\",BL36*EXP(-OFFSET('Forecasts Aggregate'!$C$17,$C36-$C$17,MATCH(BL$16,Ages,1))),\"\")","v":""},{"$f":"IF($C36<>\"\",BM36*EXP(-OFFSET('Forecasts Aggregate'!$C$17,$C36-$C$17,MATCH(BM$16,Ages,1))),\"\")","v":""},{"$f":"IF($C36<>\"\",BN36*EXP(-OFFSET('Forecasts Aggregate'!$C$17,$C36-$C$17,MATCH(BN$16,Ages,1))),\"\")","v":""},{"$f":"IF($C36<>\"\",BO36*EXP(-OFFSET('Forecasts Aggregate'!$C$17,$C36-$C$17,MATCH(BO$16,Ages,1))),\"\")","v":""},{"$f":"IF($C36<>\"\",BP36*EXP(-OFFSET('Forecasts Aggregate'!$C$17,$C36-$C$17,MATCH(BP$16,Ages,1))),\"\")","v":""},{"$f":"IF($C36<>\"\",BQ36*EXP(-OFFSET('Forecasts Aggregate'!$C$17,$C36-$C$17,MATCH(BQ$16,Ages,1))),\"\")","v":""},{"$f":"IF($C36<>\"\",BR36*EXP(-OFFSET('Forecasts Aggregate'!$C$17,$C36-$C$17,MATCH(BR$16,Ages,1))),\"\")","v":""},{"$f":"IF($C36<>\"\",BS36*EXP(-OFFSET('Forecasts Aggregate'!$C$17,$C36-$C$17,MATCH(BS$16,Ages,1))),\"\")","v":""},{"$f":"IF($C36<>\"\",BT36*EXP(-OFFSET('Forecasts Aggregate'!$C$17,$C36-$C$17,MATCH(BT$16,Ages,1))),\"\")","v":""},{"$f":"IF($C36<>\"\",BU36*EXP(-OFFSET('Forecasts Aggregate'!$C$17,$C36-$C$17,MATCH(BU$16,Ages,1))),\"\")","v":""},{"$f":"IF($C36<>\"\",BV36*EXP(-OFFSET('Forecasts Aggregate'!$C$17,$C36-$C$17,MATCH(BV$16,Ages,1))),\"\")","v":""},{"$f":"IF($C36<>\"\",BW36*EXP(-OFFSET('Forecasts Aggregate'!$C$17,$C36-$C$17,MATCH(BW$16,Ages,1))),\"\")","v":""},{"$f":"IF($C36<>\"\",BX36*EXP(-OFFSET('Forecasts Aggregate'!$C$17,$C36-$C$17,MATCH(BX$16,Ages,1))),\"\")","v":""},{"$f":"IF($C36<>\"\",BY36*EXP(-OFFSET('Forecasts Aggregate'!$C$17,$C36-$C$17,MATCH(BY$16,Ages,1))),\"\")","v":""},{"$f":"IF($C36<>\"\",BZ36*EXP(-OFFSET('Forecasts Aggregate'!$C$17,$C36-$C$17,MATCH(BZ$16,Ages,1))),\"\")","v":""},{"$f":"IF($C36<>\"\",CA36*EXP(-OFFSET('Forecasts Aggregate'!$C$17,$C36-$C$17,MATCH(CA$16,Ages,1))),\"\")","v":""},{"$f":"IF($C36<>\"\",CB36*EXP(-OFFSET('Forecasts Aggregate'!$C$17,$C36-$C$17,MATCH(CB$16,Ages,1))),\"\")","v":""},{"$f":"IF($C36<>\"\",CC36*EXP(-OFFSET('Forecasts Aggregate'!$C$17,$C36-$C$17,MATCH(CC$16,Ages,1))),\"\")","v":""},{"$f":"IF($C36<>\"\",CD36*EXP(-OFFSET('Forecasts Aggregate'!$C$17,$C36-$C$17,MATCH(CD$16,Ages,1))),\"\")","v":""},{"$f":"IF($C36<>\"\",CE36*EXP(-OFFSET('Forecasts Aggregate'!$C$17,$C36-$C$17,MATCH(CE$16,Ages,1))),\"\")","v":""},{"$f":"IF($C36<>\"\",CF36*EXP(-OFFSET('Forecasts Aggregate'!$C$17,$C36-$C$17,MATCH(CF$16,Ages,1))),\"\")","v":""},{"$f":"IF($C36<>\"\",CG36*EXP(-OFFSET('Forecasts Aggregate'!$C$17,$C36-$C$17,MATCH(CG$16,Ages,1))),\"\")","v":""},{"$f":"IF($C36<>\"\",CH36*EXP(-OFFSET('Forecasts Aggregate'!$C$17,$C36-$C$17,MATCH(CH$16,Ages,1))),\"\")","v":""},{"$f":"IF($C36<>\"\",CI36*EXP(-OFFSET('Forecasts Aggregate'!$C$17,$C36-$C$17,MATCH(CI$16,Ages,1))),\"\")","v":""},{"$f":"IF($C36<>\"\",CJ36*EXP(-OFFSET('Forecasts Aggregate'!$C$17,$C36-$C$17,MATCH(CJ$16,Ages,1))),\"\")","v":""},{"$f":"IF($C36<>\"\",CK36*EXP(-OFFSET('Forecasts Aggregate'!$C$17,$C36-$C$17,MATCH(CK$16,Ages,1))),\"\")","v":""},{"$f":"IF($C36<>\"\",CL36*EXP(-OFFSET('Forecasts Aggregate'!$C$17,$C36-$C$17,MATCH(CL$16,Ages,1))),\"\")","v":""},{"$f":"IF($C36<>\"\",CM36*EXP(-OFFSET('Forecasts Aggregate'!$C$17,$C36-$C$17,MATCH(CM$16,Ages,1))),\"\")","v":""},{"$f":"IF($C36<>\"\",CN36*EXP(-OFFSET('Forecasts Aggregate'!$C$17,$C36-$C$17,MATCH(CN$16,Ages,1))),\"\")","v":""},{"$f":"IF($C36<>\"\",CO36*EXP(-OFFSET('Forecasts Aggregate'!$C$17,$C36-$C$17,MATCH(CO$16,Ages,1))),\"\")","v":""},{"$f":"IF($C36<>\"\",CP36*EXP(-OFFSET('Forecasts Aggregate'!$C$17,$C36-$C$17,MATCH(CP$16,Ages,1))),\"\")","v":""},{"$f":"IF($C36<>\"\",CQ36*EXP(-OFFSET('Forecasts Aggregate'!$C$17,$C36-$C$17,MATCH(CQ$16,Ages,1))),\"\")","v":""},{"$f":"IF($C36<>\"\",CR36*EXP(-OFFSET('Forecasts Aggregate'!$C$17,$C36-$C$17,MATCH(CR$16,Ages,1))),\"\")","v":""},{"$f":"IF($C36<>\"\",CS36*EXP(-OFFSET('Forecasts Aggregate'!$C$17,$C36-$C$17,MATCH(CS$16,Ages,1))),\"\")","v":""},{"$f":"IF($C36<>\"\",CT36*EXP(-OFFSET('Forecasts Aggregate'!$C$17,$C36-$C$17,MATCH(CT$16,Ages,1))),\"\")","v":""},{"$f":"IF($C36<>\"\",CU36*EXP(-OFFSET('Forecasts Aggregate'!$C$17,$C36-$C$17,MATCH(CU$16,Ages,1))),\"\")","v":""},{"$f":"IF($C36<>\"\",CV36*EXP(-OFFSET('Forecasts Aggregate'!$C$17,$C36-$C$17,MATCH(CV$16,Ages,1))),\"\")","v":""},{"$f":"IF($C36<>\"\",CW36*EXP(-OFFSET('Forecasts Aggregate'!$C$17,$C36-$C$17,MATCH(CW$16,Ages,1))),\"\")","v":""},{"$f":"IF($C36<>\"\",CX36*EXP(-OFFSET('Forecasts Aggregate'!$C$17,$C36-$C$17,MATCH(CX$16,Ages,1))),\"\")","v":""},{"$f":"IF($C36<>\"\",CY36*EXP(-OFFSET('Forecasts Aggregate'!$C$17,$C36-$C$17,MATCH(CY$16,Ages,1))),\"\")","v":""},{"$f":"IF($C36<>\"\",CZ36*EXP(-OFFSET('Forecasts Aggregate'!$C$17,$C36-$C$17,MATCH(CZ$16,Ages,1))),\"\")","v":""},{"$f":"IF($C36<>\"\",DA36*EXP(-OFFSET('Forecasts Aggregate'!$C$17,$C36-$C$17,MATCH(DA$16,Ages,1))),\"\")","v":""},{"$f":"IF($C36<>\"\",DB36*EXP(-OFFSET('Forecasts Aggregate'!$C$17,$C36-$C$17,MATCH(DB$16,Ages,1))),\"\")","v":""},{"$f":"IF($C36<>\"\",DC36*EXP(-OFFSET('Forecasts Aggregate'!$C$17,$C36-$C$17,MATCH(DC$16,Ages,1))),\"\")","v":""},{"$f":"IF($C36<>\"\",DD36*EXP(-OFFSET('Forecasts Aggregate'!$C$17,$C36-$C$17,MATCH(DD$16,Ages,1))),\"\")","v":""},{"$f":"IF($C36<>\"\",DE36*EXP(-OFFSET('Forecasts Aggregate'!$C$17,$C36-$C$17,MATCH(DE$16,Ages,1))),\"\")","v":""},{"$f":"IF($C36<>\"\",DF36*EXP(-OFFSET('Forecasts Aggregate'!$C$17,$C36-$C$17,MATCH(DF$16,Ages,1))),\"\")","v":""},{"$f":"IF($C36<>\"\",DG36*EXP(-OFFSET('Forecasts Aggregate'!$C$17,$C36-$C$17,MATCH(DG$16,Ages,1))),\"\")","v":""},{"$f":"IF($C36<>\"\",DH36*EXP(-OFFSET('Forecasts Aggregate'!$C$17,$C36-$C$17,MATCH(DH$16,Ages,1))),\"\")","v":""},{"$f":"IF($C36<>\"\",DI36*EXP(-OFFSET('Forecasts Aggregate'!$C$17,$C36-$C$17,MATCH(DI$16,Ages,1))),\"\")","v":""},{"$f":"IF($C36<>\"\",DJ36*EXP(-OFFSET('Forecasts Aggregate'!$C$17,$C36-$C$17,MATCH(DJ$16,Ages,1))),\"\")","v":""},null,"","",""]
[null,null,"","",{"$f":"IF($C37<>\"\",D37*EXP(-OFFSET('Forecasts Aggregate'!$C$17,$C37-$C$17,MATCH(D$16,Ages,1))),\"\")","v":""},{"$f":"IF($C37<>\"\",E37*EXP(-OFFSET('Forecasts Aggregate'!$C$17,$C37-$C$17,MATCH(E$16,Ages,1))),\"\")","v":""},{"$f":"IF($C37<>\"\",F37*EXP(-OFFSET('Forecasts Aggregate'!$C$17,$C37-$C$17,MATCH(F$16,Ages,1))),\"\")","v":""},{"$f":"IF($C37<>\"\",G37*EXP(-OFFSET('Forecasts Aggregate'!$C$17,$C37-$C$17,MATCH(G$16,Ages,1))),\"\")","v":""},{"$f":"IF($C37<>\"\",H37*EXP(-OFFSET('Forecasts Aggregate'!$C$17,$C37-$C$17,MATCH(H$16,Ages,1))),\"\")","v":""},{"$f":"IF($C37<>\"\",I37*EXP(-OFFSET('Forecasts Aggregate'!$C$17,$C37-$C$17,MATCH(I$16,Ages,1))),\"\")","v":""},{"$f":"IF($C37<>\"\",J37*EXP(-OFFSET('Forecasts Aggregate'!$C$17,$C37-$C$17,MATCH(J$16,Ages,1))),\"\")","v":""},{"$f":"IF($C37<>\"\",K37*EXP(-OFFSET('Forecasts Aggregate'!$C$17,$C37-$C$17,MATCH(K$16,Ages,1))),\"\")","v":""},{"$f":"IF($C37<>\"\",L37*EXP(-OFFSET('Forecasts Aggregate'!$C$17,$C37-$C$17,MATCH(L$16,Ages,1))),\"\")","v":""},{"$f":"IF($C37<>\"\",M37*EXP(-OFFSET('Forecasts Aggregate'!$C$17,$C37-$C$17,MATCH(M$16,Ages,1))),\"\")","v":""},{"$f":"IF($C37<>\"\",N37*EXP(-OFFSET('Forecasts Aggregate'!$C$17,$C37-$C$17,MATCH(N$16,Ages,1))),\"\")","v":""},{"$f":"IF($C37<>\"\",O37*EXP(-OFFSET('Forecasts Aggregate'!$C$17,$C37-$C$17,MATCH(O$16,Ages,1))),\"\")","v":""},{"$f":"IF($C37<>\"\",P37*EXP(-OFFSET('Forecasts Aggregate'!$C$17,$C37-$C$17,MATCH(P$16,Ages,1))),\"\")","v":""},{"$f":"IF($C37<>\"\",Q37*EXP(-OFFSET('Forecasts Aggregate'!$C$17,$C37-$C$17,MATCH(Q$16,Ages,1))),\"\")","v":""},{"$f":"IF($C37<>\"\",R37*EXP(-OFFSET('Forecasts Aggregate'!$C$17,$C37-$C$17,MATCH(R$16,Ages,1))),\"\")","v":""},{"$f":"IF($C37<>\"\",S37*EXP(-OFFSET('Forecasts Aggregate'!$C$17,$C37-$C$17,MATCH(S$16,Ages,1))),\"\")","v":""},{"$f":"IF($C37<>\"\",T37*EXP(-OFFSET('Forecasts Aggregate'!$C$17,$C37-$C$17,MATCH(T$16,Ages,1))),\"\")","v":""},{"$f":"IF($C37<>\"\",U37*EXP(-OFFSET('Forecasts Aggregate'!$C$17,$C37-$C$17,MATCH(U$16,Ages,1))),\"\")","v":""},{"$f":"IF($C37<>\"\",V37*EXP(-OFFSET('Forecasts Aggregate'!$C$17,$C37-$C$17,MATCH(V$16,Ages,1))),\"\")","v":""},{"$f":"IF($C37<>\"\",W37*EXP(-OFFSET('Forecasts Aggregate'!$C$17,$C37-$C$17,MATCH(W$16,Ages,1))),\"\")","v":""},{"$f":"IF($C37<>\"\",X37*EXP(-OFFSET('Forecasts Aggregate'!$C$17,$C37-$C$17,MATCH(X$16,Ages,1))),\"\")","v":""},{"$f":"IF($C37<>\"\",Y37*EXP(-OFFSET('Forecasts Aggregate'!$C$17,$C37-$C$17,MATCH(Y$16,Ages,1))),\"\")","v":""},{"$f":"IF($C37<>\"\",Z37*EXP(-OFFSET('Forecasts Aggregate'!$C$17,$C37-$C$17,MATCH(Z$16,Ages,1))),\"\")","v":""},{"$f":"IF($C37<>\"\",AA37*EXP(-OFFSET('Forecasts Aggregate'!$C$17,$C37-$C$17,MATCH(AA$16,Ages,1))),\"\")","v":""},{"$f":"IF($C37<>\"\",AB37*EXP(-OFFSET('Forecasts Aggregate'!$C$17,$C37-$C$17,MATCH(AB$16,Ages,1))),\"\")","v":""},{"$f":"IF($C37<>\"\",AC37*EXP(-OFFSET('Forecasts Aggregate'!$C$17,$C37-$C$17,MATCH(AC$16,Ages,1))),\"\")","v":""},{"$f":"IF($C37<>\"\",AD37*EXP(-OFFSET('Forecasts Aggregate'!$C$17,$C37-$C$17,MATCH(AD$16,Ages,1))),\"\")","v":""},{"$f":"IF($C37<>\"\",AE37*EXP(-OFFSET('Forecasts Aggregate'!$C$17,$C37-$C$17,MATCH(AE$16,Ages,1))),\"\")","v":""},{"$f":"IF($C37<>\"\",AF37*EXP(-OFFSET('Forecasts Aggregate'!$C$17,$C37-$C$17,MATCH(AF$16,Ages,1))),\"\")","v":""},{"$f":"IF($C37<>\"\",AG37*EXP(-OFFSET('Forecasts Aggregate'!$C$17,$C37-$C$17,MATCH(AG$16,Ages,1))),\"\")","v":""},{"$f":"IF($C37<>\"\",AH37*EXP(-OFFSET('Forecasts Aggregate'!$C$17,$C37-$C$17,MATCH(AH$16,Ages,1))),\"\")","v":""},{"$f":"IF($C37<>\"\",AI37*EXP(-OFFSET('Forecasts Aggregate'!$C$17,$C37-$C$17,MATCH(AI$16,Ages,1))),\"\")","v":""},{"$f":"IF($C37<>\"\",AJ37*EXP(-OFFSET('Forecasts Aggregate'!$C$17,$C37-$C$17,MATCH(AJ$16,Ages,1))),\"\")","v":""},{"$f":"IF($C37<>\"\",AK37*EXP(-OFFSET('Forecasts Aggregate'!$C$17,$C37-$C$17,MATCH(AK$16,Ages,1))),\"\")","v":""},{"$f":"IF($C37<>\"\",AL37*EXP(-OFFSET('Forecasts Aggregate'!$C$17,$C37-$C$17,MATCH(AL$16,Ages,1))),\"\")","v":""},{"$f":"IF($C37<>\"\",AM37*EXP(-OFFSET('Forecasts Aggregate'!$C$17,$C37-$C$17,MATCH(AM$16,Ages,1))),\"\")","v":""},{"$f":"IF($C37<>\"\",AN37*EXP(-OFFSET('Forecasts Aggregate'!$C$17,$C37-$C$17,MATCH(AN$16,Ages,1))),\"\")","v":""},{"$f":"IF($C37<>\"\",AO37*EXP(-OFFSET('Forecasts Aggregate'!$C$17,$C37-$C$17,MATCH(AO$16,Ages,1))),\"\")","v":""},{"$f":"IF($C37<>\"\",AP37*EXP(-OFFSET('Forecasts Aggregate'!$C$17,$C37-$C$17,MATCH(AP$16,Ages,1))),\"\")","v":""},{"$f":"IF($C37<>\"\",AQ37*EXP(-OFFSET('Forecasts Aggregate'!$C$17,$C37-$C$17,MATCH(AQ$16,Ages,1))),\"\")","v":""},{"$f":"IF($C37<>\"\",AR37*EXP(-OFFSET('Forecasts Aggregate'!$C$17,$C37-$C$17,MATCH(AR$16,Ages,1))),\"\")","v":""},{"$f":"IF($C37<>\"\",AS37*EXP(-OFFSET('Forecasts Aggregate'!$C$17,$C37-$C$17,MATCH(AS$16,Ages,1))),\"\")","v":""},{"$f":"IF($C37<>\"\",AT37*EXP(-OFFSET('Forecasts Aggregate'!$C$17,$C37-$C$17,MATCH(AT$16,Ages,1))),\"\")","v":""},{"$f":"IF($C37<>\"\",AU37*EXP(-OFFSET('Forecasts Aggregate'!$C$17,$C37-$C$17,MATCH(AU$16,Ages,1))),\"\")","v":""},{"$f":"IF($C37<>\"\",AV37*EXP(-OFFSET('Forecasts Aggregate'!$C$17,$C37-$C$17,MATCH(AV$16,Ages,1))),\"\")","v":""},{"$f":"IF($C37<>\"\",AW37*EXP(-OFFSET('Forecasts Aggregate'!$C$17,$C37-$C$17,MATCH(AW$16,Ages,1))),\"\")","v":""},{"$f":"IF($C37<>\"\",AX37*EXP(-OFFSET('Forecasts Aggregate'!$C$17,$C37-$C$17,MATCH(AX$16,Ages,1))),\"\")","v":""},{"$f":"IF($C37<>\"\",AY37*EXP(-OFFSET('Forecasts Aggregate'!$C$17,$C37-$C$17,MATCH(AY$16,Ages,1))),\"\")","v":""},{"$f":"IF($C37<>\"\",AZ37*EXP(-OFFSET('Forecasts Aggregate'!$C$17,$C37-$C$17,MATCH(AZ$16,Ages,1))),\"\")","v":""},{"$f":"IF($C37<>\"\",BA37*EXP(-OFFSET('Forecasts Aggregate'!$C$17,$C37-$C$17,MATCH(BA$16,Ages,1))),\"\")","v":""},{"$f":"IF($C37<>\"\",BB37*EXP(-OFFSET('Forecasts Aggregate'!$C$17,$C37-$C$17,MATCH(BB$16,Ages,1))),\"\")","v":""},{"$f":"IF($C37<>\"\",BC37*EXP(-OFFSET('Forecasts Aggregate'!$C$17,$C37-$C$17,MATCH(BC$16,Ages,1))),\"\")","v":""},{"$f":"IF($C37<>\"\",BD37*EXP(-OFFSET('Forecasts Aggregate'!$C$17,$C37-$C$17,MATCH(BD$16,Ages,1))),\"\")","v":""},{"$f":"IF($C37<>\"\",BE37*EXP(-OFFSET('Forecasts Aggregate'!$C$17,$C37-$C$17,MATCH(BE$16,Ages,1))),\"\")","v":""},{"$f":"IF($C37<>\"\",BF37*EXP(-OFFSET('Forecasts Aggregate'!$C$17,$C37-$C$17,MATCH(BF$16,Ages,1))),\"\")","v":""},{"$f":"IF($C37<>\"\",BG37*EXP(-OFFSET('Forecasts Aggregate'!$C$17,$C37-$C$17,MATCH(BG$16,Ages,1))),\"\")","v":""},{"$f":"IF($C37<>\"\",BH37*EXP(-OFFSET('Forecasts Aggregate'!$C$17,$C37-$C$17,MATCH(BH$16,Ages,1))),\"\")","v":""},{"$f":"IF($C37<>\"\",BI37*EXP(-OFFSET('Forecasts Aggregate'!$C$17,$C37-$C$17,MATCH(BI$16,Ages,1))),\"\")","v":""},{"$f":"IF($C37<>\"\",BJ37*EXP(-OFFSET('Forecasts Aggregate'!$C$17,$C37-$C$17,MATCH(BJ$16,Ages,1))),\"\")","v":""},{"$f":"IF($C37<>\"\",BK37*EXP(-OFFSET('Forecasts Aggregate'!$C$17,$C37-$C$17,MATCH(BK$16,Ages,1))),\"\")","v":""},{"$f":"IF($C37<>\"\",BL37*EXP(-OFFSET('Forecasts Aggregate'!$C$17,$C37-$C$17,MATCH(BL$16,Ages,1))),\"\")","v":""},{"$f":"IF($C37<>\"\",BM37*EXP(-OFFSET('Forecasts Aggregate'!$C$17,$C37-$C$17,MATCH(BM$16,Ages,1))),\"\")","v":""},{"$f":"IF($C37<>\"\",BN37*EXP(-OFFSET('Forecasts Aggregate'!$C$17,$C37-$C$17,MATCH(BN$16,Ages,1))),\"\")","v":""},{"$f":"IF($C37<>\"\",BO37*EXP(-OFFSET('Forecasts Aggregate'!$C$17,$C37-$C$17,MATCH(BO$16,Ages,1))),\"\")","v":""},{"$f":"IF($C37<>\"\",BP37*EXP(-OFFSET('Forecasts Aggregate'!$C$17,$C37-$C$17,MATCH(BP$16,Ages,1))),\"\")","v":""},{"$f":"IF($C37<>\"\",BQ37*EXP(-OFFSET('Forecasts Aggregate'!$C$17,$C37-$C$17,MATCH(BQ$16,Ages,1))),\"\")","v":""},{"$f":"IF($C37<>\"\",BR37*EXP(-OFFSET('Forecasts Aggregate'!$C$17,$C37-$C$17,MATCH(BR$16,Ages,1))),\"\")","v":""},{"$f":"IF($C37<>\"\",BS37*EXP(-OFFSET('Forecasts Aggregate'!$C$17,$C37-$C$17,MATCH(BS$16,Ages,1))),\"\")","v":""},{"$f":"IF($C37<>\"\",BT37*EXP(-OFFSET('Forecasts Aggregate'!$C$17,$C37-$C$17,MATCH(BT$16,Ages,1))),\"\")","v":""},{"$f":"IF($C37<>\"\",BU37*EXP(-OFFSET('Forecasts Aggregate'!$C$17,$C37-$C$17,MATCH(BU$16,Ages,1))),\"\")","v":""},{"$f":"IF($C37<>\"\",BV37*EXP(-OFFSET('Forecasts Aggregate'!$C$17,$C37-$C$17,MATCH(BV$16,Ages,1))),\"\")","v":""},{"$f":"IF($C37<>\"\",BW37*EXP(-OFFSET('Forecasts Aggregate'!$C$17,$C37-$C$17,MATCH(BW$16,Ages,1))),\"\")","v":""},{"$f":"IF($C37<>\"\",BX37*EXP(-OFFSET('Forecasts Aggregate'!$C$17,$C37-$C$17,MATCH(BX$16,Ages,1))),\"\")","v":""},{"$f":"IF($C37<>\"\",BY37*EXP(-OFFSET('Forecasts Aggregate'!$C$17,$C37-$C$17,MATCH(BY$16,Ages,1))),\"\")","v":""},{"$f":"IF($C37<>\"\",BZ37*EXP(-OFFSET('Forecasts Aggregate'!$C$17,$C37-$C$17,MATCH(BZ$16,Ages,1))),\"\")","v":""},{"$f":"IF($C37<>\"\",CA37*EXP(-OFFSET('Forecasts Aggregate'!$C$17,$C37-$C$17,MATCH(CA$16,Ages,1))),\"\")","v":""},{"$f":"IF($C37<>\"\",CB37*EXP(-OFFSET('Forecasts Aggregate'!$C$17,$C37-$C$17,MATCH(CB$16,Ages,1))),\"\")","v":""},{"$f":"IF($C37<>\"\",CC37*EXP(-OFFSET('Forecasts Aggregate'!$C$17,$C37-$C$17,MATCH(CC$16,Ages,1))),\"\")","v":""},{"$f":"IF($C37<>\"\",CD37*EXP(-OFFSET('Forecasts Aggregate'!$C$17,$C37-$C$17,MATCH(CD$16,Ages,1))),\"\")","v":""},{"$f":"IF($C37<>\"\",CE37*EXP(-OFFSET('Forecasts Aggregate'!$C$17,$C37-$C$17,MATCH(CE$16,Ages,1))),\"\")","v":""},{"$f":"IF($C37<>\"\",CF37*EXP(-OFFSET('Forecasts Aggregate'!$C$17,$C37-$C$17,MATCH(CF$16,Ages,1))),\"\")","v":""},{"$f":"IF($C37<>\"\",CG37*EXP(-OFFSET('Forecasts Aggregate'!$C$17,$C37-$C$17,MATCH(CG$16,Ages,1))),\"\")","v":""},{"$f":"IF($C37<>\"\",CH37*EXP(-OFFSET('Forecasts Aggregate'!$C$17,$C37-$C$17,MATCH(CH$16,Ages,1))),\"\")","v":""},{"$f":"IF($C37<>\"\",CI37*EXP(-OFFSET('Forecasts Aggregate'!$C$17,$C37-$C$17,MATCH(CI$16,Ages,1))),\"\")","v":""},{"$f":"IF($C37<>\"\",CJ37*EXP(-OFFSET('Forecasts Aggregate'!$C$17,$C37-$C$17,MATCH(CJ$16,Ages,1))),\"\")","v":""},{"$f":"IF($C37<>\"\",CK37*EXP(-OFFSET('Forecasts Aggregate'!$C$17,$C37-$C$17,MATCH(CK$16,Ages,1))),\"\")","v":""},{"$f":"IF($C37<>\"\",CL37*EXP(-OFFSET('Forecasts Aggregate'!$C$17,$C37-$C$17,MATCH(CL$16,Ages,1))),\"\")","v":""},{"$f":"IF($C37<>\"\",CM37*EXP(-OFFSET('Forecasts Aggregate'!$C$17,$C37-$C$17,MATCH(CM$16,Ages,1))),\"\")","v":""},{"$f":"IF($C37<>\"\",CN37*EXP(-OFFSET('Forecasts Aggregate'!$C$17,$C37-$C$17,MATCH(CN$16,Ages,1))),\"\")","v":""},{"$f":"IF($C37<>\"\",CO37*EXP(-OFFSET('Forecasts Aggregate'!$C$17,$C37-$C$17,MATCH(CO$16,Ages,1))),\"\")","v":""},{"$f":"IF($C37<>\"\",CP37*EXP(-OFFSET('Forecasts Aggregate'!$C$17,$C37-$C$17,MATCH(CP$16,Ages,1))),\"\")","v":""},{"$f":"IF($C37<>\"\",CQ37*EXP(-OFFSET('Forecasts Aggregate'!$C$17,$C37-$C$17,MATCH(CQ$16,Ages,1))),\"\")","v":""},{"$f":"IF($C37<>\"\",CR37*EXP(-OFFSET('Forecasts Aggregate'!$C$17,$C37-$C$17,MATCH(CR$16,Ages,1))),\"\")","v":""},{"$f":"IF($C37<>\"\",CS37*EXP(-OFFSET('Forecasts Aggregate'!$C$17,$C37-$C$17,MATCH(CS$16,Ages,1))),\"\")","v":""},{"$f":"IF($C37<>\"\",CT37*EXP(-OFFSET('Forecasts Aggregate'!$C$17,$C37-$C$17,MATCH(CT$16,Ages,1))),\"\")","v":""},{"$f":"IF($C37<>\"\",CU37*EXP(-OFFSET('Forecasts Aggregate'!$C$17,$C37-$C$17,MATCH(CU$16,Ages,1))),\"\")","v":""},{"$f":"IF($C37<>\"\",CV37*EXP(-OFFSET('Forecasts Aggregate'!$C$17,$C37-$C$17,MATCH(CV$16,Ages,1))),\"\")","v":""},{"$f":"IF($C37<>\"\",CW37*EXP(-OFFSET('Forecasts Aggregate'!$C$17,$C37-$C$17,MATCH(CW$16,Ages,1))),\"\")","v":""},{"$f":"IF($C37<>\"\",CX37*EXP(-OFFSET('Forecasts Aggregate'!$C$17,$C37-$C$17,MATCH(CX$16,Ages,1))),\"\")","v":""},{"$f":"IF($C37<>\"\",CY37*EXP(-OFFSET('Forecasts Aggregate'!$C$17,$C37-$C$17,MATCH(CY$16,Ages,1))),\"\")","v":""},{"$f":"IF($C37<>\"\",CZ37*EXP(-OFFSET('Forecasts Aggregate'!$C$17,$C37-$C$17,MATCH(CZ$16,Ages,1))),\"\")","v":""},{"$f":"IF($C37<>\"\",DA37*EXP(-OFFSET('Forecasts Aggregate'!$C$17,$C37-$C$17,MATCH(DA$16,Ages,1))),\"\")","v":""},{"$f":"IF($C37<>\"\",DB37*EXP(-OFFSET('Forecasts Aggregate'!$C$17,$C37-$C$17,MATCH(DB$16,Ages,1))),\"\")","v":""},{"$f":"IF($C37<>\"\",DC37*EXP(-OFFSET('Forecasts Aggregate'!$C$17,$C37-$C$17,MATCH(DC$16,Ages,1))),\"\")","v":""},{"$f":"IF($C37<>\"\",DD37*EXP(-OFFSET('Forecasts Aggregate'!$C$17,$C37-$C$17,MATCH(DD$16,Ages,1))),\"\")","v":""},{"$f":"IF($C37<>\"\",DE37*EXP(-OFFSET('Forecasts Aggregate'!$C$17,$C37-$C$17,MATCH(DE$16,Ages,1))),\"\")","v":""},{"$f":"IF($C37<>\"\",DF37*EXP(-OFFSET('Forecasts Aggregate'!$C$17,$C37-$C$17,MATCH(DF$16,Ages,1))),\"\")","v":""},{"$f":"IF($C37<>\"\",DG37*EXP(-OFFSET('Forecasts Aggregate'!$C$17,$C37-$C$17,MATCH(DG$16,Ages,1))),\"\")","v":""},{"$f":"IF($C37<>\"\",DH37*EXP(-OFFSET('Forecasts Aggregate'!$C$17,$C37-$C$17,MATCH(DH$16,Ages,1))),\"\")","v":""},{"$f":"IF($C37<>\"\",DI37*EXP(-OFFSET('Forecasts Aggregate'!$C$17,$C37-$C$17,MATCH(DI$16,Ages,1))),\"\")","v":""},{"$f":"IF($C37<>\"\",DJ37*EXP(-OFFSET('Forecasts Aggregate'!$C$17,$C37-$C$17,MATCH(DJ$16,Ages,1))),\"\")","v":""},null,"","",""]
[null,null,"","",{"$f":"IF($C38<>\"\",D38*EXP(-OFFSET('Forecasts Aggregate'!$C$17,$C38-$C$17,MATCH(D$16,Ages,1))),\"\")","v":""},{"$f":"IF($C38<>\"\",E38*EXP(-OFFSET('Forecasts Aggregate'!$C$17,$C38-$C$17,MATCH(E$16,Ages,1))),\"\")","v":""},{"$f":"IF($C38<>\"\",F38*EXP(-OFFSET('Forecasts Aggregate'!$C$17,$C38-$C$17,MATCH(F$16,Ages,1))),\"\")","v":""},{"$f":"IF($C38<>\"\",G38*EXP(-OFFSET('Forecasts Aggregate'!$C$17,$C38-$C$17,MATCH(G$16,Ages,1))),\"\")","v":""},{"$f":"IF($C38<>\"\",H38*EXP(-OFFSET('Forecasts Aggregate'!$C$17,$C38-$C$17,MATCH(H$16,Ages,1))),\"\")","v":""},{"$f":"IF($C38<>\"\",I38*EXP(-OFFSET('Forecasts Aggregate'!$C$17,$C38-$C$17,MATCH(I$16,Ages,1))),\"\")","v":""},{"$f":"IF($C38<>\"\",J38*EXP(-OFFSET('Forecasts Aggregate'!$C$17,$C38-$C$17,MATCH(J$16,Ages,1))),\"\")","v":""},{"$f":"IF($C38<>\"\",K38*EXP(-OFFSET('Forecasts Aggregate'!$C$17,$C38-$C$17,MATCH(K$16,Ages,1))),\"\")","v":""},{"$f":"IF($C38<>\"\",L38*EXP(-OFFSET('Forecasts Aggregate'!$C$17,$C38-$C$17,MATCH(L$16,Ages,1))),\"\")","v":""},{"$f":"IF($C38<>\"\",M38*EXP(-OFFSET('Forecasts Aggregate'!$C$17,$C38-$C$17,MATCH(M$16,Ages,1))),\"\")","v":""},{"$f":"IF($C38<>\"\",N38*EXP(-OFFSET('Forecasts Aggregate'!$C$17,$C38-$C$17,MATCH(N$16,Ages,1))),\"\")","v":""},{"$f":"IF($C38<>\"\",O38*EXP(-OFFSET('Forecasts Aggregate'!$C$17,$C38-$C$17,MATCH(O$16,Ages,1))),\"\")","v":""},{"$f":"IF($C38<>\"\",P38*EXP(-OFFSET('Forecasts Aggregate'!$C$17,$C38-$C$17,MATCH(P$16,Ages,1))),\"\")","v":""},{"$f":"IF($C38<>\"\",Q38*EXP(-OFFSET('Forecasts Aggregate'!$C$17,$C38-$C$17,MATCH(Q$16,Ages,1))),\"\")","v":""},{"$f":"IF($C38<>\"\",R38*EXP(-OFFSET('Forecasts Aggregate'!$C$17,$C38-$C$17,MATCH(R$16,Ages,1))),\"\")","v":""},{"$f":"IF($C38<>\"\",S38*EXP(-OFFSET('Forecasts Aggregate'!$C$17,$C38-$C$17,MATCH(S$16,Ages,1))),\"\")","v":""},{"$f":"IF($C38<>\"\",T38*EXP(-OFFSET('Forecasts Aggregate'!$C$17,$C38-$C$17,MATCH(T$16,Ages,1))),\"\")","v":""},{"$f":"IF($C38<>\"\",U38*EXP(-OFFSET('Forecasts Aggregate'!$C$17,$C38-$C$17,MATCH(U$16,Ages,1))),\"\")","v":""},{"$f":"IF($C38<>\"\",V38*EXP(-OFFSET('Forecasts Aggregate'!$C$17,$C38-$C$17,MATCH(V$16,Ages,1))),\"\")","v":""},{"$f":"IF($C38<>\"\",W38*EXP(-OFFSET('Forecasts Aggregate'!$C$17,$C38-$C$17,MATCH(W$16,Ages,1))),\"\")","v":""},{"$f":"IF($C38<>\"\",X38*EXP(-OFFSET('Forecasts Aggregate'!$C$17,$C38-$C$17,MATCH(X$16,Ages,1))),\"\")","v":""},{"$f":"IF($C38<>\"\",Y38*EXP(-OFFSET('Forecasts Aggregate'!$C$17,$C38-$C$17,MATCH(Y$16,Ages,1))),\"\")","v":""},{"$f":"IF($C38<>\"\",Z38*EXP(-OFFSET('Forecasts Aggregate'!$C$17,$C38-$C$17,MATCH(Z$16,Ages,1))),\"\")","v":""},{"$f":"IF($C38<>\"\",AA38*EXP(-OFFSET('Forecasts Aggregate'!$C$17,$C38-$C$17,MATCH(AA$16,Ages,1))),\"\")","v":""},{"$f":"IF($C38<>\"\",AB38*EXP(-OFFSET('Forecasts Aggregate'!$C$17,$C38-$C$17,MATCH(AB$16,Ages,1))),\"\")","v":""},{"$f":"IF($C38<>\"\",AC38*EXP(-OFFSET('Forecasts Aggregate'!$C$17,$C38-$C$17,MATCH(AC$16,Ages,1))),\"\")","v":""},{"$f":"IF($C38<>\"\",AD38*EXP(-OFFSET('Forecasts Aggregate'!$C$17,$C38-$C$17,MATCH(AD$16,Ages,1))),\"\")","v":""},{"$f":"IF($C38<>\"\",AE38*EXP(-OFFSET('Forecasts Aggregate'!$C$17,$C38-$C$17,MATCH(AE$16,Ages,1))),\"\")","v":""},{"$f":"IF($C38<>\"\",AF38*EXP(-OFFSET('Forecasts Aggregate'!$C$17,$C38-$C$17,MATCH(AF$16,Ages,1))),\"\")","v":""},{"$f":"IF($C38<>\"\",AG38*EXP(-OFFSET('Forecasts Aggregate'!$C$17,$C38-$C$17,MATCH(AG$16,Ages,1))),\"\")","v":""},{"$f":"IF($C38<>\"\",AH38*EXP(-OFFSET('Forecasts Aggregate'!$C$17,$C38-$C$17,MATCH(AH$16,Ages,1))),\"\")","v":""},{"$f":"IF($C38<>\"\",AI38*EXP(-OFFSET('Forecasts Aggregate'!$C$17,$C38-$C$17,MATCH(AI$16,Ages,1))),\"\")","v":""},{"$f":"IF($C38<>\"\",AJ38*EXP(-OFFSET('Forecasts Aggregate'!$C$17,$C38-$C$17,MATCH(AJ$16,Ages,1))),\"\")","v":""},{"$f":"IF($C38<>\"\",AK38*EXP(-OFFSET('Forecasts Aggregate'!$C$17,$C38-$C$17,MATCH(AK$16,Ages,1))),\"\")","v":""},{"$f":"IF($C38<>\"\",AL38*EXP(-OFFSET('Forecasts Aggregate'!$C$17,$C38-$C$17,MATCH(AL$16,Ages,1))),\"\")","v":""},{"$f":"IF($C38<>\"\",AM38*EXP(-OFFSET('Forecasts Aggregate'!$C$17,$C38-$C$17,MATCH(AM$16,Ages,1))),\"\")","v":""},{"$f":"IF($C38<>\"\",AN38*EXP(-OFFSET('Forecasts Aggregate'!$C$17,$C38-$C$17,MATCH(AN$16,Ages,1))),\"\")","v":""},{"$f":"IF($C38<>\"\",AO38*EXP(-OFFSET('Forecasts Aggregate'!$C$17,$C38-$C$17,MATCH(AO$16,Ages,1))),\"\")","v":""},{"$f":"IF($C38<>\"\",AP38*EXP(-OFFSET('Forecasts Aggregate'!$C$17,$C38-$C$17,MATCH(AP$16,Ages,1))),\"\")","v":""},{"$f":"IF($C38<>\"\",AQ38*EXP(-OFFSET('Forecasts Aggregate'!$C$17,$C38-$C$17,MATCH(AQ$16,Ages,1))),\"\")","v":""},{"$f":"IF($C38<>\"\",AR38*EXP(-OFFSET('Forecasts Aggregate'!$C$17,$C38-$C$17,MATCH(AR$16,Ages,1))),\"\")","v":""},{"$f":"IF($C38<>\"\",AS38*EXP(-OFFSET('Forecasts Aggregate'!$C$17,$C38-$C$17,MATCH(AS$16,Ages,1))),\"\")","v":""},{"$f":"IF($C38<>\"\",AT38*EXP(-OFFSET('Forecasts Aggregate'!$C$17,$C38-$C$17,MATCH(AT$16,Ages,1))),\"\")","v":""},{"$f":"IF($C38<>\"\",AU38*EXP(-OFFSET('Forecasts Aggregate'!$C$17,$C38-$C$17,MATCH(AU$16,Ages,1))),\"\")","v":""},{"$f":"IF($C38<>\"\",AV38*EXP(-OFFSET('Forecasts Aggregate'!$C$17,$C38-$C$17,MATCH(AV$16,Ages,1))),\"\")","v":""},{"$f":"IF($C38<>\"\",AW38*EXP(-OFFSET('Forecasts Aggregate'!$C$17,$C38-$C$17,MATCH(AW$16,Ages,1))),\"\")","v":""},{"$f":"IF($C38<>\"\",AX38*EXP(-OFFSET('Forecasts Aggregate'!$C$17,$C38-$C$17,MATCH(AX$16,Ages,1))),\"\")","v":""},{"$f":"IF($C38<>\"\",AY38*EXP(-OFFSET('Forecasts Aggregate'!$C$17,$C38-$C$17,MATCH(AY$16,Ages,1))),\"\")","v":""},{"$f":"IF($C38<>\"\",AZ38*EXP(-OFFSET('Forecasts Aggregate'!$C$17,$C38-$C$17,MATCH(AZ$16,Ages,1))),\"\")","v":""},{"$f":"IF($C38<>\"\",BA38*EXP(-OFFSET('Forecasts Aggregate'!$C$17,$C38-$C$17,MATCH(BA$16,Ages,1))),\"\")","v":""},{"$f":"IF($C38<>\"\",BB38*EXP(-OFFSET('Forecasts Aggregate'!$C$17,$C38-$C$17,MATCH(BB$16,Ages,1))),\"\")","v":""},{"$f":"IF($C38<>\"\",BC38*EXP(-OFFSET('Forecasts Aggregate'!$C$17,$C38-$C$17,MATCH(BC$16,Ages,1))),\"\")","v":""},{"$f":"IF($C38<>\"\",BD38*EXP(-OFFSET('Forecasts Aggregate'!$C$17,$C38-$C$17,MATCH(BD$16,Ages,1))),\"\")","v":""},{"$f":"IF($C38<>\"\",BE38*EXP(-OFFSET('Forecasts Aggregate'!$C$17,$C38-$C$17,MATCH(BE$16,Ages,1))),\"\")","v":""},{"$f":"IF($C38<>\"\",BF38*EXP(-OFFSET('Forecasts Aggregate'!$C$17,$C38-$C$17,MATCH(BF$16,Ages,1))),\"\")","v":""},{"$f":"IF($C38<>\"\",BG38*EXP(-OFFSET('Forecasts Aggregate'!$C$17,$C38-$C$17,MATCH(BG$16,Ages,1))),\"\")","v":""},{"$f":"IF($C38<>\"\",BH38*EXP(-OFFSET('Forecasts Aggregate'!$C$17,$C38-$C$17,MATCH(BH$16,Ages,1))),\"\")","v":""},{"$f":"IF($C38<>\"\",BI38*EXP(-OFFSET('Forecasts Aggregate'!$C$17,$C38-$C$17,MATCH(BI$16,Ages,1))),\"\")","v":""},{"$f":"IF($C38<>\"\",BJ38*EXP(-OFFSET('Forecasts Aggregate'!$C$17,$C38-$C$17,MATCH(BJ$16,Ages,1))),\"\")","v":""},{"$f":"IF($C38<>\"\",BK38*EXP(-OFFSET('Forecasts Aggregate'!$C$17,$C38-$C$17,MATCH(BK$16,Ages,1))),\"\")","v":""},{"$f":"IF($C38<>\"\",BL38*EXP(-OFFSET('Forecasts Aggregate'!$C$17,$C38-$C$17,MATCH(BL$16,Ages,1))),\"\")","v":""},{"$f":"IF($C38<>\"\",BM38*EXP(-OFFSET('Forecasts Aggregate'!$C$17,$C38-$C$17,MATCH(BM$16,Ages,1))),\"\")","v":""},{"$f":"IF($C38<>\"\",BN38*EXP(-OFFSET('Forecasts Aggregate'!$C$17,$C38-$C$17,MATCH(BN$16,Ages,1))),\"\")","v":""},{"$f":"IF($C38<>\"\",BO38*EXP(-OFFSET('Forecasts Aggregate'!$C$17,$C38-$C$17,MATCH(BO$16,Ages,1))),\"\")","v":""},{"$f":"IF($C38<>\"\",BP38*EXP(-OFFSET('Forecasts Aggregate'!$C$17,$C38-$C$17,MATCH(BP$16,Ages,1))),\"\")","v":""},{"$f":"IF($C38<>\"\",BQ38*EXP(-OFFSET('Forecasts Aggregate'!$C$17,$C38-$C$17,MATCH(BQ$16,Ages,1))),\"\")","v":""},{"$f":"IF($C38<>\"\",BR38*EXP(-OFFSET('Forecasts Aggregate'!$C$17,$C38-$C$17,MATCH(BR$16,Ages,1))),\"\")","v":""},{"$f":"IF($C38<>\"\",BS38*EXP(-OFFSET('Forecasts Aggregate'!$C$17,$C38-$C$17,MATCH(BS$16,Ages,1))),\"\")","v":""},{"$f":"IF($C38<>\"\",BT38*EXP(-OFFSET('Forecasts Aggregate'!$C$17,$C38-$C$17,MATCH(BT$16,Ages,1))),\"\")","v":""},{"$f":"IF($C38<>\"\",BU38*EXP(-OFFSET('Forecasts Aggregate'!$C$17,$C38-$C$17,MATCH(BU$16,Ages,1))),\"\")","v":""},{"$f":"IF($C38<>\"\",BV38*EXP(-OFFSET('Forecasts Aggregate'!$C$17,$C38-$C$17,MATCH(BV$16,Ages,1))),\"\")","v":""},{"$f":"IF($C38<>\"\",BW38*EXP(-OFFSET('Forecasts Aggregate'!$C$17,$C38-$C$17,MATCH(BW$16,Ages,1))),\"\")","v":""},{"$f":"IF($C38<>\"\",BX38*EXP(-OFFSET('Forecasts Aggregate'!$C$17,$C38-$C$17,MATCH(BX$16,Ages,1))),\"\")","v":""},{"$f":"IF($C38<>\"\",BY38*EXP(-OFFSET('Forecasts Aggregate'!$C$17,$C38-$C$17,MATCH(BY$16,Ages,1))),\"\")","v":""},{"$f":"IF($C38<>\"\",BZ38*EXP(-OFFSET('Forecasts Aggregate'!$C$17,$C38-$C$17,MATCH(BZ$16,Ages,1))),\"\")","v":""},{"$f":"IF($C38<>\"\",CA38*EXP(-OFFSET('Forecasts Aggregate'!$C$17,$C38-$C$17,MATCH(CA$16,Ages,1))),\"\")","v":""},{"$f":"IF($C38<>\"\",CB38*EXP(-OFFSET('Forecasts Aggregate'!$C$17,$C38-$C$17,MATCH(CB$16,Ages,1))),\"\")","v":""},{"$f":"IF($C38<>\"\",CC38*EXP(-OFFSET('Forecasts Aggregate'!$C$17,$C38-$C$17,MATCH(CC$16,Ages,1))),\"\")","v":""},{"$f":"IF($C38<>\"\",CD38*EXP(-OFFSET('Forecasts Aggregate'!$C$17,$C38-$C$17,MATCH(CD$16,Ages,1))),\"\")","v":""},{"$f":"IF($C38<>\"\",CE38*EXP(-OFFSET('Forecasts Aggregate'!$C$17,$C38-$C$17,MATCH(CE$16,Ages,1))),\"\")","v":""},{"$f":"IF($C38<>\"\",CF38*EXP(-OFFSET('Forecasts Aggregate'!$C$17,$C38-$C$17,MATCH(CF$16,Ages,1))),\"\")","v":""},{"$f":"IF($C38<>\"\",CG38*EXP(-OFFSET('Forecasts Aggregate'!$C$17,$C38-$C$17,MATCH(CG$16,Ages,1))),\"\")","v":""},{"$f":"IF($C38<>\"\",CH38*EXP(-OFFSET('Forecasts Aggregate'!$C$17,$C38-$C$17,MATCH(CH$16,Ages,1))),\"\")","v":""},{"$f":"IF($C38<>\"\",CI38*EXP(-OFFSET('Forecasts Aggregate'!$C$17,$C38-$C$17,MATCH(CI$16,Ages,1))),\"\")","v":""},{"$f":"IF($C38<>\"\",CJ38*EXP(-OFFSET('Forecasts Aggregate'!$C$17,$C38-$C$17,MATCH(CJ$16,Ages,1))),\"\")","v":""},{"$f":"IF($C38<>\"\",CK38*EXP(-OFFSET('Forecasts Aggregate'!$C$17,$C38-$C$17,MATCH(CK$16,Ages,1))),\"\")","v":""},{"$f":"IF($C38<>\"\",CL38*EXP(-OFFSET('Forecasts Aggregate'!$C$17,$C38-$C$17,MATCH(CL$16,Ages,1))),\"\")","v":""},{"$f":"IF($C38<>\"\",CM38*EXP(-OFFSET('Forecasts Aggregate'!$C$17,$C38-$C$17,MATCH(CM$16,Ages,1))),\"\")","v":""},{"$f":"IF($C38<>\"\",CN38*EXP(-OFFSET('Forecasts Aggregate'!$C$17,$C38-$C$17,MATCH(CN$16,Ages,1))),\"\")","v":""},{"$f":"IF($C38<>\"\",CO38*EXP(-OFFSET('Forecasts Aggregate'!$C$17,$C38-$C$17,MATCH(CO$16,Ages,1))),\"\")","v":""},{"$f":"IF($C38<>\"\",CP38*EXP(-OFFSET('Forecasts Aggregate'!$C$17,$C38-$C$17,MATCH(CP$16,Ages,1))),\"\")","v":""},{"$f":"IF($C38<>\"\",CQ38*EXP(-OFFSET('Forecasts Aggregate'!$C$17,$C38-$C$17,MATCH(CQ$16,Ages,1))),\"\")","v":""},{"$f":"IF($C38<>\"\",CR38*EXP(-OFFSET('Forecasts Aggregate'!$C$17,$C38-$C$17,MATCH(CR$16,Ages,1))),\"\")","v":""},{"$f":"IF($C38<>\"\",CS38*EXP(-OFFSET('Forecasts Aggregate'!$C$17,$C38-$C$17,MATCH(CS$16,Ages,1))),\"\")","v":""},{"$f":"IF($C38<>\"\",CT38*EXP(-OFFSET('Forecasts Aggregate'!$C$17,$C38-$C$17,MATCH(CT$16,Ages,1))),\"\")","v":""},{"$f":"IF($C38<>\"\",CU38*EXP(-OFFSET('Forecasts Aggregate'!$C$17,$C38-$C$17,MATCH(CU$16,Ages,1))),\"\")","v":""},{"$f":"IF($C38<>\"\",CV38*EXP(-OFFSET('Forecasts Aggregate'!$C$17,$C38-$C$17,MATCH(CV$16,Ages,1))),\"\")","v":""},{"$f":"IF($C38<>\"\",CW38*EXP(-OFFSET('Forecasts Aggregate'!$C$17,$C38-$C$17,MATCH(CW$16,Ages,1))),\"\")","v":""},{"$f":"IF($C38<>\"\",CX38*EXP(-OFFSET('Forecasts Aggregate'!$C$17,$C38-$C$17,MATCH(CX$16,Ages,1))),\"\")","v":""},{"$f":"IF($C38<>\"\",CY38*EXP(-OFFSET('Forecasts Aggregate'!$C$17,$C38-$C$17,MATCH(CY$16,Ages,1))),\"\")","v":""},{"$f":"IF($C38<>\"\",CZ38*EXP(-OFFSET('Forecasts Aggregate'!$C$17,$C38-$C$17,MATCH(CZ$16,Ages,1))),\"\")","v":""},{"$f":"IF($C38<>\"\",DA38*EXP(-OFFSET('Forecasts Aggregate'!$C$17,$C38-$C$17,MATCH(DA$16,Ages,1))),\"\")","v":""},{"$f":"IF($C38<>\"\",DB38*EXP(-OFFSET('Forecasts Aggregate'!$C$17,$C38-$C$17,MATCH(DB$16,Ages,1))),\"\")","v":""},{"$f":"IF($C38<>\"\",DC38*EXP(-OFFSET('Forecasts Aggregate'!$C$17,$C38-$C$17,MATCH(DC$16,Ages,1))),\"\")","v":""},{"$f":"IF($C38<>\"\",DD38*EXP(-OFFSET('Forecasts Aggregate'!$C$17,$C38-$C$17,MATCH(DD$16,Ages,1))),\"\")","v":""},{"$f":"IF($C38<>\"\",DE38*EXP(-OFFSET('Forecasts Aggregate'!$C$17,$C38-$C$17,MATCH(DE$16,Ages,1))),\"\")","v":""},{"$f":"IF($C38<>\"\",DF38*EXP(-OFFSET('Forecasts Aggregate'!$C$17,$C38-$C$17,MATCH(DF$16,Ages,1))),\"\")","v":""},{"$f":"IF($C38<>\"\",DG38*EXP(-OFFSET('Forecasts Aggregate'!$C$17,$C38-$C$17,MATCH(DG$16,Ages,1))),\"\")","v":""},{"$f":"IF($C38<>\"\",DH38*EXP(-OFFSET('Forecasts Aggregate'!$C$17,$C38-$C$17,MATCH(DH$16,Ages,1))),\"\")","v":""},{"$f":"IF($C38<>\"\",DI38*EXP(-OFFSET('Forecasts Aggregate'!$C$17,$C38-$C$17,MATCH(DI$16,Ages,1))),\"\")","v":""},{"$f":"IF($C38<>\"\",DJ38*EXP(-OFFSET('Forecasts Aggregate'!$C$17,$C38-$C$17,MATCH(DJ$16,Ages,1))),\"\")","v":""},null,"","",""]
[null,null,"","",{"$f":"IF($C39<>\"\",D39*EXP(-OFFSET('Forecasts Aggregate'!$C$17,$C39-$C$17,MATCH(D$16,Ages,1))),\"\")","v":""},{"$f":"IF($C39<>\"\",E39*EXP(-OFFSET('Forecasts Aggregate'!$C$17,$C39-$C$17,MATCH(E$16,Ages,1))),\"\")","v":""},{"$f":"IF($C39<>\"\",F39*EXP(-OFFSET('Forecasts Aggregate'!$C$17,$C39-$C$17,MATCH(F$16,Ages,1))),\"\")","v":""},{"$f":"IF($C39<>\"\",G39*EXP(-OFFSET('Forecasts Aggregate'!$C$17,$C39-$C$17,MATCH(G$16,Ages,1))),\"\")","v":""},{"$f":"IF($C39<>\"\",H39*EXP(-OFFSET('Forecasts Aggregate'!$C$17,$C39-$C$17,MATCH(H$16,Ages,1))),\"\")","v":""},{"$f":"IF($C39<>\"\",I39*EXP(-OFFSET('Forecasts Aggregate'!$C$17,$C39-$C$17,MATCH(I$16,Ages,1))),\"\")","v":""},{"$f":"IF($C39<>\"\",J39*EXP(-OFFSET('Forecasts Aggregate'!$C$17,$C39-$C$17,MATCH(J$16,Ages,1))),\"\")","v":""},{"$f":"IF($C39<>\"\",K39*EXP(-OFFSET('Forecasts Aggregate'!$C$17,$C39-$C$17,MATCH(K$16,Ages,1))),\"\")","v":""},{"$f":"IF($C39<>\"\",L39*EXP(-OFFSET('Forecasts Aggregate'!$C$17,$C39-$C$17,MATCH(L$16,Ages,1))),\"\")","v":""},{"$f":"IF($C39<>\"\",M39*EXP(-OFFSET('Forecasts Aggregate'!$C$17,$C39-$C$17,MATCH(M$16,Ages,1))),\"\")","v":""},{"$f":"IF($C39<>\"\",N39*EXP(-OFFSET('Forecasts Aggregate'!$C$17,$C39-$C$17,MATCH(N$16,Ages,1))),\"\")","v":""},{"$f":"IF($C39<>\"\",O39*EXP(-OFFSET('Forecasts Aggregate'!$C$17,$C39-$C$17,MATCH(O$16,Ages,1))),\"\")","v":""},{"$f":"IF($C39<>\"\",P39*EXP(-OFFSET('Forecasts Aggregate'!$C$17,$C39-$C$17,MATCH(P$16,Ages,1))),\"\")","v":""},{"$f":"IF($C39<>\"\",Q39*EXP(-OFFSET('Forecasts Aggregate'!$C$17,$C39-$C$17,MATCH(Q$16,Ages,1))),\"\")","v":""},{"$f":"IF($C39<>\"\",R39*EXP(-OFFSET('Forecasts Aggregate'!$C$17,$C39-$C$17,MATCH(R$16,Ages,1))),\"\")","v":""},{"$f":"IF($C39<>\"\",S39*EXP(-OFFSET('Forecasts Aggregate'!$C$17,$C39-$C$17,MATCH(S$16,Ages,1))),\"\")","v":""},{"$f":"IF($C39<>\"\",T39*EXP(-OFFSET('Forecasts Aggregate'!$C$17,$C39-$C$17,MATCH(T$16,Ages,1))),\"\")","v":""},{"$f":"IF($C39<>\"\",U39*EXP(-OFFSET('Forecasts Aggregate'!$C$17,$C39-$C$17,MATCH(U$16,Ages,1))),\"\")","v":""},{"$f":"IF($C39<>\"\",V39*EXP(-OFFSET('Forecasts Aggregate'!$C$17,$C39-$C$17,MATCH(V$16,Ages,1))),\"\")","v":""},{"$f":"IF($C39<>\"\",W39*EXP(-OFFSET('Forecasts Aggregate'!$C$17,$C39-$C$17,MATCH(W$16,Ages,1))),\"\")","v":""},{"$f":"IF($C39<>\"\",X39*EXP(-OFFSET('Forecasts Aggregate'!$C$17,$C39-$C$17,MATCH(X$16,Ages,1))),\"\")","v":""},{"$f":"IF($C39<>\"\",Y39*EXP(-OFFSET('Forecasts Aggregate'!$C$17,$C39-$C$17,MATCH(Y$16,Ages,1))),\"\")","v":""},{"$f":"IF($C39<>\"\",Z39*EXP(-OFFSET('Forecasts Aggregate'!$C$17,$C39-$C$17,MATCH(Z$16,Ages,1))),\"\")","v":""},{"$f":"IF($C39<>\"\",AA39*EXP(-OFFSET('Forecasts Aggregate'!$C$17,$C39-$C$17,MATCH(AA$16,Ages,1))),\"\")","v":""},{"$f":"IF($C39<>\"\",AB39*EXP(-OFFSET('Forecasts Aggregate'!$C$17,$C39-$C$17,MATCH(AB$16,Ages,1))),\"\")","v":""},{"$f":"IF($C39<>\"\",AC39*EXP(-OFFSET('Forecasts Aggregate'!$C$17,$C39-$C$17,MATCH(AC$16,Ages,1))),\"\")","v":""},{"$f":"IF($C39<>\"\",AD39*EXP(-OFFSET('Forecasts Aggregate'!$C$17,$C39-$C$17,MATCH(AD$16,Ages,1))),\"\")","v":""},{"$f":"IF($C39<>\"\",AE39*EXP(-OFFSET('Forecasts Aggregate'!$C$17,$C39-$C$17,MATCH(AE$16,Ages,1))),\"\")","v":""},{"$f":"IF($C39<>\"\",AF39*EXP(-OFFSET('Forecasts Aggregate'!$C$17,$C39-$C$17,MATCH(AF$16,Ages,1))),\"\")","v":""},{"$f":"IF($C39<>\"\",AG39*EXP(-OFFSET('Forecasts Aggregate'!$C$17,$C39-$C$17,MATCH(AG$16,Ages,1))),\"\")","v":""},{"$f":"IF($C39<>\"\",AH39*EXP(-OFFSET('Forecasts Aggregate'!$C$17,$C39-$C$17,MATCH(AH$16,Ages,1))),\"\")","v":""},{"$f":"IF($C39<>\"\",AI39*EXP(-OFFSET('Forecasts Aggregate'!$C$17,$C39-$C$17,MATCH(AI$16,Ages,1))),\"\")","v":""},{"$f":"IF($C39<>\"\",AJ39*EXP(-OFFSET('Forecasts Aggregate'!$C$17,$C39-$C$17,MATCH(AJ$16,Ages,1))),\"\")","v":""},{"$f":"IF($C39<>\"\",AK39*EXP(-OFFSET('Forecasts Aggregate'!$C$17,$C39-$C$17,MATCH(AK$16,Ages,1))),\"\")","v":""},{"$f":"IF($C39<>\"\",AL39*EXP(-OFFSET('Forecasts Aggregate'!$C$17,$C39-$C$17,MATCH(AL$16,Ages,1))),\"\")","v":""},{"$f":"IF($C39<>\"\",AM39*EXP(-OFFSET('Forecasts Aggregate'!$C$17,$C39-$C$17,MATCH(AM$16,Ages,1))),\"\")","v":""},{"$f":"IF($C39<>\"\",AN39*EXP(-OFFSET('Forecasts Aggregate'!$C$17,$C39-$C$17,MATCH(AN$16,Ages,1))),\"\")","v":""},{"$f":"IF($C39<>\"\",AO39*EXP(-OFFSET('Forecasts Aggregate'!$C$17,$C39-$C$17,MATCH(AO$16,Ages,1))),\"\")","v":""},{"$f":"IF($C39<>\"\",AP39*EXP(-OFFSET('Forecasts Aggregate'!$C$17,$C39-$C$17,MATCH(AP$16,Ages,1))),\"\")","v":""},{"$f":"IF($C39<>\"\",AQ39*EXP(-OFFSET('Forecasts Aggregate'!$C$17,$C39-$C$17,MATCH(AQ$16,Ages,1))),\"\")","v":""},{"$f":"IF($C39<>\"\",AR39*EXP(-OFFSET('Forecasts Aggregate'!$C$17,$C39-$C$17,MATCH(AR$16,Ages,1))),\"\")","v":""},{"$f":"IF($C39<>\"\",AS39*EXP(-OFFSET('Forecasts Aggregate'!$C$17,$C39-$C$17,MATCH(AS$16,Ages,1))),\"\")","v":""},{"$f":"IF($C39<>\"\",AT39*EXP(-OFFSET('Forecasts Aggregate'!$C$17,$C39-$C$17,MATCH(AT$16,Ages,1))),\"\")","v":""},{"$f":"IF($C39<>\"\",AU39*EXP(-OFFSET('Forecasts Aggregate'!$C$17,$C39-$C$17,MATCH(AU$16,Ages,1))),\"\")","v":""},{"$f":"IF($C39<>\"\",AV39*EXP(-OFFSET('Forecasts Aggregate'!$C$17,$C39-$C$17,MATCH(AV$16,Ages,1))),\"\")","v":""},{"$f":"IF($C39<>\"\",AW39*EXP(-OFFSET('Forecasts Aggregate'!$C$17,$C39-$C$17,MATCH(AW$16,Ages,1))),\"\")","v":""},{"$f":"IF($C39<>\"\",AX39*EXP(-OFFSET('Forecasts Aggregate'!$C$17,$C39-$C$17,MATCH(AX$16,Ages,1))),\"\")","v":""},{"$f":"IF($C39<>\"\",AY39*EXP(-OFFSET('Forecasts Aggregate'!$C$17,$C39-$C$17,MATCH(AY$16,Ages,1))),\"\")","v":""},{"$f":"IF($C39<>\"\",AZ39*EXP(-OFFSET('Forecasts Aggregate'!$C$17,$C39-$C$17,MATCH(AZ$16,Ages,1))),\"\")","v":""},{"$f":"IF($C39<>\"\",BA39*EXP(-OFFSET('Forecasts Aggregate'!$C$17,$C39-$C$17,MATCH(BA$16,Ages,1))),\"\")","v":""},{"$f":"IF($C39<>\"\",BB39*EXP(-OFFSET('Forecasts Aggregate'!$C$17,$C39-$C$17,MATCH(BB$16,Ages,1))),\"\")","v":""},{"$f":"IF($C39<>\"\",BC39*EXP(-OFFSET('Forecasts Aggregate'!$C$17,$C39-$C$17,MATCH(BC$16,Ages,1))),\"\")","v":""},{"$f":"IF($C39<>\"\",BD39*EXP(-OFFSET('Forecasts Aggregate'!$C$17,$C39-$C$17,MATCH(BD$16,Ages,1))),\"\")","v":""},{"$f":"IF($C39<>\"\",BE39*EXP(-OFFSET('Forecasts Aggregate'!$C$17,$C39-$C$17,MATCH(BE$16,Ages,1))),\"\")","v":""},{"$f":"IF($C39<>\"\",BF39*EXP(-OFFSET('Forecasts Aggregate'!$C$17,$C39-$C$17,MATCH(BF$16,Ages,1))),\"\")","v":""},{"$f":"IF($C39<>\"\",BG39*EXP(-OFFSET('Forecasts Aggregate'!$C$17,$C39-$C$17,MATCH(BG$16,Ages,1))),\"\")","v":""},{"$f":"IF($C39<>\"\",BH39*EXP(-OFFSET('Forecasts Aggregate'!$C$17,$C39-$C$17,MATCH(BH$16,Ages,1))),\"\")","v":""},{"$f":"IF($C39<>\"\",BI39*EXP(-OFFSET('Forecasts Aggregate'!$C$17,$C39-$C$17,MATCH(BI$16,Ages,1))),\"\")","v":""},{"$f":"IF($C39<>\"\",BJ39*EXP(-OFFSET('Forecasts Aggregate'!$C$17,$C39-$C$17,MATCH(BJ$16,Ages,1))),\"\")","v":""},{"$f":"IF($C39<>\"\",BK39*EXP(-OFFSET('Forecasts Aggregate'!$C$17,$C39-$C$17,MATCH(BK$16,Ages,1))),\"\")","v":""},{"$f":"IF($C39<>\"\",BL39*EXP(-OFFSET('Forecasts Aggregate'!$C$17,$C39-$C$17,MATCH(BL$16,Ages,1))),\"\")","v":""},{"$f":"IF($C39<>\"\",BM39*EXP(-OFFSET('Forecasts Aggregate'!$C$17,$C39-$C$17,MATCH(BM$16,Ages,1))),\"\")","v":""},{"$f":"IF($C39<>\"\",BN39*EXP(-OFFSET('Forecasts Aggregate'!$C$17,$C39-$C$17,MATCH(BN$16,Ages,1))),\"\")","v":""},{"$f":"IF($C39<>\"\",BO39*EXP(-OFFSET('Forecasts Aggregate'!$C$17,$C39-$C$17,MATCH(BO$16,Ages,1))),\"\")","v":""},{"$f":"IF($C39<>\"\",BP39*EXP(-OFFSET('Forecasts Aggregate'!$C$17,$C39-$C$17,MATCH(BP$16,Ages,1))),\"\")","v":""},{"$f":"IF($C39<>\"\",BQ39*EXP(-OFFSET('Forecasts Aggregate'!$C$17,$C39-$C$17,MATCH(BQ$16,Ages,1))),\"\")","v":""},{"$f":"IF($C39<>\"\",BR39*EXP(-OFFSET('Forecasts Aggregate'!$C$17,$C39-$C$17,MATCH(BR$16,Ages,1))),\"\")","v":""},{"$f":"IF($C39<>\"\",BS39*EXP(-OFFSET('Forecasts Aggregate'!$C$17,$C39-$C$17,MATCH(BS$16,Ages,1))),\"\")","v":""},{"$f":"IF($C39<>\"\",BT39*EXP(-OFFSET('Forecasts Aggregate'!$C$17,$C39-$C$17,MATCH(BT$16,Ages,1))),\"\")","v":""},{"$f":"IF($C39<>\"\",BU39*EXP(-OFFSET('Forecasts Aggregate'!$C$17,$C39-$C$17,MATCH(BU$16,Ages,1))),\"\")","v":""},{"$f":"IF($C39<>\"\",BV39*EXP(-OFFSET('Forecasts Aggregate'!$C$17,$C39-$C$17,MATCH(BV$16,Ages,1))),\"\")","v":""},{"$f":"IF($C39<>\"\",BW39*EXP(-OFFSET('Forecasts Aggregate'!$C$17,$C39-$C$17,MATCH(BW$16,Ages,1))),\"\")","v":""},{"$f":"IF($C39<>\"\",BX39*EXP(-OFFSET('Forecasts Aggregate'!$C$17,$C39-$C$17,MATCH(BX$16,Ages,1))),\"\")","v":""},{"$f":"IF($C39<>\"\",BY39*EXP(-OFFSET('Forecasts Aggregate'!$C$17,$C39-$C$17,MATCH(BY$16,Ages,1))),\"\")","v":""},{"$f":"IF($C39<>\"\",BZ39*EXP(-OFFSET('Forecasts Aggregate'!$C$17,$C39-$C$17,MATCH(BZ$16,Ages,1))),\"\")","v":""},{"$f":"IF($C39<>\"\",CA39*EXP(-OFFSET('Forecasts Aggregate'!$C$17,$C39-$C$17,MATCH(CA$16,Ages,1))),\"\")","v":""},{"$f":"IF($C39<>\"\",CB39*EXP(-OFFSET('Forecasts Aggregate'!$C$17,$C39-$C$17,MATCH(CB$16,Ages,1))),\"\")","v":""},{"$f":"IF($C39<>\"\",CC39*EXP(-OFFSET('Forecasts Aggregate'!$C$17,$C39-$C$17,MATCH(CC$16,Ages,1))),\"\")","v":""},{"$f":"IF($C39<>\"\",CD39*EXP(-OFFSET('Forecasts Aggregate'!$C$17,$C39-$C$17,MATCH(CD$16,Ages,1))),\"\")","v":""},{"$f":"IF($C39<>\"\",CE39*EXP(-OFFSET('Forecasts Aggregate'!$C$17,$C39-$C$17,MATCH(CE$16,Ages,1))),\"\")","v":""},{"$f":"IF($C39<>\"\",CF39*EXP(-OFFSET('Forecasts Aggregate'!$C$17,$C39-$C$17,MATCH(CF$16,Ages,1))),\"\")","v":""},{"$f":"IF($C39<>\"\",CG39*EXP(-OFFSET('Forecasts Aggregate'!$C$17,$C39-$C$17,MATCH(CG$16,Ages,1))),\"\")","v":""},{"$f":"IF($C39<>\"\",CH39*EXP(-OFFSET('Forecasts Aggregate'!$C$17,$C39-$C$17,MATCH(CH$16,Ages,1))),\"\")","v":""},{"$f":"IF($C39<>\"\",CI39*EXP(-OFFSET('Forecasts Aggregate'!$C$17,$C39-$C$17,MATCH(CI$16,Ages,1))),\"\")","v":""},{"$f":"IF($C39<>\"\",CJ39*EXP(-OFFSET('Forecasts Aggregate'!$C$17,$C39-$C$17,MATCH(CJ$16,Ages,1))),\"\")","v":""},{"$f":"IF($C39<>\"\",CK39*EXP(-OFFSET('Forecasts Aggregate'!$C$17,$C39-$C$17,MATCH(CK$16,Ages,1))),\"\")","v":""},{"$f":"IF($C39<>\"\",CL39*EXP(-OFFSET('Forecasts Aggregate'!$C$17,$C39-$C$17,MATCH(CL$16,Ages,1))),\"\")","v":""},{"$f":"IF($C39<>\"\",CM39*EXP(-OFFSET('Forecasts Aggregate'!$C$17,$C39-$C$17,MATCH(CM$16,Ages,1))),\"\")","v":""},{"$f":"IF($C39<>\"\",CN39*EXP(-OFFSET('Forecasts Aggregate'!$C$17,$C39-$C$17,MATCH(CN$16,Ages,1))),\"\")","v":""},{"$f":"IF($C39<>\"\",CO39*EXP(-OFFSET('Forecasts Aggregate'!$C$17,$C39-$C$17,MATCH(CO$16,Ages,1))),\"\")","v":""},{"$f":"IF($C39<>\"\",CP39*EXP(-OFFSET('Forecasts Aggregate'!$C$17,$C39-$C$17,MATCH(CP$16,Ages,1))),\"\")","v":""},{"$f":"IF($C39<>\"\",CQ39*EXP(-OFFSET('Forecasts Aggregate'!$C$17,$C39-$C$17,MATCH(CQ$16,Ages,1))),\"\")","v":""},{"$f":"IF($C39<>\"\",CR39*EXP(-OFFSET('Forecasts Aggregate'!$C$17,$C39-$C$17,MATCH(CR$16,Ages,1))),\"\")","v":""},{"$f":"IF($C39<>\"\",CS39*EXP(-OFFSET('Forecasts Aggregate'!$C$17,$C39-$C$17,MATCH(CS$16,Ages,1))),\"\")","v":""},{"$f":"IF($C39<>\"\",CT39*EXP(-OFFSET('Forecasts Aggregate'!$C$17,$C39-$C$17,MATCH(CT$16,Ages,1))),\"\")","v":""},{"$f":"IF($C39<>\"\",CU39*EXP(-OFFSET('Forecasts Aggregate'!$C$17,$C39-$C$17,MATCH(CU$16,Ages,1))),\"\")","v":""},{"$f":"IF($C39<>\"\",CV39*EXP(-OFFSET('Forecasts Aggregate'!$C$17,$C39-$C$17,MATCH(CV$16,Ages,1))),\"\")","v":""},{"$f":"IF($C39<>\"\",CW39*EXP(-OFFSET('Forecasts Aggregate'!$C$17,$C39-$C$17,MATCH(CW$16,Ages,1))),\"\")","v":""},{"$f":"IF($C39<>\"\",CX39*EXP(-OFFSET('Forecasts Aggregate'!$C$17,$C39-$C$17,MATCH(CX$16,Ages,1))),\"\")","v":""},{"$f":"IF($C39<>\"\",CY39*EXP(-OFFSET('Forecasts Aggregate'!$C$17,$C39-$C$17,MATCH(CY$16,Ages,1))),\"\")","v":""},{"$f":"IF($C39<>\"\",CZ39*EXP(-OFFSET('Forecasts Aggregate'!$C$17,$C39-$C$17,MATCH(CZ$16,Ages,1))),\"\")","v":""},{"$f":"IF($C39<>\"\",DA39*EXP(-OFFSET('Forecasts Aggregate'!$C$17,$C39-$C$17,MATCH(DA$16,Ages,1))),\"\")","v":""},{"$f":"IF($C39<>\"\",DB39*EXP(-OFFSET('Forecasts Aggregate'!$C$17,$C39-$C$17,MATCH(DB$16,Ages,1))),\"\")","v":""},{"$f":"IF($C39<>\"\",DC39*EXP(-OFFSET('Forecasts Aggregate'!$C$17,$C39-$C$17,MATCH(DC$16,Ages,1))),\"\")","v":""},{"$f":"IF($C39<>\"\",DD39*EXP(-OFFSET('Forecasts Aggregate'!$C$17,$C39-$C$17,MATCH(DD$16,Ages,1))),\"\")","v":""},{"$f":"IF($C39<>\"\",DE39*EXP(-OFFSET('Forecasts Aggregate'!$C$17,$C39-$C$17,MATCH(DE$16,Ages,1))),\"\")","v":""},{"$f":"IF($C39<>\"\",DF39*EXP(-OFFSET('Forecasts Aggregate'!$C$17,$C39-$C$17,MATCH(DF$16,Ages,1))),\"\")","v":""},{"$f":"IF($C39<>\"\",DG39*EXP(-OFFSET('Forecasts Aggregate'!$C$17,$C39-$C$17,MATCH(DG$16,Ages,1))),\"\")","v":""},{"$f":"IF($C39<>\"\",DH39*EXP(-OFFSET('Forecasts Aggregate'!$C$17,$C39-$C$17,MATCH(DH$16,Ages,1))),\"\")","v":""},{"$f":"IF($C39<>\"\",DI39*EXP(-OFFSET('Forecasts Aggregate'!$C$17,$C39-$C$17,MATCH(DI$16,Ages,1))),\"\")","v":""},{"$f":"IF($C39<>\"\",DJ39*EXP(-OFFSET('Forecasts Aggregate'!$C$17,$C39-$C$17,MATCH(DJ$16,Ages,1))),\"\")","v":""},null,"","",""]
[null,null,"","",{"$f":"IF($C40<>\"\",D40*EXP(-OFFSET('Forecasts Aggregate'!$C$17,$C40-$C$17,MATCH(D$16,Ages,1))),\"\")","v":""},{"$f":"IF($C40<>\"\",E40*EXP(-OFFSET('Forecasts Aggregate'!$C$17,$C40-$C$17,MATCH(E$16,Ages,1))),\"\")","v":""},{"$f":"IF($C40<>\"\",F40*EXP(-OFFSET('Forecasts Aggregate'!$C$17,$C40-$C$17,MATCH(F$16,Ages,1))),\"\")","v":""},{"$f":"IF($C40<>\"\",G40*EXP(-OFFSET('Forecasts Aggregate'!$C$17,$C40-$C$17,MATCH(G$16,Ages,1))),\"\")","v":""},{"$f":"IF($C40<>\"\",H40*EXP(-OFFSET('Forecasts Aggregate'!$C$17,$C40-$C$17,MATCH(H$16,Ages,1))),\"\")","v":""},{"$f":"IF($C40<>\"\",I40*EXP(-OFFSET('Forecasts Aggregate'!$C$17,$C40-$C$17,MATCH(I$16,Ages,1))),\"\")","v":""},{"$f":"IF($C40<>\"\",J40*EXP(-OFFSET('Forecasts Aggregate'!$C$17,$C40-$C$17,MATCH(J$16,Ages,1))),\"\")","v":""},{"$f":"IF($C40<>\"\",K40*EXP(-OFFSET('Forecasts Aggregate'!$C$17,$C40-$C$17,MATCH(K$16,Ages,1))),\"\")","v":""},{"$f":"IF($C40<>\"\",L40*EXP(-OFFSET('Forecasts Aggregate'!$C$17,$C40-$C$17,MATCH(L$16,Ages,1))),\"\")","v":""},{"$f":"IF($C40<>\"\",M40*EXP(-OFFSET('Forecasts Aggregate'!$C$17,$C40-$C$17,MATCH(M$16,Ages,1))),\"\")","v":""},{"$f":"IF($C40<>\"\",N40*EXP(-OFFSET('Forecasts Aggregate'!$C$17,$C40-$C$17,MATCH(N$16,Ages,1))),\"\")","v":""},{"$f":"IF($C40<>\"\",O40*EXP(-OFFSET('Forecasts Aggregate'!$C$17,$C40-$C$17,MATCH(O$16,Ages,1))),\"\")","v":""},{"$f":"IF($C40<>\"\",P40*EXP(-OFFSET('Forecasts Aggregate'!$C$17,$C40-$C$17,MATCH(P$16,Ages,1))),\"\")","v":""},{"$f":"IF($C40<>\"\",Q40*EXP(-OFFSET('Forecasts Aggregate'!$C$17,$C40-$C$17,MATCH(Q$16,Ages,1))),\"\")","v":""},{"$f":"IF($C40<>\"\",R40*EXP(-OFFSET('Forecasts Aggregate'!$C$17,$C40-$C$17,MATCH(R$16,Ages,1))),\"\")","v":""},{"$f":"IF($C40<>\"\",S40*EXP(-OFFSET('Forecasts Aggregate'!$C$17,$C40-$C$17,MATCH(S$16,Ages,1))),\"\")","v":""},{"$f":"IF($C40<>\"\",T40*EXP(-OFFSET('Forecasts Aggregate'!$C$17,$C40-$C$17,MATCH(T$16,Ages,1))),\"\")","v":""},{"$f":"IF($C40<>\"\",U40*EXP(-OFFSET('Forecasts Aggregate'!$C$17,$C40-$C$17,MATCH(U$16,Ages,1))),\"\")","v":""},{"$f":"IF($C40<>\"\",V40*EXP(-OFFSET('Forecasts Aggregate'!$C$17,$C40-$C$17,MATCH(V$16,Ages,1))),\"\")","v":""},{"$f":"IF($C40<>\"\",W40*EXP(-OFFSET('Forecasts Aggregate'!$C$17,$C40-$C$17,MATCH(W$16,Ages,1))),\"\")","v":""},{"$f":"IF($C40<>\"\",X40*EXP(-OFFSET('Forecasts Aggregate'!$C$17,$C40-$C$17,MATCH(X$16,Ages,1))),\"\")","v":""},{"$f":"IF($C40<>\"\",Y40*EXP(-OFFSET('Forecasts Aggregate'!$C$17,$C40-$C$17,MATCH(Y$16,Ages,1))),\"\")","v":""},{"$f":"IF($C40<>\"\",Z40*EXP(-OFFSET('Forecasts Aggregate'!$C$17,$C40-$C$17,MATCH(Z$16,Ages,1))),\"\")","v":""},{"$f":"IF($C40<>\"\",AA40*EXP(-OFFSET('Forecasts Aggregate'!$C$17,$C40-$C$17,MATCH(AA$16,Ages,1))),\"\")","v":""},{"$f":"IF($C40<>\"\",AB40*EXP(-OFFSET('Forecasts Aggregate'!$C$17,$C40-$C$17,MATCH(AB$16,Ages,1))),\"\")","v":""},{"$f":"IF($C40<>\"\",AC40*EXP(-OFFSET('Forecasts Aggregate'!$C$17,$C40-$C$17,MATCH(AC$16,Ages,1))),\"\")","v":""},{"$f":"IF($C40<>\"\",AD40*EXP(-OFFSET('Forecasts Aggregate'!$C$17,$C40-$C$17,MATCH(AD$16,Ages,1))),\"\")","v":""},{"$f":"IF($C40<>\"\",AE40*EXP(-OFFSET('Forecasts Aggregate'!$C$17,$C40-$C$17,MATCH(AE$16,Ages,1))),\"\")","v":""},{"$f":"IF($C40<>\"\",AF40*EXP(-OFFSET('Forecasts Aggregate'!$C$17,$C40-$C$17,MATCH(AF$16,Ages,1))),\"\")","v":""},{"$f":"IF($C40<>\"\",AG40*EXP(-OFFSET('Forecasts Aggregate'!$C$17,$C40-$C$17,MATCH(AG$16,Ages,1))),\"\")","v":""},{"$f":"IF($C40<>\"\",AH40*EXP(-OFFSET('Forecasts Aggregate'!$C$17,$C40-$C$17,MATCH(AH$16,Ages,1))),\"\")","v":""},{"$f":"IF($C40<>\"\",AI40*EXP(-OFFSET('Forecasts Aggregate'!$C$17,$C40-$C$17,MATCH(AI$16,Ages,1))),\"\")","v":""},{"$f":"IF($C40<>\"\",AJ40*EXP(-OFFSET('Forecasts Aggregate'!$C$17,$C40-$C$17,MATCH(AJ$16,Ages,1))),\"\")","v":""},{"$f":"IF($C40<>\"\",AK40*EXP(-OFFSET('Forecasts Aggregate'!$C$17,$C40-$C$17,MATCH(AK$16,Ages,1))),\"\")","v":""},{"$f":"IF($C40<>\"\",AL40*EXP(-OFFSET('Forecasts Aggregate'!$C$17,$C40-$C$17,MATCH(AL$16,Ages,1))),\"\")","v":""},{"$f":"IF($C40<>\"\",AM40*EXP(-OFFSET('Forecasts Aggregate'!$C$17,$C40-$C$17,MATCH(AM$16,Ages,1))),\"\")","v":""},{"$f":"IF($C40<>\"\",AN40*EXP(-OFFSET('Forecasts Aggregate'!$C$17,$C40-$C$17,MATCH(AN$16,Ages,1))),\"\")","v":""},{"$f":"IF($C40<>\"\",AO40*EXP(-OFFSET('Forecasts Aggregate'!$C$17,$C40-$C$17,MATCH(AO$16,Ages,1))),\"\")","v":""},{"$f":"IF($C40<>\"\",AP40*EXP(-OFFSET('Forecasts Aggregate'!$C$17,$C40-$C$17,MATCH(AP$16,Ages,1))),\"\")","v":""},{"$f":"IF($C40<>\"\",AQ40*EXP(-OFFSET('Forecasts Aggregate'!$C$17,$C40-$C$17,MATCH(AQ$16,Ages,1))),\"\")","v":""},{"$f":"IF($C40<>\"\",AR40*EXP(-OFFSET('Forecasts Aggregate'!$C$17,$C40-$C$17,MATCH(AR$16,Ages,1))),\"\")","v":""},{"$f":"IF($C40<>\"\",AS40*EXP(-OFFSET('Forecasts Aggregate'!$C$17,$C40-$C$17,MATCH(AS$16,Ages,1))),\"\")","v":""},{"$f":"IF($C40<>\"\",AT40*EXP(-OFFSET('Forecasts Aggregate'!$C$17,$C40-$C$17,MATCH(AT$16,Ages,1))),\"\")","v":""},{"$f":"IF($C40<>\"\",AU40*EXP(-OFFSET('Forecasts Aggregate'!$C$17,$C40-$C$17,MATCH(AU$16,Ages,1))),\"\")","v":""},{"$f":"IF($C40<>\"\",AV40*EXP(-OFFSET('Forecasts Aggregate'!$C$17,$C40-$C$17,MATCH(AV$16,Ages,1))),\"\")","v":""},{"$f":"IF($C40<>\"\",AW40*EXP(-OFFSET('Forecasts Aggregate'!$C$17,$C40-$C$17,MATCH(AW$16,Ages,1))),\"\")","v":""},{"$f":"IF($C40<>\"\",AX40*EXP(-OFFSET('Forecasts Aggregate'!$C$17,$C40-$C$17,MATCH(AX$16,Ages,1))),\"\")","v":""},{"$f":"IF($C40<>\"\",AY40*EXP(-OFFSET('Forecasts Aggregate'!$C$17,$C40-$C$17,MATCH(AY$16,Ages,1))),\"\")","v":""},{"$f":"IF($C40<>\"\",AZ40*EXP(-OFFSET('Forecasts Aggregate'!$C$17,$C40-$C$17,MATCH(AZ$16,Ages,1))),\"\")","v":""},{"$f":"IF($C40<>\"\",BA40*EXP(-OFFSET('Forecasts Aggregate'!$C$17,$C40-$C$17,MATCH(BA$16,Ages,1))),\"\")","v":""},{"$f":"IF($C40<>\"\",BB40*EXP(-OFFSET('Forecasts Aggregate'!$C$17,$C40-$C$17,MATCH(BB$16,Ages,1))),\"\")","v":""},{"$f":"IF($C40<>\"\",BC40*EXP(-OFFSET('Forecasts Aggregate'!$C$17,$C40-$C$17,MATCH(BC$16,Ages,1))),\"\")","v":""},{"$f":"IF($C40<>\"\",BD40*EXP(-OFFSET('Forecasts Aggregate'!$C$17,$C40-$C$17,MATCH(BD$16,Ages,1))),\"\")","v":""},{"$f":"IF($C40<>\"\",BE40*EXP(-OFFSET('Forecasts Aggregate'!$C$17,$C40-$C$17,MATCH(BE$16,Ages,1))),\"\")","v":""},{"$f":"IF($C40<>\"\",BF40*EXP(-OFFSET('Forecasts Aggregate'!$C$17,$C40-$C$17,MATCH(BF$16,Ages,1))),\"\")","v":""},{"$f":"IF($C40<>\"\",BG40*EXP(-OFFSET('Forecasts Aggregate'!$C$17,$C40-$C$17,MATCH(BG$16,Ages,1))),\"\")","v":""},{"$f":"IF($C40<>\"\",BH40*EXP(-OFFSET('Forecasts Aggregate'!$C$17,$C40-$C$17,MATCH(BH$16,Ages,1))),\"\")","v":""},{"$f":"IF($C40<>\"\",BI40*EXP(-OFFSET('Forecasts Aggregate'!$C$17,$C40-$C$17,MATCH(BI$16,Ages,1))),\"\")","v":""},{"$f":"IF($C40<>\"\",BJ40*EXP(-OFFSET('Forecasts Aggregate'!$C$17,$C40-$C$17,MATCH(BJ$16,Ages,1))),\"\")","v":""},{"$f":"IF($C40<>\"\",BK40*EXP(-OFFSET('Forecasts Aggregate'!$C$17,$C40-$C$17,MATCH(BK$16,Ages,1))),\"\")","v":""},{"$f":"IF($C40<>\"\",BL40*EXP(-OFFSET('Forecasts Aggregate'!$C$17,$C40-$C$17,MATCH(BL$16,Ages,1))),\"\")","v":""},{"$f":"IF($C40<>\"\",BM40*EXP(-OFFSET('Forecasts Aggregate'!$C$17,$C40-$C$17,MATCH(BM$16,Ages,1))),\"\")","v":""},{"$f":"IF($C40<>\"\",BN40*EXP(-OFFSET('Forecasts Aggregate'!$C$17,$C40-$C$17,MATCH(BN$16,Ages,1))),\"\")","v":""},{"$f":"IF($C40<>\"\",BO40*EXP(-OFFSET('Forecasts Aggregate'!$C$17,$C40-$C$17,MATCH(BO$16,Ages,1))),\"\")","v":""},{"$f":"IF($C40<>\"\",BP40*EXP(-OFFSET('Forecasts Aggregate'!$C$17,$C40-$C$17,MATCH(BP$16,Ages,1))),\"\")","v":""},{"$f":"IF($C40<>\"\",BQ40*EXP(-OFFSET('Forecasts Aggregate'!$C$17,$C40-$C$17,MATCH(BQ$16,Ages,1))),\"\")","v":""},{"$f":"IF($C40<>\"\",BR40*EXP(-OFFSET('Forecasts Aggregate'!$C$17,$C40-$C$17,MATCH(BR$16,Ages,1))),\"\")","v":""},{"$f":"IF($C40<>\"\",BS40*EXP(-OFFSET('Forecasts Aggregate'!$C$17,$C40-$C$17,MATCH(BS$16,Ages,1))),\"\")","v":""},{"$f":"IF($C40<>\"\",BT40*EXP(-OFFSET('Forecasts Aggregate'!$C$17,$C40-$C$17,MATCH(BT$16,Ages,1))),\"\")","v":""},{"$f":"IF($C40<>\"\",BU40*EXP(-OFFSET('Forecasts Aggregate'!$C$17,$C40-$C$17,MATCH(BU$16,Ages,1))),\"\")","v":""},{"$f":"IF($C40<>\"\",BV40*EXP(-OFFSET('Forecasts Aggregate'!$C$17,$C40-$C$17,MATCH(BV$16,Ages,1))),\"\")","v":""},{"$f":"IF($C40<>\"\",BW40*EXP(-OFFSET('Forecasts Aggregate'!$C$17,$C40-$C$17,MATCH(BW$16,Ages,1))),\"\")","v":""},{"$f":"IF($C40<>\"\",BX40*EXP(-OFFSET('Forecasts Aggregate'!$C$17,$C40-$C$17,MATCH(BX$16,Ages,1))),\"\")","v":""},{"$f":"IF($C40<>\"\",BY40*EXP(-OFFSET('Forecasts Aggregate'!$C$17,$C40-$C$17,MATCH(BY$16,Ages,1))),\"\")","v":""},{"$f":"IF($C40<>\"\",BZ40*EXP(-OFFSET('Forecasts Aggregate'!$C$17,$C40-$C$17,MATCH(BZ$16,Ages,1))),\"\")","v":""},{"$f":"IF($C40<>\"\",CA40*EXP(-OFFSET('Forecasts Aggregate'!$C$17,$C40-$C$17,MATCH(CA$16,Ages,1))),\"\")","v":""},{"$f":"IF($C40<>\"\",CB40*EXP(-OFFSET('Forecasts Aggregate'!$C$17,$C40-$C$17,MATCH(CB$16,Ages,1))),\"\")","v":""},{"$f":"IF($C40<>\"\",CC40*EXP(-OFFSET('Forecasts Aggregate'!$C$17,$C40-$C$17,MATCH(CC$16,Ages,1))),\"\")","v":""},{"$f":"IF($C40<>\"\",CD40*EXP(-OFFSET('Forecasts Aggregate'!$C$17,$C40-$C$17,MATCH(CD$16,Ages,1))),\"\")","v":""},{"$f":"IF($C40<>\"\",CE40*EXP(-OFFSET('Forecasts Aggregate'!$C$17,$C40-$C$17,MATCH(CE$16,Ages,1))),\"\")","v":""},{"$f":"IF($C40<>\"\",CF40*EXP(-OFFSET('Forecasts Aggregate'!$C$17,$C40-$C$17,MATCH(CF$16,Ages,1))),\"\")","v":""},{"$f":"IF($C40<>\"\",CG40*EXP(-OFFSET('Forecasts Aggregate'!$C$17,$C40-$C$17,MATCH(CG$16,Ages,1))),\"\")","v":""},{"$f":"IF($C40<>\"\",CH40*EXP(-OFFSET('Forecasts Aggregate'!$C$17,$C40-$C$17,MATCH(CH$16,Ages,1))),\"\")","v":""},{"$f":"IF($C40<>\"\",CI40*EXP(-OFFSET('Forecasts Aggregate'!$C$17,$C40-$C$17,MATCH(CI$16,Ages,1))),\"\")","v":""},{"$f":"IF($C40<>\"\",CJ40*EXP(-OFFSET('Forecasts Aggregate'!$C$17,$C40-$C$17,MATCH(CJ$16,Ages,1))),\"\")","v":""},{"$f":"IF($C40<>\"\",CK40*EXP(-OFFSET('Forecasts Aggregate'!$C$17,$C40-$C$17,MATCH(CK$16,Ages,1))),\"\")","v":""},{"$f":"IF($C40<>\"\",CL40*EXP(-OFFSET('Forecasts Aggregate'!$C$17,$C40-$C$17,MATCH(CL$16,Ages,1))),\"\")","v":""},{"$f":"IF($C40<>\"\",CM40*EXP(-OFFSET('Forecasts Aggregate'!$C$17,$C40-$C$17,MATCH(CM$16,Ages,1))),\"\")","v":""},{"$f":"IF($C40<>\"\",CN40*EXP(-OFFSET('Forecasts Aggregate'!$C$17,$C40-$C$17,MATCH(CN$16,Ages,1))),\"\")","v":""},{"$f":"IF($C40<>\"\",CO40*EXP(-OFFSET('Forecasts Aggregate'!$C$17,$C40-$C$17,MATCH(CO$16,Ages,1))),\"\")","v":""},{"$f":"IF($C40<>\"\",CP40*EXP(-OFFSET('Forecasts Aggregate'!$C$17,$C40-$C$17,MATCH(CP$16,Ages,1))),\"\")","v":""},{"$f":"IF($C40<>\"\",CQ40*EXP(-OFFSET('Forecasts Aggregate'!$C$17,$C40-$C$17,MATCH(CQ$16,Ages,1))),\"\")","v":""},{"$f":"IF($C40<>\"\",CR40*EXP(-OFFSET('Forecasts Aggregate'!$C$17,$C40-$C$17,MATCH(CR$16,Ages,1))),\"\")","v":""},{"$f":"IF($C40<>\"\",CS40*EXP(-OFFSET('Forecasts Aggregate'!$C$17,$C40-$C$17,MATCH(CS$16,Ages,1))),\"\")","v":""},{"$f":"IF($C40<>\"\",CT40*EXP(-OFFSET('Forecasts Aggregate'!$C$17,$C40-$C$17,MATCH(CT$16,Ages,1))),\"\")","v":""},{"$f":"IF($C40<>\"\",CU40*EXP(-OFFSET('Forecasts Aggregate'!$C$17,$C40-$C$17,MATCH(CU$16,Ages,1))),\"\")","v":""},{"$f":"IF($C40<>\"\",CV40*EXP(-OFFSET('Forecasts Aggregate'!$C$17,$C40-$C$17,MATCH(CV$16,Ages,1))),\"\")","v":""},{"$f":"IF($C40<>\"\",CW40*EXP(-OFFSET('Forecasts Aggregate'!$C$17,$C40-$C$17,MATCH(CW$16,Ages,1))),\"\")","v":""},{"$f":"IF($C40<>\"\",CX40*EXP(-OFFSET('Forecasts Aggregate'!$C$17,$C40-$C$17,MATCH(CX$16,Ages,1))),\"\")","v":""},{"$f":"IF($C40<>\"\",CY40*EXP(-OFFSET('Forecasts Aggregate'!$C$17,$C40-$C$17,MATCH(CY$16,Ages,1))),\"\")","v":""},{"$f":"IF($C40<>\"\",CZ40*EXP(-OFFSET('Forecasts Aggregate'!$C$17,$C40-$C$17,MATCH(CZ$16,Ages,1))),\"\")","v":""},{"$f":"IF($C40<>\"\",DA40*EXP(-OFFSET('Forecasts Aggregate'!$C$17,$C40-$C$17,MATCH(DA$16,Ages,1))),\"\")","v":""},{"$f":"IF($C40<>\"\",DB40*EXP(-OFFSET('Forecasts Aggregate'!$C$17,$C40-$C$17,MATCH(DB$16,Ages,1))),\"\")","v":""},{"$f":"IF($C40<>\"\",DC40*EXP(-OFFSET('Forecasts Aggregate'!$C$17,$C40-$C$17,MATCH(DC$16,Ages,1))),\"\")","v":""},{"$f":"IF($C40<>\"\",DD40*EXP(-OFFSET('Forecasts Aggregate'!$C$17,$C40-$C$17,MATCH(DD$16,Ages,1))),\"\")","v":""},{"$f":"IF($C40<>\"\",DE40*EXP(-OFFSET('Forecasts Aggregate'!$C$17,$C40-$C$17,MATCH(DE$16,Ages,1))),\"\")","v":""},{"$f":"IF($C40<>\"\",DF40*EXP(-OFFSET('Forecasts Aggregate'!$C$17,$C40-$C$17,MATCH(DF$16,Ages,1))),\"\")","v":""},{"$f":"IF($C40<>\"\",DG40*EXP(-OFFSET('Forecasts Aggregate'!$C$17,$C40-$C$17,MATCH(DG$16,Ages,1))),\"\")","v":""},{"$f":"IF($C40<>\"\",DH40*EXP(-OFFSET('Forecasts Aggregate'!$C$17,$C40-$C$17,MATCH(DH$16,Ages,1))),\"\")","v":""},{"$f":"IF($C40<>\"\",DI40*EXP(-OFFSET('Forecasts Aggregate'!$C$17,$C40-$C$17,MATCH(DI$16,Ages,1))),\"\")","v":""},{"$f":"IF($C40<>\"\",DJ40*EXP(-OFFSET('Forecasts Aggregate'!$C$17,$C40-$C$17,MATCH(DJ$16,Ages,1))),\"\")","v":""},null,"","",""]
[null,null,"","",{"$f":"IF($C41<>\"\",D41*EXP(-OFFSET('Forecasts Aggregate'!$C$17,$C41-$C$17,MATCH(D$16,Ages,1))),\"\")","v":""},{"$f":"IF($C41<>\"\",E41*EXP(-OFFSET('Forecasts Aggregate'!$C$17,$C41-$C$17,MATCH(E$16,Ages,1))),\"\")","v":""},{"$f":"IF($C41<>\"\",F41*EXP(-OFFSET('Forecasts Aggregate'!$C$17,$C41-$C$17,MATCH(F$16,Ages,1))),\"\")","v":""},{"$f":"IF($C41<>\"\",G41*EXP(-OFFSET('Forecasts Aggregate'!$C$17,$C41-$C$17,MATCH(G$16,Ages,1))),\"\")","v":""},{"$f":"IF($C41<>\"\",H41*EXP(-OFFSET('Forecasts Aggregate'!$C$17,$C41-$C$17,MATCH(H$16,Ages,1))),\"\")","v":""},{"$f":"IF($C41<>\"\",I41*EXP(-OFFSET('Forecasts Aggregate'!$C$17,$C41-$C$17,MATCH(I$16,Ages,1))),\"\")","v":""},{"$f":"IF($C41<>\"\",J41*EXP(-OFFSET('Forecasts Aggregate'!$C$17,$C41-$C$17,MATCH(J$16,Ages,1))),\"\")","v":""},{"$f":"IF($C41<>\"\",K41*EXP(-OFFSET('Forecasts Aggregate'!$C$17,$C41-$C$17,MATCH(K$16,Ages,1))),\"\")","v":""},{"$f":"IF($C41<>\"\",L41*EXP(-OFFSET('Forecasts Aggregate'!$C$17,$C41-$C$17,MATCH(L$16,Ages,1))),\"\")","v":""},{"$f":"IF($C41<>\"\",M41*EXP(-OFFSET('Forecasts Aggregate'!$C$17,$C41-$C$17,MATCH(M$16,Ages,1))),\"\")","v":""},{"$f":"IF($C41<>\"\",N41*EXP(-OFFSET('Forecasts Aggregate'!$C$17,$C41-$C$17,MATCH(N$16,Ages,1))),\"\")","v":""},{"$f":"IF($C41<>\"\",O41*EXP(-OFFSET('Forecasts Aggregate'!$C$17,$C41-$C$17,MATCH(O$16,Ages,1))),\"\")","v":""},{"$f":"IF($C41<>\"\",P41*EXP(-OFFSET('Forecasts Aggregate'!$C$17,$C41-$C$17,MATCH(P$16,Ages,1))),\"\")","v":""},{"$f":"IF($C41<>\"\",Q41*EXP(-OFFSET('Forecasts Aggregate'!$C$17,$C41-$C$17,MATCH(Q$16,Ages,1))),\"\")","v":""},{"$f":"IF($C41<>\"\",R41*EXP(-OFFSET('Forecasts Aggregate'!$C$17,$C41-$C$17,MATCH(R$16,Ages,1))),\"\")","v":""},{"$f":"IF($C41<>\"\",S41*EXP(-OFFSET('Forecasts Aggregate'!$C$17,$C41-$C$17,MATCH(S$16,Ages,1))),\"\")","v":""},{"$f":"IF($C41<>\"\",T41*EXP(-OFFSET('Forecasts Aggregate'!$C$17,$C41-$C$17,MATCH(T$16,Ages,1))),\"\")","v":""},{"$f":"IF($C41<>\"\",U41*EXP(-OFFSET('Forecasts Aggregate'!$C$17,$C41-$C$17,MATCH(U$16,Ages,1))),\"\")","v":""},{"$f":"IF($C41<>\"\",V41*EXP(-OFFSET('Forecasts Aggregate'!$C$17,$C41-$C$17,MATCH(V$16,Ages,1))),\"\")","v":""},{"$f":"IF($C41<>\"\",W41*EXP(-OFFSET('Forecasts Aggregate'!$C$17,$C41-$C$17,MATCH(W$16,Ages,1))),\"\")","v":""},{"$f":"IF($C41<>\"\",X41*EXP(-OFFSET('Forecasts Aggregate'!$C$17,$C41-$C$17,MATCH(X$16,Ages,1))),\"\")","v":""},{"$f":"IF($C41<>\"\",Y41*EXP(-OFFSET('Forecasts Aggregate'!$C$17,$C41-$C$17,MATCH(Y$16,Ages,1))),\"\")","v":""},{"$f":"IF($C41<>\"\",Z41*EXP(-OFFSET('Forecasts Aggregate'!$C$17,$C41-$C$17,MATCH(Z$16,Ages,1))),\"\")","v":""},{"$f":"IF($C41<>\"\",AA41*EXP(-OFFSET('Forecasts Aggregate'!$C$17,$C41-$C$17,MATCH(AA$16,Ages,1))),\"\")","v":""},{"$f":"IF($C41<>\"\",AB41*EXP(-OFFSET('Forecasts Aggregate'!$C$17,$C41-$C$17,MATCH(AB$16,Ages,1))),\"\")","v":""},{"$f":"IF($C41<>\"\",AC41*EXP(-OFFSET('Forecasts Aggregate'!$C$17,$C41-$C$17,MATCH(AC$16,Ages,1))),\"\")","v":""},{"$f":"IF($C41<>\"\",AD41*EXP(-OFFSET('Forecasts Aggregate'!$C$17,$C41-$C$17,MATCH(AD$16,Ages,1))),\"\")","v":""},{"$f":"IF($C41<>\"\",AE41*EXP(-OFFSET('Forecasts Aggregate'!$C$17,$C41-$C$17,MATCH(AE$16,Ages,1))),\"\")","v":""},{"$f":"IF($C41<>\"\",AF41*EXP(-OFFSET('Forecasts Aggregate'!$C$17,$C41-$C$17,MATCH(AF$16,Ages,1))),\"\")","v":""},{"$f":"IF($C41<>\"\",AG41*EXP(-OFFSET('Forecasts Aggregate'!$C$17,$C41-$C$17,MATCH(AG$16,Ages,1))),\"\")","v":""},{"$f":"IF($C41<>\"\",AH41*EXP(-OFFSET('Forecasts Aggregate'!$C$17,$C41-$C$17,MATCH(AH$16,Ages,1))),\"\")","v":""},{"$f":"IF($C41<>\"\",AI41*EXP(-OFFSET('Forecasts Aggregate'!$C$17,$C41-$C$17,MATCH(AI$16,Ages,1))),\"\")","v":""},{"$f":"IF($C41<>\"\",AJ41*EXP(-OFFSET('Forecasts Aggregate'!$C$17,$C41-$C$17,MATCH(AJ$16,Ages,1))),\"\")","v":""},{"$f":"IF($C41<>\"\",AK41*EXP(-OFFSET('Forecasts Aggregate'!$C$17,$C41-$C$17,MATCH(AK$16,Ages,1))),\"\")","v":""},{"$f":"IF($C41<>\"\",AL41*EXP(-OFFSET('Forecasts Aggregate'!$C$17,$C41-$C$17,MATCH(AL$16,Ages,1))),\"\")","v":""},{"$f":"IF($C41<>\"\",AM41*EXP(-OFFSET('Forecasts Aggregate'!$C$17,$C41-$C$17,MATCH(AM$16,Ages,1))),\"\")","v":""},{"$f":"IF($C41<>\"\",AN41*EXP(-OFFSET('Forecasts Aggregate'!$C$17,$C41-$C$17,MATCH(AN$16,Ages,1))),\"\")","v":""},{"$f":"IF($C41<>\"\",AO41*EXP(-OFFSET('Forecasts Aggregate'!$C$17,$C41-$C$17,MATCH(AO$16,Ages,1))),\"\")","v":""},{"$f":"IF($C41<>\"\",AP41*EXP(-OFFSET('Forecasts Aggregate'!$C$17,$C41-$C$17,MATCH(AP$16,Ages,1))),\"\")","v":""},{"$f":"IF($C41<>\"\",AQ41*EXP(-OFFSET('Forecasts Aggregate'!$C$17,$C41-$C$17,MATCH(AQ$16,Ages,1))),\"\")","v":""},{"$f":"IF($C41<>\"\",AR41*EXP(-OFFSET('Forecasts Aggregate'!$C$17,$C41-$C$17,MATCH(AR$16,Ages,1))),\"\")","v":""},{"$f":"IF($C41<>\"\",AS41*EXP(-OFFSET('Forecasts Aggregate'!$C$17,$C41-$C$17,MATCH(AS$16,Ages,1))),\"\")","v":""},{"$f":"IF($C41<>\"\",AT41*EXP(-OFFSET('Forecasts Aggregate'!$C$17,$C41-$C$17,MATCH(AT$16,Ages,1))),\"\")","v":""},{"$f":"IF($C41<>\"\",AU41*EXP(-OFFSET('Forecasts Aggregate'!$C$17,$C41-$C$17,MATCH(AU$16,Ages,1))),\"\")","v":""},{"$f":"IF($C41<>\"\",AV41*EXP(-OFFSET('Forecasts Aggregate'!$C$17,$C41-$C$17,MATCH(AV$16,Ages,1))),\"\")","v":""},{"$f":"IF($C41<>\"\",AW41*EXP(-OFFSET('Forecasts Aggregate'!$C$17,$C41-$C$17,MATCH(AW$16,Ages,1))),\"\")","v":""},{"$f":"IF($C41<>\"\",AX41*EXP(-OFFSET('Forecasts Aggregate'!$C$17,$C41-$C$17,MATCH(AX$16,Ages,1))),\"\")","v":""},{"$f":"IF($C41<>\"\",AY41*EXP(-OFFSET('Forecasts Aggregate'!$C$17,$C41-$C$17,MATCH(AY$16,Ages,1))),\"\")","v":""},{"$f":"IF($C41<>\"\",AZ41*EXP(-OFFSET('Forecasts Aggregate'!$C$17,$C41-$C$17,MATCH(AZ$16,Ages,1))),\"\")","v":""},{"$f":"IF($C41<>\"\",BA41*EXP(-OFFSET('Forecasts Aggregate'!$C$17,$C41-$C$17,MATCH(BA$16,Ages,1))),\"\")","v":""},{"$f":"IF($C41<>\"\",BB41*EXP(-OFFSET('Forecasts Aggregate'!$C$17,$C41-$C$17,MATCH(BB$16,Ages,1))),\"\")","v":""},{"$f":"IF($C41<>\"\",BC41*EXP(-OFFSET('Forecasts Aggregate'!$C$17,$C41-$C$17,MATCH(BC$16,Ages,1))),\"\")","v":""},{"$f":"IF($C41<>\"\",BD41*EXP(-OFFSET('Forecasts Aggregate'!$C$17,$C41-$C$17,MATCH(BD$16,Ages,1))),\"\")","v":""},{"$f":"IF($C41<>\"\",BE41*EXP(-OFFSET('Forecasts Aggregate'!$C$17,$C41-$C$17,MATCH(BE$16,Ages,1))),\"\")","v":""},{"$f":"IF($C41<>\"\",BF41*EXP(-OFFSET('Forecasts Aggregate'!$C$17,$C41-$C$17,MATCH(BF$16,Ages,1))),\"\")","v":""},{"$f":"IF($C41<>\"\",BG41*EXP(-OFFSET('Forecasts Aggregate'!$C$17,$C41-$C$17,MATCH(BG$16,Ages,1))),\"\")","v":""},{"$f":"IF($C41<>\"\",BH41*EXP(-OFFSET('Forecasts Aggregate'!$C$17,$C41-$C$17,MATCH(BH$16,Ages,1))),\"\")","v":""},{"$f":"IF($C41<>\"\",BI41*EXP(-OFFSET('Forecasts Aggregate'!$C$17,$C41-$C$17,MATCH(BI$16,Ages,1))),\"\")","v":""},{"$f":"IF($C41<>\"\",BJ41*EXP(-OFFSET('Forecasts Aggregate'!$C$17,$C41-$C$17,MATCH(BJ$16,Ages,1))),\"\")","v":""},{"$f":"IF($C41<>\"\",BK41*EXP(-OFFSET('Forecasts Aggregate'!$C$17,$C41-$C$17,MATCH(BK$16,Ages,1))),\"\")","v":""},{"$f":"IF($C41<>\"\",BL41*EXP(-OFFSET('Forecasts Aggregate'!$C$17,$C41-$C$17,MATCH(BL$16,Ages,1))),\"\")","v":""},{"$f":"IF($C41<>\"\",BM41*EXP(-OFFSET('Forecasts Aggregate'!$C$17,$C41-$C$17,MATCH(BM$16,Ages,1))),\"\")","v":""},{"$f":"IF($C41<>\"\",BN41*EXP(-OFFSET('Forecasts Aggregate'!$C$17,$C41-$C$17,MATCH(BN$16,Ages,1))),\"\")","v":""},{"$f":"IF($C41<>\"\",BO41*EXP(-OFFSET('Forecasts Aggregate'!$C$17,$C41-$C$17,MATCH(BO$16,Ages,1))),\"\")","v":""},{"$f":"IF($C41<>\"\",BP41*EXP(-OFFSET('Forecasts Aggregate'!$C$17,$C41-$C$17,MATCH(BP$16,Ages,1))),\"\")","v":""},{"$f":"IF($C41<>\"\",BQ41*EXP(-OFFSET('Forecasts Aggregate'!$C$17,$C41-$C$17,MATCH(BQ$16,Ages,1))),\"\")","v":""},{"$f":"IF($C41<>\"\",BR41*EXP(-OFFSET('Forecasts Aggregate'!$C$17,$C41-$C$17,MATCH(BR$16,Ages,1))),\"\")","v":""},{"$f":"IF($C41<>\"\",BS41*EXP(-OFFSET('Forecasts Aggregate'!$C$17,$C41-$C$17,MATCH(BS$16,Ages,1))),\"\")","v":""},{"$f":"IF($C41<>\"\",BT41*EXP(-OFFSET('Forecasts Aggregate'!$C$17,$C41-$C$17,MATCH(BT$16,Ages,1))),\"\")","v":""},{"$f":"IF($C41<>\"\",BU41*EXP(-OFFSET('Forecasts Aggregate'!$C$17,$C41-$C$17,MATCH(BU$16,Ages,1))),\"\")","v":""},{"$f":"IF($C41<>\"\",BV41*EXP(-OFFSET('Forecasts Aggregate'!$C$17,$C41-$C$17,MATCH(BV$16,Ages,1))),\"\")","v":""},{"$f":"IF($C41<>\"\",BW41*EXP(-OFFSET('Forecasts Aggregate'!$C$17,$C41-$C$17,MATCH(BW$16,Ages,1))),\"\")","v":""},{"$f":"IF($C41<>\"\",BX41*EXP(-OFFSET('Forecasts Aggregate'!$C$17,$C41-$C$17,MATCH(BX$16,Ages,1))),\"\")","v":""},{"$f":"IF($C41<>\"\",BY41*EXP(-OFFSET('Forecasts Aggregate'!$C$17,$C41-$C$17,MATCH(BY$16,Ages,1))),\"\")","v":""},{"$f":"IF($C41<>\"\",BZ41*EXP(-OFFSET('Forecasts Aggregate'!$C$17,$C41-$C$17,MATCH(BZ$16,Ages,1))),\"\")","v":""},{"$f":"IF($C41<>\"\",CA41*EXP(-OFFSET('Forecasts Aggregate'!$C$17,$C41-$C$17,MATCH(CA$16,Ages,1))),\"\")","v":""},{"$f":"IF($C41<>\"\",CB41*EXP(-OFFSET('Forecasts Aggregate'!$C$17,$C41-$C$17,MATCH(CB$16,Ages,1))),\"\")","v":""},{"$f":"IF($C41<>\"\",CC41*EXP(-OFFSET('Forecasts Aggregate'!$C$17,$C41-$C$17,MATCH(CC$16,Ages,1))),\"\")","v":""},{"$f":"IF($C41<>\"\",CD41*EXP(-OFFSET('Forecasts Aggregate'!$C$17,$C41-$C$17,MATCH(CD$16,Ages,1))),\"\")","v":""},{"$f":"IF($C41<>\"\",CE41*EXP(-OFFSET('Forecasts Aggregate'!$C$17,$C41-$C$17,MATCH(CE$16,Ages,1))),\"\")","v":""},{"$f":"IF($C41<>\"\",CF41*EXP(-OFFSET('Forecasts Aggregate'!$C$17,$C41-$C$17,MATCH(CF$16,Ages,1))),\"\")","v":""},{"$f":"IF($C41<>\"\",CG41*EXP(-OFFSET('Forecasts Aggregate'!$C$17,$C41-$C$17,MATCH(CG$16,Ages,1))),\"\")","v":""},{"$f":"IF($C41<>\"\",CH41*EXP(-OFFSET('Forecasts Aggregate'!$C$17,$C41-$C$17,MATCH(CH$16,Ages,1))),\"\")","v":""},{"$f":"IF($C41<>\"\",CI41*EXP(-OFFSET('Forecasts Aggregate'!$C$17,$C41-$C$17,MATCH(CI$16,Ages,1))),\"\")","v":""},{"$f":"IF($C41<>\"\",CJ41*EXP(-OFFSET('Forecasts Aggregate'!$C$17,$C41-$C$17,MATCH(CJ$16,Ages,1))),\"\")","v":""},{"$f":"IF($C41<>\"\",CK41*EXP(-OFFSET('Forecasts Aggregate'!$C$17,$C41-$C$17,MATCH(CK$16,Ages,1))),\"\")","v":""},{"$f":"IF($C41<>\"\",CL41*EXP(-OFFSET('Forecasts Aggregate'!$C$17,$C41-$C$17,MATCH(CL$16,Ages,1))),\"\")","v":""},{"$f":"IF($C41<>\"\",CM41*EXP(-OFFSET('Forecasts Aggregate'!$C$17,$C41-$C$17,MATCH(CM$16,Ages,1))),\"\")","v":""},{"$f":"IF($C41<>\"\",CN41*EXP(-OFFSET('Forecasts Aggregate'!$C$17,$C41-$C$17,MATCH(CN$16,Ages,1))),\"\")","v":""},{"$f":"IF($C41<>\"\",CO41*EXP(-OFFSET('Forecasts Aggregate'!$C$17,$C41-$C$17,MATCH(CO$16,Ages,1))),\"\")","v":""},{"$f":"IF($C41<>\"\",CP41*EXP(-OFFSET('Forecasts Aggregate'!$C$17,$C41-$C$17,MATCH(CP$16,Ages,1))),\"\")","v":""},{"$f":"IF($C41<>\"\",CQ41*EXP(-OFFSET('Forecasts Aggregate'!$C$17,$C41-$C$17,MATCH(CQ$16,Ages,1))),\"\")","v":""},{"$f":"IF($C41<>\"\",CR41*EXP(-OFFSET('Forecasts Aggregate'!$C$17,$C41-$C$17,MATCH(CR$16,Ages,1))),\"\")","v":""},{"$f":"IF($C41<>\"\",CS41*EXP(-OFFSET('Forecasts Aggregate'!$C$17,$C41-$C$17,MATCH(CS$16,Ages,1))),\"\")","v":""},{"$f":"IF($C41<>\"\",CT41*EXP(-OFFSET('Forecasts Aggregate'!$C$17,$C41-$C$17,MATCH(CT$16,Ages,1))),\"\")","v":""},{"$f":"IF($C41<>\"\",CU41*EXP(-OFFSET('Forecasts Aggregate'!$C$17,$C41-$C$17,MATCH(CU$16,Ages,1))),\"\")","v":""},{"$f":"IF($C41<>\"\",CV41*EXP(-OFFSET('Forecasts Aggregate'!$C$17,$C41-$C$17,MATCH(CV$16,Ages,1))),\"\")","v":""},{"$f":"IF($C41<>\"\",CW41*EXP(-OFFSET('Forecasts Aggregate'!$C$17,$C41-$C$17,MATCH(CW$16,Ages,1))),\"\")","v":""},{"$f":"IF($C41<>\"\",CX41*EXP(-OFFSET('Forecasts Aggregate'!$C$17,$C41-$C$17,MATCH(CX$16,Ages,1))),\"\")","v":""},{"$f":"IF($C41<>\"\",CY41*EXP(-OFFSET('Forecasts Aggregate'!$C$17,$C41-$C$17,MATCH(CY$16,Ages,1))),\"\")","v":""},{"$f":"IF($C41<>\"\",CZ41*EXP(-OFFSET('Forecasts Aggregate'!$C$17,$C41-$C$17,MATCH(CZ$16,Ages,1))),\"\")","v":""},{"$f":"IF($C41<>\"\",DA41*EXP(-OFFSET('Forecasts Aggregate'!$C$17,$C41-$C$17,MATCH(DA$16,Ages,1))),\"\")","v":""},{"$f":"IF($C41<>\"\",DB41*EXP(-OFFSET('Forecasts Aggregate'!$C$17,$C41-$C$17,MATCH(DB$16,Ages,1))),\"\")","v":""},{"$f":"IF($C41<>\"\",DC41*EXP(-OFFSET('Forecasts Aggregate'!$C$17,$C41-$C$17,MATCH(DC$16,Ages,1))),\"\")","v":""},{"$f":"IF($C41<>\"\",DD41*EXP(-OFFSET('Forecasts Aggregate'!$C$17,$C41-$C$17,MATCH(DD$16,Ages,1))),\"\")","v":""},{"$f":"IF($C41<>\"\",DE41*EXP(-OFFSET('Forecasts Aggregate'!$C$17,$C41-$C$17,MATCH(DE$16,Ages,1))),\"\")","v":""},{"$f":"IF($C41<>\"\",DF41*EXP(-OFFSET('Forecasts Aggregate'!$C$17,$C41-$C$17,MATCH(DF$16,Ages,1))),\"\")","v":""},{"$f":"IF($C41<>\"\",DG41*EXP(-OFFSET('Forecasts Aggregate'!$C$17,$C41-$C$17,MATCH(DG$16,Ages,1))),\"\")","v":""},{"$f":"IF($C41<>\"\",DH41*EXP(-OFFSET('Forecasts Aggregate'!$C$17,$C41-$C$17,MATCH(DH$16,Ages,1))),\"\")","v":""},{"$f":"IF($C41<>\"\",DI41*EXP(-OFFSET('Forecasts Aggregate'!$C$17,$C41-$C$17,MATCH(DI$16,Ages,1))),\"\")","v":""},{"$f":"IF($C41<>\"\",DJ41*EXP(-OFFSET('Forecasts Aggregate'!$C$17,$C41-$C$17,MATCH(DJ$16,Ages,1))),\"\")","v":""},null,"","",""]
[null,null,"","",{"$f":"IF($C42<>\"\",D42*EXP(-OFFSET('Forecasts Aggregate'!$C$17,$C42-$C$17,MATCH(D$16,Ages,1))),\"\")","v":""},{"$f":"IF($C42<>\"\",E42*EXP(-OFFSET('Forecasts Aggregate'!$C$17,$C42-$C$17,MATCH(E$16,Ages,1))),\"\")","v":""},{"$f":"IF($C42<>\"\",F42*EXP(-OFFSET('Forecasts Aggregate'!$C$17,$C42-$C$17,MATCH(F$16,Ages,1))),\"\")","v":""},{"$f":"IF($C42<>\"\",G42*EXP(-OFFSET('Forecasts Aggregate'!$C$17,$C42-$C$17,MATCH(G$16,Ages,1))),\"\")","v":""},{"$f":"IF($C42<>\"\",H42*EXP(-OFFSET('Forecasts Aggregate'!$C$17,$C42-$C$17,MATCH(H$16,Ages,1))),\"\")","v":""},{"$f":"IF($C42<>\"\",I42*EXP(-OFFSET('Forecasts Aggregate'!$C$17,$C42-$C$17,MATCH(I$16,Ages,1))),\"\")","v":""},{"$f":"IF($C42<>\"\",J42*EXP(-OFFSET('Forecasts Aggregate'!$C$17,$C42-$C$17,MATCH(J$16,Ages,1))),\"\")","v":""},{"$f":"IF($C42<>\"\",K42*EXP(-OFFSET('Forecasts Aggregate'!$C$17,$C42-$C$17,MATCH(K$16,Ages,1))),\"\")","v":""},{"$f":"IF($C42<>\"\",L42*EXP(-OFFSET('Forecasts Aggregate'!$C$17,$C42-$C$17,MATCH(L$16,Ages,1))),\"\")","v":""},{"$f":"IF($C42<>\"\",M42*EXP(-OFFSET('Forecasts Aggregate'!$C$17,$C42-$C$17,MATCH(M$16,Ages,1))),\"\")","v":""},{"$f":"IF($C42<>\"\",N42*EXP(-OFFSET('Forecasts Aggregate'!$C$17,$C42-$C$17,MATCH(N$16,Ages,1))),\"\")","v":""},{"$f":"IF($C42<>\"\",O42*EXP(-OFFSET('Forecasts Aggregate'!$C$17,$C42-$C$17,MATCH(O$16,Ages,1))),\"\")","v":""},{"$f":"IF($C42<>\"\",P42*EXP(-OFFSET('Forecasts Aggregate'!$C$17,$C42-$C$17,MATCH(P$16,Ages,1))),\"\")","v":""},{"$f":"IF($C42<>\"\",Q42*EXP(-OFFSET('Forecasts Aggregate'!$C$17,$C42-$C$17,MATCH(Q$16,Ages,1))),\"\")","v":""},{"$f":"IF($C42<>\"\",R42*EXP(-OFFSET('Forecasts Aggregate'!$C$17,$C42-$C$17,MATCH(R$16,Ages,1))),\"\")","v":""},{"$f":"IF($C42<>\"\",S42*EXP(-OFFSET('Forecasts Aggregate'!$C$17,$C42-$C$17,MATCH(S$16,Ages,1))),\"\")","v":""},{"$f":"IF($C42<>\"\",T42*EXP(-OFFSET('Forecasts Aggregate'!$C$17,$C42-$C$17,MATCH(T$16,Ages,1))),\"\")","v":""},{"$f":"IF($C42<>\"\",U42*EXP(-OFFSET('Forecasts Aggregate'!$C$17,$C42-$C$17,MATCH(U$16,Ages,1))),\"\")","v":""},{"$f":"IF($C42<>\"\",V42*EXP(-OFFSET('Forecasts Aggregate'!$C$17,$C42-$C$17,MATCH(V$16,Ages,1))),\"\")","v":""},{"$f":"IF($C42<>\"\",W42*EXP(-OFFSET('Forecasts Aggregate'!$C$17,$C42-$C$17,MATCH(W$16,Ages,1))),\"\")","v":""},{"$f":"IF($C42<>\"\",X42*EXP(-OFFSET('Forecasts Aggregate'!$C$17,$C42-$C$17,MATCH(X$16,Ages,1))),\"\")","v":""},{"$f":"IF($C42<>\"\",Y42*EXP(-OFFSET('Forecasts Aggregate'!$C$17,$C42-$C$17,MATCH(Y$16,Ages,1))),\"\")","v":""},{"$f":"IF($C42<>\"\",Z42*EXP(-OFFSET('Forecasts Aggregate'!$C$17,$C42-$C$17,MATCH(Z$16,Ages,1))),\"\")","v":""},{"$f":"IF($C42<>\"\",AA42*EXP(-OFFSET('Forecasts Aggregate'!$C$17,$C42-$C$17,MATCH(AA$16,Ages,1))),\"\")","v":""},{"$f":"IF($C42<>\"\",AB42*EXP(-OFFSET('Forecasts Aggregate'!$C$17,$C42-$C$17,MATCH(AB$16,Ages,1))),\"\")","v":""},{"$f":"IF($C42<>\"\",AC42*EXP(-OFFSET('Forecasts Aggregate'!$C$17,$C42-$C$17,MATCH(AC$16,Ages,1))),\"\")","v":""},{"$f":"IF($C42<>\"\",AD42*EXP(-OFFSET('Forecasts Aggregate'!$C$17,$C42-$C$17,MATCH(AD$16,Ages,1))),\"\")","v":""},{"$f":"IF($C42<>\"\",AE42*EXP(-OFFSET('Forecasts Aggregate'!$C$17,$C42-$C$17,MATCH(AE$16,Ages,1))),\"\")","v":""},{"$f":"IF($C42<>\"\",AF42*EXP(-OFFSET('Forecasts Aggregate'!$C$17,$C42-$C$17,MATCH(AF$16,Ages,1))),\"\")","v":""},{"$f":"IF($C42<>\"\",AG42*EXP(-OFFSET('Forecasts Aggregate'!$C$17,$C42-$C$17,MATCH(AG$16,Ages,1))),\"\")","v":""},{"$f":"IF($C42<>\"\",AH42*EXP(-OFFSET('Forecasts Aggregate'!$C$17,$C42-$C$17,MATCH(AH$16,Ages,1))),\"\")","v":""},{"$f":"IF($C42<>\"\",AI42*EXP(-OFFSET('Forecasts Aggregate'!$C$17,$C42-$C$17,MATCH(AI$16,Ages,1))),\"\")","v":""},{"$f":"IF($C42<>\"\",AJ42*EXP(-OFFSET('Forecasts Aggregate'!$C$17,$C42-$C$17,MATCH(AJ$16,Ages,1))),\"\")","v":""},{"$f":"IF($C42<>\"\",AK42*EXP(-OFFSET('Forecasts Aggregate'!$C$17,$C42-$C$17,MATCH(AK$16,Ages,1))),\"\")","v":""},{"$f":"IF($C42<>\"\",AL42*EXP(-OFFSET('Forecasts Aggregate'!$C$17,$C42-$C$17,MATCH(AL$16,Ages,1))),\"\")","v":""},{"$f":"IF($C42<>\"\",AM42*EXP(-OFFSET('Forecasts Aggregate'!$C$17,$C42-$C$17,MATCH(AM$16,Ages,1))),\"\")","v":""},{"$f":"IF($C42<>\"\",AN42*EXP(-OFFSET('Forecasts Aggregate'!$C$17,$C42-$C$17,MATCH(AN$16,Ages,1))),\"\")","v":""},{"$f":"IF($C42<>\"\",AO42*EXP(-OFFSET('Forecasts Aggregate'!$C$17,$C42-$C$17,MATCH(AO$16,Ages,1))),\"\")","v":""},{"$f":"IF($C42<>\"\",AP42*EXP(-OFFSET('Forecasts Aggregate'!$C$17,$C42-$C$17,MATCH(AP$16,Ages,1))),\"\")","v":""},{"$f":"IF($C42<>\"\",AQ42*EXP(-OFFSET('Forecasts Aggregate'!$C$17,$C42-$C$17,MATCH(AQ$16,Ages,1))),\"\")","v":""},{"$f":"IF($C42<>\"\",AR42*EXP(-OFFSET('Forecasts Aggregate'!$C$17,$C42-$C$17,MATCH(AR$16,Ages,1))),\"\")","v":""},{"$f":"IF($C42<>\"\",AS42*EXP(-OFFSET('Forecasts Aggregate'!$C$17,$C42-$C$17,MATCH(AS$16,Ages,1))),\"\")","v":""},{"$f":"IF($C42<>\"\",AT42*EXP(-OFFSET('Forecasts Aggregate'!$C$17,$C42-$C$17,MATCH(AT$16,Ages,1))),\"\")","v":""},{"$f":"IF($C42<>\"\",AU42*EXP(-OFFSET('Forecasts Aggregate'!$C$17,$C42-$C$17,MATCH(AU$16,Ages,1))),\"\")","v":""},{"$f":"IF($C42<>\"\",AV42*EXP(-OFFSET('Forecasts Aggregate'!$C$17,$C42-$C$17,MATCH(AV$16,Ages,1))),\"\")","v":""},{"$f":"IF($C42<>\"\",AW42*EXP(-OFFSET('Forecasts Aggregate'!$C$17,$C42-$C$17,MATCH(AW$16,Ages,1))),\"\")","v":""},{"$f":"IF($C42<>\"\",AX42*EXP(-OFFSET('Forecasts Aggregate'!$C$17,$C42-$C$17,MATCH(AX$16,Ages,1))),\"\")","v":""},{"$f":"IF($C42<>\"\",AY42*EXP(-OFFSET('Forecasts Aggregate'!$C$17,$C42-$C$17,MATCH(AY$16,Ages,1))),\"\")","v":""},{"$f":"IF($C42<>\"\",AZ42*EXP(-OFFSET('Forecasts Aggregate'!$C$17,$C42-$C$17,MATCH(AZ$16,Ages,1))),\"\")","v":""},{"$f":"IF($C42<>\"\",BA42*EXP(-OFFSET('Forecasts Aggregate'!$C$17,$C42-$C$17,MATCH(BA$16,Ages,1))),\"\")","v":""},{"$f":"IF($C42<>\"\",BB42*EXP(-OFFSET('Forecasts Aggregate'!$C$17,$C42-$C$17,MATCH(BB$16,Ages,1))),\"\")","v":""},{"$f":"IF($C42<>\"\",BC42*EXP(-OFFSET('Forecasts Aggregate'!$C$17,$C42-$C$17,MATCH(BC$16,Ages,1))),\"\")","v":""},{"$f":"IF($C42<>\"\",BD42*EXP(-OFFSET('Forecasts Aggregate'!$C$17,$C42-$C$17,MATCH(BD$16,Ages,1))),\"\")","v":""},{"$f":"IF($C42<>\"\",BE42*EXP(-OFFSET('Forecasts Aggregate'!$C$17,$C42-$C$17,MATCH(BE$16,Ages,1))),\"\")","v":""},{"$f":"IF($C42<>\"\",BF42*EXP(-OFFSET('Forecasts Aggregate'!$C$17,$C42-$C$17,MATCH(BF$16,Ages,1))),\"\")","v":""},{"$f":"IF($C42<>\"\",BG42*EXP(-OFFSET('Forecasts Aggregate'!$C$17,$C42-$C$17,MATCH(BG$16,Ages,1))),\"\")","v":""},{"$f":"IF($C42<>\"\",BH42*EXP(-OFFSET('Forecasts Aggregate'!$C$17,$C42-$C$17,MATCH(BH$16,Ages,1))),\"\")","v":""},{"$f":"IF($C42<>\"\",BI42*EXP(-OFFSET('Forecasts Aggregate'!$C$17,$C42-$C$17,MATCH(BI$16,Ages,1))),\"\")","v":""},{"$f":"IF($C42<>\"\",BJ42*EXP(-OFFSET('Forecasts Aggregate'!$C$17,$C42-$C$17,MATCH(BJ$16,Ages,1))),\"\")","v":""},{"$f":"IF($C42<>\"\",BK42*EXP(-OFFSET('Forecasts Aggregate'!$C$17,$C42-$C$17,MATCH(BK$16,Ages,1))),\"\")","v":""},{"$f":"IF($C42<>\"\",BL42*EXP(-OFFSET('Forecasts Aggregate'!$C$17,$C42-$C$17,MATCH(BL$16,Ages,1))),\"\")","v":""},{"$f":"IF($C42<>\"\",BM42*EXP(-OFFSET('Forecasts Aggregate'!$C$17,$C42-$C$17,MATCH(BM$16,Ages,1))),\"\")","v":""},{"$f":"IF($C42<>\"\",BN42*EXP(-OFFSET('Forecasts Aggregate'!$C$17,$C42-$C$17,MATCH(BN$16,Ages,1))),\"\")","v":""},{"$f":"IF($C42<>\"\",BO42*EXP(-OFFSET('Forecasts Aggregate'!$C$17,$C42-$C$17,MATCH(BO$16,Ages,1))),\"\")","v":""},{"$f":"IF($C42<>\"\",BP42*EXP(-OFFSET('Forecasts Aggregate'!$C$17,$C42-$C$17,MATCH(BP$16,Ages,1))),\"\")","v":""},{"$f":"IF($C42<>\"\",BQ42*EXP(-OFFSET('Forecasts Aggregate'!$C$17,$C42-$C$17,MATCH(BQ$16,Ages,1))),\"\")","v":""},{"$f":"IF($C42<>\"\",BR42*EXP(-OFFSET('Forecasts Aggregate'!$C$17,$C42-$C$17,MATCH(BR$16,Ages,1))),\"\")","v":""},{"$f":"IF($C42<>\"\",BS42*EXP(-OFFSET('Forecasts Aggregate'!$C$17,$C42-$C$17,MATCH(BS$16,Ages,1))),\"\")","v":""},{"$f":"IF($C42<>\"\",BT42*EXP(-OFFSET('Forecasts Aggregate'!$C$17,$C42-$C$17,MATCH(BT$16,Ages,1))),\"\")","v":""},{"$f":"IF($C42<>\"\",BU42*EXP(-OFFSET('Forecasts Aggregate'!$C$17,$C42-$C$17,MATCH(BU$16,Ages,1))),\"\")","v":""},{"$f":"IF($C42<>\"\",BV42*EXP(-OFFSET('Forecasts Aggregate'!$C$17,$C42-$C$17,MATCH(BV$16,Ages,1))),\"\")","v":""},{"$f":"IF($C42<>\"\",BW42*EXP(-OFFSET('Forecasts Aggregate'!$C$17,$C42-$C$17,MATCH(BW$16,Ages,1))),\"\")","v":""},{"$f":"IF($C42<>\"\",BX42*EXP(-OFFSET('Forecasts Aggregate'!$C$17,$C42-$C$17,MATCH(BX$16,Ages,1))),\"\")","v":""},{"$f":"IF($C42<>\"\",BY42*EXP(-OFFSET('Forecasts Aggregate'!$C$17,$C42-$C$17,MATCH(BY$16,Ages,1))),\"\")","v":""},{"$f":"IF($C42<>\"\",BZ42*EXP(-OFFSET('Forecasts Aggregate'!$C$17,$C42-$C$17,MATCH(BZ$16,Ages,1))),\"\")","v":""},{"$f":"IF($C42<>\"\",CA42*EXP(-OFFSET('Forecasts Aggregate'!$C$17,$C42-$C$17,MATCH(CA$16,Ages,1))),\"\")","v":""},{"$f":"IF($C42<>\"\",CB42*EXP(-OFFSET('Forecasts Aggregate'!$C$17,$C42-$C$17,MATCH(CB$16,Ages,1))),\"\")","v":""},{"$f":"IF($C42<>\"\",CC42*EXP(-OFFSET('Forecasts Aggregate'!$C$17,$C42-$C$17,MATCH(CC$16,Ages,1))),\"\")","v":""},{"$f":"IF($C42<>\"\",CD42*EXP(-OFFSET('Forecasts Aggregate'!$C$17,$C42-$C$17,MATCH(CD$16,Ages,1))),\"\")","v":""},{"$f":"IF($C42<>\"\",CE42*EXP(-OFFSET('Forecasts Aggregate'!$C$17,$C42-$C$17,MATCH(CE$16,Ages,1))),\"\")","v":""},{"$f":"IF($C42<>\"\",CF42*EXP(-OFFSET('Forecasts Aggregate'!$C$17,$C42-$C$17,MATCH(CF$16,Ages,1))),\"\")","v":""},{"$f":"IF($C42<>\"\",CG42*EXP(-OFFSET('Forecasts Aggregate'!$C$17,$C42-$C$17,MATCH(CG$16,Ages,1))),\"\")","v":""},{"$f":"IF($C42<>\"\",CH42*EXP(-OFFSET('Forecasts Aggregate'!$C$17,$C42-$C$17,MATCH(CH$16,Ages,1))),\"\")","v":""},{"$f":"IF($C42<>\"\",CI42*EXP(-OFFSET('Forecasts Aggregate'!$C$17,$C42-$C$17,MATCH(CI$16,Ages,1))),\"\")","v":""},{"$f":"IF($C42<>\"\",CJ42*EXP(-OFFSET('Forecasts Aggregate'!$C$17,$C42-$C$17,MATCH(CJ$16,Ages,1))),\"\")","v":""},{"$f":"IF($C42<>\"\",CK42*EXP(-OFFSET('Forecasts Aggregate'!$C$17,$C42-$C$17,MATCH(CK$16,Ages,1))),\"\")","v":""},{"$f":"IF($C42<>\"\",CL42*EXP(-OFFSET('Forecasts Aggregate'!$C$17,$C42-$C$17,MATCH(CL$16,Ages,1))),\"\")","v":""},{"$f":"IF($C42<>\"\",CM42*EXP(-OFFSET('Forecasts Aggregate'!$C$17,$C42-$C$17,MATCH(CM$16,Ages,1))),\"\")","v":""},{"$f":"IF($C42<>\"\",CN42*EXP(-OFFSET('Forecasts Aggregate'!$C$17,$C42-$C$17,MATCH(CN$16,Ages,1))),\"\")","v":""},{"$f":"IF($C42<>\"\",CO42*EXP(-OFFSET('Forecasts Aggregate'!$C$17,$C42-$C$17,MATCH(CO$16,Ages,1))),\"\")","v":""},{"$f":"IF($C42<>\"\",CP42*EXP(-OFFSET('Forecasts Aggregate'!$C$17,$C42-$C$17,MATCH(CP$16,Ages,1))),\"\")","v":""},{"$f":"IF($C42<>\"\",CQ42*EXP(-OFFSET('Forecasts Aggregate'!$C$17,$C42-$C$17,MATCH(CQ$16,Ages,1))),\"\")","v":""},{"$f":"IF($C42<>\"\",CR42*EXP(-OFFSET('Forecasts Aggregate'!$C$17,$C42-$C$17,MATCH(CR$16,Ages,1))),\"\")","v":""},{"$f":"IF($C42<>\"\",CS42*EXP(-OFFSET('Forecasts Aggregate'!$C$17,$C42-$C$17,MATCH(CS$16,Ages,1))),\"\")","v":""},{"$f":"IF($C42<>\"\",CT42*EXP(-OFFSET('Forecasts Aggregate'!$C$17,$C42-$C$17,MATCH(CT$16,Ages,1))),\"\")","v":""},{"$f":"IF($C42<>\"\",CU42*EXP(-OFFSET('Forecasts Aggregate'!$C$17,$C42-$C$17,MATCH(CU$16,Ages,1))),\"\")","v":""},{"$f":"IF($C42<>\"\",CV42*EXP(-OFFSET('Forecasts Aggregate'!$C$17,$C42-$C$17,MATCH(CV$16,Ages,1))),\"\")","v":""},{"$f":"IF($C42<>\"\",CW42*EXP(-OFFSET('Forecasts Aggregate'!$C$17,$C42-$C$17,MATCH(CW$16,Ages,1))),\"\")","v":""},{"$f":"IF($C42<>\"\",CX42*EXP(-OFFSET('Forecasts Aggregate'!$C$17,$C42-$C$17,MATCH(CX$16,Ages,1))),\"\")","v":""},{"$f":"IF($C42<>\"\",CY42*EXP(-OFFSET('Forecasts Aggregate'!$C$17,$C42-$C$17,MATCH(CY$16,Ages,1))),\"\")","v":""},{"$f":"IF($C42<>\"\",CZ42*EXP(-OFFSET('Forecasts Aggregate'!$C$17,$C42-$C$17,MATCH(CZ$16,Ages,1))),\"\")","v":""},{"$f":"IF($C42<>\"\",DA42*EXP(-OFFSET('Forecasts Aggregate'!$C$17,$C42-$C$17,MATCH(DA$16,Ages,1))),\"\")","v":""},{"$f":"IF($C42<>\"\",DB42*EXP(-OFFSET('Forecasts Aggregate'!$C$17,$C42-$C$17,MATCH(DB$16,Ages,1))),\"\")","v":""},{"$f":"IF($C42<>\"\",DC42*EXP(-OFFSET('Forecasts Aggregate'!$C$17,$C42-$C$17,MATCH(DC$16,Ages,1))),\"\")","v":""},{"$f":"IF($C42<>\"\",DD42*EXP(-OFFSET('Forecasts Aggregate'!$C$17,$C42-$C$17,MATCH(DD$16,Ages,1))),\"\")","v":""},{"$f":"IF($C42<>\"\",DE42*EXP(-OFFSET('Forecasts Aggregate'!$C$17,$C42-$C$17,MATCH(DE$16,Ages,1))),\"\")","v":""},{"$f":"IF($C42<>\"\",DF42*EXP(-OFFSET('Forecasts Aggregate'!$C$17,$C42-$C$17,MATCH(DF$16,Ages,1))),\"\")","v":""},{"$f":"IF($C42<>\"\",DG42*EXP(-OFFSET('Forecasts Aggregate'!$C$17,$C42-$C$17,MATCH(DG$16,Ages,1))),\"\")","v":""},{"$f":"IF($C42<>\"\",DH42*EXP(-OFFSET('Forecasts Aggregate'!$C$17,$C42-$C$17,MATCH(DH$16,Ages,1))),\"\")","v":""},{"$f":"IF($C42<>\"\",DI42*EXP(-OFFSET('Forecasts Aggregate'!$C$17,$C42-$C$17,MATCH(DI$16,Ages,1))),\"\")","v":""},{"$f":"IF($C42<>\"\",DJ42*EXP(-OFFSET('Forecasts Aggregate'!$C$17,$C42-$C$17,MATCH(DJ$16,Ages,1))),\"\")","v":""},null,"","",""]
[null,null,"","",{"$f":"IF($C43<>\"\",D43*EXP(-OFFSET('Forecasts Aggregate'!$C$17,$C43-$C$17,MATCH(D$16,Ages,1))),\"\")","v":""},{"$f":"IF($C43<>\"\",E43*EXP(-OFFSET('Forecasts Aggregate'!$C$17,$C43-$C$17,MATCH(E$16,Ages,1))),\"\")","v":""},{"$f":"IF($C43<>\"\",F43*EXP(-OFFSET('Forecasts Aggregate'!$C$17,$C43-$C$17,MATCH(F$16,Ages,1))),\"\")","v":""},{"$f":"IF($C43<>\"\",G43*EXP(-OFFSET('Forecasts Aggregate'!$C$17,$C43-$C$17,MATCH(G$16,Ages,1))),\"\")","v":""},{"$f":"IF($C43<>\"\",H43*EXP(-OFFSET('Forecasts Aggregate'!$C$17,$C43-$C$17,MATCH(H$16,Ages,1))),\"\")","v":""},{"$f":"IF($C43<>\"\",I43*EXP(-OFFSET('Forecasts Aggregate'!$C$17,$C43-$C$17,MATCH(I$16,Ages,1))),\"\")","v":""},{"$f":"IF($C43<>\"\",J43*EXP(-OFFSET('Forecasts Aggregate'!$C$17,$C43-$C$17,MATCH(J$16,Ages,1))),\"\")","v":""},{"$f":"IF($C43<>\"\",K43*EXP(-OFFSET('Forecasts Aggregate'!$C$17,$C43-$C$17,MATCH(K$16,Ages,1))),\"\")","v":""},{"$f":"IF($C43<>\"\",L43*EXP(-OFFSET('Forecasts Aggregate'!$C$17,$C43-$C$17,MATCH(L$16,Ages,1))),\"\")","v":""},{"$f":"IF($C43<>\"\",M43*EXP(-OFFSET('Forecasts Aggregate'!$C$17,$C43-$C$17,MATCH(M$16,Ages,1))),\"\")","v":""},{"$f":"IF($C43<>\"\",N43*EXP(-OFFSET('Forecasts Aggregate'!$C$17,$C43-$C$17,MATCH(N$16,Ages,1))),\"\")","v":""},{"$f":"IF($C43<>\"\",O43*EXP(-OFFSET('Forecasts Aggregate'!$C$17,$C43-$C$17,MATCH(O$16,Ages,1))),\"\")","v":""},{"$f":"IF($C43<>\"\",P43*EXP(-OFFSET('Forecasts Aggregate'!$C$17,$C43-$C$17,MATCH(P$16,Ages,1))),\"\")","v":""},{"$f":"IF($C43<>\"\",Q43*EXP(-OFFSET('Forecasts Aggregate'!$C$17,$C43-$C$17,MATCH(Q$16,Ages,1))),\"\")","v":""},{"$f":"IF($C43<>\"\",R43*EXP(-OFFSET('Forecasts Aggregate'!$C$17,$C43-$C$17,MATCH(R$16,Ages,1))),\"\")","v":""},{"$f":"IF($C43<>\"\",S43*EXP(-OFFSET('Forecasts Aggregate'!$C$17,$C43-$C$17,MATCH(S$16,Ages,1))),\"\")","v":""},{"$f":"IF($C43<>\"\",T43*EXP(-OFFSET('Forecasts Aggregate'!$C$17,$C43-$C$17,MATCH(T$16,Ages,1))),\"\")","v":""},{"$f":"IF($C43<>\"\",U43*EXP(-OFFSET('Forecasts Aggregate'!$C$17,$C43-$C$17,MATCH(U$16,Ages,1))),\"\")","v":""},{"$f":"IF($C43<>\"\",V43*EXP(-OFFSET('Forecasts Aggregate'!$C$17,$C43-$C$17,MATCH(V$16,Ages,1))),\"\")","v":""},{"$f":"IF($C43<>\"\",W43*EXP(-OFFSET('Forecasts Aggregate'!$C$17,$C43-$C$17,MATCH(W$16,Ages,1))),\"\")","v":""},{"$f":"IF($C43<>\"\",X43*EXP(-OFFSET('Forecasts Aggregate'!$C$17,$C43-$C$17,MATCH(X$16,Ages,1))),\"\")","v":""},{"$f":"IF($C43<>\"\",Y43*EXP(-OFFSET('Forecasts Aggregate'!$C$17,$C43-$C$17,MATCH(Y$16,Ages,1))),\"\")","v":""},{"$f":"IF($C43<>\"\",Z43*EXP(-OFFSET('Forecasts Aggregate'!$C$17,$C43-$C$17,MATCH(Z$16,Ages,1))),\"\")","v":""},{"$f":"IF($C43<>\"\",AA43*EXP(-OFFSET('Forecasts Aggregate'!$C$17,$C43-$C$17,MATCH(AA$16,Ages,1))),\"\")","v":""},{"$f":"IF($C43<>\"\",AB43*EXP(-OFFSET('Forecasts Aggregate'!$C$17,$C43-$C$17,MATCH(AB$16,Ages,1))),\"\")","v":""},{"$f":"IF($C43<>\"\",AC43*EXP(-OFFSET('Forecasts Aggregate'!$C$17,$C43-$C$17,MATCH(AC$16,Ages,1))),\"\")","v":""},{"$f":"IF($C43<>\"\",AD43*EXP(-OFFSET('Forecasts Aggregate'!$C$17,$C43-$C$17,MATCH(AD$16,Ages,1))),\"\")","v":""},{"$f":"IF($C43<>\"\",AE43*EXP(-OFFSET('Forecasts Aggregate'!$C$17,$C43-$C$17,MATCH(AE$16,Ages,1))),\"\")","v":""},{"$f":"IF($C43<>\"\",AF43*EXP(-OFFSET('Forecasts Aggregate'!$C$17,$C43-$C$17,MATCH(AF$16,Ages,1))),\"\")","v":""},{"$f":"IF($C43<>\"\",AG43*EXP(-OFFSET('Forecasts Aggregate'!$C$17,$C43-$C$17,MATCH(AG$16,Ages,1))),\"\")","v":""},{"$f":"IF($C43<>\"\",AH43*EXP(-OFFSET('Forecasts Aggregate'!$C$17,$C43-$C$17,MATCH(AH$16,Ages,1))),\"\")","v":""},{"$f":"IF($C43<>\"\",AI43*EXP(-OFFSET('Forecasts Aggregate'!$C$17,$C43-$C$17,MATCH(AI$16,Ages,1))),\"\")","v":""},{"$f":"IF($C43<>\"\",AJ43*EXP(-OFFSET('Forecasts Aggregate'!$C$17,$C43-$C$17,MATCH(AJ$16,Ages,1))),\"\")","v":""},{"$f":"IF($C43<>\"\",AK43*EXP(-OFFSET('Forecasts Aggregate'!$C$17,$C43-$C$17,MATCH(AK$16,Ages,1))),\"\")","v":""},{"$f":"IF($C43<>\"\",AL43*EXP(-OFFSET('Forecasts Aggregate'!$C$17,$C43-$C$17,MATCH(AL$16,Ages,1))),\"\")","v":""},{"$f":"IF($C43<>\"\",AM43*EXP(-OFFSET('Forecasts Aggregate'!$C$17,$C43-$C$17,MATCH(AM$16,Ages,1))),\"\")","v":""},{"$f":"IF($C43<>\"\",AN43*EXP(-OFFSET('Forecasts Aggregate'!$C$17,$C43-$C$17,MATCH(AN$16,Ages,1))),\"\")","v":""},{"$f":"IF($C43<>\"\",AO43*EXP(-OFFSET('Forecasts Aggregate'!$C$17,$C43-$C$17,MATCH(AO$16,Ages,1))),\"\")","v":""},{"$f":"IF($C43<>\"\",AP43*EXP(-OFFSET('Forecasts Aggregate'!$C$17,$C43-$C$17,MATCH(AP$16,Ages,1))),\"\")","v":""},{"$f":"IF($C43<>\"\",AQ43*EXP(-OFFSET('Forecasts Aggregate'!$C$17,$C43-$C$17,MATCH(AQ$16,Ages,1))),\"\")","v":""},{"$f":"IF($C43<>\"\",AR43*EXP(-OFFSET('Forecasts Aggregate'!$C$17,$C43-$C$17,MATCH(AR$16,Ages,1))),\"\")","v":""},{"$f":"IF($C43<>\"\",AS43*EXP(-OFFSET('Forecasts Aggregate'!$C$17,$C43-$C$17,MATCH(AS$16,Ages,1))),\"\")","v":""},{"$f":"IF($C43<>\"\",AT43*EXP(-OFFSET('Forecasts Aggregate'!$C$17,$C43-$C$17,MATCH(AT$16,Ages,1))),\"\")","v":""},{"$f":"IF($C43<>\"\",AU43*EXP(-OFFSET('Forecasts Aggregate'!$C$17,$C43-$C$17,MATCH(AU$16,Ages,1))),\"\")","v":""},{"$f":"IF($C43<>\"\",AV43*EXP(-OFFSET('Forecasts Aggregate'!$C$17,$C43-$C$17,MATCH(AV$16,Ages,1))),\"\")","v":""},{"$f":"IF($C43<>\"\",AW43*EXP(-OFFSET('Forecasts Aggregate'!$C$17,$C43-$C$17,MATCH(AW$16,Ages,1))),\"\")","v":""},{"$f":"IF($C43<>\"\",AX43*EXP(-OFFSET('Forecasts Aggregate'!$C$17,$C43-$C$17,MATCH(AX$16,Ages,1))),\"\")","v":""},{"$f":"IF($C43<>\"\",AY43*EXP(-OFFSET('Forecasts Aggregate'!$C$17,$C43-$C$17,MATCH(AY$16,Ages,1))),\"\")","v":""},{"$f":"IF($C43<>\"\",AZ43*EXP(-OFFSET('Forecasts Aggregate'!$C$17,$C43-$C$17,MATCH(AZ$16,Ages,1))),\"\")","v":""},{"$f":"IF($C43<>\"\",BA43*EXP(-OFFSET('Forecasts Aggregate'!$C$17,$C43-$C$17,MATCH(BA$16,Ages,1))),\"\")","v":""},{"$f":"IF($C43<>\"\",BB43*EXP(-OFFSET('Forecasts Aggregate'!$C$17,$C43-$C$17,MATCH(BB$16,Ages,1))),\"\")","v":""},{"$f":"IF($C43<>\"\",BC43*EXP(-OFFSET('Forecasts Aggregate'!$C$17,$C43-$C$17,MATCH(BC$16,Ages,1))),\"\")","v":""},{"$f":"IF($C43<>\"\",BD43*EXP(-OFFSET('Forecasts Aggregate'!$C$17,$C43-$C$17,MATCH(BD$16,Ages,1))),\"\")","v":""},{"$f":"IF($C43<>\"\",BE43*EXP(-OFFSET('Forecasts Aggregate'!$C$17,$C43-$C$17,MATCH(BE$16,Ages,1))),\"\")","v":""},{"$f":"IF($C43<>\"\",BF43*EXP(-OFFSET('Forecasts Aggregate'!$C$17,$C43-$C$17,MATCH(BF$16,Ages,1))),\"\")","v":""},{"$f":"IF($C43<>\"\",BG43*EXP(-OFFSET('Forecasts Aggregate'!$C$17,$C43-$C$17,MATCH(BG$16,Ages,1))),\"\")","v":""},{"$f":"IF($C43<>\"\",BH43*EXP(-OFFSET('Forecasts Aggregate'!$C$17,$C43-$C$17,MATCH(BH$16,Ages,1))),\"\")","v":""},{"$f":"IF($C43<>\"\",BI43*EXP(-OFFSET('Forecasts Aggregate'!$C$17,$C43-$C$17,MATCH(BI$16,Ages,1))),\"\")","v":""},{"$f":"IF($C43<>\"\",BJ43*EXP(-OFFSET('Forecasts Aggregate'!$C$17,$C43-$C$17,MATCH(BJ$16,Ages,1))),\"\")","v":""},{"$f":"IF($C43<>\"\",BK43*EXP(-OFFSET('Forecasts Aggregate'!$C$17,$C43-$C$17,MATCH(BK$16,Ages,1))),\"\")","v":""},{"$f":"IF($C43<>\"\",BL43*EXP(-OFFSET('Forecasts Aggregate'!$C$17,$C43-$C$17,MATCH(BL$16,Ages,1))),\"\")","v":""},{"$f":"IF($C43<>\"\",BM43*EXP(-OFFSET('Forecasts Aggregate'!$C$17,$C43-$C$17,MATCH(BM$16,Ages,1))),\"\")","v":""},{"$f":"IF($C43<>\"\",BN43*EXP(-OFFSET('Forecasts Aggregate'!$C$17,$C43-$C$17,MATCH(BN$16,Ages,1))),\"\")","v":""},{"$f":"IF($C43<>\"\",BO43*EXP(-OFFSET('Forecasts Aggregate'!$C$17,$C43-$C$17,MATCH(BO$16,Ages,1))),\"\")","v":""},{"$f":"IF($C43<>\"\",BP43*EXP(-OFFSET('Forecasts Aggregate'!$C$17,$C43-$C$17,MATCH(BP$16,Ages,1))),\"\")","v":""},{"$f":"IF($C43<>\"\",BQ43*EXP(-OFFSET('Forecasts Aggregate'!$C$17,$C43-$C$17,MATCH(BQ$16,Ages,1))),\"\")","v":""},{"$f":"IF($C43<>\"\",BR43*EXP(-OFFSET('Forecasts Aggregate'!$C$17,$C43-$C$17,MATCH(BR$16,Ages,1))),\"\")","v":""},{"$f":"IF($C43<>\"\",BS43*EXP(-OFFSET('Forecasts Aggregate'!$C$17,$C43-$C$17,MATCH(BS$16,Ages,1))),\"\")","v":""},{"$f":"IF($C43<>\"\",BT43*EXP(-OFFSET('Forecasts Aggregate'!$C$17,$C43-$C$17,MATCH(BT$16,Ages,1))),\"\")","v":""},{"$f":"IF($C43<>\"\",BU43*EXP(-OFFSET('Forecasts Aggregate'!$C$17,$C43-$C$17,MATCH(BU$16,Ages,1))),\"\")","v":""},{"$f":"IF($C43<>\"\",BV43*EXP(-OFFSET('Forecasts Aggregate'!$C$17,$C43-$C$17,MATCH(BV$16,Ages,1))),\"\")","v":""},{"$f":"IF($C43<>\"\",BW43*EXP(-OFFSET('Forecasts Aggregate'!$C$17,$C43-$C$17,MATCH(BW$16,Ages,1))),\"\")","v":""},{"$f":"IF($C43<>\"\",BX43*EXP(-OFFSET('Forecasts Aggregate'!$C$17,$C43-$C$17,MATCH(BX$16,Ages,1))),\"\")","v":""},{"$f":"IF($C43<>\"\",BY43*EXP(-OFFSET('Forecasts Aggregate'!$C$17,$C43-$C$17,MATCH(BY$16,Ages,1))),\"\")","v":""},{"$f":"IF($C43<>\"\",BZ43*EXP(-OFFSET('Forecasts Aggregate'!$C$17,$C43-$C$17,MATCH(BZ$16,Ages,1))),\"\")","v":""},{"$f":"IF($C43<>\"\",CA43*EXP(-OFFSET('Forecasts Aggregate'!$C$17,$C43-$C$17,MATCH(CA$16,Ages,1))),\"\")","v":""},{"$f":"IF($C43<>\"\",CB43*EXP(-OFFSET('Forecasts Aggregate'!$C$17,$C43-$C$17,MATCH(CB$16,Ages,1))),\"\")","v":""},{"$f":"IF($C43<>\"\",CC43*EXP(-OFFSET('Forecasts Aggregate'!$C$17,$C43-$C$17,MATCH(CC$16,Ages,1))),\"\")","v":""},{"$f":"IF($C43<>\"\",CD43*EXP(-OFFSET('Forecasts Aggregate'!$C$17,$C43-$C$17,MATCH(CD$16,Ages,1))),\"\")","v":""},{"$f":"IF($C43<>\"\",CE43*EXP(-OFFSET('Forecasts Aggregate'!$C$17,$C43-$C$17,MATCH(CE$16,Ages,1))),\"\")","v":""},{"$f":"IF($C43<>\"\",CF43*EXP(-OFFSET('Forecasts Aggregate'!$C$17,$C43-$C$17,MATCH(CF$16,Ages,1))),\"\")","v":""},{"$f":"IF($C43<>\"\",CG43*EXP(-OFFSET('Forecasts Aggregate'!$C$17,$C43-$C$17,MATCH(CG$16,Ages,1))),\"\")","v":""},{"$f":"IF($C43<>\"\",CH43*EXP(-OFFSET('Forecasts Aggregate'!$C$17,$C43-$C$17,MATCH(CH$16,Ages,1))),\"\")","v":""},{"$f":"IF($C43<>\"\",CI43*EXP(-OFFSET('Forecasts Aggregate'!$C$17,$C43-$C$17,MATCH(CI$16,Ages,1))),\"\")","v":""},{"$f":"IF($C43<>\"\",CJ43*EXP(-OFFSET('Forecasts Aggregate'!$C$17,$C43-$C$17,MATCH(CJ$16,Ages,1))),\"\")","v":""},{"$f":"IF($C43<>\"\",CK43*EXP(-OFFSET('Forecasts Aggregate'!$C$17,$C43-$C$17,MATCH(CK$16,Ages,1))),\"\")","v":""},{"$f":"IF($C43<>\"\",CL43*EXP(-OFFSET('Forecasts Aggregate'!$C$17,$C43-$C$17,MATCH(CL$16,Ages,1))),\"\")","v":""},{"$f":"IF($C43<>\"\",CM43*EXP(-OFFSET('Forecasts Aggregate'!$C$17,$C43-$C$17,MATCH(CM$16,Ages,1))),\"\")","v":""},{"$f":"IF($C43<>\"\",CN43*EXP(-OFFSET('Forecasts Aggregate'!$C$17,$C43-$C$17,MATCH(CN$16,Ages,1))),\"\")","v":""},{"$f":"IF($C43<>\"\",CO43*EXP(-OFFSET('Forecasts Aggregate'!$C$17,$C43-$C$17,MATCH(CO$16,Ages,1))),\"\")","v":""},{"$f":"IF($C43<>\"\",CP43*EXP(-OFFSET('Forecasts Aggregate'!$C$17,$C43-$C$17,MATCH(CP$16,Ages,1))),\"\")","v":""},{"$f":"IF($C43<>\"\",CQ43*EXP(-OFFSET('Forecasts Aggregate'!$C$17,$C43-$C$17,MATCH(CQ$16,Ages,1))),\"\")","v":""},{"$f":"IF($C43<>\"\",CR43*EXP(-OFFSET('Forecasts Aggregate'!$C$17,$C43-$C$17,MATCH(CR$16,Ages,1))),\"\")","v":""},{"$f":"IF($C43<>\"\",CS43*EXP(-OFFSET('Forecasts Aggregate'!$C$17,$C43-$C$17,MATCH(CS$16,Ages,1))),\"\")","v":""},{"$f":"IF($C43<>\"\",CT43*EXP(-OFFSET('Forecasts Aggregate'!$C$17,$C43-$C$17,MATCH(CT$16,Ages,1))),\"\")","v":""},{"$f":"IF($C43<>\"\",CU43*EXP(-OFFSET('Forecasts Aggregate'!$C$17,$C43-$C$17,MATCH(CU$16,Ages,1))),\"\")","v":""},{"$f":"IF($C43<>\"\",CV43*EXP(-OFFSET('Forecasts Aggregate'!$C$17,$C43-$C$17,MATCH(CV$16,Ages,1))),\"\")","v":""},{"$f":"IF($C43<>\"\",CW43*EXP(-OFFSET('Forecasts Aggregate'!$C$17,$C43-$C$17,MATCH(CW$16,Ages,1))),\"\")","v":""},{"$f":"IF($C43<>\"\",CX43*EXP(-OFFSET('Forecasts Aggregate'!$C$17,$C43-$C$17,MATCH(CX$16,Ages,1))),\"\")","v":""},{"$f":"IF($C43<>\"\",CY43*EXP(-OFFSET('Forecasts Aggregate'!$C$17,$C43-$C$17,MATCH(CY$16,Ages,1))),\"\")","v":""},{"$f":"IF($C43<>\"\",CZ43*EXP(-OFFSET('Forecasts Aggregate'!$C$17,$C43-$C$17,MATCH(CZ$16,Ages,1))),\"\")","v":""},{"$f":"IF($C43<>\"\",DA43*EXP(-OFFSET('Forecasts Aggregate'!$C$17,$C43-$C$17,MATCH(DA$16,Ages,1))),\"\")","v":""},{"$f":"IF($C43<>\"\",DB43*EXP(-OFFSET('Forecasts Aggregate'!$C$17,$C43-$C$17,MATCH(DB$16,Ages,1))),\"\")","v":""},{"$f":"IF($C43<>\"\",DC43*EXP(-OFFSET('Forecasts Aggregate'!$C$17,$C43-$C$17,MATCH(DC$16,Ages,1))),\"\")","v":""},{"$f":"IF($C43<>\"\",DD43*EXP(-OFFSET('Forecasts Aggregate'!$C$17,$C43-$C$17,MATCH(DD$16,Ages,1))),\"\")","v":""},{"$f":"IF($C43<>\"\",DE43*EXP(-OFFSET('Forecasts Aggregate'!$C$17,$C43-$C$17,MATCH(DE$16,Ages,1))),\"\")","v":""},{"$f":"IF($C43<>\"\",DF43*EXP(-OFFSET('Forecasts Aggregate'!$C$17,$C43-$C$17,MATCH(DF$16,Ages,1))),\"\")","v":""},{"$f":"IF($C43<>\"\",DG43*EXP(-OFFSET('Forecasts Aggregate'!$C$17,$C43-$C$17,MATCH(DG$16,Ages,1))),\"\")","v":""},{"$f":"IF($C43<>\"\",DH43*EXP(-OFFSET('Forecasts Aggregate'!$C$17,$C43-$C$17,MATCH(DH$16,Ages,1))),\"\")","v":""},{"$f":"IF($C43<>\"\",DI43*EXP(-OFFSET('Forecasts Aggregate'!$C$17,$C43-$C$17,MATCH(DI$16,Ages,1))),\"\")","v":""},{"$f":"IF($C43<>\"\",DJ43*EXP(-OFFSET('Forecasts Aggregate'!$C$17,$C43-$C$17,MATCH(DJ$16,Ages,1))),\"\")","v":""},null,"","",""]
[null,null,"","",{"$f":"IF($C44<>\"\",D44*EXP(-OFFSET('Forecasts Aggregate'!$C$17,$C44-$C$17,MATCH(D$16,Ages,1))),\"\")","v":""},{"$f":"IF($C44<>\"\",E44*EXP(-OFFSET('Forecasts Aggregate'!$C$17,$C44-$C$17,MATCH(E$16,Ages,1))),\"\")","v":""},{"$f":"IF($C44<>\"\",F44*EXP(-OFFSET('Forecasts Aggregate'!$C$17,$C44-$C$17,MATCH(F$16,Ages,1))),\"\")","v":""},{"$f":"IF($C44<>\"\",G44*EXP(-OFFSET('Forecasts Aggregate'!$C$17,$C44-$C$17,MATCH(G$16,Ages,1))),\"\")","v":""},{"$f":"IF($C44<>\"\",H44*EXP(-OFFSET('Forecasts Aggregate'!$C$17,$C44-$C$17,MATCH(H$16,Ages,1))),\"\")","v":""},{"$f":"IF($C44<>\"\",I44*EXP(-OFFSET('Forecasts Aggregate'!$C$17,$C44-$C$17,MATCH(I$16,Ages,1))),\"\")","v":""},{"$f":"IF($C44<>\"\",J44*EXP(-OFFSET('Forecasts Aggregate'!$C$17,$C44-$C$17,MATCH(J$16,Ages,1))),\"\")","v":""},{"$f":"IF($C44<>\"\",K44*EXP(-OFFSET('Forecasts Aggregate'!$C$17,$C44-$C$17,MATCH(K$16,Ages,1))),\"\")","v":""},{"$f":"IF($C44<>\"\",L44*EXP(-OFFSET('Forecasts Aggregate'!$C$17,$C44-$C$17,MATCH(L$16,Ages,1))),\"\")","v":""},{"$f":"IF($C44<>\"\",M44*EXP(-OFFSET('Forecasts Aggregate'!$C$17,$C44-$C$17,MATCH(M$16,Ages,1))),\"\")","v":""},{"$f":"IF($C44<>\"\",N44*EXP(-OFFSET('Forecasts Aggregate'!$C$17,$C44-$C$17,MATCH(N$16,Ages,1))),\"\")","v":""},{"$f":"IF($C44<>\"\",O44*EXP(-OFFSET('Forecasts Aggregate'!$C$17,$C44-$C$17,MATCH(O$16,Ages,1))),\"\")","v":""},{"$f":"IF($C44<>\"\",P44*EXP(-OFFSET('Forecasts Aggregate'!$C$17,$C44-$C$17,MATCH(P$16,Ages,1))),\"\")","v":""},{"$f":"IF($C44<>\"\",Q44*EXP(-OFFSET('Forecasts Aggregate'!$C$17,$C44-$C$17,MATCH(Q$16,Ages,1))),\"\")","v":""},{"$f":"IF($C44<>\"\",R44*EXP(-OFFSET('Forecasts Aggregate'!$C$17,$C44-$C$17,MATCH(R$16,Ages,1))),\"\")","v":""},{"$f":"IF($C44<>\"\",S44*EXP(-OFFSET('Forecasts Aggregate'!$C$17,$C44-$C$17,MATCH(S$16,Ages,1))),\"\")","v":""},{"$f":"IF($C44<>\"\",T44*EXP(-OFFSET('Forecasts Aggregate'!$C$17,$C44-$C$17,MATCH(T$16,Ages,1))),\"\")","v":""},{"$f":"IF($C44<>\"\",U44*EXP(-OFFSET('Forecasts Aggregate'!$C$17,$C44-$C$17,MATCH(U$16,Ages,1))),\"\")","v":""},{"$f":"IF($C44<>\"\",V44*EXP(-OFFSET('Forecasts Aggregate'!$C$17,$C44-$C$17,MATCH(V$16,Ages,1))),\"\")","v":""},{"$f":"IF($C44<>\"\",W44*EXP(-OFFSET('Forecasts Aggregate'!$C$17,$C44-$C$17,MATCH(W$16,Ages,1))),\"\")","v":""},{"$f":"IF($C44<>\"\",X44*EXP(-OFFSET('Forecasts Aggregate'!$C$17,$C44-$C$17,MATCH(X$16,Ages,1))),\"\")","v":""},{"$f":"IF($C44<>\"\",Y44*EXP(-OFFSET('Forecasts Aggregate'!$C$17,$C44-$C$17,MATCH(Y$16,Ages,1))),\"\")","v":""},{"$f":"IF($C44<>\"\",Z44*EXP(-OFFSET('Forecasts Aggregate'!$C$17,$C44-$C$17,MATCH(Z$16,Ages,1))),\"\")","v":""},{"$f":"IF($C44<>\"\",AA44*EXP(-OFFSET('Forecasts Aggregate'!$C$17,$C44-$C$17,MATCH(AA$16,Ages,1))),\"\")","v":""},{"$f":"IF($C44<>\"\",AB44*EXP(-OFFSET('Forecasts Aggregate'!$C$17,$C44-$C$17,MATCH(AB$16,Ages,1))),\"\")","v":""},{"$f":"IF($C44<>\"\",AC44*EXP(-OFFSET('Forecasts Aggregate'!$C$17,$C44-$C$17,MATCH(AC$16,Ages,1))),\"\")","v":""},{"$f":"IF($C44<>\"\",AD44*EXP(-OFFSET('Forecasts Aggregate'!$C$17,$C44-$C$17,MATCH(AD$16,Ages,1))),\"\")","v":""},{"$f":"IF($C44<>\"\",AE44*EXP(-OFFSET('Forecasts Aggregate'!$C$17,$C44-$C$17,MATCH(AE$16,Ages,1))),\"\")","v":""},{"$f":"IF($C44<>\"\",AF44*EXP(-OFFSET('Forecasts Aggregate'!$C$17,$C44-$C$17,MATCH(AF$16,Ages,1))),\"\")","v":""},{"$f":"IF($C44<>\"\",AG44*EXP(-OFFSET('Forecasts Aggregate'!$C$17,$C44-$C$17,MATCH(AG$16,Ages,1))),\"\")","v":""},{"$f":"IF($C44<>\"\",AH44*EXP(-OFFSET('Forecasts Aggregate'!$C$17,$C44-$C$17,MATCH(AH$16,Ages,1))),\"\")","v":""},{"$f":"IF($C44<>\"\",AI44*EXP(-OFFSET('Forecasts Aggregate'!$C$17,$C44-$C$17,MATCH(AI$16,Ages,1))),\"\")","v":""},{"$f":"IF($C44<>\"\",AJ44*EXP(-OFFSET('Forecasts Aggregate'!$C$17,$C44-$C$17,MATCH(AJ$16,Ages,1))),\"\")","v":""},{"$f":"IF($C44<>\"\",AK44*EXP(-OFFSET('Forecasts Aggregate'!$C$17,$C44-$C$17,MATCH(AK$16,Ages,1))),\"\")","v":""},{"$f":"IF($C44<>\"\",AL44*EXP(-OFFSET('Forecasts Aggregate'!$C$17,$C44-$C$17,MATCH(AL$16,Ages,1))),\"\")","v":""},{"$f":"IF($C44<>\"\",AM44*EXP(-OFFSET('Forecasts Aggregate'!$C$17,$C44-$C$17,MATCH(AM$16,Ages,1))),\"\")","v":""},{"$f":"IF($C44<>\"\",AN44*EXP(-OFFSET('Forecasts Aggregate'!$C$17,$C44-$C$17,MATCH(AN$16,Ages,1))),\"\")","v":""},{"$f":"IF($C44<>\"\",AO44*EXP(-OFFSET('Forecasts Aggregate'!$C$17,$C44-$C$17,MATCH(AO$16,Ages,1))),\"\")","v":""},{"$f":"IF($C44<>\"\",AP44*EXP(-OFFSET('Forecasts Aggregate'!$C$17,$C44-$C$17,MATCH(AP$16,Ages,1))),\"\")","v":""},{"$f":"IF($C44<>\"\",AQ44*EXP(-OFFSET('Forecasts Aggregate'!$C$17,$C44-$C$17,MATCH(AQ$16,Ages,1))),\"\")","v":""},{"$f":"IF($C44<>\"\",AR44*EXP(-OFFSET('Forecasts Aggregate'!$C$17,$C44-$C$17,MATCH(AR$16,Ages,1))),\"\")","v":""},{"$f":"IF($C44<>\"\",AS44*EXP(-OFFSET('Forecasts Aggregate'!$C$17,$C44-$C$17,MATCH(AS$16,Ages,1))),\"\")","v":""},{"$f":"IF($C44<>\"\",AT44*EXP(-OFFSET('Forecasts Aggregate'!$C$17,$C44-$C$17,MATCH(AT$16,Ages,1))),\"\")","v":""},{"$f":"IF($C44<>\"\",AU44*EXP(-OFFSET('Forecasts Aggregate'!$C$17,$C44-$C$17,MATCH(AU$16,Ages,1))),\"\")","v":""},{"$f":"IF($C44<>\"\",AV44*EXP(-OFFSET('Forecasts Aggregate'!$C$17,$C44-$C$17,MATCH(AV$16,Ages,1))),\"\")","v":""},{"$f":"IF($C44<>\"\",AW44*EXP(-OFFSET('Forecasts Aggregate'!$C$17,$C44-$C$17,MATCH(AW$16,Ages,1))),\"\")","v":""},{"$f":"IF($C44<>\"\",AX44*EXP(-OFFSET('Forecasts Aggregate'!$C$17,$C44-$C$17,MATCH(AX$16,Ages,1))),\"\")","v":""},{"$f":"IF($C44<>\"\",AY44*EXP(-OFFSET('Forecasts Aggregate'!$C$17,$C44-$C$17,MATCH(AY$16,Ages,1))),\"\")","v":""},{"$f":"IF($C44<>\"\",AZ44*EXP(-OFFSET('Forecasts Aggregate'!$C$17,$C44-$C$17,MATCH(AZ$16,Ages,1))),\"\")","v":""},{"$f":"IF($C44<>\"\",BA44*EXP(-OFFSET('Forecasts Aggregate'!$C$17,$C44-$C$17,MATCH(BA$16,Ages,1))),\"\")","v":""},{"$f":"IF($C44<>\"\",BB44*EXP(-OFFSET('Forecasts Aggregate'!$C$17,$C44-$C$17,MATCH(BB$16,Ages,1))),\"\")","v":""},{"$f":"IF($C44<>\"\",BC44*EXP(-OFFSET('Forecasts Aggregate'!$C$17,$C44-$C$17,MATCH(BC$16,Ages,1))),\"\")","v":""},{"$f":"IF($C44<>\"\",BD44*EXP(-OFFSET('Forecasts Aggregate'!$C$17,$C44-$C$17,MATCH(BD$16,Ages,1))),\"\")","v":""},{"$f":"IF($C44<>\"\",BE44*EXP(-OFFSET('Forecasts Aggregate'!$C$17,$C44-$C$17,MATCH(BE$16,Ages,1))),\"\")","v":""},{"$f":"IF($C44<>\"\",BF44*EXP(-OFFSET('Forecasts Aggregate'!$C$17,$C44-$C$17,MATCH(BF$16,Ages,1))),\"\")","v":""},{"$f":"IF($C44<>\"\",BG44*EXP(-OFFSET('Forecasts Aggregate'!$C$17,$C44-$C$17,MATCH(BG$16,Ages,1))),\"\")","v":""},{"$f":"IF($C44<>\"\",BH44*EXP(-OFFSET('Forecasts Aggregate'!$C$17,$C44-$C$17,MATCH(BH$16,Ages,1))),\"\")","v":""},{"$f":"IF($C44<>\"\",BI44*EXP(-OFFSET('Forecasts Aggregate'!$C$17,$C44-$C$17,MATCH(BI$16,Ages,1))),\"\")","v":""},{"$f":"IF($C44<>\"\",BJ44*EXP(-OFFSET('Forecasts Aggregate'!$C$17,$C44-$C$17,MATCH(BJ$16,Ages,1))),\"\")","v":""},{"$f":"IF($C44<>\"\",BK44*EXP(-OFFSET('Forecasts Aggregate'!$C$17,$C44-$C$17,MATCH(BK$16,Ages,1))),\"\")","v":""},{"$f":"IF($C44<>\"\",BL44*EXP(-OFFSET('Forecasts Aggregate'!$C$17,$C44-$C$17,MATCH(BL$16,Ages,1))),\"\")","v":""},{"$f":"IF($C44<>\"\",BM44*EXP(-OFFSET('Forecasts Aggregate'!$C$17,$C44-$C$17,MATCH(BM$16,Ages,1))),\"\")","v":""},{"$f":"IF($C44<>\"\",BN44*EXP(-OFFSET('Forecasts Aggregate'!$C$17,$C44-$C$17,MATCH(BN$16,Ages,1))),\"\")","v":""},{"$f":"IF($C44<>\"\",BO44*EXP(-OFFSET('Forecasts Aggregate'!$C$17,$C44-$C$17,MATCH(BO$16,Ages,1))),\"\")","v":""},{"$f":"IF($C44<>\"\",BP44*EXP(-OFFSET('Forecasts Aggregate'!$C$17,$C44-$C$17,MATCH(BP$16,Ages,1))),\"\")","v":""},{"$f":"IF($C44<>\"\",BQ44*EXP(-OFFSET('Forecasts Aggregate'!$C$17,$C44-$C$17,MATCH(BQ$16,Ages,1))),\"\")","v":""},{"$f":"IF($C44<>\"\",BR44*EXP(-OFFSET('Forecasts Aggregate'!$C$17,$C44-$C$17,MATCH(BR$16,Ages,1))),\"\")","v":""},{"$f":"IF($C44<>\"\",BS44*EXP(-OFFSET('Forecasts Aggregate'!$C$17,$C44-$C$17,MATCH(BS$16,Ages,1))),\"\")","v":""},{"$f":"IF($C44<>\"\",BT44*EXP(-OFFSET('Forecasts Aggregate'!$C$17,$C44-$C$17,MATCH(BT$16,Ages,1))),\"\")","v":""},{"$f":"IF($C44<>\"\",BU44*EXP(-OFFSET('Forecasts Aggregate'!$C$17,$C44-$C$17,MATCH(BU$16,Ages,1))),\"\")","v":""},{"$f":"IF($C44<>\"\",BV44*EXP(-OFFSET('Forecasts Aggregate'!$C$17,$C44-$C$17,MATCH(BV$16,Ages,1))),\"\")","v":""},{"$f":"IF($C44<>\"\",BW44*EXP(-OFFSET('Forecasts Aggregate'!$C$17,$C44-$C$17,MATCH(BW$16,Ages,1))),\"\")","v":""},{"$f":"IF($C44<>\"\",BX44*EXP(-OFFSET('Forecasts Aggregate'!$C$17,$C44-$C$17,MATCH(BX$16,Ages,1))),\"\")","v":""},{"$f":"IF($C44<>\"\",BY44*EXP(-OFFSET('Forecasts Aggregate'!$C$17,$C44-$C$17,MATCH(BY$16,Ages,1))),\"\")","v":""},{"$f":"IF($C44<>\"\",BZ44*EXP(-OFFSET('Forecasts Aggregate'!$C$17,$C44-$C$17,MATCH(BZ$16,Ages,1))),\"\")","v":""},{"$f":"IF($C44<>\"\",CA44*EXP(-OFFSET('Forecasts Aggregate'!$C$17,$C44-$C$17,MATCH(CA$16,Ages,1))),\"\")","v":""},{"$f":"IF($C44<>\"\",CB44*EXP(-OFFSET('Forecasts Aggregate'!$C$17,$C44-$C$17,MATCH(CB$16,Ages,1))),\"\")","v":""},{"$f":"IF($C44<>\"\",CC44*EXP(-OFFSET('Forecasts Aggregate'!$C$17,$C44-$C$17,MATCH(CC$16,Ages,1))),\"\")","v":""},{"$f":"IF($C44<>\"\",CD44*EXP(-OFFSET('Forecasts Aggregate'!$C$17,$C44-$C$17,MATCH(CD$16,Ages,1))),\"\")","v":""},{"$f":"IF($C44<>\"\",CE44*EXP(-OFFSET('Forecasts Aggregate'!$C$17,$C44-$C$17,MATCH(CE$16,Ages,1))),\"\")","v":""},{"$f":"IF($C44<>\"\",CF44*EXP(-OFFSET('Forecasts Aggregate'!$C$17,$C44-$C$17,MATCH(CF$16,Ages,1))),\"\")","v":""},{"$f":"IF($C44<>\"\",CG44*EXP(-OFFSET('Forecasts Aggregate'!$C$17,$C44-$C$17,MATCH(CG$16,Ages,1))),\"\")","v":""},{"$f":"IF($C44<>\"\",CH44*EXP(-OFFSET('Forecasts Aggregate'!$C$17,$C44-$C$17,MATCH(CH$16,Ages,1))),\"\")","v":""},{"$f":"IF($C44<>\"\",CI44*EXP(-OFFSET('Forecasts Aggregate'!$C$17,$C44-$C$17,MATCH(CI$16,Ages,1))),\"\")","v":""},{"$f":"IF($C44<>\"\",CJ44*EXP(-OFFSET('Forecasts Aggregate'!$C$17,$C44-$C$17,MATCH(CJ$16,Ages,1))),\"\")","v":""},{"$f":"IF($C44<>\"\",CK44*EXP(-OFFSET('Forecasts Aggregate'!$C$17,$C44-$C$17,MATCH(CK$16,Ages,1))),\"\")","v":""},{"$f":"IF($C44<>\"\",CL44*EXP(-OFFSET('Forecasts Aggregate'!$C$17,$C44-$C$17,MATCH(CL$16,Ages,1))),\"\")","v":""},{"$f":"IF($C44<>\"\",CM44*EXP(-OFFSET('Forecasts Aggregate'!$C$17,$C44-$C$17,MATCH(CM$16,Ages,1))),\"\")","v":""},{"$f":"IF($C44<>\"\",CN44*EXP(-OFFSET('Forecasts Aggregate'!$C$17,$C44-$C$17,MATCH(CN$16,Ages,1))),\"\")","v":""},{"$f":"IF($C44<>\"\",CO44*EXP(-OFFSET('Forecasts Aggregate'!$C$17,$C44-$C$17,MATCH(CO$16,Ages,1))),\"\")","v":""},{"$f":"IF($C44<>\"\",CP44*EXP(-OFFSET('Forecasts Aggregate'!$C$17,$C44-$C$17,MATCH(CP$16,Ages,1))),\"\")","v":""},{"$f":"IF($C44<>\"\",CQ44*EXP(-OFFSET('Forecasts Aggregate'!$C$17,$C44-$C$17,MATCH(CQ$16,Ages,1))),\"\")","v":""},{"$f":"IF($C44<>\"\",CR44*EXP(-OFFSET('Forecasts Aggregate'!$C$17,$C44-$C$17,MATCH(CR$16,Ages,1))),\"\")","v":""},{"$f":"IF($C44<>\"\",CS44*EXP(-OFFSET('Forecasts Aggregate'!$C$17,$C44-$C$17,MATCH(CS$16,Ages,1))),\"\")","v":""},{"$f":"IF($C44<>\"\",CT44*EXP(-OFFSET('Forecasts Aggregate'!$C$17,$C44-$C$17,MATCH(CT$16,Ages,1))),\"\")","v":""},{"$f":"IF($C44<>\"\",CU44*EXP(-OFFSET('Forecasts Aggregate'!$C$17,$C44-$C$17,MATCH(CU$16,Ages,1))),\"\")","v":""},{"$f":"IF($C44<>\"\",CV44*EXP(-OFFSET('Forecasts Aggregate'!$C$17,$C44-$C$17,MATCH(CV$16,Ages,1))),\"\")","v":""},{"$f":"IF($C44<>\"\",CW44*EXP(-OFFSET('Forecasts Aggregate'!$C$17,$C44-$C$17,MATCH(CW$16,Ages,1))),\"\")","v":""},{"$f":"IF($C44<>\"\",CX44*EXP(-OFFSET('Forecasts Aggregate'!$C$17,$C44-$C$17,MATCH(CX$16,Ages,1))),\"\")","v":""},{"$f":"IF($C44<>\"\",CY44*EXP(-OFFSET('Forecasts Aggregate'!$C$17,$C44-$C$17,MATCH(CY$16,Ages,1))),\"\")","v":""},{"$f":"IF($C44<>\"\",CZ44*EXP(-OFFSET('Forecasts Aggregate'!$C$17,$C44-$C$17,MATCH(CZ$16,Ages,1))),\"\")","v":""},{"$f":"IF($C44<>\"\",DA44*EXP(-OFFSET('Forecasts Aggregate'!$C$17,$C44-$C$17,MATCH(DA$16,Ages,1))),\"\")","v":""},{"$f":"IF($C44<>\"\",DB44*EXP(-OFFSET('Forecasts Aggregate'!$C$17,$C44-$C$17,MATCH(DB$16,Ages,1))),\"\")","v":""},{"$f":"IF($C44<>\"\",DC44*EXP(-OFFSET('Forecasts Aggregate'!$C$17,$C44-$C$17,MATCH(DC$16,Ages,1))),\"\")","v":""},{"$f":"IF($C44<>\"\",DD44*EXP(-OFFSET('Forecasts Aggregate'!$C$17,$C44-$C$17,MATCH(DD$16,Ages,1))),\"\")","v":""},{"$f":"IF($C44<>\"\",DE44*EXP(-OFFSET('Forecasts Aggregate'!$C$17,$C44-$C$17,MATCH(DE$16,Ages,1))),\"\")","v":""},{"$f":"IF($C44<>\"\",DF44*EXP(-OFFSET('Forecasts Aggregate'!$C$17,$C44-$C$17,MATCH(DF$16,Ages,1))),\"\")","v":""},{"$f":"IF($C44<>\"\",DG44*EXP(-OFFSET('Forecasts Aggregate'!$C$17,$C44-$C$17,MATCH(DG$16,Ages,1))),\"\")","v":""},{"$f":"IF($C44<>\"\",DH44*EXP(-OFFSET('Forecasts Aggregate'!$C$17,$C44-$C$17,MATCH(DH$16,Ages,1))),\"\")","v":""},{"$f":"IF($C44<>\"\",DI44*EXP(-OFFSET('Forecasts Aggregate'!$C$17,$C44-$C$17,MATCH(DI$16,Ages,1))),\"\")","v":""},{"$f":"IF($C44<>\"\",DJ44*EXP(-OFFSET('Forecasts Aggregate'!$C$17,$C44-$C$17,MATCH(DJ$16,Ages,1))),\"\")","v":""},null,"","",""]
[null,null,"","",{"$f":"IF($C45<>\"\",D45*EXP(-OFFSET('Forecasts Aggregate'!$C$17,$C45-$C$17,MATCH(D$16,Ages,1))),\"\")","v":""},{"$f":"IF($C45<>\"\",E45*EXP(-OFFSET('Forecasts Aggregate'!$C$17,$C45-$C$17,MATCH(E$16,Ages,1))),\"\")","v":""},{"$f":"IF($C45<>\"\",F45*EXP(-OFFSET('Forecasts Aggregate'!$C$17,$C45-$C$17,MATCH(F$16,Ages,1))),\"\")","v":""},{"$f":"IF($C45<>\"\",G45*EXP(-OFFSET('Forecasts Aggregate'!$C$17,$C45-$C$17,MATCH(G$16,Ages,1))),\"\")","v":""},{"$f":"IF($C45<>\"\",H45*EXP(-OFFSET('Forecasts Aggregate'!$C$17,$C45-$C$17,MATCH(H$16,Ages,1))),\"\")","v":""},{"$f":"IF($C45<>\"\",I45*EXP(-OFFSET('Forecasts Aggregate'!$C$17,$C45-$C$17,MATCH(I$16,Ages,1))),\"\")","v":""},{"$f":"IF($C45<>\"\",J45*EXP(-OFFSET('Forecasts Aggregate'!$C$17,$C45-$C$17,MATCH(J$16,Ages,1))),\"\")","v":""},{"$f":"IF($C45<>\"\",K45*EXP(-OFFSET('Forecasts Aggregate'!$C$17,$C45-$C$17,MATCH(K$16,Ages,1))),\"\")","v":""},{"$f":"IF($C45<>\"\",L45*EXP(-OFFSET('Forecasts Aggregate'!$C$17,$C45-$C$17,MATCH(L$16,Ages,1))),\"\")","v":""},{"$f":"IF($C45<>\"\",M45*EXP(-OFFSET('Forecasts Aggregate'!$C$17,$C45-$C$17,MATCH(M$16,Ages,1))),\"\")","v":""},{"$f":"IF($C45<>\"\",N45*EXP(-OFFSET('Forecasts Aggregate'!$C$17,$C45-$C$17,MATCH(N$16,Ages,1))),\"\")","v":""},{"$f":"IF($C45<>\"\",O45*EXP(-OFFSET('Forecasts Aggregate'!$C$17,$C45-$C$17,MATCH(O$16,Ages,1))),\"\")","v":""},{"$f":"IF($C45<>\"\",P45*EXP(-OFFSET('Forecasts Aggregate'!$C$17,$C45-$C$17,MATCH(P$16,Ages,1))),\"\")","v":""},{"$f":"IF($C45<>\"\",Q45*EXP(-OFFSET('Forecasts Aggregate'!$C$17,$C45-$C$17,MATCH(Q$16,Ages,1))),\"\")","v":""},{"$f":"IF($C45<>\"\",R45*EXP(-OFFSET('Forecasts Aggregate'!$C$17,$C45-$C$17,MATCH(R$16,Ages,1))),\"\")","v":""},{"$f":"IF($C45<>\"\",S45*EXP(-OFFSET('Forecasts Aggregate'!$C$17,$C45-$C$17,MATCH(S$16,Ages,1))),\"\")","v":""},{"$f":"IF($C45<>\"\",T45*EXP(-OFFSET('Forecasts Aggregate'!$C$17,$C45-$C$17,MATCH(T$16,Ages,1))),\"\")","v":""},{"$f":"IF($C45<>\"\",U45*EXP(-OFFSET('Forecasts Aggregate'!$C$17,$C45-$C$17,MATCH(U$16,Ages,1))),\"\")","v":""},{"$f":"IF($C45<>\"\",V45*EXP(-OFFSET('Forecasts Aggregate'!$C$17,$C45-$C$17,MATCH(V$16,Ages,1))),\"\")","v":""},{"$f":"IF($C45<>\"\",W45*EXP(-OFFSET('Forecasts Aggregate'!$C$17,$C45-$C$17,MATCH(W$16,Ages,1))),\"\")","v":""},{"$f":"IF($C45<>\"\",X45*EXP(-OFFSET('Forecasts Aggregate'!$C$17,$C45-$C$17,MATCH(X$16,Ages,1))),\"\")","v":""},{"$f":"IF($C45<>\"\",Y45*EXP(-OFFSET('Forecasts Aggregate'!$C$17,$C45-$C$17,MATCH(Y$16,Ages,1))),\"\")","v":""},{"$f":"IF($C45<>\"\",Z45*EXP(-OFFSET('Forecasts Aggregate'!$C$17,$C45-$C$17,MATCH(Z$16,Ages,1))),\"\")","v":""},{"$f":"IF($C45<>\"\",AA45*EXP(-OFFSET('Forecasts Aggregate'!$C$17,$C45-$C$17,MATCH(AA$16,Ages,1))),\"\")","v":""},{"$f":"IF($C45<>\"\",AB45*EXP(-OFFSET('Forecasts Aggregate'!$C$17,$C45-$C$17,MATCH(AB$16,Ages,1))),\"\")","v":""},{"$f":"IF($C45<>\"\",AC45*EXP(-OFFSET('Forecasts Aggregate'!$C$17,$C45-$C$17,MATCH(AC$16,Ages,1))),\"\")","v":""},{"$f":"IF($C45<>\"\",AD45*EXP(-OFFSET('Forecasts Aggregate'!$C$17,$C45-$C$17,MATCH(AD$16,Ages,1))),\"\")","v":""},{"$f":"IF($C45<>\"\",AE45*EXP(-OFFSET('Forecasts Aggregate'!$C$17,$C45-$C$17,MATCH(AE$16,Ages,1))),\"\")","v":""},{"$f":"IF($C45<>\"\",AF45*EXP(-OFFSET('Forecasts Aggregate'!$C$17,$C45-$C$17,MATCH(AF$16,Ages,1))),\"\")","v":""},{"$f":"IF($C45<>\"\",AG45*EXP(-OFFSET('Forecasts Aggregate'!$C$17,$C45-$C$17,MATCH(AG$16,Ages,1))),\"\")","v":""},{"$f":"IF($C45<>\"\",AH45*EXP(-OFFSET('Forecasts Aggregate'!$C$17,$C45-$C$17,MATCH(AH$16,Ages,1))),\"\")","v":""},{"$f":"IF($C45<>\"\",AI45*EXP(-OFFSET('Forecasts Aggregate'!$C$17,$C45-$C$17,MATCH(AI$16,Ages,1))),\"\")","v":""},{"$f":"IF($C45<>\"\",AJ45*EXP(-OFFSET('Forecasts Aggregate'!$C$17,$C45-$C$17,MATCH(AJ$16,Ages,1))),\"\")","v":""},{"$f":"IF($C45<>\"\",AK45*EXP(-OFFSET('Forecasts Aggregate'!$C$17,$C45-$C$17,MATCH(AK$16,Ages,1))),\"\")","v":""},{"$f":"IF($C45<>\"\",AL45*EXP(-OFFSET('Forecasts Aggregate'!$C$17,$C45-$C$17,MATCH(AL$16,Ages,1))),\"\")","v":""},{"$f":"IF($C45<>\"\",AM45*EXP(-OFFSET('Forecasts Aggregate'!$C$17,$C45-$C$17,MATCH(AM$16,Ages,1))),\"\")","v":""},{"$f":"IF($C45<>\"\",AN45*EXP(-OFFSET('Forecasts Aggregate'!$C$17,$C45-$C$17,MATCH(AN$16,Ages,1))),\"\")","v":""},{"$f":"IF($C45<>\"\",AO45*EXP(-OFFSET('Forecasts Aggregate'!$C$17,$C45-$C$17,MATCH(AO$16,Ages,1))),\"\")","v":""},{"$f":"IF($C45<>\"\",AP45*EXP(-OFFSET('Forecasts Aggregate'!$C$17,$C45-$C$17,MATCH(AP$16,Ages,1))),\"\")","v":""},{"$f":"IF($C45<>\"\",AQ45*EXP(-OFFSET('Forecasts Aggregate'!$C$17,$C45-$C$17,MATCH(AQ$16,Ages,1))),\"\")","v":""},{"$f":"IF($C45<>\"\",AR45*EXP(-OFFSET('Forecasts Aggregate'!$C$17,$C45-$C$17,MATCH(AR$16,Ages,1))),\"\")","v":""},{"$f":"IF($C45<>\"\",AS45*EXP(-OFFSET('Forecasts Aggregate'!$C$17,$C45-$C$17,MATCH(AS$16,Ages,1))),\"\")","v":""},{"$f":"IF($C45<>\"\",AT45*EXP(-OFFSET('Forecasts Aggregate'!$C$17,$C45-$C$17,MATCH(AT$16,Ages,1))),\"\")","v":""},{"$f":"IF($C45<>\"\",AU45*EXP(-OFFSET('Forecasts Aggregate'!$C$17,$C45-$C$17,MATCH(AU$16,Ages,1))),\"\")","v":""},{"$f":"IF($C45<>\"\",AV45*EXP(-OFFSET('Forecasts Aggregate'!$C$17,$C45-$C$17,MATCH(AV$16,Ages,1))),\"\")","v":""},{"$f":"IF($C45<>\"\",AW45*EXP(-OFFSET('Forecasts Aggregate'!$C$17,$C45-$C$17,MATCH(AW$16,Ages,1))),\"\")","v":""},{"$f":"IF($C45<>\"\",AX45*EXP(-OFFSET('Forecasts Aggregate'!$C$17,$C45-$C$17,MATCH(AX$16,Ages,1))),\"\")","v":""},{"$f":"IF($C45<>\"\",AY45*EXP(-OFFSET('Forecasts Aggregate'!$C$17,$C45-$C$17,MATCH(AY$16,Ages,1))),\"\")","v":""},{"$f":"IF($C45<>\"\",AZ45*EXP(-OFFSET('Forecasts Aggregate'!$C$17,$C45-$C$17,MATCH(AZ$16,Ages,1))),\"\")","v":""},{"$f":"IF($C45<>\"\",BA45*EXP(-OFFSET('Forecasts Aggregate'!$C$17,$C45-$C$17,MATCH(BA$16,Ages,1))),\"\")","v":""},{"$f":"IF($C45<>\"\",BB45*EXP(-OFFSET('Forecasts Aggregate'!$C$17,$C45-$C$17,MATCH(BB$16,Ages,1))),\"\")","v":""},{"$f":"IF($C45<>\"\",BC45*EXP(-OFFSET('Forecasts Aggregate'!$C$17,$C45-$C$17,MATCH(BC$16,Ages,1))),\"\")","v":""},{"$f":"IF($C45<>\"\",BD45*EXP(-OFFSET('Forecasts Aggregate'!$C$17,$C45-$C$17,MATCH(BD$16,Ages,1))),\"\")","v":""},{"$f":"IF($C45<>\"\",BE45*EXP(-OFFSET('Forecasts Aggregate'!$C$17,$C45-$C$17,MATCH(BE$16,Ages,1))),\"\")","v":""},{"$f":"IF($C45<>\"\",BF45*EXP(-OFFSET('Forecasts Aggregate'!$C$17,$C45-$C$17,MATCH(BF$16,Ages,1))),\"\")","v":""},{"$f":"IF($C45<>\"\",BG45*EXP(-OFFSET('Forecasts Aggregate'!$C$17,$C45-$C$17,MATCH(BG$16,Ages,1))),\"\")","v":""},{"$f":"IF($C45<>\"\",BH45*EXP(-OFFSET('Forecasts Aggregate'!$C$17,$C45-$C$17,MATCH(BH$16,Ages,1))),\"\")","v":""},{"$f":"IF($C45<>\"\",BI45*EXP(-OFFSET('Forecasts Aggregate'!$C$17,$C45-$C$17,MATCH(BI$16,Ages,1))),\"\")","v":""},{"$f":"IF($C45<>\"\",BJ45*EXP(-OFFSET('Forecasts Aggregate'!$C$17,$C45-$C$17,MATCH(BJ$16,Ages,1))),\"\")","v":""},{"$f":"IF($C45<>\"\",BK45*EXP(-OFFSET('Forecasts Aggregate'!$C$17,$C45-$C$17,MATCH(BK$16,Ages,1))),\"\")","v":""},{"$f":"IF($C45<>\"\",BL45*EXP(-OFFSET('Forecasts Aggregate'!$C$17,$C45-$C$17,MATCH(BL$16,Ages,1))),\"\")","v":""},{"$f":"IF($C45<>\"\",BM45*EXP(-OFFSET('Forecasts Aggregate'!$C$17,$C45-$C$17,MATCH(BM$16,Ages,1))),\"\")","v":""},{"$f":"IF($C45<>\"\",BN45*EXP(-OFFSET('Forecasts Aggregate'!$C$17,$C45-$C$17,MATCH(BN$16,Ages,1))),\"\")","v":""},{"$f":"IF($C45<>\"\",BO45*EXP(-OFFSET('Forecasts Aggregate'!$C$17,$C45-$C$17,MATCH(BO$16,Ages,1))),\"\")","v":""},{"$f":"IF($C45<>\"\",BP45*EXP(-OFFSET('Forecasts Aggregate'!$C$17,$C45-$C$17,MATCH(BP$16,Ages,1))),\"\")","v":""},{"$f":"IF($C45<>\"\",BQ45*EXP(-OFFSET('Forecasts Aggregate'!$C$17,$C45-$C$17,MATCH(BQ$16,Ages,1))),\"\")","v":""},{"$f":"IF($C45<>\"\",BR45*EXP(-OFFSET('Forecasts Aggregate'!$C$17,$C45-$C$17,MATCH(BR$16,Ages,1))),\"\")","v":""},{"$f":"IF($C45<>\"\",BS45*EXP(-OFFSET('Forecasts Aggregate'!$C$17,$C45-$C$17,MATCH(BS$16,Ages,1))),\"\")","v":""},{"$f":"IF($C45<>\"\",BT45*EXP(-OFFSET('Forecasts Aggregate'!$C$17,$C45-$C$17,MATCH(BT$16,Ages,1))),\"\")","v":""},{"$f":"IF($C45<>\"\",BU45*EXP(-OFFSET('Forecasts Aggregate'!$C$17,$C45-$C$17,MATCH(BU$16,Ages,1))),\"\")","v":""},{"$f":"IF($C45<>\"\",BV45*EXP(-OFFSET('Forecasts Aggregate'!$C$17,$C45-$C$17,MATCH(BV$16,Ages,1))),\"\")","v":""},{"$f":"IF($C45<>\"\",BW45*EXP(-OFFSET('Forecasts Aggregate'!$C$17,$C45-$C$17,MATCH(BW$16,Ages,1))),\"\")","v":""},{"$f":"IF($C45<>\"\",BX45*EXP(-OFFSET('Forecasts Aggregate'!$C$17,$C45-$C$17,MATCH(BX$16,Ages,1))),\"\")","v":""},{"$f":"IF($C45<>\"\",BY45*EXP(-OFFSET('Forecasts Aggregate'!$C$17,$C45-$C$17,MATCH(BY$16,Ages,1))),\"\")","v":""},{"$f":"IF($C45<>\"\",BZ45*EXP(-OFFSET('Forecasts Aggregate'!$C$17,$C45-$C$17,MATCH(BZ$16,Ages,1))),\"\")","v":""},{"$f":"IF($C45<>\"\",CA45*EXP(-OFFSET('Forecasts Aggregate'!$C$17,$C45-$C$17,MATCH(CA$16,Ages,1))),\"\")","v":""},{"$f":"IF($C45<>\"\",CB45*EXP(-OFFSET('Forecasts Aggregate'!$C$17,$C45-$C$17,MATCH(CB$16,Ages,1))),\"\")","v":""},{"$f":"IF($C45<>\"\",CC45*EXP(-OFFSET('Forecasts Aggregate'!$C$17,$C45-$C$17,MATCH(CC$16,Ages,1))),\"\")","v":""},{"$f":"IF($C45<>\"\",CD45*EXP(-OFFSET('Forecasts Aggregate'!$C$17,$C45-$C$17,MATCH(CD$16,Ages,1))),\"\")","v":""},{"$f":"IF($C45<>\"\",CE45*EXP(-OFFSET('Forecasts Aggregate'!$C$17,$C45-$C$17,MATCH(CE$16,Ages,1))),\"\")","v":""},{"$f":"IF($C45<>\"\",CF45*EXP(-OFFSET('Forecasts Aggregate'!$C$17,$C45-$C$17,MATCH(CF$16,Ages,1))),\"\")","v":""},{"$f":"IF($C45<>\"\",CG45*EXP(-OFFSET('Forecasts Aggregate'!$C$17,$C45-$C$17,MATCH(CG$16,Ages,1))),\"\")","v":""},{"$f":"IF($C45<>\"\",CH45*EXP(-OFFSET('Forecasts Aggregate'!$C$17,$C45-$C$17,MATCH(CH$16,Ages,1))),\"\")","v":""},{"$f":"IF($C45<>\"\",CI45*EXP(-OFFSET('Forecasts Aggregate'!$C$17,$C45-$C$17,MATCH(CI$16,Ages,1))),\"\")","v":""},{"$f":"IF($C45<>\"\",CJ45*EXP(-OFFSET('Forecasts Aggregate'!$C$17,$C45-$C$17,MATCH(CJ$16,Ages,1))),\"\")","v":""},{"$f":"IF($C45<>\"\",CK45*EXP(-OFFSET('Forecasts Aggregate'!$C$17,$C45-$C$17,MATCH(CK$16,Ages,1))),\"\")","v":""},{"$f":"IF($C45<>\"\",CL45*EXP(-OFFSET('Forecasts Aggregate'!$C$17,$C45-$C$17,MATCH(CL$16,Ages,1))),\"\")","v":""},{"$f":"IF($C45<>\"\",CM45*EXP(-OFFSET('Forecasts Aggregate'!$C$17,$C45-$C$17,MATCH(CM$16,Ages,1))),\"\")","v":""},{"$f":"IF($C45<>\"\",CN45*EXP(-OFFSET('Forecasts Aggregate'!$C$17,$C45-$C$17,MATCH(CN$16,Ages,1))),\"\")","v":""},{"$f":"IF($C45<>\"\",CO45*EXP(-OFFSET('Forecasts Aggregate'!$C$17,$C45-$C$17,MATCH(CO$16,Ages,1))),\"\")","v":""},{"$f":"IF($C45<>\"\",CP45*EXP(-OFFSET('Forecasts Aggregate'!$C$17,$C45-$C$17,MATCH(CP$16,Ages,1))),\"\")","v":""},{"$f":"IF($C45<>\"\",CQ45*EXP(-OFFSET('Forecasts Aggregate'!$C$17,$C45-$C$17,MATCH(CQ$16,Ages,1))),\"\")","v":""},{"$f":"IF($C45<>\"\",CR45*EXP(-OFFSET('Forecasts Aggregate'!$C$17,$C45-$C$17,MATCH(CR$16,Ages,1))),\"\")","v":""},{"$f":"IF($C45<>\"\",CS45*EXP(-OFFSET('Forecasts Aggregate'!$C$17,$C45-$C$17,MATCH(CS$16,Ages,1))),\"\")","v":""},{"$f":"IF($C45<>\"\",CT45*EXP(-OFFSET('Forecasts Aggregate'!$C$17,$C45-$C$17,MATCH(CT$16,Ages,1))),\"\")","v":""},{"$f":"IF($C45<>\"\",CU45*EXP(-OFFSET('Forecasts Aggregate'!$C$17,$C45-$C$17,MATCH(CU$16,Ages,1))),\"\")","v":""},{"$f":"IF($C45<>\"\",CV45*EXP(-OFFSET('Forecasts Aggregate'!$C$17,$C45-$C$17,MATCH(CV$16,Ages,1))),\"\")","v":""},{"$f":"IF($C45<>\"\",CW45*EXP(-OFFSET('Forecasts Aggregate'!$C$17,$C45-$C$17,MATCH(CW$16,Ages,1))),\"\")","v":""},{"$f":"IF($C45<>\"\",CX45*EXP(-OFFSET('Forecasts Aggregate'!$C$17,$C45-$C$17,MATCH(CX$16,Ages,1))),\"\")","v":""},{"$f":"IF($C45<>\"\",CY45*EXP(-OFFSET('Forecasts Aggregate'!$C$17,$C45-$C$17,MATCH(CY$16,Ages,1))),\"\")","v":""},{"$f":"IF($C45<>\"\",CZ45*EXP(-OFFSET('Forecasts Aggregate'!$C$17,$C45-$C$17,MATCH(CZ$16,Ages,1))),\"\")","v":""},{"$f":"IF($C45<>\"\",DA45*EXP(-OFFSET('Forecasts Aggregate'!$C$17,$C45-$C$17,MATCH(DA$16,Ages,1))),\"\")","v":""},{"$f":"IF($C45<>\"\",DB45*EXP(-OFFSET('Forecasts Aggregate'!$C$17,$C45-$C$17,MATCH(DB$16,Ages,1))),\"\")","v":""},{"$f":"IF($C45<>\"\",DC45*EXP(-OFFSET('Forecasts Aggregate'!$C$17,$C45-$C$17,MATCH(DC$16,Ages,1))),\"\")","v":""},{"$f":"IF($C45<>\"\",DD45*EXP(-OFFSET('Forecasts Aggregate'!$C$17,$C45-$C$17,MATCH(DD$16,Ages,1))),\"\")","v":""},{"$f":"IF($C45<>\"\",DE45*EXP(-OFFSET('Forecasts Aggregate'!$C$17,$C45-$C$17,MATCH(DE$16,Ages,1))),\"\")","v":""},{"$f":"IF($C45<>\"\",DF45*EXP(-OFFSET('Forecasts Aggregate'!$C$17,$C45-$C$17,MATCH(DF$16,Ages,1))),\"\")","v":""},{"$f":"IF($C45<>\"\",DG45*EXP(-OFFSET('Forecasts Aggregate'!$C$17,$C45-$C$17,MATCH(DG$16,Ages,1))),\"\")","v":""},{"$f":"IF($C45<>\"\",DH45*EXP(-OFFSET('Forecasts Aggregate'!$C$17,$C45-$C$17,MATCH(DH$16,Ages,1))),\"\")","v":""},{"$f":"IF($C45<>\"\",DI45*EXP(-OFFSET('Forecasts Aggregate'!$C$17,$C45-$C$17,MATCH(DI$16,Ages,1))),\"\")","v":""},{"$f":"IF($C45<>\"\",DJ45*EXP(-OFFSET('Forecasts Aggregate'!$C$17,$C45-$C$17,MATCH(DJ$16,Ages,1))),\"\")","v":""},null,"","",""]
[null,null,"","",{"$f":"IF($C46<>\"\",D46*EXP(-OFFSET('Forecasts Aggregate'!$C$17,$C46-$C$17,MATCH(D$16,Ages,1))),\"\")","v":""},{"$f":"IF($C46<>\"\",E46*EXP(-OFFSET('Forecasts Aggregate'!$C$17,$C46-$C$17,MATCH(E$16,Ages,1))),\"\")","v":""},{"$f":"IF($C46<>\"\",F46*EXP(-OFFSET('Forecasts Aggregate'!$C$17,$C46-$C$17,MATCH(F$16,Ages,1))),\"\")","v":""},{"$f":"IF($C46<>\"\",G46*EXP(-OFFSET('Forecasts Aggregate'!$C$17,$C46-$C$17,MATCH(G$16,Ages,1))),\"\")","v":""},{"$f":"IF($C46<>\"\",H46*EXP(-OFFSET('Forecasts Aggregate'!$C$17,$C46-$C$17,MATCH(H$16,Ages,1))),\"\")","v":""},{"$f":"IF($C46<>\"\",I46*EXP(-OFFSET('Forecasts Aggregate'!$C$17,$C46-$C$17,MATCH(I$16,Ages,1))),\"\")","v":""},{"$f":"IF($C46<>\"\",J46*EXP(-OFFSET('Forecasts Aggregate'!$C$17,$C46-$C$17,MATCH(J$16,Ages,1))),\"\")","v":""},{"$f":"IF($C46<>\"\",K46*EXP(-OFFSET('Forecasts Aggregate'!$C$17,$C46-$C$17,MATCH(K$16,Ages,1))),\"\")","v":""},{"$f":"IF($C46<>\"\",L46*EXP(-OFFSET('Forecasts Aggregate'!$C$17,$C46-$C$17,MATCH(L$16,Ages,1))),\"\")","v":""},{"$f":"IF($C46<>\"\",M46*EXP(-OFFSET('Forecasts Aggregate'!$C$17,$C46-$C$17,MATCH(M$16,Ages,1))),\"\")","v":""},{"$f":"IF($C46<>\"\",N46*EXP(-OFFSET('Forecasts Aggregate'!$C$17,$C46-$C$17,MATCH(N$16,Ages,1))),\"\")","v":""},{"$f":"IF($C46<>\"\",O46*EXP(-OFFSET('Forecasts Aggregate'!$C$17,$C46-$C$17,MATCH(O$16,Ages,1))),\"\")","v":""},{"$f":"IF($C46<>\"\",P46*EXP(-OFFSET('Forecasts Aggregate'!$C$17,$C46-$C$17,MATCH(P$16,Ages,1))),\"\")","v":""},{"$f":"IF($C46<>\"\",Q46*EXP(-OFFSET('Forecasts Aggregate'!$C$17,$C46-$C$17,MATCH(Q$16,Ages,1))),\"\")","v":""},{"$f":"IF($C46<>\"\",R46*EXP(-OFFSET('Forecasts Aggregate'!$C$17,$C46-$C$17,MATCH(R$16,Ages,1))),\"\")","v":""},{"$f":"IF($C46<>\"\",S46*EXP(-OFFSET('Forecasts Aggregate'!$C$17,$C46-$C$17,MATCH(S$16,Ages,1))),\"\")","v":""},{"$f":"IF($C46<>\"\",T46*EXP(-OFFSET('Forecasts Aggregate'!$C$17,$C46-$C$17,MATCH(T$16,Ages,1))),\"\")","v":""},{"$f":"IF($C46<>\"\",U46*EXP(-OFFSET('Forecasts Aggregate'!$C$17,$C46-$C$17,MATCH(U$16,Ages,1))),\"\")","v":""},{"$f":"IF($C46<>\"\",V46*EXP(-OFFSET('Forecasts Aggregate'!$C$17,$C46-$C$17,MATCH(V$16,Ages,1))),\"\")","v":""},{"$f":"IF($C46<>\"\",W46*EXP(-OFFSET('Forecasts Aggregate'!$C$17,$C46-$C$17,MATCH(W$16,Ages,1))),\"\")","v":""},{"$f":"IF($C46<>\"\",X46*EXP(-OFFSET('Forecasts Aggregate'!$C$17,$C46-$C$17,MATCH(X$16,Ages,1))),\"\")","v":""},{"$f":"IF($C46<>\"\",Y46*EXP(-OFFSET('Forecasts Aggregate'!$C$17,$C46-$C$17,MATCH(Y$16,Ages,1))),\"\")","v":""},{"$f":"IF($C46<>\"\",Z46*EXP(-OFFSET('Forecasts Aggregate'!$C$17,$C46-$C$17,MATCH(Z$16,Ages,1))),\"\")","v":""},{"$f":"IF($C46<>\"\",AA46*EXP(-OFFSET('Forecasts Aggregate'!$C$17,$C46-$C$17,MATCH(AA$16,Ages,1))),\"\")","v":""},{"$f":"IF($C46<>\"\",AB46*EXP(-OFFSET('Forecasts Aggregate'!$C$17,$C46-$C$17,MATCH(AB$16,Ages,1))),\"\")","v":""},{"$f":"IF($C46<>\"\",AC46*EXP(-OFFSET('Forecasts Aggregate'!$C$17,$C46-$C$17,MATCH(AC$16,Ages,1))),\"\")","v":""},{"$f":"IF($C46<>\"\",AD46*EXP(-OFFSET('Forecasts Aggregate'!$C$17,$C46-$C$17,MATCH(AD$16,Ages,1))),\"\")","v":""},{"$f":"IF($C46<>\"\",AE46*EXP(-OFFSET('Forecasts Aggregate'!$C$17,$C46-$C$17,MATCH(AE$16,Ages,1))),\"\")","v":""},{"$f":"IF($C46<>\"\",AF46*EXP(-OFFSET('Forecasts Aggregate'!$C$17,$C46-$C$17,MATCH(AF$16,Ages,1))),\"\")","v":""},{"$f":"IF($C46<>\"\",AG46*EXP(-OFFSET('Forecasts Aggregate'!$C$17,$C46-$C$17,MATCH(AG$16,Ages,1))),\"\")","v":""},{"$f":"IF($C46<>\"\",AH46*EXP(-OFFSET('Forecasts Aggregate'!$C$17,$C46-$C$17,MATCH(AH$16,Ages,1))),\"\")","v":""},{"$f":"IF($C46<>\"\",AI46*EXP(-OFFSET('Forecasts Aggregate'!$C$17,$C46-$C$17,MATCH(AI$16,Ages,1))),\"\")","v":""},{"$f":"IF($C46<>\"\",AJ46*EXP(-OFFSET('Forecasts Aggregate'!$C$17,$C46-$C$17,MATCH(AJ$16,Ages,1))),\"\")","v":""},{"$f":"IF($C46<>\"\",AK46*EXP(-OFFSET('Forecasts Aggregate'!$C$17,$C46-$C$17,MATCH(AK$16,Ages,1))),\"\")","v":""},{"$f":"IF($C46<>\"\",AL46*EXP(-OFFSET('Forecasts Aggregate'!$C$17,$C46-$C$17,MATCH(AL$16,Ages,1))),\"\")","v":""},{"$f":"IF($C46<>\"\",AM46*EXP(-OFFSET('Forecasts Aggregate'!$C$17,$C46-$C$17,MATCH(AM$16,Ages,1))),\"\")","v":""},{"$f":"IF($C46<>\"\",AN46*EXP(-OFFSET('Forecasts Aggregate'!$C$17,$C46-$C$17,MATCH(AN$16,Ages,1))),\"\")","v":""},{"$f":"IF($C46<>\"\",AO46*EXP(-OFFSET('Forecasts Aggregate'!$C$17,$C46-$C$17,MATCH(AO$16,Ages,1))),\"\")","v":""},{"$f":"IF($C46<>\"\",AP46*EXP(-OFFSET('Forecasts Aggregate'!$C$17,$C46-$C$17,MATCH(AP$16,Ages,1))),\"\")","v":""},{"$f":"IF($C46<>\"\",AQ46*EXP(-OFFSET('Forecasts Aggregate'!$C$17,$C46-$C$17,MATCH(AQ$16,Ages,1))),\"\")","v":""},{"$f":"IF($C46<>\"\",AR46*EXP(-OFFSET('Forecasts Aggregate'!$C$17,$C46-$C$17,MATCH(AR$16,Ages,1))),\"\")","v":""},{"$f":"IF($C46<>\"\",AS46*EXP(-OFFSET('Forecasts Aggregate'!$C$17,$C46-$C$17,MATCH(AS$16,Ages,1))),\"\")","v":""},{"$f":"IF($C46<>\"\",AT46*EXP(-OFFSET('Forecasts Aggregate'!$C$17,$C46-$C$17,MATCH(AT$16,Ages,1))),\"\")","v":""},{"$f":"IF($C46<>\"\",AU46*EXP(-OFFSET('Forecasts Aggregate'!$C$17,$C46-$C$17,MATCH(AU$16,Ages,1))),\"\")","v":""},{"$f":"IF($C46<>\"\",AV46*EXP(-OFFSET('Forecasts Aggregate'!$C$17,$C46-$C$17,MATCH(AV$16,Ages,1))),\"\")","v":""},{"$f":"IF($C46<>\"\",AW46*EXP(-OFFSET('Forecasts Aggregate'!$C$17,$C46-$C$17,MATCH(AW$16,Ages,1))),\"\")","v":""},{"$f":"IF($C46<>\"\",AX46*EXP(-OFFSET('Forecasts Aggregate'!$C$17,$C46-$C$17,MATCH(AX$16,Ages,1))),\"\")","v":""},{"$f":"IF($C46<>\"\",AY46*EXP(-OFFSET('Forecasts Aggregate'!$C$17,$C46-$C$17,MATCH(AY$16,Ages,1))),\"\")","v":""},{"$f":"IF($C46<>\"\",AZ46*EXP(-OFFSET('Forecasts Aggregate'!$C$17,$C46-$C$17,MATCH(AZ$16,Ages,1))),\"\")","v":""},{"$f":"IF($C46<>\"\",BA46*EXP(-OFFSET('Forecasts Aggregate'!$C$17,$C46-$C$17,MATCH(BA$16,Ages,1))),\"\")","v":""},{"$f":"IF($C46<>\"\",BB46*EXP(-OFFSET('Forecasts Aggregate'!$C$17,$C46-$C$17,MATCH(BB$16,Ages,1))),\"\")","v":""},{"$f":"IF($C46<>\"\",BC46*EXP(-OFFSET('Forecasts Aggregate'!$C$17,$C46-$C$17,MATCH(BC$16,Ages,1))),\"\")","v":""},{"$f":"IF($C46<>\"\",BD46*EXP(-OFFSET('Forecasts Aggregate'!$C$17,$C46-$C$17,MATCH(BD$16,Ages,1))),\"\")","v":""},{"$f":"IF($C46<>\"\",BE46*EXP(-OFFSET('Forecasts Aggregate'!$C$17,$C46-$C$17,MATCH(BE$16,Ages,1))),\"\")","v":""},{"$f":"IF($C46<>\"\",BF46*EXP(-OFFSET('Forecasts Aggregate'!$C$17,$C46-$C$17,MATCH(BF$16,Ages,1))),\"\")","v":""},{"$f":"IF($C46<>\"\",BG46*EXP(-OFFSET('Forecasts Aggregate'!$C$17,$C46-$C$17,MATCH(BG$16,Ages,1))),\"\")","v":""},{"$f":"IF($C46<>\"\",BH46*EXP(-OFFSET('Forecasts Aggregate'!$C$17,$C46-$C$17,MATCH(BH$16,Ages,1))),\"\")","v":""},{"$f":"IF($C46<>\"\",BI46*EXP(-OFFSET('Forecasts Aggregate'!$C$17,$C46-$C$17,MATCH(BI$16,Ages,1))),\"\")","v":""},{"$f":"IF($C46<>\"\",BJ46*EXP(-OFFSET('Forecasts Aggregate'!$C$17,$C46-$C$17,MATCH(BJ$16,Ages,1))),\"\")","v":""},{"$f":"IF($C46<>\"\",BK46*EXP(-OFFSET('Forecasts Aggregate'!$C$17,$C46-$C$17,MATCH(BK$16,Ages,1))),\"\")","v":""},{"$f":"IF($C46<>\"\",BL46*EXP(-OFFSET('Forecasts Aggregate'!$C$17,$C46-$C$17,MATCH(BL$16,Ages,1))),\"\")","v":""},{"$f":"IF($C46<>\"\",BM46*EXP(-OFFSET('Forecasts Aggregate'!$C$17,$C46-$C$17,MATCH(BM$16,Ages,1))),\"\")","v":""},{"$f":"IF($C46<>\"\",BN46*EXP(-OFFSET('Forecasts Aggregate'!$C$17,$C46-$C$17,MATCH(BN$16,Ages,1))),\"\")","v":""},{"$f":"IF($C46<>\"\",BO46*EXP(-OFFSET('Forecasts Aggregate'!$C$17,$C46-$C$17,MATCH(BO$16,Ages,1))),\"\")","v":""},{"$f":"IF($C46<>\"\",BP46*EXP(-OFFSET('Forecasts Aggregate'!$C$17,$C46-$C$17,MATCH(BP$16,Ages,1))),\"\")","v":""},{"$f":"IF($C46<>\"\",BQ46*EXP(-OFFSET('Forecasts Aggregate'!$C$17,$C46-$C$17,MATCH(BQ$16,Ages,1))),\"\")","v":""},{"$f":"IF($C46<>\"\",BR46*EXP(-OFFSET('Forecasts Aggregate'!$C$17,$C46-$C$17,MATCH(BR$16,Ages,1))),\"\")","v":""},{"$f":"IF($C46<>\"\",BS46*EXP(-OFFSET('Forecasts Aggregate'!$C$17,$C46-$C$17,MATCH(BS$16,Ages,1))),\"\")","v":""},{"$f":"IF($C46<>\"\",BT46*EXP(-OFFSET('Forecasts Aggregate'!$C$17,$C46-$C$17,MATCH(BT$16,Ages,1))),\"\")","v":""},{"$f":"IF($C46<>\"\",BU46*EXP(-OFFSET('Forecasts Aggregate'!$C$17,$C46-$C$17,MATCH(BU$16,Ages,1))),\"\")","v":""},{"$f":"IF($C46<>\"\",BV46*EXP(-OFFSET('Forecasts Aggregate'!$C$17,$C46-$C$17,MATCH(BV$16,Ages,1))),\"\")","v":""},{"$f":"IF($C46<>\"\",BW46*EXP(-OFFSET('Forecasts Aggregate'!$C$17,$C46-$C$17,MATCH(BW$16,Ages,1))),\"\")","v":""},{"$f":"IF($C46<>\"\",BX46*EXP(-OFFSET('Forecasts Aggregate'!$C$17,$C46-$C$17,MATCH(BX$16,Ages,1))),\"\")","v":""},{"$f":"IF($C46<>\"\",BY46*EXP(-OFFSET('Forecasts Aggregate'!$C$17,$C46-$C$17,MATCH(BY$16,Ages,1))),\"\")","v":""},{"$f":"IF($C46<>\"\",BZ46*EXP(-OFFSET('Forecasts Aggregate'!$C$17,$C46-$C$17,MATCH(BZ$16,Ages,1))),\"\")","v":""},{"$f":"IF($C46<>\"\",CA46*EXP(-OFFSET('Forecasts Aggregate'!$C$17,$C46-$C$17,MATCH(CA$16,Ages,1))),\"\")","v":""},{"$f":"IF($C46<>\"\",CB46*EXP(-OFFSET('Forecasts Aggregate'!$C$17,$C46-$C$17,MATCH(CB$16,Ages,1))),\"\")","v":""},{"$f":"IF($C46<>\"\",CC46*EXP(-OFFSET('Forecasts Aggregate'!$C$17,$C46-$C$17,MATCH(CC$16,Ages,1))),\"\")","v":""},{"$f":"IF($C46<>\"\",CD46*EXP(-OFFSET('Forecasts Aggregate'!$C$17,$C46-$C$17,MATCH(CD$16,Ages,1))),\"\")","v":""},{"$f":"IF($C46<>\"\",CE46*EXP(-OFFSET('Forecasts Aggregate'!$C$17,$C46-$C$17,MATCH(CE$16,Ages,1))),\"\")","v":""},{"$f":"IF($C46<>\"\",CF46*EXP(-OFFSET('Forecasts Aggregate'!$C$17,$C46-$C$17,MATCH(CF$16,Ages,1))),\"\")","v":""},{"$f":"IF($C46<>\"\",CG46*EXP(-OFFSET('Forecasts Aggregate'!$C$17,$C46-$C$17,MATCH(CG$16,Ages,1))),\"\")","v":""},{"$f":"IF($C46<>\"\",CH46*EXP(-OFFSET('Forecasts Aggregate'!$C$17,$C46-$C$17,MATCH(CH$16,Ages,1))),\"\")","v":""},{"$f":"IF($C46<>\"\",CI46*EXP(-OFFSET('Forecasts Aggregate'!$C$17,$C46-$C$17,MATCH(CI$16,Ages,1))),\"\")","v":""},{"$f":"IF($C46<>\"\",CJ46*EXP(-OFFSET('Forecasts Aggregate'!$C$17,$C46-$C$17,MATCH(CJ$16,Ages,1))),\"\")","v":""},{"$f":"IF($C46<>\"\",CK46*EXP(-OFFSET('Forecasts Aggregate'!$C$17,$C46-$C$17,MATCH(CK$16,Ages,1))),\"\")","v":""},{"$f":"IF($C46<>\"\",CL46*EXP(-OFFSET('Forecasts Aggregate'!$C$17,$C46-$C$17,MATCH(CL$16,Ages,1))),\"\")","v":""},{"$f":"IF($C46<>\"\",CM46*EXP(-OFFSET('Forecasts Aggregate'!$C$17,$C46-$C$17,MATCH(CM$16,Ages,1))),\"\")","v":""},{"$f":"IF($C46<>\"\",CN46*EXP(-OFFSET('Forecasts Aggregate'!$C$17,$C46-$C$17,MATCH(CN$16,Ages,1))),\"\")","v":""},{"$f":"IF($C46<>\"\",CO46*EXP(-OFFSET('Forecasts Aggregate'!$C$17,$C46-$C$17,MATCH(CO$16,Ages,1))),\"\")","v":""},{"$f":"IF($C46<>\"\",CP46*EXP(-OFFSET('Forecasts Aggregate'!$C$17,$C46-$C$17,MATCH(CP$16,Ages,1))),\"\")","v":""},{"$f":"IF($C46<>\"\",CQ46*EXP(-OFFSET('Forecasts Aggregate'!$C$17,$C46-$C$17,MATCH(CQ$16,Ages,1))),\"\")","v":""},{"$f":"IF($C46<>\"\",CR46*EXP(-OFFSET('Forecasts Aggregate'!$C$17,$C46-$C$17,MATCH(CR$16,Ages,1))),\"\")","v":""},{"$f":"IF($C46<>\"\",CS46*EXP(-OFFSET('Forecasts Aggregate'!$C$17,$C46-$C$17,MATCH(CS$16,Ages,1))),\"\")","v":""},{"$f":"IF($C46<>\"\",CT46*EXP(-OFFSET('Forecasts Aggregate'!$C$17,$C46-$C$17,MATCH(CT$16,Ages,1))),\"\")","v":""},{"$f":"IF($C46<>\"\",CU46*EXP(-OFFSET('Forecasts Aggregate'!$C$17,$C46-$C$17,MATCH(CU$16,Ages,1))),\"\")","v":""},{"$f":"IF($C46<>\"\",CV46*EXP(-OFFSET('Forecasts Aggregate'!$C$17,$C46-$C$17,MATCH(CV$16,Ages,1))),\"\")","v":""},{"$f":"IF($C46<>\"\",CW46*EXP(-OFFSET('Forecasts Aggregate'!$C$17,$C46-$C$17,MATCH(CW$16,Ages,1))),\"\")","v":""},{"$f":"IF($C46<>\"\",CX46*EXP(-OFFSET('Forecasts Aggregate'!$C$17,$C46-$C$17,MATCH(CX$16,Ages,1))),\"\")","v":""},{"$f":"IF($C46<>\"\",CY46*EXP(-OFFSET('Forecasts Aggregate'!$C$17,$C46-$C$17,MATCH(CY$16,Ages,1))),\"\")","v":""},{"$f":"IF($C46<>\"\",CZ46*EXP(-OFFSET('Forecasts Aggregate'!$C$17,$C46-$C$17,MATCH(CZ$16,Ages,1))),\"\")","v":""},{"$f":"IF($C46<>\"\",DA46*EXP(-OFFSET('Forecasts Aggregate'!$C$17,$C46-$C$17,MATCH(DA$16,Ages,1))),\"\")","v":""},{"$f":"IF($C46<>\"\",DB46*EXP(-OFFSET('Forecasts Aggregate'!$C$17,$C46-$C$17,MATCH(DB$16,Ages,1))),\"\")","v":""},{"$f":"IF($C46<>\"\",DC46*EXP(-OFFSET('Forecasts Aggregate'!$C$17,$C46-$C$17,MATCH(DC$16,Ages,1))),\"\")","v":""},{"$f":"IF($C46<>\"\",DD46*EXP(-OFFSET('Forecasts Aggregate'!$C$17,$C46-$C$17,MATCH(DD$16,Ages,1))),\"\")","v":""},{"$f":"IF($C46<>\"\",DE46*EXP(-OFFSET('Forecasts Aggregate'!$C$17,$C46-$C$17,MATCH(DE$16,Ages,1))),\"\")","v":""},{"$f":"IF($C46<>\"\",DF46*EXP(-OFFSET('Forecasts Aggregate'!$C$17,$C46-$C$17,MATCH(DF$16,Ages,1))),\"\")","v":""},{"$f":"IF($C46<>\"\",DG46*EXP(-OFFSET('Forecasts Aggregate'!$C$17,$C46-$C$17,MATCH(DG$16,Ages,1))),\"\")","v":""},{"$f":"IF($C46<>\"\",DH46*EXP(-OFFSET('Forecasts Aggregate'!$C$17,$C46-$C$17,MATCH(DH$16,Ages,1))),\"\")","v":""},{"$f":"IF($C46<>\"\",DI46*EXP(-OFFSET('Forecasts Aggregate'!$C$17,$C46-$C$17,MATCH(DI$16,Ages,1))),\"\")","v":""},{"$f":"IF($C46<>\"\",DJ46*EXP(-OFFSET('Forecasts Aggregate'!$C$17,$C46-$C$17,MATCH(DJ$16,Ages,1))),\"\")","v":""},null,"","",""]
[null,null,"","",{"$f":"IF($C47<>\"\",D47*EXP(-OFFSET('Forecasts Aggregate'!$C$17,$C47-$C$17,MATCH(D$16,Ages,1))),\"\")","v":""},{"$f":"IF($C47<>\"\",E47*EXP(-OFFSET('Forecasts Aggregate'!$C$17,$C47-$C$17,MATCH(E$16,Ages,1))),\"\")","v":""},{"$f":"IF($C47<>\"\",F47*EXP(-OFFSET('Forecasts Aggregate'!$C$17,$C47-$C$17,MATCH(F$16,Ages,1))),\"\")","v":""},{"$f":"IF($C47<>\"\",G47*EXP(-OFFSET('Forecasts Aggregate'!$C$17,$C47-$C$17,MATCH(G$16,Ages,1))),\"\")","v":""},{"$f":"IF($C47<>\"\",H47*EXP(-OFFSET('Forecasts Aggregate'!$C$17,$C47-$C$17,MATCH(H$16,Ages,1))),\"\")","v":""},{"$f":"IF($C47<>\"\",I47*EXP(-OFFSET('Forecasts Aggregate'!$C$17,$C47-$C$17,MATCH(I$16,Ages,1))),\"\")","v":""},{"$f":"IF($C47<>\"\",J47*EXP(-OFFSET('Forecasts Aggregate'!$C$17,$C47-$C$17,MATCH(J$16,Ages,1))),\"\")","v":""},{"$f":"IF($C47<>\"\",K47*EXP(-OFFSET('Forecasts Aggregate'!$C$17,$C47-$C$17,MATCH(K$16,Ages,1))),\"\")","v":""},{"$f":"IF($C47<>\"\",L47*EXP(-OFFSET('Forecasts Aggregate'!$C$17,$C47-$C$17,MATCH(L$16,Ages,1))),\"\")","v":""},{"$f":"IF($C47<>\"\",M47*EXP(-OFFSET('Forecasts Aggregate'!$C$17,$C47-$C$17,MATCH(M$16,Ages,1))),\"\")","v":""},{"$f":"IF($C47<>\"\",N47*EXP(-OFFSET('Forecasts Aggregate'!$C$17,$C47-$C$17,MATCH(N$16,Ages,1))),\"\")","v":""},{"$f":"IF($C47<>\"\",O47*EXP(-OFFSET('Forecasts Aggregate'!$C$17,$C47-$C$17,MATCH(O$16,Ages,1))),\"\")","v":""},{"$f":"IF($C47<>\"\",P47*EXP(-OFFSET('Forecasts Aggregate'!$C$17,$C47-$C$17,MATCH(P$16,Ages,1))),\"\")","v":""},{"$f":"IF($C47<>\"\",Q47*EXP(-OFFSET('Forecasts Aggregate'!$C$17,$C47-$C$17,MATCH(Q$16,Ages,1))),\"\")","v":""},{"$f":"IF($C47<>\"\",R47*EXP(-OFFSET('Forecasts Aggregate'!$C$17,$C47-$C$17,MATCH(R$16,Ages,1))),\"\")","v":""},{"$f":"IF($C47<>\"\",S47*EXP(-OFFSET('Forecasts Aggregate'!$C$17,$C47-$C$17,MATCH(S$16,Ages,1))),\"\")","v":""},{"$f":"IF($C47<>\"\",T47*EXP(-OFFSET('Forecasts Aggregate'!$C$17,$C47-$C$17,MATCH(T$16,Ages,1))),\"\")","v":""},{"$f":"IF($C47<>\"\",U47*EXP(-OFFSET('Forecasts Aggregate'!$C$17,$C47-$C$17,MATCH(U$16,Ages,1))),\"\")","v":""},{"$f":"IF($C47<>\"\",V47*EXP(-OFFSET('Forecasts Aggregate'!$C$17,$C47-$C$17,MATCH(V$16,Ages,1))),\"\")","v":""},{"$f":"IF($C47<>\"\",W47*EXP(-OFFSET('Forecasts Aggregate'!$C$17,$C47-$C$17,MATCH(W$16,Ages,1))),\"\")","v":""},{"$f":"IF($C47<>\"\",X47*EXP(-OFFSET('Forecasts Aggregate'!$C$17,$C47-$C$17,MATCH(X$16,Ages,1))),\"\")","v":""},{"$f":"IF($C47<>\"\",Y47*EXP(-OFFSET('Forecasts Aggregate'!$C$17,$C47-$C$17,MATCH(Y$16,Ages,1))),\"\")","v":""},{"$f":"IF($C47<>\"\",Z47*EXP(-OFFSET('Forecasts Aggregate'!$C$17,$C47-$C$17,MATCH(Z$16,Ages,1))),\"\")","v":""},{"$f":"IF($C47<>\"\",AA47*EXP(-OFFSET('Forecasts Aggregate'!$C$17,$C47-$C$17,MATCH(AA$16,Ages,1))),\"\")","v":""},{"$f":"IF($C47<>\"\",AB47*EXP(-OFFSET('Forecasts Aggregate'!$C$17,$C47-$C$17,MATCH(AB$16,Ages,1))),\"\")","v":""},{"$f":"IF($C47<>\"\",AC47*EXP(-OFFSET('Forecasts Aggregate'!$C$17,$C47-$C$17,MATCH(AC$16,Ages,1))),\"\")","v":""},{"$f":"IF($C47<>\"\",AD47*EXP(-OFFSET('Forecasts Aggregate'!$C$17,$C47-$C$17,MATCH(AD$16,Ages,1))),\"\")","v":""},{"$f":"IF($C47<>\"\",AE47*EXP(-OFFSET('Forecasts Aggregate'!$C$17,$C47-$C$17,MATCH(AE$16,Ages,1))),\"\")","v":""},{"$f":"IF($C47<>\"\",AF47*EXP(-OFFSET('Forecasts Aggregate'!$C$17,$C47-$C$17,MATCH(AF$16,Ages,1))),\"\")","v":""},{"$f":"IF($C47<>\"\",AG47*EXP(-OFFSET('Forecasts Aggregate'!$C$17,$C47-$C$17,MATCH(AG$16,Ages,1))),\"\")","v":""},{"$f":"IF($C47<>\"\",AH47*EXP(-OFFSET('Forecasts Aggregate'!$C$17,$C47-$C$17,MATCH(AH$16,Ages,1))),\"\")","v":""},{"$f":"IF($C47<>\"\",AI47*EXP(-OFFSET('Forecasts Aggregate'!$C$17,$C47-$C$17,MATCH(AI$16,Ages,1))),\"\")","v":""},{"$f":"IF($C47<>\"\",AJ47*EXP(-OFFSET('Forecasts Aggregate'!$C$17,$C47-$C$17,MATCH(AJ$16,Ages,1))),\"\")","v":""},{"$f":"IF($C47<>\"\",AK47*EXP(-OFFSET('Forecasts Aggregate'!$C$17,$C47-$C$17,MATCH(AK$16,Ages,1))),\"\")","v":""},{"$f":"IF($C47<>\"\",AL47*EXP(-OFFSET('Forecasts Aggregate'!$C$17,$C47-$C$17,MATCH(AL$16,Ages,1))),\"\")","v":""},{"$f":"IF($C47<>\"\",AM47*EXP(-OFFSET('Forecasts Aggregate'!$C$17,$C47-$C$17,MATCH(AM$16,Ages,1))),\"\")","v":""},{"$f":"IF($C47<>\"\",AN47*EXP(-OFFSET('Forecasts Aggregate'!$C$17,$C47-$C$17,MATCH(AN$16,Ages,1))),\"\")","v":""},{"$f":"IF($C47<>\"\",AO47*EXP(-OFFSET('Forecasts Aggregate'!$C$17,$C47-$C$17,MATCH(AO$16,Ages,1))),\"\")","v":""},{"$f":"IF($C47<>\"\",AP47*EXP(-OFFSET('Forecasts Aggregate'!$C$17,$C47-$C$17,MATCH(AP$16,Ages,1))),\"\")","v":""},{"$f":"IF($C47<>\"\",AQ47*EXP(-OFFSET('Forecasts Aggregate'!$C$17,$C47-$C$17,MATCH(AQ$16,Ages,1))),\"\")","v":""},{"$f":"IF($C47<>\"\",AR47*EXP(-OFFSET('Forecasts Aggregate'!$C$17,$C47-$C$17,MATCH(AR$16,Ages,1))),\"\")","v":""},{"$f":"IF($C47<>\"\",AS47*EXP(-OFFSET('Forecasts Aggregate'!$C$17,$C47-$C$17,MATCH(AS$16,Ages,1))),\"\")","v":""},{"$f":"IF($C47<>\"\",AT47*EXP(-OFFSET('Forecasts Aggregate'!$C$17,$C47-$C$17,MATCH(AT$16,Ages,1))),\"\")","v":""},{"$f":"IF($C47<>\"\",AU47*EXP(-OFFSET('Forecasts Aggregate'!$C$17,$C47-$C$17,MATCH(AU$16,Ages,1))),\"\")","v":""},{"$f":"IF($C47<>\"\",AV47*EXP(-OFFSET('Forecasts Aggregate'!$C$17,$C47-$C$17,MATCH(AV$16,Ages,1))),\"\")","v":""},{"$f":"IF($C47<>\"\",AW47*EXP(-OFFSET('Forecasts Aggregate'!$C$17,$C47-$C$17,MATCH(AW$16,Ages,1))),\"\")","v":""},{"$f":"IF($C47<>\"\",AX47*EXP(-OFFSET('Forecasts Aggregate'!$C$17,$C47-$C$17,MATCH(AX$16,Ages,1))),\"\")","v":""},{"$f":"IF($C47<>\"\",AY47*EXP(-OFFSET('Forecasts Aggregate'!$C$17,$C47-$C$17,MATCH(AY$16,Ages,1))),\"\")","v":""},{"$f":"IF($C47<>\"\",AZ47*EXP(-OFFSET('Forecasts Aggregate'!$C$17,$C47-$C$17,MATCH(AZ$16,Ages,1))),\"\")","v":""},{"$f":"IF($C47<>\"\",BA47*EXP(-OFFSET('Forecasts Aggregate'!$C$17,$C47-$C$17,MATCH(BA$16,Ages,1))),\"\")","v":""},{"$f":"IF($C47<>\"\",BB47*EXP(-OFFSET('Forecasts Aggregate'!$C$17,$C47-$C$17,MATCH(BB$16,Ages,1))),\"\")","v":""},{"$f":"IF($C47<>\"\",BC47*EXP(-OFFSET('Forecasts Aggregate'!$C$17,$C47-$C$17,MATCH(BC$16,Ages,1))),\"\")","v":""},{"$f":"IF($C47<>\"\",BD47*EXP(-OFFSET('Forecasts Aggregate'!$C$17,$C47-$C$17,MATCH(BD$16,Ages,1))),\"\")","v":""},{"$f":"IF($C47<>\"\",BE47*EXP(-OFFSET('Forecasts Aggregate'!$C$17,$C47-$C$17,MATCH(BE$16,Ages,1))),\"\")","v":""},{"$f":"IF($C47<>\"\",BF47*EXP(-OFFSET('Forecasts Aggregate'!$C$17,$C47-$C$17,MATCH(BF$16,Ages,1))),\"\")","v":""},{"$f":"IF($C47<>\"\",BG47*EXP(-OFFSET('Forecasts Aggregate'!$C$17,$C47-$C$17,MATCH(BG$16,Ages,1))),\"\")","v":""},{"$f":"IF($C47<>\"\",BH47*EXP(-OFFSET('Forecasts Aggregate'!$C$17,$C47-$C$17,MATCH(BH$16,Ages,1))),\"\")","v":""},{"$f":"IF($C47<>\"\",BI47*EXP(-OFFSET('Forecasts Aggregate'!$C$17,$C47-$C$17,MATCH(BI$16,Ages,1))),\"\")","v":""},{"$f":"IF($C47<>\"\",BJ47*EXP(-OFFSET('Forecasts Aggregate'!$C$17,$C47-$C$17,MATCH(BJ$16,Ages,1))),\"\")","v":""},{"$f":"IF($C47<>\"\",BK47*EXP(-OFFSET('Forecasts Aggregate'!$C$17,$C47-$C$17,MATCH(BK$16,Ages,1))),\"\")","v":""},{"$f":"IF($C47<>\"\",BL47*EXP(-OFFSET('Forecasts Aggregate'!$C$17,$C47-$C$17,MATCH(BL$16,Ages,1))),\"\")","v":""},{"$f":"IF($C47<>\"\",BM47*EXP(-OFFSET('Forecasts Aggregate'!$C$17,$C47-$C$17,MATCH(BM$16,Ages,1))),\"\")","v":""},{"$f":"IF($C47<>\"\",BN47*EXP(-OFFSET('Forecasts Aggregate'!$C$17,$C47-$C$17,MATCH(BN$16,Ages,1))),\"\")","v":""},{"$f":"IF($C47<>\"\",BO47*EXP(-OFFSET('Forecasts Aggregate'!$C$17,$C47-$C$17,MATCH(BO$16,Ages,1))),\"\")","v":""},{"$f":"IF($C47<>\"\",BP47*EXP(-OFFSET('Forecasts Aggregate'!$C$17,$C47-$C$17,MATCH(BP$16,Ages,1))),\"\")","v":""},{"$f":"IF($C47<>\"\",BQ47*EXP(-OFFSET('Forecasts Aggregate'!$C$17,$C47-$C$17,MATCH(BQ$16,Ages,1))),\"\")","v":""},{"$f":"IF($C47<>\"\",BR47*EXP(-OFFSET('Forecasts Aggregate'!$C$17,$C47-$C$17,MATCH(BR$16,Ages,1))),\"\")","v":""},{"$f":"IF($C47<>\"\",BS47*EXP(-OFFSET('Forecasts Aggregate'!$C$17,$C47-$C$17,MATCH(BS$16,Ages,1))),\"\")","v":""},{"$f":"IF($C47<>\"\",BT47*EXP(-OFFSET('Forecasts Aggregate'!$C$17,$C47-$C$17,MATCH(BT$16,Ages,1))),\"\")","v":""},{"$f":"IF($C47<>\"\",BU47*EXP(-OFFSET('Forecasts Aggregate'!$C$17,$C47-$C$17,MATCH(BU$16,Ages,1))),\"\")","v":""},{"$f":"IF($C47<>\"\",BV47*EXP(-OFFSET('Forecasts Aggregate'!$C$17,$C47-$C$17,MATCH(BV$16,Ages,1))),\"\")","v":""},{"$f":"IF($C47<>\"\",BW47*EXP(-OFFSET('Forecasts Aggregate'!$C$17,$C47-$C$17,MATCH(BW$16,Ages,1))),\"\")","v":""},{"$f":"IF($C47<>\"\",BX47*EXP(-OFFSET('Forecasts Aggregate'!$C$17,$C47-$C$17,MATCH(BX$16,Ages,1))),\"\")","v":""},{"$f":"IF($C47<>\"\",BY47*EXP(-OFFSET('Forecasts Aggregate'!$C$17,$C47-$C$17,MATCH(BY$16,Ages,1))),\"\")","v":""},{"$f":"IF($C47<>\"\",BZ47*EXP(-OFFSET('Forecasts Aggregate'!$C$17,$C47-$C$17,MATCH(BZ$16,Ages,1))),\"\")","v":""},{"$f":"IF($C47<>\"\",CA47*EXP(-OFFSET('Forecasts Aggregate'!$C$17,$C47-$C$17,MATCH(CA$16,Ages,1))),\"\")","v":""},{"$f":"IF($C47<>\"\",CB47*EXP(-OFFSET('Forecasts Aggregate'!$C$17,$C47-$C$17,MATCH(CB$16,Ages,1))),\"\")","v":""},{"$f":"IF($C47<>\"\",CC47*EXP(-OFFSET('Forecasts Aggregate'!$C$17,$C47-$C$17,MATCH(CC$16,Ages,1))),\"\")","v":""},{"$f":"IF($C47<>\"\",CD47*EXP(-OFFSET('Forecasts Aggregate'!$C$17,$C47-$C$17,MATCH(CD$16,Ages,1))),\"\")","v":""},{"$f":"IF($C47<>\"\",CE47*EXP(-OFFSET('Forecasts Aggregate'!$C$17,$C47-$C$17,MATCH(CE$16,Ages,1))),\"\")","v":""},{"$f":"IF($C47<>\"\",CF47*EXP(-OFFSET('Forecasts Aggregate'!$C$17,$C47-$C$17,MATCH(CF$16,Ages,1))),\"\")","v":""},{"$f":"IF($C47<>\"\",CG47*EXP(-OFFSET('Forecasts Aggregate'!$C$17,$C47-$C$17,MATCH(CG$16,Ages,1))),\"\")","v":""},{"$f":"IF($C47<>\"\",CH47*EXP(-OFFSET('Forecasts Aggregate'!$C$17,$C47-$C$17,MATCH(CH$16,Ages,1))),\"\")","v":""},{"$f":"IF($C47<>\"\",CI47*EXP(-OFFSET('Forecasts Aggregate'!$C$17,$C47-$C$17,MATCH(CI$16,Ages,1))),\"\")","v":""},{"$f":"IF($C47<>\"\",CJ47*EXP(-OFFSET('Forecasts Aggregate'!$C$17,$C47-$C$17,MATCH(CJ$16,Ages,1))),\"\")","v":""},{"$f":"IF($C47<>\"\",CK47*EXP(-OFFSET('Forecasts Aggregate'!$C$17,$C47-$C$17,MATCH(CK$16,Ages,1))),\"\")","v":""},{"$f":"IF($C47<>\"\",CL47*EXP(-OFFSET('Forecasts Aggregate'!$C$17,$C47-$C$17,MATCH(CL$16,Ages,1))),\"\")","v":""},{"$f":"IF($C47<>\"\",CM47*EXP(-OFFSET('Forecasts Aggregate'!$C$17,$C47-$C$17,MATCH(CM$16,Ages,1))),\"\")","v":""},{"$f":"IF($C47<>\"\",CN47*EXP(-OFFSET('Forecasts Aggregate'!$C$17,$C47-$C$17,MATCH(CN$16,Ages,1))),\"\")","v":""},{"$f":"IF($C47<>\"\",CO47*EXP(-OFFSET('Forecasts Aggregate'!$C$17,$C47-$C$17,MATCH(CO$16,Ages,1))),\"\")","v":""},{"$f":"IF($C47<>\"\",CP47*EXP(-OFFSET('Forecasts Aggregate'!$C$17,$C47-$C$17,MATCH(CP$16,Ages,1))),\"\")","v":""},{"$f":"IF($C47<>\"\",CQ47*EXP(-OFFSET('Forecasts Aggregate'!$C$17,$C47-$C$17,MATCH(CQ$16,Ages,1))),\"\")","v":""},{"$f":"IF($C47<>\"\",CR47*EXP(-OFFSET('Forecasts Aggregate'!$C$17,$C47-$C$17,MATCH(CR$16,Ages,1))),\"\")","v":""},{"$f":"IF($C47<>\"\",CS47*EXP(-OFFSET('Forecasts Aggregate'!$C$17,$C47-$C$17,MATCH(CS$16,Ages,1))),\"\")","v":""},{"$f":"IF($C47<>\"\",CT47*EXP(-OFFSET('Forecasts Aggregate'!$C$17,$C47-$C$17,MATCH(CT$16,Ages,1))),\"\")","v":""},{"$f":"IF($C47<>\"\",CU47*EXP(-OFFSET('Forecasts Aggregate'!$C$17,$C47-$C$17,MATCH(CU$16,Ages,1))),\"\")","v":""},{"$f":"IF($C47<>\"\",CV47*EXP(-OFFSET('Forecasts Aggregate'!$C$17,$C47-$C$17,MATCH(CV$16,Ages,1))),\"\")","v":""},{"$f":"IF($C47<>\"\",CW47*EXP(-OFFSET('Forecasts Aggregate'!$C$17,$C47-$C$17,MATCH(CW$16,Ages,1))),\"\")","v":""},{"$f":"IF($C47<>\"\",CX47*EXP(-OFFSET('Forecasts Aggregate'!$C$17,$C47-$C$17,MATCH(CX$16,Ages,1))),\"\")","v":""},{"$f":"IF($C47<>\"\",CY47*EXP(-OFFSET('Forecasts Aggregate'!$C$17,$C47-$C$17,MATCH(CY$16,Ages,1))),\"\")","v":""},{"$f":"IF($C47<>\"\",CZ47*EXP(-OFFSET('Forecasts Aggregate'!$C$17,$C47-$C$17,MATCH(CZ$16,Ages,1))),\"\")","v":""},{"$f":"IF($C47<>\"\",DA47*EXP(-OFFSET('Forecasts Aggregate'!$C$17,$C47-$C$17,MATCH(DA$16,Ages,1))),\"\")","v":""},{"$f":"IF($C47<>\"\",DB47*EXP(-OFFSET('Forecasts Aggregate'!$C$17,$C47-$C$17,MATCH(DB$16,Ages,1))),\"\")","v":""},{"$f":"IF($C47<>\"\",DC47*EXP(-OFFSET('Forecasts Aggregate'!$C$17,$C47-$C$17,MATCH(DC$16,Ages,1))),\"\")","v":""},{"$f":"IF($C47<>\"\",DD47*EXP(-OFFSET('Forecasts Aggregate'!$C$17,$C47-$C$17,MATCH(DD$16,Ages,1))),\"\")","v":""},{"$f":"IF($C47<>\"\",DE47*EXP(-OFFSET('Forecasts Aggregate'!$C$17,$C47-$C$17,MATCH(DE$16,Ages,1))),\"\")","v":""},{"$f":"IF($C47<>\"\",DF47*EXP(-OFFSET('Forecasts Aggregate'!$C$17,$C47-$C$17,MATCH(DF$16,Ages,1))),\"\")","v":""},{"$f":"IF($C47<>\"\",DG47*EXP(-OFFSET('Forecasts Aggregate'!$C$17,$C47-$C$17,MATCH(DG$16,Ages,1))),\"\")","v":""},{"$f":"IF($C47<>\"\",DH47*EXP(-OFFSET('Forecasts Aggregate'!$C$17,$C47-$C$17,MATCH(DH$16,Ages,1))),\"\")","v":""},{"$f":"IF($C47<>\"\",DI47*EXP(-OFFSET('Forecasts Aggregate'!$C$17,$C47-$C$17,MATCH(DI$16,Ages,1))),\"\")","v":""},{"$f":"IF($C47<>\"\",DJ47*EXP(-OFFSET('Forecasts Aggregate'!$C$17,$C47-$C$17,MATCH(DJ$16,Ages,1))),\"\")","v":""},null,"","",""]
[]
[]
[null,"Female"]
[]
[]
[]
[]
[]
[null,"Survival probability",null,"age",null,null,null,null,null,null,null,null,null,null,null,null,null,null,null,null,null,null,null,null,null,null,null,null,null,null,null,null,null,null,null,null,null,null,null,null,null,null,null,null,null,null,null,null,null,null,null,null,null,null,null,null,null,null,null,null,null,null,null,null,null,null,null,null,null,null,null,null,null,null,null,null,null,null,null,null,null,null,null,null,null,null,null,null,null,null,null,null,null,null,null,null,null,null,null,null,null,null,null,null,null,null,null,null,null,null,null,null,null,null,null,null,null,"Life expectancies"]
[null,"sex","F",0,1,2,3,4,5,6,7,8,9,10,11,12,13,14,15,16,17,18,19,20,21,22,23,24,25,26,27,28,29,30,31,32,33,34,35,36,37,38,39,40,41,42,43,44,45,46,47,48,49,50,51,52,53,54,55,56,57,58,59,60,61,62,63,64,65,66,67,68,69,70,71,72,73,74,75,76,77,78,79,80,81,82,83,84,85,86,87,88,89,90,91,92,93,94,95,96,97,98,99,100,101,102,103,104,105,106,107,108,109,110,111,null,null,"at birth","at age plot"]
[null,"time",{"$f":"Year_0","v":2016},{"$f":"IF(C58<>\"\",100%,\"\")","v":1},{"$f":"IF($C58<>\"\",D58*EXP(-OFFSET('Forecasts Aggregate'!$C$58,$C58-$C$17,MATCH(D$16,Ages,1))),\"\")","v":0.99480191919316263},{"$f":"IF($C58<>\"\",E58*EXP(-OFFSET('Forecasts Aggregate'!$C$58,$C58-$C$17,MATCH(E$16,Ages,1))),\"\")","v":0.99457579821250841},{"$f":"IF($C58<>\"\",F58*EXP(-OFFSET('Forecasts Aggregate'!$C$58,$C58-$C$17,MATCH(F$16,Ages,1))),\"\")","v":0.99434972862972237},{"$f":"IF($C58<>\"\",G58*EXP(-OFFSET('Forecasts Aggregate'!$C$58,$C58-$C$17,MATCH(G$16,Ages,1))),\"\")","v":0.99412371043312164},{"$f":"IF($C58<>\"\",H58*EXP(-OFFSET('Forecasts Aggregate'!$C$58,$C58-$C$17,MATCH(H$16,Ages,1))),\"\")","v":0.99389774361102601},{"$f":"IF($C58<>\"\",I58*EXP(-OFFSET('Forecasts Aggregate'!$C$58,$C58-$C$17,MATCH(I$16,Ages,1))),\"\")","v":0.99378925439177646},{"$f":"IF($C58<>\"\",J58*EXP(-OFFSET('Forecasts Aggregate'!$C$58,$C58-$C$17,MATCH(J$16,Ages,1))),\"\")","v":0.99368077701470159},{"$f":"IF($C58<>\"\",K58*EXP(-OFFSET('Forecasts Aggregate'!$C$58,$C58-$C$17,MATCH(K$16,Ages,1))),\"\")","v":0.99357231147850877},{"$f":"IF($C58<>\"\",L58*EXP(-OFFSET('Forecasts Aggregate'!$C$58,$C58-$C$17,MATCH(L$16,Ages,1))),\"\")","v":0.99346385778190549},{"$f":"IF($C58<>\"\",M58*EXP(-OFFSET('Forecasts Aggregate'!$C$58,$C58-$C$17,MATCH(M$16,Ages,1))),\"\")","v":0.99335541592359944},{"$f":"IF($C58<>\"\",N58*EXP(-OFFSET('Forecasts Aggregate'!$C$58,$C58-$C$17,MATCH(N$16,Ages,1))),\"\")","v":0.99323051028137233},{"$f":"IF($C58<>\"\",O58*EXP(-OFFSET('Forecasts Aggregate'!$C$58,$C58-$C$17,MATCH(O$16,Ages,1))),\"\")","v":0.99310562034492311},{"$f":"IF($C58<>\"\",P58*EXP(-OFFSET('Forecasts Aggregate'!$C$58,$C58-$C$17,MATCH(P$16,Ages,1))),\"\")","v":0.99298074611227682},{"$f":"IF($C58<>\"\",Q58*EXP(-OFFSET('Forecasts Aggregate'!$C$58,$C58-$C$17,MATCH(Q$16,Ages,1))),\"\")","v":0.99285588758145893},{"$f":"IF($C58<>\"\",R58*EXP(-OFFSET('Forecasts Aggregate'!$C$58,$C58-$C$17,MATCH(R$16,Ages,1))),\"\")","v":0.99273104475049501},{"$f":"IF($C58<>\"\",S58*EXP(-OFFSET('Forecasts Aggregate'!$C$58,$C58-$C$17,MATCH(S$16,Ages,1))),\"\")","v":0.99244227631120219},{"$f":"IF($C58<>\"\",T58*EXP(-OFFSET('Forecasts Aggregate'!$C$58,$C58-$C$17,MATCH(T$16,Ages,1))),\"\")","v":0.99215359186969709},{"$f":"IF($C58<>\"\",U58*EXP(-OFFSET('Forecasts Aggregate'!$C$58,$C58-$C$17,MATCH(U$16,Ages,1))),\"\")","v":0.99186499140154616},{"$f":"IF($C58<>\"\",V58*EXP(-OFFSET('Forecasts Aggregate'!$C$58,$C58-$C$17,MATCH(V$16,Ages,1))),\"\")","v":0.99157647488232303},{"$f":"IF($C58<>\"\",W58*EXP(-OFFSET('Forecasts Aggregate'!$C$58,$C58-$C$17,MATCH(W$16,Ages,1))),\"\")","v":0.99128804228760836},{"$f":"IF($C58<>\"\",X58*EXP(-OFFSET('Forecasts Aggregate'!$C$58,$C58-$C$17,MATCH(X$16,Ages,1))),\"\")","v":0.99080246013351214},{"$f":"IF($C58<>\"\",Y58*EXP(-OFFSET('Forecasts Aggregate'!$C$58,$C58-$C$17,MATCH(Y$16,Ages,1))),\"\")","v":0.99031711584169035},{"$f":"IF($C58<>\"\",Z58*EXP(-OFFSET('Forecasts Aggregate'!$C$58,$C58-$C$17,MATCH(Z$16,Ages,1))),\"\")","v":0.98983200929562631},{"$f":"IF($C58<>\"\",AA58*EXP(-OFFSET('Forecasts Aggregate'!$C$58,$C58-$C$17,MATCH(AA$16,Ages,1))),\"\")","v":0.98934714037886029},{"$f":"IF($C58<>\"\",AB58*EXP(-OFFSET('Forecasts Aggregate'!$C$58,$C58-$C$17,MATCH(AB$16,Ages,1))),\"\")","v":0.98886250897498962},{"$f":"IF($C58<>\"\",AC58*EXP(-OFFSET('Forecasts Aggregate'!$C$58,$C58-$C$17,MATCH(AC$16,Ages,1))),\"\")","v":0.98821988293738372},{"$f":"IF($C58<>\"\",AD58*EXP(-OFFSET('Forecasts Aggregate'!$C$58,$C58-$C$17,MATCH(AD$16,Ages,1))),\"\")","v":0.98757767451923506},{"$f":"IF($C58<>\"\",AE58*EXP(-OFFSET('Forecasts Aggregate'!$C$58,$C58-$C$17,MATCH(AE$16,Ages,1))),\"\")","v":0.98693588344914773},{"$f":"IF($C58<>\"\",AF58*EXP(-OFFSET('Forecasts Aggregate'!$C$58,$C58-$C$17,MATCH(AF$16,Ages,1))),\"\")","v":0.98629450945590236},{"$f":"IF($C58<>\"\",AG58*EXP(-OFFSET('Forecasts Aggregate'!$C$58,$C58-$C$17,MATCH(AG$16,Ages,1))),\"\")","v":0.98565355226845575},{"$f":"IF($C58<>\"\",AH58*EXP(-OFFSET('Forecasts Aggregate'!$C$58,$C58-$C$17,MATCH(AH$16,Ages,1))),\"\")","v":0.98478667323262414},{"$f":"IF($C58<>\"\",AI58*EXP(-OFFSET('Forecasts Aggregate'!$C$58,$C58-$C$17,MATCH(AI$16,Ages,1))),\"\")","v":0.98392055661403444},{"$f":"IF($C58<>\"\",AJ58*EXP(-OFFSET('Forecasts Aggregate'!$C$58,$C58-$C$17,MATCH(AJ$16,Ages,1))),\"\")","v":0.98305520174214311},{"$f":"IF($C58<>\"\",AK58*EXP(-OFFSET('Forecasts Aggregate'!$C$58,$C58-$C$17,MATCH(AK$16,Ages,1))),\"\")","v":0.98219060794699653},{"$f":"IF($C58<>\"\",AL58*EXP(-OFFSET('Forecasts Aggregate'!$C$58,$C58-$C$17,MATCH(AL$16,Ages,1))),\"\")","v":0.98132677455923023},{"$f":"IF($C58<>\"\",AM58*EXP(-OFFSET('Forecasts Aggregate'!$C$58,$C58-$C$17,MATCH(AM$16,Ages,1))),\"\")","v":0.98019289735942094},{"$f":"IF($C58<>\"\",AN58*EXP(-OFFSET('Forecasts Aggregate'!$C$58,$C58-$C$17,MATCH(AN$16,Ages,1))),\"\")","v":0.97906033030169437},{"$f":"IF($C58<>\"\",AO58*EXP(-OFFSET('Forecasts Aggregate'!$C$58,$C58-$C$17,MATCH(AO$16,Ages,1))),\"\")","v":0.97792907187224265},{"$f":"IF($C58<>\"\",AP58*EXP(-OFFSET('Forecasts Aggregate'!$C$58,$C58-$C$17,MATCH(AP$16,Ages,1))),\"\")","v":0.97679912055900686},{"$f":"IF($C58<>\"\",AQ58*EXP(-OFFSET('Forecasts Aggregate'!$C$58,$C58-$C$17,MATCH(AQ$16,Ages,1))),\"\")","v":0.97567047485167546},{"$f":"IF($C58<>\"\",AR58*EXP(-OFFSET('Forecasts Aggregate'!$C$58,$C58-$C$17,MATCH(AR$16,Ages,1))),\"\")","v":0.97410024547066776},{"$f":"IF($C58<>\"\",AS58*EXP(-OFFSET('Forecasts Aggregate'!$C$58,$C58-$C$17,MATCH(AS$16,Ages,1))),\"\")","v":0.97253254319319804},{"$f":"IF($C58<>\"\",AT58*EXP(-OFFSET('Forecasts Aggregate'!$C$58,$C58-$C$17,MATCH(AT$16,Ages,1))),\"\")","v":0.97096736395218397},{"$f":"IF($C58<>\"\",AU58*EXP(-OFFSET('Forecasts Aggregate'!$C$58,$C58-$C$17,MATCH(AU$16,Ages,1))),\"\")","v":0.96940470368708875},{"$f":"IF($C58<>\"\",AV58*EXP(-OFFSET('Forecasts Aggregate'!$C$58,$C58-$C$17,MATCH(AV$16,Ages,1))),\"\")","v":0.96784455834391026},{"$f":"IF($C58<>\"\",AW58*EXP(-OFFSET('Forecasts Aggregate'!$C$58,$C58-$C$17,MATCH(AW$16,Ages,1))),\"\")","v":0.96547693567847881},{"$f":"IF($C58<>\"\",AX58*EXP(-OFFSET('Forecasts Aggregate'!$C$58,$C58-$C$17,MATCH(AX$16,Ages,1))),\"\")","v":0.96311510489051111},{"$f":"IF($C58<>\"\",AY58*EXP(-OFFSET('Forecasts Aggregate'!$C$58,$C58-$C$17,MATCH(AY$16,Ages,1))),\"\")","v":0.96075905181142984},{"$f":"IF($C58<>\"\",AZ58*EXP(-OFFSET('Forecasts Aggregate'!$C$58,$C58-$C$17,MATCH(AZ$16,Ages,1))),\"\")","v":0.95840876230731831},{"$f":"IF($C58<>\"\",BA58*EXP(-OFFSET('Forecasts Aggregate'!$C$58,$C58-$C$17,MATCH(BA$16,Ages,1))),\"\")","v":0.95606422227883514},{"$f":"IF($C58<>\"\",BB58*EXP(-OFFSET('Forecasts Aggregate'!$C$58,$C58-$C$17,MATCH(BB$16,Ages,1))),\"\")","v":0.95242074543342736},{"$f":"IF($C58<>\"\",BC58*EXP(-OFFSET('Forecasts Aggregate'!$C$58,$C58-$C$17,MATCH(BC$16,Ages,1))),\"\")","v":0.94879115355852017},{"$f":"IF($C58<>\"\",BD58*EXP(-OFFSET('Forecasts Aggregate'!$C$58,$C58-$C$17,MATCH(BD$16,Ages,1))),\"\")","v":0.9451753937397096},{"$f":"IF($C58<>\"\",BE58*EXP(-OFFSET('Forecasts Aggregate'!$C$58,$C58-$C$17,MATCH(BE$16,Ages,1))),\"\")","v":0.94157341326424371},{"$f":"IF($C58<>\"\",BF58*EXP(-OFFSET('Forecasts Aggregate'!$C$58,$C58-$C$17,MATCH(BF$16,Ages,1))),\"\")","v":0.93798515962025442},{"$f":"IF($C58<>\"\",BG58*EXP(-OFFSET('Forecasts Aggregate'!$C$58,$C58-$C$17,MATCH(BG$16,Ages,1))),\"\")","v":0.93276263247792313},{"$f":"IF($C58<>\"\",BH58*EXP(-OFFSET('Forecasts Aggregate'!$C$58,$C58-$C$17,MATCH(BH$16,Ages,1))),\"\")","v":0.92756918339665995},{"$f":"IF($C58<>\"\",BI58*EXP(-OFFSET('Forecasts Aggregate'!$C$58,$C58-$C$17,MATCH(BI$16,Ages,1))),\"\")","v":0.92240465047522191},{"$f":"IF($C58<>\"\",BJ58*EXP(-OFFSET('Forecasts Aggregate'!$C$58,$C58-$C$17,MATCH(BJ$16,Ages,1))),\"\")","v":0.9172688727138022},{"$f":"IF($C58<>\"\",BK58*EXP(-OFFSET('Forecasts Aggregate'!$C$58,$C58-$C$17,MATCH(BK$16,Ages,1))),\"\")","v":0.91216169000901093},{"$f":"IF($C58<>\"\",BL58*EXP(-OFFSET('Forecasts Aggregate'!$C$58,$C58-$C$17,MATCH(BL$16,Ages,1))),\"\")","v":0.90498051094677079},{"$f":"IF($C58<>\"\",BM58*EXP(-OFFSET('Forecasts Aggregate'!$C$58,$C58-$C$17,MATCH(BM$16,Ages,1))),\"\")","v":0.89785586718226218},{"$f":"IF($C58<>\"\",BN58*EXP(-OFFSET('Forecasts Aggregate'!$C$58,$C58-$C$17,MATCH(BN$16,Ages,1))),\"\")","v":0.89078731362981578},{"$f":"IF($C58<>\"\",BO58*EXP(-OFFSET('Forecasts Aggregate'!$C$58,$C58-$C$17,MATCH(BO$16,Ages,1))),\"\")","v":0.88377440870779},{"$f":"IF($C58<>\"\",BP58*EXP(-OFFSET('Forecasts Aggregate'!$C$58,$C58-$C$17,MATCH(BP$16,Ages,1))),\"\")","v":0.87681671431098485},{"$f":"IF($C58<>\"\",BQ58*EXP(-OFFSET('Forecasts Aggregate'!$C$58,$C58-$C$17,MATCH(BQ$16,Ages,1))),\"\")","v":0.86669448658604176},{"$f":"IF($C58<>\"\",BR58*EXP(-OFFSET('Forecasts Aggregate'!$C$58,$C58-$C$17,MATCH(BR$16,Ages,1))),\"\")","v":0.856689112808387},{"$f":"IF($C58<>\"\",BS58*EXP(-OFFSET('Forecasts Aggregate'!$C$58,$C58-$C$17,MATCH(BS$16,Ages,1))),\"\")","v":0.84679924398199236},{"$f":"IF($C58<>\"\",BT58*EXP(-OFFSET('Forecasts Aggregate'!$C$58,$C58-$C$17,MATCH(BT$16,Ages,1))),\"\")","v":0.83702354668403312},{"$f":"IF($C58<>\"\",BU58*EXP(-OFFSET('Forecasts Aggregate'!$C$58,$C58-$C$17,MATCH(BU$16,Ages,1))),\"\")","v":0.82736070288510632},{"$f":"IF($C58<>\"\",BV58*EXP(-OFFSET('Forecasts Aggregate'!$C$58,$C58-$C$17,MATCH(BV$16,Ages,1))),\"\")","v":0.81204655102538947},{"$f":"IF($C58<>\"\",BW58*EXP(-OFFSET('Forecasts Aggregate'!$C$58,$C58-$C$17,MATCH(BW$16,Ages,1))),\"\")","v":0.79701585866086577},{"$f":"IF($C58<>\"\",BX58*EXP(-OFFSET('Forecasts Aggregate'!$C$58,$C58-$C$17,MATCH(BX$16,Ages,1))),\"\")","v":0.78226337905726284},{"$f":"IF($C58<>\"\",BY58*EXP(-OFFSET('Forecasts Aggregate'!$C$58,$C58-$C$17,MATCH(BY$16,Ages,1))),\"\")","v":0.76778396259549042},{"$f":"IF($C58<>\"\",BZ58*EXP(-OFFSET('Forecasts Aggregate'!$C$58,$C58-$C$17,MATCH(BZ$16,Ages,1))),\"\")","v":0.75357255497407316},{"$f":"IF($C58<>\"\",CA58*EXP(-OFFSET('Forecasts Aggregate'!$C$58,$C58-$C$17,MATCH(CA$16,Ages,1))),\"\")","v":0.73105133440515413},{"$f":"IF($C58<>\"\",CB58*EXP(-OFFSET('Forecasts Aggregate'!$C$58,$C58-$C$17,MATCH(CB$16,Ages,1))),\"\")","v":0.70920318157545414},{"$f":"IF($C58<>\"\",CC58*EXP(-OFFSET('Forecasts Aggregate'!$C$58,$C58-$C$17,MATCH(CC$16,Ages,1))),\"\")","v":0.68800798122611362},{"$f":"IF($C58<>\"\",CD58*EXP(-OFFSET('Forecasts Aggregate'!$C$58,$C58-$C$17,MATCH(CD$16,Ages,1))),\"\")","v":0.66744621926159642},{"$f":"IF($C58<>\"\",CE58*EXP(-OFFSET('Forecasts Aggregate'!$C$58,$C58-$C$17,MATCH(CE$16,Ages,1))),\"\")","v":0.64749896478336155},{"$f":"IF($C58<>\"\",CF58*EXP(-OFFSET('Forecasts Aggregate'!$C$58,$C58-$C$17,MATCH(CF$16,Ages,1))),\"\")","v":0.61452587292231808},{"$f":"IF($C58<>\"\",CG58*EXP(-OFFSET('Forecasts Aggregate'!$C$58,$C58-$C$17,MATCH(CG$16,Ages,1))),\"\")","v":0.58323189538579023},{"$f":"IF($C58<>\"\",CH58*EXP(-OFFSET('Forecasts Aggregate'!$C$58,$C58-$C$17,MATCH(CH$16,Ages,1))),\"\")","v":0.55353152533302818},{"$f":"IF($C58<>\"\",CI58*EXP(-OFFSET('Forecasts Aggregate'!$C$58,$C58-$C$17,MATCH(CI$16,Ages,1))),\"\")","v":0.52534361025443643},{"$f":"IF($C58<>\"\",CJ58*EXP(-OFFSET('Forecasts Aggregate'!$C$58,$C58-$C$17,MATCH(CJ$16,Ages,1))),\"\")","v":0.49859113023259211},{"$f":"IF($C58<>\"\",CK58*EXP(-OFFSET('Forecasts Aggregate'!$C$58,$C58-$C$17,MATCH(CK$16,Ages,1))),\"\")","v":0.45530039450688958},{"$f":"IF($C58<>\"\",CL58*EXP(-OFFSET('Forecasts Aggregate'!$C$58,$C58-$C$17,MATCH(CL$16,Ages,1))),\"\")","v":0.41576842560641786},{"$f":"IF($C58<>\"\",CM58*EXP(-OFFSET('Forecasts Aggregate'!$C$58,$C58-$C$17,MATCH(CM$16,Ages,1))),\"\")","v":0.37966886437350467},{"$f":"IF($C58<>\"\",CN58*EXP(-OFFSET('Forecasts Aggregate'!$C$58,$C58-$C$17,MATCH(CN$16,Ages,1))),\"\")","v":0.34670368815144964},{"$f":"IF($C58<>\"\",CO58*EXP(-OFFSET('Forecasts Aggregate'!$C$58,$C58-$C$17,MATCH(CO$16,Ages,1))),\"\")","v":0.31660075043595298},{"$f":"IF($C58<>\"\",CP58*EXP(-OFFSET('Forecasts Aggregate'!$C$58,$C58-$C$17,MATCH(CP$16,Ages,1))),\"\")","v":0.26928632005207542},{"$f":"IF($C58<>\"\",CQ58*EXP(-OFFSET('Forecasts Aggregate'!$C$58,$C58-$C$17,MATCH(CQ$16,Ages,1))),\"\")","v":0.2290427993848306},{"$f":"IF($C58<>\"\",CR58*EXP(-OFFSET('Forecasts Aggregate'!$C$58,$C58-$C$17,MATCH(CR$16,Ages,1))),\"\")","v":0.19481347563401943},{"$f":"IF($C58<>\"\",CS58*EXP(-OFFSET('Forecasts Aggregate'!$C$58,$C58-$C$17,MATCH(CS$16,Ages,1))),\"\")","v":0.16569955654812105},{"$f":"IF($C58<>\"\",CT58*EXP(-OFFSET('Forecasts Aggregate'!$C$58,$C58-$C$17,MATCH(CT$16,Ages,1))),\"\")","v":0.14093656997231552},{"$f":"IF($C58<>\"\",CU58*EXP(-OFFSET('Forecasts Aggregate'!$C$58,$C58-$C$17,MATCH(CU$16,Ages,1))),\"\")","v":0.10505310529389911},{"$f":"IF($C58<>\"\",CV58*EXP(-OFFSET('Forecasts Aggregate'!$C$58,$C58-$C$17,MATCH(CV$16,Ages,1))),\"\")","v":7.8305828885000608E-2},{"$f":"IF($C58<>\"\",CW58*EXP(-OFFSET('Forecasts Aggregate'!$C$58,$C58-$C$17,MATCH(CW$16,Ages,1))),\"\")","v":5.8368601482198128E-2},{"$f":"IF($C58<>\"\",CX58*EXP(-OFFSET('Forecasts Aggregate'!$C$58,$C58-$C$17,MATCH(CX$16,Ages,1))),\"\")","v":4.350753561386856E-2},{"$f":"IF($C58<>\"\",CY58*EXP(-OFFSET('Forecasts Aggregate'!$C$58,$C58-$C$17,MATCH(CY$16,Ages,1))),\"\")","v":3.2430204033059788E-2},{"$f":"IF($C58<>\"\",CZ58*EXP(-OFFSET('Forecasts Aggregate'!$C$58,$C58-$C$17,MATCH(CZ$16,Ages,1))),\"\")","v":2.4173240768218533E-2},{"$f":"IF($C58<>\"\",DA58*EXP(-OFFSET('Forecasts Aggregate'!$C$58,$C58-$C$17,MATCH(DA$16,Ages,1))),\"\")","v":1.8018559755053429E-2},{"$f":"IF($C58<>\"\",DB58*EXP(-OFFSET('Forecasts Aggregate'!$C$58,$C58-$C$17,MATCH(DB$16,Ages,1))),\"\")","v":1.3430904807487997E-2},{"$f":"IF($C58<>\"\",DC58*EXP(-OFFSET('Forecasts Aggregate'!$C$58,$C58-$C$17,MATCH(DC$16,Ages,1))),\"\")","v":1.0011299815303651E-2},{"$f":"IF($C58<>\"\",DD58*EXP(-OFFSET('Forecasts Aggregate'!$C$58,$C58-$C$17,MATCH(DD$16,Ages,1))),\"\")","v":7.4623508563638127E-3},{"$f":"IF($C58<>\"\",DE58*EXP(-OFFSET('Forecasts Aggregate'!$C$58,$C58-$C$17,MATCH(DE$16,Ages,1))),\"\")","v":5.5623826406985604E-3},{"$f":"IF($C58<>\"\",DF58*EXP(-OFFSET('Forecasts Aggregate'!$C$58,$C58-$C$17,MATCH(DF$16,Ages,1))),\"\")","v":4.1461600019998129E-3},{"$f":"IF($C58<>\"\",DG58*EXP(-OFFSET('Forecasts Aggregate'!$C$58,$C58-$C$17,MATCH(DG$16,Ages,1))),\"\")","v":3.0905178360804346E-3},{"$f":"IF($C58<>\"\",DH58*EXP(-OFFSET('Forecasts Aggregate'!$C$58,$C58-$C$17,MATCH(DH$16,Ages,1))),\"\")","v":2.3036497603865802E-3},{"$f":"IF($C58<>\"\",DI58*EXP(-OFFSET('Forecasts Aggregate'!$C$58,$C58-$C$17,MATCH(DI$16,Ages,1))),\"\")","v":1.7171239578605791E-3},{"$f":"IF($C58<>\"\",DJ58*EXP(-OFFSET('Forecasts Aggregate'!$C$58,$C58-$C$17,MATCH(DJ$16,Ages,1))),\"\")","v":1.2799318443980753E-3},null,{"$f":"Year_0","v":2016},{"$f":"IF($C58<>\"\",0.5+SUM(E58:DK58),\"\")","v":81.191978706522789},{"$f":"IF($C58<>\"\",0.5+SUMIF($E$16:$DK$16,CONCATENATE(\">\",age_LE),E58:DK58)/INDEX(D58:DK58,age_LE+1),\"\")","v":20.673387514123412}]
[null,null,{"$f":"IF(C58<Year_max,C58+1,\"\")","v":2017},{"$f":"IF(C59<>\"\",100%,\"\")","v":1},{"$f":"IF($C59<>\"\",D59*EXP(-OFFSET('Forecasts Aggregate'!$C$58,$C59-$C$17,MATCH(D$16,Ages,1))),\"\")","v":0.99486249138697735},{"$f":"IF($C59<>\"\",E59*EXP(-OFFSET('Forecasts Aggregate'!$C$58,$C59-$C$17,MATCH(E$16,Ages,1))),\"\")","v":0.99463758148497561},{"$f":"IF($C59<>\"\",F59*EXP(-OFFSET('Forecasts Aggregate'!$C$58,$C59-$C$17,MATCH(F$16,Ages,1))),\"\")","v":0.99441272242865797},{"$f":"IF($C59<>\"\",G59*EXP(-OFFSET('Forecasts Aggregate'!$C$58,$C59-$C$17,MATCH(G$16,Ages,1))),\"\")","v":0.99418791420652974},{"$f":"IF($C59<>\"\",H59*EXP(-OFFSET('Forecasts Aggregate'!$C$58,$C59-$C$17,MATCH(H$16,Ages,1))),\"\")","v":0.99396315680709879},{"$f":"IF($C59<>\"\",I59*EXP(-OFFSET('Forecasts Aggregate'!$C$58,$C59-$C$17,MATCH(I$16,Ages,1))),\"\")","v":0.9938550968022194},{"$f":"IF($C59<>\"\",J59*EXP(-OFFSET('Forecasts Aggregate'!$C$58,$C59-$C$17,MATCH(J$16,Ages,1))),\"\")","v":0.99374704854522478},{"$f":"IF($C59<>\"\",K59*EXP(-OFFSET('Forecasts Aggregate'!$C$58,$C59-$C$17,MATCH(K$16,Ages,1))),\"\")","v":0.99363901203483773},{"$f":"IF($C59<>\"\",L59*EXP(-OFFSET('Forecasts Aggregate'!$C$58,$C59-$C$17,MATCH(L$16,Ages,1))),\"\")","v":0.99353098726978128},{"$f":"IF($C59<>\"\",M59*EXP(-OFFSET('Forecasts Aggregate'!$C$58,$C59-$C$17,MATCH(M$16,Ages,1))),\"\")","v":0.99342297424877846},{"$f":"IF($C59<>\"\",N59*EXP(-OFFSET('Forecasts Aggregate'!$C$58,$C59-$C$17,MATCH(N$16,Ages,1))),\"\")","v":0.99329868191641613},{"$f":"IF($C59<>\"\",O59*EXP(-OFFSET('Forecasts Aggregate'!$C$58,$C59-$C$17,MATCH(O$16,Ages,1))),\"\")","v":0.99317440513491617},{"$f":"IF($C59<>\"\",P59*EXP(-OFFSET('Forecasts Aggregate'!$C$58,$C59-$C$17,MATCH(P$16,Ages,1))),\"\")","v":0.99305014390233282},{"$f":"IF($C59<>\"\",Q59*EXP(-OFFSET('Forecasts Aggregate'!$C$58,$C59-$C$17,MATCH(Q$16,Ages,1))),\"\")","v":0.99292589821672073},{"$f":"IF($C59<>\"\",R59*EXP(-OFFSET('Forecasts Aggregate'!$C$58,$C59-$C$17,MATCH(R$16,Ages,1))),\"\")","v":0.99280166807613468},{"$f":"IF($C59<>\"\",S59*EXP(-OFFSET('Forecasts Aggregate'!$C$58,$C59-$C$17,MATCH(S$16,Ages,1))),\"\")","v":0.99251255714508191},{"$f":"IF($C59<>\"\",T59*EXP(-OFFSET('Forecasts Aggregate'!$C$58,$C59-$C$17,MATCH(T$16,Ages,1))),\"\")","v":0.99222353040519562},{"$f":"IF($C59<>\"\",U59*EXP(-OFFSET('Forecasts Aggregate'!$C$58,$C59-$C$17,MATCH(U$16,Ages,1))),\"\")","v":0.99193458783195865},{"$f":"IF($C59<>\"\",V59*EXP(-OFFSET('Forecasts Aggregate'!$C$58,$C59-$C$17,MATCH(V$16,Ages,1))),\"\")","v":0.99164572940086104},{"$f":"IF($C59<>\"\",W59*EXP(-OFFSET('Forecasts Aggregate'!$C$58,$C59-$C$17,MATCH(W$16,Ages,1))),\"\")","v":0.99135695508740007},{"$f":"IF($C59<>\"\",X59*EXP(-OFFSET('Forecasts Aggregate'!$C$58,$C59-$C$17,MATCH(X$16,Ages,1))),\"\")","v":0.99086349999511369},{"$f":"IF($C59<>\"\",Y59*EXP(-OFFSET('Forecasts Aggregate'!$C$58,$C59-$C$17,MATCH(Y$16,Ages,1))),\"\")","v":0.99037029052366743},{"$f":"IF($C59<>\"\",Z59*EXP(-OFFSET('Forecasts Aggregate'!$C$58,$C59-$C$17,MATCH(Z$16,Ages,1))),\"\")","v":0.98987732655080163},{"$f":"IF($C59<>\"\",AA59*EXP(-OFFSET('Forecasts Aggregate'!$C$58,$C59-$C$17,MATCH(AA$16,Ages,1))),\"\")","v":0.9893846079543176},{"$f":"IF($C59<>\"\",AB59*EXP(-OFFSET('Forecasts Aggregate'!$C$58,$C59-$C$17,MATCH(AB$16,Ages,1))),\"\")","v":0.98889213461207759},{"$f":"IF($C59<>\"\",AC59*EXP(-OFFSET('Forecasts Aggregate'!$C$58,$C59-$C$17,MATCH(AC$16,Ages,1))),\"\")","v":0.98823258248650336},{"$f":"IF($C59<>\"\",AD59*EXP(-OFFSET('Forecasts Aggregate'!$C$58,$C59-$C$17,MATCH(AD$16,Ages,1))),\"\")","v":0.98757347025623332},{"$f":"IF($C59<>\"\",AE59*EXP(-OFFSET('Forecasts Aggregate'!$C$58,$C59-$C$17,MATCH(AE$16,Ages,1))),\"\")","v":0.9869147976278746},{"$f":"IF($C59<>\"\",AF59*EXP(-OFFSET('Forecasts Aggregate'!$C$58,$C59-$C$17,MATCH(AF$16,Ages,1))),\"\")","v":0.98625656430823005},{"$f":"IF($C59<>\"\",AG59*EXP(-OFFSET('Forecasts Aggregate'!$C$58,$C59-$C$17,MATCH(AG$16,Ages,1))),\"\")","v":0.98559877000429796},{"$f":"IF($C59<>\"\",AH59*EXP(-OFFSET('Forecasts Aggregate'!$C$58,$C59-$C$17,MATCH(AH$16,Ages,1))),\"\")","v":0.98471361680043645},{"$f":"IF($C59<>\"\",AI59*EXP(-OFFSET('Forecasts Aggregate'!$C$58,$C59-$C$17,MATCH(AI$16,Ages,1))),\"\")","v":0.98382925854094605},{"$f":"IF($C59<>\"\",AJ59*EXP(-OFFSET('Forecasts Aggregate'!$C$58,$C59-$C$17,MATCH(AJ$16,Ages,1))),\"\")","v":0.98294569451189762},{"$f":"IF($C59<>\"\",AK59*EXP(-OFFSET('Forecasts Aggregate'!$C$58,$C59-$C$17,MATCH(AK$16,Ages,1))),\"\")","v":0.98206292400000339},{"$f":"IF($C59<>\"\",AL59*EXP(-OFFSET('Forecasts Aggregate'!$C$58,$C59-$C$17,MATCH(AL$16,Ages,1))),\"\")","v":0.9811809462926161},{"$f":"IF($C59<>\"\",AM59*EXP(-OFFSET('Forecasts Aggregate'!$C$58,$C59-$C$17,MATCH(AM$16,Ages,1))),\"\")","v":0.98003956784380586},{"$f":"IF($C59<>\"\",AN59*EXP(-OFFSET('Forecasts Aggregate'!$C$58,$C59-$C$17,MATCH(AN$16,Ages,1))),\"\")","v":0.97889951712640777},{"$f":"IF($C59<>\"\",AO59*EXP(-OFFSET('Forecasts Aggregate'!$C$58,$C59-$C$17,MATCH(AO$16,Ages,1))),\"\")","v":0.97776079259591153},{"$f":"IF($C59<>\"\",AP59*EXP(-OFFSET('Forecasts Aggregate'!$C$58,$C59-$C$17,MATCH(AP$16,Ages,1))),\"\")","v":0.97662339270960374},{"$f":"IF($C59<>\"\",AQ59*EXP(-OFFSET('Forecasts Aggregate'!$C$58,$C59-$C$17,MATCH(AQ$16,Ages,1))),\"\")","v":0.97548731592656535},{"$f":"IF($C59<>\"\",AR59*EXP(-OFFSET('Forecasts Aggregate'!$C$58,$C59-$C$17,MATCH(AR$16,Ages,1))),\"\")","v":0.97391600500133624},{"$f":"IF($C59<>\"\",AS59*EXP(-OFFSET('Forecasts Aggregate'!$C$58,$C59-$C$17,MATCH(AS$16,Ages,1))),\"\")","v":0.9723472251372326},{"$f":"IF($C59<>\"\",AT59*EXP(-OFFSET('Forecasts Aggregate'!$C$58,$C59-$C$17,MATCH(AT$16,Ages,1))),\"\")","v":0.9707809722572317},{"$f":"IF($C59<>\"\",AU59*EXP(-OFFSET('Forecasts Aggregate'!$C$58,$C59-$C$17,MATCH(AU$16,Ages,1))),\"\")","v":0.96921724229087791},{"$f":"IF($C59<>\"\",AV59*EXP(-OFFSET('Forecasts Aggregate'!$C$58,$C59-$C$17,MATCH(AV$16,Ages,1))),\"\")","v":0.96765603117427257},{"$f":"IF($C59<>\"\",AW59*EXP(-OFFSET('Forecasts Aggregate'!$C$58,$C59-$C$17,MATCH(AW$16,Ages,1))),\"\")","v":0.96527939538161889},{"$f":"IF($C59<>\"\",AX59*EXP(-OFFSET('Forecasts Aggregate'!$C$58,$C59-$C$17,MATCH(AX$16,Ages,1))),\"\")","v":0.96290859678473406},{"$f":"IF($C59<>\"\",AY59*EXP(-OFFSET('Forecasts Aggregate'!$C$58,$C59-$C$17,MATCH(AY$16,Ages,1))),\"\")","v":0.96054362104702751},{"$f":"IF($C59<>\"\",AZ59*EXP(-OFFSET('Forecasts Aggregate'!$C$58,$C59-$C$17,MATCH(AZ$16,Ages,1))),\"\")","v":0.95818445386712037},{"$f":"IF($C59<>\"\",BA59*EXP(-OFFSET('Forecasts Aggregate'!$C$58,$C59-$C$17,MATCH(BA$16,Ages,1))),\"\")","v":0.95583108097875891},{"$f":"IF($C59<>\"\",BB59*EXP(-OFFSET('Forecasts Aggregate'!$C$58,$C59-$C$17,MATCH(BB$16,Ages,1))),\"\")","v":0.95216239497180921},{"$f":"IF($C59<>\"\",BC59*EXP(-OFFSET('Forecasts Aggregate'!$C$58,$C59-$C$17,MATCH(BC$16,Ages,1))),\"\")","v":0.94850779017364772},{"$f":"IF($C59<>\"\",BD59*EXP(-OFFSET('Forecasts Aggregate'!$C$58,$C59-$C$17,MATCH(BD$16,Ages,1))),\"\")","v":0.94486721253755579},{"$f":"IF($C59<>\"\",BE59*EXP(-OFFSET('Forecasts Aggregate'!$C$58,$C59-$C$17,MATCH(BE$16,Ages,1))),\"\")","v":0.94124060822425748},{"$f":"IF($C59<>\"\",BF59*EXP(-OFFSET('Forecasts Aggregate'!$C$58,$C59-$C$17,MATCH(BF$16,Ages,1))),\"\")","v":0.93762792360112379},{"$f":"IF($C59<>\"\",BG59*EXP(-OFFSET('Forecasts Aggregate'!$C$58,$C59-$C$17,MATCH(BG$16,Ages,1))),\"\")","v":0.93240120251117908},{"$f":"IF($C59<>\"\",BH59*EXP(-OFFSET('Forecasts Aggregate'!$C$58,$C59-$C$17,MATCH(BH$16,Ages,1))),\"\")","v":0.92720361729983236},{"$f":"IF($C59<>\"\",BI59*EXP(-OFFSET('Forecasts Aggregate'!$C$58,$C59-$C$17,MATCH(BI$16,Ages,1))),\"\")","v":0.92203500555179352},{"$f":"IF($C59<>\"\",BJ59*EXP(-OFFSET('Forecasts Aggregate'!$C$58,$C59-$C$17,MATCH(BJ$16,Ages,1))),\"\")","v":0.91689520575714178},{"$f":"IF($C59<>\"\",BK59*EXP(-OFFSET('Forecasts Aggregate'!$C$58,$C59-$C$17,MATCH(BK$16,Ages,1))),\"\")","v":0.91178405730627854},{"$f":"IF($C59<>\"\",BL59*EXP(-OFFSET('Forecasts Aggregate'!$C$58,$C59-$C$17,MATCH(BL$16,Ages,1))),\"\")","v":0.90464801214119017},{"$f":"IF($C59<>\"\",BM59*EXP(-OFFSET('Forecasts Aggregate'!$C$58,$C59-$C$17,MATCH(BM$16,Ages,1))),\"\")","v":0.8975678169771959},{"$f":"IF($C59<>\"\",BN59*EXP(-OFFSET('Forecasts Aggregate'!$C$58,$C59-$C$17,MATCH(BN$16,Ages,1))),\"\")","v":0.89054303470626883},{"$f":"IF($C59<>\"\",BO59*EXP(-OFFSET('Forecasts Aggregate'!$C$58,$C59-$C$17,MATCH(BO$16,Ages,1))),\"\")","v":0.88357323164139234},{"$f":"IF($C59<>\"\",BP59*EXP(-OFFSET('Forecasts Aggregate'!$C$58,$C59-$C$17,MATCH(BP$16,Ages,1))),\"\")","v":0.87665797748978558},{"$f":"IF($C59<>\"\",BQ59*EXP(-OFFSET('Forecasts Aggregate'!$C$58,$C59-$C$17,MATCH(BQ$16,Ages,1))),\"\")","v":0.86661356008849744},{"$f":"IF($C59<>\"\",BR59*EXP(-OFFSET('Forecasts Aggregate'!$C$58,$C59-$C$17,MATCH(BR$16,Ages,1))),\"\")","v":0.85668422784415976},{"$f":"IF($C59<>\"\",BS59*EXP(-OFFSET('Forecasts Aggregate'!$C$58,$C59-$C$17,MATCH(BS$16,Ages,1))),\"\")","v":0.84686866215432699},{"$f":"IF($C59<>\"\",BT59*EXP(-OFFSET('Forecasts Aggregate'!$C$58,$C59-$C$17,MATCH(BT$16,Ages,1))),\"\")","v":0.83716555952460425},{"$f":"IF($C59<>\"\",BU59*EXP(-OFFSET('Forecasts Aggregate'!$C$58,$C59-$C$17,MATCH(BU$16,Ages,1))),\"\")","v":0.82757363139554552},{"$f":"IF($C59<>\"\",BV59*EXP(-OFFSET('Forecasts Aggregate'!$C$58,$C59-$C$17,MATCH(BV$16,Ages,1))),\"\")","v":0.81235520132107475},{"$f":"IF($C59<>\"\",BW59*EXP(-OFFSET('Forecasts Aggregate'!$C$58,$C59-$C$17,MATCH(BW$16,Ages,1))),\"\")","v":0.79741662624094567},{"$f":"IF($C59<>\"\",BX59*EXP(-OFFSET('Forecasts Aggregate'!$C$58,$C59-$C$17,MATCH(BX$16,Ages,1))),\"\")","v":0.78275275984128267},{"$f":"IF($C59<>\"\",BY59*EXP(-OFFSET('Forecasts Aggregate'!$C$58,$C59-$C$17,MATCH(BY$16,Ages,1))),\"\")","v":0.76835855044488632},{"$f":"IF($C59<>\"\",BZ59*EXP(-OFFSET('Forecasts Aggregate'!$C$58,$C59-$C$17,MATCH(BZ$16,Ages,1))),\"\")","v":0.75422903927093932},{"$f":"IF($C59<>\"\",CA59*EXP(-OFFSET('Forecasts Aggregate'!$C$58,$C59-$C$17,MATCH(CA$16,Ages,1))),\"\")","v":0.73180080707257356},{"$f":"IF($C59<>\"\",CB59*EXP(-OFFSET('Forecasts Aggregate'!$C$58,$C59-$C$17,MATCH(CB$16,Ages,1))),\"\")","v":0.71003951498570239},{"$f":"IF($C59<>\"\",CC59*EXP(-OFFSET('Forecasts Aggregate'!$C$58,$C59-$C$17,MATCH(CC$16,Ages,1))),\"\")","v":0.6889253304569446},{"$f":"IF($C59<>\"\",CD59*EXP(-OFFSET('Forecasts Aggregate'!$C$58,$C59-$C$17,MATCH(CD$16,Ages,1))),\"\")","v":0.66843901068628186},{"$f":"IF($C59<>\"\",CE59*EXP(-OFFSET('Forecasts Aggregate'!$C$58,$C59-$C$17,MATCH(CE$16,Ages,1))),\"\")","v":0.64856188508977941},{"$f":"IF($C59<>\"\",CF59*EXP(-OFFSET('Forecasts Aggregate'!$C$58,$C59-$C$17,MATCH(CF$16,Ages,1))),\"\")","v":0.61569084036317678},{"$f":"IF($C59<>\"\",CG59*EXP(-OFFSET('Forecasts Aggregate'!$C$58,$C59-$C$17,MATCH(CG$16,Ages,1))),\"\")","v":0.5844857979198701},{"$f":"IF($C59<>\"\",CH59*EXP(-OFFSET('Forecasts Aggregate'!$C$58,$C59-$C$17,MATCH(CH$16,Ages,1))),\"\")","v":0.55486231981056289},{"$f":"IF($C59<>\"\",CI59*EXP(-OFFSET('Forecasts Aggregate'!$C$58,$C59-$C$17,MATCH(CI$16,Ages,1))),\"\")","v":0.5267402476522911},{"$f":"IF($C59<>\"\",CJ59*EXP(-OFFSET('Forecasts Aggregate'!$C$58,$C59-$C$17,MATCH(CJ$16,Ages,1))),\"\")","v":0.50004348572727697},{"$f":"IF($C59<>\"\",CK59*EXP(-OFFSET('Forecasts Aggregate'!$C$58,$C59-$C$17,MATCH(CK$16,Ages,1))),\"\")","v":0.45680873808226818},{"$f":"IF($C59<>\"\",CL59*EXP(-OFFSET('Forecasts Aggregate'!$C$58,$C59-$C$17,MATCH(CL$16,Ages,1))),\"\")","v":0.41731215213175465},{"$f":"IF($C59<>\"\",CM59*EXP(-OFFSET('Forecasts Aggregate'!$C$58,$C59-$C$17,MATCH(CM$16,Ages,1))),\"\")","v":0.38123051903064425},{"$f":"IF($C59<>\"\",CN59*EXP(-OFFSET('Forecasts Aggregate'!$C$58,$C59-$C$17,MATCH(CN$16,Ages,1))),\"\")","v":0.34826857520911209},{"$f":"IF($C59<>\"\",CO59*EXP(-OFFSET('Forecasts Aggregate'!$C$58,$C59-$C$17,MATCH(CO$16,Ages,1))),\"\")","v":0.31815658616889297},{"$f":"IF($C59<>\"\",CP59*EXP(-OFFSET('Forecasts Aggregate'!$C$58,$C59-$C$17,MATCH(CP$16,Ages,1))),\"\")","v":0.27072746793754776},{"$f":"IF($C59<>\"\",CQ59*EXP(-OFFSET('Forecasts Aggregate'!$C$58,$C59-$C$17,MATCH(CQ$16,Ages,1))),\"\")","v":0.23036883434802843},{"$f":"IF($C59<>\"\",CR59*EXP(-OFFSET('Forecasts Aggregate'!$C$58,$C59-$C$17,MATCH(CR$16,Ages,1))),\"\")","v":0.19602665456580737},{"$f":"IF($C59<>\"\",CS59*EXP(-OFFSET('Forecasts Aggregate'!$C$58,$C59-$C$17,MATCH(CS$16,Ages,1))),\"\")","v":0.16680402715503531},{"$f":"IF($C59<>\"\",CT59*EXP(-OFFSET('Forecasts Aggregate'!$C$58,$C59-$C$17,MATCH(CT$16,Ages,1))),\"\")","v":0.14193775605040085},{"$f":"IF($C59<>\"\",CU59*EXP(-OFFSET('Forecasts Aggregate'!$C$58,$C59-$C$17,MATCH(CU$16,Ages,1))),\"\")","v":0.10581656906261576},{"$f":"IF($C59<>\"\",CV59*EXP(-OFFSET('Forecasts Aggregate'!$C$58,$C59-$C$17,MATCH(CV$16,Ages,1))),\"\")","v":7.8887722335185595E-2},{"$f":"IF($C59<>\"\",CW59*EXP(-OFFSET('Forecasts Aggregate'!$C$58,$C59-$C$17,MATCH(CW$16,Ages,1))),\"\")","v":5.8811892980113432E-2},{"$f":"IF($C59<>\"\",CX59*EXP(-OFFSET('Forecasts Aggregate'!$C$58,$C59-$C$17,MATCH(CX$16,Ages,1))),\"\")","v":4.3845083284418773E-2},{"$f":"IF($C59<>\"\",CY59*EXP(-OFFSET('Forecasts Aggregate'!$C$58,$C59-$C$17,MATCH(CY$16,Ages,1))),\"\")","v":3.2687118723888943E-2},{"$f":"IF($C59<>\"\",CZ59*EXP(-OFFSET('Forecasts Aggregate'!$C$58,$C59-$C$17,MATCH(CZ$16,Ages,1))),\"\")","v":2.4368701127528831E-2},{"$f":"IF($C59<>\"\",DA59*EXP(-OFFSET('Forecasts Aggregate'!$C$58,$C59-$C$17,MATCH(DA$16,Ages,1))),\"\")","v":1.8167205242499075E-2},{"$f":"IF($C59<>\"\",DB59*EXP(-OFFSET('Forecasts Aggregate'!$C$58,$C59-$C$17,MATCH(DB$16,Ages,1))),\"\")","v":1.354390390344761E-2},{"$f":"IF($C59<>\"\",DC59*EXP(-OFFSET('Forecasts Aggregate'!$C$58,$C59-$C$17,MATCH(DC$16,Ages,1))),\"\")","v":1.0097168524121864E-2},{"$f":"IF($C59<>\"\",DD59*EXP(-OFFSET('Forecasts Aggregate'!$C$58,$C59-$C$17,MATCH(DD$16,Ages,1))),\"\")","v":7.5275794136847908E-3},{"$f":"IF($C59<>\"\",DE59*EXP(-OFFSET('Forecasts Aggregate'!$C$58,$C59-$C$17,MATCH(DE$16,Ages,1))),\"\")","v":5.6119150328095653E-3},{"$f":"IF($C59<>\"\",DF59*EXP(-OFFSET('Forecasts Aggregate'!$C$58,$C59-$C$17,MATCH(DF$16,Ages,1))),\"\")","v":4.1837606227335305E-3},{"$f":"IF($C59<>\"\",DG59*EXP(-OFFSET('Forecasts Aggregate'!$C$58,$C59-$C$17,MATCH(DG$16,Ages,1))),\"\")","v":3.1190516688155341E-3},{"$f":"IF($C59<>\"\",DH59*EXP(-OFFSET('Forecasts Aggregate'!$C$58,$C59-$C$17,MATCH(DH$16,Ages,1))),\"\")","v":2.3252963517747102E-3},{"$f":"IF($C59<>\"\",DI59*EXP(-OFFSET('Forecasts Aggregate'!$C$58,$C59-$C$17,MATCH(DI$16,Ages,1))),\"\")","v":1.7335407353575828E-3},{"$f":"IF($C59<>\"\",DJ59*EXP(-OFFSET('Forecasts Aggregate'!$C$58,$C59-$C$17,MATCH(DJ$16,Ages,1))),\"\")","v":1.292378702117049E-3},null,{"$f":"IF(DM58<Year_max,DM58+1,\"\")","v":2017},81.216337184091429,20.712292263647115]
[null,null,{"$f":"IF(C59<Year_max,C59+1,\"\")","v":2018},1,{"$f":"IF($C60<>\"\",D60*EXP(-OFFSET('Forecasts Aggregate'!$C$58,$C60-$C$17,MATCH(D$16,Ages,1))),\"\")","v":0.99492228921704406},{"$f":"IF($C60<>\"\",E60*EXP(-OFFSET('Forecasts Aggregate'!$C$58,$C60-$C$17,MATCH(E$16,Ages,1))),\"\")","v":0.99469857213190582},{"$f":"IF($C60<>\"\",F60*EXP(-OFFSET('Forecasts Aggregate'!$C$58,$C60-$C$17,MATCH(F$16,Ages,1))),\"\")","v":0.99447490535153482},{"$f":"IF($C60<>\"\",G60*EXP(-OFFSET('Forecasts Aggregate'!$C$58,$C60-$C$17,MATCH(G$16,Ages,1))),\"\")","v":0.99425128886461955},{"$f":"IF($C60<>\"\",H60*EXP(-OFFSET('Forecasts Aggregate'!$C$58,$C60-$C$17,MATCH(H$16,Ages,1))),\"\")","v":0.99402772265985107},{"$f":"IF($C60<>\"\",I60*EXP(-OFFSET('Forecasts Aggregate'!$C$58,$C60-$C$17,MATCH(I$16,Ages,1))),\"\")","v":0.99392008413230803},{"$f":"IF($C60<>\"\",J60*EXP(-OFFSET('Forecasts Aggregate'!$C$58,$C60-$C$17,MATCH(J$16,Ages,1))),\"\")","v":0.99381245726042844},{"$f":"IF($C60<>\"\",K60*EXP(-OFFSET('Forecasts Aggregate'!$C$58,$C60-$C$17,MATCH(K$16,Ages,1))),\"\")","v":0.99370484204295018},{"$f":"IF($C60<>\"\",L60*EXP(-OFFSET('Forecasts Aggregate'!$C$58,$C60-$C$17,MATCH(L$16,Ages,1))),\"\")","v":0.99359723847861126},{"$f":"IF($C60<>\"\",M60*EXP(-OFFSET('Forecasts Aggregate'!$C$58,$C60-$C$17,MATCH(M$16,Ages,1))),\"\")","v":0.9934896465661498},{"$f":"IF($C60<>\"\",N60*EXP(-OFFSET('Forecasts Aggregate'!$C$58,$C60-$C$17,MATCH(N$16,Ages,1))),\"\")","v":0.99336595738520272},{"$f":"IF($C60<>\"\",O60*EXP(-OFFSET('Forecasts Aggregate'!$C$58,$C60-$C$17,MATCH(O$16,Ages,1))),\"\")","v":0.99324228360352373},{"$f":"IF($C60<>\"\",P60*EXP(-OFFSET('Forecasts Aggregate'!$C$58,$C60-$C$17,MATCH(P$16,Ages,1))),\"\")","v":0.99311862521919569},{"$f":"IF($C60<>\"\",Q60*EXP(-OFFSET('Forecasts Aggregate'!$C$58,$C60-$C$17,MATCH(Q$16,Ages,1))),\"\")","v":0.99299498223030169},{"$f":"IF($C60<>\"\",R60*EXP(-OFFSET('Forecasts Aggregate'!$C$58,$C60-$C$17,MATCH(R$16,Ages,1))),\"\")","v":0.99287135463492493},{"$f":"IF($C60<>\"\",S60*EXP(-OFFSET('Forecasts Aggregate'!$C$58,$C60-$C$17,MATCH(S$16,Ages,1))),\"\")","v":0.99258183368605757},{"$f":"IF($C60<>\"\",T60*EXP(-OFFSET('Forecasts Aggregate'!$C$58,$C60-$C$17,MATCH(T$16,Ages,1))),\"\")","v":0.99229239716140027},{"$f":"IF($C60<>\"\",U60*EXP(-OFFSET('Forecasts Aggregate'!$C$58,$C60-$C$17,MATCH(U$16,Ages,1))),\"\")","v":0.99200304503633496},{"$f":"IF($C60<>\"\",V60*EXP(-OFFSET('Forecasts Aggregate'!$C$58,$C60-$C$17,MATCH(V$16,Ages,1))),\"\")","v":0.99171377728625076},{"$f":"IF($C60<>\"\",W60*EXP(-OFFSET('Forecasts Aggregate'!$C$58,$C60-$C$17,MATCH(W$16,Ages,1))),\"\")","v":0.99142459388654403},{"$f":"IF($C60<>\"\",X60*EXP(-OFFSET('Forecasts Aggregate'!$C$58,$C60-$C$17,MATCH(X$16,Ages,1))),\"\")","v":0.99092241623013044},{"$f":"IF($C60<>\"\",Y60*EXP(-OFFSET('Forecasts Aggregate'!$C$58,$C60-$C$17,MATCH(Y$16,Ages,1))),\"\")","v":0.99042049293738721},{"$f":"IF($C60<>\"\",Z60*EXP(-OFFSET('Forecasts Aggregate'!$C$58,$C60-$C$17,MATCH(Z$16,Ages,1))),\"\")","v":0.98991882387947372},{"$f":"IF($C60<>\"\",AA60*EXP(-OFFSET('Forecasts Aggregate'!$C$58,$C60-$C$17,MATCH(AA$16,Ages,1))),\"\")","v":0.98941740892761465},{"$f":"IF($C60<>\"\",AB60*EXP(-OFFSET('Forecasts Aggregate'!$C$58,$C60-$C$17,MATCH(AB$16,Ages,1))),\"\")","v":0.98891624795309985},{"$f":"IF($C60<>\"\",AC60*EXP(-OFFSET('Forecasts Aggregate'!$C$58,$C60-$C$17,MATCH(AC$16,Ages,1))),\"\")","v":0.98823768419266866},{"$f":"IF($C60<>\"\",AD60*EXP(-OFFSET('Forecasts Aggregate'!$C$58,$C60-$C$17,MATCH(AD$16,Ages,1))),\"\")","v":0.98755958604171434},{"$f":"IF($C60<>\"\",AE60*EXP(-OFFSET('Forecasts Aggregate'!$C$58,$C60-$C$17,MATCH(AE$16,Ages,1))),\"\")","v":0.98688195318075023},{"$f":"IF($C60<>\"\",AF60*EXP(-OFFSET('Forecasts Aggregate'!$C$58,$C60-$C$17,MATCH(AF$16,Ages,1))),\"\")","v":0.98620478529050859},{"$f":"IF($C60<>\"\",AG60*EXP(-OFFSET('Forecasts Aggregate'!$C$58,$C60-$C$17,MATCH(AG$16,Ages,1))),\"\")","v":0.98552808205194098},{"$f":"IF($C60<>\"\",AH60*EXP(-OFFSET('Forecasts Aggregate'!$C$58,$C60-$C$17,MATCH(AH$16,Ages,1))),\"\")","v":0.9846226741230808},{"$f":"IF($C60<>\"\",AI60*EXP(-OFFSET('Forecasts Aggregate'!$C$58,$C60-$C$17,MATCH(AI$16,Ages,1))),\"\")","v":0.98371809799549814},{"$f":"IF($C60<>\"\",AJ60*EXP(-OFFSET('Forecasts Aggregate'!$C$58,$C60-$C$17,MATCH(AJ$16,Ages,1))),\"\")","v":0.98281435290501429},{"$f":"IF($C60<>\"\",AK60*EXP(-OFFSET('Forecasts Aggregate'!$C$58,$C60-$C$17,MATCH(AK$16,Ages,1))),\"\")","v":0.98191143808815273},{"$f":"IF($C60<>\"\",AL60*EXP(-OFFSET('Forecasts Aggregate'!$C$58,$C60-$C$17,MATCH(AL$16,Ages,1))),\"\")","v":0.98100935278213841},{"$f":"IF($C60<>\"\",AM60*EXP(-OFFSET('Forecasts Aggregate'!$C$58,$C60-$C$17,MATCH(AM$16,Ages,1))),\"\")","v":0.97985973409778637},{"$f":"IF($C60<>\"\",AN60*EXP(-OFFSET('Forecasts Aggregate'!$C$58,$C60-$C$17,MATCH(AN$16,Ages,1))),\"\")","v":0.97871146262089537},{"$f":"IF($C60<>\"\",AO60*EXP(-OFFSET('Forecasts Aggregate'!$C$58,$C60-$C$17,MATCH(AO$16,Ages,1))),\"\")","v":0.97756453677270894},{"$f":"IF($C60<>\"\",AP60*EXP(-OFFSET('Forecasts Aggregate'!$C$58,$C60-$C$17,MATCH(AP$16,Ages,1))),\"\")","v":0.9764189549763207},{"$f":"IF($C60<>\"\",AQ60*EXP(-OFFSET('Forecasts Aggregate'!$C$58,$C60-$C$17,MATCH(AQ$16,Ages,1))),\"\")","v":0.97527471565667223},{"$f":"IF($C60<>\"\",AR60*EXP(-OFFSET('Forecasts Aggregate'!$C$58,$C60-$C$17,MATCH(AR$16,Ages,1))),\"\")","v":0.97370178742288283},{"$f":"IF($C60<>\"\",AS60*EXP(-OFFSET('Forecasts Aggregate'!$C$58,$C60-$C$17,MATCH(AS$16,Ages,1))),\"\")","v":0.972131396016091},{"$f":"IF($C60<>\"\",AT60*EXP(-OFFSET('Forecasts Aggregate'!$C$58,$C60-$C$17,MATCH(AT$16,Ages,1))),\"\")","v":0.97056353734488865},{"$f":"IF($C60<>\"\",AU60*EXP(-OFFSET('Forecasts Aggregate'!$C$58,$C60-$C$17,MATCH(AU$16,Ages,1))),\"\")","v":0.96899820732446629},{"$f":"IF($C60<>\"\",AV60*EXP(-OFFSET('Forecasts Aggregate'!$C$58,$C60-$C$17,MATCH(AV$16,Ages,1))),\"\")","v":0.9674354018766026},{"$f":"IF($C60<>\"\",AW60*EXP(-OFFSET('Forecasts Aggregate'!$C$58,$C60-$C$17,MATCH(AW$16,Ages,1))),\"\")","v":0.96504871575153783},{"$f":"IF($C60<>\"\",AX60*EXP(-OFFSET('Forecasts Aggregate'!$C$58,$C60-$C$17,MATCH(AX$16,Ages,1))),\"\")","v":0.9626679176378572},{"$f":"IF($C60<>\"\",AY60*EXP(-OFFSET('Forecasts Aggregate'!$C$58,$C60-$C$17,MATCH(AY$16,Ages,1))),\"\")","v":0.9602929930096965},{"$f":"IF($C60<>\"\",AZ60*EXP(-OFFSET('Forecasts Aggregate'!$C$58,$C60-$C$17,MATCH(AZ$16,Ages,1))),\"\")","v":0.95792392737702758},{"$f":"IF($C60<>\"\",BA60*EXP(-OFFSET('Forecasts Aggregate'!$C$58,$C60-$C$17,MATCH(BA$16,Ages,1))),\"\")","v":0.95556070628556922},{"$f":"IF($C60<>\"\",BB60*EXP(-OFFSET('Forecasts Aggregate'!$C$58,$C60-$C$17,MATCH(BB$16,Ages,1))),\"\")","v":0.95186427410387553},{"$f":"IF($C60<>\"\",BC60*EXP(-OFFSET('Forecasts Aggregate'!$C$58,$C60-$C$17,MATCH(BC$16,Ages,1))),\"\")","v":0.94818214097276432},{"$f":"IF($C60<>\"\",BD60*EXP(-OFFSET('Forecasts Aggregate'!$C$58,$C60-$C$17,MATCH(BD$16,Ages,1))),\"\")","v":0.94451425157866908},{"$f":"IF($C60<>\"\",BE60*EXP(-OFFSET('Forecasts Aggregate'!$C$58,$C60-$C$17,MATCH(BE$16,Ages,1))),\"\")","v":0.94086055082199482},{"$f":"IF($C60<>\"\",BF60*EXP(-OFFSET('Forecasts Aggregate'!$C$58,$C60-$C$17,MATCH(BF$16,Ages,1))),\"\")","v":0.93722098381629049},{"$f":"IF($C60<>\"\",BG60*EXP(-OFFSET('Forecasts Aggregate'!$C$58,$C60-$C$17,MATCH(BG$16,Ages,1))),\"\")","v":0.93198803577093836},{"$f":"IF($C60<>\"\",BH60*EXP(-OFFSET('Forecasts Aggregate'!$C$58,$C60-$C$17,MATCH(BH$16,Ages,1))),\"\")","v":0.92678430574963622},{"$f":"IF($C60<>\"\",BI60*EXP(-OFFSET('Forecasts Aggregate'!$C$58,$C60-$C$17,MATCH(BI$16,Ages,1))),\"\")","v":0.9216096306143361},{"$f":"IF($C60<>\"\",BJ60*EXP(-OFFSET('Forecasts Aggregate'!$C$58,$C60-$C$17,MATCH(BJ$16,Ages,1))),\"\")","v":0.91646384813786697},{"$f":"IF($C60<>\"\",BK60*EXP(-OFFSET('Forecasts Aggregate'!$C$58,$C60-$C$17,MATCH(BK$16,Ages,1))),\"\")","v":0.91134679699884868},{"$f":"IF($C60<>\"\",BL60*EXP(-OFFSET('Forecasts Aggregate'!$C$58,$C60-$C$17,MATCH(BL$16,Ages,1))),\"\")","v":0.90425481374420857},{"$f":"IF($C60<>\"\",BM60*EXP(-OFFSET('Forecasts Aggregate'!$C$58,$C60-$C$17,MATCH(BM$16,Ages,1))),\"\")","v":0.89721801938873369},{"$f":"IF($C60<>\"\",BN60*EXP(-OFFSET('Forecasts Aggregate'!$C$58,$C60-$C$17,MATCH(BN$16,Ages,1))),\"\")","v":0.89023598445952745},{"$f":"IF($C60<>\"\",BO60*EXP(-OFFSET('Forecasts Aggregate'!$C$58,$C60-$C$17,MATCH(BO$16,Ages,1))),\"\")","v":0.88330828282579588},{"$f":"IF($C60<>\"\",BP60*EXP(-OFFSET('Forecasts Aggregate'!$C$58,$C60-$C$17,MATCH(BP$16,Ages,1))),\"\")","v":0.87643449167283993},{"$f":"IF($C60<>\"\",BQ60*EXP(-OFFSET('Forecasts Aggregate'!$C$58,$C60-$C$17,MATCH(BQ$16,Ages,1))),\"\")","v":0.8664673442797961},{"$f":"IF($C60<>\"\",BR60*EXP(-OFFSET('Forecasts Aggregate'!$C$58,$C60-$C$17,MATCH(BR$16,Ages,1))),\"\")","v":0.85661354708930426},{"$f":"IF($C60<>\"\",BS60*EXP(-OFFSET('Forecasts Aggregate'!$C$58,$C60-$C$17,MATCH(BS$16,Ages,1))),\"\")","v":0.84687181103961862},{"$f":"IF($C60<>\"\",BT60*EXP(-OFFSET('Forecasts Aggregate'!$C$58,$C60-$C$17,MATCH(BT$16,Ages,1))),\"\")","v":0.83724086172869538},{"$f":"IF($C60<>\"\",BU60*EXP(-OFFSET('Forecasts Aggregate'!$C$58,$C60-$C$17,MATCH(BU$16,Ages,1))),\"\")","v":0.82771943924747704},{"$f":"IF($C60<>\"\",BV60*EXP(-OFFSET('Forecasts Aggregate'!$C$58,$C60-$C$17,MATCH(BV$16,Ages,1))),\"\")","v":0.8125965325631247},{"$f":"IF($C60<>\"\",BW60*EXP(-OFFSET('Forecasts Aggregate'!$C$58,$C60-$C$17,MATCH(BW$16,Ages,1))),\"\")","v":0.79774993001727557},{"$f":"IF($C60<>\"\",BX60*EXP(-OFFSET('Forecasts Aggregate'!$C$58,$C60-$C$17,MATCH(BX$16,Ages,1))),\"\")","v":0.78317458337558243},{"$f":"IF($C60<>\"\",BY60*EXP(-OFFSET('Forecasts Aggregate'!$C$58,$C60-$C$17,MATCH(BY$16,Ages,1))),\"\")","v":0.76886553663782142},{"$f":"IF($C60<>\"\",BZ60*EXP(-OFFSET('Forecasts Aggregate'!$C$58,$C60-$C$17,MATCH(BZ$16,Ages,1))),\"\")","v":0.75481792435272221},{"$f":"IF($C60<>\"\",CA60*EXP(-OFFSET('Forecasts Aggregate'!$C$58,$C60-$C$17,MATCH(CA$16,Ages,1))),\"\")","v":0.73248257087909219},{"$f":"IF($C60<>\"\",CB60*EXP(-OFFSET('Forecasts Aggregate'!$C$58,$C60-$C$17,MATCH(CB$16,Ages,1))),\"\")","v":0.7108081291282724},{"$f":"IF($C60<>\"\",CC60*EXP(-OFFSET('Forecasts Aggregate'!$C$58,$C60-$C$17,MATCH(CC$16,Ages,1))),\"\")","v":0.68977504246750743},{"$f":"IF($C60<>\"\",CD60*EXP(-OFFSET('Forecasts Aggregate'!$C$58,$C60-$C$17,MATCH(CD$16,Ages,1))),\"\")","v":0.66936433295234676},{"$f":"IF($C60<>\"\",CE60*EXP(-OFFSET('Forecasts Aggregate'!$C$58,$C60-$C$17,MATCH(CE$16,Ages,1))),\"\")","v":0.64955758420303522},{"$f":"IF($C60<>\"\",CF60*EXP(-OFFSET('Forecasts Aggregate'!$C$58,$C60-$C$17,MATCH(CF$16,Ages,1))),\"\")","v":0.61678807135027047},{"$f":"IF($C60<>\"\",CG60*EXP(-OFFSET('Forecasts Aggregate'!$C$58,$C60-$C$17,MATCH(CG$16,Ages,1))),\"\")","v":0.58567174675782763},{"$f":"IF($C60<>\"\",CH60*EXP(-OFFSET('Forecasts Aggregate'!$C$58,$C60-$C$17,MATCH(CH$16,Ages,1))),\"\")","v":0.55612520877624227},{"$f":"IF($C60<>\"\",CI60*EXP(-OFFSET('Forecasts Aggregate'!$C$58,$C60-$C$17,MATCH(CI$16,Ages,1))),\"\")","v":0.5280692632835895},{"$f":"IF($C60<>\"\",CJ60*EXP(-OFFSET('Forecasts Aggregate'!$C$58,$C60-$C$17,MATCH(CJ$16,Ages,1))),\"\")","v":0.50142871142004197},{"$f":"IF($C60<>\"\",CK60*EXP(-OFFSET('Forecasts Aggregate'!$C$58,$C60-$C$17,MATCH(CK$16,Ages,1))),\"\")","v":0.45824968018403117},{"$f":"IF($C60<>\"\",CL60*EXP(-OFFSET('Forecasts Aggregate'!$C$58,$C60-$C$17,MATCH(CL$16,Ages,1))),\"\")","v":0.4187888818613299},{"$f":"IF($C60<>\"\",CM60*EXP(-OFFSET('Forecasts Aggregate'!$C$58,$C60-$C$17,MATCH(CM$16,Ages,1))),\"\")","v":0.38272613196419342},{"$f":"IF($C60<>\"\",CN60*EXP(-OFFSET('Forecasts Aggregate'!$C$58,$C60-$C$17,MATCH(CN$16,Ages,1))),\"\")","v":0.34976881773278706},{"$f":"IF($C60<>\"\",CO60*EXP(-OFFSET('Forecasts Aggregate'!$C$58,$C60-$C$17,MATCH(CO$16,Ages,1))),\"\")","v":0.31964952387844048},{"$f":"IF($C60<>\"\",CP60*EXP(-OFFSET('Forecasts Aggregate'!$C$58,$C60-$C$17,MATCH(CP$16,Ages,1))),\"\")","v":0.27210803924408811},{"$f":"IF($C60<>\"\",CQ60*EXP(-OFFSET('Forecasts Aggregate'!$C$58,$C60-$C$17,MATCH(CQ$16,Ages,1))),\"\")","v":0.23163740124768625},{"$f":"IF($C60<>\"\",CR60*EXP(-OFFSET('Forecasts Aggregate'!$C$58,$C60-$C$17,MATCH(CR$16,Ages,1))),\"\")","v":0.19718596262659793},{"$f":"IF($C60<>\"\",CS60*EXP(-OFFSET('Forecasts Aggregate'!$C$58,$C60-$C$17,MATCH(CS$16,Ages,1))),\"\")","v":0.16785848765157677},{"$f":"IF($C60<>\"\",CT60*EXP(-OFFSET('Forecasts Aggregate'!$C$58,$C60-$C$17,MATCH(CT$16,Ages,1))),\"\")","v":0.14289288903404879},{"$f":"IF($C60<>\"\",CU60*EXP(-OFFSET('Forecasts Aggregate'!$C$58,$C60-$C$17,MATCH(CU$16,Ages,1))),\"\")","v":0.10653935966874142},{"$f":"IF($C60<>\"\",CV60*EXP(-OFFSET('Forecasts Aggregate'!$C$58,$C60-$C$17,MATCH(CV$16,Ages,1))),\"\")","v":7.9434569735102739E-2},{"$f":"IF($C60<>\"\",CW60*EXP(-OFFSET('Forecasts Aggregate'!$C$58,$C60-$C$17,MATCH(CW$16,Ages,1))),\"\")","v":5.9225537760127976E-2},{"$f":"IF($C60<>\"\",CX60*EXP(-OFFSET('Forecasts Aggregate'!$C$58,$C60-$C$17,MATCH(CX$16,Ages,1))),\"\")","v":4.4157906748581291E-2},{"$f":"IF($C60<>\"\",CY60*EXP(-OFFSET('Forecasts Aggregate'!$C$58,$C60-$C$17,MATCH(CY$16,Ages,1))),\"\")","v":3.2923647503444599E-2},{"$f":"IF($C60<>\"\",CZ60*EXP(-OFFSET('Forecasts Aggregate'!$C$58,$C60-$C$17,MATCH(CZ$16,Ages,1))),\"\")","v":2.4547507903913482E-2},{"$f":"IF($C60<>\"\",DA60*EXP(-OFFSET('Forecasts Aggregate'!$C$58,$C60-$C$17,MATCH(DA$16,Ages,1))),\"\")","v":1.8302350741352415E-2},{"$f":"IF($C60<>\"\",DB60*EXP(-OFFSET('Forecasts Aggregate'!$C$58,$C60-$C$17,MATCH(DB$16,Ages,1))),\"\")","v":1.3646030544961342E-2},{"$f":"IF($C60<>\"\",DC60*EXP(-OFFSET('Forecasts Aggregate'!$C$58,$C60-$C$17,MATCH(DC$16,Ages,1))),\"\")","v":1.0174329640251337E-2},{"$f":"IF($C60<>\"\",DD60*EXP(-OFFSET('Forecasts Aggregate'!$C$58,$C60-$C$17,MATCH(DD$16,Ages,1))),\"\")","v":7.5858677941124429E-3},{"$f":"IF($C60<>\"\",DE60*EXP(-OFFSET('Forecasts Aggregate'!$C$58,$C60-$C$17,MATCH(DE$16,Ages,1))),\"\")","v":5.6559392337843335E-3},{"$f":"IF($C60<>\"\",DF60*EXP(-OFFSET('Forecasts Aggregate'!$C$58,$C60-$C$17,MATCH(DF$16,Ages,1))),\"\")","v":4.2170058171971799E-3},{"$f":"IF($C60<>\"\",DG60*EXP(-OFFSET('Forecasts Aggregate'!$C$58,$C60-$C$17,MATCH(DG$16,Ages,1))),\"\")","v":3.1441529562502625E-3},{"$f":"IF($C60<>\"\",DH60*EXP(-OFFSET('Forecasts Aggregate'!$C$58,$C60-$C$17,MATCH(DH$16,Ages,1))),\"\")","v":2.3442457138623924E-3},{"$f":"IF($C60<>\"\",DI60*EXP(-OFFSET('Forecasts Aggregate'!$C$58,$C60-$C$17,MATCH(DI$16,Ages,1))),\"\")","v":1.7478437097144769E-3},{"$f":"IF($C60<>\"\",DJ60*EXP(-OFFSET('Forecasts Aggregate'!$C$58,$C60-$C$17,MATCH(DJ$16,Ages,1))),\"\")","v":1.3031729632791346E-3},null,{"$f":"IF(DM59<Year_max,DM59+1,\"\")","v":2018},81.237035153650638,20.750233901148381]
[null,null,2019,1,{"$f":"IF($C61<>\"\",D61*EXP(-OFFSET('Forecasts Aggregate'!$C$58,$C61-$C$17,MATCH(D$16,Ages,1))),\"\")","v":0.99498132256110572},{"$f":"IF($C61<>\"\",E61*EXP(-OFFSET('Forecasts Aggregate'!$C$58,$C61-$C$17,MATCH(E$16,Ages,1))),\"\")","v":0.99475878027640563},{"$f":"IF($C61<>\"\",F61*EXP(-OFFSET('Forecasts Aggregate'!$C$58,$C61-$C$17,MATCH(F$16,Ages,1))),\"\")","v":0.9945362877665781},{"$f":"IF($C61<>\"\",G61*EXP(-OFFSET('Forecasts Aggregate'!$C$58,$C61-$C$17,MATCH(G$16,Ages,1))),\"\")","v":0.99431384502049014},{"$f":"IF($C61<>\"\",H61*EXP(-OFFSET('Forecasts Aggregate'!$C$58,$C61-$C$17,MATCH(H$16,Ages,1))),\"\")","v":0.99409145202701144},{"$f":"IF($C61<>\"\",I61*EXP(-OFFSET('Forecasts Aggregate'!$C$58,$C61-$C$17,MATCH(I$16,Ages,1))),\"\")","v":0.9939842273068451},{"$f":"IF($C61<>\"\",J61*EXP(-OFFSET('Forecasts Aggregate'!$C$58,$C61-$C$17,MATCH(J$16,Ages,1))),\"\")","v":0.99387701415215457},{"$f":"IF($C61<>\"\",K61*EXP(-OFFSET('Forecasts Aggregate'!$C$58,$C61-$C$17,MATCH(K$16,Ages,1))),\"\")","v":0.99376981256169228},{"$f":"IF($C61<>\"\",L61*EXP(-OFFSET('Forecasts Aggregate'!$C$58,$C61-$C$17,MATCH(L$16,Ages,1))),\"\")","v":0.993662622534211},{"$f":"IF($C61<>\"\",M61*EXP(-OFFSET('Forecasts Aggregate'!$C$58,$C61-$C$17,MATCH(M$16,Ages,1))),\"\")","v":0.99355544406846341},{"$f":"IF($C61<>\"\",N61*EXP(-OFFSET('Forecasts Aggregate'!$C$58,$C61-$C$17,MATCH(N$16,Ages,1))),\"\")","v":0.99343234803623248},{"$f":"IF($C61<>\"\",O61*EXP(-OFFSET('Forecasts Aggregate'!$C$58,$C61-$C$17,MATCH(O$16,Ages,1))),\"\")","v":0.99330926725492008},{"$f":"IF($C61<>\"\",P61*EXP(-OFFSET('Forecasts Aggregate'!$C$58,$C61-$C$17,MATCH(P$16,Ages,1))),\"\")","v":0.99318620172263672},{"$f":"IF($C61<>\"\",Q61*EXP(-OFFSET('Forecasts Aggregate'!$C$58,$C61-$C$17,MATCH(Q$16,Ages,1))),\"\")","v":0.99306315143749313},{"$f":"IF($C61<>\"\",R61*EXP(-OFFSET('Forecasts Aggregate'!$C$58,$C61-$C$17,MATCH(R$16,Ages,1))),\"\")","v":0.99294011639760027},{"$f":"IF($C61<>\"\",S61*EXP(-OFFSET('Forecasts Aggregate'!$C$58,$C61-$C$17,MATCH(S$16,Ages,1))),\"\")","v":0.99265011568461692},{"$f":"IF($C61<>\"\",T61*EXP(-OFFSET('Forecasts Aggregate'!$C$58,$C61-$C$17,MATCH(T$16,Ages,1))),\"\")","v":0.99236019967000777},{"$f":"IF($C61<>\"\",U61*EXP(-OFFSET('Forecasts Aggregate'!$C$58,$C61-$C$17,MATCH(U$16,Ages,1))),\"\")","v":0.99207036832903561},{"$f":"IF($C61<>\"\",V61*EXP(-OFFSET('Forecasts Aggregate'!$C$58,$C61-$C$17,MATCH(V$16,Ages,1))),\"\")","v":0.99178062163697045},{"$f":"IF($C61<>\"\",W61*EXP(-OFFSET('Forecasts Aggregate'!$C$58,$C61-$C$17,MATCH(W$16,Ages,1))),\"\")","v":0.99149095956908939},{"$f":"IF($C61<>\"\",X61*EXP(-OFFSET('Forecasts Aggregate'!$C$58,$C61-$C$17,MATCH(X$16,Ages,1))),\"\")","v":0.99097913225764034},{"$f":"IF($C61<>\"\",Y61*EXP(-OFFSET('Forecasts Aggregate'!$C$58,$C61-$C$17,MATCH(Y$16,Ages,1))),\"\")","v":0.99046756916160761},{"$f":"IF($C61<>\"\",Z61*EXP(-OFFSET('Forecasts Aggregate'!$C$58,$C61-$C$17,MATCH(Z$16,Ages,1))),\"\")","v":0.98995627014459808},{"$f":"IF($C61<>\"\",AA61*EXP(-OFFSET('Forecasts Aggregate'!$C$58,$C61-$C$17,MATCH(AA$16,Ages,1))),\"\")","v":0.98944523507028892},{"$f":"IF($C61<>\"\",AB61*EXP(-OFFSET('Forecasts Aggregate'!$C$58,$C61-$C$17,MATCH(AB$16,Ages,1))),\"\")","v":0.98893446380242755},{"$f":"IF($C61<>\"\",AC61*EXP(-OFFSET('Forecasts Aggregate'!$C$58,$C61-$C$17,MATCH(AC$16,Ages,1))),\"\")","v":0.98823457150498517},{"$f":"IF($C61<>\"\",AD61*EXP(-OFFSET('Forecasts Aggregate'!$C$58,$C61-$C$17,MATCH(AD$16,Ages,1))),\"\")","v":0.98753517453786643},{"$f":"IF($C61<>\"\",AE61*EXP(-OFFSET('Forecasts Aggregate'!$C$58,$C61-$C$17,MATCH(AE$16,Ages,1))),\"\")","v":0.98683627255051432},{"$f":"IF($C61<>\"\",AF61*EXP(-OFFSET('Forecasts Aggregate'!$C$58,$C61-$C$17,MATCH(AF$16,Ages,1))),\"\")","v":0.98613786519262003},{"$f":"IF($C61<>\"\",AG61*EXP(-OFFSET('Forecasts Aggregate'!$C$58,$C61-$C$17,MATCH(AG$16,Ages,1))),\"\")","v":0.9854399521141225},{"$f":"IF($C61<>\"\",AH61*EXP(-OFFSET('Forecasts Aggregate'!$C$58,$C61-$C$17,MATCH(AH$16,Ages,1))),\"\")","v":0.98451212458022297},{"$f":"IF($C61<>\"\",AI61*EXP(-OFFSET('Forecasts Aggregate'!$C$58,$C61-$C$17,MATCH(AI$16,Ages,1))),\"\")","v":0.98358517062967155},{"$f":"IF($C61<>\"\",AJ61*EXP(-OFFSET('Forecasts Aggregate'!$C$58,$C61-$C$17,MATCH(AJ$16,Ages,1))),\"\")","v":0.98265908943995761},{"$f":"IF($C61<>\"\",AK61*EXP(-OFFSET('Forecasts Aggregate'!$C$58,$C61-$C$17,MATCH(AK$16,Ages,1))),\"\")","v":0.98173388018934526},{"$f":"IF($C61<>\"\",AL61*EXP(-OFFSET('Forecasts Aggregate'!$C$58,$C61-$C$17,MATCH(AL$16,Ages,1))),\"\")","v":0.9808095420568721},{"$f":"IF($C61<>\"\",AM61*EXP(-OFFSET('Forecasts Aggregate'!$C$58,$C61-$C$17,MATCH(AM$16,Ages,1))),\"\")","v":0.97965091280994976},{"$f":"IF($C61<>\"\",AN61*EXP(-OFFSET('Forecasts Aggregate'!$C$58,$C61-$C$17,MATCH(AN$16,Ages,1))),\"\")","v":0.97849365225049856},{"$f":"IF($C61<>\"\",AO61*EXP(-OFFSET('Forecasts Aggregate'!$C$58,$C61-$C$17,MATCH(AO$16,Ages,1))),\"\")","v":0.97733775876168949},{"$f":"IF($C61<>\"\",AP61*EXP(-OFFSET('Forecasts Aggregate'!$C$58,$C61-$C$17,MATCH(AP$16,Ages,1))),\"\")","v":0.97618323072860358},{"$f":"IF($C61<>\"\",AQ61*EXP(-OFFSET('Forecasts Aggregate'!$C$58,$C61-$C$17,MATCH(AQ$16,Ages,1))),\"\")","v":0.97503006653822932},{"$f":"IF($C61<>\"\",AR61*EXP(-OFFSET('Forecasts Aggregate'!$C$58,$C61-$C$17,MATCH(AR$16,Ages,1))),\"\")","v":0.97345497630320421},{"$f":"IF($C61<>\"\",AS61*EXP(-OFFSET('Forecasts Aggregate'!$C$58,$C61-$C$17,MATCH(AS$16,Ages,1))),\"\")","v":0.97188243051202095},{"$f":"IF($C61<>\"\",AT61*EXP(-OFFSET('Forecasts Aggregate'!$C$58,$C61-$C$17,MATCH(AT$16,Ages,1))),\"\")","v":0.97031242505431547},{"$f":"IF($C61<>\"\",AU61*EXP(-OFFSET('Forecasts Aggregate'!$C$58,$C61-$C$17,MATCH(AU$16,Ages,1))),\"\")","v":0.96874495582636355},{"$f":"IF($C61<>\"\",AV61*EXP(-OFFSET('Forecasts Aggregate'!$C$58,$C61-$C$17,MATCH(AV$16,Ages,1))),\"\")","v":0.96718001873107029},{"$f":"IF($C61<>\"\",AW61*EXP(-OFFSET('Forecasts Aggregate'!$C$58,$C61-$C$17,MATCH(AW$16,Ages,1))),\"\")","v":0.9647821973807883},{"$f":"IF($C61<>\"\",AX61*EXP(-OFFSET('Forecasts Aggregate'!$C$58,$C61-$C$17,MATCH(AX$16,Ages,1))),\"\")","v":0.96239032068105379},{"$f":"IF($C61<>\"\",AY61*EXP(-OFFSET('Forecasts Aggregate'!$C$58,$C61-$C$17,MATCH(AY$16,Ages,1))),\"\")","v":0.96000437389395887},{"$f":"IF($C61<>\"\",AZ61*EXP(-OFFSET('Forecasts Aggregate'!$C$58,$C61-$C$17,MATCH(AZ$16,Ages,1))),\"\")","v":0.95762434231813376},{"$f":"IF($C61<>\"\",BA61*EXP(-OFFSET('Forecasts Aggregate'!$C$58,$C61-$C$17,MATCH(BA$16,Ages,1))),\"\")","v":0.95525021128865606},{"$f":"IF($C61<>\"\",BB61*EXP(-OFFSET('Forecasts Aggregate'!$C$58,$C61-$C$17,MATCH(BB$16,Ages,1))),\"\")","v":0.95152330020547682},{"$f":"IF($C61<>\"\",BC61*EXP(-OFFSET('Forecasts Aggregate'!$C$58,$C61-$C$17,MATCH(BC$16,Ages,1))),\"\")","v":0.9478109296751891},{"$f":"IF($C61<>\"\",BD61*EXP(-OFFSET('Forecasts Aggregate'!$C$58,$C61-$C$17,MATCH(BD$16,Ages,1))),\"\")","v":0.94411304296778953},{"$f":"IF($C61<>\"\",BE61*EXP(-OFFSET('Forecasts Aggregate'!$C$58,$C61-$C$17,MATCH(BE$16,Ages,1))),\"\")","v":0.94042958357460704},{"$f":"IF($C61<>\"\",BF61*EXP(-OFFSET('Forecasts Aggregate'!$C$58,$C61-$C$17,MATCH(BF$16,Ages,1))),\"\")","v":0.9367604952074392},{"$f":"IF($C61<>\"\",BG61*EXP(-OFFSET('Forecasts Aggregate'!$C$58,$C61-$C$17,MATCH(BG$16,Ages,1))),\"\")","v":0.931519151859314},{"$f":"IF($C61<>\"\",BH61*EXP(-OFFSET('Forecasts Aggregate'!$C$58,$C61-$C$17,MATCH(BH$16,Ages,1))),\"\")","v":0.92630713476932358},{"$f":"IF($C61<>\"\",BI61*EXP(-OFFSET('Forecasts Aggregate'!$C$58,$C61-$C$17,MATCH(BI$16,Ages,1))),\"\")","v":0.92112427985178247},{"$f":"IF($C61<>\"\",BJ61*EXP(-OFFSET('Forecasts Aggregate'!$C$58,$C61-$C$17,MATCH(BJ$16,Ages,1))),\"\")","v":0.91597042393909411},{"$f":"IF($C61<>\"\",BK61*EXP(-OFFSET('Forecasts Aggregate'!$C$58,$C61-$C$17,MATCH(BK$16,Ages,1))),\"\")","v":0.91084540477661391},{"$f":"IF($C61<>\"\",BL61*EXP(-OFFSET('Forecasts Aggregate'!$C$58,$C61-$C$17,MATCH(BL$16,Ages,1))),\"\")","v":0.90379642029721818},{"$f":"IF($C61<>\"\",BM61*EXP(-OFFSET('Forecasts Aggregate'!$C$58,$C61-$C$17,MATCH(BM$16,Ages,1))),\"\")","v":0.89680198753640183},{"$f":"IF($C61<>\"\",BN61*EXP(-OFFSET('Forecasts Aggregate'!$C$58,$C61-$C$17,MATCH(BN$16,Ages,1))),\"\")","v":0.88986168432129609},{"$f":"IF($C61<>\"\",BO61*EXP(-OFFSET('Forecasts Aggregate'!$C$58,$C61-$C$17,MATCH(BO$16,Ages,1))),\"\")","v":0.8829750917462057},{"$f":"IF($C61<>\"\",BP61*EXP(-OFFSET('Forecasts Aggregate'!$C$58,$C61-$C$17,MATCH(BP$16,Ages,1))),\"\")","v":0.8761417941473244},{"$f":"IF($C61<>\"\",BQ61*EXP(-OFFSET('Forecasts Aggregate'!$C$58,$C61-$C$17,MATCH(BQ$16,Ages,1))),\"\")","v":0.86625142294465829},{"$f":"IF($C61<>\"\",BR61*EXP(-OFFSET('Forecasts Aggregate'!$C$58,$C61-$C$17,MATCH(BR$16,Ages,1))),\"\")","v":0.85647269970032491},{"$f":"IF($C61<>\"\",BS61*EXP(-OFFSET('Forecasts Aggregate'!$C$58,$C61-$C$17,MATCH(BS$16,Ages,1))),\"\")","v":0.84680436407066828},{"$f":"IF($C61<>\"\",BT61*EXP(-OFFSET('Forecasts Aggregate'!$C$58,$C61-$C$17,MATCH(BT$16,Ages,1))),\"\")","v":0.83724516993948606},{"$f":"IF($C61<>\"\",BU61*EXP(-OFFSET('Forecasts Aggregate'!$C$58,$C61-$C$17,MATCH(BU$16,Ages,1))),\"\")","v":0.82779388525742192},{"$f":"IF($C61<>\"\",BV61*EXP(-OFFSET('Forecasts Aggregate'!$C$58,$C61-$C$17,MATCH(BV$16,Ages,1))),\"\")","v":0.81276637148518638},{"$f":"IF($C61<>\"\",BW61*EXP(-OFFSET('Forecasts Aggregate'!$C$58,$C61-$C$17,MATCH(BW$16,Ages,1))),\"\")","v":0.7980116625429895},{"$f":"IF($C61<>\"\",BX61*EXP(-OFFSET('Forecasts Aggregate'!$C$58,$C61-$C$17,MATCH(BX$16,Ages,1))),\"\")","v":0.78352480601645191},{"$f":"IF($C61<>\"\",BY61*EXP(-OFFSET('Forecasts Aggregate'!$C$58,$C61-$C$17,MATCH(BY$16,Ages,1))),\"\")","v":0.76930093939579081},{"$f":"IF($C61<>\"\",BZ61*EXP(-OFFSET('Forecasts Aggregate'!$C$58,$C61-$C$17,MATCH(BZ$16,Ages,1))),\"\")","v":0.75533528844371967},{"$f":"IF($C61<>\"\",CA61*EXP(-OFFSET('Forecasts Aggregate'!$C$58,$C61-$C$17,MATCH(CA$16,Ages,1))),\"\")","v":0.73309280106743191},{"$f":"IF($C61<>\"\",CB61*EXP(-OFFSET('Forecasts Aggregate'!$C$58,$C61-$C$17,MATCH(CB$16,Ages,1))),\"\")","v":0.7115052920196473},{"$f":"IF($C61<>\"\",CC61*EXP(-OFFSET('Forecasts Aggregate'!$C$58,$C61-$C$17,MATCH(CC$16,Ages,1))),\"\")","v":0.69055347404154666},{"$f":"IF($C61<>\"\",CD61*EXP(-OFFSET('Forecasts Aggregate'!$C$58,$C61-$C$17,MATCH(CD$16,Ages,1))),\"\")","v":0.6702186278295188},{"$f":"IF($C61<>\"\",CE61*EXP(-OFFSET('Forecasts Aggregate'!$C$58,$C61-$C$17,MATCH(CE$16,Ages,1))),\"\")","v":0.65048258531048619},{"$f":"IF($C61<>\"\",CF61*EXP(-OFFSET('Forecasts Aggregate'!$C$58,$C61-$C$17,MATCH(CF$16,Ages,1))),\"\")","v":0.61781422413911291},{"$f":"IF($C61<>\"\",CG61*EXP(-OFFSET('Forecasts Aggregate'!$C$58,$C61-$C$17,MATCH(CG$16,Ages,1))),\"\")","v":0.58678652460223046},{"$f":"IF($C61<>\"\",CH61*EXP(-OFFSET('Forecasts Aggregate'!$C$58,$C61-$C$17,MATCH(CH$16,Ages,1))),\"\")","v":0.5573170898331955},{"$f":"IF($C61<>\"\",CI61*EXP(-OFFSET('Forecasts Aggregate'!$C$58,$C61-$C$17,MATCH(CI$16,Ages,1))),\"\")","v":0.52932766107860529},{"$f":"IF($C61<>\"\",CJ61*EXP(-OFFSET('Forecasts Aggregate'!$C$58,$C61-$C$17,MATCH(CJ$16,Ages,1))),\"\")","v":0.50274390987508888},{"$f":"IF($C61<>\"\",CK61*EXP(-OFFSET('Forecasts Aggregate'!$C$58,$C61-$C$17,MATCH(CK$16,Ages,1))),\"\")","v":0.45962047614731033},{"$f":"IF($C61<>\"\",CL61*EXP(-OFFSET('Forecasts Aggregate'!$C$58,$C61-$C$17,MATCH(CL$16,Ages,1))),\"\")","v":0.42019600425665504},{"$f":"IF($C61<>\"\",CM61*EXP(-OFFSET('Forecasts Aggregate'!$C$58,$C61-$C$17,MATCH(CM$16,Ages,1))),\"\")","v":0.38415321152199738},{"$f":"IF($C61<>\"\",CN61*EXP(-OFFSET('Forecasts Aggregate'!$C$58,$C61-$C$17,MATCH(CN$16,Ages,1))),\"\")","v":0.35120203054697946},{"$f":"IF($C61<>\"\",CO61*EXP(-OFFSET('Forecasts Aggregate'!$C$58,$C61-$C$17,MATCH(CO$16,Ages,1))),\"\")","v":0.32107727479784098},{"$f":"IF($C61<>\"\",CP61*EXP(-OFFSET('Forecasts Aggregate'!$C$58,$C61-$C$17,MATCH(CP$16,Ages,1))),\"\")","v":0.27342590735068895},{"$f":"IF($C61<>\"\",CQ61*EXP(-OFFSET('Forecasts Aggregate'!$C$58,$C61-$C$17,MATCH(CQ$16,Ages,1))),\"\")","v":0.23284652225112962},{"$f":"IF($C61<>\"\",CR61*EXP(-OFFSET('Forecasts Aggregate'!$C$58,$C61-$C$17,MATCH(CR$16,Ages,1))),\"\")","v":0.19828956023142255},{"$f":"IF($C61<>\"\",CS61*EXP(-OFFSET('Forecasts Aggregate'!$C$58,$C61-$C$17,MATCH(CS$16,Ages,1))),\"\")","v":0.16886122805976417},{"$f":"IF($C61<>\"\",CT61*EXP(-OFFSET('Forecasts Aggregate'!$C$58,$C61-$C$17,MATCH(CT$16,Ages,1))),\"\")","v":0.14380038116264435},{"$f":"IF($C61<>\"\",CU61*EXP(-OFFSET('Forecasts Aggregate'!$C$58,$C61-$C$17,MATCH(CU$16,Ages,1))),\"\")","v":0.10722011414939842},{"$f":"IF($C61<>\"\",CV61*EXP(-OFFSET('Forecasts Aggregate'!$C$58,$C61-$C$17,MATCH(CV$16,Ages,1))),\"\")","v":7.9945218401106938E-2},{"$f":"IF($C61<>\"\",CW61*EXP(-OFFSET('Forecasts Aggregate'!$C$58,$C61-$C$17,MATCH(CW$16,Ages,1))),\"\")","v":5.9608572476384993E-2},{"$f":"IF($C61<>\"\",CX61*EXP(-OFFSET('Forecasts Aggregate'!$C$58,$C61-$C$17,MATCH(CX$16,Ages,1))),\"\")","v":4.4445208653320085E-2},{"$f":"IF($C61<>\"\",CY61*EXP(-OFFSET('Forecasts Aggregate'!$C$58,$C61-$C$17,MATCH(CY$16,Ages,1))),\"\")","v":3.3139135700988975E-2},{"$f":"IF($C61<>\"\",CZ61*EXP(-OFFSET('Forecasts Aggregate'!$C$58,$C61-$C$17,MATCH(CZ$16,Ages,1))),\"\")","v":2.4709127221670173E-2},{"$f":"IF($C61<>\"\",DA61*EXP(-OFFSET('Forecasts Aggregate'!$C$58,$C61-$C$17,MATCH(DA$16,Ages,1))),\"\")","v":1.8423563413528056E-2},{"$f":"IF($C61<>\"\",DB61*EXP(-OFFSET('Forecasts Aggregate'!$C$58,$C61-$C$17,MATCH(DB$16,Ages,1))),\"\")","v":1.3736935578793241E-2},{"$f":"IF($C61<>\"\",DC61*EXP(-OFFSET('Forecasts Aggregate'!$C$58,$C61-$C$17,MATCH(DC$16,Ages,1))),\"\")","v":1.0242502759121747E-2},{"$f":"IF($C61<>\"\",DD61*EXP(-OFFSET('Forecasts Aggregate'!$C$58,$C61-$C$17,MATCH(DD$16,Ages,1))),\"\")","v":7.6369916833978931E-3},{"$f":"IF($C61<>\"\",DE61*EXP(-OFFSET('Forecasts Aggregate'!$C$58,$C61-$C$17,MATCH(DE$16,Ages,1))),\"\")","v":5.6942764228544466E-3},{"$f":"IF($C61<>\"\",DF61*EXP(-OFFSET('Forecasts Aggregate'!$C$58,$C61-$C$17,MATCH(DF$16,Ages,1))),\"\")","v":4.2457534752020866E-3},{"$f":"IF($C61<>\"\",DG61*EXP(-OFFSET('Forecasts Aggregate'!$C$58,$C61-$C$17,MATCH(DG$16,Ages,1))),\"\")","v":3.1657090793555552E-3},{"$f":"IF($C61<>\"\",DH61*EXP(-OFFSET('Forecasts Aggregate'!$C$58,$C61-$C$17,MATCH(DH$16,Ages,1))),\"\")","v":2.3604088258179401E-3},{"$f":"IF($C61<>\"\",DI61*EXP(-OFFSET('Forecasts Aggregate'!$C$58,$C61-$C$17,MATCH(DI$16,Ages,1))),\"\")","v":1.7599626767136245E-3},{"$f":"IF($C61<>\"\",DJ61*EXP(-OFFSET('Forecasts Aggregate'!$C$58,$C61-$C$17,MATCH(DJ$16,Ages,1))),\"\")","v":1.312259380470515E-3},null,2019,81.25385020501804,20.787203800289578]
[null,null,2020,1,{"$f":"IF($C62<>\"\",D62*EXP(-OFFSET('Forecasts Aggregate'!$C$58,$C62-$C$17,MATCH(D$16,Ages,1))),\"\")","v":0.99503960117189205},{"$f":"IF($C62<>\"\",E62*EXP(-OFFSET('Forecasts Aggregate'!$C$58,$C62-$C$17,MATCH(E$16,Ages,1))),\"\")","v":0.99481821591309394},{"$f":"IF($C62<>\"\",F62*EXP(-OFFSET('Forecasts Aggregate'!$C$58,$C62-$C$17,MATCH(F$16,Ages,1))),\"\")","v":0.99459687991005685},{"$f":"IF($C62<>\"\",G62*EXP(-OFFSET('Forecasts Aggregate'!$C$58,$C62-$C$17,MATCH(G$16,Ages,1))),\"\")","v":0.99437559315182189},{"$f":"IF($C62<>\"\",H62*EXP(-OFFSET('Forecasts Aggregate'!$C$58,$C62-$C$17,MATCH(H$16,Ages,1))),\"\")","v":0.99415435562743271},{"$f":"IF($C62<>\"\",I62*EXP(-OFFSET('Forecasts Aggregate'!$C$58,$C62-$C$17,MATCH(I$16,Ages,1))),\"\")","v":0.99404753711045579},{"$f":"IF($C62<>\"\",J62*EXP(-OFFSET('Forecasts Aggregate'!$C$58,$C62-$C$17,MATCH(J$16,Ages,1))),\"\")","v":0.99394073007076655},{"$f":"IF($C62<>\"\",K62*EXP(-OFFSET('Forecasts Aggregate'!$C$58,$C62-$C$17,MATCH(K$16,Ages,1))),\"\")","v":0.99383393450713187},{"$f":"IF($C62<>\"\",L62*EXP(-OFFSET('Forecasts Aggregate'!$C$58,$C62-$C$17,MATCH(L$16,Ages,1))),\"\")","v":0.99372715041831861},{"$f":"IF($C62<>\"\",M62*EXP(-OFFSET('Forecasts Aggregate'!$C$58,$C62-$C$17,MATCH(M$16,Ages,1))),\"\")","v":0.99362037780309387},{"$f":"IF($C62<>\"\",N62*EXP(-OFFSET('Forecasts Aggregate'!$C$58,$C62-$C$17,MATCH(N$16,Ages,1))),\"\")","v":0.99349786507017157},{"$f":"IF($C62<>\"\",O62*EXP(-OFFSET('Forecasts Aggregate'!$C$58,$C62-$C$17,MATCH(O$16,Ages,1))),\"\")","v":0.99337536744298793},{"$f":"IF($C62<>\"\",P62*EXP(-OFFSET('Forecasts Aggregate'!$C$58,$C62-$C$17,MATCH(P$16,Ages,1))),\"\")","v":0.99325288491968033},{"$f":"IF($C62<>\"\",Q62*EXP(-OFFSET('Forecasts Aggregate'!$C$58,$C62-$C$17,MATCH(Q$16,Ages,1))),\"\")","v":0.9931304174983866},{"$f":"IF($C62<>\"\",R62*EXP(-OFFSET('Forecasts Aggregate'!$C$58,$C62-$C$17,MATCH(R$16,Ages,1))),\"\")","v":0.99300796517724454},{"$f":"IF($C62<>\"\",S62*EXP(-OFFSET('Forecasts Aggregate'!$C$58,$C62-$C$17,MATCH(S$16,Ages,1))),\"\")","v":0.99271741261802005},{"$f":"IF($C62<>\"\",T62*EXP(-OFFSET('Forecasts Aggregate'!$C$58,$C62-$C$17,MATCH(T$16,Ages,1))),\"\")","v":0.99242694507401452},{"$f":"IF($C62<>\"\",U62*EXP(-OFFSET('Forecasts Aggregate'!$C$58,$C62-$C$17,MATCH(U$16,Ages,1))),\"\")","v":0.99213656252035276},{"$f":"IF($C62<>\"\",V62*EXP(-OFFSET('Forecasts Aggregate'!$C$58,$C62-$C$17,MATCH(V$16,Ages,1))),\"\")","v":0.99184626493216665},{"$f":"IF($C62<>\"\",W62*EXP(-OFFSET('Forecasts Aggregate'!$C$58,$C62-$C$17,MATCH(W$16,Ages,1))),\"\")","v":0.99155605228459542},{"$f":"IF($C62<>\"\",X62*EXP(-OFFSET('Forecasts Aggregate'!$C$58,$C62-$C$17,MATCH(X$16,Ages,1))),\"\")","v":0.99103356358134476},{"$f":"IF($C62<>\"\",Y62*EXP(-OFFSET('Forecasts Aggregate'!$C$58,$C62-$C$17,MATCH(Y$16,Ages,1))),\"\")","v":0.99051135019732028},{"$f":"IF($C62<>\"\",Z62*EXP(-OFFSET('Forecasts Aggregate'!$C$58,$C62-$C$17,MATCH(Z$16,Ages,1))),\"\")","v":0.98998941198744572},{"$f":"IF($C62<>\"\",AA62*EXP(-OFFSET('Forecasts Aggregate'!$C$58,$C62-$C$17,MATCH(AA$16,Ages,1))),\"\")","v":0.98946774880672139},{"$f":"IF($C62<>\"\",AB62*EXP(-OFFSET('Forecasts Aggregate'!$C$58,$C62-$C$17,MATCH(AB$16,Ages,1))),\"\")","v":0.988946360510224},{"$f":"IF($C62<>\"\",AC62*EXP(-OFFSET('Forecasts Aggregate'!$C$58,$C62-$C$17,MATCH(AC$16,Ages,1))),\"\")","v":0.98822256560973221},{"$f":"IF($C62<>\"\",AD62*EXP(-OFFSET('Forecasts Aggregate'!$C$58,$C62-$C$17,MATCH(AD$16,Ages,1))),\"\")","v":0.98749930044379319},{"$f":"IF($C62<>\"\",AE62*EXP(-OFFSET('Forecasts Aggregate'!$C$58,$C62-$C$17,MATCH(AE$16,Ages,1))),\"\")","v":0.9867765646247022},{"$f":"IF($C62<>\"\",AF62*EXP(-OFFSET('Forecasts Aggregate'!$C$58,$C62-$C$17,MATCH(AF$16,Ages,1))),\"\")","v":0.98605435776503825},{"$f":"IF($C62<>\"\",AG62*EXP(-OFFSET('Forecasts Aggregate'!$C$58,$C62-$C$17,MATCH(AG$16,Ages,1))),\"\")","v":0.9853326794776639},{"$f":"IF($C62<>\"\",AH62*EXP(-OFFSET('Forecasts Aggregate'!$C$58,$C62-$C$17,MATCH(AH$16,Ages,1))),\"\")","v":0.9843800659381543},{"$f":"IF($C62<>\"\",AI62*EXP(-OFFSET('Forecasts Aggregate'!$C$58,$C62-$C$17,MATCH(AI$16,Ages,1))),\"\")","v":0.98342837337952216},{"$f":"IF($C62<>\"\",AJ62*EXP(-OFFSET('Forecasts Aggregate'!$C$58,$C62-$C$17,MATCH(AJ$16,Ages,1))),\"\")","v":0.98247760091136871},{"$f":"IF($C62<>\"\",AK62*EXP(-OFFSET('Forecasts Aggregate'!$C$58,$C62-$C$17,MATCH(AK$16,Ages,1))),\"\")","v":0.98152774764415629},{"$f":"IF($C62<>\"\",AL62*EXP(-OFFSET('Forecasts Aggregate'!$C$58,$C62-$C$17,MATCH(AL$16,Ages,1))),\"\")","v":0.9805788126892071},{"$f":"IF($C62<>\"\",AM62*EXP(-OFFSET('Forecasts Aggregate'!$C$58,$C62-$C$17,MATCH(AM$16,Ages,1))),\"\")","v":0.97941036970985196},{"$f":"IF($C62<>\"\",AN62*EXP(-OFFSET('Forecasts Aggregate'!$C$58,$C62-$C$17,MATCH(AN$16,Ages,1))),\"\")","v":0.97824331902959438},{"$f":"IF($C62<>\"\",AO62*EXP(-OFFSET('Forecasts Aggregate'!$C$58,$C62-$C$17,MATCH(AO$16,Ages,1))),\"\")","v":0.9770776589893917},{"$f":"IF($C62<>\"\",AP62*EXP(-OFFSET('Forecasts Aggregate'!$C$58,$C62-$C$17,MATCH(AP$16,Ages,1))),\"\")","v":0.97591338793217808},{"$f":"IF($C62<>\"\",AQ62*EXP(-OFFSET('Forecasts Aggregate'!$C$58,$C62-$C$17,MATCH(AQ$16,Ages,1))),\"\")","v":0.97475050420286236},{"$f":"IF($C62<>\"\",AR62*EXP(-OFFSET('Forecasts Aggregate'!$C$58,$C62-$C$17,MATCH(AR$16,Ages,1))),\"\")","v":0.97317269810919149},{"$f":"IF($C62<>\"\",AS62*EXP(-OFFSET('Forecasts Aggregate'!$C$58,$C62-$C$17,MATCH(AS$16,Ages,1))),\"\")","v":0.97159744597374731},{"$f":"IF($C62<>\"\",AT62*EXP(-OFFSET('Forecasts Aggregate'!$C$58,$C62-$C$17,MATCH(AT$16,Ages,1))),\"\")","v":0.9700247436624968},{"$f":"IF($C62<>\"\",AU62*EXP(-OFFSET('Forecasts Aggregate'!$C$58,$C62-$C$17,MATCH(AU$16,Ages,1))),\"\")","v":0.9684545870480985},{"$f":"IF($C62<>\"\",AV62*EXP(-OFFSET('Forecasts Aggregate'!$C$58,$C62-$C$17,MATCH(AV$16,Ages,1))),\"\")","v":0.96688697200989171},{"$f":"IF($C62<>\"\",AW62*EXP(-OFFSET('Forecasts Aggregate'!$C$58,$C62-$C$17,MATCH(AW$16,Ages,1))),\"\")","v":0.96447688074402538},{"$f":"IF($C62<>\"\",AX62*EXP(-OFFSET('Forecasts Aggregate'!$C$58,$C62-$C$17,MATCH(AX$16,Ages,1))),\"\")","v":0.96207279694343473},{"$f":"IF($C62<>\"\",AY62*EXP(-OFFSET('Forecasts Aggregate'!$C$58,$C62-$C$17,MATCH(AY$16,Ages,1))),\"\")","v":0.95967470563373281},{"$f":"IF($C62<>\"\",AZ62*EXP(-OFFSET('Forecasts Aggregate'!$C$58,$C62-$C$17,MATCH(AZ$16,Ages,1))),\"\")","v":0.95728259187785836},{"$f":"IF($C62<>\"\",BA62*EXP(-OFFSET('Forecasts Aggregate'!$C$58,$C62-$C$17,MATCH(BA$16,Ages,1))),\"\")","v":0.95489644077598268},{"$f":"IF($C62<>\"\",BB62*EXP(-OFFSET('Forecasts Aggregate'!$C$58,$C62-$C$17,MATCH(BB$16,Ages,1))),\"\")","v":0.9511361071815142},{"$f":"IF($C62<>\"\",BC62*EXP(-OFFSET('Forecasts Aggregate'!$C$58,$C62-$C$17,MATCH(BC$16,Ages,1))),\"\")","v":0.94739058158939848},{"$f":"IF($C62<>\"\",BD62*EXP(-OFFSET('Forecasts Aggregate'!$C$58,$C62-$C$17,MATCH(BD$16,Ages,1))),\"\")","v":0.94365980568647589},{"$f":"IF($C62<>\"\",BE62*EXP(-OFFSET('Forecasts Aggregate'!$C$58,$C62-$C$17,MATCH(BE$16,Ages,1))),\"\")","v":0.93994372138922078},{"$f":"IF($C62<>\"\",BF62*EXP(-OFFSET('Forecasts Aggregate'!$C$58,$C62-$C$17,MATCH(BF$16,Ages,1))),\"\")","v":0.93624227084283762},{"$f":"IF($C62<>\"\",BG62*EXP(-OFFSET('Forecasts Aggregate'!$C$58,$C62-$C$17,MATCH(BG$16,Ages,1))),\"\")","v":0.93099021837945517},{"$f":"IF($C62<>\"\",BH62*EXP(-OFFSET('Forecasts Aggregate'!$C$58,$C62-$C$17,MATCH(BH$16,Ages,1))),\"\")","v":0.92576762843441562},{"$f":"IF($C62<>\"\",BI62*EXP(-OFFSET('Forecasts Aggregate'!$C$58,$C62-$C$17,MATCH(BI$16,Ages,1))),\"\")","v":0.92057433573138303},{"$f":"IF($C62<>\"\",BJ62*EXP(-OFFSET('Forecasts Aggregate'!$C$58,$C62-$C$17,MATCH(BJ$16,Ages,1))),\"\")","v":0.9154101759211748},{"$f":"IF($C62<>\"\",BK62*EXP(-OFFSET('Forecasts Aggregate'!$C$58,$C62-$C$17,MATCH(BK$16,Ages,1))),\"\")","v":0.91027498557656017},{"$f":"IF($C62<>\"\",BL62*EXP(-OFFSET('Forecasts Aggregate'!$C$58,$C62-$C$17,MATCH(BL$16,Ages,1))),\"\")","v":0.90326794624470774},{"$f":"IF($C62<>\"\",BM62*EXP(-OFFSET('Forecasts Aggregate'!$C$58,$C62-$C$17,MATCH(BM$16,Ages,1))),\"\")","v":0.89631484511941495},{"$f":"IF($C62<>\"\",BN62*EXP(-OFFSET('Forecasts Aggregate'!$C$58,$C62-$C$17,MATCH(BN$16,Ages,1))),\"\")","v":0.88941526699962625},{"$f":"IF($C62<>\"\",BO62*EXP(-OFFSET('Forecasts Aggregate'!$C$58,$C62-$C$17,MATCH(BO$16,Ages,1))),\"\")","v":0.8825687998803865},{"$f":"IF($C62<>\"\",BP62*EXP(-OFFSET('Forecasts Aggregate'!$C$58,$C62-$C$17,MATCH(BP$16,Ages,1))),\"\")","v":0.87577503492823783},{"$f":"IF($C62<>\"\",BQ62*EXP(-OFFSET('Forecasts Aggregate'!$C$58,$C62-$C$17,MATCH(BQ$16,Ages,1))),\"\")","v":0.86596099565438833},{"$f":"IF($C62<>\"\",BR62*EXP(-OFFSET('Forecasts Aggregate'!$C$58,$C62-$C$17,MATCH(BR$16,Ages,1))),\"\")","v":0.85625693367268274},{"$f":"IF($C62<>\"\",BS62*EXP(-OFFSET('Forecasts Aggregate'!$C$58,$C62-$C$17,MATCH(BS$16,Ages,1))),\"\")","v":0.84666161656449612},{"$f":"IF($C62<>\"\",BT62*EXP(-OFFSET('Forecasts Aggregate'!$C$58,$C62-$C$17,MATCH(BT$16,Ages,1))),\"\")","v":0.83717382572183319},{"$f":"IF($C62<>\"\",BU62*EXP(-OFFSET('Forecasts Aggregate'!$C$58,$C62-$C$17,MATCH(BU$16,Ages,1))),\"\")","v":0.82779235619256508},{"$f":"IF($C62<>\"\",BV62*EXP(-OFFSET('Forecasts Aggregate'!$C$58,$C62-$C$17,MATCH(BV$16,Ages,1))),\"\")","v":0.81286017795294419},{"$f":"IF($C62<>\"\",BW62*EXP(-OFFSET('Forecasts Aggregate'!$C$58,$C62-$C$17,MATCH(BW$16,Ages,1))),\"\")","v":0.79819735463706942},{"$f":"IF($C62<>\"\",BX62*EXP(-OFFSET('Forecasts Aggregate'!$C$58,$C62-$C$17,MATCH(BX$16,Ages,1))),\"\")","v":0.78379902747123853},{"$f":"IF($C62<>\"\",BY62*EXP(-OFFSET('Forecasts Aggregate'!$C$58,$C62-$C$17,MATCH(BY$16,Ages,1))),\"\")","v":0.76966042532700774},{"$f":"IF($C62<>\"\",BZ62*EXP(-OFFSET('Forecasts Aggregate'!$C$58,$C62-$C$17,MATCH(BZ$16,Ages,1))),\"\")","v":0.75577686314019799},{"$f":"IF($C62<>\"\",CA62*EXP(-OFFSET('Forecasts Aggregate'!$C$58,$C62-$C$17,MATCH(CA$16,Ages,1))),\"\")","v":0.7336273349971556},{"$f":"IF($C62<>\"\",CB62*EXP(-OFFSET('Forecasts Aggregate'!$C$58,$C62-$C$17,MATCH(CB$16,Ages,1))),\"\")","v":0.71212694236075069},{"$f":"IF($C62<>\"\",CC62*EXP(-OFFSET('Forecasts Aggregate'!$C$58,$C62-$C$17,MATCH(CC$16,Ages,1))),\"\")","v":0.6912566610376345},{"$f":"IF($C62<>\"\",CD62*EXP(-OFFSET('Forecasts Aggregate'!$C$58,$C62-$C$17,MATCH(CD$16,Ages,1))),\"\")","v":0.67099802437587897},{"$f":"IF($C62<>\"\",CE62*EXP(-OFFSET('Forecasts Aggregate'!$C$58,$C62-$C$17,MATCH(CE$16,Ages,1))),\"\")","v":0.65133310692512814},{"$f":"IF($C62<>\"\",CF62*EXP(-OFFSET('Forecasts Aggregate'!$C$58,$C62-$C$17,MATCH(CF$16,Ages,1))),\"\")","v":0.61876566644349551},{"$f":"IF($C62<>\"\",CG62*EXP(-OFFSET('Forecasts Aggregate'!$C$58,$C62-$C$17,MATCH(CG$16,Ages,1))),\"\")","v":0.58782663724365969},{"$f":"IF($C62<>\"\",CH62*EXP(-OFFSET('Forecasts Aggregate'!$C$58,$C62-$C$17,MATCH(CH$16,Ages,1))),\"\")","v":0.55843459679859786},{"$f":"IF($C62<>\"\",CI62*EXP(-OFFSET('Forecasts Aggregate'!$C$58,$C62-$C$17,MATCH(CI$16,Ages,1))),\"\")","v":0.53051219380578718},{"$f":"IF($C62<>\"\",CJ62*EXP(-OFFSET('Forecasts Aggregate'!$C$58,$C62-$C$17,MATCH(CJ$16,Ages,1))),\"\")","v":0.50398594462107249},{"$f":"IF($C62<>\"\",CK62*EXP(-OFFSET('Forecasts Aggregate'!$C$58,$C62-$C$17,MATCH(CK$16,Ages,1))),\"\")","v":0.46091816361325855},{"$f":"IF($C62<>\"\",CL62*EXP(-OFFSET('Forecasts Aggregate'!$C$58,$C62-$C$17,MATCH(CL$16,Ages,1))),\"\")","v":0.42153071095732275},{"$f":"IF($C62<>\"\",CM62*EXP(-OFFSET('Forecasts Aggregate'!$C$58,$C62-$C$17,MATCH(CM$16,Ages,1))),\"\")","v":0.38550908666137601},{"$f":"IF($C62<>\"\",CN62*EXP(-OFFSET('Forecasts Aggregate'!$C$58,$C62-$C$17,MATCH(CN$16,Ages,1))),\"\")","v":0.35256566611948437},{"$f":"IF($C62<>\"\",CO62*EXP(-OFFSET('Forecasts Aggregate'!$C$58,$C62-$C$17,MATCH(CO$16,Ages,1))),\"\")","v":0.3224374034935803},{"$f":"IF($C62<>\"\",CP62*EXP(-OFFSET('Forecasts Aggregate'!$C$58,$C62-$C$17,MATCH(CP$16,Ages,1))),\"\")","v":0.27467882631519724},{"$f":"IF($C62<>\"\",CQ62*EXP(-OFFSET('Forecasts Aggregate'!$C$58,$C62-$C$17,MATCH(CQ$16,Ages,1))),\"\")","v":0.23399412353659044},{"$f":"IF($C62<>\"\",CR62*EXP(-OFFSET('Forecasts Aggregate'!$C$58,$C62-$C$17,MATCH(CR$16,Ages,1))),\"\")","v":0.19933553155213768},{"$f":"IF($C62<>\"\",CS62*EXP(-OFFSET('Forecasts Aggregate'!$C$58,$C62-$C$17,MATCH(CS$16,Ages,1))),\"\")","v":0.16981047873606039},{"$f":"IF($C62<>\"\",CT62*EXP(-OFFSET('Forecasts Aggregate'!$C$58,$C62-$C$17,MATCH(CT$16,Ages,1))),\"\")","v":0.14465859881597604},{"$f":"IF($C62<>\"\",CU62*EXP(-OFFSET('Forecasts Aggregate'!$C$58,$C62-$C$17,MATCH(CU$16,Ages,1))),\"\")","v":0.10785744639785798},{"$f":"IF($C62<>\"\",CV62*EXP(-OFFSET('Forecasts Aggregate'!$C$58,$C62-$C$17,MATCH(CV$16,Ages,1))),\"\")","v":8.0418508396211827E-2},{"$f":"IF($C62<>\"\",CW62*EXP(-OFFSET('Forecasts Aggregate'!$C$58,$C62-$C$17,MATCH(CW$16,Ages,1))),\"\")","v":5.9960037147699687E-2},{"$f":"IF($C62<>\"\",CX62*EXP(-OFFSET('Forecasts Aggregate'!$C$58,$C62-$C$17,MATCH(CX$16,Ages,1))),\"\")","v":4.4706201674873158E-2},{"$f":"IF($C62<>\"\",CY62*EXP(-OFFSET('Forecasts Aggregate'!$C$58,$C62-$C$17,MATCH(CY$16,Ages,1))),\"\")","v":3.3332942460845491E-2},{"$f":"IF($C62<>\"\",CZ62*EXP(-OFFSET('Forecasts Aggregate'!$C$58,$C62-$C$17,MATCH(CZ$16,Ages,1))),\"\")","v":2.485304077448643E-2},{"$f":"IF($C62<>\"\",DA62*EXP(-OFFSET('Forecasts Aggregate'!$C$58,$C62-$C$17,MATCH(DA$16,Ages,1))),\"\")","v":1.8530426363164154E-2},{"$f":"IF($C62<>\"\",DB62*EXP(-OFFSET('Forecasts Aggregate'!$C$58,$C62-$C$17,MATCH(DB$16,Ages,1))),\"\")","v":1.3816285271344013E-2},{"$f":"IF($C62<>\"\",DC62*EXP(-OFFSET('Forecasts Aggregate'!$C$58,$C62-$C$17,MATCH(DC$16,Ages,1))),\"\")","v":1.030142183229087E-2},{"$f":"IF($C62<>\"\",DD62*EXP(-OFFSET('Forecasts Aggregate'!$C$58,$C62-$C$17,MATCH(DD$16,Ages,1))),\"\")","v":7.6807397706891703E-3},{"$f":"IF($C62<>\"\",DE62*EXP(-OFFSET('Forecasts Aggregate'!$C$58,$C62-$C$17,MATCH(DE$16,Ages,1))),\"\")","v":5.7267593139545348E-3},{"$f":"IF($C62<>\"\",DF62*EXP(-OFFSET('Forecasts Aggregate'!$C$58,$C62-$C$17,MATCH(DF$16,Ages,1))),\"\")","v":4.2698715513209409E-3},{"$f":"IF($C62<>\"\",DG62*EXP(-OFFSET('Forecasts Aggregate'!$C$58,$C62-$C$17,MATCH(DG$16,Ages,1))),\"\")","v":3.1836160846421494E-3},{"$f":"IF($C62<>\"\",DH62*EXP(-OFFSET('Forecasts Aggregate'!$C$58,$C62-$C$17,MATCH(DH$16,Ages,1))),\"\")","v":2.3737040453258333E-3},{"$f":"IF($C62<>\"\",DI62*EXP(-OFFSET('Forecasts Aggregate'!$C$58,$C62-$C$17,MATCH(DI$16,Ages,1))),\"\")","v":1.7698336561299168E-3},{"$f":"IF($C62<>\"\",DJ62*EXP(-OFFSET('Forecasts Aggregate'!$C$58,$C62-$C$17,MATCH(DJ$16,Ages,1))),\"\")","v":1.3195879143139864E-3},null,2020,81.266541140734901,20.823193728464926]
[null,null,2021,1,{"$f":"IF($C63<>\"\",D63*EXP(-OFFSET('Forecasts Aggregate'!$C$58,$C63-$C$17,MATCH(D$16,Ages,1))),\"\")","v":0.99509713467867289},{"$f":"IF($C63<>\"\",E63*EXP(-OFFSET('Forecasts Aggregate'!$C$58,$C63-$C$17,MATCH(E$16,Ages,1))),\"\")","v":0.99487688890970227},{"$f":"IF($C63<>\"\",F63*EXP(-OFFSET('Forecasts Aggregate'!$C$58,$C63-$C$17,MATCH(F$16,Ages,1))),\"\")","v":0.99465669188793138},{"$f":"IF($C63<>\"\",G63*EXP(-OFFSET('Forecasts Aggregate'!$C$58,$C63-$C$17,MATCH(G$16,Ages,1))),\"\")","v":0.99443654360257094},{"$f":"IF($C63<>\"\",H63*EXP(-OFFSET('Forecasts Aggregate'!$C$58,$C63-$C$17,MATCH(H$16,Ages,1))),\"\")","v":0.99421644404283405},{"$f":"IF($C63<>\"\",I63*EXP(-OFFSET('Forecasts Aggregate'!$C$58,$C63-$C$17,MATCH(I$16,Ages,1))),\"\")","v":0.99411002418934724},{"$f":"IF($C63<>\"\",J63*EXP(-OFFSET('Forecasts Aggregate'!$C$58,$C63-$C$17,MATCH(J$16,Ages,1))),\"\")","v":0.99400361572692653},{"$f":"IF($C63<>\"\",K63*EXP(-OFFSET('Forecasts Aggregate'!$C$58,$C63-$C$17,MATCH(K$16,Ages,1))),\"\")","v":0.99389721865435254},{"$f":"IF($C63<>\"\",L63*EXP(-OFFSET('Forecasts Aggregate'!$C$58,$C63-$C$17,MATCH(L$16,Ages,1))),\"\")","v":0.99379083297040627},{"$f":"IF($C63<>\"\",M63*EXP(-OFFSET('Forecasts Aggregate'!$C$58,$C63-$C$17,MATCH(M$16,Ages,1))),\"\")","v":0.99368445867386856},{"$f":"IF($C63<>\"\",N63*EXP(-OFFSET('Forecasts Aggregate'!$C$58,$C63-$C$17,MATCH(N$16,Ages,1))),\"\")","v":0.99356251954171848},{"$f":"IF($C63<>\"\",O63*EXP(-OFFSET('Forecasts Aggregate'!$C$58,$C63-$C$17,MATCH(O$16,Ages,1))),\"\")","v":0.99344059537322393},{"$f":"IF($C63<>\"\",P63*EXP(-OFFSET('Forecasts Aggregate'!$C$58,$C63-$C$17,MATCH(P$16,Ages,1))),\"\")","v":0.99331868616654873},{"$f":"IF($C63<>\"\",Q63*EXP(-OFFSET('Forecasts Aggregate'!$C$58,$C63-$C$17,MATCH(Q$16,Ages,1))),\"\")","v":0.99319679191985677},{"$f":"IF($C63<>\"\",R63*EXP(-OFFSET('Forecasts Aggregate'!$C$58,$C63-$C$17,MATCH(R$16,Ages,1))),\"\")","v":0.9930749126313122},{"$f":"IF($C63<>\"\",S63*EXP(-OFFSET('Forecasts Aggregate'!$C$58,$C63-$C$17,MATCH(S$16,Ages,1))),\"\")","v":0.99278373368719308},{"$f":"IF($C63<>\"\",T63*EXP(-OFFSET('Forecasts Aggregate'!$C$58,$C63-$C$17,MATCH(T$16,Ages,1))),\"\")","v":0.99249264011949057},{"$f":"IF($C63<>\"\",U63*EXP(-OFFSET('Forecasts Aggregate'!$C$58,$C63-$C$17,MATCH(U$16,Ages,1))),\"\")","v":0.99220163190317157},{"$f":"IF($C63<>\"\",V63*EXP(-OFFSET('Forecasts Aggregate'!$C$58,$C63-$C$17,MATCH(V$16,Ages,1))),\"\")","v":0.99191070901321021},{"$f":"IF($C63<>\"\",W63*EXP(-OFFSET('Forecasts Aggregate'!$C$58,$C63-$C$17,MATCH(W$16,Ages,1))),\"\")","v":0.99161987142458796},{"$f":"IF($C63<>\"\",X63*EXP(-OFFSET('Forecasts Aggregate'!$C$58,$C63-$C$17,MATCH(X$16,Ages,1))),\"\")","v":0.99108561710201715},{"$f":"IF($C63<>\"\",Y63*EXP(-OFFSET('Forecasts Aggregate'!$C$58,$C63-$C$17,MATCH(Y$16,Ages,1))),\"\")","v":0.9905516506192622},{"$f":"IF($C63<>\"\",Z63*EXP(-OFFSET('Forecasts Aggregate'!$C$58,$C63-$C$17,MATCH(Z$16,Ages,1))),\"\")","v":0.99001797182124385},{"$f":"IF($C63<>\"\",AA63*EXP(-OFFSET('Forecasts Aggregate'!$C$58,$C63-$C$17,MATCH(AA$16,Ages,1))),\"\")","v":0.9894845805529664},{"$f":"IF($C63<>\"\",AB63*EXP(-OFFSET('Forecasts Aggregate'!$C$58,$C63-$C$17,MATCH(AB$16,Ages,1))),\"\")","v":0.98895147665951766},{"$f":"IF($C63<>\"\",AC63*EXP(-OFFSET('Forecasts Aggregate'!$C$58,$C63-$C$17,MATCH(AC$16,Ages,1))),\"\")","v":0.9882009192519865},{"$f":"IF($C63<>\"\",AD63*EXP(-OFFSET('Forecasts Aggregate'!$C$58,$C63-$C$17,MATCH(AD$16,Ages,1))),\"\")","v":0.98745093147444762},{"$f":"IF($C63<>\"\",AE63*EXP(-OFFSET('Forecasts Aggregate'!$C$58,$C63-$C$17,MATCH(AE$16,Ages,1))),\"\")","v":0.98670151289458463},{"$f":"IF($C63<>\"\",AF63*EXP(-OFFSET('Forecasts Aggregate'!$C$58,$C63-$C$17,MATCH(AF$16,Ages,1))),\"\")","v":0.98595266308040896},{"$f":"IF($C63<>\"\",AG63*EXP(-OFFSET('Forecasts Aggregate'!$C$58,$C63-$C$17,MATCH(AG$16,Ages,1))),\"\")","v":0.98520438160026025},{"$f":"IF($C63<>\"\",AH63*EXP(-OFFSET('Forecasts Aggregate'!$C$58,$C63-$C$17,MATCH(AH$16,Ages,1))),\"\")","v":0.98422439537388484},{"$f":"IF($C63<>\"\",AI63*EXP(-OFFSET('Forecasts Aggregate'!$C$58,$C63-$C$17,MATCH(AI$16,Ages,1))),\"\")","v":0.98324538394321859},{"$f":"IF($C63<>\"\",AJ63*EXP(-OFFSET('Forecasts Aggregate'!$C$58,$C63-$C$17,MATCH(AJ$16,Ages,1))),\"\")","v":0.98226734633862889},{"$f":"IF($C63<>\"\",AK63*EXP(-OFFSET('Forecasts Aggregate'!$C$58,$C63-$C$17,MATCH(AK$16,Ages,1))),\"\")","v":0.98129028159144749},{"$f":"IF($C63<>\"\",AL63*EXP(-OFFSET('Forecasts Aggregate'!$C$58,$C63-$C$17,MATCH(AL$16,Ages,1))),\"\")","v":0.9803141887339698},{"$f":"IF($C63<>\"\",AM63*EXP(-OFFSET('Forecasts Aggregate'!$C$58,$C63-$C$17,MATCH(AM$16,Ages,1))),\"\")","v":0.97913509448107738},{"$f":"IF($C63<>\"\",AN63*EXP(-OFFSET('Forecasts Aggregate'!$C$58,$C63-$C$17,MATCH(AN$16,Ages,1))),\"\")","v":0.97795741840949169},{"$f":"IF($C63<>\"\",AO63*EXP(-OFFSET('Forecasts Aggregate'!$C$58,$C63-$C$17,MATCH(AO$16,Ages,1))),\"\")","v":0.97678115881346428},{"$f":"IF($C63<>\"\",AP63*EXP(-OFFSET('Forecasts Aggregate'!$C$58,$C63-$C$17,MATCH(AP$16,Ages,1))),\"\")","v":0.97560631398929831},{"$f":"IF($C63<>\"\",AQ63*EXP(-OFFSET('Forecasts Aggregate'!$C$58,$C63-$C$17,MATCH(AQ$16,Ages,1))),\"\")","v":0.97443288223534608},{"$f":"IF($C63<>\"\",AR63*EXP(-OFFSET('Forecasts Aggregate'!$C$58,$C63-$C$17,MATCH(AR$16,Ages,1))),\"\")","v":0.97285179706892899},{"$f":"IF($C63<>\"\",AS63*EXP(-OFFSET('Forecasts Aggregate'!$C$58,$C63-$C$17,MATCH(AS$16,Ages,1))),\"\")","v":0.97127327732322899},{"$f":"IF($C63<>\"\",AT63*EXP(-OFFSET('Forecasts Aggregate'!$C$58,$C63-$C$17,MATCH(AT$16,Ages,1))),\"\")","v":0.96969731883567234},{"$f":"IF($C63<>\"\",AU63*EXP(-OFFSET('Forecasts Aggregate'!$C$58,$C63-$C$17,MATCH(AU$16,Ages,1))),\"\")","v":0.96812391745043958},{"$f":"IF($C63<>\"\",AV63*EXP(-OFFSET('Forecasts Aggregate'!$C$58,$C63-$C$17,MATCH(AV$16,Ages,1))),\"\")","v":0.96655306901845417},{"$f":"IF($C63<>\"\",AW63*EXP(-OFFSET('Forecasts Aggregate'!$C$58,$C63-$C$17,MATCH(AW$16,Ages,1))),\"\")","v":0.96412952120454165},{"$f":"IF($C63<>\"\",AX63*EXP(-OFFSET('Forecasts Aggregate'!$C$58,$C63-$C$17,MATCH(AX$16,Ages,1))),\"\")","v":0.96171205022613315},{"$f":"IF($C63<>\"\",AY63*EXP(-OFFSET('Forecasts Aggregate'!$C$58,$C63-$C$17,MATCH(AY$16,Ages,1))),\"\")","v":0.95930064084609179},{"$f":"IF($C63<>\"\",AZ63*EXP(-OFFSET('Forecasts Aggregate'!$C$58,$C63-$C$17,MATCH(AZ$16,Ages,1))),\"\")","v":0.95689527786548645},{"$f":"IF($C63<>\"\",BA63*EXP(-OFFSET('Forecasts Aggregate'!$C$58,$C63-$C$17,MATCH(BA$16,Ages,1))),\"\")","v":0.95449594612349609},{"$f":"IF($C63<>\"\",BB63*EXP(-OFFSET('Forecasts Aggregate'!$C$58,$C63-$C$17,MATCH(BB$16,Ages,1))),\"\")","v":0.95069901927605904},{"$f":"IF($C63<>\"\",BC63*EXP(-OFFSET('Forecasts Aggregate'!$C$58,$C63-$C$17,MATCH(BC$16,Ages,1))),\"\")","v":0.94691719637279625},{"$f":"IF($C63<>\"\",BD63*EXP(-OFFSET('Forecasts Aggregate'!$C$58,$C63-$C$17,MATCH(BD$16,Ages,1))),\"\")","v":0.94315041733113603},{"$f":"IF($C63<>\"\",BE63*EXP(-OFFSET('Forecasts Aggregate'!$C$58,$C63-$C$17,MATCH(BE$16,Ages,1))),\"\")","v":0.93939862230751137},{"$f":"IF($C63<>\"\",BF63*EXP(-OFFSET('Forecasts Aggregate'!$C$58,$C63-$C$17,MATCH(BF$16,Ages,1))),\"\")","v":0.93566175169640953},{"$f":"IF($C63<>\"\",BG63*EXP(-OFFSET('Forecasts Aggregate'!$C$58,$C63-$C$17,MATCH(BG$16,Ages,1))),\"\")","v":0.93039652007101847},{"$f":"IF($C63<>\"\",BH63*EXP(-OFFSET('Forecasts Aggregate'!$C$58,$C63-$C$17,MATCH(BH$16,Ages,1))),\"\")","v":0.92516091738366912},{"$f":"IF($C63<>\"\",BI63*EXP(-OFFSET('Forecasts Aggregate'!$C$58,$C63-$C$17,MATCH(BI$16,Ages,1))),\"\")","v":0.91995477690400052},{"$f":"IF($C63<>\"\",BJ63*EXP(-OFFSET('Forecasts Aggregate'!$C$58,$C63-$C$17,MATCH(BJ$16,Ages,1))),\"\")","v":0.91477793283989028},{"$f":"IF($C63<>\"\",BK63*EXP(-OFFSET('Forecasts Aggregate'!$C$58,$C63-$C$17,MATCH(BK$16,Ages,1))),\"\")","v":0.909630220332175},{"$f":"IF($C63<>\"\",BL63*EXP(-OFFSET('Forecasts Aggregate'!$C$58,$C63-$C$17,MATCH(BL$16,Ages,1))),\"\")","v":0.90266408285663025},{"$f":"IF($C63<>\"\",BM63*EXP(-OFFSET('Forecasts Aggregate'!$C$58,$C63-$C$17,MATCH(BM$16,Ages,1))),\"\")","v":0.89575129351117555},{"$f":"IF($C63<>\"\",BN63*EXP(-OFFSET('Forecasts Aggregate'!$C$58,$C63-$C$17,MATCH(BN$16,Ages,1))),\"\")","v":0.88889144374473172},{"$f":"IF($C63<>\"\",BO63*EXP(-OFFSET('Forecasts Aggregate'!$C$58,$C63-$C$17,MATCH(BO$16,Ages,1))),\"\")","v":0.8820841281349886},{"$f":"IF($C63<>\"\",BP63*EXP(-OFFSET('Forecasts Aggregate'!$C$58,$C63-$C$17,MATCH(BP$16,Ages,1))),\"\")","v":0.87532894436444442},{"$f":"IF($C63<>\"\",BQ63*EXP(-OFFSET('Forecasts Aggregate'!$C$58,$C63-$C$17,MATCH(BQ$16,Ages,1))),\"\")","v":0.86559084563097866},{"$f":"IF($C63<>\"\",BR63*EXP(-OFFSET('Forecasts Aggregate'!$C$58,$C63-$C$17,MATCH(BR$16,Ages,1))),\"\")","v":0.85596108396045734},{"$f":"IF($C63<>\"\",BS63*EXP(-OFFSET('Forecasts Aggregate'!$C$58,$C63-$C$17,MATCH(BS$16,Ages,1))),\"\")","v":0.84643845409510599},{"$f":"IF($C63<>\"\",BT63*EXP(-OFFSET('Forecasts Aggregate'!$C$58,$C63-$C$17,MATCH(BT$16,Ages,1))),\"\")","v":0.83702176418573127},{"$f":"IF($C63<>\"\",BU63*EXP(-OFFSET('Forecasts Aggregate'!$C$58,$C63-$C$17,MATCH(BU$16,Ages,1))),\"\")","v":0.82770983564254952},{"$f":"IF($C63<>\"\",BV63*EXP(-OFFSET('Forecasts Aggregate'!$C$58,$C63-$C$17,MATCH(BV$16,Ages,1))),\"\")","v":0.81287301424710501},{"$f":"IF($C63<>\"\",BW63*EXP(-OFFSET('Forecasts Aggregate'!$C$58,$C63-$C$17,MATCH(BW$16,Ages,1))),\"\")","v":0.79830214507264563},{"$f":"IF($C63<>\"\",BX63*EXP(-OFFSET('Forecasts Aggregate'!$C$58,$C63-$C$17,MATCH(BX$16,Ages,1))),\"\")","v":0.7839924608862201},{"$f":"IF($C63<>\"\",BY63*EXP(-OFFSET('Forecasts Aggregate'!$C$58,$C63-$C$17,MATCH(BY$16,Ages,1))),\"\")","v":0.76993927990823408},{"$f":"IF($C63<>\"\",BZ63*EXP(-OFFSET('Forecasts Aggregate'!$C$58,$C63-$C$17,MATCH(BZ$16,Ages,1))),\"\")","v":0.75613800428068567},{"$f":"IF($C63<>\"\",CA63*EXP(-OFFSET('Forecasts Aggregate'!$C$58,$C63-$C$17,MATCH(CA$16,Ages,1))),\"\")","v":0.73408164373154383},{"$f":"IF($C63<>\"\",CB63*EXP(-OFFSET('Forecasts Aggregate'!$C$58,$C63-$C$17,MATCH(CB$16,Ages,1))),\"\")","v":0.7126686618221737},{"$f":"IF($C63<>\"\",CC63*EXP(-OFFSET('Forecasts Aggregate'!$C$58,$C63-$C$17,MATCH(CC$16,Ages,1))),\"\")","v":0.69188029135509521},{"$f":"IF($C63<>\"\",CD63*EXP(-OFFSET('Forecasts Aggregate'!$C$58,$C63-$C$17,MATCH(CD$16,Ages,1))),\"\")","v":0.67169831256738644},{"$f":"IF($C63<>\"\",CE63*EXP(-OFFSET('Forecasts Aggregate'!$C$58,$C63-$C$17,MATCH(CE$16,Ages,1))),\"\")","v":0.65210503716215118},{"$f":"IF($C63<>\"\",CF63*EXP(-OFFSET('Forecasts Aggregate'!$C$58,$C63-$C$17,MATCH(CF$16,Ages,1))),\"\")","v":0.6196384508695354},{"$f":"IF($C63<>\"\",CG63*EXP(-OFFSET('Forecasts Aggregate'!$C$58,$C63-$C$17,MATCH(CG$16,Ages,1))),\"\")","v":0.58878829009953648},{"$f":"IF($C63<>\"\",CH63*EXP(-OFFSET('Forecasts Aggregate'!$C$58,$C63-$C$17,MATCH(CH$16,Ages,1))),\"\")","v":0.55947407729758114},{"$f":"IF($C63<>\"\",CI63*EXP(-OFFSET('Forecasts Aggregate'!$C$58,$C63-$C$17,MATCH(CI$16,Ages,1))),\"\")","v":0.53161934167383718},{"$f":"IF($C63<>\"\",CJ63*EXP(-OFFSET('Forecasts Aggregate'!$C$58,$C63-$C$17,MATCH(CJ$16,Ages,1))),\"\")","v":0.50515141971698618},{"$f":"IF($C63<>\"\",CK63*EXP(-OFFSET('Forecasts Aggregate'!$C$58,$C63-$C$17,MATCH(CK$16,Ages,1))),\"\")","v":0.46213954381268213},{"$f":"IF($C63<>\"\",CL63*EXP(-OFFSET('Forecasts Aggregate'!$C$58,$C63-$C$17,MATCH(CL$16,Ages,1))),\"\")","v":0.42278997864650042},{"$f":"IF($C63<>\"\",CM63*EXP(-OFFSET('Forecasts Aggregate'!$C$58,$C63-$C$17,MATCH(CM$16,Ages,1))),\"\")","v":0.38679089127322358},{"$f":"IF($C63<>\"\",CN63*EXP(-OFFSET('Forecasts Aggregate'!$C$58,$C63-$C$17,MATCH(CN$16,Ages,1))),\"\")","v":0.3538570002318408},{"$f":"IF($C63<>\"\",CO63*EXP(-OFFSET('Forecasts Aggregate'!$C$58,$C63-$C$17,MATCH(CO$16,Ages,1))),\"\")","v":0.32372731477956923},{"$f":"IF($C63<>\"\",CP63*EXP(-OFFSET('Forecasts Aggregate'!$C$58,$C63-$C$17,MATCH(CP$16,Ages,1))),\"\")","v":0.2758644200740123},{"$f":"IF($C63<>\"\",CQ63*EXP(-OFFSET('Forecasts Aggregate'!$C$58,$C63-$C$17,MATCH(CQ$16,Ages,1))),\"\")","v":0.23507802643897857},{"$f":"IF($C63<>\"\",CR63*EXP(-OFFSET('Forecasts Aggregate'!$C$58,$C63-$C$17,MATCH(CR$16,Ages,1))),\"\")","v":0.20032187731791881},{"$f":"IF($C63<>\"\",CS63*EXP(-OFFSET('Forecasts Aggregate'!$C$58,$C63-$C$17,MATCH(CS$16,Ages,1))),\"\")","v":0.17070440457603528},{"$f":"IF($C63<>\"\",CT63*EXP(-OFFSET('Forecasts Aggregate'!$C$58,$C63-$C$17,MATCH(CT$16,Ages,1))),\"\")","v":0.14546585790733382},{"$f":"IF($C63<>\"\",CU63*EXP(-OFFSET('Forecasts Aggregate'!$C$58,$C63-$C$17,MATCH(CU$16,Ages,1))),\"\")","v":0.10844994458114995},{"$f":"IF($C63<>\"\",CV63*EXP(-OFFSET('Forecasts Aggregate'!$C$58,$C63-$C$17,MATCH(CV$16,Ages,1))),\"\")","v":8.0853271337023011E-2},{"$f":"IF($C63<>\"\",CW63*EXP(-OFFSET('Forecasts Aggregate'!$C$58,$C63-$C$17,MATCH(CW$16,Ages,1))),\"\")","v":6.0278974886950089E-2},{"$f":"IF($C63<>\"\",CX63*EXP(-OFFSET('Forecasts Aggregate'!$C$58,$C63-$C$17,MATCH(CX$16,Ages,1))),\"\")","v":4.4940108833391647E-2},{"$f":"IF($C63<>\"\",CY63*EXP(-OFFSET('Forecasts Aggregate'!$C$58,$C63-$C$17,MATCH(CY$16,Ages,1))),\"\")","v":3.3504441403404091E-2},{"$f":"IF($C63<>\"\",CZ63*EXP(-OFFSET('Forecasts Aggregate'!$C$58,$C63-$C$17,MATCH(CZ$16,Ages,1))),\"\")","v":2.4978746667388058E-2},{"$f":"IF($C63<>\"\",DA63*EXP(-OFFSET('Forecasts Aggregate'!$C$58,$C63-$C$17,MATCH(DA$16,Ages,1))),\"\")","v":1.8622539548149495E-2},{"$f":"IF($C63<>\"\",DB63*EXP(-OFFSET('Forecasts Aggregate'!$C$58,$C63-$C$17,MATCH(DB$16,Ages,1))),\"\")","v":1.3883762217548267E-2},{"$f":"IF($C63<>\"\",DC63*EXP(-OFFSET('Forecasts Aggregate'!$C$58,$C63-$C$17,MATCH(DC$16,Ages,1))),\"\")","v":1.0350836029373612E-2},{"$f":"IF($C63<>\"\",DD63*EXP(-OFFSET('Forecasts Aggregate'!$C$58,$C63-$C$17,MATCH(DD$16,Ages,1))),\"\")","v":7.716914538593897E-3},{"$f":"IF($C63<>\"\",DE63*EXP(-OFFSET('Forecasts Aggregate'!$C$58,$C63-$C$17,MATCH(DE$16,Ages,1))),\"\")","v":5.7532328622508008E-3},{"$f":"IF($C63<>\"\",DF63*EXP(-OFFSET('Forecasts Aggregate'!$C$58,$C63-$C$17,MATCH(DF$16,Ages,1))),\"\")","v":4.2892386849360722E-3},{"$f":"IF($C63<>\"\",DG63*EXP(-OFFSET('Forecasts Aggregate'!$C$58,$C63-$C$17,MATCH(DG$16,Ages,1))),\"\")","v":3.1977792202825183E-3},{"$f":"IF($C63<>\"\",DH63*EXP(-OFFSET('Forecasts Aggregate'!$C$58,$C63-$C$17,MATCH(DH$16,Ages,1))),\"\")","v":2.3840575665756121E-3},{"$f":"IF($C63<>\"\",DI63*EXP(-OFFSET('Forecasts Aggregate'!$C$58,$C63-$C$17,MATCH(DI$16,Ages,1))),\"\")","v":1.777399279067265E-3},{"$f":"IF($C63<>\"\",DJ63*EXP(-OFFSET('Forecasts Aggregate'!$C$58,$C63-$C$17,MATCH(DJ$16,Ages,1))),\"\")","v":1.3251140582844808E-3},null,2021,81.274846288150556,20.858195859633966]
[null,null,2022,1,{"$f":"IF($C64<>\"\",D64*EXP(-OFFSET('Forecasts Aggregate'!$C$58,$C64-$C$17,MATCH(D$16,Ages,1))),\"\")","v":0.99515393258879281},{"$f":"IF($C64<>\"\",E64*EXP(-OFFSET('Forecasts Aggregate'!$C$58,$C64-$C$17,MATCH(E$16,Ages,1))),\"\")","v":0.99493480900865683},{"$f":"IF($C64<>\"\",F64*EXP(-OFFSET('Forecasts Aggregate'!$C$58,$C64-$C$17,MATCH(F$16,Ages,1))),\"\")","v":0.99471573367748201},{"$f":"IF($C64<>\"\",G64*EXP(-OFFSET('Forecasts Aggregate'!$C$58,$C64-$C$17,MATCH(G$16,Ages,1))),\"\")","v":0.99449670658464429},{"$f":"IF($C64<>\"\",H64*EXP(-OFFSET('Forecasts Aggregate'!$C$58,$C64-$C$17,MATCH(H$16,Ages,1))),\"\")","v":0.99427772771952205},{"$f":"IF($C64<>\"\",I64*EXP(-OFFSET('Forecasts Aggregate'!$C$58,$C64-$C$17,MATCH(I$16,Ages,1))),\"\")","v":0.99417169905304636},{"$f":"IF($C64<>\"\",J64*EXP(-OFFSET('Forecasts Aggregate'!$C$58,$C64-$C$17,MATCH(J$16,Ages,1))),\"\")","v":0.9940656816933493},{"$f":"IF($C64<>\"\",K64*EXP(-OFFSET('Forecasts Aggregate'!$C$58,$C64-$C$17,MATCH(K$16,Ages,1))),\"\")","v":0.99395967563922505},{"$f":"IF($C64<>\"\",L64*EXP(-OFFSET('Forecasts Aggregate'!$C$58,$C64-$C$17,MATCH(L$16,Ages,1))),\"\")","v":0.99385368088946802},{"$f":"IF($C64<>\"\",M64*EXP(-OFFSET('Forecasts Aggregate'!$C$58,$C64-$C$17,MATCH(M$16,Ages,1))),\"\")","v":0.99374769744287272},{"$f":"IF($C64<>\"\",N64*EXP(-OFFSET('Forecasts Aggregate'!$C$58,$C64-$C$17,MATCH(N$16,Ages,1))),\"\")","v":0.99362632236144632},{"$f":"IF($C64<>\"\",O64*EXP(-OFFSET('Forecasts Aggregate'!$C$58,$C64-$C$17,MATCH(O$16,Ages,1))),\"\")","v":0.99350496210461814},{"$f":"IF($C64<>\"\",P64*EXP(-OFFSET('Forecasts Aggregate'!$C$58,$C64-$C$17,MATCH(P$16,Ages,1))),\"\")","v":0.99338361667057762},{"$f":"IF($C64<>\"\",Q64*EXP(-OFFSET('Forecasts Aggregate'!$C$58,$C64-$C$17,MATCH(Q$16,Ages,1))),\"\")","v":0.99326228605751421},{"$f":"IF($C64<>\"\",R64*EXP(-OFFSET('Forecasts Aggregate'!$C$58,$C64-$C$17,MATCH(R$16,Ages,1))),\"\")","v":0.99314097026361781},{"$f":"IF($C64<>\"\",S64*EXP(-OFFSET('Forecasts Aggregate'!$C$58,$C64-$C$17,MATCH(S$16,Ages,1))),\"\")","v":0.99284908781335268},{"$f":"IF($C64<>\"\",T64*EXP(-OFFSET('Forecasts Aggregate'!$C$58,$C64-$C$17,MATCH(T$16,Ages,1))),\"\")","v":0.99255729114684565},{"$f":"IF($C64<>\"\",U64*EXP(-OFFSET('Forecasts Aggregate'!$C$58,$C64-$C$17,MATCH(U$16,Ages,1))),\"\")","v":0.99226558023888511},{"$f":"IF($C64<>\"\",V64*EXP(-OFFSET('Forecasts Aggregate'!$C$58,$C64-$C$17,MATCH(V$16,Ages,1))),\"\")","v":0.99197395506426667},{"$f":"IF($C64<>\"\",W64*EXP(-OFFSET('Forecasts Aggregate'!$C$58,$C64-$C$17,MATCH(W$16,Ages,1))),\"\")","v":0.99168241559779347},{"$f":"IF($C64<>\"\",X64*EXP(-OFFSET('Forecasts Aggregate'!$C$58,$C64-$C$17,MATCH(X$16,Ages,1))),\"\")","v":0.99113519036740494},{"$f":"IF($C64<>\"\",Y64*EXP(-OFFSET('Forecasts Aggregate'!$C$58,$C64-$C$17,MATCH(Y$16,Ages,1))),\"\")","v":0.99058826710410597},{"$f":"IF($C64<>\"\",Z64*EXP(-OFFSET('Forecasts Aggregate'!$C$58,$C64-$C$17,MATCH(Z$16,Ages,1))),\"\")","v":0.99004164564126651},{"$f":"IF($C64<>\"\",AA64*EXP(-OFFSET('Forecasts Aggregate'!$C$58,$C64-$C$17,MATCH(AA$16,Ages,1))),\"\")","v":0.98949532581234856},{"$f":"IF($C64<>\"\",AB64*EXP(-OFFSET('Forecasts Aggregate'!$C$58,$C64-$C$17,MATCH(AB$16,Ages,1))),\"\")","v":0.98894930745090603},{"$f":"IF($C64<>\"\",AC64*EXP(-OFFSET('Forecasts Aggregate'!$C$58,$C64-$C$17,MATCH(AC$16,Ages,1))),\"\")","v":0.988168809939309},{"$f":"IF($C64<>\"\",AD64*EXP(-OFFSET('Forecasts Aggregate'!$C$58,$C64-$C$17,MATCH(AD$16,Ages,1))),\"\")","v":0.9873889284111208},{"$f":"IF($C64<>\"\",AE64*EXP(-OFFSET('Forecasts Aggregate'!$C$58,$C64-$C$17,MATCH(AE$16,Ages,1))),\"\")","v":0.98660966238019576},{"$f":"IF($C64<>\"\",AF64*EXP(-OFFSET('Forecasts Aggregate'!$C$58,$C64-$C$17,MATCH(AF$16,Ages,1))),\"\")","v":0.98583101136077167},{"$f":"IF($C64<>\"\",AG64*EXP(-OFFSET('Forecasts Aggregate'!$C$58,$C64-$C$17,MATCH(AG$16,Ages,1))),\"\")","v":0.9850529748674699},{"$f":"IF($C64<>\"\",AH64*EXP(-OFFSET('Forecasts Aggregate'!$C$58,$C64-$C$17,MATCH(AH$16,Ages,1))),\"\")","v":0.98404278853583005},{"$f":"IF($C64<>\"\",AI64*EXP(-OFFSET('Forecasts Aggregate'!$C$58,$C64-$C$17,MATCH(AI$16,Ages,1))),\"\")","v":0.98303363816514933},{"$f":"IF($C64<>\"\",AJ64*EXP(-OFFSET('Forecasts Aggregate'!$C$58,$C64-$C$17,MATCH(AJ$16,Ages,1))),\"\")","v":0.98202552269303445},{"$f":"IF($C64<>\"\",AK64*EXP(-OFFSET('Forecasts Aggregate'!$C$58,$C64-$C$17,MATCH(AK$16,Ages,1))),\"\")","v":0.98101844105818181},{"$f":"IF($C64<>\"\",AL64*EXP(-OFFSET('Forecasts Aggregate'!$C$58,$C64-$C$17,MATCH(AL$16,Ages,1))),\"\")","v":0.98001239220037606},{"$f":"IF($C64<>\"\",AM64*EXP(-OFFSET('Forecasts Aggregate'!$C$58,$C64-$C$17,MATCH(AM$16,Ages,1))),\"\")","v":0.97882177321274999},{"$f":"IF($C64<>\"\",AN64*EXP(-OFFSET('Forecasts Aggregate'!$C$58,$C64-$C$17,MATCH(AN$16,Ages,1))),\"\")","v":0.97763260071047964},{"$f":"IF($C64<>\"\",AO64*EXP(-OFFSET('Forecasts Aggregate'!$C$58,$C64-$C$17,MATCH(AO$16,Ages,1))),\"\")","v":0.97644487293622695},{"$f":"IF($C64<>\"\",AP64*EXP(-OFFSET('Forecasts Aggregate'!$C$58,$C64-$C$17,MATCH(AP$16,Ages,1))),\"\")","v":0.97525858813478916},{"$f":"IF($C64<>\"\",AQ64*EXP(-OFFSET('Forecasts Aggregate'!$C$58,$C64-$C$17,MATCH(AQ$16,Ages,1))),\"\")","v":0.9740737445530957},{"$f":"IF($C64<>\"\",AR64*EXP(-OFFSET('Forecasts Aggregate'!$C$58,$C64-$C$17,MATCH(AR$16,Ages,1))),\"\")","v":0.97248880760284906},{"$f":"IF($C64<>\"\",AS64*EXP(-OFFSET('Forecasts Aggregate'!$C$58,$C64-$C$17,MATCH(AS$16,Ages,1))),\"\")","v":0.97090644953859562},{"$f":"IF($C64<>\"\",AT64*EXP(-OFFSET('Forecasts Aggregate'!$C$58,$C64-$C$17,MATCH(AT$16,Ages,1))),\"\")","v":0.96932666616417307},{"$f":"IF($C64<>\"\",AU64*EXP(-OFFSET('Forecasts Aggregate'!$C$58,$C64-$C$17,MATCH(AU$16,Ages,1))),\"\")","v":0.96774945329024653},{"$f":"IF($C64<>\"\",AV64*EXP(-OFFSET('Forecasts Aggregate'!$C$58,$C64-$C$17,MATCH(AV$16,Ages,1))),\"\")","v":0.96617480673429768},{"$f":"IF($C64<>\"\",AW64*EXP(-OFFSET('Forecasts Aggregate'!$C$58,$C64-$C$17,MATCH(AW$16,Ages,1))),\"\")","v":0.96373656162846666},{"$f":"IF($C64<>\"\",AX64*EXP(-OFFSET('Forecasts Aggregate'!$C$58,$C64-$C$17,MATCH(AX$16,Ages,1))),\"\")","v":0.96130446969404382},{"$f":"IF($C64<>\"\",AY64*EXP(-OFFSET('Forecasts Aggregate'!$C$58,$C64-$C$17,MATCH(AY$16,Ages,1))),\"\")","v":0.9588785154028453},{"$f":"IF($C64<>\"\",AZ64*EXP(-OFFSET('Forecasts Aggregate'!$C$58,$C64-$C$17,MATCH(AZ$16,Ages,1))),\"\")","v":0.95645868326587424},{"$f":"IF($C64<>\"\",BA64*EXP(-OFFSET('Forecasts Aggregate'!$C$58,$C64-$C$17,MATCH(BA$16,Ages,1))),\"\")","v":0.95404495783322185},{"$f":"IF($C64<>\"\",BB64*EXP(-OFFSET('Forecasts Aggregate'!$C$58,$C64-$C$17,MATCH(BB$16,Ages,1))),\"\")","v":0.95020802247337866},{"$f":"IF($C64<>\"\",BC64*EXP(-OFFSET('Forecasts Aggregate'!$C$58,$C64-$C$17,MATCH(BC$16,Ages,1))),\"\")","v":0.94638651832863152},{"$f":"IF($C64<>\"\",BD64*EXP(-OFFSET('Forecasts Aggregate'!$C$58,$C64-$C$17,MATCH(BD$16,Ages,1))),\"\")","v":0.94258038333840943},{"$f":"IF($C64<>\"\",BE64*EXP(-OFFSET('Forecasts Aggregate'!$C$58,$C64-$C$17,MATCH(BE$16,Ages,1))),\"\")","v":0.93878955569173383},{"$f":"IF($C64<>\"\",BF64*EXP(-OFFSET('Forecasts Aggregate'!$C$58,$C64-$C$17,MATCH(BF$16,Ages,1))),\"\")","v":0.93501397382621465},{"$f":"IF($C64<>\"\",BG64*EXP(-OFFSET('Forecasts Aggregate'!$C$58,$C64-$C$17,MATCH(BG$16,Ages,1))),\"\")","v":0.92973292532364504},{"$f":"IF($C64<>\"\",BH64*EXP(-OFFSET('Forecasts Aggregate'!$C$58,$C64-$C$17,MATCH(BH$16,Ages,1))),\"\")","v":0.92448170468896529},{"$f":"IF($C64<>\"\",BI64*EXP(-OFFSET('Forecasts Aggregate'!$C$58,$C64-$C$17,MATCH(BI$16,Ages,1))),\"\")","v":0.91926014345151996},{"$f":"IF($C64<>\"\",BJ64*EXP(-OFFSET('Forecasts Aggregate'!$C$58,$C64-$C$17,MATCH(BJ$16,Ages,1))),\"\")","v":0.91406807409219204},{"$f":"IF($C64<>\"\",BK64*EXP(-OFFSET('Forecasts Aggregate'!$C$58,$C64-$C$17,MATCH(BK$16,Ages,1))),\"\")","v":0.90890533003802831},{"$f":"IF($C64<>\"\",BL64*EXP(-OFFSET('Forecasts Aggregate'!$C$58,$C64-$C$17,MATCH(BL$16,Ages,1))),\"\")","v":0.90197906248822957},{"$f":"IF($C64<>\"\",BM64*EXP(-OFFSET('Forecasts Aggregate'!$C$58,$C64-$C$17,MATCH(BM$16,Ages,1))),\"\")","v":0.89510557621342823},{"$f":"IF($C64<>\"\",BN64*EXP(-OFFSET('Forecasts Aggregate'!$C$58,$C64-$C$17,MATCH(BN$16,Ages,1))),\"\")","v":0.88828446899656155},{"$f":"IF($C64<>\"\",BO64*EXP(-OFFSET('Forecasts Aggregate'!$C$58,$C64-$C$17,MATCH(BO$16,Ages,1))),\"\")","v":0.88151534168564161},{"$f":"IF($C64<>\"\",BP64*EXP(-OFFSET('Forecasts Aggregate'!$C$58,$C64-$C$17,MATCH(BP$16,Ages,1))),\"\")","v":0.87479779817039827},{"$f":"IF($C64<>\"\",BQ64*EXP(-OFFSET('Forecasts Aggregate'!$C$58,$C64-$C$17,MATCH(BQ$16,Ages,1))),\"\")","v":0.86513530505697001},{"$f":"IF($C64<>\"\",BR64*EXP(-OFFSET('Forecasts Aggregate'!$C$58,$C64-$C$17,MATCH(BR$16,Ages,1))),\"\")","v":0.85557953806169418},{"$f":"IF($C64<>\"\",BS64*EXP(-OFFSET('Forecasts Aggregate'!$C$58,$C64-$C$17,MATCH(BS$16,Ages,1))),\"\")","v":0.84612931835172078},{"$f":"IF($C64<>\"\",BT64*EXP(-OFFSET('Forecasts Aggregate'!$C$58,$C64-$C$17,MATCH(BT$16,Ages,1))),\"\")","v":0.83678348011488202},{"$f":"IF($C64<>\"\",BU64*EXP(-OFFSET('Forecasts Aggregate'!$C$58,$C64-$C$17,MATCH(BU$16,Ages,1))),\"\")","v":0.82754087041587399},{"$f":"IF($C64<>\"\",BV64*EXP(-OFFSET('Forecasts Aggregate'!$C$58,$C64-$C$17,MATCH(BV$16,Ages,1))),\"\")","v":0.81279951190254862},{"$f":"IF($C64<>\"\",BW64*EXP(-OFFSET('Forecasts Aggregate'!$C$58,$C64-$C$17,MATCH(BW$16,Ages,1))),\"\")","v":0.7983207478526354},{"$f":"IF($C64<>\"\",BX64*EXP(-OFFSET('Forecasts Aggregate'!$C$58,$C64-$C$17,MATCH(BX$16,Ages,1))),\"\")","v":0.78409990055260104},{"$f":"IF($C64<>\"\",BY64*EXP(-OFFSET('Forecasts Aggregate'!$C$58,$C64-$C$17,MATCH(BY$16,Ages,1))),\"\")","v":0.77013237561513193},{"$f":"IF($C64<>\"\",BZ64*EXP(-OFFSET('Forecasts Aggregate'!$C$58,$C64-$C$17,MATCH(BZ$16,Ages,1))),\"\")","v":0.75641366049480641},{"$f":"IF($C64<>\"\",CA64*EXP(-OFFSET('Forecasts Aggregate'!$C$58,$C64-$C$17,MATCH(CA$16,Ages,1))),\"\")","v":0.7344508013613994},{"$f":"IF($C64<>\"\",CB64*EXP(-OFFSET('Forecasts Aggregate'!$C$58,$C64-$C$17,MATCH(CB$16,Ages,1))),\"\")","v":0.71312564512325527},{"$f":"IF($C64<>\"\",CC64*EXP(-OFFSET('Forecasts Aggregate'!$C$58,$C64-$C$17,MATCH(CC$16,Ages,1))),\"\")","v":0.69241967574927998},{"$f":"IF($C64<>\"\",CD64*EXP(-OFFSET('Forecasts Aggregate'!$C$58,$C64-$C$17,MATCH(CD$16,Ages,1))),\"\")","v":0.67231491483085237},{"$f":"IF($C64<>\"\",CE64*EXP(-OFFSET('Forecasts Aggregate'!$C$58,$C64-$C$17,MATCH(CE$16,Ages,1))),\"\")","v":0.65279390597167941},{"$f":"IF($C64<>\"\",CF64*EXP(-OFFSET('Forecasts Aggregate'!$C$58,$C64-$C$17,MATCH(CF$16,Ages,1))),\"\")","v":0.62042828840423303},{"$f":"IF($C64<>\"\",CG64*EXP(-OFFSET('Forecasts Aggregate'!$C$58,$C64-$C$17,MATCH(CG$16,Ages,1))),\"\")","v":0.58966736290106536},{"$f":"IF($C64<>\"\",CH64*EXP(-OFFSET('Forecasts Aggregate'!$C$58,$C64-$C$17,MATCH(CH$16,Ages,1))),\"\")","v":0.56043156859435739},{"$f":"IF($C64<>\"\",CI64*EXP(-OFFSET('Forecasts Aggregate'!$C$58,$C64-$C$17,MATCH(CI$16,Ages,1))),\"\")","v":0.53264528925578158},{"$f":"IF($C64<>\"\",CJ64*EXP(-OFFSET('Forecasts Aggregate'!$C$58,$C64-$C$17,MATCH(CJ$16,Ages,1))),\"\")","v":0.50623665772069737},{"$f":"IF($C64<>\"\",CK64*EXP(-OFFSET('Forecasts Aggregate'!$C$58,$C64-$C$17,MATCH(CK$16,Ages,1))),\"\")","v":0.46328116140116371},{"$f":"IF($C64<>\"\",CL64*EXP(-OFFSET('Forecasts Aggregate'!$C$58,$C64-$C$17,MATCH(CL$16,Ages,1))),\"\")","v":0.42397055060289052},{"$f":"IF($C64<>\"\",CM64*EXP(-OFFSET('Forecasts Aggregate'!$C$58,$C64-$C$17,MATCH(CM$16,Ages,1))),\"\")","v":0.38799554731488084},{"$f":"IF($C64<>\"\",CN64*EXP(-OFFSET('Forecasts Aggregate'!$C$58,$C64-$C$17,MATCH(CN$16,Ages,1))),\"\")","v":0.35507311656930818},{"$f":"IF($C64<>\"\",CO64*EXP(-OFFSET('Forecasts Aggregate'!$C$58,$C64-$C$17,MATCH(CO$16,Ages,1))),\"\")","v":0.32494423965108754},{"$f":"IF($C64<>\"\",CP64*EXP(-OFFSET('Forecasts Aggregate'!$C$58,$C64-$C$17,MATCH(CP$16,Ages,1))),\"\")","v":0.27698017084800181},{"$f":"IF($C64<>\"\",CQ64*EXP(-OFFSET('Forecasts Aggregate'!$C$58,$C64-$C$17,MATCH(CQ$16,Ages,1))),\"\")","v":0.23609593795343187},{"$f":"IF($C64<>\"\",CR64*EXP(-OFFSET('Forecasts Aggregate'!$C$58,$C64-$C$17,MATCH(CR$16,Ages,1))),\"\")","v":0.20124650709635045},{"$f":"IF($C64<>\"\",CS64*EXP(-OFFSET('Forecasts Aggregate'!$C$58,$C64-$C$17,MATCH(CS$16,Ages,1))),\"\")","v":0.17154109879886956},{"$f":"IF($C64<>\"\",CT64*EXP(-OFFSET('Forecasts Aggregate'!$C$58,$C64-$C$17,MATCH(CT$16,Ages,1))),\"\")","v":0.14622041893643958},{"$f":"IF($C64<>\"\",CU64*EXP(-OFFSET('Forecasts Aggregate'!$C$58,$C64-$C$17,MATCH(CU$16,Ages,1))),\"\")","v":0.10899616835362587},{"$f":"IF($C64<>\"\",CV64*EXP(-OFFSET('Forecasts Aggregate'!$C$58,$C64-$C$17,MATCH(CV$16,Ages,1))),\"\")","v":8.1248329078691339E-2},{"$f":"IF($C64<>\"\",CW64*EXP(-OFFSET('Forecasts Aggregate'!$C$58,$C64-$C$17,MATCH(CW$16,Ages,1))),\"\")","v":6.0564431555632035E-2},{"$f":"IF($C64<>\"\",CX64*EXP(-OFFSET('Forecasts Aggregate'!$C$58,$C64-$C$17,MATCH(CX$16,Ages,1))),\"\")","v":4.5146163758078339E-2},{"$f":"IF($C64<>\"\",CY64*EXP(-OFFSET('Forecasts Aggregate'!$C$58,$C64-$C$17,MATCH(CY$16,Ages,1))),\"\")","v":3.3653021248932886E-2},{"$f":"IF($C64<>\"\",CZ64*EXP(-OFFSET('Forecasts Aggregate'!$C$58,$C64-$C$17,MATCH(CZ$16,Ages,1))),\"\")","v":2.5085760226492712E-2},{"$f":"IF($C64<>\"\",DA64*EXP(-OFFSET('Forecasts Aggregate'!$C$58,$C64-$C$17,MATCH(DA$16,Ages,1))),\"\")","v":1.8699520660750129E-2},{"$f":"IF($C64<>\"\",DB64*EXP(-OFFSET('Forecasts Aggregate'!$C$58,$C64-$C$17,MATCH(DB$16,Ages,1))),\"\")","v":1.3939066218632565E-2},{"$f":"IF($C64<>\"\",DC64*EXP(-OFFSET('Forecasts Aggregate'!$C$58,$C64-$C$17,MATCH(DC$16,Ages,1))),\"\")","v":1.0390510568286906E-2},{"$f":"IF($C64<>\"\",DD64*EXP(-OFFSET('Forecasts Aggregate'!$C$58,$C64-$C$17,MATCH(DD$16,Ages,1))),\"\")","v":7.7453330213301122E-3},{"$f":"IF($C64<>\"\",DE64*EXP(-OFFSET('Forecasts Aggregate'!$C$58,$C64-$C$17,MATCH(DE$16,Ages,1))),\"\")","v":5.7735549391002925E-3},{"$f":"IF($C64<>\"\",DF64*EXP(-OFFSET('Forecasts Aggregate'!$C$58,$C64-$C$17,MATCH(DF$16,Ages,1))),\"\")","v":4.3037447896701175E-3},{"$f":"IF($C64<>\"\",DG64*EXP(-OFFSET('Forecasts Aggregate'!$C$58,$C64-$C$17,MATCH(DG$16,Ages,1))),\"\")","v":3.2081134431014954E-3},{"$f":"IF($C64<>\"\",DH64*EXP(-OFFSET('Forecasts Aggregate'!$C$58,$C64-$C$17,MATCH(DH$16,Ages,1))),\"\")","v":2.391403851016318E-3},{"$f":"IF($C64<>\"\",DI64*EXP(-OFFSET('Forecasts Aggregate'!$C$58,$C64-$C$17,MATCH(DI$16,Ages,1))),\"\")","v":1.7826091502322068E-3},{"$f":"IF($C64<>\"\",DJ64*EXP(-OFFSET('Forecasts Aggregate'!$C$58,$C64-$C$17,MATCH(DJ$16,Ages,1))),\"\")","v":1.3287991407813062E-3},null,2022,81.278481664620642,20.892202786538629]
[null,null,2023,1,{"$f":"IF($C65<>\"\",D65*EXP(-OFFSET('Forecasts Aggregate'!$C$58,$C65-$C$17,MATCH(D$16,Ages,1))),\"\")","v":0.99521000428918771},{"$f":"IF($C65<>\"\",E65*EXP(-OFFSET('Forecasts Aggregate'!$C$58,$C65-$C$17,MATCH(E$16,Ages,1))),\"\")","v":0.99499198582864146},{"$f":"IF($C65<>\"\",F65*EXP(-OFFSET('Forecasts Aggregate'!$C$58,$C65-$C$17,MATCH(F$16,Ages,1))),\"\")","v":0.9947740151289185},{"$f":"IF($C65<>\"\",G65*EXP(-OFFSET('Forecasts Aggregate'!$C$58,$C65-$C$17,MATCH(G$16,Ages,1))),\"\")","v":0.99455609217955587},{"$f":"IF($C65<>\"\",H65*EXP(-OFFSET('Forecasts Aggregate'!$C$58,$C65-$C$17,MATCH(H$16,Ages,1))),\"\")","v":0.99433821697009317},{"$f":"IF($C65<>\"\",I65*EXP(-OFFSET('Forecasts Aggregate'!$C$58,$C65-$C$17,MATCH(I$16,Ages,1))),\"\")","v":0.99423257207611893},{"$f":"IF($C65<>\"\",J65*EXP(-OFFSET('Forecasts Aggregate'!$C$58,$C65-$C$17,MATCH(J$16,Ages,1))),\"\")","v":0.99412693840653843},{"$f":"IF($C65<>\"\",K65*EXP(-OFFSET('Forecasts Aggregate'!$C$58,$C65-$C$17,MATCH(K$16,Ages,1))),\"\")","v":0.99402131596015908},{"$f":"IF($C65<>\"\",L65*EXP(-OFFSET('Forecasts Aggregate'!$C$58,$C65-$C$17,MATCH(L$16,Ages,1))),\"\")","v":0.9939157047357885},{"$f":"IF($C65<>\"\",M65*EXP(-OFFSET('Forecasts Aggregate'!$C$58,$C65-$C$17,MATCH(M$16,Ages,1))),\"\")","v":0.9938101047322343},{"$f":"IF($C65<>\"\",N65*EXP(-OFFSET('Forecasts Aggregate'!$C$58,$C65-$C$17,MATCH(N$16,Ages,1))),\"\")","v":0.99368928429762515},{"$f":"IF($C65<>\"\",O65*EXP(-OFFSET('Forecasts Aggregate'!$C$58,$C65-$C$17,MATCH(O$16,Ages,1))),\"\")","v":0.99356847855151365},{"$f":"IF($C65<>\"\",P65*EXP(-OFFSET('Forecasts Aggregate'!$C$58,$C65-$C$17,MATCH(P$16,Ages,1))),\"\")","v":0.9934476874921141},{"$f":"IF($C65<>\"\",Q65*EXP(-OFFSET('Forecasts Aggregate'!$C$58,$C65-$C$17,MATCH(Q$16,Ages,1))),\"\")","v":0.99332691111764104},{"$f":"IF($C65<>\"\",R65*EXP(-OFFSET('Forecasts Aggregate'!$C$58,$C65-$C$17,MATCH(R$16,Ages,1))),\"\")","v":0.99320614942630914},{"$f":"IF($C65<>\"\",S65*EXP(-OFFSET('Forecasts Aggregate'!$C$58,$C65-$C$17,MATCH(S$16,Ages,1))),\"\")","v":0.99291348363436016},{"$f":"IF($C65<>\"\",T65*EXP(-OFFSET('Forecasts Aggregate'!$C$58,$C65-$C$17,MATCH(T$16,Ages,1))),\"\")","v":0.992620904081573},{"$f":"IF($C65<>\"\",U65*EXP(-OFFSET('Forecasts Aggregate'!$C$58,$C65-$C$17,MATCH(U$16,Ages,1))),\"\")","v":0.99232841074253564},{"$f":"IF($C65<>\"\",V65*EXP(-OFFSET('Forecasts Aggregate'!$C$58,$C65-$C$17,MATCH(V$16,Ages,1))),\"\")","v":0.99203600359184374},{"$f":"IF($C65<>\"\",W65*EXP(-OFFSET('Forecasts Aggregate'!$C$58,$C65-$C$17,MATCH(W$16,Ages,1))),\"\")","v":0.9917436826041004},{"$f":"IF($C65<>\"\",X65*EXP(-OFFSET('Forecasts Aggregate'!$C$58,$C65-$C$17,MATCH(X$16,Ages,1))),\"\")","v":0.99118217075388915},{"$f":"IF($C65<>\"\",Y65*EXP(-OFFSET('Forecasts Aggregate'!$C$58,$C65-$C$17,MATCH(Y$16,Ages,1))),\"\")","v":0.99062097682408767},{"$f":"IF($C65<>\"\",Z65*EXP(-OFFSET('Forecasts Aggregate'!$C$58,$C65-$C$17,MATCH(Z$16,Ages,1))),\"\")","v":0.99006010063469363},{"$f":"IF($C65<>\"\",AA65*EXP(-OFFSET('Forecasts Aggregate'!$C$58,$C65-$C$17,MATCH(AA$16,Ages,1))),\"\")","v":0.98949954200580681},{"$f":"IF($C65<>\"\",AB65*EXP(-OFFSET('Forecasts Aggregate'!$C$58,$C65-$C$17,MATCH(AB$16,Ages,1))),\"\")","v":0.9889393007576287},{"$f":"IF($C65<>\"\",AC65*EXP(-OFFSET('Forecasts Aggregate'!$C$58,$C65-$C$17,MATCH(AC$16,Ages,1))),\"\")","v":0.98812533246604883},{"$f":"IF($C65<>\"\",AD65*EXP(-OFFSET('Forecasts Aggregate'!$C$58,$C65-$C$17,MATCH(AD$16,Ages,1))),\"\")","v":0.98731203412901436},{"$f":"IF($C65<>\"\",AE65*EXP(-OFFSET('Forecasts Aggregate'!$C$58,$C65-$C$17,MATCH(AE$16,Ages,1))),\"\")","v":0.98649940519510448},{"$f":"IF($C65<>\"\",AF65*EXP(-OFFSET('Forecasts Aggregate'!$C$58,$C65-$C$17,MATCH(AF$16,Ages,1))),\"\")","v":0.98568744511335216},{"$f":"IF($C65<>\"\",AG65*EXP(-OFFSET('Forecasts Aggregate'!$C$58,$C65-$C$17,MATCH(AG$16,Ages,1))),\"\")","v":0.98487615333324385},{"$f":"IF($C65<>\"\",AH65*EXP(-OFFSET('Forecasts Aggregate'!$C$58,$C65-$C$17,MATCH(AH$16,Ages,1))),\"\")","v":0.98383267644484906},{"$f":"IF($C65<>\"\",AI65*EXP(-OFFSET('Forecasts Aggregate'!$C$58,$C65-$C$17,MATCH(AI$16,Ages,1))),\"\")","v":0.98279030512085741},{"$f":"IF($C65<>\"\",AJ65*EXP(-OFFSET('Forecasts Aggregate'!$C$58,$C65-$C$17,MATCH(AJ$16,Ages,1))),\"\")","v":0.98174903818992265},{"$f":"IF($C65<>\"\",AK65*EXP(-OFFSET('Forecasts Aggregate'!$C$58,$C65-$C$17,MATCH(AK$16,Ages,1))),\"\")","v":0.98070887448193977},{"$f":"IF($C65<>\"\",AL65*EXP(-OFFSET('Forecasts Aggregate'!$C$58,$C65-$C$17,MATCH(AL$16,Ages,1))),\"\")","v":0.97966981282804333},{"$f":"IF($C65<>\"\",AM65*EXP(-OFFSET('Forecasts Aggregate'!$C$58,$C65-$C$17,MATCH(AM$16,Ages,1))),\"\")","v":0.97846675816212492},{"$f":"IF($C65<>\"\",AN65*EXP(-OFFSET('Forecasts Aggregate'!$C$58,$C65-$C$17,MATCH(AN$16,Ages,1))),\"\")","v":0.97726518087206338},{"$f":"IF($C65<>\"\",AO65*EXP(-OFFSET('Forecasts Aggregate'!$C$58,$C65-$C$17,MATCH(AO$16,Ages,1))),\"\")","v":0.97606507914361085},{"$f":"IF($C65<>\"\",AP65*EXP(-OFFSET('Forecasts Aggregate'!$C$58,$C65-$C$17,MATCH(AP$16,Ages,1))),\"\")","v":0.97486645116474724},{"$f":"IF($C65<>\"\",AQ65*EXP(-OFFSET('Forecasts Aggregate'!$C$58,$C65-$C$17,MATCH(AQ$16,Ages,1))),\"\")","v":0.9736692951256779},{"$f":"IF($C65<>\"\",AR65*EXP(-OFFSET('Forecasts Aggregate'!$C$58,$C65-$C$17,MATCH(AR$16,Ages,1))),\"\")","v":0.97207992410315702},{"$f":"IF($C65<>\"\",AS65*EXP(-OFFSET('Forecasts Aggregate'!$C$58,$C65-$C$17,MATCH(AS$16,Ages,1))),\"\")","v":0.9704931474936056},{"$f":"IF($C65<>\"\",AT65*EXP(-OFFSET('Forecasts Aggregate'!$C$58,$C65-$C$17,MATCH(AT$16,Ages,1))),\"\")","v":0.9689089610620284},{"$f":"IF($C65<>\"\",AU65*EXP(-OFFSET('Forecasts Aggregate'!$C$58,$C65-$C$17,MATCH(AU$16,Ages,1))),\"\")","v":0.9673273605803433},{"$f":"IF($C65<>\"\",AV65*EXP(-OFFSET('Forecasts Aggregate'!$C$58,$C65-$C$17,MATCH(AV$16,Ages,1))),\"\")","v":0.96574834182736968},{"$f":"IF($C65<>\"\",AW65*EXP(-OFFSET('Forecasts Aggregate'!$C$58,$C65-$C$17,MATCH(AW$16,Ages,1))),\"\")","v":0.96329410239230195},{"$f":"IF($C65<>\"\",AX65*EXP(-OFFSET('Forecasts Aggregate'!$C$58,$C65-$C$17,MATCH(AX$16,Ages,1))),\"\")","v":0.96084609987315084},{"$f":"IF($C65<>\"\",AY65*EXP(-OFFSET('Forecasts Aggregate'!$C$58,$C65-$C$17,MATCH(AY$16,Ages,1))),\"\")","v":0.95840431842015061},{"$f":"IF($C65<>\"\",AZ65*EXP(-OFFSET('Forecasts Aggregate'!$C$58,$C65-$C$17,MATCH(AZ$16,Ages,1))),\"\")","v":0.95596874222381434},{"$f":"IF($C65<>\"\",BA65*EXP(-OFFSET('Forecasts Aggregate'!$C$58,$C65-$C$17,MATCH(BA$16,Ages,1))),\"\")","v":0.95353935551483127},{"$f":"IF($C65<>\"\",BB65*EXP(-OFFSET('Forecasts Aggregate'!$C$58,$C65-$C$17,MATCH(BB$16,Ages,1))),\"\")","v":0.94965873328551775},{"$f":"IF($C65<>\"\",BC65*EXP(-OFFSET('Forecasts Aggregate'!$C$58,$C65-$C$17,MATCH(BC$16,Ages,1))),\"\")","v":0.94579390403716468},{"$f":"IF($C65<>\"\",BD65*EXP(-OFFSET('Forecasts Aggregate'!$C$58,$C65-$C$17,MATCH(BD$16,Ages,1))),\"\")","v":0.94194480349702581},{"$f":"IF($C65<>\"\",BE65*EXP(-OFFSET('Forecasts Aggregate'!$C$58,$C65-$C$17,MATCH(BE$16,Ages,1))),\"\")","v":0.93811136765392589},{"$f":"IF($C65<>\"\",BF65*EXP(-OFFSET('Forecasts Aggregate'!$C$58,$C65-$C$17,MATCH(BF$16,Ages,1))),\"\")","v":0.93429353275719629},{"$f":"IF($C65<>\"\",BG65*EXP(-OFFSET('Forecasts Aggregate'!$C$58,$C65-$C$17,MATCH(BG$16,Ages,1))),\"\")","v":0.92899384987685463},{"$f":"IF($C65<>\"\",BH65*EXP(-OFFSET('Forecasts Aggregate'!$C$58,$C65-$C$17,MATCH(BH$16,Ages,1))),\"\")","v":0.92372422889638428},{"$f":"IF($C65<>\"\",BI65*EXP(-OFFSET('Forecasts Aggregate'!$C$58,$C65-$C$17,MATCH(BI$16,Ages,1))),\"\")","v":0.91848449929278519},{"$f":"IF($C65<>\"\",BJ65*EXP(-OFFSET('Forecasts Aggregate'!$C$58,$C65-$C$17,MATCH(BJ$16,Ages,1))),\"\")","v":0.91327449151033147},{"$f":"IF($C65<>\"\",BK65*EXP(-OFFSET('Forecasts Aggregate'!$C$58,$C65-$C$17,MATCH(BK$16,Ages,1))),\"\")","v":0.90809403695508417},{"$f":"IF($C65<>\"\",BL65*EXP(-OFFSET('Forecasts Aggregate'!$C$58,$C65-$C$17,MATCH(BL$16,Ages,1))),\"\")","v":0.90120662000551299},{"$f":"IF($C65<>\"\",BM65*EXP(-OFFSET('Forecasts Aggregate'!$C$58,$C65-$C$17,MATCH(BM$16,Ages,1))),\"\")","v":0.89437144050086137},{"$f":"IF($C65<>\"\",BN65*EXP(-OFFSET('Forecasts Aggregate'!$C$58,$C65-$C$17,MATCH(BN$16,Ages,1))),\"\")","v":0.88758810224750961},{"$f":"IF($C65<>\"\",BO65*EXP(-OFFSET('Forecasts Aggregate'!$C$58,$C65-$C$17,MATCH(BO$16,Ages,1))),\"\")","v":0.8808562120567589},{"$f":"IF($C65<>\"\",BP65*EXP(-OFFSET('Forecasts Aggregate'!$C$58,$C65-$C$17,MATCH(BP$16,Ages,1))),\"\")","v":0.87417537972204018},{"$f":"IF($C65<>\"\",BQ65*EXP(-OFFSET('Forecasts Aggregate'!$C$58,$C65-$C$17,MATCH(BQ$16,Ages,1))),\"\")","v":0.86458821767074689},{"$f":"IF($C65<>\"\",BR65*EXP(-OFFSET('Forecasts Aggregate'!$C$58,$C65-$C$17,MATCH(BR$16,Ages,1))),\"\")","v":0.85510619891029638},{"$f":"IF($C65<>\"\",BS65*EXP(-OFFSET('Forecasts Aggregate'!$C$58,$C65-$C$17,MATCH(BS$16,Ages,1))),\"\")","v":0.8457281703245163},{"$f":"IF($C65<>\"\",BT65*EXP(-OFFSET('Forecasts Aggregate'!$C$58,$C65-$C$17,MATCH(BT$16,Ages,1))),\"\")","v":0.83645299144356555},{"$f":"IF($C65<>\"\",BU65*EXP(-OFFSET('Forecasts Aggregate'!$C$58,$C65-$C$17,MATCH(BU$16,Ages,1))),\"\")","v":0.82727953430524126},{"$f":"IF($C65<>\"\",BV65*EXP(-OFFSET('Forecasts Aggregate'!$C$58,$C65-$C$17,MATCH(BV$16,Ages,1))),\"\")","v":0.81263383594976457},{"$f":"IF($C65<>\"\",BW65*EXP(-OFFSET('Forecasts Aggregate'!$C$58,$C65-$C$17,MATCH(BW$16,Ages,1))),\"\")","v":0.79824741692059176},{"$f":"IF($C65<>\"\",BX65*EXP(-OFFSET('Forecasts Aggregate'!$C$58,$C65-$C$17,MATCH(BX$16,Ages,1))),\"\")","v":0.78411568708023549},{"$f":"IF($C65<>\"\",BY65*EXP(-OFFSET('Forecasts Aggregate'!$C$58,$C65-$C$17,MATCH(BY$16,Ages,1))),\"\")","v":0.77023413755245851},{"$f":"IF($C65<>\"\",BZ65*EXP(-OFFSET('Forecasts Aggregate'!$C$58,$C65-$C$17,MATCH(BZ$16,Ages,1))),\"\")","v":0.75659833928366949},{"$f":"IF($C65<>\"\",CA65*EXP(-OFFSET('Forecasts Aggregate'!$C$58,$C65-$C$17,MATCH(CA$16,Ages,1))),\"\")","v":0.73472945192256367},{"$f":"IF($C65<>\"\",CB65*EXP(-OFFSET('Forecasts Aggregate'!$C$58,$C65-$C$17,MATCH(CB$16,Ages,1))),\"\")","v":0.71349266776547171},{"$f":"IF($C65<>\"\",CC65*EXP(-OFFSET('Forecasts Aggregate'!$C$58,$C65-$C$17,MATCH(CC$16,Ages,1))),\"\")","v":0.69286971636022432},{"$f":"IF($C65<>\"\",CD65*EXP(-OFFSET('Forecasts Aggregate'!$C$58,$C65-$C$17,MATCH(CD$16,Ages,1))),\"\")","v":0.67284285534788202},{"$f":"IF($C65<>\"\",CE65*EXP(-OFFSET('Forecasts Aggregate'!$C$58,$C65-$C$17,MATCH(CE$16,Ages,1))),\"\")","v":0.65339485519861018},{"$f":"IF($C65<>\"\",CF65*EXP(-OFFSET('Forecasts Aggregate'!$C$58,$C65-$C$17,MATCH(CF$16,Ages,1))),\"\")","v":0.62113051983628154},{"$f":"IF($C65<>\"\",CG65*EXP(-OFFSET('Forecasts Aggregate'!$C$58,$C65-$C$17,MATCH(CG$16,Ages,1))),\"\")","v":0.59045938241252005},{"$f":"IF($C65<>\"\",CH65*EXP(-OFFSET('Forecasts Aggregate'!$C$58,$C65-$C$17,MATCH(CH$16,Ages,1))),\"\")","v":0.56130277155092978},{"$f":"IF($C65<>\"\",CI65*EXP(-OFFSET('Forecasts Aggregate'!$C$58,$C65-$C$17,MATCH(CI$16,Ages,1))),\"\")","v":0.53358590063124844},{"$f":"IF($C65<>\"\",CJ65*EXP(-OFFSET('Forecasts Aggregate'!$C$58,$C65-$C$17,MATCH(CJ$16,Ages,1))),\"\")","v":0.50723767596188873},{"$f":"IF($C65<>\"\",CK65*EXP(-OFFSET('Forecasts Aggregate'!$C$58,$C65-$C$17,MATCH(CK$16,Ages,1))),\"\")","v":0.46433928275836472},{"$f":"IF($C65<>\"\",CL65*EXP(-OFFSET('Forecasts Aggregate'!$C$58,$C65-$C$17,MATCH(CL$16,Ages,1))),\"\")","v":0.42506891686167358},{"$f":"IF($C65<>\"\",CM65*EXP(-OFFSET('Forecasts Aggregate'!$C$58,$C65-$C$17,MATCH(CM$16,Ages,1))),\"\")","v":0.38911974668311966},{"$f":"IF($C65<>\"\",CN65*EXP(-OFFSET('Forecasts Aggregate'!$C$58,$C65-$C$17,MATCH(CN$16,Ages,1))),\"\")","v":0.35621089016962537},{"$f":"IF($C65<>\"\",CO65*EXP(-OFFSET('Forecasts Aggregate'!$C$58,$C65-$C$17,MATCH(CO$16,Ages,1))),\"\")","v":0.32608522018484687},{"$f":"IF($C65<>\"\",CP65*EXP(-OFFSET('Forecasts Aggregate'!$C$58,$C65-$C$17,MATCH(CP$16,Ages,1))),\"\")","v":0.27802340671488646},{"$f":"IF($C65<>\"\",CQ65*EXP(-OFFSET('Forecasts Aggregate'!$C$58,$C65-$C$17,MATCH(CQ$16,Ages,1))),\"\")","v":0.23704544056775731},{"$f":"IF($C65<>\"\",CR65*EXP(-OFFSET('Forecasts Aggregate'!$C$58,$C65-$C$17,MATCH(CR$16,Ages,1))),\"\")","v":0.20210723103463613},{"$f":"IF($C65<>\"\",CS65*EXP(-OFFSET('Forecasts Aggregate'!$C$58,$C65-$C$17,MATCH(CS$16,Ages,1))),\"\")","v":0.17231857629766112},{"$f":"IF($C65<>\"\",CT65*EXP(-OFFSET('Forecasts Aggregate'!$C$58,$C65-$C$17,MATCH(CT$16,Ages,1))),\"\")","v":0.1469204816930281},{"$f":"IF($C65<>\"\",CU65*EXP(-OFFSET('Forecasts Aggregate'!$C$58,$C65-$C$17,MATCH(CU$16,Ages,1))),\"\")","v":0.10949464586544262},{"$f":"IF($C65<>\"\",CV65*EXP(-OFFSET('Forecasts Aggregate'!$C$58,$C65-$C$17,MATCH(CV$16,Ages,1))),\"\")","v":8.1602492280472935E-2},{"$f":"IF($C65<>\"\",CW65*EXP(-OFFSET('Forecasts Aggregate'!$C$58,$C65-$C$17,MATCH(CW$16,Ages,1))),\"\")","v":6.081545534717573E-2},{"$f":"IF($C65<>\"\",CX65*EXP(-OFFSET('Forecasts Aggregate'!$C$58,$C65-$C$17,MATCH(CX$16,Ages,1))),\"\")","v":4.5323610906052705E-2},{"$f":"IF($C65<>\"\",CY65*EXP(-OFFSET('Forecasts Aggregate'!$C$58,$C65-$C$17,MATCH(CY$16,Ages,1))),\"\")","v":3.3778086406429549E-2},{"$f":"IF($C65<>\"\",CZ65*EXP(-OFFSET('Forecasts Aggregate'!$C$58,$C65-$C$17,MATCH(CZ$16,Ages,1))),\"\")","v":2.5173614777631328E-2},{"$f":"IF($C65<>\"\",DA65*EXP(-OFFSET('Forecasts Aggregate'!$C$58,$C65-$C$17,MATCH(DA$16,Ages,1))),\"\")","v":1.876100597729401E-2},{"$f":"IF($C65<>\"\",DB65*EXP(-OFFSET('Forecasts Aggregate'!$C$58,$C65-$C$17,MATCH(DB$16,Ages,1))),\"\")","v":1.3981915127771737E-2},{"$f":"IF($C65<>\"\",DC65*EXP(-OFFSET('Forecasts Aggregate'!$C$58,$C65-$C$17,MATCH(DC$16,Ages,1))),\"\")","v":1.0420227512150132E-2},{"$f":"IF($C65<>\"\",DD65*EXP(-OFFSET('Forecasts Aggregate'!$C$58,$C65-$C$17,MATCH(DD$16,Ages,1))),\"\")","v":7.7658275288268646E-3},{"$f":"IF($C65<>\"\",DE65*EXP(-OFFSET('Forecasts Aggregate'!$C$58,$C65-$C$17,MATCH(DE$16,Ages,1))),\"\")","v":5.7875969730185927E-3},{"$f":"IF($C65<>\"\",DF65*EXP(-OFFSET('Forecasts Aggregate'!$C$58,$C65-$C$17,MATCH(DF$16,Ages,1))),\"\")","v":4.3132916096520688E-3},{"$f":"IF($C65<>\"\",DG65*EXP(-OFFSET('Forecasts Aggregate'!$C$58,$C65-$C$17,MATCH(DG$16,Ages,1))),\"\")","v":3.2145438938868502E-3},{"$f":"IF($C65<>\"\",DH65*EXP(-OFFSET('Forecasts Aggregate'!$C$58,$C65-$C$17,MATCH(DH$16,Ages,1))),\"\")","v":2.3956860284154932E-3},{"$f":"IF($C65<>\"\",DI65*EXP(-OFFSET('Forecasts Aggregate'!$C$58,$C65-$C$17,MATCH(DI$16,Ages,1))),\"\")","v":1.7854201828320776E-3},{"$f":"IF($C65<>\"\",DJ65*EXP(-OFFSET('Forecasts Aggregate'!$C$58,$C65-$C$17,MATCH(DJ$16,Ages,1))),\"\")","v":1.3306106023302608E-3},null,2023,81.277138984792941,20.925207532258657]
[null,null,2024,1,{"$f":"IF($C66<>\"\",D66*EXP(-OFFSET('Forecasts Aggregate'!$C$58,$C66-$C$17,MATCH(D$16,Ages,1))),\"\")","v":0.99526535904788294},{"$f":"IF($C66<>\"\",E66*EXP(-OFFSET('Forecasts Aggregate'!$C$58,$C66-$C$17,MATCH(E$16,Ages,1))),\"\")","v":0.99504842886614142},{"$f":"IF($C66<>\"\",F66*EXP(-OFFSET('Forecasts Aggregate'!$C$58,$C66-$C$17,MATCH(F$16,Ages,1))),\"\")","v":0.99483154596696965},{"$f":"IF($C66<>\"\",G66*EXP(-OFFSET('Forecasts Aggregate'!$C$58,$C66-$C$17,MATCH(G$16,Ages,1))),\"\")","v":0.99461471034006188},{"$f":"IF($C66<>\"\",H66*EXP(-OFFSET('Forecasts Aggregate'!$C$58,$C66-$C$17,MATCH(H$16,Ages,1))),\"\")","v":0.99439792197511445},{"$f":"IF($C66<>\"\",I66*EXP(-OFFSET('Forecasts Aggregate'!$C$58,$C66-$C$17,MATCH(I$16,Ages,1))),\"\")","v":0.99429265349986629},{"$f":"IF($C66<>\"\",J66*EXP(-OFFSET('Forecasts Aggregate'!$C$58,$C66-$C$17,MATCH(J$16,Ages,1))),\"\")","v":0.99418739616849894},{"$f":"IF($C66<>\"\",K66*EXP(-OFFSET('Forecasts Aggregate'!$C$58,$C66-$C$17,MATCH(K$16,Ages,1))),\"\")","v":0.99408214997983257},{"$f":"IF($C66<>\"\",L66*EXP(-OFFSET('Forecasts Aggregate'!$C$58,$C66-$C$17,MATCH(L$16,Ages,1))),\"\")","v":0.99397691493268769},{"$f":"IF($C66<>\"\",M66*EXP(-OFFSET('Forecasts Aggregate'!$C$58,$C66-$C$17,MATCH(M$16,Ages,1))),\"\")","v":0.99387169102588491},{"$f":"IF($C66<>\"\",N66*EXP(-OFFSET('Forecasts Aggregate'!$C$58,$C66-$C$17,MATCH(N$16,Ages,1))),\"\")","v":0.99375141597801964},{"$f":"IF($C66<>\"\",O66*EXP(-OFFSET('Forecasts Aggregate'!$C$58,$C66-$C$17,MATCH(O$16,Ages,1))),\"\")","v":0.99363115548544079},{"$f":"IF($C66<>\"\",P66*EXP(-OFFSET('Forecasts Aggregate'!$C$58,$C66-$C$17,MATCH(P$16,Ages,1))),\"\")","v":0.99351090954638699},{"$f":"IF($C66<>\"\",Q66*EXP(-OFFSET('Forecasts Aggregate'!$C$58,$C66-$C$17,MATCH(Q$16,Ages,1))),\"\")","v":0.99339067815909698},{"$f":"IF($C66<>\"\",R66*EXP(-OFFSET('Forecasts Aggregate'!$C$58,$C66-$C$17,MATCH(R$16,Ages,1))),\"\")","v":0.99327046132180974},{"$f":"IF($C66<>\"\",S66*EXP(-OFFSET('Forecasts Aggregate'!$C$58,$C66-$C$17,MATCH(S$16,Ages,1))),\"\")","v":0.99297692950078431},{"$f":"IF($C66<>\"\",T66*EXP(-OFFSET('Forecasts Aggregate'!$C$58,$C66-$C$17,MATCH(T$16,Ages,1))),\"\")","v":0.99268348442444054},{"$f":"IF($C66<>\"\",U66*EXP(-OFFSET('Forecasts Aggregate'!$C$58,$C66-$C$17,MATCH(U$16,Ages,1))),\"\")","v":0.99239012606714361},{"$f":"IF($C66<>\"\",V66*EXP(-OFFSET('Forecasts Aggregate'!$C$58,$C66-$C$17,MATCH(V$16,Ages,1))),\"\")","v":0.99209685440326623},{"$f":"IF($C66<>\"\",W66*EXP(-OFFSET('Forecasts Aggregate'!$C$58,$C66-$C$17,MATCH(W$16,Ages,1))),\"\")","v":0.99180366940718867},{"$f":"IF($C66<>\"\",X66*EXP(-OFFSET('Forecasts Aggregate'!$C$58,$C66-$C$17,MATCH(X$16,Ages,1))),\"\")","v":0.9912264345736761},{"$f":"IF($C66<>\"\",Y66*EXP(-OFFSET('Forecasts Aggregate'!$C$58,$C66-$C$17,MATCH(Y$16,Ages,1))),\"\")","v":0.99064953569380365},{"$f":"IF($C66<>\"\",Z66*EXP(-OFFSET('Forecasts Aggregate'!$C$58,$C66-$C$17,MATCH(Z$16,Ages,1))),\"\")","v":0.99007297257204452},{"$f":"IF($C66<>\"\",AA66*EXP(-OFFSET('Forecasts Aggregate'!$C$58,$C66-$C$17,MATCH(AA$16,Ages,1))),\"\")","v":0.98949674501298579},{"$f":"IF($C66<>\"\",AB66*EXP(-OFFSET('Forecasts Aggregate'!$C$58,$C66-$C$17,MATCH(AB$16,Ages,1))),\"\")","v":0.98892085282132836},{"$f":"IF($C66<>\"\",AC66*EXP(-OFFSET('Forecasts Aggregate'!$C$58,$C66-$C$17,MATCH(AC$16,Ages,1))),\"\")","v":0.98806949069082162},{"$f":"IF($C66<>\"\",AD66*EXP(-OFFSET('Forecasts Aggregate'!$C$58,$C66-$C$17,MATCH(AD$16,Ages,1))),\"\")","v":0.98721886149811799},{"$f":"IF($C66<>\"\",AE66*EXP(-OFFSET('Forecasts Aggregate'!$C$58,$C66-$C$17,MATCH(AE$16,Ages,1))),\"\")","v":0.98636896461223111},{"$f":"IF($C66<>\"\",AF66*EXP(-OFFSET('Forecasts Aggregate'!$C$58,$C66-$C$17,MATCH(AF$16,Ages,1))),\"\")","v":0.98551979940271794},{"$f":"IF($C66<>\"\",AG66*EXP(-OFFSET('Forecasts Aggregate'!$C$58,$C66-$C$17,MATCH(AG$16,Ages,1))),\"\")","v":0.98467136523967824},{"$f":"IF($C66<>\"\",AH66*EXP(-OFFSET('Forecasts Aggregate'!$C$58,$C66-$C$17,MATCH(AH$16,Ages,1))),\"\")","v":0.98359122002146993},{"$f":"IF($C66<>\"\",AI66*EXP(-OFFSET('Forecasts Aggregate'!$C$58,$C66-$C$17,MATCH(AI$16,Ages,1))),\"\")","v":0.98251225967948896},{"$f":"IF($C66<>\"\",AJ66*EXP(-OFFSET('Forecasts Aggregate'!$C$58,$C66-$C$17,MATCH(AJ$16,Ages,1))),\"\")","v":0.98143448291397328},{"$f":"IF($C66<>\"\",AK66*EXP(-OFFSET('Forecasts Aggregate'!$C$58,$C66-$C$17,MATCH(AK$16,Ages,1))),\"\")","v":0.98035788842658689},{"$f":"IF($C66<>\"\",AL66*EXP(-OFFSET('Forecasts Aggregate'!$C$58,$C66-$C$17,MATCH(AL$16,Ages,1))),\"\")","v":0.97928247492041764},{"$f":"IF($C66<>\"\",AM66*EXP(-OFFSET('Forecasts Aggregate'!$C$58,$C66-$C$17,MATCH(AM$16,Ages,1))),\"\")","v":0.97806603458325536},{"$f":"IF($C66<>\"\",AN66*EXP(-OFFSET('Forecasts Aggregate'!$C$58,$C66-$C$17,MATCH(AN$16,Ages,1))),\"\")","v":0.97685110527802899},{"$f":"IF($C66<>\"\",AO66*EXP(-OFFSET('Forecasts Aggregate'!$C$58,$C66-$C$17,MATCH(AO$16,Ages,1))),\"\")","v":0.97563768512777227},{"$f":"IF($C66<>\"\",AP66*EXP(-OFFSET('Forecasts Aggregate'!$C$58,$C66-$C$17,MATCH(AP$16,Ages,1))),\"\")","v":0.97442577225785032},{"$f":"IF($C66<>\"\",AQ66*EXP(-OFFSET('Forecasts Aggregate'!$C$58,$C66-$C$17,MATCH(AQ$16,Ages,1))),\"\")","v":0.97321536479595705},{"$f":"IF($C66<>\"\",AR66*EXP(-OFFSET('Forecasts Aggregate'!$C$58,$C66-$C$17,MATCH(AR$16,Ages,1))),\"\")","v":0.97162096782430529},{"$f":"IF($C66<>\"\",AS66*EXP(-OFFSET('Forecasts Aggregate'!$C$58,$C66-$C$17,MATCH(AS$16,Ages,1))),\"\")","v":0.97002918291756246},{"$f":"IF($C66<>\"\",AT66*EXP(-OFFSET('Forecasts Aggregate'!$C$58,$C66-$C$17,MATCH(AT$16,Ages,1))),\"\")","v":0.96844000579644107},{"$f":"IF($C66<>\"\",AU66*EXP(-OFFSET('Forecasts Aggregate'!$C$58,$C66-$C$17,MATCH(AU$16,Ages,1))),\"\")","v":0.96685343218866415},{"$f":"IF($C66<>\"\",AV66*EXP(-OFFSET('Forecasts Aggregate'!$C$58,$C66-$C$17,MATCH(AV$16,Ages,1))),\"\")","v":0.96526945782895412},{"$f":"IF($C66<>\"\",AW66*EXP(-OFFSET('Forecasts Aggregate'!$C$58,$C66-$C$17,MATCH(AW$16,Ages,1))),\"\")","v":0.96279786855381544},{"$f":"IF($C66<>\"\",AX66*EXP(-OFFSET('Forecasts Aggregate'!$C$58,$C66-$C$17,MATCH(AX$16,Ages,1))),\"\")","v":0.96033260782610508},{"$f":"IF($C66<>\"\",AY66*EXP(-OFFSET('Forecasts Aggregate'!$C$58,$C66-$C$17,MATCH(AY$16,Ages,1))),\"\")","v":0.95787365944146696},{"$f":"IF($C66<>\"\",AZ66*EXP(-OFFSET('Forecasts Aggregate'!$C$58,$C66-$C$17,MATCH(AZ$16,Ages,1))),\"\")","v":0.95542100723703671},{"$f":"IF($C66<>\"\",BA66*EXP(-OFFSET('Forecasts Aggregate'!$C$58,$C66-$C$17,MATCH(BA$16,Ages,1))),\"\")","v":0.95297463509133506},{"$f":"IF($C66<>\"\",BB66*EXP(-OFFSET('Forecasts Aggregate'!$C$58,$C66-$C$17,MATCH(BB$16,Ages,1))),\"\")","v":0.94904636470903891},{"$f":"IF($C66<>\"\",BC66*EXP(-OFFSET('Forecasts Aggregate'!$C$58,$C66-$C$17,MATCH(BC$16,Ages,1))),\"\")","v":0.94513428710630709},{"$f":"IF($C66<>\"\",BD66*EXP(-OFFSET('Forecasts Aggregate'!$C$58,$C66-$C$17,MATCH(BD$16,Ages,1))),\"\")","v":0.94123833553465119},{"$f":"IF($C66<>\"\",BE66*EXP(-OFFSET('Forecasts Aggregate'!$C$58,$C66-$C$17,MATCH(BE$16,Ages,1))),\"\")","v":0.93735844352072772},{"$f":"IF($C66<>\"\",BF66*EXP(-OFFSET('Forecasts Aggregate'!$C$58,$C66-$C$17,MATCH(BF$16,Ages,1))),\"\")","v":0.93349454486520389},{"$f":"IF($C66<>\"\",BG66*EXP(-OFFSET('Forecasts Aggregate'!$C$58,$C66-$C$17,MATCH(BG$16,Ages,1))),\"\")","v":0.92817321750810944},{"$f":"IF($C66<>\"\",BH66*EXP(-OFFSET('Forecasts Aggregate'!$C$58,$C66-$C$17,MATCH(BH$16,Ages,1))),\"\")","v":0.92288222404530185},{"$f":"IF($C66<>\"\",BI66*EXP(-OFFSET('Forecasts Aggregate'!$C$58,$C66-$C$17,MATCH(BI$16,Ages,1))),\"\")","v":0.91762139156031119},{"$f":"IF($C66<>\"\",BJ66*EXP(-OFFSET('Forecasts Aggregate'!$C$58,$C66-$C$17,MATCH(BJ$16,Ages,1))),\"\")","v":0.91239054812236686},{"$f":"IF($C66<>\"\",BK66*EXP(-OFFSET('Forecasts Aggregate'!$C$58,$C66-$C$17,MATCH(BK$16,Ages,1))),\"\")","v":0.90718952278077902},{"$f":"IF($C66<>\"\",BL66*EXP(-OFFSET('Forecasts Aggregate'!$C$58,$C66-$C$17,MATCH(BL$16,Ages,1))),\"\")","v":0.90033995120330401},{"$f":"IF($C66<>\"\",BM66*EXP(-OFFSET('Forecasts Aggregate'!$C$58,$C66-$C$17,MATCH(BM$16,Ages,1))),\"\")","v":0.89354209608596968},{"$f":"IF($C66<>\"\",BN66*EXP(-OFFSET('Forecasts Aggregate'!$C$58,$C66-$C$17,MATCH(BN$16,Ages,1))),\"\")","v":0.88679556695293105},{"$f":"IF($C66<>\"\",BO66*EXP(-OFFSET('Forecasts Aggregate'!$C$58,$C66-$C$17,MATCH(BO$16,Ages,1))),\"\")","v":0.88009997627656089},{"$f":"IF($C66<>\"\",BP66*EXP(-OFFSET('Forecasts Aggregate'!$C$58,$C66-$C$17,MATCH(BP$16,Ages,1))),\"\")","v":0.87345493945518971},{"$f":"IF($C66<>\"\",BQ66*EXP(-OFFSET('Forecasts Aggregate'!$C$58,$C66-$C$17,MATCH(BQ$16,Ages,1))),\"\")","v":0.86394289848676442},{"$f":"IF($C66<>\"\",BR66*EXP(-OFFSET('Forecasts Aggregate'!$C$58,$C66-$C$17,MATCH(BR$16,Ages,1))),\"\")","v":0.85453444491512165},{"$f":"IF($C66<>\"\",BS66*EXP(-OFFSET('Forecasts Aggregate'!$C$58,$C66-$C$17,MATCH(BS$16,Ages,1))),\"\")","v":0.845228450659673},{"$f":"IF($C66<>\"\",BT66*EXP(-OFFSET('Forecasts Aggregate'!$C$58,$C66-$C$17,MATCH(BT$16,Ages,1))),\"\")","v":0.83602379992477849},{"$f":"IF($C66<>\"\",BU66*EXP(-OFFSET('Forecasts Aggregate'!$C$58,$C66-$C$17,MATCH(BU$16,Ages,1))),\"\")","v":0.82691938906596152},{"$f":"IF($C66<>\"\",BV66*EXP(-OFFSET('Forecasts Aggregate'!$C$58,$C66-$C$17,MATCH(BV$16,Ages,1))),\"\")","v":0.81236964640441933},{"$f":"IF($C66<>\"\",BW66*EXP(-OFFSET('Forecasts Aggregate'!$C$58,$C66-$C$17,MATCH(BW$16,Ages,1))),\"\")","v":0.79807590815433038},{"$f":"IF($C66<>\"\",BX66*EXP(-OFFSET('Forecasts Aggregate'!$C$58,$C66-$C$17,MATCH(BX$16,Ages,1))),\"\")","v":0.78403366988835133},{"$f":"IF($C66<>\"\",BY66*EXP(-OFFSET('Forecasts Aggregate'!$C$58,$C66-$C$17,MATCH(BY$16,Ages,1))),\"\")","v":0.77023850643506087},{"$f":"IF($C66<>\"\",BZ66*EXP(-OFFSET('Forecasts Aggregate'!$C$58,$C66-$C$17,MATCH(BZ$16,Ages,1))),\"\")","v":0.7566860704844427},{"$f":"IF($C66<>\"\",CA66*EXP(-OFFSET('Forecasts Aggregate'!$C$58,$C66-$C$17,MATCH(CA$16,Ages,1))),\"\")","v":0.73491177376357275},{"$f":"IF($C66<>\"\",CB66*EXP(-OFFSET('Forecasts Aggregate'!$C$58,$C66-$C$17,MATCH(CB$16,Ages,1))),\"\")","v":0.71376405128026599},{"$f":"IF($C66<>\"\",CC66*EXP(-OFFSET('Forecasts Aggregate'!$C$58,$C66-$C$17,MATCH(CC$16,Ages,1))),\"\")","v":0.69322487281842815},{"$f":"IF($C66<>\"\",CD66*EXP(-OFFSET('Forecasts Aggregate'!$C$58,$C66-$C$17,MATCH(CD$16,Ages,1))),\"\")","v":0.67327672699704133},{"$f":"IF($C66<>\"\",CE66*EXP(-OFFSET('Forecasts Aggregate'!$C$58,$C66-$C$17,MATCH(CE$16,Ages,1))),\"\")","v":0.65390260634023567},{"$f":"IF($C66<>\"\",CF66*EXP(-OFFSET('Forecasts Aggregate'!$C$58,$C66-$C$17,MATCH(CF$16,Ages,1))),\"\")","v":0.62174008498680722},{"$f":"IF($C66<>\"\",CG66*EXP(-OFFSET('Forecasts Aggregate'!$C$58,$C66-$C$17,MATCH(CG$16,Ages,1))),\"\")","v":0.59115949306718119},{"$f":"IF($C66<>\"\",CH66*EXP(-OFFSET('Forecasts Aggregate'!$C$58,$C66-$C$17,MATCH(CH$16,Ages,1))),\"\")","v":0.56208302260399068},{"$f":"IF($C66<>\"\",CI66*EXP(-OFFSET('Forecasts Aggregate'!$C$58,$C66-$C$17,MATCH(CI$16,Ages,1))),\"\")","v":0.5344366926435099},{"$f":"IF($C66<>\"\",CJ66*EXP(-OFFSET('Forecasts Aggregate'!$C$58,$C66-$C$17,MATCH(CJ$16,Ages,1))),\"\")","v":0.50815016102161426},{"$f":"IF($C66<>\"\",CK66*EXP(-OFFSET('Forecasts Aggregate'!$C$58,$C66-$C$17,MATCH(CK$16,Ages,1))),\"\")","v":0.46530987266500645},{"$f":"IF($C66<>\"\",CL66*EXP(-OFFSET('Forecasts Aggregate'!$C$58,$C66-$C$17,MATCH(CL$16,Ages,1))),\"\")","v":0.42608129290805263},{"$f":"IF($C66<>\"\",CM66*EXP(-OFFSET('Forecasts Aggregate'!$C$58,$C66-$C$17,MATCH(CM$16,Ages,1))),\"\")","v":0.39015993175992375},{"$f":"IF($C66<>\"\",CN66*EXP(-OFFSET('Forecasts Aggregate'!$C$58,$C66-$C$17,MATCH(CN$16,Ages,1))),\"\")","v":0.35726696967134419},{"$f":"IF($C66<>\"\",CO66*EXP(-OFFSET('Forecasts Aggregate'!$C$58,$C66-$C$17,MATCH(CO$16,Ages,1))),\"\")","v":0.32714709335320835},{"$f":"IF($C66<>\"\",CP66*EXP(-OFFSET('Forecasts Aggregate'!$C$58,$C66-$C$17,MATCH(CP$16,Ages,1))),\"\")","v":0.27899128831045394},{"$f":"IF($C66<>\"\",CQ66*EXP(-OFFSET('Forecasts Aggregate'!$C$58,$C66-$C$17,MATCH(CQ$16,Ages,1))),\"\")","v":0.2379239813972307},{"$f":"IF($C66<>\"\",CR66*EXP(-OFFSET('Forecasts Aggregate'!$C$58,$C66-$C$17,MATCH(CR$16,Ages,1))),\"\")","v":0.20290175104291475},{"$f":"IF($C66<>\"\",CS66*EXP(-OFFSET('Forecasts Aggregate'!$C$58,$C66-$C$17,MATCH(CS$16,Ages,1))),\"\")","v":0.17303476654396696},{"$f":"IF($C66<>\"\",CT66*EXP(-OFFSET('Forecasts Aggregate'!$C$58,$C66-$C$17,MATCH(CT$16,Ages,1))),\"\")","v":0.14756417960430745},{"$f":"IF($C66<>\"\",CU66*EXP(-OFFSET('Forecasts Aggregate'!$C$58,$C66-$C$17,MATCH(CU$16,Ages,1))),\"\")","v":0.10994387056728319},{"$f":"IF($C66<>\"\",CV66*EXP(-OFFSET('Forecasts Aggregate'!$C$58,$C66-$C$17,MATCH(CV$16,Ages,1))),\"\")","v":8.1914558856549732E-2},{"$f":"IF($C66<>\"\",CW66*EXP(-OFFSET('Forecasts Aggregate'!$C$58,$C66-$C$17,MATCH(CW$16,Ages,1))),\"\")","v":6.103109630433453E-2},{"$f":"IF($C66<>\"\",CX66*EXP(-OFFSET('Forecasts Aggregate'!$C$58,$C66-$C$17,MATCH(CX$16,Ages,1))),\"\")","v":4.5471705739536288E-2},{"$f":"IF($C66<>\"\",CY66*EXP(-OFFSET('Forecasts Aggregate'!$C$58,$C66-$C$17,MATCH(CY$16,Ages,1))),\"\")","v":3.3879057530810365E-2},{"$f":"IF($C66<>\"\",CZ66*EXP(-OFFSET('Forecasts Aggregate'!$C$58,$C66-$C$17,MATCH(CZ$16,Ages,1))),\"\")","v":2.524186239571807E-2},{"$f":"IF($C66<>\"\",DA66*EXP(-OFFSET('Forecasts Aggregate'!$C$58,$C66-$C$17,MATCH(DA$16,Ages,1))),\"\")","v":1.880665117749885E-2},{"$f":"IF($C66<>\"\",DB66*EXP(-OFFSET('Forecasts Aggregate'!$C$58,$C66-$C$17,MATCH(DB$16,Ages,1))),\"\")","v":1.4012045663164595E-2},{"$f":"IF($C66<>\"\",DC66*EXP(-OFFSET('Forecasts Aggregate'!$C$58,$C66-$C$17,MATCH(DC$16,Ages,1))),\"\")","v":1.0439786531560543E-2},{"$f":"IF($C66<>\"\",DD66*EXP(-OFFSET('Forecasts Aggregate'!$C$58,$C66-$C$17,MATCH(DD$16,Ages,1))),\"\")","v":7.7782463349422119E-3},{"$f":"IF($C66<>\"\",DE66*EXP(-OFFSET('Forecasts Aggregate'!$C$58,$C66-$C$17,MATCH(DE$16,Ages,1))),\"\")","v":5.7952445544878608E-3},{"$f":"IF($C66<>\"\",DF66*EXP(-OFFSET('Forecasts Aggregate'!$C$58,$C66-$C$17,MATCH(DF$16,Ages,1))),\"\")","v":4.317793240289647E-3},{"$f":"IF($C66<>\"\",DG66*EXP(-OFFSET('Forecasts Aggregate'!$C$58,$C66-$C$17,MATCH(DG$16,Ages,1))),\"\")","v":3.2170063386632222E-3},{"$f":"IF($C66<>\"\",DH66*EXP(-OFFSET('Forecasts Aggregate'!$C$58,$C66-$C$17,MATCH(DH$16,Ages,1))),\"\")","v":2.3968562659348433E-3},{"$f":"IF($C66<>\"\",DI66*EXP(-OFFSET('Forecasts Aggregate'!$C$58,$C66-$C$17,MATCH(DI$16,Ages,1))),\"\")","v":1.7857969039434139E-3},{"$f":"IF($C66<>\"\",DJ66*EXP(-OFFSET('Forecasts Aggregate'!$C$58,$C66-$C$17,MATCH(DJ$16,Ages,1))),\"\")","v":1.3305222459345316E-3},null,2024,81.270483498499758,20.957203561060524]
[null,null,2025,1,{"$f":"IF($C67<>\"\",D67*EXP(-OFFSET('Forecasts Aggregate'!$C$58,$C67-$C$17,MATCH(D$16,Ages,1))),\"\")","v":0.99532000601547377},{"$f":"IF($C67<>\"\",E67*EXP(-OFFSET('Forecasts Aggregate'!$C$58,$C67-$C$17,MATCH(E$16,Ages,1))),\"\")","v":0.99510414749696963},{"$f":"IF($C67<>\"\",F67*EXP(-OFFSET('Forecasts Aggregate'!$C$58,$C67-$C$17,MATCH(F$16,Ages,1))),\"\")","v":0.99488833579245461},{"$f":"IF($C67<>\"\",G67*EXP(-OFFSET('Forecasts Aggregate'!$C$58,$C67-$C$17,MATCH(G$16,Ages,1))),\"\")","v":0.99467257089177608},{"$f":"IF($C67<>\"\",H67*EXP(-OFFSET('Forecasts Aggregate'!$C$58,$C67-$C$17,MATCH(H$16,Ages,1))),\"\")","v":0.99445685278478357},{"$f":"IF($C67<>\"\",I67*EXP(-OFFSET('Forecasts Aggregate'!$C$58,$C67-$C$17,MATCH(I$16,Ages,1))),\"\")","v":0.99435195343400062},{"$f":"IF($C67<>\"\",J67*EXP(-OFFSET('Forecasts Aggregate'!$C$58,$C67-$C$17,MATCH(J$16,Ages,1))),\"\")","v":0.99424706514842764},{"$f":"IF($C67<>\"\",K67*EXP(-OFFSET('Forecasts Aggregate'!$C$58,$C67-$C$17,MATCH(K$16,Ages,1))),\"\")","v":0.99414218792689735},{"$f":"IF($C67<>\"\",L67*EXP(-OFFSET('Forecasts Aggregate'!$C$58,$C67-$C$17,MATCH(L$16,Ages,1))),\"\")","v":0.99403732176824255},{"$f":"IF($C67<>\"\",M67*EXP(-OFFSET('Forecasts Aggregate'!$C$58,$C67-$C$17,MATCH(M$16,Ages,1))),\"\")","v":0.99393246667129642},{"$f":"IF($C67<>\"\",N67*EXP(-OFFSET('Forecasts Aggregate'!$C$58,$C67-$C$17,MATCH(N$16,Ages,1))),\"\")","v":0.99381272789166131},{"$f":"IF($C67<>\"\",O67*EXP(-OFFSET('Forecasts Aggregate'!$C$58,$C67-$C$17,MATCH(O$16,Ages,1))),\"\")","v":0.99369300353692513},{"$f":"IF($C67<>\"\",P67*EXP(-OFFSET('Forecasts Aggregate'!$C$58,$C67-$C$17,MATCH(P$16,Ages,1))),\"\")","v":0.99357329360535007},{"$f":"IF($C67<>\"\",Q67*EXP(-OFFSET('Forecasts Aggregate'!$C$58,$C67-$C$17,MATCH(Q$16,Ages,1))),\"\")","v":0.99345359809519862},{"$f":"IF($C67<>\"\",R67*EXP(-OFFSET('Forecasts Aggregate'!$C$58,$C67-$C$17,MATCH(R$16,Ages,1))),\"\")","v":0.99333391700473339},{"$f":"IF($C67<>\"\",S67*EXP(-OFFSET('Forecasts Aggregate'!$C$58,$C67-$C$17,MATCH(S$16,Ages,1))),\"\")","v":0.99303943347165968},{"$f":"IF($C67<>\"\",T67*EXP(-OFFSET('Forecasts Aggregate'!$C$58,$C67-$C$17,MATCH(T$16,Ages,1))),\"\")","v":0.99274503724110297},{"$f":"IF($C67<>\"\",U67*EXP(-OFFSET('Forecasts Aggregate'!$C$58,$C67-$C$17,MATCH(U$16,Ages,1))),\"\")","v":0.99245072828718173},{"$f":"IF($C67<>\"\",V67*EXP(-OFFSET('Forecasts Aggregate'!$C$58,$C67-$C$17,MATCH(V$16,Ages,1))),\"\")","v":0.99215650658402188},{"$f":"IF($C67<>\"\",W67*EXP(-OFFSET('Forecasts Aggregate'!$C$58,$C67-$C$17,MATCH(W$16,Ages,1))),\"\")","v":0.99186237210575701},{"$f":"IF($C67<>\"\",X67*EXP(-OFFSET('Forecasts Aggregate'!$C$58,$C67-$C$17,MATCH(X$16,Ages,1))),\"\")","v":0.99126784610072327},{"$f":"IF($C67<>\"\",Y67*EXP(-OFFSET('Forecasts Aggregate'!$C$58,$C67-$C$17,MATCH(Y$16,Ages,1))),\"\")","v":0.99067367645679427},{"$f":"IF($C67<>\"\",Z67*EXP(-OFFSET('Forecasts Aggregate'!$C$58,$C67-$C$17,MATCH(Z$16,Ages,1))),\"\")","v":0.99007986296036588},{"$f":"IF($C67<>\"\",AA67*EXP(-OFFSET('Forecasts Aggregate'!$C$58,$C67-$C$17,MATCH(AA$16,Ages,1))),\"\")","v":0.98948640539796184},{"$f":"IF($C67<>\"\",AB67*EXP(-OFFSET('Forecasts Aggregate'!$C$58,$C67-$C$17,MATCH(AB$16,Ages,1))),\"\")","v":0.98889330355623406},{"$f":"IF($C67<>\"\",AC67*EXP(-OFFSET('Forecasts Aggregate'!$C$58,$C67-$C$17,MATCH(AC$16,Ages,1))),\"\")","v":0.98800018849320914},{"$f":"IF($C67<>\"\",AD67*EXP(-OFFSET('Forecasts Aggregate'!$C$58,$C67-$C$17,MATCH(AD$16,Ages,1))),\"\")","v":0.98710788004350936},{"$f":"IF($C67<>\"\",AE67*EXP(-OFFSET('Forecasts Aggregate'!$C$58,$C67-$C$17,MATCH(AE$16,Ages,1))),\"\")","v":0.9862163774786451},{"$f":"IF($C67<>\"\",AF67*EXP(-OFFSET('Forecasts Aggregate'!$C$58,$C67-$C$17,MATCH(AF$16,Ages,1))),\"\")","v":0.98532568007078469},{"$f":"IF($C67<>\"\",AG67*EXP(-OFFSET('Forecasts Aggregate'!$C$58,$C67-$C$17,MATCH(AG$16,Ages,1))),\"\")","v":0.9844357870927537},{"$f":"IF($C67<>\"\",AH67*EXP(-OFFSET('Forecasts Aggregate'!$C$58,$C67-$C$17,MATCH(AH$16,Ages,1))),\"\")","v":0.98331528200607132},{"$f":"IF($C67<>\"\",AI67*EXP(-OFFSET('Forecasts Aggregate'!$C$58,$C67-$C$17,MATCH(AI$16,Ages,1))),\"\")","v":0.98219605230135465},{"$f":"IF($C67<>\"\",AJ67*EXP(-OFFSET('Forecasts Aggregate'!$C$58,$C67-$C$17,MATCH(AJ$16,Ages,1))),\"\")","v":0.98107809652693778},{"$f":"IF($C67<>\"\",AK67*EXP(-OFFSET('Forecasts Aggregate'!$C$58,$C67-$C$17,MATCH(AK$16,Ages,1))),\"\")","v":0.97996141323280683},{"$f":"IF($C67<>\"\",AL67*EXP(-OFFSET('Forecasts Aggregate'!$C$58,$C67-$C$17,MATCH(AL$16,Ages,1))),\"\")","v":0.97884600097059871},{"$f":"IF($C67<>\"\",AM67*EXP(-OFFSET('Forecasts Aggregate'!$C$58,$C67-$C$17,MATCH(AM$16,Ages,1))),\"\")","v":0.97761518435862937},{"$f":"IF($C67<>\"\",AN67*EXP(-OFFSET('Forecasts Aggregate'!$C$58,$C67-$C$17,MATCH(AN$16,Ages,1))),\"\")","v":0.97638591539514696},{"$f":"IF($C67<>\"\",AO67*EXP(-OFFSET('Forecasts Aggregate'!$C$58,$C67-$C$17,MATCH(AO$16,Ages,1))),\"\")","v":0.97515819213411348},{"$f":"IF($C67<>\"\",AP67*EXP(-OFFSET('Forecasts Aggregate'!$C$58,$C67-$C$17,MATCH(AP$16,Ages,1))),\"\")","v":0.97393201263193796},{"$f":"IF($C67<>\"\",AQ67*EXP(-OFFSET('Forecasts Aggregate'!$C$58,$C67-$C$17,MATCH(AQ$16,Ages,1))),\"\")","v":0.97270737494747328},{"$f":"IF($C67<>\"\",AR67*EXP(-OFFSET('Forecasts Aggregate'!$C$58,$C67-$C$17,MATCH(AR$16,Ages,1))),\"\")","v":0.97110735063042009},{"$f":"IF($C67<>\"\",AS67*EXP(-OFFSET('Forecasts Aggregate'!$C$58,$C67-$C$17,MATCH(AS$16,Ages,1))),\"\")","v":0.96950995822290209},{"$f":"IF($C67<>\"\",AT67*EXP(-OFFSET('Forecasts Aggregate'!$C$58,$C67-$C$17,MATCH(AT$16,Ages,1))),\"\")","v":0.9679151933956428},{"$f":"IF($C67<>\"\",AU67*EXP(-OFFSET('Forecasts Aggregate'!$C$58,$C67-$C$17,MATCH(AU$16,Ages,1))),\"\")","v":0.96632305182648692},{"$f":"IF($C67<>\"\",AV67*EXP(-OFFSET('Forecasts Aggregate'!$C$58,$C67-$C$17,MATCH(AV$16,Ages,1))),\"\")","v":0.9647335292003888},{"$f":"IF($C67<>\"\",AW67*EXP(-OFFSET('Forecasts Aggregate'!$C$58,$C67-$C$17,MATCH(AW$16,Ages,1))),\"\")","v":0.96224317394046677},{"$f":"IF($C67<>\"\",AX67*EXP(-OFFSET('Forecasts Aggregate'!$C$58,$C67-$C$17,MATCH(AX$16,Ages,1))),\"\")","v":0.95975924726329109},{"$f":"IF($C67<>\"\",AY67*EXP(-OFFSET('Forecasts Aggregate'!$C$58,$C67-$C$17,MATCH(AY$16,Ages,1))),\"\")","v":0.95728173257417071},{"$f":"IF($C67<>\"\",AZ67*EXP(-OFFSET('Forecasts Aggregate'!$C$58,$C67-$C$17,MATCH(AZ$16,Ages,1))),\"\")","v":0.95481061332125194},{"$f":"IF($C67<>\"\",BA67*EXP(-OFFSET('Forecasts Aggregate'!$C$58,$C67-$C$17,MATCH(BA$16,Ages,1))),\"\")","v":0.95234587299540807},{"$f":"IF($C67<>\"\",BB67*EXP(-OFFSET('Forecasts Aggregate'!$C$58,$C67-$C$17,MATCH(BB$16,Ages,1))),\"\")","v":0.9483656891207185},{"$f":"IF($C67<>\"\",BC67*EXP(-OFFSET('Forecasts Aggregate'!$C$58,$C67-$C$17,MATCH(BC$16,Ages,1))),\"\")","v":0.94440213981559606},{"$f":"IF($C67<>\"\",BD67*EXP(-OFFSET('Forecasts Aggregate'!$C$58,$C67-$C$17,MATCH(BD$16,Ages,1))),\"\")","v":0.9404551555584022},{"$f":"IF($C67<>\"\",BE67*EXP(-OFFSET('Forecasts Aggregate'!$C$58,$C67-$C$17,MATCH(BE$16,Ages,1))),\"\")","v":0.93652466711805349},{"$f":"IF($C67<>\"\",BF67*EXP(-OFFSET('Forecasts Aggregate'!$C$58,$C67-$C$17,MATCH(BF$16,Ages,1))),\"\")","v":0.93261060555280717},{"$f":"IF($C67<>\"\",BG67*EXP(-OFFSET('Forecasts Aggregate'!$C$58,$C67-$C$17,MATCH(BG$16,Ages,1))),\"\")","v":0.92726441750573552},{"$f":"IF($C67<>\"\",BH67*EXP(-OFFSET('Forecasts Aggregate'!$C$58,$C67-$C$17,MATCH(BH$16,Ages,1))),\"\")","v":0.9219488764687499},{"$f":"IF($C67<>\"\",BI67*EXP(-OFFSET('Forecasts Aggregate'!$C$58,$C67-$C$17,MATCH(BI$16,Ages,1))),\"\")","v":0.91666380675793879},{"$f":"IF($C67<>\"\",BJ67*EXP(-OFFSET('Forecasts Aggregate'!$C$58,$C67-$C$17,MATCH(BJ$16,Ages,1))),\"\")","v":0.91140903369649851},{"$f":"IF($C67<>\"\",BK67*EXP(-OFFSET('Forecasts Aggregate'!$C$58,$C67-$C$17,MATCH(BK$16,Ages,1))),\"\")","v":0.90618438360895948},{"$f":"IF($C67<>\"\",BL67*EXP(-OFFSET('Forecasts Aggregate'!$C$58,$C67-$C$17,MATCH(BL$16,Ages,1))),\"\")","v":0.89937166804417379},{"$f":"IF($C67<>\"\",BM67*EXP(-OFFSET('Forecasts Aggregate'!$C$58,$C67-$C$17,MATCH(BM$16,Ages,1))),\"\")","v":0.8926101706356554},{"$f":"IF($C67<>\"\",BN67*EXP(-OFFSET('Forecasts Aggregate'!$C$58,$C67-$C$17,MATCH(BN$16,Ages,1))),\"\")","v":0.88589950632409775},{"$f":"IF($C67<>\"\",BO67*EXP(-OFFSET('Forecasts Aggregate'!$C$58,$C67-$C$17,MATCH(BO$16,Ages,1))),\"\")","v":0.87923929294507919},{"$f":"IF($C67<>\"\",BP67*EXP(-OFFSET('Forecasts Aggregate'!$C$58,$C67-$C$17,MATCH(BP$16,Ages,1))),\"\")","v":0.87262915120729911},{"$f":"IF($C67<>\"\",BQ67*EXP(-OFFSET('Forecasts Aggregate'!$C$58,$C67-$C$17,MATCH(BQ$16,Ages,1))),\"\")","v":0.86319209048271817},{"$f":"IF($C67<>\"\",BR67*EXP(-OFFSET('Forecasts Aggregate'!$C$58,$C67-$C$17,MATCH(BR$16,Ages,1))),\"\")","v":0.85385708698943208},{"$f":"IF($C67<>\"\",BS67*EXP(-OFFSET('Forecasts Aggregate'!$C$58,$C67-$C$17,MATCH(BS$16,Ages,1))),\"\")","v":0.84462303702801966},{"$f":"IF($C67<>\"\",BT67*EXP(-OFFSET('Forecasts Aggregate'!$C$58,$C67-$C$17,MATCH(BT$16,Ages,1))),\"\")","v":0.83548884883503327},{"$f":"IF($C67<>\"\",BU67*EXP(-OFFSET('Forecasts Aggregate'!$C$58,$C67-$C$17,MATCH(BU$16,Ages,1))),\"\")","v":0.82645344245391705},{"$f":"IF($C67<>\"\",BV67*EXP(-OFFSET('Forecasts Aggregate'!$C$58,$C67-$C$17,MATCH(BV$16,Ages,1))),\"\")","v":0.81200005685322252},{"$f":"IF($C67<>\"\",BW67*EXP(-OFFSET('Forecasts Aggregate'!$C$58,$C67-$C$17,MATCH(BW$16,Ages,1))),\"\")","v":0.79779943849214663},{"$f":"IF($C67<>\"\",BX67*EXP(-OFFSET('Forecasts Aggregate'!$C$58,$C67-$C$17,MATCH(BX$16,Ages,1))),\"\")","v":0.78384716686471312},{"$f":"IF($C67<>\"\",BY67*EXP(-OFFSET('Forecasts Aggregate'!$C$58,$C67-$C$17,MATCH(BY$16,Ages,1))),\"\")","v":0.77013889877272157},{"$f":"IF($C67<>\"\",BZ67*EXP(-OFFSET('Forecasts Aggregate'!$C$58,$C67-$C$17,MATCH(BZ$16,Ages,1))),\"\")","v":0.75667036697375445},{"$f":"IF($C67<>\"\",CA67*EXP(-OFFSET('Forecasts Aggregate'!$C$58,$C67-$C$17,MATCH(CA$16,Ages,1))),\"\")","v":0.73499144122188054},{"$f":"IF($C67<>\"\",CB67*EXP(-OFFSET('Forecasts Aggregate'!$C$58,$C67-$C$17,MATCH(CB$16,Ages,1))),\"\")","v":0.71393362585342879},{"$f":"IF($C67<>\"\",CC67*EXP(-OFFSET('Forecasts Aggregate'!$C$58,$C67-$C$17,MATCH(CC$16,Ages,1))),\"\")","v":0.69347912579345816},{"$f":"IF($C67<>\"\",CD67*EXP(-OFFSET('Forecasts Aggregate'!$C$58,$C67-$C$17,MATCH(CD$16,Ages,1))),\"\")","v":0.67361065580344426},{"$f":"IF($C67<>\"\",CE67*EXP(-OFFSET('Forecasts Aggregate'!$C$58,$C67-$C$17,MATCH(CE$16,Ages,1))),\"\")","v":0.6543114258742504},{"$f":"IF($C67<>\"\",CF67*EXP(-OFFSET('Forecasts Aggregate'!$C$58,$C67-$C$17,MATCH(CF$16,Ages,1))),\"\")","v":0.62225148962972154},{"$f":"IF($C67<>\"\",CG67*EXP(-OFFSET('Forecasts Aggregate'!$C$58,$C67-$C$17,MATCH(CG$16,Ages,1))),\"\")","v":0.59176242540631008},{"$f":"IF($C67<>\"\",CH67*EXP(-OFFSET('Forecasts Aggregate'!$C$58,$C67-$C$17,MATCH(CH$16,Ages,1))),\"\")","v":0.56276726365273833},{"$f":"IF($C67<>\"\",CI67*EXP(-OFFSET('Forecasts Aggregate'!$C$58,$C67-$C$17,MATCH(CI$16,Ages,1))),\"\")","v":0.53519280617003773},{"$f":"IF($C67<>\"\",CJ67*EXP(-OFFSET('Forecasts Aggregate'!$C$58,$C67-$C$17,MATCH(CJ$16,Ages,1))),\"\")","v":0.50896944132291455},{"$f":"IF($C67<>\"\",CK67*EXP(-OFFSET('Forecasts Aggregate'!$C$58,$C67-$C$17,MATCH(CK$16,Ages,1))),\"\")","v":0.46618856927351643},{"$f":"IF($C67<>\"\",CL67*EXP(-OFFSET('Forecasts Aggregate'!$C$58,$C67-$C$17,MATCH(CL$16,Ages,1))),\"\")","v":0.42700359682970151},{"$f":"IF($C67<>\"\",CM67*EXP(-OFFSET('Forecasts Aggregate'!$C$58,$C67-$C$17,MATCH(CM$16,Ages,1))),\"\")","v":0.39111227456657488},{"$f":"IF($C67<>\"\",CN67*EXP(-OFFSET('Forecasts Aggregate'!$C$58,$C67-$C$17,MATCH(CN$16,Ages,1))),\"\")","v":0.35823775830545806},{"$f":"IF($C67<>\"\",CO67*EXP(-OFFSET('Forecasts Aggregate'!$C$58,$C67-$C$17,MATCH(CO$16,Ages,1))),\"\")","v":0.32812647370358816},{"$f":"IF($C67<>\"\",CP67*EXP(-OFFSET('Forecasts Aggregate'!$C$58,$C67-$C$17,MATCH(CP$16,Ages,1))),\"\")","v":0.27988079462425697},{"$f":"IF($C67<>\"\",CQ67*EXP(-OFFSET('Forecasts Aggregate'!$C$58,$C67-$C$17,MATCH(CQ$16,Ages,1))),\"\")","v":0.23872886059863482},{"$f":"IF($C67<>\"\",CR67*EXP(-OFFSET('Forecasts Aggregate'!$C$58,$C67-$C$17,MATCH(CR$16,Ages,1))),\"\")","v":0.2036276514050708},{"$f":"IF($C67<>\"\",CS67*EXP(-OFFSET('Forecasts Aggregate'!$C$58,$C67-$C$17,MATCH(CS$16,Ages,1))),\"\")","v":0.17368750603831329},{"$f":"IF($C67<>\"\",CT67*EXP(-OFFSET('Forecasts Aggregate'!$C$58,$C67-$C$17,MATCH(CT$16,Ages,1))),\"\")","v":0.14814957372266721},{"$f":"IF($C67<>\"\",CU67*EXP(-OFFSET('Forecasts Aggregate'!$C$58,$C67-$C$17,MATCH(CU$16,Ages,1))),\"\")","v":0.11034229781554425},{"$f":"IF($C67<>\"\",CV67*EXP(-OFFSET('Forecasts Aggregate'!$C$58,$C67-$C$17,MATCH(CV$16,Ages,1))),\"\")","v":8.2183312319253701E-2},{"$f":"IF($C67<>\"\",CW67*EXP(-OFFSET('Forecasts Aggregate'!$C$58,$C67-$C$17,MATCH(CW$16,Ages,1))),\"\")","v":6.1210405777978351E-2},{"$f":"IF($C67<>\"\",CX67*EXP(-OFFSET('Forecasts Aggregate'!$C$58,$C67-$C$17,MATCH(CX$16,Ages,1))),\"\")","v":4.5589714867540022E-2},{"$f":"IF($C67<>\"\",CY67*EXP(-OFFSET('Forecasts Aggregate'!$C$58,$C67-$C$17,MATCH(CY$16,Ages,1))),\"\")","v":3.3955372052954971E-2},{"$f":"IF($C67<>\"\",CZ67*EXP(-OFFSET('Forecasts Aggregate'!$C$58,$C67-$C$17,MATCH(CZ$16,Ages,1))),\"\")","v":2.529007462767684E-2},{"$f":"IF($C67<>\"\",DA67*EXP(-OFFSET('Forecasts Aggregate'!$C$58,$C67-$C$17,MATCH(DA$16,Ages,1))),\"\")","v":1.8836132134732526E-2},{"$f":"IF($C67<>\"\",DB67*EXP(-OFFSET('Forecasts Aggregate'!$C$58,$C67-$C$17,MATCH(DB$16,Ages,1))),\"\")","v":1.4029214188589977E-2},{"$f":"IF($C67<>\"\",DC67*EXP(-OFFSET('Forecasts Aggregate'!$C$58,$C67-$C$17,MATCH(DC$16,Ages,1))),\"\")","v":1.0449005631385117E-2},{"$f":"IF($C67<>\"\",DD67*EXP(-OFFSET('Forecasts Aggregate'!$C$58,$C67-$C$17,MATCH(DD$16,Ages,1))),\"\")","v":7.7824543283055636E-3},{"$f":"IF($C67<>\"\",DE67*EXP(-OFFSET('Forecasts Aggregate'!$C$58,$C67-$C$17,MATCH(DE$16,Ages,1))),\"\")","v":5.7963980027191647E-3},{"$f":"IF($C67<>\"\",DF67*EXP(-OFFSET('Forecasts Aggregate'!$C$58,$C67-$C$17,MATCH(DF$16,Ages,1))),\"\")","v":4.3171766114613232E-3},{"$f":"IF($C67<>\"\",DG67*EXP(-OFFSET('Forecasts Aggregate'!$C$58,$C67-$C$17,MATCH(DG$16,Ages,1))),\"\")","v":3.2154475737872627E-3},{"$f":"IF($C67<>\"\",DH67*EXP(-OFFSET('Forecasts Aggregate'!$C$58,$C67-$C$17,MATCH(DH$16,Ages,1))),\"\")","v":2.3948761031285922E-3},{"$f":"IF($C67<>\"\",DI67*EXP(-OFFSET('Forecasts Aggregate'!$C$58,$C67-$C$17,MATCH(DI$16,Ages,1))),\"\")","v":1.783711728374102E-3},{"$f":"IF($C67<>\"\",DJ67*EXP(-OFFSET('Forecasts Aggregate'!$C$58,$C67-$C$17,MATCH(DJ$16,Ages,1))),\"\")","v":1.3285144587575728E-3},null,2025,81.258151647404063,20.988184788496319]
[null,null,2026,1,{"$f":"IF($C68<>\"\",D68*EXP(-OFFSET('Forecasts Aggregate'!$C$58,$C68-$C$17,MATCH(D$16,Ages,1))),\"\")","v":0.99537395422658792},{"$f":"IF($C68<>\"\",E68*EXP(-OFFSET('Forecasts Aggregate'!$C$58,$C68-$C$17,MATCH(E$16,Ages,1))),\"\")","v":0.99515915097777286},{"$f":"IF($C68<>\"\",F68*EXP(-OFFSET('Forecasts Aggregate'!$C$58,$C68-$C$17,MATCH(F$16,Ages,1))),\"\")","v":0.99494439408383328},{"$f":"IF($C68<>\"\",G68*EXP(-OFFSET('Forecasts Aggregate'!$C$58,$C68-$C$17,MATCH(G$16,Ages,1))),\"\")","v":0.99472968353476576},{"$f":"IF($C68<>\"\",H68*EXP(-OFFSET('Forecasts Aggregate'!$C$58,$C68-$C$17,MATCH(H$16,Ages,1))),\"\")","v":0.99451501932056896},{"$f":"IF($C68<>\"\",I68*EXP(-OFFSET('Forecasts Aggregate'!$C$58,$C68-$C$17,MATCH(I$16,Ages,1))),\"\")","v":0.99441048185830139},{"$f":"IF($C68<>\"\",J68*EXP(-OFFSET('Forecasts Aggregate'!$C$58,$C68-$C$17,MATCH(J$16,Ages,1))),\"\")","v":0.99430595538438571},{"$f":"IF($C68<>\"\",K68*EXP(-OFFSET('Forecasts Aggregate'!$C$58,$C68-$C$17,MATCH(K$16,Ages,1))),\"\")","v":0.99420143989766696},{"$f":"IF($C68<>\"\",L68*EXP(-OFFSET('Forecasts Aggregate'!$C$58,$C68-$C$17,MATCH(L$16,Ages,1))),\"\")","v":0.99409693539699018},{"$f":"IF($C68<>\"\",M68*EXP(-OFFSET('Forecasts Aggregate'!$C$58,$C68-$C$17,MATCH(M$16,Ages,1))),\"\")","v":0.99399244188120062},{"$f":"IF($C68<>\"\",N68*EXP(-OFFSET('Forecasts Aggregate'!$C$58,$C68-$C$17,MATCH(N$16,Ages,1))),\"\")","v":0.99387323039060427},{"$f":"IF($C68<>\"\",O68*EXP(-OFFSET('Forecasts Aggregate'!$C$58,$C68-$C$17,MATCH(O$16,Ages,1))),\"\")","v":0.99375403319727906},{"$f":"IF($C68<>\"\",P68*EXP(-OFFSET('Forecasts Aggregate'!$C$58,$C68-$C$17,MATCH(P$16,Ages,1))),\"\")","v":0.99363485029951037},{"$f":"IF($C68<>\"\",Q68*EXP(-OFFSET('Forecasts Aggregate'!$C$58,$C68-$C$17,MATCH(Q$16,Ages,1))),\"\")","v":0.99351568169558369},{"$f":"IF($C68<>\"\",R68*EXP(-OFFSET('Forecasts Aggregate'!$C$58,$C68-$C$17,MATCH(R$16,Ages,1))),\"\")","v":0.9933965273837847},{"$f":"IF($C68<>\"\",S68*EXP(-OFFSET('Forecasts Aggregate'!$C$58,$C68-$C$17,MATCH(S$16,Ages,1))),\"\")","v":0.99310100330994389},{"$f":"IF($C68<>\"\",T68*EXP(-OFFSET('Forecasts Aggregate'!$C$58,$C68-$C$17,MATCH(T$16,Ages,1))),\"\")","v":0.99280556715112578},{"$f":"IF($C68<>\"\",U68*EXP(-OFFSET('Forecasts Aggregate'!$C$58,$C68-$C$17,MATCH(U$16,Ages,1))),\"\")","v":0.99251021888117663},{"$f":"IF($C68<>\"\",V68*EXP(-OFFSET('Forecasts Aggregate'!$C$58,$C68-$C$17,MATCH(V$16,Ages,1))),\"\")","v":0.99221495847395047},{"$f":"IF($C68<>\"\",W68*EXP(-OFFSET('Forecasts Aggregate'!$C$58,$C68-$C$17,MATCH(W$16,Ages,1))),\"\")","v":0.9919197859033092},{"$f":"IF($C68<>\"\",X68*EXP(-OFFSET('Forecasts Aggregate'!$C$58,$C68-$C$17,MATCH(X$16,Ages,1))),\"\")","v":0.99130625650801674},{"$f":"IF($C68<>\"\",Y68*EXP(-OFFSET('Forecasts Aggregate'!$C$58,$C68-$C$17,MATCH(Y$16,Ages,1))),\"\")","v":0.99069310659736032},{"$f":"IF($C68<>\"\",Z68*EXP(-OFFSET('Forecasts Aggregate'!$C$58,$C68-$C$17,MATCH(Z$16,Ages,1))),\"\")","v":0.99008033593661826},{"$f":"IF($C68<>\"\",AA68*EXP(-OFFSET('Forecasts Aggregate'!$C$58,$C68-$C$17,MATCH(AA$16,Ages,1))),\"\")","v":0.98946794429121421},{"$f":"IF($C68<>\"\",AB68*EXP(-OFFSET('Forecasts Aggregate'!$C$58,$C68-$C$17,MATCH(AB$16,Ages,1))),\"\")","v":0.98885593142671691},{"$f":"IF($C68<>\"\",AC68*EXP(-OFFSET('Forecasts Aggregate'!$C$58,$C68-$C$17,MATCH(AC$16,Ages,1))),\"\")","v":0.98791621982864963},{"$f":"IF($C68<>\"\",AD68*EXP(-OFFSET('Forecasts Aggregate'!$C$58,$C68-$C$17,MATCH(AD$16,Ages,1))),\"\")","v":0.9869774012402307},{"$f":"IF($C68<>\"\",AE68*EXP(-OFFSET('Forecasts Aggregate'!$C$58,$C68-$C$17,MATCH(AE$16,Ages,1))),\"\")","v":0.98603947481283127},{"$f":"IF($C68<>\"\",AF68*EXP(-OFFSET('Forecasts Aggregate'!$C$58,$C68-$C$17,MATCH(AF$16,Ages,1))),\"\")","v":0.98510243969862921},{"$f":"IF($C68<>\"\",AG68*EXP(-OFFSET('Forecasts Aggregate'!$C$58,$C68-$C$17,MATCH(AG$16,Ages,1))),\"\")","v":0.98416629505060793},{"$f":"IF($C68<>\"\",AH68*EXP(-OFFSET('Forecasts Aggregate'!$C$58,$C68-$C$17,MATCH(AH$16,Ages,1))),\"\")","v":0.98300139601856396},{"$f":"IF($C68<>\"\",AI68*EXP(-OFFSET('Forecasts Aggregate'!$C$58,$C68-$C$17,MATCH(AI$16,Ages,1))),\"\")","v":0.98183787580812931},{"$f":"IF($C68<>\"\",AJ68*EXP(-OFFSET('Forecasts Aggregate'!$C$58,$C68-$C$17,MATCH(AJ$16,Ages,1))),\"\")","v":0.98067573278727505},{"$f":"IF($C68<>\"\",AK68*EXP(-OFFSET('Forecasts Aggregate'!$C$58,$C68-$C$17,MATCH(AK$16,Ages,1))),\"\")","v":0.97951496532590387},{"$f":"IF($C68<>\"\",AL68*EXP(-OFFSET('Forecasts Aggregate'!$C$58,$C68-$C$17,MATCH(AL$16,Ages,1))),\"\")","v":0.97835557179584798},{"$f":"IF($C68<>\"\",AM68*EXP(-OFFSET('Forecasts Aggregate'!$C$58,$C68-$C$17,MATCH(AM$16,Ages,1))),\"\")","v":0.97710934615228795},{"$f":"IF($C68<>\"\",AN68*EXP(-OFFSET('Forecasts Aggregate'!$C$58,$C68-$C$17,MATCH(AN$16,Ages,1))),\"\")","v":0.97586470794626023},{"$f":"IF($C68<>\"\",AO68*EXP(-OFFSET('Forecasts Aggregate'!$C$58,$C68-$C$17,MATCH(AO$16,Ages,1))),\"\")","v":0.97462165515569299},{"$f":"IF($C68<>\"\",AP68*EXP(-OFFSET('Forecasts Aggregate'!$C$58,$C68-$C$17,MATCH(AP$16,Ages,1))),\"\")","v":0.97338018576108987},{"$f":"IF($C68<>\"\",AQ68*EXP(-OFFSET('Forecasts Aggregate'!$C$58,$C68-$C$17,MATCH(AQ$16,Ages,1))),\"\")","v":0.97214029774552713},{"$f":"IF($C68<>\"\",AR68*EXP(-OFFSET('Forecasts Aggregate'!$C$58,$C68-$C$17,MATCH(AR$16,Ages,1))),\"\")","v":0.97053403532862648},{"$f":"IF($C68<>\"\",AS68*EXP(-OFFSET('Forecasts Aggregate'!$C$58,$C68-$C$17,MATCH(AS$16,Ages,1))),\"\")","v":0.96893042693086062},{"$f":"IF($C68<>\"\",AT68*EXP(-OFFSET('Forecasts Aggregate'!$C$58,$C68-$C$17,MATCH(AT$16,Ages,1))),\"\")","v":0.96732946816700749},{"$f":"IF($C68<>\"\",AU68*EXP(-OFFSET('Forecasts Aggregate'!$C$58,$C68-$C$17,MATCH(AU$16,Ages,1))),\"\")","v":0.96573115465909043},{"$f":"IF($C68<>\"\",AV68*EXP(-OFFSET('Forecasts Aggregate'!$C$58,$C68-$C$17,MATCH(AV$16,Ages,1))),\"\")","v":0.96413548203636679},{"$f":"IF($C68<>\"\",AW68*EXP(-OFFSET('Forecasts Aggregate'!$C$58,$C68-$C$17,MATCH(AW$16,Ages,1))),\"\")","v":0.96162488189370265},{"$f":"IF($C68<>\"\",AX68*EXP(-OFFSET('Forecasts Aggregate'!$C$58,$C68-$C$17,MATCH(AX$16,Ages,1))),\"\")","v":0.95912081933127891},{"$f":"IF($C68<>\"\",AY68*EXP(-OFFSET('Forecasts Aggregate'!$C$58,$C68-$C$17,MATCH(AY$16,Ages,1))),\"\")","v":0.95662327732529517},{"$f":"IF($C68<>\"\",AZ68*EXP(-OFFSET('Forecasts Aggregate'!$C$58,$C68-$C$17,MATCH(AZ$16,Ages,1))),\"\")","v":0.95413223889628107},{"$f":"IF($C68<>\"\",BA68*EXP(-OFFSET('Forecasts Aggregate'!$C$58,$C68-$C$17,MATCH(BA$16,Ages,1))),\"\")","v":0.9516476871089804},{"$f":"IF($C68<>\"\",BB68*EXP(-OFFSET('Forecasts Aggregate'!$C$58,$C68-$C$17,MATCH(BB$16,Ages,1))),\"\")","v":0.94761099786979808},{"$f":"IF($C68<>\"\",BC68*EXP(-OFFSET('Forecasts Aggregate'!$C$58,$C68-$C$17,MATCH(BC$16,Ages,1))),\"\")","v":0.94359143141695201},{"$f":"IF($C68<>\"\",BD68*EXP(-OFFSET('Forecasts Aggregate'!$C$58,$C68-$C$17,MATCH(BD$16,Ages,1))),\"\")","v":0.93958891511918552},{"$f":"IF($C68<>\"\",BE68*EXP(-OFFSET('Forecasts Aggregate'!$C$58,$C68-$C$17,MATCH(BE$16,Ages,1))),\"\")","v":0.9356033766533286},{"$f":"IF($C68<>\"\",BF68*EXP(-OFFSET('Forecasts Aggregate'!$C$58,$C68-$C$17,MATCH(BF$16,Ages,1))),\"\")","v":0.93163474400299084},{"$f":"IF($C68<>\"\",BG68*EXP(-OFFSET('Forecasts Aggregate'!$C$58,$C68-$C$17,MATCH(BG$16,Ages,1))),\"\")","v":0.92626025872068363},{"$f":"IF($C68<>\"\",BH68*EXP(-OFFSET('Forecasts Aggregate'!$C$58,$C68-$C$17,MATCH(BH$16,Ages,1))),\"\")","v":0.92091677817734263},{"$f":"IF($C68<>\"\",BI68*EXP(-OFFSET('Forecasts Aggregate'!$C$58,$C68-$C$17,MATCH(BI$16,Ages,1))),\"\")","v":0.9156041235104746},{"$f":"IF($C68<>\"\",BJ68*EXP(-OFFSET('Forecasts Aggregate'!$C$58,$C68-$C$17,MATCH(BJ$16,Ages,1))),\"\")","v":0.91032211688942155},{"$f":"IF($C68<>\"\",BK68*EXP(-OFFSET('Forecasts Aggregate'!$C$58,$C68-$C$17,MATCH(BK$16,Ages,1))),\"\")","v":0.90507058150940867},{"$f":"IF($C68<>\"\",BL68*EXP(-OFFSET('Forecasts Aggregate'!$C$58,$C68-$C$17,MATCH(BL$16,Ages,1))),\"\")","v":0.89829375055150507},{"$f":"IF($C68<>\"\",BM68*EXP(-OFFSET('Forecasts Aggregate'!$C$58,$C68-$C$17,MATCH(BM$16,Ages,1))),\"\")","v":0.89156766197631754},{"$f":"IF($C68<>\"\",BN68*EXP(-OFFSET('Forecasts Aggregate'!$C$58,$C68-$C$17,MATCH(BN$16,Ages,1))),\"\")","v":0.88489193584380921},{"$f":"IF($C68<>\"\",BO68*EXP(-OFFSET('Forecasts Aggregate'!$C$58,$C68-$C$17,MATCH(BO$16,Ages,1))),\"\")","v":0.87826619505879266},{"$f":"IF($C68<>\"\",BP68*EXP(-OFFSET('Forecasts Aggregate'!$C$58,$C68-$C$17,MATCH(BP$16,Ages,1))),\"\")","v":0.87169006534962834},{"$f":"IF($C68<>\"\",BQ68*EXP(-OFFSET('Forecasts Aggregate'!$C$58,$C68-$C$17,MATCH(BQ$16,Ages,1))),\"\")","v":0.86232791810179465},{"$f":"IF($C68<>\"\",BR68*EXP(-OFFSET('Forecasts Aggregate'!$C$58,$C68-$C$17,MATCH(BR$16,Ages,1))),\"\")","v":0.85306632241990654},{"$f":"IF($C68<>\"\",BS68*EXP(-OFFSET('Forecasts Aggregate'!$C$58,$C68-$C$17,MATCH(BS$16,Ages,1))),\"\")","v":0.84390419835754293},{"$f":"IF($C68<>\"\",BT68*EXP(-OFFSET('Forecasts Aggregate'!$C$58,$C68-$C$17,MATCH(BT$16,Ages,1))),\"\")","v":0.83484047756714996},{"$f":"IF($C68<>\"\",BU68*EXP(-OFFSET('Forecasts Aggregate'!$C$58,$C68-$C$17,MATCH(BU$16,Ages,1))),\"\")","v":0.82587410317546683},{"$f":"IF($C68<>\"\",BV68*EXP(-OFFSET('Forecasts Aggregate'!$C$58,$C68-$C$17,MATCH(BV$16,Ages,1))),\"\")","v":0.81151758999000578},{"$f":"IF($C68<>\"\",BW68*EXP(-OFFSET('Forecasts Aggregate'!$C$58,$C68-$C$17,MATCH(BW$16,Ages,1))),\"\")","v":0.7974106420470578},{"$f":"IF($C68<>\"\",BX68*EXP(-OFFSET('Forecasts Aggregate'!$C$58,$C68-$C$17,MATCH(BX$16,Ages,1))),\"\")","v":0.78354892105016716},{"$f":"IF($C68<>\"\",BY68*EXP(-OFFSET('Forecasts Aggregate'!$C$58,$C68-$C$17,MATCH(BY$16,Ages,1))),\"\")","v":0.76992816411729048},{"$f":"IF($C68<>\"\",BZ68*EXP(-OFFSET('Forecasts Aggregate'!$C$58,$C68-$C$17,MATCH(BZ$16,Ages,1))),\"\")","v":0.75654418246983679},{"$f":"IF($C68<>\"\",CA68*EXP(-OFFSET('Forecasts Aggregate'!$C$58,$C68-$C$17,MATCH(CA$16,Ages,1))),\"\")","v":0.73496158347224649},{"$f":"IF($C68<>\"\",CB68*EXP(-OFFSET('Forecasts Aggregate'!$C$58,$C68-$C$17,MATCH(CB$16,Ages,1))),\"\")","v":0.71399469019321726},{"$f":"IF($C68<>\"\",CC68*EXP(-OFFSET('Forecasts Aggregate'!$C$58,$C68-$C$17,MATCH(CC$16,Ages,1))),\"\")","v":0.69362593785605509},{"$f":"IF($C68<>\"\",CD68*EXP(-OFFSET('Forecasts Aggregate'!$C$58,$C68-$C$17,MATCH(CD$16,Ages,1))),\"\")","v":0.67383826276984615},{"$f":"IF($C68<>\"\",CE68*EXP(-OFFSET('Forecasts Aggregate'!$C$58,$C68-$C$17,MATCH(CE$16,Ages,1))),\"\")","v":0.65461508803454338},{"$f":"IF($C68<>\"\",CF68*EXP(-OFFSET('Forecasts Aggregate'!$C$58,$C68-$C$17,MATCH(CF$16,Ages,1))),\"\")","v":0.62265876998614267},{"$f":"IF($C68<>\"\",CG68*EXP(-OFFSET('Forecasts Aggregate'!$C$58,$C68-$C$17,MATCH(CG$16,Ages,1))),\"\")","v":0.59226246221229384},{"$f":"IF($C68<>\"\",CH68*EXP(-OFFSET('Forecasts Aggregate'!$C$58,$C68-$C$17,MATCH(CH$16,Ages,1))),\"\")","v":0.56335000975506266},{"$f":"IF($C68<>\"\",CI68*EXP(-OFFSET('Forecasts Aggregate'!$C$58,$C68-$C$17,MATCH(CI$16,Ages,1))),\"\")","v":0.53584897530998976},{"$f":"IF($C68<>\"\",CJ68*EXP(-OFFSET('Forecasts Aggregate'!$C$58,$C68-$C$17,MATCH(CJ$16,Ages,1))),\"\")","v":0.50969045774155264},{"$f":"IF($C68<>\"\",CK68*EXP(-OFFSET('Forecasts Aggregate'!$C$58,$C68-$C$17,MATCH(CK$16,Ages,1))),\"\")","v":0.4669706572930597},{"$f":"IF($C68<>\"\",CL68*EXP(-OFFSET('Forecasts Aggregate'!$C$58,$C68-$C$17,MATCH(CL$16,Ages,1))),\"\")","v":0.42783142485921155},{"$f":"IF($C68<>\"\",CM68*EXP(-OFFSET('Forecasts Aggregate'!$C$58,$C68-$C$17,MATCH(CM$16,Ages,1))),\"\")","v":0.39197265446636359},{"$f":"IF($C68<>\"\",CN68*EXP(-OFFSET('Forecasts Aggregate'!$C$58,$C68-$C$17,MATCH(CN$16,Ages,1))),\"\")","v":0.35911939357883099},{"$f":"IF($C68<>\"\",CO68*EXP(-OFFSET('Forecasts Aggregate'!$C$58,$C68-$C$17,MATCH(CO$16,Ages,1))),\"\")","v":0.32901973485881109},{"$f":"IF($C68<>\"\",CP68*EXP(-OFFSET('Forecasts Aggregate'!$C$58,$C68-$C$17,MATCH(CP$16,Ages,1))),\"\")","v":0.28068870786028449},{"$f":"IF($C68<>\"\",CQ68*EXP(-OFFSET('Forecasts Aggregate'!$C$58,$C68-$C$17,MATCH(CQ$16,Ages,1))),\"\")","v":0.23945721904518841},{"$f":"IF($C68<>\"\",CR68*EXP(-OFFSET('Forecasts Aggregate'!$C$58,$C68-$C$17,MATCH(CR$16,Ages,1))),\"\")","v":0.20428238880702235},{"$f":"IF($C68<>\"\",CS68*EXP(-OFFSET('Forecasts Aggregate'!$C$58,$C68-$C$17,MATCH(CS$16,Ages,1))),\"\")","v":0.17427453030275214},{"$f":"IF($C68<>\"\",CT68*EXP(-OFFSET('Forecasts Aggregate'!$C$58,$C68-$C$17,MATCH(CT$16,Ages,1))),\"\")","v":0.14867464635405139},{"$f":"IF($C68<>\"\",CU68*EXP(-OFFSET('Forecasts Aggregate'!$C$58,$C68-$C$17,MATCH(CU$16,Ages,1))),\"\")","v":0.11068834128582544},{"$f":"IF($C68<>\"\",CV68*EXP(-OFFSET('Forecasts Aggregate'!$C$58,$C68-$C$17,MATCH(CV$16,Ages,1))),\"\")","v":8.2407520024839143E-2},{"$f":"IF($C68<>\"\",CW68*EXP(-OFFSET('Forecasts Aggregate'!$C$58,$C68-$C$17,MATCH(CW$16,Ages,1))),\"\")","v":6.1352435837015371E-2},{"$f":"IF($C68<>\"\",CX68*EXP(-OFFSET('Forecasts Aggregate'!$C$58,$C68-$C$17,MATCH(CX$16,Ages,1))),\"\")","v":4.5676916160084811E-2},{"$f":"IF($C68<>\"\",CY68*EXP(-OFFSET('Forecasts Aggregate'!$C$58,$C68-$C$17,MATCH(CY$16,Ages,1))),\"\")","v":3.4006484688528932E-2},{"$f":"IF($C68<>\"\",CZ68*EXP(-OFFSET('Forecasts Aggregate'!$C$58,$C68-$C$17,MATCH(CZ$16,Ages,1))),\"\")","v":2.5317843192788028E-2},{"$f":"IF($C68<>\"\",DA68*EXP(-OFFSET('Forecasts Aggregate'!$C$58,$C68-$C$17,MATCH(DA$16,Ages,1))),\"\")","v":1.8849145679289307E-2},{"$f":"IF($C68<>\"\",DB68*EXP(-OFFSET('Forecasts Aggregate'!$C$58,$C68-$C$17,MATCH(DB$16,Ages,1))),\"\")","v":1.4033197462107586E-2},{"$f":"IF($C68<>\"\",DC68*EXP(-OFFSET('Forecasts Aggregate'!$C$58,$C68-$C$17,MATCH(DC$16,Ages,1))),\"\")","v":1.0447721841679134E-2},{"$f":"IF($C68<>\"\",DD68*EXP(-OFFSET('Forecasts Aggregate'!$C$58,$C68-$C$17,MATCH(DD$16,Ages,1))),\"\")","v":7.7783336246667291E-3},{"$f":"IF($C68<>\"\",DE68*EXP(-OFFSET('Forecasts Aggregate'!$C$58,$C68-$C$17,MATCH(DE$16,Ages,1))),\"\")","v":5.7909728927945155E-3},{"$f":"IF($C68<>\"\",DF68*EXP(-OFFSET('Forecasts Aggregate'!$C$58,$C68-$C$17,MATCH(DF$16,Ages,1))),\"\")","v":4.3113819313089358E-3},{"$f":"IF($C68<>\"\",DG68*EXP(-OFFSET('Forecasts Aggregate'!$C$58,$C68-$C$17,MATCH(DG$16,Ages,1))),\"\")","v":3.209825792958817E-3},{"$f":"IF($C68<>\"\",DH68*EXP(-OFFSET('Forecasts Aggregate'!$C$58,$C68-$C$17,MATCH(DH$16,Ages,1))),\"\")","v":2.3897167509851561E-3},{"$f":"IF($C68<>\"\",DI68*EXP(-OFFSET('Forecasts Aggregate'!$C$58,$C68-$C$17,MATCH(DI$16,Ages,1))),\"\")","v":1.7791451992398895E-3},{"$f":"IF($C68<>\"\",DJ68*EXP(-OFFSET('Forecasts Aggregate'!$C$58,$C68-$C$17,MATCH(DJ$16,Ages,1))),\"\")","v":1.3245744035034418E-3},null,2026,81.2397485282833,21.018145590711352]
[null,null,"","",{"$f":"IF($C69<>\"\",D69*EXP(-OFFSET('Forecasts Aggregate'!$C$58,$C69-$C$17,MATCH(D$16,Ages,1))),\"\")","v":""},{"$f":"IF($C69<>\"\",E69*EXP(-OFFSET('Forecasts Aggregate'!$C$58,$C69-$C$17,MATCH(E$16,Ages,1))),\"\")","v":""},{"$f":"IF($C69<>\"\",F69*EXP(-OFFSET('Forecasts Aggregate'!$C$58,$C69-$C$17,MATCH(F$16,Ages,1))),\"\")","v":""},{"$f":"IF($C69<>\"\",G69*EXP(-OFFSET('Forecasts Aggregate'!$C$58,$C69-$C$17,MATCH(G$16,Ages,1))),\"\")","v":""},{"$f":"IF($C69<>\"\",H69*EXP(-OFFSET('Forecasts Aggregate'!$C$58,$C69-$C$17,MATCH(H$16,Ages,1))),\"\")","v":""},{"$f":"IF($C69<>\"\",I69*EXP(-OFFSET('Forecasts Aggregate'!$C$58,$C69-$C$17,MATCH(I$16,Ages,1))),\"\")","v":""},{"$f":"IF($C69<>\"\",J69*EXP(-OFFSET('Forecasts Aggregate'!$C$58,$C69-$C$17,MATCH(J$16,Ages,1))),\"\")","v":""},{"$f":"IF($C69<>\"\",K69*EXP(-OFFSET('Forecasts Aggregate'!$C$58,$C69-$C$17,MATCH(K$16,Ages,1))),\"\")","v":""},{"$f":"IF($C69<>\"\",L69*EXP(-OFFSET('Forecasts Aggregate'!$C$58,$C69-$C$17,MATCH(L$16,Ages,1))),\"\")","v":""},{"$f":"IF($C69<>\"\",M69*EXP(-OFFSET('Forecasts Aggregate'!$C$58,$C69-$C$17,MATCH(M$16,Ages,1))),\"\")","v":""},{"$f":"IF($C69<>\"\",N69*EXP(-OFFSET('Forecasts Aggregate'!$C$58,$C69-$C$17,MATCH(N$16,Ages,1))),\"\")","v":""},{"$f":"IF($C69<>\"\",O69*EXP(-OFFSET('Forecasts Aggregate'!$C$58,$C69-$C$17,MATCH(O$16,Ages,1))),\"\")","v":""},{"$f":"IF($C69<>\"\",P69*EXP(-OFFSET('Forecasts Aggregate'!$C$58,$C69-$C$17,MATCH(P$16,Ages,1))),\"\")","v":""},{"$f":"IF($C69<>\"\",Q69*EXP(-OFFSET('Forecasts Aggregate'!$C$58,$C69-$C$17,MATCH(Q$16,Ages,1))),\"\")","v":""},{"$f":"IF($C69<>\"\",R69*EXP(-OFFSET('Forecasts Aggregate'!$C$58,$C69-$C$17,MATCH(R$16,Ages,1))),\"\")","v":""},{"$f":"IF($C69<>\"\",S69*EXP(-OFFSET('Forecasts Aggregate'!$C$58,$C69-$C$17,MATCH(S$16,Ages,1))),\"\")","v":""},{"$f":"IF($C69<>\"\",T69*EXP(-OFFSET('Forecasts Aggregate'!$C$58,$C69-$C$17,MATCH(T$16,Ages,1))),\"\")","v":""},{"$f":"IF($C69<>\"\",U69*EXP(-OFFSET('Forecasts Aggregate'!$C$58,$C69-$C$17,MATCH(U$16,Ages,1))),\"\")","v":""},{"$f":"IF($C69<>\"\",V69*EXP(-OFFSET('Forecasts Aggregate'!$C$58,$C69-$C$17,MATCH(V$16,Ages,1))),\"\")","v":""},{"$f":"IF($C69<>\"\",W69*EXP(-OFFSET('Forecasts Aggregate'!$C$58,$C69-$C$17,MATCH(W$16,Ages,1))),\"\")","v":""},{"$f":"IF($C69<>\"\",X69*EXP(-OFFSET('Forecasts Aggregate'!$C$58,$C69-$C$17,MATCH(X$16,Ages,1))),\"\")","v":""},{"$f":"IF($C69<>\"\",Y69*EXP(-OFFSET('Forecasts Aggregate'!$C$58,$C69-$C$17,MATCH(Y$16,Ages,1))),\"\")","v":""},{"$f":"IF($C69<>\"\",Z69*EXP(-OFFSET('Forecasts Aggregate'!$C$58,$C69-$C$17,MATCH(Z$16,Ages,1))),\"\")","v":""},{"$f":"IF($C69<>\"\",AA69*EXP(-OFFSET('Forecasts Aggregate'!$C$58,$C69-$C$17,MATCH(AA$16,Ages,1))),\"\")","v":""},{"$f":"IF($C69<>\"\",AB69*EXP(-OFFSET('Forecasts Aggregate'!$C$58,$C69-$C$17,MATCH(AB$16,Ages,1))),\"\")","v":""},{"$f":"IF($C69<>\"\",AC69*EXP(-OFFSET('Forecasts Aggregate'!$C$58,$C69-$C$17,MATCH(AC$16,Ages,1))),\"\")","v":""},{"$f":"IF($C69<>\"\",AD69*EXP(-OFFSET('Forecasts Aggregate'!$C$58,$C69-$C$17,MATCH(AD$16,Ages,1))),\"\")","v":""},{"$f":"IF($C69<>\"\",AE69*EXP(-OFFSET('Forecasts Aggregate'!$C$58,$C69-$C$17,MATCH(AE$16,Ages,1))),\"\")","v":""},{"$f":"IF($C69<>\"\",AF69*EXP(-OFFSET('Forecasts Aggregate'!$C$58,$C69-$C$17,MATCH(AF$16,Ages,1))),\"\")","v":""},{"$f":"IF($C69<>\"\",AG69*EXP(-OFFSET('Forecasts Aggregate'!$C$58,$C69-$C$17,MATCH(AG$16,Ages,1))),\"\")","v":""},{"$f":"IF($C69<>\"\",AH69*EXP(-OFFSET('Forecasts Aggregate'!$C$58,$C69-$C$17,MATCH(AH$16,Ages,1))),\"\")","v":""},{"$f":"IF($C69<>\"\",AI69*EXP(-OFFSET('Forecasts Aggregate'!$C$58,$C69-$C$17,MATCH(AI$16,Ages,1))),\"\")","v":""},{"$f":"IF($C69<>\"\",AJ69*EXP(-OFFSET('Forecasts Aggregate'!$C$58,$C69-$C$17,MATCH(AJ$16,Ages,1))),\"\")","v":""},{"$f":"IF($C69<>\"\",AK69*EXP(-OFFSET('Forecasts Aggregate'!$C$58,$C69-$C$17,MATCH(AK$16,Ages,1))),\"\")","v":""},{"$f":"IF($C69<>\"\",AL69*EXP(-OFFSET('Forecasts Aggregate'!$C$58,$C69-$C$17,MATCH(AL$16,Ages,1))),\"\")","v":""},{"$f":"IF($C69<>\"\",AM69*EXP(-OFFSET('Forecasts Aggregate'!$C$58,$C69-$C$17,MATCH(AM$16,Ages,1))),\"\")","v":""},{"$f":"IF($C69<>\"\",AN69*EXP(-OFFSET('Forecasts Aggregate'!$C$58,$C69-$C$17,MATCH(AN$16,Ages,1))),\"\")","v":""},{"$f":"IF($C69<>\"\",AO69*EXP(-OFFSET('Forecasts Aggregate'!$C$58,$C69-$C$17,MATCH(AO$16,Ages,1))),\"\")","v":""},{"$f":"IF($C69<>\"\",AP69*EXP(-OFFSET('Forecasts Aggregate'!$C$58,$C69-$C$17,MATCH(AP$16,Ages,1))),\"\")","v":""},{"$f":"IF($C69<>\"\",AQ69*EXP(-OFFSET('Forecasts Aggregate'!$C$58,$C69-$C$17,MATCH(AQ$16,Ages,1))),\"\")","v":""},{"$f":"IF($C69<>\"\",AR69*EXP(-OFFSET('Forecasts Aggregate'!$C$58,$C69-$C$17,MATCH(AR$16,Ages,1))),\"\")","v":""},{"$f":"IF($C69<>\"\",AS69*EXP(-OFFSET('Forecasts Aggregate'!$C$58,$C69-$C$17,MATCH(AS$16,Ages,1))),\"\")","v":""},{"$f":"IF($C69<>\"\",AT69*EXP(-OFFSET('Forecasts Aggregate'!$C$58,$C69-$C$17,MATCH(AT$16,Ages,1))),\"\")","v":""},{"$f":"IF($C69<>\"\",AU69*EXP(-OFFSET('Forecasts Aggregate'!$C$58,$C69-$C$17,MATCH(AU$16,Ages,1))),\"\")","v":""},{"$f":"IF($C69<>\"\",AV69*EXP(-OFFSET('Forecasts Aggregate'!$C$58,$C69-$C$17,MATCH(AV$16,Ages,1))),\"\")","v":""},{"$f":"IF($C69<>\"\",AW69*EXP(-OFFSET('Forecasts Aggregate'!$C$58,$C69-$C$17,MATCH(AW$16,Ages,1))),\"\")","v":""},{"$f":"IF($C69<>\"\",AX69*EXP(-OFFSET('Forecasts Aggregate'!$C$58,$C69-$C$17,MATCH(AX$16,Ages,1))),\"\")","v":""},{"$f":"IF($C69<>\"\",AY69*EXP(-OFFSET('Forecasts Aggregate'!$C$58,$C69-$C$17,MATCH(AY$16,Ages,1))),\"\")","v":""},{"$f":"IF($C69<>\"\",AZ69*EXP(-OFFSET('Forecasts Aggregate'!$C$58,$C69-$C$17,MATCH(AZ$16,Ages,1))),\"\")","v":""},{"$f":"IF($C69<>\"\",BA69*EXP(-OFFSET('Forecasts Aggregate'!$C$58,$C69-$C$17,MATCH(BA$16,Ages,1))),\"\")","v":""},{"$f":"IF($C69<>\"\",BB69*EXP(-OFFSET('Forecasts Aggregate'!$C$58,$C69-$C$17,MATCH(BB$16,Ages,1))),\"\")","v":""},{"$f":"IF($C69<>\"\",BC69*EXP(-OFFSET('Forecasts Aggregate'!$C$58,$C69-$C$17,MATCH(BC$16,Ages,1))),\"\")","v":""},{"$f":"IF($C69<>\"\",BD69*EXP(-OFFSET('Forecasts Aggregate'!$C$58,$C69-$C$17,MATCH(BD$16,Ages,1))),\"\")","v":""},{"$f":"IF($C69<>\"\",BE69*EXP(-OFFSET('Forecasts Aggregate'!$C$58,$C69-$C$17,MATCH(BE$16,Ages,1))),\"\")","v":""},{"$f":"IF($C69<>\"\",BF69*EXP(-OFFSET('Forecasts Aggregate'!$C$58,$C69-$C$17,MATCH(BF$16,Ages,1))),\"\")","v":""},{"$f":"IF($C69<>\"\",BG69*EXP(-OFFSET('Forecasts Aggregate'!$C$58,$C69-$C$17,MATCH(BG$16,Ages,1))),\"\")","v":""},{"$f":"IF($C69<>\"\",BH69*EXP(-OFFSET('Forecasts Aggregate'!$C$58,$C69-$C$17,MATCH(BH$16,Ages,1))),\"\")","v":""},{"$f":"IF($C69<>\"\",BI69*EXP(-OFFSET('Forecasts Aggregate'!$C$58,$C69-$C$17,MATCH(BI$16,Ages,1))),\"\")","v":""},{"$f":"IF($C69<>\"\",BJ69*EXP(-OFFSET('Forecasts Aggregate'!$C$58,$C69-$C$17,MATCH(BJ$16,Ages,1))),\"\")","v":""},{"$f":"IF($C69<>\"\",BK69*EXP(-OFFSET('Forecasts Aggregate'!$C$58,$C69-$C$17,MATCH(BK$16,Ages,1))),\"\")","v":""},{"$f":"IF($C69<>\"\",BL69*EXP(-OFFSET('Forecasts Aggregate'!$C$58,$C69-$C$17,MATCH(BL$16,Ages,1))),\"\")","v":""},{"$f":"IF($C69<>\"\",BM69*EXP(-OFFSET('Forecasts Aggregate'!$C$58,$C69-$C$17,MATCH(BM$16,Ages,1))),\"\")","v":""},{"$f":"IF($C69<>\"\",BN69*EXP(-OFFSET('Forecasts Aggregate'!$C$58,$C69-$C$17,MATCH(BN$16,Ages,1))),\"\")","v":""},{"$f":"IF($C69<>\"\",BO69*EXP(-OFFSET('Forecasts Aggregate'!$C$58,$C69-$C$17,MATCH(BO$16,Ages,1))),\"\")","v":""},{"$f":"IF($C69<>\"\",BP69*EXP(-OFFSET('Forecasts Aggregate'!$C$58,$C69-$C$17,MATCH(BP$16,Ages,1))),\"\")","v":""},{"$f":"IF($C69<>\"\",BQ69*EXP(-OFFSET('Forecasts Aggregate'!$C$58,$C69-$C$17,MATCH(BQ$16,Ages,1))),\"\")","v":""},{"$f":"IF($C69<>\"\",BR69*EXP(-OFFSET('Forecasts Aggregate'!$C$58,$C69-$C$17,MATCH(BR$16,Ages,1))),\"\")","v":""},{"$f":"IF($C69<>\"\",BS69*EXP(-OFFSET('Forecasts Aggregate'!$C$58,$C69-$C$17,MATCH(BS$16,Ages,1))),\"\")","v":""},{"$f":"IF($C69<>\"\",BT69*EXP(-OFFSET('Forecasts Aggregate'!$C$58,$C69-$C$17,MATCH(BT$16,Ages,1))),\"\")","v":""},{"$f":"IF($C69<>\"\",BU69*EXP(-OFFSET('Forecasts Aggregate'!$C$58,$C69-$C$17,MATCH(BU$16,Ages,1))),\"\")","v":""},{"$f":"IF($C69<>\"\",BV69*EXP(-OFFSET('Forecasts Aggregate'!$C$58,$C69-$C$17,MATCH(BV$16,Ages,1))),\"\")","v":""},{"$f":"IF($C69<>\"\",BW69*EXP(-OFFSET('Forecasts Aggregate'!$C$58,$C69-$C$17,MATCH(BW$16,Ages,1))),\"\")","v":""},{"$f":"IF($C69<>\"\",BX69*EXP(-OFFSET('Forecasts Aggregate'!$C$58,$C69-$C$17,MATCH(BX$16,Ages,1))),\"\")","v":""},{"$f":"IF($C69<>\"\",BY69*EXP(-OFFSET('Forecasts Aggregate'!$C$58,$C69-$C$17,MATCH(BY$16,Ages,1))),\"\")","v":""},{"$f":"IF($C69<>\"\",BZ69*EXP(-OFFSET('Forecasts Aggregate'!$C$58,$C69-$C$17,MATCH(BZ$16,Ages,1))),\"\")","v":""},{"$f":"IF($C69<>\"\",CA69*EXP(-OFFSET('Forecasts Aggregate'!$C$58,$C69-$C$17,MATCH(CA$16,Ages,1))),\"\")","v":""},{"$f":"IF($C69<>\"\",CB69*EXP(-OFFSET('Forecasts Aggregate'!$C$58,$C69-$C$17,MATCH(CB$16,Ages,1))),\"\")","v":""},{"$f":"IF($C69<>\"\",CC69*EXP(-OFFSET('Forecasts Aggregate'!$C$58,$C69-$C$17,MATCH(CC$16,Ages,1))),\"\")","v":""},{"$f":"IF($C69<>\"\",CD69*EXP(-OFFSET('Forecasts Aggregate'!$C$58,$C69-$C$17,MATCH(CD$16,Ages,1))),\"\")","v":""},{"$f":"IF($C69<>\"\",CE69*EXP(-OFFSET('Forecasts Aggregate'!$C$58,$C69-$C$17,MATCH(CE$16,Ages,1))),\"\")","v":""},{"$f":"IF($C69<>\"\",CF69*EXP(-OFFSET('Forecasts Aggregate'!$C$58,$C69-$C$17,MATCH(CF$16,Ages,1))),\"\")","v":""},{"$f":"IF($C69<>\"\",CG69*EXP(-OFFSET('Forecasts Aggregate'!$C$58,$C69-$C$17,MATCH(CG$16,Ages,1))),\"\")","v":""},{"$f":"IF($C69<>\"\",CH69*EXP(-OFFSET('Forecasts Aggregate'!$C$58,$C69-$C$17,MATCH(CH$16,Ages,1))),\"\")","v":""},{"$f":"IF($C69<>\"\",CI69*EXP(-OFFSET('Forecasts Aggregate'!$C$58,$C69-$C$17,MATCH(CI$16,Ages,1))),\"\")","v":""},{"$f":"IF($C69<>\"\",CJ69*EXP(-OFFSET('Forecasts Aggregate'!$C$58,$C69-$C$17,MATCH(CJ$16,Ages,1))),\"\")","v":""},{"$f":"IF($C69<>\"\",CK69*EXP(-OFFSET('Forecasts Aggregate'!$C$58,$C69-$C$17,MATCH(CK$16,Ages,1))),\"\")","v":""},{"$f":"IF($C69<>\"\",CL69*EXP(-OFFSET('Forecasts Aggregate'!$C$58,$C69-$C$17,MATCH(CL$16,Ages,1))),\"\")","v":""},{"$f":"IF($C69<>\"\",CM69*EXP(-OFFSET('Forecasts Aggregate'!$C$58,$C69-$C$17,MATCH(CM$16,Ages,1))),\"\")","v":""},{"$f":"IF($C69<>\"\",CN69*EXP(-OFFSET('Forecasts Aggregate'!$C$58,$C69-$C$17,MATCH(CN$16,Ages,1))),\"\")","v":""},{"$f":"IF($C69<>\"\",CO69*EXP(-OFFSET('Forecasts Aggregate'!$C$58,$C69-$C$17,MATCH(CO$16,Ages,1))),\"\")","v":""},{"$f":"IF($C69<>\"\",CP69*EXP(-OFFSET('Forecasts Aggregate'!$C$58,$C69-$C$17,MATCH(CP$16,Ages,1))),\"\")","v":""},{"$f":"IF($C69<>\"\",CQ69*EXP(-OFFSET('Forecasts Aggregate'!$C$58,$C69-$C$17,MATCH(CQ$16,Ages,1))),\"\")","v":""},{"$f":"IF($C69<>\"\",CR69*EXP(-OFFSET('Forecasts Aggregate'!$C$58,$C69-$C$17,MATCH(CR$16,Ages,1))),\"\")","v":""},{"$f":"IF($C69<>\"\",CS69*EXP(-OFFSET('Forecasts Aggregate'!$C$58,$C69-$C$17,MATCH(CS$16,Ages,1))),\"\")","v":""},{"$f":"IF($C69<>\"\",CT69*EXP(-OFFSET('Forecasts Aggregate'!$C$58,$C69-$C$17,MATCH(CT$16,Ages,1))),\"\")","v":""},{"$f":"IF($C69<>\"\",CU69*EXP(-OFFSET('Forecasts Aggregate'!$C$58,$C69-$C$17,MATCH(CU$16,Ages,1))),\"\")","v":""},{"$f":"IF($C69<>\"\",CV69*EXP(-OFFSET('Forecasts Aggregate'!$C$58,$C69-$C$17,MATCH(CV$16,Ages,1))),\"\")","v":""},{"$f":"IF($C69<>\"\",CW69*EXP(-OFFSET('Forecasts Aggregate'!$C$58,$C69-$C$17,MATCH(CW$16,Ages,1))),\"\")","v":""},{"$f":"IF($C69<>\"\",CX69*EXP(-OFFSET('Forecasts Aggregate'!$C$58,$C69-$C$17,MATCH(CX$16,Ages,1))),\"\")","v":""},{"$f":"IF($C69<>\"\",CY69*EXP(-OFFSET('Forecasts Aggregate'!$C$58,$C69-$C$17,MATCH(CY$16,Ages,1))),\"\")","v":""},{"$f":"IF($C69<>\"\",CZ69*EXP(-OFFSET('Forecasts Aggregate'!$C$58,$C69-$C$17,MATCH(CZ$16,Ages,1))),\"\")","v":""},{"$f":"IF($C69<>\"\",DA69*EXP(-OFFSET('Forecasts Aggregate'!$C$58,$C69-$C$17,MATCH(DA$16,Ages,1))),\"\")","v":""},{"$f":"IF($C69<>\"\",DB69*EXP(-OFFSET('Forecasts Aggregate'!$C$58,$C69-$C$17,MATCH(DB$16,Ages,1))),\"\")","v":""},{"$f":"IF($C69<>\"\",DC69*EXP(-OFFSET('Forecasts Aggregate'!$C$58,$C69-$C$17,MATCH(DC$16,Ages,1))),\"\")","v":""},{"$f":"IF($C69<>\"\",DD69*EXP(-OFFSET('Forecasts Aggregate'!$C$58,$C69-$C$17,MATCH(DD$16,Ages,1))),\"\")","v":""},{"$f":"IF($C69<>\"\",DE69*EXP(-OFFSET('Forecasts Aggregate'!$C$58,$C69-$C$17,MATCH(DE$16,Ages,1))),\"\")","v":""},{"$f":"IF($C69<>\"\",DF69*EXP(-OFFSET('Forecasts Aggregate'!$C$58,$C69-$C$17,MATCH(DF$16,Ages,1))),\"\")","v":""},{"$f":"IF($C69<>\"\",DG69*EXP(-OFFSET('Forecasts Aggregate'!$C$58,$C69-$C$17,MATCH(DG$16,Ages,1))),\"\")","v":""},{"$f":"IF($C69<>\"\",DH69*EXP(-OFFSET('Forecasts Aggregate'!$C$58,$C69-$C$17,MATCH(DH$16,Ages,1))),\"\")","v":""},{"$f":"IF($C69<>\"\",DI69*EXP(-OFFSET('Forecasts Aggregate'!$C$58,$C69-$C$17,MATCH(DI$16,Ages,1))),\"\")","v":""},{"$f":"IF($C69<>\"\",DJ69*EXP(-OFFSET('Forecasts Aggregate'!$C$58,$C69-$C$17,MATCH(DJ$16,Ages,1))),\"\")","v":""},null,"","",""]
[null,null,"","",{"$f":"IF($C70<>\"\",D70*EXP(-OFFSET('Forecasts Aggregate'!$C$58,$C70-$C$17,MATCH(D$16,Ages,1))),\"\")","v":""},{"$f":"IF($C70<>\"\",E70*EXP(-OFFSET('Forecasts Aggregate'!$C$58,$C70-$C$17,MATCH(E$16,Ages,1))),\"\")","v":""},{"$f":"IF($C70<>\"\",F70*EXP(-OFFSET('Forecasts Aggregate'!$C$58,$C70-$C$17,MATCH(F$16,Ages,1))),\"\")","v":""},{"$f":"IF($C70<>\"\",G70*EXP(-OFFSET('Forecasts Aggregate'!$C$58,$C70-$C$17,MATCH(G$16,Ages,1))),\"\")","v":""},{"$f":"IF($C70<>\"\",H70*EXP(-OFFSET('Forecasts Aggregate'!$C$58,$C70-$C$17,MATCH(H$16,Ages,1))),\"\")","v":""},{"$f":"IF($C70<>\"\",I70*EXP(-OFFSET('Forecasts Aggregate'!$C$58,$C70-$C$17,MATCH(I$16,Ages,1))),\"\")","v":""},{"$f":"IF($C70<>\"\",J70*EXP(-OFFSET('Forecasts Aggregate'!$C$58,$C70-$C$17,MATCH(J$16,Ages,1))),\"\")","v":""},{"$f":"IF($C70<>\"\",K70*EXP(-OFFSET('Forecasts Aggregate'!$C$58,$C70-$C$17,MATCH(K$16,Ages,1))),\"\")","v":""},{"$f":"IF($C70<>\"\",L70*EXP(-OFFSET('Forecasts Aggregate'!$C$58,$C70-$C$17,MATCH(L$16,Ages,1))),\"\")","v":""},{"$f":"IF($C70<>\"\",M70*EXP(-OFFSET('Forecasts Aggregate'!$C$58,$C70-$C$17,MATCH(M$16,Ages,1))),\"\")","v":""},{"$f":"IF($C70<>\"\",N70*EXP(-OFFSET('Forecasts Aggregate'!$C$58,$C70-$C$17,MATCH(N$16,Ages,1))),\"\")","v":""},{"$f":"IF($C70<>\"\",O70*EXP(-OFFSET('Forecasts Aggregate'!$C$58,$C70-$C$17,MATCH(O$16,Ages,1))),\"\")","v":""},{"$f":"IF($C70<>\"\",P70*EXP(-OFFSET('Forecasts Aggregate'!$C$58,$C70-$C$17,MATCH(P$16,Ages,1))),\"\")","v":""},{"$f":"IF($C70<>\"\",Q70*EXP(-OFFSET('Forecasts Aggregate'!$C$58,$C70-$C$17,MATCH(Q$16,Ages,1))),\"\")","v":""},{"$f":"IF($C70<>\"\",R70*EXP(-OFFSET('Forecasts Aggregate'!$C$58,$C70-$C$17,MATCH(R$16,Ages,1))),\"\")","v":""},{"$f":"IF($C70<>\"\",S70*EXP(-OFFSET('Forecasts Aggregate'!$C$58,$C70-$C$17,MATCH(S$16,Ages,1))),\"\")","v":""},{"$f":"IF($C70<>\"\",T70*EXP(-OFFSET('Forecasts Aggregate'!$C$58,$C70-$C$17,MATCH(T$16,Ages,1))),\"\")","v":""},{"$f":"IF($C70<>\"\",U70*EXP(-OFFSET('Forecasts Aggregate'!$C$58,$C70-$C$17,MATCH(U$16,Ages,1))),\"\")","v":""},{"$f":"IF($C70<>\"\",V70*EXP(-OFFSET('Forecasts Aggregate'!$C$58,$C70-$C$17,MATCH(V$16,Ages,1))),\"\")","v":""},{"$f":"IF($C70<>\"\",W70*EXP(-OFFSET('Forecasts Aggregate'!$C$58,$C70-$C$17,MATCH(W$16,Ages,1))),\"\")","v":""},{"$f":"IF($C70<>\"\",X70*EXP(-OFFSET('Forecasts Aggregate'!$C$58,$C70-$C$17,MATCH(X$16,Ages,1))),\"\")","v":""},{"$f":"IF($C70<>\"\",Y70*EXP(-OFFSET('Forecasts Aggregate'!$C$58,$C70-$C$17,MATCH(Y$16,Ages,1))),\"\")","v":""},{"$f":"IF($C70<>\"\",Z70*EXP(-OFFSET('Forecasts Aggregate'!$C$58,$C70-$C$17,MATCH(Z$16,Ages,1))),\"\")","v":""},{"$f":"IF($C70<>\"\",AA70*EXP(-OFFSET('Forecasts Aggregate'!$C$58,$C70-$C$17,MATCH(AA$16,Ages,1))),\"\")","v":""},{"$f":"IF($C70<>\"\",AB70*EXP(-OFFSET('Forecasts Aggregate'!$C$58,$C70-$C$17,MATCH(AB$16,Ages,1))),\"\")","v":""},{"$f":"IF($C70<>\"\",AC70*EXP(-OFFSET('Forecasts Aggregate'!$C$58,$C70-$C$17,MATCH(AC$16,Ages,1))),\"\")","v":""},{"$f":"IF($C70<>\"\",AD70*EXP(-OFFSET('Forecasts Aggregate'!$C$58,$C70-$C$17,MATCH(AD$16,Ages,1))),\"\")","v":""},{"$f":"IF($C70<>\"\",AE70*EXP(-OFFSET('Forecasts Aggregate'!$C$58,$C70-$C$17,MATCH(AE$16,Ages,1))),\"\")","v":""},{"$f":"IF($C70<>\"\",AF70*EXP(-OFFSET('Forecasts Aggregate'!$C$58,$C70-$C$17,MATCH(AF$16,Ages,1))),\"\")","v":""},{"$f":"IF($C70<>\"\",AG70*EXP(-OFFSET('Forecasts Aggregate'!$C$58,$C70-$C$17,MATCH(AG$16,Ages,1))),\"\")","v":""},{"$f":"IF($C70<>\"\",AH70*EXP(-OFFSET('Forecasts Aggregate'!$C$58,$C70-$C$17,MATCH(AH$16,Ages,1))),\"\")","v":""},{"$f":"IF($C70<>\"\",AI70*EXP(-OFFSET('Forecasts Aggregate'!$C$58,$C70-$C$17,MATCH(AI$16,Ages,1))),\"\")","v":""},{"$f":"IF($C70<>\"\",AJ70*EXP(-OFFSET('Forecasts Aggregate'!$C$58,$C70-$C$17,MATCH(AJ$16,Ages,1))),\"\")","v":""},{"$f":"IF($C70<>\"\",AK70*EXP(-OFFSET('Forecasts Aggregate'!$C$58,$C70-$C$17,MATCH(AK$16,Ages,1))),\"\")","v":""},{"$f":"IF($C70<>\"\",AL70*EXP(-OFFSET('Forecasts Aggregate'!$C$58,$C70-$C$17,MATCH(AL$16,Ages,1))),\"\")","v":""},{"$f":"IF($C70<>\"\",AM70*EXP(-OFFSET('Forecasts Aggregate'!$C$58,$C70-$C$17,MATCH(AM$16,Ages,1))),\"\")","v":""},{"$f":"IF($C70<>\"\",AN70*EXP(-OFFSET('Forecasts Aggregate'!$C$58,$C70-$C$17,MATCH(AN$16,Ages,1))),\"\")","v":""},{"$f":"IF($C70<>\"\",AO70*EXP(-OFFSET('Forecasts Aggregate'!$C$58,$C70-$C$17,MATCH(AO$16,Ages,1))),\"\")","v":""},{"$f":"IF($C70<>\"\",AP70*EXP(-OFFSET('Forecasts Aggregate'!$C$58,$C70-$C$17,MATCH(AP$16,Ages,1))),\"\")","v":""},{"$f":"IF($C70<>\"\",AQ70*EXP(-OFFSET('Forecasts Aggregate'!$C$58,$C70-$C$17,MATCH(AQ$16,Ages,1))),\"\")","v":""},{"$f":"IF($C70<>\"\",AR70*EXP(-OFFSET('Forecasts Aggregate'!$C$58,$C70-$C$17,MATCH(AR$16,Ages,1))),\"\")","v":""},{"$f":"IF($C70<>\"\",AS70*EXP(-OFFSET('Forecasts Aggregate'!$C$58,$C70-$C$17,MATCH(AS$16,Ages,1))),\"\")","v":""},{"$f":"IF($C70<>\"\",AT70*EXP(-OFFSET('Forecasts Aggregate'!$C$58,$C70-$C$17,MATCH(AT$16,Ages,1))),\"\")","v":""},{"$f":"IF($C70<>\"\",AU70*EXP(-OFFSET('Forecasts Aggregate'!$C$58,$C70-$C$17,MATCH(AU$16,Ages,1))),\"\")","v":""},{"$f":"IF($C70<>\"\",AV70*EXP(-OFFSET('Forecasts Aggregate'!$C$58,$C70-$C$17,MATCH(AV$16,Ages,1))),\"\")","v":""},{"$f":"IF($C70<>\"\",AW70*EXP(-OFFSET('Forecasts Aggregate'!$C$58,$C70-$C$17,MATCH(AW$16,Ages,1))),\"\")","v":""},{"$f":"IF($C70<>\"\",AX70*EXP(-OFFSET('Forecasts Aggregate'!$C$58,$C70-$C$17,MATCH(AX$16,Ages,1))),\"\")","v":""},{"$f":"IF($C70<>\"\",AY70*EXP(-OFFSET('Forecasts Aggregate'!$C$58,$C70-$C$17,MATCH(AY$16,Ages,1))),\"\")","v":""},{"$f":"IF($C70<>\"\",AZ70*EXP(-OFFSET('Forecasts Aggregate'!$C$58,$C70-$C$17,MATCH(AZ$16,Ages,1))),\"\")","v":""},{"$f":"IF($C70<>\"\",BA70*EXP(-OFFSET('Forecasts Aggregate'!$C$58,$C70-$C$17,MATCH(BA$16,Ages,1))),\"\")","v":""},{"$f":"IF($C70<>\"\",BB70*EXP(-OFFSET('Forecasts Aggregate'!$C$58,$C70-$C$17,MATCH(BB$16,Ages,1))),\"\")","v":""},{"$f":"IF($C70<>\"\",BC70*EXP(-OFFSET('Forecasts Aggregate'!$C$58,$C70-$C$17,MATCH(BC$16,Ages,1))),\"\")","v":""},{"$f":"IF($C70<>\"\",BD70*EXP(-OFFSET('Forecasts Aggregate'!$C$58,$C70-$C$17,MATCH(BD$16,Ages,1))),\"\")","v":""},{"$f":"IF($C70<>\"\",BE70*EXP(-OFFSET('Forecasts Aggregate'!$C$58,$C70-$C$17,MATCH(BE$16,Ages,1))),\"\")","v":""},{"$f":"IF($C70<>\"\",BF70*EXP(-OFFSET('Forecasts Aggregate'!$C$58,$C70-$C$17,MATCH(BF$16,Ages,1))),\"\")","v":""},{"$f":"IF($C70<>\"\",BG70*EXP(-OFFSET('Forecasts Aggregate'!$C$58,$C70-$C$17,MATCH(BG$16,Ages,1))),\"\")","v":""},{"$f":"IF($C70<>\"\",BH70*EXP(-OFFSET('Forecasts Aggregate'!$C$58,$C70-$C$17,MATCH(BH$16,Ages,1))),\"\")","v":""},{"$f":"IF($C70<>\"\",BI70*EXP(-OFFSET('Forecasts Aggregate'!$C$58,$C70-$C$17,MATCH(BI$16,Ages,1))),\"\")","v":""},{"$f":"IF($C70<>\"\",BJ70*EXP(-OFFSET('Forecasts Aggregate'!$C$58,$C70-$C$17,MATCH(BJ$16,Ages,1))),\"\")","v":""},{"$f":"IF($C70<>\"\",BK70*EXP(-OFFSET('Forecasts Aggregate'!$C$58,$C70-$C$17,MATCH(BK$16,Ages,1))),\"\")","v":""},{"$f":"IF($C70<>\"\",BL70*EXP(-OFFSET('Forecasts Aggregate'!$C$58,$C70-$C$17,MATCH(BL$16,Ages,1))),\"\")","v":""},{"$f":"IF($C70<>\"\",BM70*EXP(-OFFSET('Forecasts Aggregate'!$C$58,$C70-$C$17,MATCH(BM$16,Ages,1))),\"\")","v":""},{"$f":"IF($C70<>\"\",BN70*EXP(-OFFSET('Forecasts Aggregate'!$C$58,$C70-$C$17,MATCH(BN$16,Ages,1))),\"\")","v":""},{"$f":"IF($C70<>\"\",BO70*EXP(-OFFSET('Forecasts Aggregate'!$C$58,$C70-$C$17,MATCH(BO$16,Ages,1))),\"\")","v":""},{"$f":"IF($C70<>\"\",BP70*EXP(-OFFSET('Forecasts Aggregate'!$C$58,$C70-$C$17,MATCH(BP$16,Ages,1))),\"\")","v":""},{"$f":"IF($C70<>\"\",BQ70*EXP(-OFFSET('Forecasts Aggregate'!$C$58,$C70-$C$17,MATCH(BQ$16,Ages,1))),\"\")","v":""},{"$f":"IF($C70<>\"\",BR70*EXP(-OFFSET('Forecasts Aggregate'!$C$58,$C70-$C$17,MATCH(BR$16,Ages,1))),\"\")","v":""},{"$f":"IF($C70<>\"\",BS70*EXP(-OFFSET('Forecasts Aggregate'!$C$58,$C70-$C$17,MATCH(BS$16,Ages,1))),\"\")","v":""},{"$f":"IF($C70<>\"\",BT70*EXP(-OFFSET('Forecasts Aggregate'!$C$58,$C70-$C$17,MATCH(BT$16,Ages,1))),\"\")","v":""},{"$f":"IF($C70<>\"\",BU70*EXP(-OFFSET('Forecasts Aggregate'!$C$58,$C70-$C$17,MATCH(BU$16,Ages,1))),\"\")","v":""},{"$f":"IF($C70<>\"\",BV70*EXP(-OFFSET('Forecasts Aggregate'!$C$58,$C70-$C$17,MATCH(BV$16,Ages,1))),\"\")","v":""},{"$f":"IF($C70<>\"\",BW70*EXP(-OFFSET('Forecasts Aggregate'!$C$58,$C70-$C$17,MATCH(BW$16,Ages,1))),\"\")","v":""},{"$f":"IF($C70<>\"\",BX70*EXP(-OFFSET('Forecasts Aggregate'!$C$58,$C70-$C$17,MATCH(BX$16,Ages,1))),\"\")","v":""},{"$f":"IF($C70<>\"\",BY70*EXP(-OFFSET('Forecasts Aggregate'!$C$58,$C70-$C$17,MATCH(BY$16,Ages,1))),\"\")","v":""},{"$f":"IF($C70<>\"\",BZ70*EXP(-OFFSET('Forecasts Aggregate'!$C$58,$C70-$C$17,MATCH(BZ$16,Ages,1))),\"\")","v":""},{"$f":"IF($C70<>\"\",CA70*EXP(-OFFSET('Forecasts Aggregate'!$C$58,$C70-$C$17,MATCH(CA$16,Ages,1))),\"\")","v":""},{"$f":"IF($C70<>\"\",CB70*EXP(-OFFSET('Forecasts Aggregate'!$C$58,$C70-$C$17,MATCH(CB$16,Ages,1))),\"\")","v":""},{"$f":"IF($C70<>\"\",CC70*EXP(-OFFSET('Forecasts Aggregate'!$C$58,$C70-$C$17,MATCH(CC$16,Ages,1))),\"\")","v":""},{"$f":"IF($C70<>\"\",CD70*EXP(-OFFSET('Forecasts Aggregate'!$C$58,$C70-$C$17,MATCH(CD$16,Ages,1))),\"\")","v":""},{"$f":"IF($C70<>\"\",CE70*EXP(-OFFSET('Forecasts Aggregate'!$C$58,$C70-$C$17,MATCH(CE$16,Ages,1))),\"\")","v":""},{"$f":"IF($C70<>\"\",CF70*EXP(-OFFSET('Forecasts Aggregate'!$C$58,$C70-$C$17,MATCH(CF$16,Ages,1))),\"\")","v":""},{"$f":"IF($C70<>\"\",CG70*EXP(-OFFSET('Forecasts Aggregate'!$C$58,$C70-$C$17,MATCH(CG$16,Ages,1))),\"\")","v":""},{"$f":"IF($C70<>\"\",CH70*EXP(-OFFSET('Forecasts Aggregate'!$C$58,$C70-$C$17,MATCH(CH$16,Ages,1))),\"\")","v":""},{"$f":"IF($C70<>\"\",CI70*EXP(-OFFSET('Forecasts Aggregate'!$C$58,$C70-$C$17,MATCH(CI$16,Ages,1))),\"\")","v":""},{"$f":"IF($C70<>\"\",CJ70*EXP(-OFFSET('Forecasts Aggregate'!$C$58,$C70-$C$17,MATCH(CJ$16,Ages,1))),\"\")","v":""},{"$f":"IF($C70<>\"\",CK70*EXP(-OFFSET('Forecasts Aggregate'!$C$58,$C70-$C$17,MATCH(CK$16,Ages,1))),\"\")","v":""},{"$f":"IF($C70<>\"\",CL70*EXP(-OFFSET('Forecasts Aggregate'!$C$58,$C70-$C$17,MATCH(CL$16,Ages,1))),\"\")","v":""},{"$f":"IF($C70<>\"\",CM70*EXP(-OFFSET('Forecasts Aggregate'!$C$58,$C70-$C$17,MATCH(CM$16,Ages,1))),\"\")","v":""},{"$f":"IF($C70<>\"\",CN70*EXP(-OFFSET('Forecasts Aggregate'!$C$58,$C70-$C$17,MATCH(CN$16,Ages,1))),\"\")","v":""},{"$f":"IF($C70<>\"\",CO70*EXP(-OFFSET('Forecasts Aggregate'!$C$58,$C70-$C$17,MATCH(CO$16,Ages,1))),\"\")","v":""},{"$f":"IF($C70<>\"\",CP70*EXP(-OFFSET('Forecasts Aggregate'!$C$58,$C70-$C$17,MATCH(CP$16,Ages,1))),\"\")","v":""},{"$f":"IF($C70<>\"\",CQ70*EXP(-OFFSET('Forecasts Aggregate'!$C$58,$C70-$C$17,MATCH(CQ$16,Ages,1))),\"\")","v":""},{"$f":"IF($C70<>\"\",CR70*EXP(-OFFSET('Forecasts Aggregate'!$C$58,$C70-$C$17,MATCH(CR$16,Ages,1))),\"\")","v":""},{"$f":"IF($C70<>\"\",CS70*EXP(-OFFSET('Forecasts Aggregate'!$C$58,$C70-$C$17,MATCH(CS$16,Ages,1))),\"\")","v":""},{"$f":"IF($C70<>\"\",CT70*EXP(-OFFSET('Forecasts Aggregate'!$C$58,$C70-$C$17,MATCH(CT$16,Ages,1))),\"\")","v":""},{"$f":"IF($C70<>\"\",CU70*EXP(-OFFSET('Forecasts Aggregate'!$C$58,$C70-$C$17,MATCH(CU$16,Ages,1))),\"\")","v":""},{"$f":"IF($C70<>\"\",CV70*EXP(-OFFSET('Forecasts Aggregate'!$C$58,$C70-$C$17,MATCH(CV$16,Ages,1))),\"\")","v":""},{"$f":"IF($C70<>\"\",CW70*EXP(-OFFSET('Forecasts Aggregate'!$C$58,$C70-$C$17,MATCH(CW$16,Ages,1))),\"\")","v":""},{"$f":"IF($C70<>\"\",CX70*EXP(-OFFSET('Forecasts Aggregate'!$C$58,$C70-$C$17,MATCH(CX$16,Ages,1))),\"\")","v":""},{"$f":"IF($C70<>\"\",CY70*EXP(-OFFSET('Forecasts Aggregate'!$C$58,$C70-$C$17,MATCH(CY$16,Ages,1))),\"\")","v":""},{"$f":"IF($C70<>\"\",CZ70*EXP(-OFFSET('Forecasts Aggregate'!$C$58,$C70-$C$17,MATCH(CZ$16,Ages,1))),\"\")","v":""},{"$f":"IF($C70<>\"\",DA70*EXP(-OFFSET('Forecasts Aggregate'!$C$58,$C70-$C$17,MATCH(DA$16,Ages,1))),\"\")","v":""},{"$f":"IF($C70<>\"\",DB70*EXP(-OFFSET('Forecasts Aggregate'!$C$58,$C70-$C$17,MATCH(DB$16,Ages,1))),\"\")","v":""},{"$f":"IF($C70<>\"\",DC70*EXP(-OFFSET('Forecasts Aggregate'!$C$58,$C70-$C$17,MATCH(DC$16,Ages,1))),\"\")","v":""},{"$f":"IF($C70<>\"\",DD70*EXP(-OFFSET('Forecasts Aggregate'!$C$58,$C70-$C$17,MATCH(DD$16,Ages,1))),\"\")","v":""},{"$f":"IF($C70<>\"\",DE70*EXP(-OFFSET('Forecasts Aggregate'!$C$58,$C70-$C$17,MATCH(DE$16,Ages,1))),\"\")","v":""},{"$f":"IF($C70<>\"\",DF70*EXP(-OFFSET('Forecasts Aggregate'!$C$58,$C70-$C$17,MATCH(DF$16,Ages,1))),\"\")","v":""},{"$f":"IF($C70<>\"\",DG70*EXP(-OFFSET('Forecasts Aggregate'!$C$58,$C70-$C$17,MATCH(DG$16,Ages,1))),\"\")","v":""},{"$f":"IF($C70<>\"\",DH70*EXP(-OFFSET('Forecasts Aggregate'!$C$58,$C70-$C$17,MATCH(DH$16,Ages,1))),\"\")","v":""},{"$f":"IF($C70<>\"\",DI70*EXP(-OFFSET('Forecasts Aggregate'!$C$58,$C70-$C$17,MATCH(DI$16,Ages,1))),\"\")","v":""},{"$f":"IF($C70<>\"\",DJ70*EXP(-OFFSET('Forecasts Aggregate'!$C$58,$C70-$C$17,MATCH(DJ$16,Ages,1))),\"\")","v":""},null,"","",""]
[null,null,"","",{"$f":"IF($C71<>\"\",D71*EXP(-OFFSET('Forecasts Aggregate'!$C$58,$C71-$C$17,MATCH(D$16,Ages,1))),\"\")","v":""},{"$f":"IF($C71<>\"\",E71*EXP(-OFFSET('Forecasts Aggregate'!$C$58,$C71-$C$17,MATCH(E$16,Ages,1))),\"\")","v":""},{"$f":"IF($C71<>\"\",F71*EXP(-OFFSET('Forecasts Aggregate'!$C$58,$C71-$C$17,MATCH(F$16,Ages,1))),\"\")","v":""},{"$f":"IF($C71<>\"\",G71*EXP(-OFFSET('Forecasts Aggregate'!$C$58,$C71-$C$17,MATCH(G$16,Ages,1))),\"\")","v":""},{"$f":"IF($C71<>\"\",H71*EXP(-OFFSET('Forecasts Aggregate'!$C$58,$C71-$C$17,MATCH(H$16,Ages,1))),\"\")","v":""},{"$f":"IF($C71<>\"\",I71*EXP(-OFFSET('Forecasts Aggregate'!$C$58,$C71-$C$17,MATCH(I$16,Ages,1))),\"\")","v":""},{"$f":"IF($C71<>\"\",J71*EXP(-OFFSET('Forecasts Aggregate'!$C$58,$C71-$C$17,MATCH(J$16,Ages,1))),\"\")","v":""},{"$f":"IF($C71<>\"\",K71*EXP(-OFFSET('Forecasts Aggregate'!$C$58,$C71-$C$17,MATCH(K$16,Ages,1))),\"\")","v":""},{"$f":"IF($C71<>\"\",L71*EXP(-OFFSET('Forecasts Aggregate'!$C$58,$C71-$C$17,MATCH(L$16,Ages,1))),\"\")","v":""},{"$f":"IF($C71<>\"\",M71*EXP(-OFFSET('Forecasts Aggregate'!$C$58,$C71-$C$17,MATCH(M$16,Ages,1))),\"\")","v":""},{"$f":"IF($C71<>\"\",N71*EXP(-OFFSET('Forecasts Aggregate'!$C$58,$C71-$C$17,MATCH(N$16,Ages,1))),\"\")","v":""},{"$f":"IF($C71<>\"\",O71*EXP(-OFFSET('Forecasts Aggregate'!$C$58,$C71-$C$17,MATCH(O$16,Ages,1))),\"\")","v":""},{"$f":"IF($C71<>\"\",P71*EXP(-OFFSET('Forecasts Aggregate'!$C$58,$C71-$C$17,MATCH(P$16,Ages,1))),\"\")","v":""},{"$f":"IF($C71<>\"\",Q71*EXP(-OFFSET('Forecasts Aggregate'!$C$58,$C71-$C$17,MATCH(Q$16,Ages,1))),\"\")","v":""},{"$f":"IF($C71<>\"\",R71*EXP(-OFFSET('Forecasts Aggregate'!$C$58,$C71-$C$17,MATCH(R$16,Ages,1))),\"\")","v":""},{"$f":"IF($C71<>\"\",S71*EXP(-OFFSET('Forecasts Aggregate'!$C$58,$C71-$C$17,MATCH(S$16,Ages,1))),\"\")","v":""},{"$f":"IF($C71<>\"\",T71*EXP(-OFFSET('Forecasts Aggregate'!$C$58,$C71-$C$17,MATCH(T$16,Ages,1))),\"\")","v":""},{"$f":"IF($C71<>\"\",U71*EXP(-OFFSET('Forecasts Aggregate'!$C$58,$C71-$C$17,MATCH(U$16,Ages,1))),\"\")","v":""},{"$f":"IF($C71<>\"\",V71*EXP(-OFFSET('Forecasts Aggregate'!$C$58,$C71-$C$17,MATCH(V$16,Ages,1))),\"\")","v":""},{"$f":"IF($C71<>\"\",W71*EXP(-OFFSET('Forecasts Aggregate'!$C$58,$C71-$C$17,MATCH(W$16,Ages,1))),\"\")","v":""},{"$f":"IF($C71<>\"\",X71*EXP(-OFFSET('Forecasts Aggregate'!$C$58,$C71-$C$17,MATCH(X$16,Ages,1))),\"\")","v":""},{"$f":"IF($C71<>\"\",Y71*EXP(-OFFSET('Forecasts Aggregate'!$C$58,$C71-$C$17,MATCH(Y$16,Ages,1))),\"\")","v":""},{"$f":"IF($C71<>\"\",Z71*EXP(-OFFSET('Forecasts Aggregate'!$C$58,$C71-$C$17,MATCH(Z$16,Ages,1))),\"\")","v":""},{"$f":"IF($C71<>\"\",AA71*EXP(-OFFSET('Forecasts Aggregate'!$C$58,$C71-$C$17,MATCH(AA$16,Ages,1))),\"\")","v":""},{"$f":"IF($C71<>\"\",AB71*EXP(-OFFSET('Forecasts Aggregate'!$C$58,$C71-$C$17,MATCH(AB$16,Ages,1))),\"\")","v":""},{"$f":"IF($C71<>\"\",AC71*EXP(-OFFSET('Forecasts Aggregate'!$C$58,$C71-$C$17,MATCH(AC$16,Ages,1))),\"\")","v":""},{"$f":"IF($C71<>\"\",AD71*EXP(-OFFSET('Forecasts Aggregate'!$C$58,$C71-$C$17,MATCH(AD$16,Ages,1))),\"\")","v":""},{"$f":"IF($C71<>\"\",AE71*EXP(-OFFSET('Forecasts Aggregate'!$C$58,$C71-$C$17,MATCH(AE$16,Ages,1))),\"\")","v":""},{"$f":"IF($C71<>\"\",AF71*EXP(-OFFSET('Forecasts Aggregate'!$C$58,$C71-$C$17,MATCH(AF$16,Ages,1))),\"\")","v":""},{"$f":"IF($C71<>\"\",AG71*EXP(-OFFSET('Forecasts Aggregate'!$C$58,$C71-$C$17,MATCH(AG$16,Ages,1))),\"\")","v":""},{"$f":"IF($C71<>\"\",AH71*EXP(-OFFSET('Forecasts Aggregate'!$C$58,$C71-$C$17,MATCH(AH$16,Ages,1))),\"\")","v":""},{"$f":"IF($C71<>\"\",AI71*EXP(-OFFSET('Forecasts Aggregate'!$C$58,$C71-$C$17,MATCH(AI$16,Ages,1))),\"\")","v":""},{"$f":"IF($C71<>\"\",AJ71*EXP(-OFFSET('Forecasts Aggregate'!$C$58,$C71-$C$17,MATCH(AJ$16,Ages,1))),\"\")","v":""},{"$f":"IF($C71<>\"\",AK71*EXP(-OFFSET('Forecasts Aggregate'!$C$58,$C71-$C$17,MATCH(AK$16,Ages,1))),\"\")","v":""},{"$f":"IF($C71<>\"\",AL71*EXP(-OFFSET('Forecasts Aggregate'!$C$58,$C71-$C$17,MATCH(AL$16,Ages,1))),\"\")","v":""},{"$f":"IF($C71<>\"\",AM71*EXP(-OFFSET('Forecasts Aggregate'!$C$58,$C71-$C$17,MATCH(AM$16,Ages,1))),\"\")","v":""},{"$f":"IF($C71<>\"\",AN71*EXP(-OFFSET('Forecasts Aggregate'!$C$58,$C71-$C$17,MATCH(AN$16,Ages,1))),\"\")","v":""},{"$f":"IF($C71<>\"\",AO71*EXP(-OFFSET('Forecasts Aggregate'!$C$58,$C71-$C$17,MATCH(AO$16,Ages,1))),\"\")","v":""},{"$f":"IF($C71<>\"\",AP71*EXP(-OFFSET('Forecasts Aggregate'!$C$58,$C71-$C$17,MATCH(AP$16,Ages,1))),\"\")","v":""},{"$f":"IF($C71<>\"\",AQ71*EXP(-OFFSET('Forecasts Aggregate'!$C$58,$C71-$C$17,MATCH(AQ$16,Ages,1))),\"\")","v":""},{"$f":"IF($C71<>\"\",AR71*EXP(-OFFSET('Forecasts Aggregate'!$C$58,$C71-$C$17,MATCH(AR$16,Ages,1))),\"\")","v":""},{"$f":"IF($C71<>\"\",AS71*EXP(-OFFSET('Forecasts Aggregate'!$C$58,$C71-$C$17,MATCH(AS$16,Ages,1))),\"\")","v":""},{"$f":"IF($C71<>\"\",AT71*EXP(-OFFSET('Forecasts Aggregate'!$C$58,$C71-$C$17,MATCH(AT$16,Ages,1))),\"\")","v":""},{"$f":"IF($C71<>\"\",AU71*EXP(-OFFSET('Forecasts Aggregate'!$C$58,$C71-$C$17,MATCH(AU$16,Ages,1))),\"\")","v":""},{"$f":"IF($C71<>\"\",AV71*EXP(-OFFSET('Forecasts Aggregate'!$C$58,$C71-$C$17,MATCH(AV$16,Ages,1))),\"\")","v":""},{"$f":"IF($C71<>\"\",AW71*EXP(-OFFSET('Forecasts Aggregate'!$C$58,$C71-$C$17,MATCH(AW$16,Ages,1))),\"\")","v":""},{"$f":"IF($C71<>\"\",AX71*EXP(-OFFSET('Forecasts Aggregate'!$C$58,$C71-$C$17,MATCH(AX$16,Ages,1))),\"\")","v":""},{"$f":"IF($C71<>\"\",AY71*EXP(-OFFSET('Forecasts Aggregate'!$C$58,$C71-$C$17,MATCH(AY$16,Ages,1))),\"\")","v":""},{"$f":"IF($C71<>\"\",AZ71*EXP(-OFFSET('Forecasts Aggregate'!$C$58,$C71-$C$17,MATCH(AZ$16,Ages,1))),\"\")","v":""},{"$f":"IF($C71<>\"\",BA71*EXP(-OFFSET('Forecasts Aggregate'!$C$58,$C71-$C$17,MATCH(BA$16,Ages,1))),\"\")","v":""},{"$f":"IF($C71<>\"\",BB71*EXP(-OFFSET('Forecasts Aggregate'!$C$58,$C71-$C$17,MATCH(BB$16,Ages,1))),\"\")","v":""},{"$f":"IF($C71<>\"\",BC71*EXP(-OFFSET('Forecasts Aggregate'!$C$58,$C71-$C$17,MATCH(BC$16,Ages,1))),\"\")","v":""},{"$f":"IF($C71<>\"\",BD71*EXP(-OFFSET('Forecasts Aggregate'!$C$58,$C71-$C$17,MATCH(BD$16,Ages,1))),\"\")","v":""},{"$f":"IF($C71<>\"\",BE71*EXP(-OFFSET('Forecasts Aggregate'!$C$58,$C71-$C$17,MATCH(BE$16,Ages,1))),\"\")","v":""},{"$f":"IF($C71<>\"\",BF71*EXP(-OFFSET('Forecasts Aggregate'!$C$58,$C71-$C$17,MATCH(BF$16,Ages,1))),\"\")","v":""},{"$f":"IF($C71<>\"\",BG71*EXP(-OFFSET('Forecasts Aggregate'!$C$58,$C71-$C$17,MATCH(BG$16,Ages,1))),\"\")","v":""},{"$f":"IF($C71<>\"\",BH71*EXP(-OFFSET('Forecasts Aggregate'!$C$58,$C71-$C$17,MATCH(BH$16,Ages,1))),\"\")","v":""},{"$f":"IF($C71<>\"\",BI71*EXP(-OFFSET('Forecasts Aggregate'!$C$58,$C71-$C$17,MATCH(BI$16,Ages,1))),\"\")","v":""},{"$f":"IF($C71<>\"\",BJ71*EXP(-OFFSET('Forecasts Aggregate'!$C$58,$C71-$C$17,MATCH(BJ$16,Ages,1))),\"\")","v":""},{"$f":"IF($C71<>\"\",BK71*EXP(-OFFSET('Forecasts Aggregate'!$C$58,$C71-$C$17,MATCH(BK$16,Ages,1))),\"\")","v":""},{"$f":"IF($C71<>\"\",BL71*EXP(-OFFSET('Forecasts Aggregate'!$C$58,$C71-$C$17,MATCH(BL$16,Ages,1))),\"\")","v":""},{"$f":"IF($C71<>\"\",BM71*EXP(-OFFSET('Forecasts Aggregate'!$C$58,$C71-$C$17,MATCH(BM$16,Ages,1))),\"\")","v":""},{"$f":"IF($C71<>\"\",BN71*EXP(-OFFSET('Forecasts Aggregate'!$C$58,$C71-$C$17,MATCH(BN$16,Ages,1))),\"\")","v":""},{"$f":"IF($C71<>\"\",BO71*EXP(-OFFSET('Forecasts Aggregate'!$C$58,$C71-$C$17,MATCH(BO$16,Ages,1))),\"\")","v":""},{"$f":"IF($C71<>\"\",BP71*EXP(-OFFSET('Forecasts Aggregate'!$C$58,$C71-$C$17,MATCH(BP$16,Ages,1))),\"\")","v":""},{"$f":"IF($C71<>\"\",BQ71*EXP(-OFFSET('Forecasts Aggregate'!$C$58,$C71-$C$17,MATCH(BQ$16,Ages,1))),\"\")","v":""},{"$f":"IF($C71<>\"\",BR71*EXP(-OFFSET('Forecasts Aggregate'!$C$58,$C71-$C$17,MATCH(BR$16,Ages,1))),\"\")","v":""},{"$f":"IF($C71<>\"\",BS71*EXP(-OFFSET('Forecasts Aggregate'!$C$58,$C71-$C$17,MATCH(BS$16,Ages,1))),\"\")","v":""},{"$f":"IF($C71<>\"\",BT71*EXP(-OFFSET('Forecasts Aggregate'!$C$58,$C71-$C$17,MATCH(BT$16,Ages,1))),\"\")","v":""},{"$f":"IF($C71<>\"\",BU71*EXP(-OFFSET('Forecasts Aggregate'!$C$58,$C71-$C$17,MATCH(BU$16,Ages,1))),\"\")","v":""},{"$f":"IF($C71<>\"\",BV71*EXP(-OFFSET('Forecasts Aggregate'!$C$58,$C71-$C$17,MATCH(BV$16,Ages,1))),\"\")","v":""},{"$f":"IF($C71<>\"\",BW71*EXP(-OFFSET('Forecasts Aggregate'!$C$58,$C71-$C$17,MATCH(BW$16,Ages,1))),\"\")","v":""},{"$f":"IF($C71<>\"\",BX71*EXP(-OFFSET('Forecasts Aggregate'!$C$58,$C71-$C$17,MATCH(BX$16,Ages,1))),\"\")","v":""},{"$f":"IF($C71<>\"\",BY71*EXP(-OFFSET('Forecasts Aggregate'!$C$58,$C71-$C$17,MATCH(BY$16,Ages,1))),\"\")","v":""},{"$f":"IF($C71<>\"\",BZ71*EXP(-OFFSET('Forecasts Aggregate'!$C$58,$C71-$C$17,MATCH(BZ$16,Ages,1))),\"\")","v":""},{"$f":"IF($C71<>\"\",CA71*EXP(-OFFSET('Forecasts Aggregate'!$C$58,$C71-$C$17,MATCH(CA$16,Ages,1))),\"\")","v":""},{"$f":"IF($C71<>\"\",CB71*EXP(-OFFSET('Forecasts Aggregate'!$C$58,$C71-$C$17,MATCH(CB$16,Ages,1))),\"\")","v":""},{"$f":"IF($C71<>\"\",CC71*EXP(-OFFSET('Forecasts Aggregate'!$C$58,$C71-$C$17,MATCH(CC$16,Ages,1))),\"\")","v":""},{"$f":"IF($C71<>\"\",CD71*EXP(-OFFSET('Forecasts Aggregate'!$C$58,$C71-$C$17,MATCH(CD$16,Ages,1))),\"\")","v":""},{"$f":"IF($C71<>\"\",CE71*EXP(-OFFSET('Forecasts Aggregate'!$C$58,$C71-$C$17,MATCH(CE$16,Ages,1))),\"\")","v":""},{"$f":"IF($C71<>\"\",CF71*EXP(-OFFSET('Forecasts Aggregate'!$C$58,$C71-$C$17,MATCH(CF$16,Ages,1))),\"\")","v":""},{"$f":"IF($C71<>\"\",CG71*EXP(-OFFSET('Forecasts Aggregate'!$C$58,$C71-$C$17,MATCH(CG$16,Ages,1))),\"\")","v":""},{"$f":"IF($C71<>\"\",CH71*EXP(-OFFSET('Forecasts Aggregate'!$C$58,$C71-$C$17,MATCH(CH$16,Ages,1))),\"\")","v":""},{"$f":"IF($C71<>\"\",CI71*EXP(-OFFSET('Forecasts Aggregate'!$C$58,$C71-$C$17,MATCH(CI$16,Ages,1))),\"\")","v":""},{"$f":"IF($C71<>\"\",CJ71*EXP(-OFFSET('Forecasts Aggregate'!$C$58,$C71-$C$17,MATCH(CJ$16,Ages,1))),\"\")","v":""},{"$f":"IF($C71<>\"\",CK71*EXP(-OFFSET('Forecasts Aggregate'!$C$58,$C71-$C$17,MATCH(CK$16,Ages,1))),\"\")","v":""},{"$f":"IF($C71<>\"\",CL71*EXP(-OFFSET('Forecasts Aggregate'!$C$58,$C71-$C$17,MATCH(CL$16,Ages,1))),\"\")","v":""},{"$f":"IF($C71<>\"\",CM71*EXP(-OFFSET('Forecasts Aggregate'!$C$58,$C71-$C$17,MATCH(CM$16,Ages,1))),\"\")","v":""},{"$f":"IF($C71<>\"\",CN71*EXP(-OFFSET('Forecasts Aggregate'!$C$58,$C71-$C$17,MATCH(CN$16,Ages,1))),\"\")","v":""},{"$f":"IF($C71<>\"\",CO71*EXP(-OFFSET('Forecasts Aggregate'!$C$58,$C71-$C$17,MATCH(CO$16,Ages,1))),\"\")","v":""},{"$f":"IF($C71<>\"\",CP71*EXP(-OFFSET('Forecasts Aggregate'!$C$58,$C71-$C$17,MATCH(CP$16,Ages,1))),\"\")","v":""},{"$f":"IF($C71<>\"\",CQ71*EXP(-OFFSET('Forecasts Aggregate'!$C$58,$C71-$C$17,MATCH(CQ$16,Ages,1))),\"\")","v":""},{"$f":"IF($C71<>\"\",CR71*EXP(-OFFSET('Forecasts Aggregate'!$C$58,$C71-$C$17,MATCH(CR$16,Ages,1))),\"\")","v":""},{"$f":"IF($C71<>\"\",CS71*EXP(-OFFSET('Forecasts Aggregate'!$C$58,$C71-$C$17,MATCH(CS$16,Ages,1))),\"\")","v":""},{"$f":"IF($C71<>\"\",CT71*EXP(-OFFSET('Forecasts Aggregate'!$C$58,$C71-$C$17,MATCH(CT$16,Ages,1))),\"\")","v":""},{"$f":"IF($C71<>\"\",CU71*EXP(-OFFSET('Forecasts Aggregate'!$C$58,$C71-$C$17,MATCH(CU$16,Ages,1))),\"\")","v":""},{"$f":"IF($C71<>\"\",CV71*EXP(-OFFSET('Forecasts Aggregate'!$C$58,$C71-$C$17,MATCH(CV$16,Ages,1))),\"\")","v":""},{"$f":"IF($C71<>\"\",CW71*EXP(-OFFSET('Forecasts Aggregate'!$C$58,$C71-$C$17,MATCH(CW$16,Ages,1))),\"\")","v":""},{"$f":"IF($C71<>\"\",CX71*EXP(-OFFSET('Forecasts Aggregate'!$C$58,$C71-$C$17,MATCH(CX$16,Ages,1))),\"\")","v":""},{"$f":"IF($C71<>\"\",CY71*EXP(-OFFSET('Forecasts Aggregate'!$C$58,$C71-$C$17,MATCH(CY$16,Ages,1))),\"\")","v":""},{"$f":"IF($C71<>\"\",CZ71*EXP(-OFFSET('Forecasts Aggregate'!$C$58,$C71-$C$17,MATCH(CZ$16,Ages,1))),\"\")","v":""},{"$f":"IF($C71<>\"\",DA71*EXP(-OFFSET('Forecasts Aggregate'!$C$58,$C71-$C$17,MATCH(DA$16,Ages,1))),\"\")","v":""},{"$f":"IF($C71<>\"\",DB71*EXP(-OFFSET('Forecasts Aggregate'!$C$58,$C71-$C$17,MATCH(DB$16,Ages,1))),\"\")","v":""},{"$f":"IF($C71<>\"\",DC71*EXP(-OFFSET('Forecasts Aggregate'!$C$58,$C71-$C$17,MATCH(DC$16,Ages,1))),\"\")","v":""},{"$f":"IF($C71<>\"\",DD71*EXP(-OFFSET('Forecasts Aggregate'!$C$58,$C71-$C$17,MATCH(DD$16,Ages,1))),\"\")","v":""},{"$f":"IF($C71<>\"\",DE71*EXP(-OFFSET('Forecasts Aggregate'!$C$58,$C71-$C$17,MATCH(DE$16,Ages,1))),\"\")","v":""},{"$f":"IF($C71<>\"\",DF71*EXP(-OFFSET('Forecasts Aggregate'!$C$58,$C71-$C$17,MATCH(DF$16,Ages,1))),\"\")","v":""},{"$f":"IF($C71<>\"\",DG71*EXP(-OFFSET('Forecasts Aggregate'!$C$58,$C71-$C$17,MATCH(DG$16,Ages,1))),\"\")","v":""},{"$f":"IF($C71<>\"\",DH71*EXP(-OFFSET('Forecasts Aggregate'!$C$58,$C71-$C$17,MATCH(DH$16,Ages,1))),\"\")","v":""},{"$f":"IF($C71<>\"\",DI71*EXP(-OFFSET('Forecasts Aggregate'!$C$58,$C71-$C$17,MATCH(DI$16,Ages,1))),\"\")","v":""},{"$f":"IF($C71<>\"\",DJ71*EXP(-OFFSET('Forecasts Aggregate'!$C$58,$C71-$C$17,MATCH(DJ$16,Ages,1))),\"\")","v":""},null,"","",""]
[null,null,"","",{"$f":"IF($C72<>\"\",D72*EXP(-OFFSET('Forecasts Aggregate'!$C$58,$C72-$C$17,MATCH(D$16,Ages,1))),\"\")","v":""},{"$f":"IF($C72<>\"\",E72*EXP(-OFFSET('Forecasts Aggregate'!$C$58,$C72-$C$17,MATCH(E$16,Ages,1))),\"\")","v":""},{"$f":"IF($C72<>\"\",F72*EXP(-OFFSET('Forecasts Aggregate'!$C$58,$C72-$C$17,MATCH(F$16,Ages,1))),\"\")","v":""},{"$f":"IF($C72<>\"\",G72*EXP(-OFFSET('Forecasts Aggregate'!$C$58,$C72-$C$17,MATCH(G$16,Ages,1))),\"\")","v":""},{"$f":"IF($C72<>\"\",H72*EXP(-OFFSET('Forecasts Aggregate'!$C$58,$C72-$C$17,MATCH(H$16,Ages,1))),\"\")","v":""},{"$f":"IF($C72<>\"\",I72*EXP(-OFFSET('Forecasts Aggregate'!$C$58,$C72-$C$17,MATCH(I$16,Ages,1))),\"\")","v":""},{"$f":"IF($C72<>\"\",J72*EXP(-OFFSET('Forecasts Aggregate'!$C$58,$C72-$C$17,MATCH(J$16,Ages,1))),\"\")","v":""},{"$f":"IF($C72<>\"\",K72*EXP(-OFFSET('Forecasts Aggregate'!$C$58,$C72-$C$17,MATCH(K$16,Ages,1))),\"\")","v":""},{"$f":"IF($C72<>\"\",L72*EXP(-OFFSET('Forecasts Aggregate'!$C$58,$C72-$C$17,MATCH(L$16,Ages,1))),\"\")","v":""},{"$f":"IF($C72<>\"\",M72*EXP(-OFFSET('Forecasts Aggregate'!$C$58,$C72-$C$17,MATCH(M$16,Ages,1))),\"\")","v":""},{"$f":"IF($C72<>\"\",N72*EXP(-OFFSET('Forecasts Aggregate'!$C$58,$C72-$C$17,MATCH(N$16,Ages,1))),\"\")","v":""},{"$f":"IF($C72<>\"\",O72*EXP(-OFFSET('Forecasts Aggregate'!$C$58,$C72-$C$17,MATCH(O$16,Ages,1))),\"\")","v":""},{"$f":"IF($C72<>\"\",P72*EXP(-OFFSET('Forecasts Aggregate'!$C$58,$C72-$C$17,MATCH(P$16,Ages,1))),\"\")","v":""},{"$f":"IF($C72<>\"\",Q72*EXP(-OFFSET('Forecasts Aggregate'!$C$58,$C72-$C$17,MATCH(Q$16,Ages,1))),\"\")","v":""},{"$f":"IF($C72<>\"\",R72*EXP(-OFFSET('Forecasts Aggregate'!$C$58,$C72-$C$17,MATCH(R$16,Ages,1))),\"\")","v":""},{"$f":"IF($C72<>\"\",S72*EXP(-OFFSET('Forecasts Aggregate'!$C$58,$C72-$C$17,MATCH(S$16,Ages,1))),\"\")","v":""},{"$f":"IF($C72<>\"\",T72*EXP(-OFFSET('Forecasts Aggregate'!$C$58,$C72-$C$17,MATCH(T$16,Ages,1))),\"\")","v":""},{"$f":"IF($C72<>\"\",U72*EXP(-OFFSET('Forecasts Aggregate'!$C$58,$C72-$C$17,MATCH(U$16,Ages,1))),\"\")","v":""},{"$f":"IF($C72<>\"\",V72*EXP(-OFFSET('Forecasts Aggregate'!$C$58,$C72-$C$17,MATCH(V$16,Ages,1))),\"\")","v":""},{"$f":"IF($C72<>\"\",W72*EXP(-OFFSET('Forecasts Aggregate'!$C$58,$C72-$C$17,MATCH(W$16,Ages,1))),\"\")","v":""},{"$f":"IF($C72<>\"\",X72*EXP(-OFFSET('Forecasts Aggregate'!$C$58,$C72-$C$17,MATCH(X$16,Ages,1))),\"\")","v":""},{"$f":"IF($C72<>\"\",Y72*EXP(-OFFSET('Forecasts Aggregate'!$C$58,$C72-$C$17,MATCH(Y$16,Ages,1))),\"\")","v":""},{"$f":"IF($C72<>\"\",Z72*EXP(-OFFSET('Forecasts Aggregate'!$C$58,$C72-$C$17,MATCH(Z$16,Ages,1))),\"\")","v":""},{"$f":"IF($C72<>\"\",AA72*EXP(-OFFSET('Forecasts Aggregate'!$C$58,$C72-$C$17,MATCH(AA$16,Ages,1))),\"\")","v":""},{"$f":"IF($C72<>\"\",AB72*EXP(-OFFSET('Forecasts Aggregate'!$C$58,$C72-$C$17,MATCH(AB$16,Ages,1))),\"\")","v":""},{"$f":"IF($C72<>\"\",AC72*EXP(-OFFSET('Forecasts Aggregate'!$C$58,$C72-$C$17,MATCH(AC$16,Ages,1))),\"\")","v":""},{"$f":"IF($C72<>\"\",AD72*EXP(-OFFSET('Forecasts Aggregate'!$C$58,$C72-$C$17,MATCH(AD$16,Ages,1))),\"\")","v":""},{"$f":"IF($C72<>\"\",AE72*EXP(-OFFSET('Forecasts Aggregate'!$C$58,$C72-$C$17,MATCH(AE$16,Ages,1))),\"\")","v":""},{"$f":"IF($C72<>\"\",AF72*EXP(-OFFSET('Forecasts Aggregate'!$C$58,$C72-$C$17,MATCH(AF$16,Ages,1))),\"\")","v":""},{"$f":"IF($C72<>\"\",AG72*EXP(-OFFSET('Forecasts Aggregate'!$C$58,$C72-$C$17,MATCH(AG$16,Ages,1))),\"\")","v":""},{"$f":"IF($C72<>\"\",AH72*EXP(-OFFSET('Forecasts Aggregate'!$C$58,$C72-$C$17,MATCH(AH$16,Ages,1))),\"\")","v":""},{"$f":"IF($C72<>\"\",AI72*EXP(-OFFSET('Forecasts Aggregate'!$C$58,$C72-$C$17,MATCH(AI$16,Ages,1))),\"\")","v":""},{"$f":"IF($C72<>\"\",AJ72*EXP(-OFFSET('Forecasts Aggregate'!$C$58,$C72-$C$17,MATCH(AJ$16,Ages,1))),\"\")","v":""},{"$f":"IF($C72<>\"\",AK72*EXP(-OFFSET('Forecasts Aggregate'!$C$58,$C72-$C$17,MATCH(AK$16,Ages,1))),\"\")","v":""},{"$f":"IF($C72<>\"\",AL72*EXP(-OFFSET('Forecasts Aggregate'!$C$58,$C72-$C$17,MATCH(AL$16,Ages,1))),\"\")","v":""},{"$f":"IF($C72<>\"\",AM72*EXP(-OFFSET('Forecasts Aggregate'!$C$58,$C72-$C$17,MATCH(AM$16,Ages,1))),\"\")","v":""},{"$f":"IF($C72<>\"\",AN72*EXP(-OFFSET('Forecasts Aggregate'!$C$58,$C72-$C$17,MATCH(AN$16,Ages,1))),\"\")","v":""},{"$f":"IF($C72<>\"\",AO72*EXP(-OFFSET('Forecasts Aggregate'!$C$58,$C72-$C$17,MATCH(AO$16,Ages,1))),\"\")","v":""},{"$f":"IF($C72<>\"\",AP72*EXP(-OFFSET('Forecasts Aggregate'!$C$58,$C72-$C$17,MATCH(AP$16,Ages,1))),\"\")","v":""},{"$f":"IF($C72<>\"\",AQ72*EXP(-OFFSET('Forecasts Aggregate'!$C$58,$C72-$C$17,MATCH(AQ$16,Ages,1))),\"\")","v":""},{"$f":"IF($C72<>\"\",AR72*EXP(-OFFSET('Forecasts Aggregate'!$C$58,$C72-$C$17,MATCH(AR$16,Ages,1))),\"\")","v":""},{"$f":"IF($C72<>\"\",AS72*EXP(-OFFSET('Forecasts Aggregate'!$C$58,$C72-$C$17,MATCH(AS$16,Ages,1))),\"\")","v":""},{"$f":"IF($C72<>\"\",AT72*EXP(-OFFSET('Forecasts Aggregate'!$C$58,$C72-$C$17,MATCH(AT$16,Ages,1))),\"\")","v":""},{"$f":"IF($C72<>\"\",AU72*EXP(-OFFSET('Forecasts Aggregate'!$C$58,$C72-$C$17,MATCH(AU$16,Ages,1))),\"\")","v":""},{"$f":"IF($C72<>\"\",AV72*EXP(-OFFSET('Forecasts Aggregate'!$C$58,$C72-$C$17,MATCH(AV$16,Ages,1))),\"\")","v":""},{"$f":"IF($C72<>\"\",AW72*EXP(-OFFSET('Forecasts Aggregate'!$C$58,$C72-$C$17,MATCH(AW$16,Ages,1))),\"\")","v":""},{"$f":"IF($C72<>\"\",AX72*EXP(-OFFSET('Forecasts Aggregate'!$C$58,$C72-$C$17,MATCH(AX$16,Ages,1))),\"\")","v":""},{"$f":"IF($C72<>\"\",AY72*EXP(-OFFSET('Forecasts Aggregate'!$C$58,$C72-$C$17,MATCH(AY$16,Ages,1))),\"\")","v":""},{"$f":"IF($C72<>\"\",AZ72*EXP(-OFFSET('Forecasts Aggregate'!$C$58,$C72-$C$17,MATCH(AZ$16,Ages,1))),\"\")","v":""},{"$f":"IF($C72<>\"\",BA72*EXP(-OFFSET('Forecasts Aggregate'!$C$58,$C72-$C$17,MATCH(BA$16,Ages,1))),\"\")","v":""},{"$f":"IF($C72<>\"\",BB72*EXP(-OFFSET('Forecasts Aggregate'!$C$58,$C72-$C$17,MATCH(BB$16,Ages,1))),\"\")","v":""},{"$f":"IF($C72<>\"\",BC72*EXP(-OFFSET('Forecasts Aggregate'!$C$58,$C72-$C$17,MATCH(BC$16,Ages,1))),\"\")","v":""},{"$f":"IF($C72<>\"\",BD72*EXP(-OFFSET('Forecasts Aggregate'!$C$58,$C72-$C$17,MATCH(BD$16,Ages,1))),\"\")","v":""},{"$f":"IF($C72<>\"\",BE72*EXP(-OFFSET('Forecasts Aggregate'!$C$58,$C72-$C$17,MATCH(BE$16,Ages,1))),\"\")","v":""},{"$f":"IF($C72<>\"\",BF72*EXP(-OFFSET('Forecasts Aggregate'!$C$58,$C72-$C$17,MATCH(BF$16,Ages,1))),\"\")","v":""},{"$f":"IF($C72<>\"\",BG72*EXP(-OFFSET('Forecasts Aggregate'!$C$58,$C72-$C$17,MATCH(BG$16,Ages,1))),\"\")","v":""},{"$f":"IF($C72<>\"\",BH72*EXP(-OFFSET('Forecasts Aggregate'!$C$58,$C72-$C$17,MATCH(BH$16,Ages,1))),\"\")","v":""},{"$f":"IF($C72<>\"\",BI72*EXP(-OFFSET('Forecasts Aggregate'!$C$58,$C72-$C$17,MATCH(BI$16,Ages,1))),\"\")","v":""},{"$f":"IF($C72<>\"\",BJ72*EXP(-OFFSET('Forecasts Aggregate'!$C$58,$C72-$C$17,MATCH(BJ$16,Ages,1))),\"\")","v":""},{"$f":"IF($C72<>\"\",BK72*EXP(-OFFSET('Forecasts Aggregate'!$C$58,$C72-$C$17,MATCH(BK$16,Ages,1))),\"\")","v":""},{"$f":"IF($C72<>\"\",BL72*EXP(-OFFSET('Forecasts Aggregate'!$C$58,$C72-$C$17,MATCH(BL$16,Ages,1))),\"\")","v":""},{"$f":"IF($C72<>\"\",BM72*EXP(-OFFSET('Forecasts Aggregate'!$C$58,$C72-$C$17,MATCH(BM$16,Ages,1))),\"\")","v":""},{"$f":"IF($C72<>\"\",BN72*EXP(-OFFSET('Forecasts Aggregate'!$C$58,$C72-$C$17,MATCH(BN$16,Ages,1))),\"\")","v":""},{"$f":"IF($C72<>\"\",BO72*EXP(-OFFSET('Forecasts Aggregate'!$C$58,$C72-$C$17,MATCH(BO$16,Ages,1))),\"\")","v":""},{"$f":"IF($C72<>\"\",BP72*EXP(-OFFSET('Forecasts Aggregate'!$C$58,$C72-$C$17,MATCH(BP$16,Ages,1))),\"\")","v":""},{"$f":"IF($C72<>\"\",BQ72*EXP(-OFFSET('Forecasts Aggregate'!$C$58,$C72-$C$17,MATCH(BQ$16,Ages,1))),\"\")","v":""},{"$f":"IF($C72<>\"\",BR72*EXP(-OFFSET('Forecasts Aggregate'!$C$58,$C72-$C$17,MATCH(BR$16,Ages,1))),\"\")","v":""},{"$f":"IF($C72<>\"\",BS72*EXP(-OFFSET('Forecasts Aggregate'!$C$58,$C72-$C$17,MATCH(BS$16,Ages,1))),\"\")","v":""},{"$f":"IF($C72<>\"\",BT72*EXP(-OFFSET('Forecasts Aggregate'!$C$58,$C72-$C$17,MATCH(BT$16,Ages,1))),\"\")","v":""},{"$f":"IF($C72<>\"\",BU72*EXP(-OFFSET('Forecasts Aggregate'!$C$58,$C72-$C$17,MATCH(BU$16,Ages,1))),\"\")","v":""},{"$f":"IF($C72<>\"\",BV72*EXP(-OFFSET('Forecasts Aggregate'!$C$58,$C72-$C$17,MATCH(BV$16,Ages,1))),\"\")","v":""},{"$f":"IF($C72<>\"\",BW72*EXP(-OFFSET('Forecasts Aggregate'!$C$58,$C72-$C$17,MATCH(BW$16,Ages,1))),\"\")","v":""},{"$f":"IF($C72<>\"\",BX72*EXP(-OFFSET('Forecasts Aggregate'!$C$58,$C72-$C$17,MATCH(BX$16,Ages,1))),\"\")","v":""},{"$f":"IF($C72<>\"\",BY72*EXP(-OFFSET('Forecasts Aggregate'!$C$58,$C72-$C$17,MATCH(BY$16,Ages,1))),\"\")","v":""},{"$f":"IF($C72<>\"\",BZ72*EXP(-OFFSET('Forecasts Aggregate'!$C$58,$C72-$C$17,MATCH(BZ$16,Ages,1))),\"\")","v":""},{"$f":"IF($C72<>\"\",CA72*EXP(-OFFSET('Forecasts Aggregate'!$C$58,$C72-$C$17,MATCH(CA$16,Ages,1))),\"\")","v":""},{"$f":"IF($C72<>\"\",CB72*EXP(-OFFSET('Forecasts Aggregate'!$C$58,$C72-$C$17,MATCH(CB$16,Ages,1))),\"\")","v":""},{"$f":"IF($C72<>\"\",CC72*EXP(-OFFSET('Forecasts Aggregate'!$C$58,$C72-$C$17,MATCH(CC$16,Ages,1))),\"\")","v":""},{"$f":"IF($C72<>\"\",CD72*EXP(-OFFSET('Forecasts Aggregate'!$C$58,$C72-$C$17,MATCH(CD$16,Ages,1))),\"\")","v":""},{"$f":"IF($C72<>\"\",CE72*EXP(-OFFSET('Forecasts Aggregate'!$C$58,$C72-$C$17,MATCH(CE$16,Ages,1))),\"\")","v":""},{"$f":"IF($C72<>\"\",CF72*EXP(-OFFSET('Forecasts Aggregate'!$C$58,$C72-$C$17,MATCH(CF$16,Ages,1))),\"\")","v":""},{"$f":"IF($C72<>\"\",CG72*EXP(-OFFSET('Forecasts Aggregate'!$C$58,$C72-$C$17,MATCH(CG$16,Ages,1))),\"\")","v":""},{"$f":"IF($C72<>\"\",CH72*EXP(-OFFSET('Forecasts Aggregate'!$C$58,$C72-$C$17,MATCH(CH$16,Ages,1))),\"\")","v":""},{"$f":"IF($C72<>\"\",CI72*EXP(-OFFSET('Forecasts Aggregate'!$C$58,$C72-$C$17,MATCH(CI$16,Ages,1))),\"\")","v":""},{"$f":"IF($C72<>\"\",CJ72*EXP(-OFFSET('Forecasts Aggregate'!$C$58,$C72-$C$17,MATCH(CJ$16,Ages,1))),\"\")","v":""},{"$f":"IF($C72<>\"\",CK72*EXP(-OFFSET('Forecasts Aggregate'!$C$58,$C72-$C$17,MATCH(CK$16,Ages,1))),\"\")","v":""},{"$f":"IF($C72<>\"\",CL72*EXP(-OFFSET('Forecasts Aggregate'!$C$58,$C72-$C$17,MATCH(CL$16,Ages,1))),\"\")","v":""},{"$f":"IF($C72<>\"\",CM72*EXP(-OFFSET('Forecasts Aggregate'!$C$58,$C72-$C$17,MATCH(CM$16,Ages,1))),\"\")","v":""},{"$f":"IF($C72<>\"\",CN72*EXP(-OFFSET('Forecasts Aggregate'!$C$58,$C72-$C$17,MATCH(CN$16,Ages,1))),\"\")","v":""},{"$f":"IF($C72<>\"\",CO72*EXP(-OFFSET('Forecasts Aggregate'!$C$58,$C72-$C$17,MATCH(CO$16,Ages,1))),\"\")","v":""},{"$f":"IF($C72<>\"\",CP72*EXP(-OFFSET('Forecasts Aggregate'!$C$58,$C72-$C$17,MATCH(CP$16,Ages,1))),\"\")","v":""},{"$f":"IF($C72<>\"\",CQ72*EXP(-OFFSET('Forecasts Aggregate'!$C$58,$C72-$C$17,MATCH(CQ$16,Ages,1))),\"\")","v":""},{"$f":"IF($C72<>\"\",CR72*EXP(-OFFSET('Forecasts Aggregate'!$C$58,$C72-$C$17,MATCH(CR$16,Ages,1))),\"\")","v":""},{"$f":"IF($C72<>\"\",CS72*EXP(-OFFSET('Forecasts Aggregate'!$C$58,$C72-$C$17,MATCH(CS$16,Ages,1))),\"\")","v":""},{"$f":"IF($C72<>\"\",CT72*EXP(-OFFSET('Forecasts Aggregate'!$C$58,$C72-$C$17,MATCH(CT$16,Ages,1))),\"\")","v":""},{"$f":"IF($C72<>\"\",CU72*EXP(-OFFSET('Forecasts Aggregate'!$C$58,$C72-$C$17,MATCH(CU$16,Ages,1))),\"\")","v":""},{"$f":"IF($C72<>\"\",CV72*EXP(-OFFSET('Forecasts Aggregate'!$C$58,$C72-$C$17,MATCH(CV$16,Ages,1))),\"\")","v":""},{"$f":"IF($C72<>\"\",CW72*EXP(-OFFSET('Forecasts Aggregate'!$C$58,$C72-$C$17,MATCH(CW$16,Ages,1))),\"\")","v":""},{"$f":"IF($C72<>\"\",CX72*EXP(-OFFSET('Forecasts Aggregate'!$C$58,$C72-$C$17,MATCH(CX$16,Ages,1))),\"\")","v":""},{"$f":"IF($C72<>\"\",CY72*EXP(-OFFSET('Forecasts Aggregate'!$C$58,$C72-$C$17,MATCH(CY$16,Ages,1))),\"\")","v":""},{"$f":"IF($C72<>\"\",CZ72*EXP(-OFFSET('Forecasts Aggregate'!$C$58,$C72-$C$17,MATCH(CZ$16,Ages,1))),\"\")","v":""},{"$f":"IF($C72<>\"\",DA72*EXP(-OFFSET('Forecasts Aggregate'!$C$58,$C72-$C$17,MATCH(DA$16,Ages,1))),\"\")","v":""},{"$f":"IF($C72<>\"\",DB72*EXP(-OFFSET('Forecasts Aggregate'!$C$58,$C72-$C$17,MATCH(DB$16,Ages,1))),\"\")","v":""},{"$f":"IF($C72<>\"\",DC72*EXP(-OFFSET('Forecasts Aggregate'!$C$58,$C72-$C$17,MATCH(DC$16,Ages,1))),\"\")","v":""},{"$f":"IF($C72<>\"\",DD72*EXP(-OFFSET('Forecasts Aggregate'!$C$58,$C72-$C$17,MATCH(DD$16,Ages,1))),\"\")","v":""},{"$f":"IF($C72<>\"\",DE72*EXP(-OFFSET('Forecasts Aggregate'!$C$58,$C72-$C$17,MATCH(DE$16,Ages,1))),\"\")","v":""},{"$f":"IF($C72<>\"\",DF72*EXP(-OFFSET('Forecasts Aggregate'!$C$58,$C72-$C$17,MATCH(DF$16,Ages,1))),\"\")","v":""},{"$f":"IF($C72<>\"\",DG72*EXP(-OFFSET('Forecasts Aggregate'!$C$58,$C72-$C$17,MATCH(DG$16,Ages,1))),\"\")","v":""},{"$f":"IF($C72<>\"\",DH72*EXP(-OFFSET('Forecasts Aggregate'!$C$58,$C72-$C$17,MATCH(DH$16,Ages,1))),\"\")","v":""},{"$f":"IF($C72<>\"\",DI72*EXP(-OFFSET('Forecasts Aggregate'!$C$58,$C72-$C$17,MATCH(DI$16,Ages,1))),\"\")","v":""},{"$f":"IF($C72<>\"\",DJ72*EXP(-OFFSET('Forecasts Aggregate'!$C$58,$C72-$C$17,MATCH(DJ$16,Ages,1))),\"\")","v":""},null,"","",""]
[null,null,"","",{"$f":"IF($C73<>\"\",D73*EXP(-OFFSET('Forecasts Aggregate'!$C$58,$C73-$C$17,MATCH(D$16,Ages,1))),\"\")","v":""},{"$f":"IF($C73<>\"\",E73*EXP(-OFFSET('Forecasts Aggregate'!$C$58,$C73-$C$17,MATCH(E$16,Ages,1))),\"\")","v":""},{"$f":"IF($C73<>\"\",F73*EXP(-OFFSET('Forecasts Aggregate'!$C$58,$C73-$C$17,MATCH(F$16,Ages,1))),\"\")","v":""},{"$f":"IF($C73<>\"\",G73*EXP(-OFFSET('Forecasts Aggregate'!$C$58,$C73-$C$17,MATCH(G$16,Ages,1))),\"\")","v":""},{"$f":"IF($C73<>\"\",H73*EXP(-OFFSET('Forecasts Aggregate'!$C$58,$C73-$C$17,MATCH(H$16,Ages,1))),\"\")","v":""},{"$f":"IF($C73<>\"\",I73*EXP(-OFFSET('Forecasts Aggregate'!$C$58,$C73-$C$17,MATCH(I$16,Ages,1))),\"\")","v":""},{"$f":"IF($C73<>\"\",J73*EXP(-OFFSET('Forecasts Aggregate'!$C$58,$C73-$C$17,MATCH(J$16,Ages,1))),\"\")","v":""},{"$f":"IF($C73<>\"\",K73*EXP(-OFFSET('Forecasts Aggregate'!$C$58,$C73-$C$17,MATCH(K$16,Ages,1))),\"\")","v":""},{"$f":"IF($C73<>\"\",L73*EXP(-OFFSET('Forecasts Aggregate'!$C$58,$C73-$C$17,MATCH(L$16,Ages,1))),\"\")","v":""},{"$f":"IF($C73<>\"\",M73*EXP(-OFFSET('Forecasts Aggregate'!$C$58,$C73-$C$17,MATCH(M$16,Ages,1))),\"\")","v":""},{"$f":"IF($C73<>\"\",N73*EXP(-OFFSET('Forecasts Aggregate'!$C$58,$C73-$C$17,MATCH(N$16,Ages,1))),\"\")","v":""},{"$f":"IF($C73<>\"\",O73*EXP(-OFFSET('Forecasts Aggregate'!$C$58,$C73-$C$17,MATCH(O$16,Ages,1))),\"\")","v":""},{"$f":"IF($C73<>\"\",P73*EXP(-OFFSET('Forecasts Aggregate'!$C$58,$C73-$C$17,MATCH(P$16,Ages,1))),\"\")","v":""},{"$f":"IF($C73<>\"\",Q73*EXP(-OFFSET('Forecasts Aggregate'!$C$58,$C73-$C$17,MATCH(Q$16,Ages,1))),\"\")","v":""},{"$f":"IF($C73<>\"\",R73*EXP(-OFFSET('Forecasts Aggregate'!$C$58,$C73-$C$17,MATCH(R$16,Ages,1))),\"\")","v":""},{"$f":"IF($C73<>\"\",S73*EXP(-OFFSET('Forecasts Aggregate'!$C$58,$C73-$C$17,MATCH(S$16,Ages,1))),\"\")","v":""},{"$f":"IF($C73<>\"\",T73*EXP(-OFFSET('Forecasts Aggregate'!$C$58,$C73-$C$17,MATCH(T$16,Ages,1))),\"\")","v":""},{"$f":"IF($C73<>\"\",U73*EXP(-OFFSET('Forecasts Aggregate'!$C$58,$C73-$C$17,MATCH(U$16,Ages,1))),\"\")","v":""},{"$f":"IF($C73<>\"\",V73*EXP(-OFFSET('Forecasts Aggregate'!$C$58,$C73-$C$17,MATCH(V$16,Ages,1))),\"\")","v":""},{"$f":"IF($C73<>\"\",W73*EXP(-OFFSET('Forecasts Aggregate'!$C$58,$C73-$C$17,MATCH(W$16,Ages,1))),\"\")","v":""},{"$f":"IF($C73<>\"\",X73*EXP(-OFFSET('Forecasts Aggregate'!$C$58,$C73-$C$17,MATCH(X$16,Ages,1))),\"\")","v":""},{"$f":"IF($C73<>\"\",Y73*EXP(-OFFSET('Forecasts Aggregate'!$C$58,$C73-$C$17,MATCH(Y$16,Ages,1))),\"\")","v":""},{"$f":"IF($C73<>\"\",Z73*EXP(-OFFSET('Forecasts Aggregate'!$C$58,$C73-$C$17,MATCH(Z$16,Ages,1))),\"\")","v":""},{"$f":"IF($C73<>\"\",AA73*EXP(-OFFSET('Forecasts Aggregate'!$C$58,$C73-$C$17,MATCH(AA$16,Ages,1))),\"\")","v":""},{"$f":"IF($C73<>\"\",AB73*EXP(-OFFSET('Forecasts Aggregate'!$C$58,$C73-$C$17,MATCH(AB$16,Ages,1))),\"\")","v":""},{"$f":"IF($C73<>\"\",AC73*EXP(-OFFSET('Forecasts Aggregate'!$C$58,$C73-$C$17,MATCH(AC$16,Ages,1))),\"\")","v":""},{"$f":"IF($C73<>\"\",AD73*EXP(-OFFSET('Forecasts Aggregate'!$C$58,$C73-$C$17,MATCH(AD$16,Ages,1))),\"\")","v":""},{"$f":"IF($C73<>\"\",AE73*EXP(-OFFSET('Forecasts Aggregate'!$C$58,$C73-$C$17,MATCH(AE$16,Ages,1))),\"\")","v":""},{"$f":"IF($C73<>\"\",AF73*EXP(-OFFSET('Forecasts Aggregate'!$C$58,$C73-$C$17,MATCH(AF$16,Ages,1))),\"\")","v":""},{"$f":"IF($C73<>\"\",AG73*EXP(-OFFSET('Forecasts Aggregate'!$C$58,$C73-$C$17,MATCH(AG$16,Ages,1))),\"\")","v":""},{"$f":"IF($C73<>\"\",AH73*EXP(-OFFSET('Forecasts Aggregate'!$C$58,$C73-$C$17,MATCH(AH$16,Ages,1))),\"\")","v":""},{"$f":"IF($C73<>\"\",AI73*EXP(-OFFSET('Forecasts Aggregate'!$C$58,$C73-$C$17,MATCH(AI$16,Ages,1))),\"\")","v":""},{"$f":"IF($C73<>\"\",AJ73*EXP(-OFFSET('Forecasts Aggregate'!$C$58,$C73-$C$17,MATCH(AJ$16,Ages,1))),\"\")","v":""},{"$f":"IF($C73<>\"\",AK73*EXP(-OFFSET('Forecasts Aggregate'!$C$58,$C73-$C$17,MATCH(AK$16,Ages,1))),\"\")","v":""},{"$f":"IF($C73<>\"\",AL73*EXP(-OFFSET('Forecasts Aggregate'!$C$58,$C73-$C$17,MATCH(AL$16,Ages,1))),\"\")","v":""},{"$f":"IF($C73<>\"\",AM73*EXP(-OFFSET('Forecasts Aggregate'!$C$58,$C73-$C$17,MATCH(AM$16,Ages,1))),\"\")","v":""},{"$f":"IF($C73<>\"\",AN73*EXP(-OFFSET('Forecasts Aggregate'!$C$58,$C73-$C$17,MATCH(AN$16,Ages,1))),\"\")","v":""},{"$f":"IF($C73<>\"\",AO73*EXP(-OFFSET('Forecasts Aggregate'!$C$58,$C73-$C$17,MATCH(AO$16,Ages,1))),\"\")","v":""},{"$f":"IF($C73<>\"\",AP73*EXP(-OFFSET('Forecasts Aggregate'!$C$58,$C73-$C$17,MATCH(AP$16,Ages,1))),\"\")","v":""},{"$f":"IF($C73<>\"\",AQ73*EXP(-OFFSET('Forecasts Aggregate'!$C$58,$C73-$C$17,MATCH(AQ$16,Ages,1))),\"\")","v":""},{"$f":"IF($C73<>\"\",AR73*EXP(-OFFSET('Forecasts Aggregate'!$C$58,$C73-$C$17,MATCH(AR$16,Ages,1))),\"\")","v":""},{"$f":"IF($C73<>\"\",AS73*EXP(-OFFSET('Forecasts Aggregate'!$C$58,$C73-$C$17,MATCH(AS$16,Ages,1))),\"\")","v":""},{"$f":"IF($C73<>\"\",AT73*EXP(-OFFSET('Forecasts Aggregate'!$C$58,$C73-$C$17,MATCH(AT$16,Ages,1))),\"\")","v":""},{"$f":"IF($C73<>\"\",AU73*EXP(-OFFSET('Forecasts Aggregate'!$C$58,$C73-$C$17,MATCH(AU$16,Ages,1))),\"\")","v":""},{"$f":"IF($C73<>\"\",AV73*EXP(-OFFSET('Forecasts Aggregate'!$C$58,$C73-$C$17,MATCH(AV$16,Ages,1))),\"\")","v":""},{"$f":"IF($C73<>\"\",AW73*EXP(-OFFSET('Forecasts Aggregate'!$C$58,$C73-$C$17,MATCH(AW$16,Ages,1))),\"\")","v":""},{"$f":"IF($C73<>\"\",AX73*EXP(-OFFSET('Forecasts Aggregate'!$C$58,$C73-$C$17,MATCH(AX$16,Ages,1))),\"\")","v":""},{"$f":"IF($C73<>\"\",AY73*EXP(-OFFSET('Forecasts Aggregate'!$C$58,$C73-$C$17,MATCH(AY$16,Ages,1))),\"\")","v":""},{"$f":"IF($C73<>\"\",AZ73*EXP(-OFFSET('Forecasts Aggregate'!$C$58,$C73-$C$17,MATCH(AZ$16,Ages,1))),\"\")","v":""},{"$f":"IF($C73<>\"\",BA73*EXP(-OFFSET('Forecasts Aggregate'!$C$58,$C73-$C$17,MATCH(BA$16,Ages,1))),\"\")","v":""},{"$f":"IF($C73<>\"\",BB73*EXP(-OFFSET('Forecasts Aggregate'!$C$58,$C73-$C$17,MATCH(BB$16,Ages,1))),\"\")","v":""},{"$f":"IF($C73<>\"\",BC73*EXP(-OFFSET('Forecasts Aggregate'!$C$58,$C73-$C$17,MATCH(BC$16,Ages,1))),\"\")","v":""},{"$f":"IF($C73<>\"\",BD73*EXP(-OFFSET('Forecasts Aggregate'!$C$58,$C73-$C$17,MATCH(BD$16,Ages,1))),\"\")","v":""},{"$f":"IF($C73<>\"\",BE73*EXP(-OFFSET('Forecasts Aggregate'!$C$58,$C73-$C$17,MATCH(BE$16,Ages,1))),\"\")","v":""},{"$f":"IF($C73<>\"\",BF73*EXP(-OFFSET('Forecasts Aggregate'!$C$58,$C73-$C$17,MATCH(BF$16,Ages,1))),\"\")","v":""},{"$f":"IF($C73<>\"\",BG73*EXP(-OFFSET('Forecasts Aggregate'!$C$58,$C73-$C$17,MATCH(BG$16,Ages,1))),\"\")","v":""},{"$f":"IF($C73<>\"\",BH73*EXP(-OFFSET('Forecasts Aggregate'!$C$58,$C73-$C$17,MATCH(BH$16,Ages,1))),\"\")","v":""},{"$f":"IF($C73<>\"\",BI73*EXP(-OFFSET('Forecasts Aggregate'!$C$58,$C73-$C$17,MATCH(BI$16,Ages,1))),\"\")","v":""},{"$f":"IF($C73<>\"\",BJ73*EXP(-OFFSET('Forecasts Aggregate'!$C$58,$C73-$C$17,MATCH(BJ$16,Ages,1))),\"\")","v":""},{"$f":"IF($C73<>\"\",BK73*EXP(-OFFSET('Forecasts Aggregate'!$C$58,$C73-$C$17,MATCH(BK$16,Ages,1))),\"\")","v":""},{"$f":"IF($C73<>\"\",BL73*EXP(-OFFSET('Forecasts Aggregate'!$C$58,$C73-$C$17,MATCH(BL$16,Ages,1))),\"\")","v":""},{"$f":"IF($C73<>\"\",BM73*EXP(-OFFSET('Forecasts Aggregate'!$C$58,$C73-$C$17,MATCH(BM$16,Ages,1))),\"\")","v":""},{"$f":"IF($C73<>\"\",BN73*EXP(-OFFSET('Forecasts Aggregate'!$C$58,$C73-$C$17,MATCH(BN$16,Ages,1))),\"\")","v":""},{"$f":"IF($C73<>\"\",BO73*EXP(-OFFSET('Forecasts Aggregate'!$C$58,$C73-$C$17,MATCH(BO$16,Ages,1))),\"\")","v":""},{"$f":"IF($C73<>\"\",BP73*EXP(-OFFSET('Forecasts Aggregate'!$C$58,$C73-$C$17,MATCH(BP$16,Ages,1))),\"\")","v":""},{"$f":"IF($C73<>\"\",BQ73*EXP(-OFFSET('Forecasts Aggregate'!$C$58,$C73-$C$17,MATCH(BQ$16,Ages,1))),\"\")","v":""},{"$f":"IF($C73<>\"\",BR73*EXP(-OFFSET('Forecasts Aggregate'!$C$58,$C73-$C$17,MATCH(BR$16,Ages,1))),\"\")","v":""},{"$f":"IF($C73<>\"\",BS73*EXP(-OFFSET('Forecasts Aggregate'!$C$58,$C73-$C$17,MATCH(BS$16,Ages,1))),\"\")","v":""},{"$f":"IF($C73<>\"\",BT73*EXP(-OFFSET('Forecasts Aggregate'!$C$58,$C73-$C$17,MATCH(BT$16,Ages,1))),\"\")","v":""},{"$f":"IF($C73<>\"\",BU73*EXP(-OFFSET('Forecasts Aggregate'!$C$58,$C73-$C$17,MATCH(BU$16,Ages,1))),\"\")","v":""},{"$f":"IF($C73<>\"\",BV73*EXP(-OFFSET('Forecasts Aggregate'!$C$58,$C73-$C$17,MATCH(BV$16,Ages,1))),\"\")","v":""},{"$f":"IF($C73<>\"\",BW73*EXP(-OFFSET('Forecasts Aggregate'!$C$58,$C73-$C$17,MATCH(BW$16,Ages,1))),\"\")","v":""},{"$f":"IF($C73<>\"\",BX73*EXP(-OFFSET('Forecasts Aggregate'!$C$58,$C73-$C$17,MATCH(BX$16,Ages,1))),\"\")","v":""},{"$f":"IF($C73<>\"\",BY73*EXP(-OFFSET('Forecasts Aggregate'!$C$58,$C73-$C$17,MATCH(BY$16,Ages,1))),\"\")","v":""},{"$f":"IF($C73<>\"\",BZ73*EXP(-OFFSET('Forecasts Aggregate'!$C$58,$C73-$C$17,MATCH(BZ$16,Ages,1))),\"\")","v":""},{"$f":"IF($C73<>\"\",CA73*EXP(-OFFSET('Forecasts Aggregate'!$C$58,$C73-$C$17,MATCH(CA$16,Ages,1))),\"\")","v":""},{"$f":"IF($C73<>\"\",CB73*EXP(-OFFSET('Forecasts Aggregate'!$C$58,$C73-$C$17,MATCH(CB$16,Ages,1))),\"\")","v":""},{"$f":"IF($C73<>\"\",CC73*EXP(-OFFSET('Forecasts Aggregate'!$C$58,$C73-$C$17,MATCH(CC$16,Ages,1))),\"\")","v":""},{"$f":"IF($C73<>\"\",CD73*EXP(-OFFSET('Forecasts Aggregate'!$C$58,$C73-$C$17,MATCH(CD$16,Ages,1))),\"\")","v":""},{"$f":"IF($C73<>\"\",CE73*EXP(-OFFSET('Forecasts Aggregate'!$C$58,$C73-$C$17,MATCH(CE$16,Ages,1))),\"\")","v":""},{"$f":"IF($C73<>\"\",CF73*EXP(-OFFSET('Forecasts Aggregate'!$C$58,$C73-$C$17,MATCH(CF$16,Ages,1))),\"\")","v":""},{"$f":"IF($C73<>\"\",CG73*EXP(-OFFSET('Forecasts Aggregate'!$C$58,$C73-$C$17,MATCH(CG$16,Ages,1))),\"\")","v":""},{"$f":"IF($C73<>\"\",CH73*EXP(-OFFSET('Forecasts Aggregate'!$C$58,$C73-$C$17,MATCH(CH$16,Ages,1))),\"\")","v":""},{"$f":"IF($C73<>\"\",CI73*EXP(-OFFSET('Forecasts Aggregate'!$C$58,$C73-$C$17,MATCH(CI$16,Ages,1))),\"\")","v":""},{"$f":"IF($C73<>\"\",CJ73*EXP(-OFFSET('Forecasts Aggregate'!$C$58,$C73-$C$17,MATCH(CJ$16,Ages,1))),\"\")","v":""},{"$f":"IF($C73<>\"\",CK73*EXP(-OFFSET('Forecasts Aggregate'!$C$58,$C73-$C$17,MATCH(CK$16,Ages,1))),\"\")","v":""},{"$f":"IF($C73<>\"\",CL73*EXP(-OFFSET('Forecasts Aggregate'!$C$58,$C73-$C$17,MATCH(CL$16,Ages,1))),\"\")","v":""},{"$f":"IF($C73<>\"\",CM73*EXP(-OFFSET('Forecasts Aggregate'!$C$58,$C73-$C$17,MATCH(CM$16,Ages,1))),\"\")","v":""},{"$f":"IF($C73<>\"\",CN73*EXP(-OFFSET('Forecasts Aggregate'!$C$58,$C73-$C$17,MATCH(CN$16,Ages,1))),\"\")","v":""},{"$f":"IF($C73<>\"\",CO73*EXP(-OFFSET('Forecasts Aggregate'!$C$58,$C73-$C$17,MATCH(CO$16,Ages,1))),\"\")","v":""},{"$f":"IF($C73<>\"\",CP73*EXP(-OFFSET('Forecasts Aggregate'!$C$58,$C73-$C$17,MATCH(CP$16,Ages,1))),\"\")","v":""},{"$f":"IF($C73<>\"\",CQ73*EXP(-OFFSET('Forecasts Aggregate'!$C$58,$C73-$C$17,MATCH(CQ$16,Ages,1))),\"\")","v":""},{"$f":"IF($C73<>\"\",CR73*EXP(-OFFSET('Forecasts Aggregate'!$C$58,$C73-$C$17,MATCH(CR$16,Ages,1))),\"\")","v":""},{"$f":"IF($C73<>\"\",CS73*EXP(-OFFSET('Forecasts Aggregate'!$C$58,$C73-$C$17,MATCH(CS$16,Ages,1))),\"\")","v":""},{"$f":"IF($C73<>\"\",CT73*EXP(-OFFSET('Forecasts Aggregate'!$C$58,$C73-$C$17,MATCH(CT$16,Ages,1))),\"\")","v":""},{"$f":"IF($C73<>\"\",CU73*EXP(-OFFSET('Forecasts Aggregate'!$C$58,$C73-$C$17,MATCH(CU$16,Ages,1))),\"\")","v":""},{"$f":"IF($C73<>\"\",CV73*EXP(-OFFSET('Forecasts Aggregate'!$C$58,$C73-$C$17,MATCH(CV$16,Ages,1))),\"\")","v":""},{"$f":"IF($C73<>\"\",CW73*EXP(-OFFSET('Forecasts Aggregate'!$C$58,$C73-$C$17,MATCH(CW$16,Ages,1))),\"\")","v":""},{"$f":"IF($C73<>\"\",CX73*EXP(-OFFSET('Forecasts Aggregate'!$C$58,$C73-$C$17,MATCH(CX$16,Ages,1))),\"\")","v":""},{"$f":"IF($C73<>\"\",CY73*EXP(-OFFSET('Forecasts Aggregate'!$C$58,$C73-$C$17,MATCH(CY$16,Ages,1))),\"\")","v":""},{"$f":"IF($C73<>\"\",CZ73*EXP(-OFFSET('Forecasts Aggregate'!$C$58,$C73-$C$17,MATCH(CZ$16,Ages,1))),\"\")","v":""},{"$f":"IF($C73<>\"\",DA73*EXP(-OFFSET('Forecasts Aggregate'!$C$58,$C73-$C$17,MATCH(DA$16,Ages,1))),\"\")","v":""},{"$f":"IF($C73<>\"\",DB73*EXP(-OFFSET('Forecasts Aggregate'!$C$58,$C73-$C$17,MATCH(DB$16,Ages,1))),\"\")","v":""},{"$f":"IF($C73<>\"\",DC73*EXP(-OFFSET('Forecasts Aggregate'!$C$58,$C73-$C$17,MATCH(DC$16,Ages,1))),\"\")","v":""},{"$f":"IF($C73<>\"\",DD73*EXP(-OFFSET('Forecasts Aggregate'!$C$58,$C73-$C$17,MATCH(DD$16,Ages,1))),\"\")","v":""},{"$f":"IF($C73<>\"\",DE73*EXP(-OFFSET('Forecasts Aggregate'!$C$58,$C73-$C$17,MATCH(DE$16,Ages,1))),\"\")","v":""},{"$f":"IF($C73<>\"\",DF73*EXP(-OFFSET('Forecasts Aggregate'!$C$58,$C73-$C$17,MATCH(DF$16,Ages,1))),\"\")","v":""},{"$f":"IF($C73<>\"\",DG73*EXP(-OFFSET('Forecasts Aggregate'!$C$58,$C73-$C$17,MATCH(DG$16,Ages,1))),\"\")","v":""},{"$f":"IF($C73<>\"\",DH73*EXP(-OFFSET('Forecasts Aggregate'!$C$58,$C73-$C$17,MATCH(DH$16,Ages,1))),\"\")","v":""},{"$f":"IF($C73<>\"\",DI73*EXP(-OFFSET('Forecasts Aggregate'!$C$58,$C73-$C$17,MATCH(DI$16,Ages,1))),\"\")","v":""},{"$f":"IF($C73<>\"\",DJ73*EXP(-OFFSET('Forecasts Aggregate'!$C$58,$C73-$C$17,MATCH(DJ$16,Ages,1))),\"\")","v":""},null,"","",""]
[null,null,"","",{"$f":"IF($C74<>\"\",D74*EXP(-OFFSET('Forecasts Aggregate'!$C$58,$C74-$C$17,MATCH(D$16,Ages,1))),\"\")","v":""},{"$f":"IF($C74<>\"\",E74*EXP(-OFFSET('Forecasts Aggregate'!$C$58,$C74-$C$17,MATCH(E$16,Ages,1))),\"\")","v":""},{"$f":"IF($C74<>\"\",F74*EXP(-OFFSET('Forecasts Aggregate'!$C$58,$C74-$C$17,MATCH(F$16,Ages,1))),\"\")","v":""},{"$f":"IF($C74<>\"\",G74*EXP(-OFFSET('Forecasts Aggregate'!$C$58,$C74-$C$17,MATCH(G$16,Ages,1))),\"\")","v":""},{"$f":"IF($C74<>\"\",H74*EXP(-OFFSET('Forecasts Aggregate'!$C$58,$C74-$C$17,MATCH(H$16,Ages,1))),\"\")","v":""},{"$f":"IF($C74<>\"\",I74*EXP(-OFFSET('Forecasts Aggregate'!$C$58,$C74-$C$17,MATCH(I$16,Ages,1))),\"\")","v":""},{"$f":"IF($C74<>\"\",J74*EXP(-OFFSET('Forecasts Aggregate'!$C$58,$C74-$C$17,MATCH(J$16,Ages,1))),\"\")","v":""},{"$f":"IF($C74<>\"\",K74*EXP(-OFFSET('Forecasts Aggregate'!$C$58,$C74-$C$17,MATCH(K$16,Ages,1))),\"\")","v":""},{"$f":"IF($C74<>\"\",L74*EXP(-OFFSET('Forecasts Aggregate'!$C$58,$C74-$C$17,MATCH(L$16,Ages,1))),\"\")","v":""},{"$f":"IF($C74<>\"\",M74*EXP(-OFFSET('Forecasts Aggregate'!$C$58,$C74-$C$17,MATCH(M$16,Ages,1))),\"\")","v":""},{"$f":"IF($C74<>\"\",N74*EXP(-OFFSET('Forecasts Aggregate'!$C$58,$C74-$C$17,MATCH(N$16,Ages,1))),\"\")","v":""},{"$f":"IF($C74<>\"\",O74*EXP(-OFFSET('Forecasts Aggregate'!$C$58,$C74-$C$17,MATCH(O$16,Ages,1))),\"\")","v":""},{"$f":"IF($C74<>\"\",P74*EXP(-OFFSET('Forecasts Aggregate'!$C$58,$C74-$C$17,MATCH(P$16,Ages,1))),\"\")","v":""},{"$f":"IF($C74<>\"\",Q74*EXP(-OFFSET('Forecasts Aggregate'!$C$58,$C74-$C$17,MATCH(Q$16,Ages,1))),\"\")","v":""},{"$f":"IF($C74<>\"\",R74*EXP(-OFFSET('Forecasts Aggregate'!$C$58,$C74-$C$17,MATCH(R$16,Ages,1))),\"\")","v":""},{"$f":"IF($C74<>\"\",S74*EXP(-OFFSET('Forecasts Aggregate'!$C$58,$C74-$C$17,MATCH(S$16,Ages,1))),\"\")","v":""},{"$f":"IF($C74<>\"\",T74*EXP(-OFFSET('Forecasts Aggregate'!$C$58,$C74-$C$17,MATCH(T$16,Ages,1))),\"\")","v":""},{"$f":"IF($C74<>\"\",U74*EXP(-OFFSET('Forecasts Aggregate'!$C$58,$C74-$C$17,MATCH(U$16,Ages,1))),\"\")","v":""},{"$f":"IF($C74<>\"\",V74*EXP(-OFFSET('Forecasts Aggregate'!$C$58,$C74-$C$17,MATCH(V$16,Ages,1))),\"\")","v":""},{"$f":"IF($C74<>\"\",W74*EXP(-OFFSET('Forecasts Aggregate'!$C$58,$C74-$C$17,MATCH(W$16,Ages,1))),\"\")","v":""},{"$f":"IF($C74<>\"\",X74*EXP(-OFFSET('Forecasts Aggregate'!$C$58,$C74-$C$17,MATCH(X$16,Ages,1))),\"\")","v":""},{"$f":"IF($C74<>\"\",Y74*EXP(-OFFSET('Forecasts Aggregate'!$C$58,$C74-$C$17,MATCH(Y$16,Ages,1))),\"\")","v":""},{"$f":"IF($C74<>\"\",Z74*EXP(-OFFSET('Forecasts Aggregate'!$C$58,$C74-$C$17,MATCH(Z$16,Ages,1))),\"\")","v":""},{"$f":"IF($C74<>\"\",AA74*EXP(-OFFSET('Forecasts Aggregate'!$C$58,$C74-$C$17,MATCH(AA$16,Ages,1))),\"\")","v":""},{"$f":"IF($C74<>\"\",AB74*EXP(-OFFSET('Forecasts Aggregate'!$C$58,$C74-$C$17,MATCH(AB$16,Ages,1))),\"\")","v":""},{"$f":"IF($C74<>\"\",AC74*EXP(-OFFSET('Forecasts Aggregate'!$C$58,$C74-$C$17,MATCH(AC$16,Ages,1))),\"\")","v":""},{"$f":"IF($C74<>\"\",AD74*EXP(-OFFSET('Forecasts Aggregate'!$C$58,$C74-$C$17,MATCH(AD$16,Ages,1))),\"\")","v":""},{"$f":"IF($C74<>\"\",AE74*EXP(-OFFSET('Forecasts Aggregate'!$C$58,$C74-$C$17,MATCH(AE$16,Ages,1))),\"\")","v":""},{"$f":"IF($C74<>\"\",AF74*EXP(-OFFSET('Forecasts Aggregate'!$C$58,$C74-$C$17,MATCH(AF$16,Ages,1))),\"\")","v":""},{"$f":"IF($C74<>\"\",AG74*EXP(-OFFSET('Forecasts Aggregate'!$C$58,$C74-$C$17,MATCH(AG$16,Ages,1))),\"\")","v":""},{"$f":"IF($C74<>\"\",AH74*EXP(-OFFSET('Forecasts Aggregate'!$C$58,$C74-$C$17,MATCH(AH$16,Ages,1))),\"\")","v":""},{"$f":"IF($C74<>\"\",AI74*EXP(-OFFSET('Forecasts Aggregate'!$C$58,$C74-$C$17,MATCH(AI$16,Ages,1))),\"\")","v":""},{"$f":"IF($C74<>\"\",AJ74*EXP(-OFFSET('Forecasts Aggregate'!$C$58,$C74-$C$17,MATCH(AJ$16,Ages,1))),\"\")","v":""},{"$f":"IF($C74<>\"\",AK74*EXP(-OFFSET('Forecasts Aggregate'!$C$58,$C74-$C$17,MATCH(AK$16,Ages,1))),\"\")","v":""},{"$f":"IF($C74<>\"\",AL74*EXP(-OFFSET('Forecasts Aggregate'!$C$58,$C74-$C$17,MATCH(AL$16,Ages,1))),\"\")","v":""},{"$f":"IF($C74<>\"\",AM74*EXP(-OFFSET('Forecasts Aggregate'!$C$58,$C74-$C$17,MATCH(AM$16,Ages,1))),\"\")","v":""},{"$f":"IF($C74<>\"\",AN74*EXP(-OFFSET('Forecasts Aggregate'!$C$58,$C74-$C$17,MATCH(AN$16,Ages,1))),\"\")","v":""},{"$f":"IF($C74<>\"\",AO74*EXP(-OFFSET('Forecasts Aggregate'!$C$58,$C74-$C$17,MATCH(AO$16,Ages,1))),\"\")","v":""},{"$f":"IF($C74<>\"\",AP74*EXP(-OFFSET('Forecasts Aggregate'!$C$58,$C74-$C$17,MATCH(AP$16,Ages,1))),\"\")","v":""},{"$f":"IF($C74<>\"\",AQ74*EXP(-OFFSET('Forecasts Aggregate'!$C$58,$C74-$C$17,MATCH(AQ$16,Ages,1))),\"\")","v":""},{"$f":"IF($C74<>\"\",AR74*EXP(-OFFSET('Forecasts Aggregate'!$C$58,$C74-$C$17,MATCH(AR$16,Ages,1))),\"\")","v":""},{"$f":"IF($C74<>\"\",AS74*EXP(-OFFSET('Forecasts Aggregate'!$C$58,$C74-$C$17,MATCH(AS$16,Ages,1))),\"\")","v":""},{"$f":"IF($C74<>\"\",AT74*EXP(-OFFSET('Forecasts Aggregate'!$C$58,$C74-$C$17,MATCH(AT$16,Ages,1))),\"\")","v":""},{"$f":"IF($C74<>\"\",AU74*EXP(-OFFSET('Forecasts Aggregate'!$C$58,$C74-$C$17,MATCH(AU$16,Ages,1))),\"\")","v":""},{"$f":"IF($C74<>\"\",AV74*EXP(-OFFSET('Forecasts Aggregate'!$C$58,$C74-$C$17,MATCH(AV$16,Ages,1))),\"\")","v":""},{"$f":"IF($C74<>\"\",AW74*EXP(-OFFSET('Forecasts Aggregate'!$C$58,$C74-$C$17,MATCH(AW$16,Ages,1))),\"\")","v":""},{"$f":"IF($C74<>\"\",AX74*EXP(-OFFSET('Forecasts Aggregate'!$C$58,$C74-$C$17,MATCH(AX$16,Ages,1))),\"\")","v":""},{"$f":"IF($C74<>\"\",AY74*EXP(-OFFSET('Forecasts Aggregate'!$C$58,$C74-$C$17,MATCH(AY$16,Ages,1))),\"\")","v":""},{"$f":"IF($C74<>\"\",AZ74*EXP(-OFFSET('Forecasts Aggregate'!$C$58,$C74-$C$17,MATCH(AZ$16,Ages,1))),\"\")","v":""},{"$f":"IF($C74<>\"\",BA74*EXP(-OFFSET('Forecasts Aggregate'!$C$58,$C74-$C$17,MATCH(BA$16,Ages,1))),\"\")","v":""},{"$f":"IF($C74<>\"\",BB74*EXP(-OFFSET('Forecasts Aggregate'!$C$58,$C74-$C$17,MATCH(BB$16,Ages,1))),\"\")","v":""},{"$f":"IF($C74<>\"\",BC74*EXP(-OFFSET('Forecasts Aggregate'!$C$58,$C74-$C$17,MATCH(BC$16,Ages,1))),\"\")","v":""},{"$f":"IF($C74<>\"\",BD74*EXP(-OFFSET('Forecasts Aggregate'!$C$58,$C74-$C$17,MATCH(BD$16,Ages,1))),\"\")","v":""},{"$f":"IF($C74<>\"\",BE74*EXP(-OFFSET('Forecasts Aggregate'!$C$58,$C74-$C$17,MATCH(BE$16,Ages,1))),\"\")","v":""},{"$f":"IF($C74<>\"\",BF74*EXP(-OFFSET('Forecasts Aggregate'!$C$58,$C74-$C$17,MATCH(BF$16,Ages,1))),\"\")","v":""},{"$f":"IF($C74<>\"\",BG74*EXP(-OFFSET('Forecasts Aggregate'!$C$58,$C74-$C$17,MATCH(BG$16,Ages,1))),\"\")","v":""},{"$f":"IF($C74<>\"\",BH74*EXP(-OFFSET('Forecasts Aggregate'!$C$58,$C74-$C$17,MATCH(BH$16,Ages,1))),\"\")","v":""},{"$f":"IF($C74<>\"\",BI74*EXP(-OFFSET('Forecasts Aggregate'!$C$58,$C74-$C$17,MATCH(BI$16,Ages,1))),\"\")","v":""},{"$f":"IF($C74<>\"\",BJ74*EXP(-OFFSET('Forecasts Aggregate'!$C$58,$C74-$C$17,MATCH(BJ$16,Ages,1))),\"\")","v":""},{"$f":"IF($C74<>\"\",BK74*EXP(-OFFSET('Forecasts Aggregate'!$C$58,$C74-$C$17,MATCH(BK$16,Ages,1))),\"\")","v":""},{"$f":"IF($C74<>\"\",BL74*EXP(-OFFSET('Forecasts Aggregate'!$C$58,$C74-$C$17,MATCH(BL$16,Ages,1))),\"\")","v":""},{"$f":"IF($C74<>\"\",BM74*EXP(-OFFSET('Forecasts Aggregate'!$C$58,$C74-$C$17,MATCH(BM$16,Ages,1))),\"\")","v":""},{"$f":"IF($C74<>\"\",BN74*EXP(-OFFSET('Forecasts Aggregate'!$C$58,$C74-$C$17,MATCH(BN$16,Ages,1))),\"\")","v":""},{"$f":"IF($C74<>\"\",BO74*EXP(-OFFSET('Forecasts Aggregate'!$C$58,$C74-$C$17,MATCH(BO$16,Ages,1))),\"\")","v":""},{"$f":"IF($C74<>\"\",BP74*EXP(-OFFSET('Forecasts Aggregate'!$C$58,$C74-$C$17,MATCH(BP$16,Ages,1))),\"\")","v":""},{"$f":"IF($C74<>\"\",BQ74*EXP(-OFFSET('Forecasts Aggregate'!$C$58,$C74-$C$17,MATCH(BQ$16,Ages,1))),\"\")","v":""},{"$f":"IF($C74<>\"\",BR74*EXP(-OFFSET('Forecasts Aggregate'!$C$58,$C74-$C$17,MATCH(BR$16,Ages,1))),\"\")","v":""},{"$f":"IF($C74<>\"\",BS74*EXP(-OFFSET('Forecasts Aggregate'!$C$58,$C74-$C$17,MATCH(BS$16,Ages,1))),\"\")","v":""},{"$f":"IF($C74<>\"\",BT74*EXP(-OFFSET('Forecasts Aggregate'!$C$58,$C74-$C$17,MATCH(BT$16,Ages,1))),\"\")","v":""},{"$f":"IF($C74<>\"\",BU74*EXP(-OFFSET('Forecasts Aggregate'!$C$58,$C74-$C$17,MATCH(BU$16,Ages,1))),\"\")","v":""},{"$f":"IF($C74<>\"\",BV74*EXP(-OFFSET('Forecasts Aggregate'!$C$58,$C74-$C$17,MATCH(BV$16,Ages,1))),\"\")","v":""},{"$f":"IF($C74<>\"\",BW74*EXP(-OFFSET('Forecasts Aggregate'!$C$58,$C74-$C$17,MATCH(BW$16,Ages,1))),\"\")","v":""},{"$f":"IF($C74<>\"\",BX74*EXP(-OFFSET('Forecasts Aggregate'!$C$58,$C74-$C$17,MATCH(BX$16,Ages,1))),\"\")","v":""},{"$f":"IF($C74<>\"\",BY74*EXP(-OFFSET('Forecasts Aggregate'!$C$58,$C74-$C$17,MATCH(BY$16,Ages,1))),\"\")","v":""},{"$f":"IF($C74<>\"\",BZ74*EXP(-OFFSET('Forecasts Aggregate'!$C$58,$C74-$C$17,MATCH(BZ$16,Ages,1))),\"\")","v":""},{"$f":"IF($C74<>\"\",CA74*EXP(-OFFSET('Forecasts Aggregate'!$C$58,$C74-$C$17,MATCH(CA$16,Ages,1))),\"\")","v":""},{"$f":"IF($C74<>\"\",CB74*EXP(-OFFSET('Forecasts Aggregate'!$C$58,$C74-$C$17,MATCH(CB$16,Ages,1))),\"\")","v":""},{"$f":"IF($C74<>\"\",CC74*EXP(-OFFSET('Forecasts Aggregate'!$C$58,$C74-$C$17,MATCH(CC$16,Ages,1))),\"\")","v":""},{"$f":"IF($C74<>\"\",CD74*EXP(-OFFSET('Forecasts Aggregate'!$C$58,$C74-$C$17,MATCH(CD$16,Ages,1))),\"\")","v":""},{"$f":"IF($C74<>\"\",CE74*EXP(-OFFSET('Forecasts Aggregate'!$C$58,$C74-$C$17,MATCH(CE$16,Ages,1))),\"\")","v":""},{"$f":"IF($C74<>\"\",CF74*EXP(-OFFSET('Forecasts Aggregate'!$C$58,$C74-$C$17,MATCH(CF$16,Ages,1))),\"\")","v":""},{"$f":"IF($C74<>\"\",CG74*EXP(-OFFSET('Forecasts Aggregate'!$C$58,$C74-$C$17,MATCH(CG$16,Ages,1))),\"\")","v":""},{"$f":"IF($C74<>\"\",CH74*EXP(-OFFSET('Forecasts Aggregate'!$C$58,$C74-$C$17,MATCH(CH$16,Ages,1))),\"\")","v":""},{"$f":"IF($C74<>\"\",CI74*EXP(-OFFSET('Forecasts Aggregate'!$C$58,$C74-$C$17,MATCH(CI$16,Ages,1))),\"\")","v":""},{"$f":"IF($C74<>\"\",CJ74*EXP(-OFFSET('Forecasts Aggregate'!$C$58,$C74-$C$17,MATCH(CJ$16,Ages,1))),\"\")","v":""},{"$f":"IF($C74<>\"\",CK74*EXP(-OFFSET('Forecasts Aggregate'!$C$58,$C74-$C$17,MATCH(CK$16,Ages,1))),\"\")","v":""},{"$f":"IF($C74<>\"\",CL74*EXP(-OFFSET('Forecasts Aggregate'!$C$58,$C74-$C$17,MATCH(CL$16,Ages,1))),\"\")","v":""},{"$f":"IF($C74<>\"\",CM74*EXP(-OFFSET('Forecasts Aggregate'!$C$58,$C74-$C$17,MATCH(CM$16,Ages,1))),\"\")","v":""},{"$f":"IF($C74<>\"\",CN74*EXP(-OFFSET('Forecasts Aggregate'!$C$58,$C74-$C$17,MATCH(CN$16,Ages,1))),\"\")","v":""},{"$f":"IF($C74<>\"\",CO74*EXP(-OFFSET('Forecasts Aggregate'!$C$58,$C74-$C$17,MATCH(CO$16,Ages,1))),\"\")","v":""},{"$f":"IF($C74<>\"\",CP74*EXP(-OFFSET('Forecasts Aggregate'!$C$58,$C74-$C$17,MATCH(CP$16,Ages,1))),\"\")","v":""},{"$f":"IF($C74<>\"\",CQ74*EXP(-OFFSET('Forecasts Aggregate'!$C$58,$C74-$C$17,MATCH(CQ$16,Ages,1))),\"\")","v":""},{"$f":"IF($C74<>\"\",CR74*EXP(-OFFSET('Forecasts Aggregate'!$C$58,$C74-$C$17,MATCH(CR$16,Ages,1))),\"\")","v":""},{"$f":"IF($C74<>\"\",CS74*EXP(-OFFSET('Forecasts Aggregate'!$C$58,$C74-$C$17,MATCH(CS$16,Ages,1))),\"\")","v":""},{"$f":"IF($C74<>\"\",CT74*EXP(-OFFSET('Forecasts Aggregate'!$C$58,$C74-$C$17,MATCH(CT$16,Ages,1))),\"\")","v":""},{"$f":"IF($C74<>\"\",CU74*EXP(-OFFSET('Forecasts Aggregate'!$C$58,$C74-$C$17,MATCH(CU$16,Ages,1))),\"\")","v":""},{"$f":"IF($C74<>\"\",CV74*EXP(-OFFSET('Forecasts Aggregate'!$C$58,$C74-$C$17,MATCH(CV$16,Ages,1))),\"\")","v":""},{"$f":"IF($C74<>\"\",CW74*EXP(-OFFSET('Forecasts Aggregate'!$C$58,$C74-$C$17,MATCH(CW$16,Ages,1))),\"\")","v":""},{"$f":"IF($C74<>\"\",CX74*EXP(-OFFSET('Forecasts Aggregate'!$C$58,$C74-$C$17,MATCH(CX$16,Ages,1))),\"\")","v":""},{"$f":"IF($C74<>\"\",CY74*EXP(-OFFSET('Forecasts Aggregate'!$C$58,$C74-$C$17,MATCH(CY$16,Ages,1))),\"\")","v":""},{"$f":"IF($C74<>\"\",CZ74*EXP(-OFFSET('Forecasts Aggregate'!$C$58,$C74-$C$17,MATCH(CZ$16,Ages,1))),\"\")","v":""},{"$f":"IF($C74<>\"\",DA74*EXP(-OFFSET('Forecasts Aggregate'!$C$58,$C74-$C$17,MATCH(DA$16,Ages,1))),\"\")","v":""},{"$f":"IF($C74<>\"\",DB74*EXP(-OFFSET('Forecasts Aggregate'!$C$58,$C74-$C$17,MATCH(DB$16,Ages,1))),\"\")","v":""},{"$f":"IF($C74<>\"\",DC74*EXP(-OFFSET('Forecasts Aggregate'!$C$58,$C74-$C$17,MATCH(DC$16,Ages,1))),\"\")","v":""},{"$f":"IF($C74<>\"\",DD74*EXP(-OFFSET('Forecasts Aggregate'!$C$58,$C74-$C$17,MATCH(DD$16,Ages,1))),\"\")","v":""},{"$f":"IF($C74<>\"\",DE74*EXP(-OFFSET('Forecasts Aggregate'!$C$58,$C74-$C$17,MATCH(DE$16,Ages,1))),\"\")","v":""},{"$f":"IF($C74<>\"\",DF74*EXP(-OFFSET('Forecasts Aggregate'!$C$58,$C74-$C$17,MATCH(DF$16,Ages,1))),\"\")","v":""},{"$f":"IF($C74<>\"\",DG74*EXP(-OFFSET('Forecasts Aggregate'!$C$58,$C74-$C$17,MATCH(DG$16,Ages,1))),\"\")","v":""},{"$f":"IF($C74<>\"\",DH74*EXP(-OFFSET('Forecasts Aggregate'!$C$58,$C74-$C$17,MATCH(DH$16,Ages,1))),\"\")","v":""},{"$f":"IF($C74<>\"\",DI74*EXP(-OFFSET('Forecasts Aggregate'!$C$58,$C74-$C$17,MATCH(DI$16,Ages,1))),\"\")","v":""},{"$f":"IF($C74<>\"\",DJ74*EXP(-OFFSET('Forecasts Aggregate'!$C$58,$C74-$C$17,MATCH(DJ$16,Ages,1))),\"\")","v":""},null,"","",""]
[null,null,"","",{"$f":"IF($C75<>\"\",D75*EXP(-OFFSET('Forecasts Aggregate'!$C$58,$C75-$C$17,MATCH(D$16,Ages,1))),\"\")","v":""},{"$f":"IF($C75<>\"\",E75*EXP(-OFFSET('Forecasts Aggregate'!$C$58,$C75-$C$17,MATCH(E$16,Ages,1))),\"\")","v":""},{"$f":"IF($C75<>\"\",F75*EXP(-OFFSET('Forecasts Aggregate'!$C$58,$C75-$C$17,MATCH(F$16,Ages,1))),\"\")","v":""},{"$f":"IF($C75<>\"\",G75*EXP(-OFFSET('Forecasts Aggregate'!$C$58,$C75-$C$17,MATCH(G$16,Ages,1))),\"\")","v":""},{"$f":"IF($C75<>\"\",H75*EXP(-OFFSET('Forecasts Aggregate'!$C$58,$C75-$C$17,MATCH(H$16,Ages,1))),\"\")","v":""},{"$f":"IF($C75<>\"\",I75*EXP(-OFFSET('Forecasts Aggregate'!$C$58,$C75-$C$17,MATCH(I$16,Ages,1))),\"\")","v":""},{"$f":"IF($C75<>\"\",J75*EXP(-OFFSET('Forecasts Aggregate'!$C$58,$C75-$C$17,MATCH(J$16,Ages,1))),\"\")","v":""},{"$f":"IF($C75<>\"\",K75*EXP(-OFFSET('Forecasts Aggregate'!$C$58,$C75-$C$17,MATCH(K$16,Ages,1))),\"\")","v":""},{"$f":"IF($C75<>\"\",L75*EXP(-OFFSET('Forecasts Aggregate'!$C$58,$C75-$C$17,MATCH(L$16,Ages,1))),\"\")","v":""},{"$f":"IF($C75<>\"\",M75*EXP(-OFFSET('Forecasts Aggregate'!$C$58,$C75-$C$17,MATCH(M$16,Ages,1))),\"\")","v":""},{"$f":"IF($C75<>\"\",N75*EXP(-OFFSET('Forecasts Aggregate'!$C$58,$C75-$C$17,MATCH(N$16,Ages,1))),\"\")","v":""},{"$f":"IF($C75<>\"\",O75*EXP(-OFFSET('Forecasts Aggregate'!$C$58,$C75-$C$17,MATCH(O$16,Ages,1))),\"\")","v":""},{"$f":"IF($C75<>\"\",P75*EXP(-OFFSET('Forecasts Aggregate'!$C$58,$C75-$C$17,MATCH(P$16,Ages,1))),\"\")","v":""},{"$f":"IF($C75<>\"\",Q75*EXP(-OFFSET('Forecasts Aggregate'!$C$58,$C75-$C$17,MATCH(Q$16,Ages,1))),\"\")","v":""},{"$f":"IF($C75<>\"\",R75*EXP(-OFFSET('Forecasts Aggregate'!$C$58,$C75-$C$17,MATCH(R$16,Ages,1))),\"\")","v":""},{"$f":"IF($C75<>\"\",S75*EXP(-OFFSET('Forecasts Aggregate'!$C$58,$C75-$C$17,MATCH(S$16,Ages,1))),\"\")","v":""},{"$f":"IF($C75<>\"\",T75*EXP(-OFFSET('Forecasts Aggregate'!$C$58,$C75-$C$17,MATCH(T$16,Ages,1))),\"\")","v":""},{"$f":"IF($C75<>\"\",U75*EXP(-OFFSET('Forecasts Aggregate'!$C$58,$C75-$C$17,MATCH(U$16,Ages,1))),\"\")","v":""},{"$f":"IF($C75<>\"\",V75*EXP(-OFFSET('Forecasts Aggregate'!$C$58,$C75-$C$17,MATCH(V$16,Ages,1))),\"\")","v":""},{"$f":"IF($C75<>\"\",W75*EXP(-OFFSET('Forecasts Aggregate'!$C$58,$C75-$C$17,MATCH(W$16,Ages,1))),\"\")","v":""},{"$f":"IF($C75<>\"\",X75*EXP(-OFFSET('Forecasts Aggregate'!$C$58,$C75-$C$17,MATCH(X$16,Ages,1))),\"\")","v":""},{"$f":"IF($C75<>\"\",Y75*EXP(-OFFSET('Forecasts Aggregate'!$C$58,$C75-$C$17,MATCH(Y$16,Ages,1))),\"\")","v":""},{"$f":"IF($C75<>\"\",Z75*EXP(-OFFSET('Forecasts Aggregate'!$C$58,$C75-$C$17,MATCH(Z$16,Ages,1))),\"\")","v":""},{"$f":"IF($C75<>\"\",AA75*EXP(-OFFSET('Forecasts Aggregate'!$C$58,$C75-$C$17,MATCH(AA$16,Ages,1))),\"\")","v":""},{"$f":"IF($C75<>\"\",AB75*EXP(-OFFSET('Forecasts Aggregate'!$C$58,$C75-$C$17,MATCH(AB$16,Ages,1))),\"\")","v":""},{"$f":"IF($C75<>\"\",AC75*EXP(-OFFSET('Forecasts Aggregate'!$C$58,$C75-$C$17,MATCH(AC$16,Ages,1))),\"\")","v":""},{"$f":"IF($C75<>\"\",AD75*EXP(-OFFSET('Forecasts Aggregate'!$C$58,$C75-$C$17,MATCH(AD$16,Ages,1))),\"\")","v":""},{"$f":"IF($C75<>\"\",AE75*EXP(-OFFSET('Forecasts Aggregate'!$C$58,$C75-$C$17,MATCH(AE$16,Ages,1))),\"\")","v":""},{"$f":"IF($C75<>\"\",AF75*EXP(-OFFSET('Forecasts Aggregate'!$C$58,$C75-$C$17,MATCH(AF$16,Ages,1))),\"\")","v":""},{"$f":"IF($C75<>\"\",AG75*EXP(-OFFSET('Forecasts Aggregate'!$C$58,$C75-$C$17,MATCH(AG$16,Ages,1))),\"\")","v":""},{"$f":"IF($C75<>\"\",AH75*EXP(-OFFSET('Forecasts Aggregate'!$C$58,$C75-$C$17,MATCH(AH$16,Ages,1))),\"\")","v":""},{"$f":"IF($C75<>\"\",AI75*EXP(-OFFSET('Forecasts Aggregate'!$C$58,$C75-$C$17,MATCH(AI$16,Ages,1))),\"\")","v":""},{"$f":"IF($C75<>\"\",AJ75*EXP(-OFFSET('Forecasts Aggregate'!$C$58,$C75-$C$17,MATCH(AJ$16,Ages,1))),\"\")","v":""},{"$f":"IF($C75<>\"\",AK75*EXP(-OFFSET('Forecasts Aggregate'!$C$58,$C75-$C$17,MATCH(AK$16,Ages,1))),\"\")","v":""},{"$f":"IF($C75<>\"\",AL75*EXP(-OFFSET('Forecasts Aggregate'!$C$58,$C75-$C$17,MATCH(AL$16,Ages,1))),\"\")","v":""},{"$f":"IF($C75<>\"\",AM75*EXP(-OFFSET('Forecasts Aggregate'!$C$58,$C75-$C$17,MATCH(AM$16,Ages,1))),\"\")","v":""},{"$f":"IF($C75<>\"\",AN75*EXP(-OFFSET('Forecasts Aggregate'!$C$58,$C75-$C$17,MATCH(AN$16,Ages,1))),\"\")","v":""},{"$f":"IF($C75<>\"\",AO75*EXP(-OFFSET('Forecasts Aggregate'!$C$58,$C75-$C$17,MATCH(AO$16,Ages,1))),\"\")","v":""},{"$f":"IF($C75<>\"\",AP75*EXP(-OFFSET('Forecasts Aggregate'!$C$58,$C75-$C$17,MATCH(AP$16,Ages,1))),\"\")","v":""},{"$f":"IF($C75<>\"\",AQ75*EXP(-OFFSET('Forecasts Aggregate'!$C$58,$C75-$C$17,MATCH(AQ$16,Ages,1))),\"\")","v":""},{"$f":"IF($C75<>\"\",AR75*EXP(-OFFSET('Forecasts Aggregate'!$C$58,$C75-$C$17,MATCH(AR$16,Ages,1))),\"\")","v":""},{"$f":"IF($C75<>\"\",AS75*EXP(-OFFSET('Forecasts Aggregate'!$C$58,$C75-$C$17,MATCH(AS$16,Ages,1))),\"\")","v":""},{"$f":"IF($C75<>\"\",AT75*EXP(-OFFSET('Forecasts Aggregate'!$C$58,$C75-$C$17,MATCH(AT$16,Ages,1))),\"\")","v":""},{"$f":"IF($C75<>\"\",AU75*EXP(-OFFSET('Forecasts Aggregate'!$C$58,$C75-$C$17,MATCH(AU$16,Ages,1))),\"\")","v":""},{"$f":"IF($C75<>\"\",AV75*EXP(-OFFSET('Forecasts Aggregate'!$C$58,$C75-$C$17,MATCH(AV$16,Ages,1))),\"\")","v":""},{"$f":"IF($C75<>\"\",AW75*EXP(-OFFSET('Forecasts Aggregate'!$C$58,$C75-$C$17,MATCH(AW$16,Ages,1))),\"\")","v":""},{"$f":"IF($C75<>\"\",AX75*EXP(-OFFSET('Forecasts Aggregate'!$C$58,$C75-$C$17,MATCH(AX$16,Ages,1))),\"\")","v":""},{"$f":"IF($C75<>\"\",AY75*EXP(-OFFSET('Forecasts Aggregate'!$C$58,$C75-$C$17,MATCH(AY$16,Ages,1))),\"\")","v":""},{"$f":"IF($C75<>\"\",AZ75*EXP(-OFFSET('Forecasts Aggregate'!$C$58,$C75-$C$17,MATCH(AZ$16,Ages,1))),\"\")","v":""},{"$f":"IF($C75<>\"\",BA75*EXP(-OFFSET('Forecasts Aggregate'!$C$58,$C75-$C$17,MATCH(BA$16,Ages,1))),\"\")","v":""},{"$f":"IF($C75<>\"\",BB75*EXP(-OFFSET('Forecasts Aggregate'!$C$58,$C75-$C$17,MATCH(BB$16,Ages,1))),\"\")","v":""},{"$f":"IF($C75<>\"\",BC75*EXP(-OFFSET('Forecasts Aggregate'!$C$58,$C75-$C$17,MATCH(BC$16,Ages,1))),\"\")","v":""},{"$f":"IF($C75<>\"\",BD75*EXP(-OFFSET('Forecasts Aggregate'!$C$58,$C75-$C$17,MATCH(BD$16,Ages,1))),\"\")","v":""},{"$f":"IF($C75<>\"\",BE75*EXP(-OFFSET('Forecasts Aggregate'!$C$58,$C75-$C$17,MATCH(BE$16,Ages,1))),\"\")","v":""},{"$f":"IF($C75<>\"\",BF75*EXP(-OFFSET('Forecasts Aggregate'!$C$58,$C75-$C$17,MATCH(BF$16,Ages,1))),\"\")","v":""},{"$f":"IF($C75<>\"\",BG75*EXP(-OFFSET('Forecasts Aggregate'!$C$58,$C75-$C$17,MATCH(BG$16,Ages,1))),\"\")","v":""},{"$f":"IF($C75<>\"\",BH75*EXP(-OFFSET('Forecasts Aggregate'!$C$58,$C75-$C$17,MATCH(BH$16,Ages,1))),\"\")","v":""},{"$f":"IF($C75<>\"\",BI75*EXP(-OFFSET('Forecasts Aggregate'!$C$58,$C75-$C$17,MATCH(BI$16,Ages,1))),\"\")","v":""},{"$f":"IF($C75<>\"\",BJ75*EXP(-OFFSET('Forecasts Aggregate'!$C$58,$C75-$C$17,MATCH(BJ$16,Ages,1))),\"\")","v":""},{"$f":"IF($C75<>\"\",BK75*EXP(-OFFSET('Forecasts Aggregate'!$C$58,$C75-$C$17,MATCH(BK$16,Ages,1))),\"\")","v":""},{"$f":"IF($C75<>\"\",BL75*EXP(-OFFSET('Forecasts Aggregate'!$C$58,$C75-$C$17,MATCH(BL$16,Ages,1))),\"\")","v":""},{"$f":"IF($C75<>\"\",BM75*EXP(-OFFSET('Forecasts Aggregate'!$C$58,$C75-$C$17,MATCH(BM$16,Ages,1))),\"\")","v":""},{"$f":"IF($C75<>\"\",BN75*EXP(-OFFSET('Forecasts Aggregate'!$C$58,$C75-$C$17,MATCH(BN$16,Ages,1))),\"\")","v":""},{"$f":"IF($C75<>\"\",BO75*EXP(-OFFSET('Forecasts Aggregate'!$C$58,$C75-$C$17,MATCH(BO$16,Ages,1))),\"\")","v":""},{"$f":"IF($C75<>\"\",BP75*EXP(-OFFSET('Forecasts Aggregate'!$C$58,$C75-$C$17,MATCH(BP$16,Ages,1))),\"\")","v":""},{"$f":"IF($C75<>\"\",BQ75*EXP(-OFFSET('Forecasts Aggregate'!$C$58,$C75-$C$17,MATCH(BQ$16,Ages,1))),\"\")","v":""},{"$f":"IF($C75<>\"\",BR75*EXP(-OFFSET('Forecasts Aggregate'!$C$58,$C75-$C$17,MATCH(BR$16,Ages,1))),\"\")","v":""},{"$f":"IF($C75<>\"\",BS75*EXP(-OFFSET('Forecasts Aggregate'!$C$58,$C75-$C$17,MATCH(BS$16,Ages,1))),\"\")","v":""},{"$f":"IF($C75<>\"\",BT75*EXP(-OFFSET('Forecasts Aggregate'!$C$58,$C75-$C$17,MATCH(BT$16,Ages,1))),\"\")","v":""},{"$f":"IF($C75<>\"\",BU75*EXP(-OFFSET('Forecasts Aggregate'!$C$58,$C75-$C$17,MATCH(BU$16,Ages,1))),\"\")","v":""},{"$f":"IF($C75<>\"\",BV75*EXP(-OFFSET('Forecasts Aggregate'!$C$58,$C75-$C$17,MATCH(BV$16,Ages,1))),\"\")","v":""},{"$f":"IF($C75<>\"\",BW75*EXP(-OFFSET('Forecasts Aggregate'!$C$58,$C75-$C$17,MATCH(BW$16,Ages,1))),\"\")","v":""},{"$f":"IF($C75<>\"\",BX75*EXP(-OFFSET('Forecasts Aggregate'!$C$58,$C75-$C$17,MATCH(BX$16,Ages,1))),\"\")","v":""},{"$f":"IF($C75<>\"\",BY75*EXP(-OFFSET('Forecasts Aggregate'!$C$58,$C75-$C$17,MATCH(BY$16,Ages,1))),\"\")","v":""},{"$f":"IF($C75<>\"\",BZ75*EXP(-OFFSET('Forecasts Aggregate'!$C$58,$C75-$C$17,MATCH(BZ$16,Ages,1))),\"\")","v":""},{"$f":"IF($C75<>\"\",CA75*EXP(-OFFSET('Forecasts Aggregate'!$C$58,$C75-$C$17,MATCH(CA$16,Ages,1))),\"\")","v":""},{"$f":"IF($C75<>\"\",CB75*EXP(-OFFSET('Forecasts Aggregate'!$C$58,$C75-$C$17,MATCH(CB$16,Ages,1))),\"\")","v":""},{"$f":"IF($C75<>\"\",CC75*EXP(-OFFSET('Forecasts Aggregate'!$C$58,$C75-$C$17,MATCH(CC$16,Ages,1))),\"\")","v":""},{"$f":"IF($C75<>\"\",CD75*EXP(-OFFSET('Forecasts Aggregate'!$C$58,$C75-$C$17,MATCH(CD$16,Ages,1))),\"\")","v":""},{"$f":"IF($C75<>\"\",CE75*EXP(-OFFSET('Forecasts Aggregate'!$C$58,$C75-$C$17,MATCH(CE$16,Ages,1))),\"\")","v":""},{"$f":"IF($C75<>\"\",CF75*EXP(-OFFSET('Forecasts Aggregate'!$C$58,$C75-$C$17,MATCH(CF$16,Ages,1))),\"\")","v":""},{"$f":"IF($C75<>\"\",CG75*EXP(-OFFSET('Forecasts Aggregate'!$C$58,$C75-$C$17,MATCH(CG$16,Ages,1))),\"\")","v":""},{"$f":"IF($C75<>\"\",CH75*EXP(-OFFSET('Forecasts Aggregate'!$C$58,$C75-$C$17,MATCH(CH$16,Ages,1))),\"\")","v":""},{"$f":"IF($C75<>\"\",CI75*EXP(-OFFSET('Forecasts Aggregate'!$C$58,$C75-$C$17,MATCH(CI$16,Ages,1))),\"\")","v":""},{"$f":"IF($C75<>\"\",CJ75*EXP(-OFFSET('Forecasts Aggregate'!$C$58,$C75-$C$17,MATCH(CJ$16,Ages,1))),\"\")","v":""},{"$f":"IF($C75<>\"\",CK75*EXP(-OFFSET('Forecasts Aggregate'!$C$58,$C75-$C$17,MATCH(CK$16,Ages,1))),\"\")","v":""},{"$f":"IF($C75<>\"\",CL75*EXP(-OFFSET('Forecasts Aggregate'!$C$58,$C75-$C$17,MATCH(CL$16,Ages,1))),\"\")","v":""},{"$f":"IF($C75<>\"\",CM75*EXP(-OFFSET('Forecasts Aggregate'!$C$58,$C75-$C$17,MATCH(CM$16,Ages,1))),\"\")","v":""},{"$f":"IF($C75<>\"\",CN75*EXP(-OFFSET('Forecasts Aggregate'!$C$58,$C75-$C$17,MATCH(CN$16,Ages,1))),\"\")","v":""},{"$f":"IF($C75<>\"\",CO75*EXP(-OFFSET('Forecasts Aggregate'!$C$58,$C75-$C$17,MATCH(CO$16,Ages,1))),\"\")","v":""},{"$f":"IF($C75<>\"\",CP75*EXP(-OFFSET('Forecasts Aggregate'!$C$58,$C75-$C$17,MATCH(CP$16,Ages,1))),\"\")","v":""},{"$f":"IF($C75<>\"\",CQ75*EXP(-OFFSET('Forecasts Aggregate'!$C$58,$C75-$C$17,MATCH(CQ$16,Ages,1))),\"\")","v":""},{"$f":"IF($C75<>\"\",CR75*EXP(-OFFSET('Forecasts Aggregate'!$C$58,$C75-$C$17,MATCH(CR$16,Ages,1))),\"\")","v":""},{"$f":"IF($C75<>\"\",CS75*EXP(-OFFSET('Forecasts Aggregate'!$C$58,$C75-$C$17,MATCH(CS$16,Ages,1))),\"\")","v":""},{"$f":"IF($C75<>\"\",CT75*EXP(-OFFSET('Forecasts Aggregate'!$C$58,$C75-$C$17,MATCH(CT$16,Ages,1))),\"\")","v":""},{"$f":"IF($C75<>\"\",CU75*EXP(-OFFSET('Forecasts Aggregate'!$C$58,$C75-$C$17,MATCH(CU$16,Ages,1))),\"\")","v":""},{"$f":"IF($C75<>\"\",CV75*EXP(-OFFSET('Forecasts Aggregate'!$C$58,$C75-$C$17,MATCH(CV$16,Ages,1))),\"\")","v":""},{"$f":"IF($C75<>\"\",CW75*EXP(-OFFSET('Forecasts Aggregate'!$C$58,$C75-$C$17,MATCH(CW$16,Ages,1))),\"\")","v":""},{"$f":"IF($C75<>\"\",CX75*EXP(-OFFSET('Forecasts Aggregate'!$C$58,$C75-$C$17,MATCH(CX$16,Ages,1))),\"\")","v":""},{"$f":"IF($C75<>\"\",CY75*EXP(-OFFSET('Forecasts Aggregate'!$C$58,$C75-$C$17,MATCH(CY$16,Ages,1))),\"\")","v":""},{"$f":"IF($C75<>\"\",CZ75*EXP(-OFFSET('Forecasts Aggregate'!$C$58,$C75-$C$17,MATCH(CZ$16,Ages,1))),\"\")","v":""},{"$f":"IF($C75<>\"\",DA75*EXP(-OFFSET('Forecasts Aggregate'!$C$58,$C75-$C$17,MATCH(DA$16,Ages,1))),\"\")","v":""},{"$f":"IF($C75<>\"\",DB75*EXP(-OFFSET('Forecasts Aggregate'!$C$58,$C75-$C$17,MATCH(DB$16,Ages,1))),\"\")","v":""},{"$f":"IF($C75<>\"\",DC75*EXP(-OFFSET('Forecasts Aggregate'!$C$58,$C75-$C$17,MATCH(DC$16,Ages,1))),\"\")","v":""},{"$f":"IF($C75<>\"\",DD75*EXP(-OFFSET('Forecasts Aggregate'!$C$58,$C75-$C$17,MATCH(DD$16,Ages,1))),\"\")","v":""},{"$f":"IF($C75<>\"\",DE75*EXP(-OFFSET('Forecasts Aggregate'!$C$58,$C75-$C$17,MATCH(DE$16,Ages,1))),\"\")","v":""},{"$f":"IF($C75<>\"\",DF75*EXP(-OFFSET('Forecasts Aggregate'!$C$58,$C75-$C$17,MATCH(DF$16,Ages,1))),\"\")","v":""},{"$f":"IF($C75<>\"\",DG75*EXP(-OFFSET('Forecasts Aggregate'!$C$58,$C75-$C$17,MATCH(DG$16,Ages,1))),\"\")","v":""},{"$f":"IF($C75<>\"\",DH75*EXP(-OFFSET('Forecasts Aggregate'!$C$58,$C75-$C$17,MATCH(DH$16,Ages,1))),\"\")","v":""},{"$f":"IF($C75<>\"\",DI75*EXP(-OFFSET('Forecasts Aggregate'!$C$58,$C75-$C$17,MATCH(DI$16,Ages,1))),\"\")","v":""},{"$f":"IF($C75<>\"\",DJ75*EXP(-OFFSET('Forecasts Aggregate'!$C$58,$C75-$C$17,MATCH(DJ$16,Ages,1))),\"\")","v":""},null,"","",""]
[null,null,"","",{"$f":"IF($C76<>\"\",D76*EXP(-OFFSET('Forecasts Aggregate'!$C$58,$C76-$C$17,MATCH(D$16,Ages,1))),\"\")","v":""},{"$f":"IF($C76<>\"\",E76*EXP(-OFFSET('Forecasts Aggregate'!$C$58,$C76-$C$17,MATCH(E$16,Ages,1))),\"\")","v":""},{"$f":"IF($C76<>\"\",F76*EXP(-OFFSET('Forecasts Aggregate'!$C$58,$C76-$C$17,MATCH(F$16,Ages,1))),\"\")","v":""},{"$f":"IF($C76<>\"\",G76*EXP(-OFFSET('Forecasts Aggregate'!$C$58,$C76-$C$17,MATCH(G$16,Ages,1))),\"\")","v":""},{"$f":"IF($C76<>\"\",H76*EXP(-OFFSET('Forecasts Aggregate'!$C$58,$C76-$C$17,MATCH(H$16,Ages,1))),\"\")","v":""},{"$f":"IF($C76<>\"\",I76*EXP(-OFFSET('Forecasts Aggregate'!$C$58,$C76-$C$17,MATCH(I$16,Ages,1))),\"\")","v":""},{"$f":"IF($C76<>\"\",J76*EXP(-OFFSET('Forecasts Aggregate'!$C$58,$C76-$C$17,MATCH(J$16,Ages,1))),\"\")","v":""},{"$f":"IF($C76<>\"\",K76*EXP(-OFFSET('Forecasts Aggregate'!$C$58,$C76-$C$17,MATCH(K$16,Ages,1))),\"\")","v":""},{"$f":"IF($C76<>\"\",L76*EXP(-OFFSET('Forecasts Aggregate'!$C$58,$C76-$C$17,MATCH(L$16,Ages,1))),\"\")","v":""},{"$f":"IF($C76<>\"\",M76*EXP(-OFFSET('Forecasts Aggregate'!$C$58,$C76-$C$17,MATCH(M$16,Ages,1))),\"\")","v":""},{"$f":"IF($C76<>\"\",N76*EXP(-OFFSET('Forecasts Aggregate'!$C$58,$C76-$C$17,MATCH(N$16,Ages,1))),\"\")","v":""},{"$f":"IF($C76<>\"\",O76*EXP(-OFFSET('Forecasts Aggregate'!$C$58,$C76-$C$17,MATCH(O$16,Ages,1))),\"\")","v":""},{"$f":"IF($C76<>\"\",P76*EXP(-OFFSET('Forecasts Aggregate'!$C$58,$C76-$C$17,MATCH(P$16,Ages,1))),\"\")","v":""},{"$f":"IF($C76<>\"\",Q76*EXP(-OFFSET('Forecasts Aggregate'!$C$58,$C76-$C$17,MATCH(Q$16,Ages,1))),\"\")","v":""},{"$f":"IF($C76<>\"\",R76*EXP(-OFFSET('Forecasts Aggregate'!$C$58,$C76-$C$17,MATCH(R$16,Ages,1))),\"\")","v":""},{"$f":"IF($C76<>\"\",S76*EXP(-OFFSET('Forecasts Aggregate'!$C$58,$C76-$C$17,MATCH(S$16,Ages,1))),\"\")","v":""},{"$f":"IF($C76<>\"\",T76*EXP(-OFFSET('Forecasts Aggregate'!$C$58,$C76-$C$17,MATCH(T$16,Ages,1))),\"\")","v":""},{"$f":"IF($C76<>\"\",U76*EXP(-OFFSET('Forecasts Aggregate'!$C$58,$C76-$C$17,MATCH(U$16,Ages,1))),\"\")","v":""},{"$f":"IF($C76<>\"\",V76*EXP(-OFFSET('Forecasts Aggregate'!$C$58,$C76-$C$17,MATCH(V$16,Ages,1))),\"\")","v":""},{"$f":"IF($C76<>\"\",W76*EXP(-OFFSET('Forecasts Aggregate'!$C$58,$C76-$C$17,MATCH(W$16,Ages,1))),\"\")","v":""},{"$f":"IF($C76<>\"\",X76*EXP(-OFFSET('Forecasts Aggregate'!$C$58,$C76-$C$17,MATCH(X$16,Ages,1))),\"\")","v":""},{"$f":"IF($C76<>\"\",Y76*EXP(-OFFSET('Forecasts Aggregate'!$C$58,$C76-$C$17,MATCH(Y$16,Ages,1))),\"\")","v":""},{"$f":"IF($C76<>\"\",Z76*EXP(-OFFSET('Forecasts Aggregate'!$C$58,$C76-$C$17,MATCH(Z$16,Ages,1))),\"\")","v":""},{"$f":"IF($C76<>\"\",AA76*EXP(-OFFSET('Forecasts Aggregate'!$C$58,$C76-$C$17,MATCH(AA$16,Ages,1))),\"\")","v":""},{"$f":"IF($C76<>\"\",AB76*EXP(-OFFSET('Forecasts Aggregate'!$C$58,$C76-$C$17,MATCH(AB$16,Ages,1))),\"\")","v":""},{"$f":"IF($C76<>\"\",AC76*EXP(-OFFSET('Forecasts Aggregate'!$C$58,$C76-$C$17,MATCH(AC$16,Ages,1))),\"\")","v":""},{"$f":"IF($C76<>\"\",AD76*EXP(-OFFSET('Forecasts Aggregate'!$C$58,$C76-$C$17,MATCH(AD$16,Ages,1))),\"\")","v":""},{"$f":"IF($C76<>\"\",AE76*EXP(-OFFSET('Forecasts Aggregate'!$C$58,$C76-$C$17,MATCH(AE$16,Ages,1))),\"\")","v":""},{"$f":"IF($C76<>\"\",AF76*EXP(-OFFSET('Forecasts Aggregate'!$C$58,$C76-$C$17,MATCH(AF$16,Ages,1))),\"\")","v":""},{"$f":"IF($C76<>\"\",AG76*EXP(-OFFSET('Forecasts Aggregate'!$C$58,$C76-$C$17,MATCH(AG$16,Ages,1))),\"\")","v":""},{"$f":"IF($C76<>\"\",AH76*EXP(-OFFSET('Forecasts Aggregate'!$C$58,$C76-$C$17,MATCH(AH$16,Ages,1))),\"\")","v":""},{"$f":"IF($C76<>\"\",AI76*EXP(-OFFSET('Forecasts Aggregate'!$C$58,$C76-$C$17,MATCH(AI$16,Ages,1))),\"\")","v":""},{"$f":"IF($C76<>\"\",AJ76*EXP(-OFFSET('Forecasts Aggregate'!$C$58,$C76-$C$17,MATCH(AJ$16,Ages,1))),\"\")","v":""},{"$f":"IF($C76<>\"\",AK76*EXP(-OFFSET('Forecasts Aggregate'!$C$58,$C76-$C$17,MATCH(AK$16,Ages,1))),\"\")","v":""},{"$f":"IF($C76<>\"\",AL76*EXP(-OFFSET('Forecasts Aggregate'!$C$58,$C76-$C$17,MATCH(AL$16,Ages,1))),\"\")","v":""},{"$f":"IF($C76<>\"\",AM76*EXP(-OFFSET('Forecasts Aggregate'!$C$58,$C76-$C$17,MATCH(AM$16,Ages,1))),\"\")","v":""},{"$f":"IF($C76<>\"\",AN76*EXP(-OFFSET('Forecasts Aggregate'!$C$58,$C76-$C$17,MATCH(AN$16,Ages,1))),\"\")","v":""},{"$f":"IF($C76<>\"\",AO76*EXP(-OFFSET('Forecasts Aggregate'!$C$58,$C76-$C$17,MATCH(AO$16,Ages,1))),\"\")","v":""},{"$f":"IF($C76<>\"\",AP76*EXP(-OFFSET('Forecasts Aggregate'!$C$58,$C76-$C$17,MATCH(AP$16,Ages,1))),\"\")","v":""},{"$f":"IF($C76<>\"\",AQ76*EXP(-OFFSET('Forecasts Aggregate'!$C$58,$C76-$C$17,MATCH(AQ$16,Ages,1))),\"\")","v":""},{"$f":"IF($C76<>\"\",AR76*EXP(-OFFSET('Forecasts Aggregate'!$C$58,$C76-$C$17,MATCH(AR$16,Ages,1))),\"\")","v":""},{"$f":"IF($C76<>\"\",AS76*EXP(-OFFSET('Forecasts Aggregate'!$C$58,$C76-$C$17,MATCH(AS$16,Ages,1))),\"\")","v":""},{"$f":"IF($C76<>\"\",AT76*EXP(-OFFSET('Forecasts Aggregate'!$C$58,$C76-$C$17,MATCH(AT$16,Ages,1))),\"\")","v":""},{"$f":"IF($C76<>\"\",AU76*EXP(-OFFSET('Forecasts Aggregate'!$C$58,$C76-$C$17,MATCH(AU$16,Ages,1))),\"\")","v":""},{"$f":"IF($C76<>\"\",AV76*EXP(-OFFSET('Forecasts Aggregate'!$C$58,$C76-$C$17,MATCH(AV$16,Ages,1))),\"\")","v":""},{"$f":"IF($C76<>\"\",AW76*EXP(-OFFSET('Forecasts Aggregate'!$C$58,$C76-$C$17,MATCH(AW$16,Ages,1))),\"\")","v":""},{"$f":"IF($C76<>\"\",AX76*EXP(-OFFSET('Forecasts Aggregate'!$C$58,$C76-$C$17,MATCH(AX$16,Ages,1))),\"\")","v":""},{"$f":"IF($C76<>\"\",AY76*EXP(-OFFSET('Forecasts Aggregate'!$C$58,$C76-$C$17,MATCH(AY$16,Ages,1))),\"\")","v":""},{"$f":"IF($C76<>\"\",AZ76*EXP(-OFFSET('Forecasts Aggregate'!$C$58,$C76-$C$17,MATCH(AZ$16,Ages,1))),\"\")","v":""},{"$f":"IF($C76<>\"\",BA76*EXP(-OFFSET('Forecasts Aggregate'!$C$58,$C76-$C$17,MATCH(BA$16,Ages,1))),\"\")","v":""},{"$f":"IF($C76<>\"\",BB76*EXP(-OFFSET('Forecasts Aggregate'!$C$58,$C76-$C$17,MATCH(BB$16,Ages,1))),\"\")","v":""},{"$f":"IF($C76<>\"\",BC76*EXP(-OFFSET('Forecasts Aggregate'!$C$58,$C76-$C$17,MATCH(BC$16,Ages,1))),\"\")","v":""},{"$f":"IF($C76<>\"\",BD76*EXP(-OFFSET('Forecasts Aggregate'!$C$58,$C76-$C$17,MATCH(BD$16,Ages,1))),\"\")","v":""},{"$f":"IF($C76<>\"\",BE76*EXP(-OFFSET('Forecasts Aggregate'!$C$58,$C76-$C$17,MATCH(BE$16,Ages,1))),\"\")","v":""},{"$f":"IF($C76<>\"\",BF76*EXP(-OFFSET('Forecasts Aggregate'!$C$58,$C76-$C$17,MATCH(BF$16,Ages,1))),\"\")","v":""},{"$f":"IF($C76<>\"\",BG76*EXP(-OFFSET('Forecasts Aggregate'!$C$58,$C76-$C$17,MATCH(BG$16,Ages,1))),\"\")","v":""},{"$f":"IF($C76<>\"\",BH76*EXP(-OFFSET('Forecasts Aggregate'!$C$58,$C76-$C$17,MATCH(BH$16,Ages,1))),\"\")","v":""},{"$f":"IF($C76<>\"\",BI76*EXP(-OFFSET('Forecasts Aggregate'!$C$58,$C76-$C$17,MATCH(BI$16,Ages,1))),\"\")","v":""},{"$f":"IF($C76<>\"\",BJ76*EXP(-OFFSET('Forecasts Aggregate'!$C$58,$C76-$C$17,MATCH(BJ$16,Ages,1))),\"\")","v":""},{"$f":"IF($C76<>\"\",BK76*EXP(-OFFSET('Forecasts Aggregate'!$C$58,$C76-$C$17,MATCH(BK$16,Ages,1))),\"\")","v":""},{"$f":"IF($C76<>\"\",BL76*EXP(-OFFSET('Forecasts Aggregate'!$C$58,$C76-$C$17,MATCH(BL$16,Ages,1))),\"\")","v":""},{"$f":"IF($C76<>\"\",BM76*EXP(-OFFSET('Forecasts Aggregate'!$C$58,$C76-$C$17,MATCH(BM$16,Ages,1))),\"\")","v":""},{"$f":"IF($C76<>\"\",BN76*EXP(-OFFSET('Forecasts Aggregate'!$C$58,$C76-$C$17,MATCH(BN$16,Ages,1))),\"\")","v":""},{"$f":"IF($C76<>\"\",BO76*EXP(-OFFSET('Forecasts Aggregate'!$C$58,$C76-$C$17,MATCH(BO$16,Ages,1))),\"\")","v":""},{"$f":"IF($C76<>\"\",BP76*EXP(-OFFSET('Forecasts Aggregate'!$C$58,$C76-$C$17,MATCH(BP$16,Ages,1))),\"\")","v":""},{"$f":"IF($C76<>\"\",BQ76*EXP(-OFFSET('Forecasts Aggregate'!$C$58,$C76-$C$17,MATCH(BQ$16,Ages,1))),\"\")","v":""},{"$f":"IF($C76<>\"\",BR76*EXP(-OFFSET('Forecasts Aggregate'!$C$58,$C76-$C$17,MATCH(BR$16,Ages,1))),\"\")","v":""},{"$f":"IF($C76<>\"\",BS76*EXP(-OFFSET('Forecasts Aggregate'!$C$58,$C76-$C$17,MATCH(BS$16,Ages,1))),\"\")","v":""},{"$f":"IF($C76<>\"\",BT76*EXP(-OFFSET('Forecasts Aggregate'!$C$58,$C76-$C$17,MATCH(BT$16,Ages,1))),\"\")","v":""},{"$f":"IF($C76<>\"\",BU76*EXP(-OFFSET('Forecasts Aggregate'!$C$58,$C76-$C$17,MATCH(BU$16,Ages,1))),\"\")","v":""},{"$f":"IF($C76<>\"\",BV76*EXP(-OFFSET('Forecasts Aggregate'!$C$58,$C76-$C$17,MATCH(BV$16,Ages,1))),\"\")","v":""},{"$f":"IF($C76<>\"\",BW76*EXP(-OFFSET('Forecasts Aggregate'!$C$58,$C76-$C$17,MATCH(BW$16,Ages,1))),\"\")","v":""},{"$f":"IF($C76<>\"\",BX76*EXP(-OFFSET('Forecasts Aggregate'!$C$58,$C76-$C$17,MATCH(BX$16,Ages,1))),\"\")","v":""},{"$f":"IF($C76<>\"\",BY76*EXP(-OFFSET('Forecasts Aggregate'!$C$58,$C76-$C$17,MATCH(BY$16,Ages,1))),\"\")","v":""},{"$f":"IF($C76<>\"\",BZ76*EXP(-OFFSET('Forecasts Aggregate'!$C$58,$C76-$C$17,MATCH(BZ$16,Ages,1))),\"\")","v":""},{"$f":"IF($C76<>\"\",CA76*EXP(-OFFSET('Forecasts Aggregate'!$C$58,$C76-$C$17,MATCH(CA$16,Ages,1))),\"\")","v":""},{"$f":"IF($C76<>\"\",CB76*EXP(-OFFSET('Forecasts Aggregate'!$C$58,$C76-$C$17,MATCH(CB$16,Ages,1))),\"\")","v":""},{"$f":"IF($C76<>\"\",CC76*EXP(-OFFSET('Forecasts Aggregate'!$C$58,$C76-$C$17,MATCH(CC$16,Ages,1))),\"\")","v":""},{"$f":"IF($C76<>\"\",CD76*EXP(-OFFSET('Forecasts Aggregate'!$C$58,$C76-$C$17,MATCH(CD$16,Ages,1))),\"\")","v":""},{"$f":"IF($C76<>\"\",CE76*EXP(-OFFSET('Forecasts Aggregate'!$C$58,$C76-$C$17,MATCH(CE$16,Ages,1))),\"\")","v":""},{"$f":"IF($C76<>\"\",CF76*EXP(-OFFSET('Forecasts Aggregate'!$C$58,$C76-$C$17,MATCH(CF$16,Ages,1))),\"\")","v":""},{"$f":"IF($C76<>\"\",CG76*EXP(-OFFSET('Forecasts Aggregate'!$C$58,$C76-$C$17,MATCH(CG$16,Ages,1))),\"\")","v":""},{"$f":"IF($C76<>\"\",CH76*EXP(-OFFSET('Forecasts Aggregate'!$C$58,$C76-$C$17,MATCH(CH$16,Ages,1))),\"\")","v":""},{"$f":"IF($C76<>\"\",CI76*EXP(-OFFSET('Forecasts Aggregate'!$C$58,$C76-$C$17,MATCH(CI$16,Ages,1))),\"\")","v":""},{"$f":"IF($C76<>\"\",CJ76*EXP(-OFFSET('Forecasts Aggregate'!$C$58,$C76-$C$17,MATCH(CJ$16,Ages,1))),\"\")","v":""},{"$f":"IF($C76<>\"\",CK76*EXP(-OFFSET('Forecasts Aggregate'!$C$58,$C76-$C$17,MATCH(CK$16,Ages,1))),\"\")","v":""},{"$f":"IF($C76<>\"\",CL76*EXP(-OFFSET('Forecasts Aggregate'!$C$58,$C76-$C$17,MATCH(CL$16,Ages,1))),\"\")","v":""},{"$f":"IF($C76<>\"\",CM76*EXP(-OFFSET('Forecasts Aggregate'!$C$58,$C76-$C$17,MATCH(CM$16,Ages,1))),\"\")","v":""},{"$f":"IF($C76<>\"\",CN76*EXP(-OFFSET('Forecasts Aggregate'!$C$58,$C76-$C$17,MATCH(CN$16,Ages,1))),\"\")","v":""},{"$f":"IF($C76<>\"\",CO76*EXP(-OFFSET('Forecasts Aggregate'!$C$58,$C76-$C$17,MATCH(CO$16,Ages,1))),\"\")","v":""},{"$f":"IF($C76<>\"\",CP76*EXP(-OFFSET('Forecasts Aggregate'!$C$58,$C76-$C$17,MATCH(CP$16,Ages,1))),\"\")","v":""},{"$f":"IF($C76<>\"\",CQ76*EXP(-OFFSET('Forecasts Aggregate'!$C$58,$C76-$C$17,MATCH(CQ$16,Ages,1))),\"\")","v":""},{"$f":"IF($C76<>\"\",CR76*EXP(-OFFSET('Forecasts Aggregate'!$C$58,$C76-$C$17,MATCH(CR$16,Ages,1))),\"\")","v":""},{"$f":"IF($C76<>\"\",CS76*EXP(-OFFSET('Forecasts Aggregate'!$C$58,$C76-$C$17,MATCH(CS$16,Ages,1))),\"\")","v":""},{"$f":"IF($C76<>\"\",CT76*EXP(-OFFSET('Forecasts Aggregate'!$C$58,$C76-$C$17,MATCH(CT$16,Ages,1))),\"\")","v":""},{"$f":"IF($C76<>\"\",CU76*EXP(-OFFSET('Forecasts Aggregate'!$C$58,$C76-$C$17,MATCH(CU$16,Ages,1))),\"\")","v":""},{"$f":"IF($C76<>\"\",CV76*EXP(-OFFSET('Forecasts Aggregate'!$C$58,$C76-$C$17,MATCH(CV$16,Ages,1))),\"\")","v":""},{"$f":"IF($C76<>\"\",CW76*EXP(-OFFSET('Forecasts Aggregate'!$C$58,$C76-$C$17,MATCH(CW$16,Ages,1))),\"\")","v":""},{"$f":"IF($C76<>\"\",CX76*EXP(-OFFSET('Forecasts Aggregate'!$C$58,$C76-$C$17,MATCH(CX$16,Ages,1))),\"\")","v":""},{"$f":"IF($C76<>\"\",CY76*EXP(-OFFSET('Forecasts Aggregate'!$C$58,$C76-$C$17,MATCH(CY$16,Ages,1))),\"\")","v":""},{"$f":"IF($C76<>\"\",CZ76*EXP(-OFFSET('Forecasts Aggregate'!$C$58,$C76-$C$17,MATCH(CZ$16,Ages,1))),\"\")","v":""},{"$f":"IF($C76<>\"\",DA76*EXP(-OFFSET('Forecasts Aggregate'!$C$58,$C76-$C$17,MATCH(DA$16,Ages,1))),\"\")","v":""},{"$f":"IF($C76<>\"\",DB76*EXP(-OFFSET('Forecasts Aggregate'!$C$58,$C76-$C$17,MATCH(DB$16,Ages,1))),\"\")","v":""},{"$f":"IF($C76<>\"\",DC76*EXP(-OFFSET('Forecasts Aggregate'!$C$58,$C76-$C$17,MATCH(DC$16,Ages,1))),\"\")","v":""},{"$f":"IF($C76<>\"\",DD76*EXP(-OFFSET('Forecasts Aggregate'!$C$58,$C76-$C$17,MATCH(DD$16,Ages,1))),\"\")","v":""},{"$f":"IF($C76<>\"\",DE76*EXP(-OFFSET('Forecasts Aggregate'!$C$58,$C76-$C$17,MATCH(DE$16,Ages,1))),\"\")","v":""},{"$f":"IF($C76<>\"\",DF76*EXP(-OFFSET('Forecasts Aggregate'!$C$58,$C76-$C$17,MATCH(DF$16,Ages,1))),\"\")","v":""},{"$f":"IF($C76<>\"\",DG76*EXP(-OFFSET('Forecasts Aggregate'!$C$58,$C76-$C$17,MATCH(DG$16,Ages,1))),\"\")","v":""},{"$f":"IF($C76<>\"\",DH76*EXP(-OFFSET('Forecasts Aggregate'!$C$58,$C76-$C$17,MATCH(DH$16,Ages,1))),\"\")","v":""},{"$f":"IF($C76<>\"\",DI76*EXP(-OFFSET('Forecasts Aggregate'!$C$58,$C76-$C$17,MATCH(DI$16,Ages,1))),\"\")","v":""},{"$f":"IF($C76<>\"\",DJ76*EXP(-OFFSET('Forecasts Aggregate'!$C$58,$C76-$C$17,MATCH(DJ$16,Ages,1))),\"\")","v":""},null,"","",""]
[null,null,"","",{"$f":"IF($C77<>\"\",D77*EXP(-OFFSET('Forecasts Aggregate'!$C$58,$C77-$C$17,MATCH(D$16,Ages,1))),\"\")","v":""},{"$f":"IF($C77<>\"\",E77*EXP(-OFFSET('Forecasts Aggregate'!$C$58,$C77-$C$17,MATCH(E$16,Ages,1))),\"\")","v":""},{"$f":"IF($C77<>\"\",F77*EXP(-OFFSET('Forecasts Aggregate'!$C$58,$C77-$C$17,MATCH(F$16,Ages,1))),\"\")","v":""},{"$f":"IF($C77<>\"\",G77*EXP(-OFFSET('Forecasts Aggregate'!$C$58,$C77-$C$17,MATCH(G$16,Ages,1))),\"\")","v":""},{"$f":"IF($C77<>\"\",H77*EXP(-OFFSET('Forecasts Aggregate'!$C$58,$C77-$C$17,MATCH(H$16,Ages,1))),\"\")","v":""},{"$f":"IF($C77<>\"\",I77*EXP(-OFFSET('Forecasts Aggregate'!$C$58,$C77-$C$17,MATCH(I$16,Ages,1))),\"\")","v":""},{"$f":"IF($C77<>\"\",J77*EXP(-OFFSET('Forecasts Aggregate'!$C$58,$C77-$C$17,MATCH(J$16,Ages,1))),\"\")","v":""},{"$f":"IF($C77<>\"\",K77*EXP(-OFFSET('Forecasts Aggregate'!$C$58,$C77-$C$17,MATCH(K$16,Ages,1))),\"\")","v":""},{"$f":"IF($C77<>\"\",L77*EXP(-OFFSET('Forecasts Aggregate'!$C$58,$C77-$C$17,MATCH(L$16,Ages,1))),\"\")","v":""},{"$f":"IF($C77<>\"\",M77*EXP(-OFFSET('Forecasts Aggregate'!$C$58,$C77-$C$17,MATCH(M$16,Ages,1))),\"\")","v":""},{"$f":"IF($C77<>\"\",N77*EXP(-OFFSET('Forecasts Aggregate'!$C$58,$C77-$C$17,MATCH(N$16,Ages,1))),\"\")","v":""},{"$f":"IF($C77<>\"\",O77*EXP(-OFFSET('Forecasts Aggregate'!$C$58,$C77-$C$17,MATCH(O$16,Ages,1))),\"\")","v":""},{"$f":"IF($C77<>\"\",P77*EXP(-OFFSET('Forecasts Aggregate'!$C$58,$C77-$C$17,MATCH(P$16,Ages,1))),\"\")","v":""},{"$f":"IF($C77<>\"\",Q77*EXP(-OFFSET('Forecasts Aggregate'!$C$58,$C77-$C$17,MATCH(Q$16,Ages,1))),\"\")","v":""},{"$f":"IF($C77<>\"\",R77*EXP(-OFFSET('Forecasts Aggregate'!$C$58,$C77-$C$17,MATCH(R$16,Ages,1))),\"\")","v":""},{"$f":"IF($C77<>\"\",S77*EXP(-OFFSET('Forecasts Aggregate'!$C$58,$C77-$C$17,MATCH(S$16,Ages,1))),\"\")","v":""},{"$f":"IF($C77<>\"\",T77*EXP(-OFFSET('Forecasts Aggregate'!$C$58,$C77-$C$17,MATCH(T$16,Ages,1))),\"\")","v":""},{"$f":"IF($C77<>\"\",U77*EXP(-OFFSET('Forecasts Aggregate'!$C$58,$C77-$C$17,MATCH(U$16,Ages,1))),\"\")","v":""},{"$f":"IF($C77<>\"\",V77*EXP(-OFFSET('Forecasts Aggregate'!$C$58,$C77-$C$17,MATCH(V$16,Ages,1))),\"\")","v":""},{"$f":"IF($C77<>\"\",W77*EXP(-OFFSET('Forecasts Aggregate'!$C$58,$C77-$C$17,MATCH(W$16,Ages,1))),\"\")","v":""},{"$f":"IF($C77<>\"\",X77*EXP(-OFFSET('Forecasts Aggregate'!$C$58,$C77-$C$17,MATCH(X$16,Ages,1))),\"\")","v":""},{"$f":"IF($C77<>\"\",Y77*EXP(-OFFSET('Forecasts Aggregate'!$C$58,$C77-$C$17,MATCH(Y$16,Ages,1))),\"\")","v":""},{"$f":"IF($C77<>\"\",Z77*EXP(-OFFSET('Forecasts Aggregate'!$C$58,$C77-$C$17,MATCH(Z$16,Ages,1))),\"\")","v":""},{"$f":"IF($C77<>\"\",AA77*EXP(-OFFSET('Forecasts Aggregate'!$C$58,$C77-$C$17,MATCH(AA$16,Ages,1))),\"\")","v":""},{"$f":"IF($C77<>\"\",AB77*EXP(-OFFSET('Forecasts Aggregate'!$C$58,$C77-$C$17,MATCH(AB$16,Ages,1))),\"\")","v":""},{"$f":"IF($C77<>\"\",AC77*EXP(-OFFSET('Forecasts Aggregate'!$C$58,$C77-$C$17,MATCH(AC$16,Ages,1))),\"\")","v":""},{"$f":"IF($C77<>\"\",AD77*EXP(-OFFSET('Forecasts Aggregate'!$C$58,$C77-$C$17,MATCH(AD$16,Ages,1))),\"\")","v":""},{"$f":"IF($C77<>\"\",AE77*EXP(-OFFSET('Forecasts Aggregate'!$C$58,$C77-$C$17,MATCH(AE$16,Ages,1))),\"\")","v":""},{"$f":"IF($C77<>\"\",AF77*EXP(-OFFSET('Forecasts Aggregate'!$C$58,$C77-$C$17,MATCH(AF$16,Ages,1))),\"\")","v":""},{"$f":"IF($C77<>\"\",AG77*EXP(-OFFSET('Forecasts Aggregate'!$C$58,$C77-$C$17,MATCH(AG$16,Ages,1))),\"\")","v":""},{"$f":"IF($C77<>\"\",AH77*EXP(-OFFSET('Forecasts Aggregate'!$C$58,$C77-$C$17,MATCH(AH$16,Ages,1))),\"\")","v":""},{"$f":"IF($C77<>\"\",AI77*EXP(-OFFSET('Forecasts Aggregate'!$C$58,$C77-$C$17,MATCH(AI$16,Ages,1))),\"\")","v":""},{"$f":"IF($C77<>\"\",AJ77*EXP(-OFFSET('Forecasts Aggregate'!$C$58,$C77-$C$17,MATCH(AJ$16,Ages,1))),\"\")","v":""},{"$f":"IF($C77<>\"\",AK77*EXP(-OFFSET('Forecasts Aggregate'!$C$58,$C77-$C$17,MATCH(AK$16,Ages,1))),\"\")","v":""},{"$f":"IF($C77<>\"\",AL77*EXP(-OFFSET('Forecasts Aggregate'!$C$58,$C77-$C$17,MATCH(AL$16,Ages,1))),\"\")","v":""},{"$f":"IF($C77<>\"\",AM77*EXP(-OFFSET('Forecasts Aggregate'!$C$58,$C77-$C$17,MATCH(AM$16,Ages,1))),\"\")","v":""},{"$f":"IF($C77<>\"\",AN77*EXP(-OFFSET('Forecasts Aggregate'!$C$58,$C77-$C$17,MATCH(AN$16,Ages,1))),\"\")","v":""},{"$f":"IF($C77<>\"\",AO77*EXP(-OFFSET('Forecasts Aggregate'!$C$58,$C77-$C$17,MATCH(AO$16,Ages,1))),\"\")","v":""},{"$f":"IF($C77<>\"\",AP77*EXP(-OFFSET('Forecasts Aggregate'!$C$58,$C77-$C$17,MATCH(AP$16,Ages,1))),\"\")","v":""},{"$f":"IF($C77<>\"\",AQ77*EXP(-OFFSET('Forecasts Aggregate'!$C$58,$C77-$C$17,MATCH(AQ$16,Ages,1))),\"\")","v":""},{"$f":"IF($C77<>\"\",AR77*EXP(-OFFSET('Forecasts Aggregate'!$C$58,$C77-$C$17,MATCH(AR$16,Ages,1))),\"\")","v":""},{"$f":"IF($C77<>\"\",AS77*EXP(-OFFSET('Forecasts Aggregate'!$C$58,$C77-$C$17,MATCH(AS$16,Ages,1))),\"\")","v":""},{"$f":"IF($C77<>\"\",AT77*EXP(-OFFSET('Forecasts Aggregate'!$C$58,$C77-$C$17,MATCH(AT$16,Ages,1))),\"\")","v":""},{"$f":"IF($C77<>\"\",AU77*EXP(-OFFSET('Forecasts Aggregate'!$C$58,$C77-$C$17,MATCH(AU$16,Ages,1))),\"\")","v":""},{"$f":"IF($C77<>\"\",AV77*EXP(-OFFSET('Forecasts Aggregate'!$C$58,$C77-$C$17,MATCH(AV$16,Ages,1))),\"\")","v":""},{"$f":"IF($C77<>\"\",AW77*EXP(-OFFSET('Forecasts Aggregate'!$C$58,$C77-$C$17,MATCH(AW$16,Ages,1))),\"\")","v":""},{"$f":"IF($C77<>\"\",AX77*EXP(-OFFSET('Forecasts Aggregate'!$C$58,$C77-$C$17,MATCH(AX$16,Ages,1))),\"\")","v":""},{"$f":"IF($C77<>\"\",AY77*EXP(-OFFSET('Forecasts Aggregate'!$C$58,$C77-$C$17,MATCH(AY$16,Ages,1))),\"\")","v":""},{"$f":"IF($C77<>\"\",AZ77*EXP(-OFFSET('Forecasts Aggregate'!$C$58,$C77-$C$17,MATCH(AZ$16,Ages,1))),\"\")","v":""},{"$f":"IF($C77<>\"\",BA77*EXP(-OFFSET('Forecasts Aggregate'!$C$58,$C77-$C$17,MATCH(BA$16,Ages,1))),\"\")","v":""},{"$f":"IF($C77<>\"\",BB77*EXP(-OFFSET('Forecasts Aggregate'!$C$58,$C77-$C$17,MATCH(BB$16,Ages,1))),\"\")","v":""},{"$f":"IF($C77<>\"\",BC77*EXP(-OFFSET('Forecasts Aggregate'!$C$58,$C77-$C$17,MATCH(BC$16,Ages,1))),\"\")","v":""},{"$f":"IF($C77<>\"\",BD77*EXP(-OFFSET('Forecasts Aggregate'!$C$58,$C77-$C$17,MATCH(BD$16,Ages,1))),\"\")","v":""},{"$f":"IF($C77<>\"\",BE77*EXP(-OFFSET('Forecasts Aggregate'!$C$58,$C77-$C$17,MATCH(BE$16,Ages,1))),\"\")","v":""},{"$f":"IF($C77<>\"\",BF77*EXP(-OFFSET('Forecasts Aggregate'!$C$58,$C77-$C$17,MATCH(BF$16,Ages,1))),\"\")","v":""},{"$f":"IF($C77<>\"\",BG77*EXP(-OFFSET('Forecasts Aggregate'!$C$58,$C77-$C$17,MATCH(BG$16,Ages,1))),\"\")","v":""},{"$f":"IF($C77<>\"\",BH77*EXP(-OFFSET('Forecasts Aggregate'!$C$58,$C77-$C$17,MATCH(BH$16,Ages,1))),\"\")","v":""},{"$f":"IF($C77<>\"\",BI77*EXP(-OFFSET('Forecasts Aggregate'!$C$58,$C77-$C$17,MATCH(BI$16,Ages,1))),\"\")","v":""},{"$f":"IF($C77<>\"\",BJ77*EXP(-OFFSET('Forecasts Aggregate'!$C$58,$C77-$C$17,MATCH(BJ$16,Ages,1))),\"\")","v":""},{"$f":"IF($C77<>\"\",BK77*EXP(-OFFSET('Forecasts Aggregate'!$C$58,$C77-$C$17,MATCH(BK$16,Ages,1))),\"\")","v":""},{"$f":"IF($C77<>\"\",BL77*EXP(-OFFSET('Forecasts Aggregate'!$C$58,$C77-$C$17,MATCH(BL$16,Ages,1))),\"\")","v":""},{"$f":"IF($C77<>\"\",BM77*EXP(-OFFSET('Forecasts Aggregate'!$C$58,$C77-$C$17,MATCH(BM$16,Ages,1))),\"\")","v":""},{"$f":"IF($C77<>\"\",BN77*EXP(-OFFSET('Forecasts Aggregate'!$C$58,$C77-$C$17,MATCH(BN$16,Ages,1))),\"\")","v":""},{"$f":"IF($C77<>\"\",BO77*EXP(-OFFSET('Forecasts Aggregate'!$C$58,$C77-$C$17,MATCH(BO$16,Ages,1))),\"\")","v":""},{"$f":"IF($C77<>\"\",BP77*EXP(-OFFSET('Forecasts Aggregate'!$C$58,$C77-$C$17,MATCH(BP$16,Ages,1))),\"\")","v":""},{"$f":"IF($C77<>\"\",BQ77*EXP(-OFFSET('Forecasts Aggregate'!$C$58,$C77-$C$17,MATCH(BQ$16,Ages,1))),\"\")","v":""},{"$f":"IF($C77<>\"\",BR77*EXP(-OFFSET('Forecasts Aggregate'!$C$58,$C77-$C$17,MATCH(BR$16,Ages,1))),\"\")","v":""},{"$f":"IF($C77<>\"\",BS77*EXP(-OFFSET('Forecasts Aggregate'!$C$58,$C77-$C$17,MATCH(BS$16,Ages,1))),\"\")","v":""},{"$f":"IF($C77<>\"\",BT77*EXP(-OFFSET('Forecasts Aggregate'!$C$58,$C77-$C$17,MATCH(BT$16,Ages,1))),\"\")","v":""},{"$f":"IF($C77<>\"\",BU77*EXP(-OFFSET('Forecasts Aggregate'!$C$58,$C77-$C$17,MATCH(BU$16,Ages,1))),\"\")","v":""},{"$f":"IF($C77<>\"\",BV77*EXP(-OFFSET('Forecasts Aggregate'!$C$58,$C77-$C$17,MATCH(BV$16,Ages,1))),\"\")","v":""},{"$f":"IF($C77<>\"\",BW77*EXP(-OFFSET('Forecasts Aggregate'!$C$58,$C77-$C$17,MATCH(BW$16,Ages,1))),\"\")","v":""},{"$f":"IF($C77<>\"\",BX77*EXP(-OFFSET('Forecasts Aggregate'!$C$58,$C77-$C$17,MATCH(BX$16,Ages,1))),\"\")","v":""},{"$f":"IF($C77<>\"\",BY77*EXP(-OFFSET('Forecasts Aggregate'!$C$58,$C77-$C$17,MATCH(BY$16,Ages,1))),\"\")","v":""},{"$f":"IF($C77<>\"\",BZ77*EXP(-OFFSET('Forecasts Aggregate'!$C$58,$C77-$C$17,MATCH(BZ$16,Ages,1))),\"\")","v":""},{"$f":"IF($C77<>\"\",CA77*EXP(-OFFSET('Forecasts Aggregate'!$C$58,$C77-$C$17,MATCH(CA$16,Ages,1))),\"\")","v":""},{"$f":"IF($C77<>\"\",CB77*EXP(-OFFSET('Forecasts Aggregate'!$C$58,$C77-$C$17,MATCH(CB$16,Ages,1))),\"\")","v":""},{"$f":"IF($C77<>\"\",CC77*EXP(-OFFSET('Forecasts Aggregate'!$C$58,$C77-$C$17,MATCH(CC$16,Ages,1))),\"\")","v":""},{"$f":"IF($C77<>\"\",CD77*EXP(-OFFSET('Forecasts Aggregate'!$C$58,$C77-$C$17,MATCH(CD$16,Ages,1))),\"\")","v":""},{"$f":"IF($C77<>\"\",CE77*EXP(-OFFSET('Forecasts Aggregate'!$C$58,$C77-$C$17,MATCH(CE$16,Ages,1))),\"\")","v":""},{"$f":"IF($C77<>\"\",CF77*EXP(-OFFSET('Forecasts Aggregate'!$C$58,$C77-$C$17,MATCH(CF$16,Ages,1))),\"\")","v":""},{"$f":"IF($C77<>\"\",CG77*EXP(-OFFSET('Forecasts Aggregate'!$C$58,$C77-$C$17,MATCH(CG$16,Ages,1))),\"\")","v":""},{"$f":"IF($C77<>\"\",CH77*EXP(-OFFSET('Forecasts Aggregate'!$C$58,$C77-$C$17,MATCH(CH$16,Ages,1))),\"\")","v":""},{"$f":"IF($C77<>\"\",CI77*EXP(-OFFSET('Forecasts Aggregate'!$C$58,$C77-$C$17,MATCH(CI$16,Ages,1))),\"\")","v":""},{"$f":"IF($C77<>\"\",CJ77*EXP(-OFFSET('Forecasts Aggregate'!$C$58,$C77-$C$17,MATCH(CJ$16,Ages,1))),\"\")","v":""},{"$f":"IF($C77<>\"\",CK77*EXP(-OFFSET('Forecasts Aggregate'!$C$58,$C77-$C$17,MATCH(CK$16,Ages,1))),\"\")","v":""},{"$f":"IF($C77<>\"\",CL77*EXP(-OFFSET('Forecasts Aggregate'!$C$58,$C77-$C$17,MATCH(CL$16,Ages,1))),\"\")","v":""},{"$f":"IF($C77<>\"\",CM77*EXP(-OFFSET('Forecasts Aggregate'!$C$58,$C77-$C$17,MATCH(CM$16,Ages,1))),\"\")","v":""},{"$f":"IF($C77<>\"\",CN77*EXP(-OFFSET('Forecasts Aggregate'!$C$58,$C77-$C$17,MATCH(CN$16,Ages,1))),\"\")","v":""},{"$f":"IF($C77<>\"\",CO77*EXP(-OFFSET('Forecasts Aggregate'!$C$58,$C77-$C$17,MATCH(CO$16,Ages,1))),\"\")","v":""},{"$f":"IF($C77<>\"\",CP77*EXP(-OFFSET('Forecasts Aggregate'!$C$58,$C77-$C$17,MATCH(CP$16,Ages,1))),\"\")","v":""},{"$f":"IF($C77<>\"\",CQ77*EXP(-OFFSET('Forecasts Aggregate'!$C$58,$C77-$C$17,MATCH(CQ$16,Ages,1))),\"\")","v":""},{"$f":"IF($C77<>\"\",CR77*EXP(-OFFSET('Forecasts Aggregate'!$C$58,$C77-$C$17,MATCH(CR$16,Ages,1))),\"\")","v":""},{"$f":"IF($C77<>\"\",CS77*EXP(-OFFSET('Forecasts Aggregate'!$C$58,$C77-$C$17,MATCH(CS$16,Ages,1))),\"\")","v":""},{"$f":"IF($C77<>\"\",CT77*EXP(-OFFSET('Forecasts Aggregate'!$C$58,$C77-$C$17,MATCH(CT$16,Ages,1))),\"\")","v":""},{"$f":"IF($C77<>\"\",CU77*EXP(-OFFSET('Forecasts Aggregate'!$C$58,$C77-$C$17,MATCH(CU$16,Ages,1))),\"\")","v":""},{"$f":"IF($C77<>\"\",CV77*EXP(-OFFSET('Forecasts Aggregate'!$C$58,$C77-$C$17,MATCH(CV$16,Ages,1))),\"\")","v":""},{"$f":"IF($C77<>\"\",CW77*EXP(-OFFSET('Forecasts Aggregate'!$C$58,$C77-$C$17,MATCH(CW$16,Ages,1))),\"\")","v":""},{"$f":"IF($C77<>\"\",CX77*EXP(-OFFSET('Forecasts Aggregate'!$C$58,$C77-$C$17,MATCH(CX$16,Ages,1))),\"\")","v":""},{"$f":"IF($C77<>\"\",CY77*EXP(-OFFSET('Forecasts Aggregate'!$C$58,$C77-$C$17,MATCH(CY$16,Ages,1))),\"\")","v":""},{"$f":"IF($C77<>\"\",CZ77*EXP(-OFFSET('Forecasts Aggregate'!$C$58,$C77-$C$17,MATCH(CZ$16,Ages,1))),\"\")","v":""},{"$f":"IF($C77<>\"\",DA77*EXP(-OFFSET('Forecasts Aggregate'!$C$58,$C77-$C$17,MATCH(DA$16,Ages,1))),\"\")","v":""},{"$f":"IF($C77<>\"\",DB77*EXP(-OFFSET('Forecasts Aggregate'!$C$58,$C77-$C$17,MATCH(DB$16,Ages,1))),\"\")","v":""},{"$f":"IF($C77<>\"\",DC77*EXP(-OFFSET('Forecasts Aggregate'!$C$58,$C77-$C$17,MATCH(DC$16,Ages,1))),\"\")","v":""},{"$f":"IF($C77<>\"\",DD77*EXP(-OFFSET('Forecasts Aggregate'!$C$58,$C77-$C$17,MATCH(DD$16,Ages,1))),\"\")","v":""},{"$f":"IF($C77<>\"\",DE77*EXP(-OFFSET('Forecasts Aggregate'!$C$58,$C77-$C$17,MATCH(DE$16,Ages,1))),\"\")","v":""},{"$f":"IF($C77<>\"\",DF77*EXP(-OFFSET('Forecasts Aggregate'!$C$58,$C77-$C$17,MATCH(DF$16,Ages,1))),\"\")","v":""},{"$f":"IF($C77<>\"\",DG77*EXP(-OFFSET('Forecasts Aggregate'!$C$58,$C77-$C$17,MATCH(DG$16,Ages,1))),\"\")","v":""},{"$f":"IF($C77<>\"\",DH77*EXP(-OFFSET('Forecasts Aggregate'!$C$58,$C77-$C$17,MATCH(DH$16,Ages,1))),\"\")","v":""},{"$f":"IF($C77<>\"\",DI77*EXP(-OFFSET('Forecasts Aggregate'!$C$58,$C77-$C$17,MATCH(DI$16,Ages,1))),\"\")","v":""},{"$f":"IF($C77<>\"\",DJ77*EXP(-OFFSET('Forecasts Aggregate'!$C$58,$C77-$C$17,MATCH(DJ$16,Ages,1))),\"\")","v":""},null,"","",""]
[null,null,"","",{"$f":"IF($C78<>\"\",D78*EXP(-OFFSET('Forecasts Aggregate'!$C$58,$C78-$C$17,MATCH(D$16,Ages,1))),\"\")","v":""},{"$f":"IF($C78<>\"\",E78*EXP(-OFFSET('Forecasts Aggregate'!$C$58,$C78-$C$17,MATCH(E$16,Ages,1))),\"\")","v":""},{"$f":"IF($C78<>\"\",F78*EXP(-OFFSET('Forecasts Aggregate'!$C$58,$C78-$C$17,MATCH(F$16,Ages,1))),\"\")","v":""},{"$f":"IF($C78<>\"\",G78*EXP(-OFFSET('Forecasts Aggregate'!$C$58,$C78-$C$17,MATCH(G$16,Ages,1))),\"\")","v":""},{"$f":"IF($C78<>\"\",H78*EXP(-OFFSET('Forecasts Aggregate'!$C$58,$C78-$C$17,MATCH(H$16,Ages,1))),\"\")","v":""},{"$f":"IF($C78<>\"\",I78*EXP(-OFFSET('Forecasts Aggregate'!$C$58,$C78-$C$17,MATCH(I$16,Ages,1))),\"\")","v":""},{"$f":"IF($C78<>\"\",J78*EXP(-OFFSET('Forecasts Aggregate'!$C$58,$C78-$C$17,MATCH(J$16,Ages,1))),\"\")","v":""},{"$f":"IF($C78<>\"\",K78*EXP(-OFFSET('Forecasts Aggregate'!$C$58,$C78-$C$17,MATCH(K$16,Ages,1))),\"\")","v":""},{"$f":"IF($C78<>\"\",L78*EXP(-OFFSET('Forecasts Aggregate'!$C$58,$C78-$C$17,MATCH(L$16,Ages,1))),\"\")","v":""},{"$f":"IF($C78<>\"\",M78*EXP(-OFFSET('Forecasts Aggregate'!$C$58,$C78-$C$17,MATCH(M$16,Ages,1))),\"\")","v":""},{"$f":"IF($C78<>\"\",N78*EXP(-OFFSET('Forecasts Aggregate'!$C$58,$C78-$C$17,MATCH(N$16,Ages,1))),\"\")","v":""},{"$f":"IF($C78<>\"\",O78*EXP(-OFFSET('Forecasts Aggregate'!$C$58,$C78-$C$17,MATCH(O$16,Ages,1))),\"\")","v":""},{"$f":"IF($C78<>\"\",P78*EXP(-OFFSET('Forecasts Aggregate'!$C$58,$C78-$C$17,MATCH(P$16,Ages,1))),\"\")","v":""},{"$f":"IF($C78<>\"\",Q78*EXP(-OFFSET('Forecasts Aggregate'!$C$58,$C78-$C$17,MATCH(Q$16,Ages,1))),\"\")","v":""},{"$f":"IF($C78<>\"\",R78*EXP(-OFFSET('Forecasts Aggregate'!$C$58,$C78-$C$17,MATCH(R$16,Ages,1))),\"\")","v":""},{"$f":"IF($C78<>\"\",S78*EXP(-OFFSET('Forecasts Aggregate'!$C$58,$C78-$C$17,MATCH(S$16,Ages,1))),\"\")","v":""},{"$f":"IF($C78<>\"\",T78*EXP(-OFFSET('Forecasts Aggregate'!$C$58,$C78-$C$17,MATCH(T$16,Ages,1))),\"\")","v":""},{"$f":"IF($C78<>\"\",U78*EXP(-OFFSET('Forecasts Aggregate'!$C$58,$C78-$C$17,MATCH(U$16,Ages,1))),\"\")","v":""},{"$f":"IF($C78<>\"\",V78*EXP(-OFFSET('Forecasts Aggregate'!$C$58,$C78-$C$17,MATCH(V$16,Ages,1))),\"\")","v":""},{"$f":"IF($C78<>\"\",W78*EXP(-OFFSET('Forecasts Aggregate'!$C$58,$C78-$C$17,MATCH(W$16,Ages,1))),\"\")","v":""},{"$f":"IF($C78<>\"\",X78*EXP(-OFFSET('Forecasts Aggregate'!$C$58,$C78-$C$17,MATCH(X$16,Ages,1))),\"\")","v":""},{"$f":"IF($C78<>\"\",Y78*EXP(-OFFSET('Forecasts Aggregate'!$C$58,$C78-$C$17,MATCH(Y$16,Ages,1))),\"\")","v":""},{"$f":"IF($C78<>\"\",Z78*EXP(-OFFSET('Forecasts Aggregate'!$C$58,$C78-$C$17,MATCH(Z$16,Ages,1))),\"\")","v":""},{"$f":"IF($C78<>\"\",AA78*EXP(-OFFSET('Forecasts Aggregate'!$C$58,$C78-$C$17,MATCH(AA$16,Ages,1))),\"\")","v":""},{"$f":"IF($C78<>\"\",AB78*EXP(-OFFSET('Forecasts Aggregate'!$C$58,$C78-$C$17,MATCH(AB$16,Ages,1))),\"\")","v":""},{"$f":"IF($C78<>\"\",AC78*EXP(-OFFSET('Forecasts Aggregate'!$C$58,$C78-$C$17,MATCH(AC$16,Ages,1))),\"\")","v":""},{"$f":"IF($C78<>\"\",AD78*EXP(-OFFSET('Forecasts Aggregate'!$C$58,$C78-$C$17,MATCH(AD$16,Ages,1))),\"\")","v":""},{"$f":"IF($C78<>\"\",AE78*EXP(-OFFSET('Forecasts Aggregate'!$C$58,$C78-$C$17,MATCH(AE$16,Ages,1))),\"\")","v":""},{"$f":"IF($C78<>\"\",AF78*EXP(-OFFSET('Forecasts Aggregate'!$C$58,$C78-$C$17,MATCH(AF$16,Ages,1))),\"\")","v":""},{"$f":"IF($C78<>\"\",AG78*EXP(-OFFSET('Forecasts Aggregate'!$C$58,$C78-$C$17,MATCH(AG$16,Ages,1))),\"\")","v":""},{"$f":"IF($C78<>\"\",AH78*EXP(-OFFSET('Forecasts Aggregate'!$C$58,$C78-$C$17,MATCH(AH$16,Ages,1))),\"\")","v":""},{"$f":"IF($C78<>\"\",AI78*EXP(-OFFSET('Forecasts Aggregate'!$C$58,$C78-$C$17,MATCH(AI$16,Ages,1))),\"\")","v":""},{"$f":"IF($C78<>\"\",AJ78*EXP(-OFFSET('Forecasts Aggregate'!$C$58,$C78-$C$17,MATCH(AJ$16,Ages,1))),\"\")","v":""},{"$f":"IF($C78<>\"\",AK78*EXP(-OFFSET('Forecasts Aggregate'!$C$58,$C78-$C$17,MATCH(AK$16,Ages,1))),\"\")","v":""},{"$f":"IF($C78<>\"\",AL78*EXP(-OFFSET('Forecasts Aggregate'!$C$58,$C78-$C$17,MATCH(AL$16,Ages,1))),\"\")","v":""},{"$f":"IF($C78<>\"\",AM78*EXP(-OFFSET('Forecasts Aggregate'!$C$58,$C78-$C$17,MATCH(AM$16,Ages,1))),\"\")","v":""},{"$f":"IF($C78<>\"\",AN78*EXP(-OFFSET('Forecasts Aggregate'!$C$58,$C78-$C$17,MATCH(AN$16,Ages,1))),\"\")","v":""},{"$f":"IF($C78<>\"\",AO78*EXP(-OFFSET('Forecasts Aggregate'!$C$58,$C78-$C$17,MATCH(AO$16,Ages,1))),\"\")","v":""},{"$f":"IF($C78<>\"\",AP78*EXP(-OFFSET('Forecasts Aggregate'!$C$58,$C78-$C$17,MATCH(AP$16,Ages,1))),\"\")","v":""},{"$f":"IF($C78<>\"\",AQ78*EXP(-OFFSET('Forecasts Aggregate'!$C$58,$C78-$C$17,MATCH(AQ$16,Ages,1))),\"\")","v":""},{"$f":"IF($C78<>\"\",AR78*EXP(-OFFSET('Forecasts Aggregate'!$C$58,$C78-$C$17,MATCH(AR$16,Ages,1))),\"\")","v":""},{"$f":"IF($C78<>\"\",AS78*EXP(-OFFSET('Forecasts Aggregate'!$C$58,$C78-$C$17,MATCH(AS$16,Ages,1))),\"\")","v":""},{"$f":"IF($C78<>\"\",AT78*EXP(-OFFSET('Forecasts Aggregate'!$C$58,$C78-$C$17,MATCH(AT$16,Ages,1))),\"\")","v":""},{"$f":"IF($C78<>\"\",AU78*EXP(-OFFSET('Forecasts Aggregate'!$C$58,$C78-$C$17,MATCH(AU$16,Ages,1))),\"\")","v":""},{"$f":"IF($C78<>\"\",AV78*EXP(-OFFSET('Forecasts Aggregate'!$C$58,$C78-$C$17,MATCH(AV$16,Ages,1))),\"\")","v":""},{"$f":"IF($C78<>\"\",AW78*EXP(-OFFSET('Forecasts Aggregate'!$C$58,$C78-$C$17,MATCH(AW$16,Ages,1))),\"\")","v":""},{"$f":"IF($C78<>\"\",AX78*EXP(-OFFSET('Forecasts Aggregate'!$C$58,$C78-$C$17,MATCH(AX$16,Ages,1))),\"\")","v":""},{"$f":"IF($C78<>\"\",AY78*EXP(-OFFSET('Forecasts Aggregate'!$C$58,$C78-$C$17,MATCH(AY$16,Ages,1))),\"\")","v":""},{"$f":"IF($C78<>\"\",AZ78*EXP(-OFFSET('Forecasts Aggregate'!$C$58,$C78-$C$17,MATCH(AZ$16,Ages,1))),\"\")","v":""},{"$f":"IF($C78<>\"\",BA78*EXP(-OFFSET('Forecasts Aggregate'!$C$58,$C78-$C$17,MATCH(BA$16,Ages,1))),\"\")","v":""},{"$f":"IF($C78<>\"\",BB78*EXP(-OFFSET('Forecasts Aggregate'!$C$58,$C78-$C$17,MATCH(BB$16,Ages,1))),\"\")","v":""},{"$f":"IF($C78<>\"\",BC78*EXP(-OFFSET('Forecasts Aggregate'!$C$58,$C78-$C$17,MATCH(BC$16,Ages,1))),\"\")","v":""},{"$f":"IF($C78<>\"\",BD78*EXP(-OFFSET('Forecasts Aggregate'!$C$58,$C78-$C$17,MATCH(BD$16,Ages,1))),\"\")","v":""},{"$f":"IF($C78<>\"\",BE78*EXP(-OFFSET('Forecasts Aggregate'!$C$58,$C78-$C$17,MATCH(BE$16,Ages,1))),\"\")","v":""},{"$f":"IF($C78<>\"\",BF78*EXP(-OFFSET('Forecasts Aggregate'!$C$58,$C78-$C$17,MATCH(BF$16,Ages,1))),\"\")","v":""},{"$f":"IF($C78<>\"\",BG78*EXP(-OFFSET('Forecasts Aggregate'!$C$58,$C78-$C$17,MATCH(BG$16,Ages,1))),\"\")","v":""},{"$f":"IF($C78<>\"\",BH78*EXP(-OFFSET('Forecasts Aggregate'!$C$58,$C78-$C$17,MATCH(BH$16,Ages,1))),\"\")","v":""},{"$f":"IF($C78<>\"\",BI78*EXP(-OFFSET('Forecasts Aggregate'!$C$58,$C78-$C$17,MATCH(BI$16,Ages,1))),\"\")","v":""},{"$f":"IF($C78<>\"\",BJ78*EXP(-OFFSET('Forecasts Aggregate'!$C$58,$C78-$C$17,MATCH(BJ$16,Ages,1))),\"\")","v":""},{"$f":"IF($C78<>\"\",BK78*EXP(-OFFSET('Forecasts Aggregate'!$C$58,$C78-$C$17,MATCH(BK$16,Ages,1))),\"\")","v":""},{"$f":"IF($C78<>\"\",BL78*EXP(-OFFSET('Forecasts Aggregate'!$C$58,$C78-$C$17,MATCH(BL$16,Ages,1))),\"\")","v":""},{"$f":"IF($C78<>\"\",BM78*EXP(-OFFSET('Forecasts Aggregate'!$C$58,$C78-$C$17,MATCH(BM$16,Ages,1))),\"\")","v":""},{"$f":"IF($C78<>\"\",BN78*EXP(-OFFSET('Forecasts Aggregate'!$C$58,$C78-$C$17,MATCH(BN$16,Ages,1))),\"\")","v":""},{"$f":"IF($C78<>\"\",BO78*EXP(-OFFSET('Forecasts Aggregate'!$C$58,$C78-$C$17,MATCH(BO$16,Ages,1))),\"\")","v":""},{"$f":"IF($C78<>\"\",BP78*EXP(-OFFSET('Forecasts Aggregate'!$C$58,$C78-$C$17,MATCH(BP$16,Ages,1))),\"\")","v":""},{"$f":"IF($C78<>\"\",BQ78*EXP(-OFFSET('Forecasts Aggregate'!$C$58,$C78-$C$17,MATCH(BQ$16,Ages,1))),\"\")","v":""},{"$f":"IF($C78<>\"\",BR78*EXP(-OFFSET('Forecasts Aggregate'!$C$58,$C78-$C$17,MATCH(BR$16,Ages,1))),\"\")","v":""},{"$f":"IF($C78<>\"\",BS78*EXP(-OFFSET('Forecasts Aggregate'!$C$58,$C78-$C$17,MATCH(BS$16,Ages,1))),\"\")","v":""},{"$f":"IF($C78<>\"\",BT78*EXP(-OFFSET('Forecasts Aggregate'!$C$58,$C78-$C$17,MATCH(BT$16,Ages,1))),\"\")","v":""},{"$f":"IF($C78<>\"\",BU78*EXP(-OFFSET('Forecasts Aggregate'!$C$58,$C78-$C$17,MATCH(BU$16,Ages,1))),\"\")","v":""},{"$f":"IF($C78<>\"\",BV78*EXP(-OFFSET('Forecasts Aggregate'!$C$58,$C78-$C$17,MATCH(BV$16,Ages,1))),\"\")","v":""},{"$f":"IF($C78<>\"\",BW78*EXP(-OFFSET('Forecasts Aggregate'!$C$58,$C78-$C$17,MATCH(BW$16,Ages,1))),\"\")","v":""},{"$f":"IF($C78<>\"\",BX78*EXP(-OFFSET('Forecasts Aggregate'!$C$58,$C78-$C$17,MATCH(BX$16,Ages,1))),\"\")","v":""},{"$f":"IF($C78<>\"\",BY78*EXP(-OFFSET('Forecasts Aggregate'!$C$58,$C78-$C$17,MATCH(BY$16,Ages,1))),\"\")","v":""},{"$f":"IF($C78<>\"\",BZ78*EXP(-OFFSET('Forecasts Aggregate'!$C$58,$C78-$C$17,MATCH(BZ$16,Ages,1))),\"\")","v":""},{"$f":"IF($C78<>\"\",CA78*EXP(-OFFSET('Forecasts Aggregate'!$C$58,$C78-$C$17,MATCH(CA$16,Ages,1))),\"\")","v":""},{"$f":"IF($C78<>\"\",CB78*EXP(-OFFSET('Forecasts Aggregate'!$C$58,$C78-$C$17,MATCH(CB$16,Ages,1))),\"\")","v":""},{"$f":"IF($C78<>\"\",CC78*EXP(-OFFSET('Forecasts Aggregate'!$C$58,$C78-$C$17,MATCH(CC$16,Ages,1))),\"\")","v":""},{"$f":"IF($C78<>\"\",CD78*EXP(-OFFSET('Forecasts Aggregate'!$C$58,$C78-$C$17,MATCH(CD$16,Ages,1))),\"\")","v":""},{"$f":"IF($C78<>\"\",CE78*EXP(-OFFSET('Forecasts Aggregate'!$C$58,$C78-$C$17,MATCH(CE$16,Ages,1))),\"\")","v":""},{"$f":"IF($C78<>\"\",CF78*EXP(-OFFSET('Forecasts Aggregate'!$C$58,$C78-$C$17,MATCH(CF$16,Ages,1))),\"\")","v":""},{"$f":"IF($C78<>\"\",CG78*EXP(-OFFSET('Forecasts Aggregate'!$C$58,$C78-$C$17,MATCH(CG$16,Ages,1))),\"\")","v":""},{"$f":"IF($C78<>\"\",CH78*EXP(-OFFSET('Forecasts Aggregate'!$C$58,$C78-$C$17,MATCH(CH$16,Ages,1))),\"\")","v":""},{"$f":"IF($C78<>\"\",CI78*EXP(-OFFSET('Forecasts Aggregate'!$C$58,$C78-$C$17,MATCH(CI$16,Ages,1))),\"\")","v":""},{"$f":"IF($C78<>\"\",CJ78*EXP(-OFFSET('Forecasts Aggregate'!$C$58,$C78-$C$17,MATCH(CJ$16,Ages,1))),\"\")","v":""},{"$f":"IF($C78<>\"\",CK78*EXP(-OFFSET('Forecasts Aggregate'!$C$58,$C78-$C$17,MATCH(CK$16,Ages,1))),\"\")","v":""},{"$f":"IF($C78<>\"\",CL78*EXP(-OFFSET('Forecasts Aggregate'!$C$58,$C78-$C$17,MATCH(CL$16,Ages,1))),\"\")","v":""},{"$f":"IF($C78<>\"\",CM78*EXP(-OFFSET('Forecasts Aggregate'!$C$58,$C78-$C$17,MATCH(CM$16,Ages,1))),\"\")","v":""},{"$f":"IF($C78<>\"\",CN78*EXP(-OFFSET('Forecasts Aggregate'!$C$58,$C78-$C$17,MATCH(CN$16,Ages,1))),\"\")","v":""},{"$f":"IF($C78<>\"\",CO78*EXP(-OFFSET('Forecasts Aggregate'!$C$58,$C78-$C$17,MATCH(CO$16,Ages,1))),\"\")","v":""},{"$f":"IF($C78<>\"\",CP78*EXP(-OFFSET('Forecasts Aggregate'!$C$58,$C78-$C$17,MATCH(CP$16,Ages,1))),\"\")","v":""},{"$f":"IF($C78<>\"\",CQ78*EXP(-OFFSET('Forecasts Aggregate'!$C$58,$C78-$C$17,MATCH(CQ$16,Ages,1))),\"\")","v":""},{"$f":"IF($C78<>\"\",CR78*EXP(-OFFSET('Forecasts Aggregate'!$C$58,$C78-$C$17,MATCH(CR$16,Ages,1))),\"\")","v":""},{"$f":"IF($C78<>\"\",CS78*EXP(-OFFSET('Forecasts Aggregate'!$C$58,$C78-$C$17,MATCH(CS$16,Ages,1))),\"\")","v":""},{"$f":"IF($C78<>\"\",CT78*EXP(-OFFSET('Forecasts Aggregate'!$C$58,$C78-$C$17,MATCH(CT$16,Ages,1))),\"\")","v":""},{"$f":"IF($C78<>\"\",CU78*EXP(-OFFSET('Forecasts Aggregate'!$C$58,$C78-$C$17,MATCH(CU$16,Ages,1))),\"\")","v":""},{"$f":"IF($C78<>\"\",CV78*EXP(-OFFSET('Forecasts Aggregate'!$C$58,$C78-$C$17,MATCH(CV$16,Ages,1))),\"\")","v":""},{"$f":"IF($C78<>\"\",CW78*EXP(-OFFSET('Forecasts Aggregate'!$C$58,$C78-$C$17,MATCH(CW$16,Ages,1))),\"\")","v":""},{"$f":"IF($C78<>\"\",CX78*EXP(-OFFSET('Forecasts Aggregate'!$C$58,$C78-$C$17,MATCH(CX$16,Ages,1))),\"\")","v":""},{"$f":"IF($C78<>\"\",CY78*EXP(-OFFSET('Forecasts Aggregate'!$C$58,$C78-$C$17,MATCH(CY$16,Ages,1))),\"\")","v":""},{"$f":"IF($C78<>\"\",CZ78*EXP(-OFFSET('Forecasts Aggregate'!$C$58,$C78-$C$17,MATCH(CZ$16,Ages,1))),\"\")","v":""},{"$f":"IF($C78<>\"\",DA78*EXP(-OFFSET('Forecasts Aggregate'!$C$58,$C78-$C$17,MATCH(DA$16,Ages,1))),\"\")","v":""},{"$f":"IF($C78<>\"\",DB78*EXP(-OFFSET('Forecasts Aggregate'!$C$58,$C78-$C$17,MATCH(DB$16,Ages,1))),\"\")","v":""},{"$f":"IF($C78<>\"\",DC78*EXP(-OFFSET('Forecasts Aggregate'!$C$58,$C78-$C$17,MATCH(DC$16,Ages,1))),\"\")","v":""},{"$f":"IF($C78<>\"\",DD78*EXP(-OFFSET('Forecasts Aggregate'!$C$58,$C78-$C$17,MATCH(DD$16,Ages,1))),\"\")","v":""},{"$f":"IF($C78<>\"\",DE78*EXP(-OFFSET('Forecasts Aggregate'!$C$58,$C78-$C$17,MATCH(DE$16,Ages,1))),\"\")","v":""},{"$f":"IF($C78<>\"\",DF78*EXP(-OFFSET('Forecasts Aggregate'!$C$58,$C78-$C$17,MATCH(DF$16,Ages,1))),\"\")","v":""},{"$f":"IF($C78<>\"\",DG78*EXP(-OFFSET('Forecasts Aggregate'!$C$58,$C78-$C$17,MATCH(DG$16,Ages,1))),\"\")","v":""},{"$f":"IF($C78<>\"\",DH78*EXP(-OFFSET('Forecasts Aggregate'!$C$58,$C78-$C$17,MATCH(DH$16,Ages,1))),\"\")","v":""},{"$f":"IF($C78<>\"\",DI78*EXP(-OFFSET('Forecasts Aggregate'!$C$58,$C78-$C$17,MATCH(DI$16,Ages,1))),\"\")","v":""},{"$f":"IF($C78<>\"\",DJ78*EXP(-OFFSET('Forecasts Aggregate'!$C$58,$C78-$C$17,MATCH(DJ$16,Ages,1))),\"\")","v":""},null,"","",""]
[null,null,"","",{"$f":"IF($C79<>\"\",D79*EXP(-OFFSET('Forecasts Aggregate'!$C$58,$C79-$C$17,MATCH(D$16,Ages,1))),\"\")","v":""},{"$f":"IF($C79<>\"\",E79*EXP(-OFFSET('Forecasts Aggregate'!$C$58,$C79-$C$17,MATCH(E$16,Ages,1))),\"\")","v":""},{"$f":"IF($C79<>\"\",F79*EXP(-OFFSET('Forecasts Aggregate'!$C$58,$C79-$C$17,MATCH(F$16,Ages,1))),\"\")","v":""},{"$f":"IF($C79<>\"\",G79*EXP(-OFFSET('Forecasts Aggregate'!$C$58,$C79-$C$17,MATCH(G$16,Ages,1))),\"\")","v":""},{"$f":"IF($C79<>\"\",H79*EXP(-OFFSET('Forecasts Aggregate'!$C$58,$C79-$C$17,MATCH(H$16,Ages,1))),\"\")","v":""},{"$f":"IF($C79<>\"\",I79*EXP(-OFFSET('Forecasts Aggregate'!$C$58,$C79-$C$17,MATCH(I$16,Ages,1))),\"\")","v":""},{"$f":"IF($C79<>\"\",J79*EXP(-OFFSET('Forecasts Aggregate'!$C$58,$C79-$C$17,MATCH(J$16,Ages,1))),\"\")","v":""},{"$f":"IF($C79<>\"\",K79*EXP(-OFFSET('Forecasts Aggregate'!$C$58,$C79-$C$17,MATCH(K$16,Ages,1))),\"\")","v":""},{"$f":"IF($C79<>\"\",L79*EXP(-OFFSET('Forecasts Aggregate'!$C$58,$C79-$C$17,MATCH(L$16,Ages,1))),\"\")","v":""},{"$f":"IF($C79<>\"\",M79*EXP(-OFFSET('Forecasts Aggregate'!$C$58,$C79-$C$17,MATCH(M$16,Ages,1))),\"\")","v":""},{"$f":"IF($C79<>\"\",N79*EXP(-OFFSET('Forecasts Aggregate'!$C$58,$C79-$C$17,MATCH(N$16,Ages,1))),\"\")","v":""},{"$f":"IF($C79<>\"\",O79*EXP(-OFFSET('Forecasts Aggregate'!$C$58,$C79-$C$17,MATCH(O$16,Ages,1))),\"\")","v":""},{"$f":"IF($C79<>\"\",P79*EXP(-OFFSET('Forecasts Aggregate'!$C$58,$C79-$C$17,MATCH(P$16,Ages,1))),\"\")","v":""},{"$f":"IF($C79<>\"\",Q79*EXP(-OFFSET('Forecasts Aggregate'!$C$58,$C79-$C$17,MATCH(Q$16,Ages,1))),\"\")","v":""},{"$f":"IF($C79<>\"\",R79*EXP(-OFFSET('Forecasts Aggregate'!$C$58,$C79-$C$17,MATCH(R$16,Ages,1))),\"\")","v":""},{"$f":"IF($C79<>\"\",S79*EXP(-OFFSET('Forecasts Aggregate'!$C$58,$C79-$C$17,MATCH(S$16,Ages,1))),\"\")","v":""},{"$f":"IF($C79<>\"\",T79*EXP(-OFFSET('Forecasts Aggregate'!$C$58,$C79-$C$17,MATCH(T$16,Ages,1))),\"\")","v":""},{"$f":"IF($C79<>\"\",U79*EXP(-OFFSET('Forecasts Aggregate'!$C$58,$C79-$C$17,MATCH(U$16,Ages,1))),\"\")","v":""},{"$f":"IF($C79<>\"\",V79*EXP(-OFFSET('Forecasts Aggregate'!$C$58,$C79-$C$17,MATCH(V$16,Ages,1))),\"\")","v":""},{"$f":"IF($C79<>\"\",W79*EXP(-OFFSET('Forecasts Aggregate'!$C$58,$C79-$C$17,MATCH(W$16,Ages,1))),\"\")","v":""},{"$f":"IF($C79<>\"\",X79*EXP(-OFFSET('Forecasts Aggregate'!$C$58,$C79-$C$17,MATCH(X$16,Ages,1))),\"\")","v":""},{"$f":"IF($C79<>\"\",Y79*EXP(-OFFSET('Forecasts Aggregate'!$C$58,$C79-$C$17,MATCH(Y$16,Ages,1))),\"\")","v":""},{"$f":"IF($C79<>\"\",Z79*EXP(-OFFSET('Forecasts Aggregate'!$C$58,$C79-$C$17,MATCH(Z$16,Ages,1))),\"\")","v":""},{"$f":"IF($C79<>\"\",AA79*EXP(-OFFSET('Forecasts Aggregate'!$C$58,$C79-$C$17,MATCH(AA$16,Ages,1))),\"\")","v":""},{"$f":"IF($C79<>\"\",AB79*EXP(-OFFSET('Forecasts Aggregate'!$C$58,$C79-$C$17,MATCH(AB$16,Ages,1))),\"\")","v":""},{"$f":"IF($C79<>\"\",AC79*EXP(-OFFSET('Forecasts Aggregate'!$C$58,$C79-$C$17,MATCH(AC$16,Ages,1))),\"\")","v":""},{"$f":"IF($C79<>\"\",AD79*EXP(-OFFSET('Forecasts Aggregate'!$C$58,$C79-$C$17,MATCH(AD$16,Ages,1))),\"\")","v":""},{"$f":"IF($C79<>\"\",AE79*EXP(-OFFSET('Forecasts Aggregate'!$C$58,$C79-$C$17,MATCH(AE$16,Ages,1))),\"\")","v":""},{"$f":"IF($C79<>\"\",AF79*EXP(-OFFSET('Forecasts Aggregate'!$C$58,$C79-$C$17,MATCH(AF$16,Ages,1))),\"\")","v":""},{"$f":"IF($C79<>\"\",AG79*EXP(-OFFSET('Forecasts Aggregate'!$C$58,$C79-$C$17,MATCH(AG$16,Ages,1))),\"\")","v":""},{"$f":"IF($C79<>\"\",AH79*EXP(-OFFSET('Forecasts Aggregate'!$C$58,$C79-$C$17,MATCH(AH$16,Ages,1))),\"\")","v":""},{"$f":"IF($C79<>\"\",AI79*EXP(-OFFSET('Forecasts Aggregate'!$C$58,$C79-$C$17,MATCH(AI$16,Ages,1))),\"\")","v":""},{"$f":"IF($C79<>\"\",AJ79*EXP(-OFFSET('Forecasts Aggregate'!$C$58,$C79-$C$17,MATCH(AJ$16,Ages,1))),\"\")","v":""},{"$f":"IF($C79<>\"\",AK79*EXP(-OFFSET('Forecasts Aggregate'!$C$58,$C79-$C$17,MATCH(AK$16,Ages,1))),\"\")","v":""},{"$f":"IF($C79<>\"\",AL79*EXP(-OFFSET('Forecasts Aggregate'!$C$58,$C79-$C$17,MATCH(AL$16,Ages,1))),\"\")","v":""},{"$f":"IF($C79<>\"\",AM79*EXP(-OFFSET('Forecasts Aggregate'!$C$58,$C79-$C$17,MATCH(AM$16,Ages,1))),\"\")","v":""},{"$f":"IF($C79<>\"\",AN79*EXP(-OFFSET('Forecasts Aggregate'!$C$58,$C79-$C$17,MATCH(AN$16,Ages,1))),\"\")","v":""},{"$f":"IF($C79<>\"\",AO79*EXP(-OFFSET('Forecasts Aggregate'!$C$58,$C79-$C$17,MATCH(AO$16,Ages,1))),\"\")","v":""},{"$f":"IF($C79<>\"\",AP79*EXP(-OFFSET('Forecasts Aggregate'!$C$58,$C79-$C$17,MATCH(AP$16,Ages,1))),\"\")","v":""},{"$f":"IF($C79<>\"\",AQ79*EXP(-OFFSET('Forecasts Aggregate'!$C$58,$C79-$C$17,MATCH(AQ$16,Ages,1))),\"\")","v":""},{"$f":"IF($C79<>\"\",AR79*EXP(-OFFSET('Forecasts Aggregate'!$C$58,$C79-$C$17,MATCH(AR$16,Ages,1))),\"\")","v":""},{"$f":"IF($C79<>\"\",AS79*EXP(-OFFSET('Forecasts Aggregate'!$C$58,$C79-$C$17,MATCH(AS$16,Ages,1))),\"\")","v":""},{"$f":"IF($C79<>\"\",AT79*EXP(-OFFSET('Forecasts Aggregate'!$C$58,$C79-$C$17,MATCH(AT$16,Ages,1))),\"\")","v":""},{"$f":"IF($C79<>\"\",AU79*EXP(-OFFSET('Forecasts Aggregate'!$C$58,$C79-$C$17,MATCH(AU$16,Ages,1))),\"\")","v":""},{"$f":"IF($C79<>\"\",AV79*EXP(-OFFSET('Forecasts Aggregate'!$C$58,$C79-$C$17,MATCH(AV$16,Ages,1))),\"\")","v":""},{"$f":"IF($C79<>\"\",AW79*EXP(-OFFSET('Forecasts Aggregate'!$C$58,$C79-$C$17,MATCH(AW$16,Ages,1))),\"\")","v":""},{"$f":"IF($C79<>\"\",AX79*EXP(-OFFSET('Forecasts Aggregate'!$C$58,$C79-$C$17,MATCH(AX$16,Ages,1))),\"\")","v":""},{"$f":"IF($C79<>\"\",AY79*EXP(-OFFSET('Forecasts Aggregate'!$C$58,$C79-$C$17,MATCH(AY$16,Ages,1))),\"\")","v":""},{"$f":"IF($C79<>\"\",AZ79*EXP(-OFFSET('Forecasts Aggregate'!$C$58,$C79-$C$17,MATCH(AZ$16,Ages,1))),\"\")","v":""},{"$f":"IF($C79<>\"\",BA79*EXP(-OFFSET('Forecasts Aggregate'!$C$58,$C79-$C$17,MATCH(BA$16,Ages,1))),\"\")","v":""},{"$f":"IF($C79<>\"\",BB79*EXP(-OFFSET('Forecasts Aggregate'!$C$58,$C79-$C$17,MATCH(BB$16,Ages,1))),\"\")","v":""},{"$f":"IF($C79<>\"\",BC79*EXP(-OFFSET('Forecasts Aggregate'!$C$58,$C79-$C$17,MATCH(BC$16,Ages,1))),\"\")","v":""},{"$f":"IF($C79<>\"\",BD79*EXP(-OFFSET('Forecasts Aggregate'!$C$58,$C79-$C$17,MATCH(BD$16,Ages,1))),\"\")","v":""},{"$f":"IF($C79<>\"\",BE79*EXP(-OFFSET('Forecasts Aggregate'!$C$58,$C79-$C$17,MATCH(BE$16,Ages,1))),\"\")","v":""},{"$f":"IF($C79<>\"\",BF79*EXP(-OFFSET('Forecasts Aggregate'!$C$58,$C79-$C$17,MATCH(BF$16,Ages,1))),\"\")","v":""},{"$f":"IF($C79<>\"\",BG79*EXP(-OFFSET('Forecasts Aggregate'!$C$58,$C79-$C$17,MATCH(BG$16,Ages,1))),\"\")","v":""},{"$f":"IF($C79<>\"\",BH79*EXP(-OFFSET('Forecasts Aggregate'!$C$58,$C79-$C$17,MATCH(BH$16,Ages,1))),\"\")","v":""},{"$f":"IF($C79<>\"\",BI79*EXP(-OFFSET('Forecasts Aggregate'!$C$58,$C79-$C$17,MATCH(BI$16,Ages,1))),\"\")","v":""},{"$f":"IF($C79<>\"\",BJ79*EXP(-OFFSET('Forecasts Aggregate'!$C$58,$C79-$C$17,MATCH(BJ$16,Ages,1))),\"\")","v":""},{"$f":"IF($C79<>\"\",BK79*EXP(-OFFSET('Forecasts Aggregate'!$C$58,$C79-$C$17,MATCH(BK$16,Ages,1))),\"\")","v":""},{"$f":"IF($C79<>\"\",BL79*EXP(-OFFSET('Forecasts Aggregate'!$C$58,$C79-$C$17,MATCH(BL$16,Ages,1))),\"\")","v":""},{"$f":"IF($C79<>\"\",BM79*EXP(-OFFSET('Forecasts Aggregate'!$C$58,$C79-$C$17,MATCH(BM$16,Ages,1))),\"\")","v":""},{"$f":"IF($C79<>\"\",BN79*EXP(-OFFSET('Forecasts Aggregate'!$C$58,$C79-$C$17,MATCH(BN$16,Ages,1))),\"\")","v":""},{"$f":"IF($C79<>\"\",BO79*EXP(-OFFSET('Forecasts Aggregate'!$C$58,$C79-$C$17,MATCH(BO$16,Ages,1))),\"\")","v":""},{"$f":"IF($C79<>\"\",BP79*EXP(-OFFSET('Forecasts Aggregate'!$C$58,$C79-$C$17,MATCH(BP$16,Ages,1))),\"\")","v":""},{"$f":"IF($C79<>\"\",BQ79*EXP(-OFFSET('Forecasts Aggregate'!$C$58,$C79-$C$17,MATCH(BQ$16,Ages,1))),\"\")","v":""},{"$f":"IF($C79<>\"\",BR79*EXP(-OFFSET('Forecasts Aggregate'!$C$58,$C79-$C$17,MATCH(BR$16,Ages,1))),\"\")","v":""},{"$f":"IF($C79<>\"\",BS79*EXP(-OFFSET('Forecasts Aggregate'!$C$58,$C79-$C$17,MATCH(BS$16,Ages,1))),\"\")","v":""},{"$f":"IF($C79<>\"\",BT79*EXP(-OFFSET('Forecasts Aggregate'!$C$58,$C79-$C$17,MATCH(BT$16,Ages,1))),\"\")","v":""},{"$f":"IF($C79<>\"\",BU79*EXP(-OFFSET('Forecasts Aggregate'!$C$58,$C79-$C$17,MATCH(BU$16,Ages,1))),\"\")","v":""},{"$f":"IF($C79<>\"\",BV79*EXP(-OFFSET('Forecasts Aggregate'!$C$58,$C79-$C$17,MATCH(BV$16,Ages,1))),\"\")","v":""},{"$f":"IF($C79<>\"\",BW79*EXP(-OFFSET('Forecasts Aggregate'!$C$58,$C79-$C$17,MATCH(BW$16,Ages,1))),\"\")","v":""},{"$f":"IF($C79<>\"\",BX79*EXP(-OFFSET('Forecasts Aggregate'!$C$58,$C79-$C$17,MATCH(BX$16,Ages,1))),\"\")","v":""},{"$f":"IF($C79<>\"\",BY79*EXP(-OFFSET('Forecasts Aggregate'!$C$58,$C79-$C$17,MATCH(BY$16,Ages,1))),\"\")","v":""},{"$f":"IF($C79<>\"\",BZ79*EXP(-OFFSET('Forecasts Aggregate'!$C$58,$C79-$C$17,MATCH(BZ$16,Ages,1))),\"\")","v":""},{"$f":"IF($C79<>\"\",CA79*EXP(-OFFSET('Forecasts Aggregate'!$C$58,$C79-$C$17,MATCH(CA$16,Ages,1))),\"\")","v":""},{"$f":"IF($C79<>\"\",CB79*EXP(-OFFSET('Forecasts Aggregate'!$C$58,$C79-$C$17,MATCH(CB$16,Ages,1))),\"\")","v":""},{"$f":"IF($C79<>\"\",CC79*EXP(-OFFSET('Forecasts Aggregate'!$C$58,$C79-$C$17,MATCH(CC$16,Ages,1))),\"\")","v":""},{"$f":"IF($C79<>\"\",CD79*EXP(-OFFSET('Forecasts Aggregate'!$C$58,$C79-$C$17,MATCH(CD$16,Ages,1))),\"\")","v":""},{"$f":"IF($C79<>\"\",CE79*EXP(-OFFSET('Forecasts Aggregate'!$C$58,$C79-$C$17,MATCH(CE$16,Ages,1))),\"\")","v":""},{"$f":"IF($C79<>\"\",CF79*EXP(-OFFSET('Forecasts Aggregate'!$C$58,$C79-$C$17,MATCH(CF$16,Ages,1))),\"\")","v":""},{"$f":"IF($C79<>\"\",CG79*EXP(-OFFSET('Forecasts Aggregate'!$C$58,$C79-$C$17,MATCH(CG$16,Ages,1))),\"\")","v":""},{"$f":"IF($C79<>\"\",CH79*EXP(-OFFSET('Forecasts Aggregate'!$C$58,$C79-$C$17,MATCH(CH$16,Ages,1))),\"\")","v":""},{"$f":"IF($C79<>\"\",CI79*EXP(-OFFSET('Forecasts Aggregate'!$C$58,$C79-$C$17,MATCH(CI$16,Ages,1))),\"\")","v":""},{"$f":"IF($C79<>\"\",CJ79*EXP(-OFFSET('Forecasts Aggregate'!$C$58,$C79-$C$17,MATCH(CJ$16,Ages,1))),\"\")","v":""},{"$f":"IF($C79<>\"\",CK79*EXP(-OFFSET('Forecasts Aggregate'!$C$58,$C79-$C$17,MATCH(CK$16,Ages,1))),\"\")","v":""},{"$f":"IF($C79<>\"\",CL79*EXP(-OFFSET('Forecasts Aggregate'!$C$58,$C79-$C$17,MATCH(CL$16,Ages,1))),\"\")","v":""},{"$f":"IF($C79<>\"\",CM79*EXP(-OFFSET('Forecasts Aggregate'!$C$58,$C79-$C$17,MATCH(CM$16,Ages,1))),\"\")","v":""},{"$f":"IF($C79<>\"\",CN79*EXP(-OFFSET('Forecasts Aggregate'!$C$58,$C79-$C$17,MATCH(CN$16,Ages,1))),\"\")","v":""},{"$f":"IF($C79<>\"\",CO79*EXP(-OFFSET('Forecasts Aggregate'!$C$58,$C79-$C$17,MATCH(CO$16,Ages,1))),\"\")","v":""},{"$f":"IF($C79<>\"\",CP79*EXP(-OFFSET('Forecasts Aggregate'!$C$58,$C79-$C$17,MATCH(CP$16,Ages,1))),\"\")","v":""},{"$f":"IF($C79<>\"\",CQ79*EXP(-OFFSET('Forecasts Aggregate'!$C$58,$C79-$C$17,MATCH(CQ$16,Ages,1))),\"\")","v":""},{"$f":"IF($C79<>\"\",CR79*EXP(-OFFSET('Forecasts Aggregate'!$C$58,$C79-$C$17,MATCH(CR$16,Ages,1))),\"\")","v":""},{"$f":"IF($C79<>\"\",CS79*EXP(-OFFSET('Forecasts Aggregate'!$C$58,$C79-$C$17,MATCH(CS$16,Ages,1))),\"\")","v":""},{"$f":"IF($C79<>\"\",CT79*EXP(-OFFSET('Forecasts Aggregate'!$C$58,$C79-$C$17,MATCH(CT$16,Ages,1))),\"\")","v":""},{"$f":"IF($C79<>\"\",CU79*EXP(-OFFSET('Forecasts Aggregate'!$C$58,$C79-$C$17,MATCH(CU$16,Ages,1))),\"\")","v":""},{"$f":"IF($C79<>\"\",CV79*EXP(-OFFSET('Forecasts Aggregate'!$C$58,$C79-$C$17,MATCH(CV$16,Ages,1))),\"\")","v":""},{"$f":"IF($C79<>\"\",CW79*EXP(-OFFSET('Forecasts Aggregate'!$C$58,$C79-$C$17,MATCH(CW$16,Ages,1))),\"\")","v":""},{"$f":"IF($C79<>\"\",CX79*EXP(-OFFSET('Forecasts Aggregate'!$C$58,$C79-$C$17,MATCH(CX$16,Ages,1))),\"\")","v":""},{"$f":"IF($C79<>\"\",CY79*EXP(-OFFSET('Forecasts Aggregate'!$C$58,$C79-$C$17,MATCH(CY$16,Ages,1))),\"\")","v":""},{"$f":"IF($C79<>\"\",CZ79*EXP(-OFFSET('Forecasts Aggregate'!$C$58,$C79-$C$17,MATCH(CZ$16,Ages,1))),\"\")","v":""},{"$f":"IF($C79<>\"\",DA79*EXP(-OFFSET('Forecasts Aggregate'!$C$58,$C79-$C$17,MATCH(DA$16,Ages,1))),\"\")","v":""},{"$f":"IF($C79<>\"\",DB79*EXP(-OFFSET('Forecasts Aggregate'!$C$58,$C79-$C$17,MATCH(DB$16,Ages,1))),\"\")","v":""},{"$f":"IF($C79<>\"\",DC79*EXP(-OFFSET('Forecasts Aggregate'!$C$58,$C79-$C$17,MATCH(DC$16,Ages,1))),\"\")","v":""},{"$f":"IF($C79<>\"\",DD79*EXP(-OFFSET('Forecasts Aggregate'!$C$58,$C79-$C$17,MATCH(DD$16,Ages,1))),\"\")","v":""},{"$f":"IF($C79<>\"\",DE79*EXP(-OFFSET('Forecasts Aggregate'!$C$58,$C79-$C$17,MATCH(DE$16,Ages,1))),\"\")","v":""},{"$f":"IF($C79<>\"\",DF79*EXP(-OFFSET('Forecasts Aggregate'!$C$58,$C79-$C$17,MATCH(DF$16,Ages,1))),\"\")","v":""},{"$f":"IF($C79<>\"\",DG79*EXP(-OFFSET('Forecasts Aggregate'!$C$58,$C79-$C$17,MATCH(DG$16,Ages,1))),\"\")","v":""},{"$f":"IF($C79<>\"\",DH79*EXP(-OFFSET('Forecasts Aggregate'!$C$58,$C79-$C$17,MATCH(DH$16,Ages,1))),\"\")","v":""},{"$f":"IF($C79<>\"\",DI79*EXP(-OFFSET('Forecasts Aggregate'!$C$58,$C79-$C$17,MATCH(DI$16,Ages,1))),\"\")","v":""},{"$f":"IF($C79<>\"\",DJ79*EXP(-OFFSET('Forecasts Aggregate'!$C$58,$C79-$C$17,MATCH(DJ$16,Ages,1))),\"\")","v":""},null,"","",""]
[null,null,"","",{"$f":"IF($C80<>\"\",D80*EXP(-OFFSET('Forecasts Aggregate'!$C$58,$C80-$C$17,MATCH(D$16,Ages,1))),\"\")","v":""},{"$f":"IF($C80<>\"\",E80*EXP(-OFFSET('Forecasts Aggregate'!$C$58,$C80-$C$17,MATCH(E$16,Ages,1))),\"\")","v":""},{"$f":"IF($C80<>\"\",F80*EXP(-OFFSET('Forecasts Aggregate'!$C$58,$C80-$C$17,MATCH(F$16,Ages,1))),\"\")","v":""},{"$f":"IF($C80<>\"\",G80*EXP(-OFFSET('Forecasts Aggregate'!$C$58,$C80-$C$17,MATCH(G$16,Ages,1))),\"\")","v":""},{"$f":"IF($C80<>\"\",H80*EXP(-OFFSET('Forecasts Aggregate'!$C$58,$C80-$C$17,MATCH(H$16,Ages,1))),\"\")","v":""},{"$f":"IF($C80<>\"\",I80*EXP(-OFFSET('Forecasts Aggregate'!$C$58,$C80-$C$17,MATCH(I$16,Ages,1))),\"\")","v":""},{"$f":"IF($C80<>\"\",J80*EXP(-OFFSET('Forecasts Aggregate'!$C$58,$C80-$C$17,MATCH(J$16,Ages,1))),\"\")","v":""},{"$f":"IF($C80<>\"\",K80*EXP(-OFFSET('Forecasts Aggregate'!$C$58,$C80-$C$17,MATCH(K$16,Ages,1))),\"\")","v":""},{"$f":"IF($C80<>\"\",L80*EXP(-OFFSET('Forecasts Aggregate'!$C$58,$C80-$C$17,MATCH(L$16,Ages,1))),\"\")","v":""},{"$f":"IF($C80<>\"\",M80*EXP(-OFFSET('Forecasts Aggregate'!$C$58,$C80-$C$17,MATCH(M$16,Ages,1))),\"\")","v":""},{"$f":"IF($C80<>\"\",N80*EXP(-OFFSET('Forecasts Aggregate'!$C$58,$C80-$C$17,MATCH(N$16,Ages,1))),\"\")","v":""},{"$f":"IF($C80<>\"\",O80*EXP(-OFFSET('Forecasts Aggregate'!$C$58,$C80-$C$17,MATCH(O$16,Ages,1))),\"\")","v":""},{"$f":"IF($C80<>\"\",P80*EXP(-OFFSET('Forecasts Aggregate'!$C$58,$C80-$C$17,MATCH(P$16,Ages,1))),\"\")","v":""},{"$f":"IF($C80<>\"\",Q80*EXP(-OFFSET('Forecasts Aggregate'!$C$58,$C80-$C$17,MATCH(Q$16,Ages,1))),\"\")","v":""},{"$f":"IF($C80<>\"\",R80*EXP(-OFFSET('Forecasts Aggregate'!$C$58,$C80-$C$17,MATCH(R$16,Ages,1))),\"\")","v":""},{"$f":"IF($C80<>\"\",S80*EXP(-OFFSET('Forecasts Aggregate'!$C$58,$C80-$C$17,MATCH(S$16,Ages,1))),\"\")","v":""},{"$f":"IF($C80<>\"\",T80*EXP(-OFFSET('Forecasts Aggregate'!$C$58,$C80-$C$17,MATCH(T$16,Ages,1))),\"\")","v":""},{"$f":"IF($C80<>\"\",U80*EXP(-OFFSET('Forecasts Aggregate'!$C$58,$C80-$C$17,MATCH(U$16,Ages,1))),\"\")","v":""},{"$f":"IF($C80<>\"\",V80*EXP(-OFFSET('Forecasts Aggregate'!$C$58,$C80-$C$17,MATCH(V$16,Ages,1))),\"\")","v":""},{"$f":"IF($C80<>\"\",W80*EXP(-OFFSET('Forecasts Aggregate'!$C$58,$C80-$C$17,MATCH(W$16,Ages,1))),\"\")","v":""},{"$f":"IF($C80<>\"\",X80*EXP(-OFFSET('Forecasts Aggregate'!$C$58,$C80-$C$17,MATCH(X$16,Ages,1))),\"\")","v":""},{"$f":"IF($C80<>\"\",Y80*EXP(-OFFSET('Forecasts Aggregate'!$C$58,$C80-$C$17,MATCH(Y$16,Ages,1))),\"\")","v":""},{"$f":"IF($C80<>\"\",Z80*EXP(-OFFSET('Forecasts Aggregate'!$C$58,$C80-$C$17,MATCH(Z$16,Ages,1))),\"\")","v":""},{"$f":"IF($C80<>\"\",AA80*EXP(-OFFSET('Forecasts Aggregate'!$C$58,$C80-$C$17,MATCH(AA$16,Ages,1))),\"\")","v":""},{"$f":"IF($C80<>\"\",AB80*EXP(-OFFSET('Forecasts Aggregate'!$C$58,$C80-$C$17,MATCH(AB$16,Ages,1))),\"\")","v":""},{"$f":"IF($C80<>\"\",AC80*EXP(-OFFSET('Forecasts Aggregate'!$C$58,$C80-$C$17,MATCH(AC$16,Ages,1))),\"\")","v":""},{"$f":"IF($C80<>\"\",AD80*EXP(-OFFSET('Forecasts Aggregate'!$C$58,$C80-$C$17,MATCH(AD$16,Ages,1))),\"\")","v":""},{"$f":"IF($C80<>\"\",AE80*EXP(-OFFSET('Forecasts Aggregate'!$C$58,$C80-$C$17,MATCH(AE$16,Ages,1))),\"\")","v":""},{"$f":"IF($C80<>\"\",AF80*EXP(-OFFSET('Forecasts Aggregate'!$C$58,$C80-$C$17,MATCH(AF$16,Ages,1))),\"\")","v":""},{"$f":"IF($C80<>\"\",AG80*EXP(-OFFSET('Forecasts Aggregate'!$C$58,$C80-$C$17,MATCH(AG$16,Ages,1))),\"\")","v":""},{"$f":"IF($C80<>\"\",AH80*EXP(-OFFSET('Forecasts Aggregate'!$C$58,$C80-$C$17,MATCH(AH$16,Ages,1))),\"\")","v":""},{"$f":"IF($C80<>\"\",AI80*EXP(-OFFSET('Forecasts Aggregate'!$C$58,$C80-$C$17,MATCH(AI$16,Ages,1))),\"\")","v":""},{"$f":"IF($C80<>\"\",AJ80*EXP(-OFFSET('Forecasts Aggregate'!$C$58,$C80-$C$17,MATCH(AJ$16,Ages,1))),\"\")","v":""},{"$f":"IF($C80<>\"\",AK80*EXP(-OFFSET('Forecasts Aggregate'!$C$58,$C80-$C$17,MATCH(AK$16,Ages,1))),\"\")","v":""},{"$f":"IF($C80<>\"\",AL80*EXP(-OFFSET('Forecasts Aggregate'!$C$58,$C80-$C$17,MATCH(AL$16,Ages,1))),\"\")","v":""},{"$f":"IF($C80<>\"\",AM80*EXP(-OFFSET('Forecasts Aggregate'!$C$58,$C80-$C$17,MATCH(AM$16,Ages,1))),\"\")","v":""},{"$f":"IF($C80<>\"\",AN80*EXP(-OFFSET('Forecasts Aggregate'!$C$58,$C80-$C$17,MATCH(AN$16,Ages,1))),\"\")","v":""},{"$f":"IF($C80<>\"\",AO80*EXP(-OFFSET('Forecasts Aggregate'!$C$58,$C80-$C$17,MATCH(AO$16,Ages,1))),\"\")","v":""},{"$f":"IF($C80<>\"\",AP80*EXP(-OFFSET('Forecasts Aggregate'!$C$58,$C80-$C$17,MATCH(AP$16,Ages,1))),\"\")","v":""},{"$f":"IF($C80<>\"\",AQ80*EXP(-OFFSET('Forecasts Aggregate'!$C$58,$C80-$C$17,MATCH(AQ$16,Ages,1))),\"\")","v":""},{"$f":"IF($C80<>\"\",AR80*EXP(-OFFSET('Forecasts Aggregate'!$C$58,$C80-$C$17,MATCH(AR$16,Ages,1))),\"\")","v":""},{"$f":"IF($C80<>\"\",AS80*EXP(-OFFSET('Forecasts Aggregate'!$C$58,$C80-$C$17,MATCH(AS$16,Ages,1))),\"\")","v":""},{"$f":"IF($C80<>\"\",AT80*EXP(-OFFSET('Forecasts Aggregate'!$C$58,$C80-$C$17,MATCH(AT$16,Ages,1))),\"\")","v":""},{"$f":"IF($C80<>\"\",AU80*EXP(-OFFSET('Forecasts Aggregate'!$C$58,$C80-$C$17,MATCH(AU$16,Ages,1))),\"\")","v":""},{"$f":"IF($C80<>\"\",AV80*EXP(-OFFSET('Forecasts Aggregate'!$C$58,$C80-$C$17,MATCH(AV$16,Ages,1))),\"\")","v":""},{"$f":"IF($C80<>\"\",AW80*EXP(-OFFSET('Forecasts Aggregate'!$C$58,$C80-$C$17,MATCH(AW$16,Ages,1))),\"\")","v":""},{"$f":"IF($C80<>\"\",AX80*EXP(-OFFSET('Forecasts Aggregate'!$C$58,$C80-$C$17,MATCH(AX$16,Ages,1))),\"\")","v":""},{"$f":"IF($C80<>\"\",AY80*EXP(-OFFSET('Forecasts Aggregate'!$C$58,$C80-$C$17,MATCH(AY$16,Ages,1))),\"\")","v":""},{"$f":"IF($C80<>\"\",AZ80*EXP(-OFFSET('Forecasts Aggregate'!$C$58,$C80-$C$17,MATCH(AZ$16,Ages,1))),\"\")","v":""},{"$f":"IF($C80<>\"\",BA80*EXP(-OFFSET('Forecasts Aggregate'!$C$58,$C80-$C$17,MATCH(BA$16,Ages,1))),\"\")","v":""},{"$f":"IF($C80<>\"\",BB80*EXP(-OFFSET('Forecasts Aggregate'!$C$58,$C80-$C$17,MATCH(BB$16,Ages,1))),\"\")","v":""},{"$f":"IF($C80<>\"\",BC80*EXP(-OFFSET('Forecasts Aggregate'!$C$58,$C80-$C$17,MATCH(BC$16,Ages,1))),\"\")","v":""},{"$f":"IF($C80<>\"\",BD80*EXP(-OFFSET('Forecasts Aggregate'!$C$58,$C80-$C$17,MATCH(BD$16,Ages,1))),\"\")","v":""},{"$f":"IF($C80<>\"\",BE80*EXP(-OFFSET('Forecasts Aggregate'!$C$58,$C80-$C$17,MATCH(BE$16,Ages,1))),\"\")","v":""},{"$f":"IF($C80<>\"\",BF80*EXP(-OFFSET('Forecasts Aggregate'!$C$58,$C80-$C$17,MATCH(BF$16,Ages,1))),\"\")","v":""},{"$f":"IF($C80<>\"\",BG80*EXP(-OFFSET('Forecasts Aggregate'!$C$58,$C80-$C$17,MATCH(BG$16,Ages,1))),\"\")","v":""},{"$f":"IF($C80<>\"\",BH80*EXP(-OFFSET('Forecasts Aggregate'!$C$58,$C80-$C$17,MATCH(BH$16,Ages,1))),\"\")","v":""},{"$f":"IF($C80<>\"\",BI80*EXP(-OFFSET('Forecasts Aggregate'!$C$58,$C80-$C$17,MATCH(BI$16,Ages,1))),\"\")","v":""},{"$f":"IF($C80<>\"\",BJ80*EXP(-OFFSET('Forecasts Aggregate'!$C$58,$C80-$C$17,MATCH(BJ$16,Ages,1))),\"\")","v":""},{"$f":"IF($C80<>\"\",BK80*EXP(-OFFSET('Forecasts Aggregate'!$C$58,$C80-$C$17,MATCH(BK$16,Ages,1))),\"\")","v":""},{"$f":"IF($C80<>\"\",BL80*EXP(-OFFSET('Forecasts Aggregate'!$C$58,$C80-$C$17,MATCH(BL$16,Ages,1))),\"\")","v":""},{"$f":"IF($C80<>\"\",BM80*EXP(-OFFSET('Forecasts Aggregate'!$C$58,$C80-$C$17,MATCH(BM$16,Ages,1))),\"\")","v":""},{"$f":"IF($C80<>\"\",BN80*EXP(-OFFSET('Forecasts Aggregate'!$C$58,$C80-$C$17,MATCH(BN$16,Ages,1))),\"\")","v":""},{"$f":"IF($C80<>\"\",BO80*EXP(-OFFSET('Forecasts Aggregate'!$C$58,$C80-$C$17,MATCH(BO$16,Ages,1))),\"\")","v":""},{"$f":"IF($C80<>\"\",BP80*EXP(-OFFSET('Forecasts Aggregate'!$C$58,$C80-$C$17,MATCH(BP$16,Ages,1))),\"\")","v":""},{"$f":"IF($C80<>\"\",BQ80*EXP(-OFFSET('Forecasts Aggregate'!$C$58,$C80-$C$17,MATCH(BQ$16,Ages,1))),\"\")","v":""},{"$f":"IF($C80<>\"\",BR80*EXP(-OFFSET('Forecasts Aggregate'!$C$58,$C80-$C$17,MATCH(BR$16,Ages,1))),\"\")","v":""},{"$f":"IF($C80<>\"\",BS80*EXP(-OFFSET('Forecasts Aggregate'!$C$58,$C80-$C$17,MATCH(BS$16,Ages,1))),\"\")","v":""},{"$f":"IF($C80<>\"\",BT80*EXP(-OFFSET('Forecasts Aggregate'!$C$58,$C80-$C$17,MATCH(BT$16,Ages,1))),\"\")","v":""},{"$f":"IF($C80<>\"\",BU80*EXP(-OFFSET('Forecasts Aggregate'!$C$58,$C80-$C$17,MATCH(BU$16,Ages,1))),\"\")","v":""},{"$f":"IF($C80<>\"\",BV80*EXP(-OFFSET('Forecasts Aggregate'!$C$58,$C80-$C$17,MATCH(BV$16,Ages,1))),\"\")","v":""},{"$f":"IF($C80<>\"\",BW80*EXP(-OFFSET('Forecasts Aggregate'!$C$58,$C80-$C$17,MATCH(BW$16,Ages,1))),\"\")","v":""},{"$f":"IF($C80<>\"\",BX80*EXP(-OFFSET('Forecasts Aggregate'!$C$58,$C80-$C$17,MATCH(BX$16,Ages,1))),\"\")","v":""},{"$f":"IF($C80<>\"\",BY80*EXP(-OFFSET('Forecasts Aggregate'!$C$58,$C80-$C$17,MATCH(BY$16,Ages,1))),\"\")","v":""},{"$f":"IF($C80<>\"\",BZ80*EXP(-OFFSET('Forecasts Aggregate'!$C$58,$C80-$C$17,MATCH(BZ$16,Ages,1))),\"\")","v":""},{"$f":"IF($C80<>\"\",CA80*EXP(-OFFSET('Forecasts Aggregate'!$C$58,$C80-$C$17,MATCH(CA$16,Ages,1))),\"\")","v":""},{"$f":"IF($C80<>\"\",CB80*EXP(-OFFSET('Forecasts Aggregate'!$C$58,$C80-$C$17,MATCH(CB$16,Ages,1))),\"\")","v":""},{"$f":"IF($C80<>\"\",CC80*EXP(-OFFSET('Forecasts Aggregate'!$C$58,$C80-$C$17,MATCH(CC$16,Ages,1))),\"\")","v":""},{"$f":"IF($C80<>\"\",CD80*EXP(-OFFSET('Forecasts Aggregate'!$C$58,$C80-$C$17,MATCH(CD$16,Ages,1))),\"\")","v":""},{"$f":"IF($C80<>\"\",CE80*EXP(-OFFSET('Forecasts Aggregate'!$C$58,$C80-$C$17,MATCH(CE$16,Ages,1))),\"\")","v":""},{"$f":"IF($C80<>\"\",CF80*EXP(-OFFSET('Forecasts Aggregate'!$C$58,$C80-$C$17,MATCH(CF$16,Ages,1))),\"\")","v":""},{"$f":"IF($C80<>\"\",CG80*EXP(-OFFSET('Forecasts Aggregate'!$C$58,$C80-$C$17,MATCH(CG$16,Ages,1))),\"\")","v":""},{"$f":"IF($C80<>\"\",CH80*EXP(-OFFSET('Forecasts Aggregate'!$C$58,$C80-$C$17,MATCH(CH$16,Ages,1))),\"\")","v":""},{"$f":"IF($C80<>\"\",CI80*EXP(-OFFSET('Forecasts Aggregate'!$C$58,$C80-$C$17,MATCH(CI$16,Ages,1))),\"\")","v":""},{"$f":"IF($C80<>\"\",CJ80*EXP(-OFFSET('Forecasts Aggregate'!$C$58,$C80-$C$17,MATCH(CJ$16,Ages,1))),\"\")","v":""},{"$f":"IF($C80<>\"\",CK80*EXP(-OFFSET('Forecasts Aggregate'!$C$58,$C80-$C$17,MATCH(CK$16,Ages,1))),\"\")","v":""},{"$f":"IF($C80<>\"\",CL80*EXP(-OFFSET('Forecasts Aggregate'!$C$58,$C80-$C$17,MATCH(CL$16,Ages,1))),\"\")","v":""},{"$f":"IF($C80<>\"\",CM80*EXP(-OFFSET('Forecasts Aggregate'!$C$58,$C80-$C$17,MATCH(CM$16,Ages,1))),\"\")","v":""},{"$f":"IF($C80<>\"\",CN80*EXP(-OFFSET('Forecasts Aggregate'!$C$58,$C80-$C$17,MATCH(CN$16,Ages,1))),\"\")","v":""},{"$f":"IF($C80<>\"\",CO80*EXP(-OFFSET('Forecasts Aggregate'!$C$58,$C80-$C$17,MATCH(CO$16,Ages,1))),\"\")","v":""},{"$f":"IF($C80<>\"\",CP80*EXP(-OFFSET('Forecasts Aggregate'!$C$58,$C80-$C$17,MATCH(CP$16,Ages,1))),\"\")","v":""},{"$f":"IF($C80<>\"\",CQ80*EXP(-OFFSET('Forecasts Aggregate'!$C$58,$C80-$C$17,MATCH(CQ$16,Ages,1))),\"\")","v":""},{"$f":"IF($C80<>\"\",CR80*EXP(-OFFSET('Forecasts Aggregate'!$C$58,$C80-$C$17,MATCH(CR$16,Ages,1))),\"\")","v":""},{"$f":"IF($C80<>\"\",CS80*EXP(-OFFSET('Forecasts Aggregate'!$C$58,$C80-$C$17,MATCH(CS$16,Ages,1))),\"\")","v":""},{"$f":"IF($C80<>\"\",CT80*EXP(-OFFSET('Forecasts Aggregate'!$C$58,$C80-$C$17,MATCH(CT$16,Ages,1))),\"\")","v":""},{"$f":"IF($C80<>\"\",CU80*EXP(-OFFSET('Forecasts Aggregate'!$C$58,$C80-$C$17,MATCH(CU$16,Ages,1))),\"\")","v":""},{"$f":"IF($C80<>\"\",CV80*EXP(-OFFSET('Forecasts Aggregate'!$C$58,$C80-$C$17,MATCH(CV$16,Ages,1))),\"\")","v":""},{"$f":"IF($C80<>\"\",CW80*EXP(-OFFSET('Forecasts Aggregate'!$C$58,$C80-$C$17,MATCH(CW$16,Ages,1))),\"\")","v":""},{"$f":"IF($C80<>\"\",CX80*EXP(-OFFSET('Forecasts Aggregate'!$C$58,$C80-$C$17,MATCH(CX$16,Ages,1))),\"\")","v":""},{"$f":"IF($C80<>\"\",CY80*EXP(-OFFSET('Forecasts Aggregate'!$C$58,$C80-$C$17,MATCH(CY$16,Ages,1))),\"\")","v":""},{"$f":"IF($C80<>\"\",CZ80*EXP(-OFFSET('Forecasts Aggregate'!$C$58,$C80-$C$17,MATCH(CZ$16,Ages,1))),\"\")","v":""},{"$f":"IF($C80<>\"\",DA80*EXP(-OFFSET('Forecasts Aggregate'!$C$58,$C80-$C$17,MATCH(DA$16,Ages,1))),\"\")","v":""},{"$f":"IF($C80<>\"\",DB80*EXP(-OFFSET('Forecasts Aggregate'!$C$58,$C80-$C$17,MATCH(DB$16,Ages,1))),\"\")","v":""},{"$f":"IF($C80<>\"\",DC80*EXP(-OFFSET('Forecasts Aggregate'!$C$58,$C80-$C$17,MATCH(DC$16,Ages,1))),\"\")","v":""},{"$f":"IF($C80<>\"\",DD80*EXP(-OFFSET('Forecasts Aggregate'!$C$58,$C80-$C$17,MATCH(DD$16,Ages,1))),\"\")","v":""},{"$f":"IF($C80<>\"\",DE80*EXP(-OFFSET('Forecasts Aggregate'!$C$58,$C80-$C$17,MATCH(DE$16,Ages,1))),\"\")","v":""},{"$f":"IF($C80<>\"\",DF80*EXP(-OFFSET('Forecasts Aggregate'!$C$58,$C80-$C$17,MATCH(DF$16,Ages,1))),\"\")","v":""},{"$f":"IF($C80<>\"\",DG80*EXP(-OFFSET('Forecasts Aggregate'!$C$58,$C80-$C$17,MATCH(DG$16,Ages,1))),\"\")","v":""},{"$f":"IF($C80<>\"\",DH80*EXP(-OFFSET('Forecasts Aggregate'!$C$58,$C80-$C$17,MATCH(DH$16,Ages,1))),\"\")","v":""},{"$f":"IF($C80<>\"\",DI80*EXP(-OFFSET('Forecasts Aggregate'!$C$58,$C80-$C$17,MATCH(DI$16,Ages,1))),\"\")","v":""},{"$f":"IF($C80<>\"\",DJ80*EXP(-OFFSET('Forecasts Aggregate'!$C$58,$C80-$C$17,MATCH(DJ$16,Ages,1))),\"\")","v":""},null,"","",""]
[null,null,"","",{"$f":"IF($C81<>\"\",D81*EXP(-OFFSET('Forecasts Aggregate'!$C$58,$C81-$C$17,MATCH(D$16,Ages,1))),\"\")","v":""},{"$f":"IF($C81<>\"\",E81*EXP(-OFFSET('Forecasts Aggregate'!$C$58,$C81-$C$17,MATCH(E$16,Ages,1))),\"\")","v":""},{"$f":"IF($C81<>\"\",F81*EXP(-OFFSET('Forecasts Aggregate'!$C$58,$C81-$C$17,MATCH(F$16,Ages,1))),\"\")","v":""},{"$f":"IF($C81<>\"\",G81*EXP(-OFFSET('Forecasts Aggregate'!$C$58,$C81-$C$17,MATCH(G$16,Ages,1))),\"\")","v":""},{"$f":"IF($C81<>\"\",H81*EXP(-OFFSET('Forecasts Aggregate'!$C$58,$C81-$C$17,MATCH(H$16,Ages,1))),\"\")","v":""},{"$f":"IF($C81<>\"\",I81*EXP(-OFFSET('Forecasts Aggregate'!$C$58,$C81-$C$17,MATCH(I$16,Ages,1))),\"\")","v":""},{"$f":"IF($C81<>\"\",J81*EXP(-OFFSET('Forecasts Aggregate'!$C$58,$C81-$C$17,MATCH(J$16,Ages,1))),\"\")","v":""},{"$f":"IF($C81<>\"\",K81*EXP(-OFFSET('Forecasts Aggregate'!$C$58,$C81-$C$17,MATCH(K$16,Ages,1))),\"\")","v":""},{"$f":"IF($C81<>\"\",L81*EXP(-OFFSET('Forecasts Aggregate'!$C$58,$C81-$C$17,MATCH(L$16,Ages,1))),\"\")","v":""},{"$f":"IF($C81<>\"\",M81*EXP(-OFFSET('Forecasts Aggregate'!$C$58,$C81-$C$17,MATCH(M$16,Ages,1))),\"\")","v":""},{"$f":"IF($C81<>\"\",N81*EXP(-OFFSET('Forecasts Aggregate'!$C$58,$C81-$C$17,MATCH(N$16,Ages,1))),\"\")","v":""},{"$f":"IF($C81<>\"\",O81*EXP(-OFFSET('Forecasts Aggregate'!$C$58,$C81-$C$17,MATCH(O$16,Ages,1))),\"\")","v":""},{"$f":"IF($C81<>\"\",P81*EXP(-OFFSET('Forecasts Aggregate'!$C$58,$C81-$C$17,MATCH(P$16,Ages,1))),\"\")","v":""},{"$f":"IF($C81<>\"\",Q81*EXP(-OFFSET('Forecasts Aggregate'!$C$58,$C81-$C$17,MATCH(Q$16,Ages,1))),\"\")","v":""},{"$f":"IF($C81<>\"\",R81*EXP(-OFFSET('Forecasts Aggregate'!$C$58,$C81-$C$17,MATCH(R$16,Ages,1))),\"\")","v":""},{"$f":"IF($C81<>\"\",S81*EXP(-OFFSET('Forecasts Aggregate'!$C$58,$C81-$C$17,MATCH(S$16,Ages,1))),\"\")","v":""},{"$f":"IF($C81<>\"\",T81*EXP(-OFFSET('Forecasts Aggregate'!$C$58,$C81-$C$17,MATCH(T$16,Ages,1))),\"\")","v":""},{"$f":"IF($C81<>\"\",U81*EXP(-OFFSET('Forecasts Aggregate'!$C$58,$C81-$C$17,MATCH(U$16,Ages,1))),\"\")","v":""},{"$f":"IF($C81<>\"\",V81*EXP(-OFFSET('Forecasts Aggregate'!$C$58,$C81-$C$17,MATCH(V$16,Ages,1))),\"\")","v":""},{"$f":"IF($C81<>\"\",W81*EXP(-OFFSET('Forecasts Aggregate'!$C$58,$C81-$C$17,MATCH(W$16,Ages,1))),\"\")","v":""},{"$f":"IF($C81<>\"\",X81*EXP(-OFFSET('Forecasts Aggregate'!$C$58,$C81-$C$17,MATCH(X$16,Ages,1))),\"\")","v":""},{"$f":"IF($C81<>\"\",Y81*EXP(-OFFSET('Forecasts Aggregate'!$C$58,$C81-$C$17,MATCH(Y$16,Ages,1))),\"\")","v":""},{"$f":"IF($C81<>\"\",Z81*EXP(-OFFSET('Forecasts Aggregate'!$C$58,$C81-$C$17,MATCH(Z$16,Ages,1))),\"\")","v":""},{"$f":"IF($C81<>\"\",AA81*EXP(-OFFSET('Forecasts Aggregate'!$C$58,$C81-$C$17,MATCH(AA$16,Ages,1))),\"\")","v":""},{"$f":"IF($C81<>\"\",AB81*EXP(-OFFSET('Forecasts Aggregate'!$C$58,$C81-$C$17,MATCH(AB$16,Ages,1))),\"\")","v":""},{"$f":"IF($C81<>\"\",AC81*EXP(-OFFSET('Forecasts Aggregate'!$C$58,$C81-$C$17,MATCH(AC$16,Ages,1))),\"\")","v":""},{"$f":"IF($C81<>\"\",AD81*EXP(-OFFSET('Forecasts Aggregate'!$C$58,$C81-$C$17,MATCH(AD$16,Ages,1))),\"\")","v":""},{"$f":"IF($C81<>\"\",AE81*EXP(-OFFSET('Forecasts Aggregate'!$C$58,$C81-$C$17,MATCH(AE$16,Ages,1))),\"\")","v":""},{"$f":"IF($C81<>\"\",AF81*EXP(-OFFSET('Forecasts Aggregate'!$C$58,$C81-$C$17,MATCH(AF$16,Ages,1))),\"\")","v":""},{"$f":"IF($C81<>\"\",AG81*EXP(-OFFSET('Forecasts Aggregate'!$C$58,$C81-$C$17,MATCH(AG$16,Ages,1))),\"\")","v":""},{"$f":"IF($C81<>\"\",AH81*EXP(-OFFSET('Forecasts Aggregate'!$C$58,$C81-$C$17,MATCH(AH$16,Ages,1))),\"\")","v":""},{"$f":"IF($C81<>\"\",AI81*EXP(-OFFSET('Forecasts Aggregate'!$C$58,$C81-$C$17,MATCH(AI$16,Ages,1))),\"\")","v":""},{"$f":"IF($C81<>\"\",AJ81*EXP(-OFFSET('Forecasts Aggregate'!$C$58,$C81-$C$17,MATCH(AJ$16,Ages,1))),\"\")","v":""},{"$f":"IF($C81<>\"\",AK81*EXP(-OFFSET('Forecasts Aggregate'!$C$58,$C81-$C$17,MATCH(AK$16,Ages,1))),\"\")","v":""},{"$f":"IF($C81<>\"\",AL81*EXP(-OFFSET('Forecasts Aggregate'!$C$58,$C81-$C$17,MATCH(AL$16,Ages,1))),\"\")","v":""},{"$f":"IF($C81<>\"\",AM81*EXP(-OFFSET('Forecasts Aggregate'!$C$58,$C81-$C$17,MATCH(AM$16,Ages,1))),\"\")","v":""},{"$f":"IF($C81<>\"\",AN81*EXP(-OFFSET('Forecasts Aggregate'!$C$58,$C81-$C$17,MATCH(AN$16,Ages,1))),\"\")","v":""},{"$f":"IF($C81<>\"\",AO81*EXP(-OFFSET('Forecasts Aggregate'!$C$58,$C81-$C$17,MATCH(AO$16,Ages,1))),\"\")","v":""},{"$f":"IF($C81<>\"\",AP81*EXP(-OFFSET('Forecasts Aggregate'!$C$58,$C81-$C$17,MATCH(AP$16,Ages,1))),\"\")","v":""},{"$f":"IF($C81<>\"\",AQ81*EXP(-OFFSET('Forecasts Aggregate'!$C$58,$C81-$C$17,MATCH(AQ$16,Ages,1))),\"\")","v":""},{"$f":"IF($C81<>\"\",AR81*EXP(-OFFSET('Forecasts Aggregate'!$C$58,$C81-$C$17,MATCH(AR$16,Ages,1))),\"\")","v":""},{"$f":"IF($C81<>\"\",AS81*EXP(-OFFSET('Forecasts Aggregate'!$C$58,$C81-$C$17,MATCH(AS$16,Ages,1))),\"\")","v":""},{"$f":"IF($C81<>\"\",AT81*EXP(-OFFSET('Forecasts Aggregate'!$C$58,$C81-$C$17,MATCH(AT$16,Ages,1))),\"\")","v":""},{"$f":"IF($C81<>\"\",AU81*EXP(-OFFSET('Forecasts Aggregate'!$C$58,$C81-$C$17,MATCH(AU$16,Ages,1))),\"\")","v":""},{"$f":"IF($C81<>\"\",AV81*EXP(-OFFSET('Forecasts Aggregate'!$C$58,$C81-$C$17,MATCH(AV$16,Ages,1))),\"\")","v":""},{"$f":"IF($C81<>\"\",AW81*EXP(-OFFSET('Forecasts Aggregate'!$C$58,$C81-$C$17,MATCH(AW$16,Ages,1))),\"\")","v":""},{"$f":"IF($C81<>\"\",AX81*EXP(-OFFSET('Forecasts Aggregate'!$C$58,$C81-$C$17,MATCH(AX$16,Ages,1))),\"\")","v":""},{"$f":"IF($C81<>\"\",AY81*EXP(-OFFSET('Forecasts Aggregate'!$C$58,$C81-$C$17,MATCH(AY$16,Ages,1))),\"\")","v":""},{"$f":"IF($C81<>\"\",AZ81*EXP(-OFFSET('Forecasts Aggregate'!$C$58,$C81-$C$17,MATCH(AZ$16,Ages,1))),\"\")","v":""},{"$f":"IF($C81<>\"\",BA81*EXP(-OFFSET('Forecasts Aggregate'!$C$58,$C81-$C$17,MATCH(BA$16,Ages,1))),\"\")","v":""},{"$f":"IF($C81<>\"\",BB81*EXP(-OFFSET('Forecasts Aggregate'!$C$58,$C81-$C$17,MATCH(BB$16,Ages,1))),\"\")","v":""},{"$f":"IF($C81<>\"\",BC81*EXP(-OFFSET('Forecasts Aggregate'!$C$58,$C81-$C$17,MATCH(BC$16,Ages,1))),\"\")","v":""},{"$f":"IF($C81<>\"\",BD81*EXP(-OFFSET('Forecasts Aggregate'!$C$58,$C81-$C$17,MATCH(BD$16,Ages,1))),\"\")","v":""},{"$f":"IF($C81<>\"\",BE81*EXP(-OFFSET('Forecasts Aggregate'!$C$58,$C81-$C$17,MATCH(BE$16,Ages,1))),\"\")","v":""},{"$f":"IF($C81<>\"\",BF81*EXP(-OFFSET('Forecasts Aggregate'!$C$58,$C81-$C$17,MATCH(BF$16,Ages,1))),\"\")","v":""},{"$f":"IF($C81<>\"\",BG81*EXP(-OFFSET('Forecasts Aggregate'!$C$58,$C81-$C$17,MATCH(BG$16,Ages,1))),\"\")","v":""},{"$f":"IF($C81<>\"\",BH81*EXP(-OFFSET('Forecasts Aggregate'!$C$58,$C81-$C$17,MATCH(BH$16,Ages,1))),\"\")","v":""},{"$f":"IF($C81<>\"\",BI81*EXP(-OFFSET('Forecasts Aggregate'!$C$58,$C81-$C$17,MATCH(BI$16,Ages,1))),\"\")","v":""},{"$f":"IF($C81<>\"\",BJ81*EXP(-OFFSET('Forecasts Aggregate'!$C$58,$C81-$C$17,MATCH(BJ$16,Ages,1))),\"\")","v":""},{"$f":"IF($C81<>\"\",BK81*EXP(-OFFSET('Forecasts Aggregate'!$C$58,$C81-$C$17,MATCH(BK$16,Ages,1))),\"\")","v":""},{"$f":"IF($C81<>\"\",BL81*EXP(-OFFSET('Forecasts Aggregate'!$C$58,$C81-$C$17,MATCH(BL$16,Ages,1))),\"\")","v":""},{"$f":"IF($C81<>\"\",BM81*EXP(-OFFSET('Forecasts Aggregate'!$C$58,$C81-$C$17,MATCH(BM$16,Ages,1))),\"\")","v":""},{"$f":"IF($C81<>\"\",BN81*EXP(-OFFSET('Forecasts Aggregate'!$C$58,$C81-$C$17,MATCH(BN$16,Ages,1))),\"\")","v":""},{"$f":"IF($C81<>\"\",BO81*EXP(-OFFSET('Forecasts Aggregate'!$C$58,$C81-$C$17,MATCH(BO$16,Ages,1))),\"\")","v":""},{"$f":"IF($C81<>\"\",BP81*EXP(-OFFSET('Forecasts Aggregate'!$C$58,$C81-$C$17,MATCH(BP$16,Ages,1))),\"\")","v":""},{"$f":"IF($C81<>\"\",BQ81*EXP(-OFFSET('Forecasts Aggregate'!$C$58,$C81-$C$17,MATCH(BQ$16,Ages,1))),\"\")","v":""},{"$f":"IF($C81<>\"\",BR81*EXP(-OFFSET('Forecasts Aggregate'!$C$58,$C81-$C$17,MATCH(BR$16,Ages,1))),\"\")","v":""},{"$f":"IF($C81<>\"\",BS81*EXP(-OFFSET('Forecasts Aggregate'!$C$58,$C81-$C$17,MATCH(BS$16,Ages,1))),\"\")","v":""},{"$f":"IF($C81<>\"\",BT81*EXP(-OFFSET('Forecasts Aggregate'!$C$58,$C81-$C$17,MATCH(BT$16,Ages,1))),\"\")","v":""},{"$f":"IF($C81<>\"\",BU81*EXP(-OFFSET('Forecasts Aggregate'!$C$58,$C81-$C$17,MATCH(BU$16,Ages,1))),\"\")","v":""},{"$f":"IF($C81<>\"\",BV81*EXP(-OFFSET('Forecasts Aggregate'!$C$58,$C81-$C$17,MATCH(BV$16,Ages,1))),\"\")","v":""},{"$f":"IF($C81<>\"\",BW81*EXP(-OFFSET('Forecasts Aggregate'!$C$58,$C81-$C$17,MATCH(BW$16,Ages,1))),\"\")","v":""},{"$f":"IF($C81<>\"\",BX81*EXP(-OFFSET('Forecasts Aggregate'!$C$58,$C81-$C$17,MATCH(BX$16,Ages,1))),\"\")","v":""},{"$f":"IF($C81<>\"\",BY81*EXP(-OFFSET('Forecasts Aggregate'!$C$58,$C81-$C$17,MATCH(BY$16,Ages,1))),\"\")","v":""},{"$f":"IF($C81<>\"\",BZ81*EXP(-OFFSET('Forecasts Aggregate'!$C$58,$C81-$C$17,MATCH(BZ$16,Ages,1))),\"\")","v":""},{"$f":"IF($C81<>\"\",CA81*EXP(-OFFSET('Forecasts Aggregate'!$C$58,$C81-$C$17,MATCH(CA$16,Ages,1))),\"\")","v":""},{"$f":"IF($C81<>\"\",CB81*EXP(-OFFSET('Forecasts Aggregate'!$C$58,$C81-$C$17,MATCH(CB$16,Ages,1))),\"\")","v":""},{"$f":"IF($C81<>\"\",CC81*EXP(-OFFSET('Forecasts Aggregate'!$C$58,$C81-$C$17,MATCH(CC$16,Ages,1))),\"\")","v":""},{"$f":"IF($C81<>\"\",CD81*EXP(-OFFSET('Forecasts Aggregate'!$C$58,$C81-$C$17,MATCH(CD$16,Ages,1))),\"\")","v":""},{"$f":"IF($C81<>\"\",CE81*EXP(-OFFSET('Forecasts Aggregate'!$C$58,$C81-$C$17,MATCH(CE$16,Ages,1))),\"\")","v":""},{"$f":"IF($C81<>\"\",CF81*EXP(-OFFSET('Forecasts Aggregate'!$C$58,$C81-$C$17,MATCH(CF$16,Ages,1))),\"\")","v":""},{"$f":"IF($C81<>\"\",CG81*EXP(-OFFSET('Forecasts Aggregate'!$C$58,$C81-$C$17,MATCH(CG$16,Ages,1))),\"\")","v":""},{"$f":"IF($C81<>\"\",CH81*EXP(-OFFSET('Forecasts Aggregate'!$C$58,$C81-$C$17,MATCH(CH$16,Ages,1))),\"\")","v":""},{"$f":"IF($C81<>\"\",CI81*EXP(-OFFSET('Forecasts Aggregate'!$C$58,$C81-$C$17,MATCH(CI$16,Ages,1))),\"\")","v":""},{"$f":"IF($C81<>\"\",CJ81*EXP(-OFFSET('Forecasts Aggregate'!$C$58,$C81-$C$17,MATCH(CJ$16,Ages,1))),\"\")","v":""},{"$f":"IF($C81<>\"\",CK81*EXP(-OFFSET('Forecasts Aggregate'!$C$58,$C81-$C$17,MATCH(CK$16,Ages,1))),\"\")","v":""},{"$f":"IF($C81<>\"\",CL81*EXP(-OFFSET('Forecasts Aggregate'!$C$58,$C81-$C$17,MATCH(CL$16,Ages,1))),\"\")","v":""},{"$f":"IF($C81<>\"\",CM81*EXP(-OFFSET('Forecasts Aggregate'!$C$58,$C81-$C$17,MATCH(CM$16,Ages,1))),\"\")","v":""},{"$f":"IF($C81<>\"\",CN81*EXP(-OFFSET('Forecasts Aggregate'!$C$58,$C81-$C$17,MATCH(CN$16,Ages,1))),\"\")","v":""},{"$f":"IF($C81<>\"\",CO81*EXP(-OFFSET('Forecasts Aggregate'!$C$58,$C81-$C$17,MATCH(CO$16,Ages,1))),\"\")","v":""},{"$f":"IF($C81<>\"\",CP81*EXP(-OFFSET('Forecasts Aggregate'!$C$58,$C81-$C$17,MATCH(CP$16,Ages,1))),\"\")","v":""},{"$f":"IF($C81<>\"\",CQ81*EXP(-OFFSET('Forecasts Aggregate'!$C$58,$C81-$C$17,MATCH(CQ$16,Ages,1))),\"\")","v":""},{"$f":"IF($C81<>\"\",CR81*EXP(-OFFSET('Forecasts Aggregate'!$C$58,$C81-$C$17,MATCH(CR$16,Ages,1))),\"\")","v":""},{"$f":"IF($C81<>\"\",CS81*EXP(-OFFSET('Forecasts Aggregate'!$C$58,$C81-$C$17,MATCH(CS$16,Ages,1))),\"\")","v":""},{"$f":"IF($C81<>\"\",CT81*EXP(-OFFSET('Forecasts Aggregate'!$C$58,$C81-$C$17,MATCH(CT$16,Ages,1))),\"\")","v":""},{"$f":"IF($C81<>\"\",CU81*EXP(-OFFSET('Forecasts Aggregate'!$C$58,$C81-$C$17,MATCH(CU$16,Ages,1))),\"\")","v":""},{"$f":"IF($C81<>\"\",CV81*EXP(-OFFSET('Forecasts Aggregate'!$C$58,$C81-$C$17,MATCH(CV$16,Ages,1))),\"\")","v":""},{"$f":"IF($C81<>\"\",CW81*EXP(-OFFSET('Forecasts Aggregate'!$C$58,$C81-$C$17,MATCH(CW$16,Ages,1))),\"\")","v":""},{"$f":"IF($C81<>\"\",CX81*EXP(-OFFSET('Forecasts Aggregate'!$C$58,$C81-$C$17,MATCH(CX$16,Ages,1))),\"\")","v":""},{"$f":"IF($C81<>\"\",CY81*EXP(-OFFSET('Forecasts Aggregate'!$C$58,$C81-$C$17,MATCH(CY$16,Ages,1))),\"\")","v":""},{"$f":"IF($C81<>\"\",CZ81*EXP(-OFFSET('Forecasts Aggregate'!$C$58,$C81-$C$17,MATCH(CZ$16,Ages,1))),\"\")","v":""},{"$f":"IF($C81<>\"\",DA81*EXP(-OFFSET('Forecasts Aggregate'!$C$58,$C81-$C$17,MATCH(DA$16,Ages,1))),\"\")","v":""},{"$f":"IF($C81<>\"\",DB81*EXP(-OFFSET('Forecasts Aggregate'!$C$58,$C81-$C$17,MATCH(DB$16,Ages,1))),\"\")","v":""},{"$f":"IF($C81<>\"\",DC81*EXP(-OFFSET('Forecasts Aggregate'!$C$58,$C81-$C$17,MATCH(DC$16,Ages,1))),\"\")","v":""},{"$f":"IF($C81<>\"\",DD81*EXP(-OFFSET('Forecasts Aggregate'!$C$58,$C81-$C$17,MATCH(DD$16,Ages,1))),\"\")","v":""},{"$f":"IF($C81<>\"\",DE81*EXP(-OFFSET('Forecasts Aggregate'!$C$58,$C81-$C$17,MATCH(DE$16,Ages,1))),\"\")","v":""},{"$f":"IF($C81<>\"\",DF81*EXP(-OFFSET('Forecasts Aggregate'!$C$58,$C81-$C$17,MATCH(DF$16,Ages,1))),\"\")","v":""},{"$f":"IF($C81<>\"\",DG81*EXP(-OFFSET('Forecasts Aggregate'!$C$58,$C81-$C$17,MATCH(DG$16,Ages,1))),\"\")","v":""},{"$f":"IF($C81<>\"\",DH81*EXP(-OFFSET('Forecasts Aggregate'!$C$58,$C81-$C$17,MATCH(DH$16,Ages,1))),\"\")","v":""},{"$f":"IF($C81<>\"\",DI81*EXP(-OFFSET('Forecasts Aggregate'!$C$58,$C81-$C$17,MATCH(DI$16,Ages,1))),\"\")","v":""},{"$f":"IF($C81<>\"\",DJ81*EXP(-OFFSET('Forecasts Aggregate'!$C$58,$C81-$C$17,MATCH(DJ$16,Ages,1))),\"\")","v":""},null,"","",""]
[null,null,"","",{"$f":"IF($C82<>\"\",D82*EXP(-OFFSET('Forecasts Aggregate'!$C$58,$C82-$C$17,MATCH(D$16,Ages,1))),\"\")","v":""},{"$f":"IF($C82<>\"\",E82*EXP(-OFFSET('Forecasts Aggregate'!$C$58,$C82-$C$17,MATCH(E$16,Ages,1))),\"\")","v":""},{"$f":"IF($C82<>\"\",F82*EXP(-OFFSET('Forecasts Aggregate'!$C$58,$C82-$C$17,MATCH(F$16,Ages,1))),\"\")","v":""},{"$f":"IF($C82<>\"\",G82*EXP(-OFFSET('Forecasts Aggregate'!$C$58,$C82-$C$17,MATCH(G$16,Ages,1))),\"\")","v":""},{"$f":"IF($C82<>\"\",H82*EXP(-OFFSET('Forecasts Aggregate'!$C$58,$C82-$C$17,MATCH(H$16,Ages,1))),\"\")","v":""},{"$f":"IF($C82<>\"\",I82*EXP(-OFFSET('Forecasts Aggregate'!$C$58,$C82-$C$17,MATCH(I$16,Ages,1))),\"\")","v":""},{"$f":"IF($C82<>\"\",J82*EXP(-OFFSET('Forecasts Aggregate'!$C$58,$C82-$C$17,MATCH(J$16,Ages,1))),\"\")","v":""},{"$f":"IF($C82<>\"\",K82*EXP(-OFFSET('Forecasts Aggregate'!$C$58,$C82-$C$17,MATCH(K$16,Ages,1))),\"\")","v":""},{"$f":"IF($C82<>\"\",L82*EXP(-OFFSET('Forecasts Aggregate'!$C$58,$C82-$C$17,MATCH(L$16,Ages,1))),\"\")","v":""},{"$f":"IF($C82<>\"\",M82*EXP(-OFFSET('Forecasts Aggregate'!$C$58,$C82-$C$17,MATCH(M$16,Ages,1))),\"\")","v":""},{"$f":"IF($C82<>\"\",N82*EXP(-OFFSET('Forecasts Aggregate'!$C$58,$C82-$C$17,MATCH(N$16,Ages,1))),\"\")","v":""},{"$f":"IF($C82<>\"\",O82*EXP(-OFFSET('Forecasts Aggregate'!$C$58,$C82-$C$17,MATCH(O$16,Ages,1))),\"\")","v":""},{"$f":"IF($C82<>\"\",P82*EXP(-OFFSET('Forecasts Aggregate'!$C$58,$C82-$C$17,MATCH(P$16,Ages,1))),\"\")","v":""},{"$f":"IF($C82<>\"\",Q82*EXP(-OFFSET('Forecasts Aggregate'!$C$58,$C82-$C$17,MATCH(Q$16,Ages,1))),\"\")","v":""},{"$f":"IF($C82<>\"\",R82*EXP(-OFFSET('Forecasts Aggregate'!$C$58,$C82-$C$17,MATCH(R$16,Ages,1))),\"\")","v":""},{"$f":"IF($C82<>\"\",S82*EXP(-OFFSET('Forecasts Aggregate'!$C$58,$C82-$C$17,MATCH(S$16,Ages,1))),\"\")","v":""},{"$f":"IF($C82<>\"\",T82*EXP(-OFFSET('Forecasts Aggregate'!$C$58,$C82-$C$17,MATCH(T$16,Ages,1))),\"\")","v":""},{"$f":"IF($C82<>\"\",U82*EXP(-OFFSET('Forecasts Aggregate'!$C$58,$C82-$C$17,MATCH(U$16,Ages,1))),\"\")","v":""},{"$f":"IF($C82<>\"\",V82*EXP(-OFFSET('Forecasts Aggregate'!$C$58,$C82-$C$17,MATCH(V$16,Ages,1))),\"\")","v":""},{"$f":"IF($C82<>\"\",W82*EXP(-OFFSET('Forecasts Aggregate'!$C$58,$C82-$C$17,MATCH(W$16,Ages,1))),\"\")","v":""},{"$f":"IF($C82<>\"\",X82*EXP(-OFFSET('Forecasts Aggregate'!$C$58,$C82-$C$17,MATCH(X$16,Ages,1))),\"\")","v":""},{"$f":"IF($C82<>\"\",Y82*EXP(-OFFSET('Forecasts Aggregate'!$C$58,$C82-$C$17,MATCH(Y$16,Ages,1))),\"\")","v":""},{"$f":"IF($C82<>\"\",Z82*EXP(-OFFSET('Forecasts Aggregate'!$C$58,$C82-$C$17,MATCH(Z$16,Ages,1))),\"\")","v":""},{"$f":"IF($C82<>\"\",AA82*EXP(-OFFSET('Forecasts Aggregate'!$C$58,$C82-$C$17,MATCH(AA$16,Ages,1))),\"\")","v":""},{"$f":"IF($C82<>\"\",AB82*EXP(-OFFSET('Forecasts Aggregate'!$C$58,$C82-$C$17,MATCH(AB$16,Ages,1))),\"\")","v":""},{"$f":"IF($C82<>\"\",AC82*EXP(-OFFSET('Forecasts Aggregate'!$C$58,$C82-$C$17,MATCH(AC$16,Ages,1))),\"\")","v":""},{"$f":"IF($C82<>\"\",AD82*EXP(-OFFSET('Forecasts Aggregate'!$C$58,$C82-$C$17,MATCH(AD$16,Ages,1))),\"\")","v":""},{"$f":"IF($C82<>\"\",AE82*EXP(-OFFSET('Forecasts Aggregate'!$C$58,$C82-$C$17,MATCH(AE$16,Ages,1))),\"\")","v":""},{"$f":"IF($C82<>\"\",AF82*EXP(-OFFSET('Forecasts Aggregate'!$C$58,$C82-$C$17,MATCH(AF$16,Ages,1))),\"\")","v":""},{"$f":"IF($C82<>\"\",AG82*EXP(-OFFSET('Forecasts Aggregate'!$C$58,$C82-$C$17,MATCH(AG$16,Ages,1))),\"\")","v":""},{"$f":"IF($C82<>\"\",AH82*EXP(-OFFSET('Forecasts Aggregate'!$C$58,$C82-$C$17,MATCH(AH$16,Ages,1))),\"\")","v":""},{"$f":"IF($C82<>\"\",AI82*EXP(-OFFSET('Forecasts Aggregate'!$C$58,$C82-$C$17,MATCH(AI$16,Ages,1))),\"\")","v":""},{"$f":"IF($C82<>\"\",AJ82*EXP(-OFFSET('Forecasts Aggregate'!$C$58,$C82-$C$17,MATCH(AJ$16,Ages,1))),\"\")","v":""},{"$f":"IF($C82<>\"\",AK82*EXP(-OFFSET('Forecasts Aggregate'!$C$58,$C82-$C$17,MATCH(AK$16,Ages,1))),\"\")","v":""},{"$f":"IF($C82<>\"\",AL82*EXP(-OFFSET('Forecasts Aggregate'!$C$58,$C82-$C$17,MATCH(AL$16,Ages,1))),\"\")","v":""},{"$f":"IF($C82<>\"\",AM82*EXP(-OFFSET('Forecasts Aggregate'!$C$58,$C82-$C$17,MATCH(AM$16,Ages,1))),\"\")","v":""},{"$f":"IF($C82<>\"\",AN82*EXP(-OFFSET('Forecasts Aggregate'!$C$58,$C82-$C$17,MATCH(AN$16,Ages,1))),\"\")","v":""},{"$f":"IF($C82<>\"\",AO82*EXP(-OFFSET('Forecasts Aggregate'!$C$58,$C82-$C$17,MATCH(AO$16,Ages,1))),\"\")","v":""},{"$f":"IF($C82<>\"\",AP82*EXP(-OFFSET('Forecasts Aggregate'!$C$58,$C82-$C$17,MATCH(AP$16,Ages,1))),\"\")","v":""},{"$f":"IF($C82<>\"\",AQ82*EXP(-OFFSET('Forecasts Aggregate'!$C$58,$C82-$C$17,MATCH(AQ$16,Ages,1))),\"\")","v":""},{"$f":"IF($C82<>\"\",AR82*EXP(-OFFSET('Forecasts Aggregate'!$C$58,$C82-$C$17,MATCH(AR$16,Ages,1))),\"\")","v":""},{"$f":"IF($C82<>\"\",AS82*EXP(-OFFSET('Forecasts Aggregate'!$C$58,$C82-$C$17,MATCH(AS$16,Ages,1))),\"\")","v":""},{"$f":"IF($C82<>\"\",AT82*EXP(-OFFSET('Forecasts Aggregate'!$C$58,$C82-$C$17,MATCH(AT$16,Ages,1))),\"\")","v":""},{"$f":"IF($C82<>\"\",AU82*EXP(-OFFSET('Forecasts Aggregate'!$C$58,$C82-$C$17,MATCH(AU$16,Ages,1))),\"\")","v":""},{"$f":"IF($C82<>\"\",AV82*EXP(-OFFSET('Forecasts Aggregate'!$C$58,$C82-$C$17,MATCH(AV$16,Ages,1))),\"\")","v":""},{"$f":"IF($C82<>\"\",AW82*EXP(-OFFSET('Forecasts Aggregate'!$C$58,$C82-$C$17,MATCH(AW$16,Ages,1))),\"\")","v":""},{"$f":"IF($C82<>\"\",AX82*EXP(-OFFSET('Forecasts Aggregate'!$C$58,$C82-$C$17,MATCH(AX$16,Ages,1))),\"\")","v":""},{"$f":"IF($C82<>\"\",AY82*EXP(-OFFSET('Forecasts Aggregate'!$C$58,$C82-$C$17,MATCH(AY$16,Ages,1))),\"\")","v":""},{"$f":"IF($C82<>\"\",AZ82*EXP(-OFFSET('Forecasts Aggregate'!$C$58,$C82-$C$17,MATCH(AZ$16,Ages,1))),\"\")","v":""},{"$f":"IF($C82<>\"\",BA82*EXP(-OFFSET('Forecasts Aggregate'!$C$58,$C82-$C$17,MATCH(BA$16,Ages,1))),\"\")","v":""},{"$f":"IF($C82<>\"\",BB82*EXP(-OFFSET('Forecasts Aggregate'!$C$58,$C82-$C$17,MATCH(BB$16,Ages,1))),\"\")","v":""},{"$f":"IF($C82<>\"\",BC82*EXP(-OFFSET('Forecasts Aggregate'!$C$58,$C82-$C$17,MATCH(BC$16,Ages,1))),\"\")","v":""},{"$f":"IF($C82<>\"\",BD82*EXP(-OFFSET('Forecasts Aggregate'!$C$58,$C82-$C$17,MATCH(BD$16,Ages,1))),\"\")","v":""},{"$f":"IF($C82<>\"\",BE82*EXP(-OFFSET('Forecasts Aggregate'!$C$58,$C82-$C$17,MATCH(BE$16,Ages,1))),\"\")","v":""},{"$f":"IF($C82<>\"\",BF82*EXP(-OFFSET('Forecasts Aggregate'!$C$58,$C82-$C$17,MATCH(BF$16,Ages,1))),\"\")","v":""},{"$f":"IF($C82<>\"\",BG82*EXP(-OFFSET('Forecasts Aggregate'!$C$58,$C82-$C$17,MATCH(BG$16,Ages,1))),\"\")","v":""},{"$f":"IF($C82<>\"\",BH82*EXP(-OFFSET('Forecasts Aggregate'!$C$58,$C82-$C$17,MATCH(BH$16,Ages,1))),\"\")","v":""},{"$f":"IF($C82<>\"\",BI82*EXP(-OFFSET('Forecasts Aggregate'!$C$58,$C82-$C$17,MATCH(BI$16,Ages,1))),\"\")","v":""},{"$f":"IF($C82<>\"\",BJ82*EXP(-OFFSET('Forecasts Aggregate'!$C$58,$C82-$C$17,MATCH(BJ$16,Ages,1))),\"\")","v":""},{"$f":"IF($C82<>\"\",BK82*EXP(-OFFSET('Forecasts Aggregate'!$C$58,$C82-$C$17,MATCH(BK$16,Ages,1))),\"\")","v":""},{"$f":"IF($C82<>\"\",BL82*EXP(-OFFSET('Forecasts Aggregate'!$C$58,$C82-$C$17,MATCH(BL$16,Ages,1))),\"\")","v":""},{"$f":"IF($C82<>\"\",BM82*EXP(-OFFSET('Forecasts Aggregate'!$C$58,$C82-$C$17,MATCH(BM$16,Ages,1))),\"\")","v":""},{"$f":"IF($C82<>\"\",BN82*EXP(-OFFSET('Forecasts Aggregate'!$C$58,$C82-$C$17,MATCH(BN$16,Ages,1))),\"\")","v":""},{"$f":"IF($C82<>\"\",BO82*EXP(-OFFSET('Forecasts Aggregate'!$C$58,$C82-$C$17,MATCH(BO$16,Ages,1))),\"\")","v":""},{"$f":"IF($C82<>\"\",BP82*EXP(-OFFSET('Forecasts Aggregate'!$C$58,$C82-$C$17,MATCH(BP$16,Ages,1))),\"\")","v":""},{"$f":"IF($C82<>\"\",BQ82*EXP(-OFFSET('Forecasts Aggregate'!$C$58,$C82-$C$17,MATCH(BQ$16,Ages,1))),\"\")","v":""},{"$f":"IF($C82<>\"\",BR82*EXP(-OFFSET('Forecasts Aggregate'!$C$58,$C82-$C$17,MATCH(BR$16,Ages,1))),\"\")","v":""},{"$f":"IF($C82<>\"\",BS82*EXP(-OFFSET('Forecasts Aggregate'!$C$58,$C82-$C$17,MATCH(BS$16,Ages,1))),\"\")","v":""},{"$f":"IF($C82<>\"\",BT82*EXP(-OFFSET('Forecasts Aggregate'!$C$58,$C82-$C$17,MATCH(BT$16,Ages,1))),\"\")","v":""},{"$f":"IF($C82<>\"\",BU82*EXP(-OFFSET('Forecasts Aggregate'!$C$58,$C82-$C$17,MATCH(BU$16,Ages,1))),\"\")","v":""},{"$f":"IF($C82<>\"\",BV82*EXP(-OFFSET('Forecasts Aggregate'!$C$58,$C82-$C$17,MATCH(BV$16,Ages,1))),\"\")","v":""},{"$f":"IF($C82<>\"\",BW82*EXP(-OFFSET('Forecasts Aggregate'!$C$58,$C82-$C$17,MATCH(BW$16,Ages,1))),\"\")","v":""},{"$f":"IF($C82<>\"\",BX82*EXP(-OFFSET('Forecasts Aggregate'!$C$58,$C82-$C$17,MATCH(BX$16,Ages,1))),\"\")","v":""},{"$f":"IF($C82<>\"\",BY82*EXP(-OFFSET('Forecasts Aggregate'!$C$58,$C82-$C$17,MATCH(BY$16,Ages,1))),\"\")","v":""},{"$f":"IF($C82<>\"\",BZ82*EXP(-OFFSET('Forecasts Aggregate'!$C$58,$C82-$C$17,MATCH(BZ$16,Ages,1))),\"\")","v":""},{"$f":"IF($C82<>\"\",CA82*EXP(-OFFSET('Forecasts Aggregate'!$C$58,$C82-$C$17,MATCH(CA$16,Ages,1))),\"\")","v":""},{"$f":"IF($C82<>\"\",CB82*EXP(-OFFSET('Forecasts Aggregate'!$C$58,$C82-$C$17,MATCH(CB$16,Ages,1))),\"\")","v":""},{"$f":"IF($C82<>\"\",CC82*EXP(-OFFSET('Forecasts Aggregate'!$C$58,$C82-$C$17,MATCH(CC$16,Ages,1))),\"\")","v":""},{"$f":"IF($C82<>\"\",CD82*EXP(-OFFSET('Forecasts Aggregate'!$C$58,$C82-$C$17,MATCH(CD$16,Ages,1))),\"\")","v":""},{"$f":"IF($C82<>\"\",CE82*EXP(-OFFSET('Forecasts Aggregate'!$C$58,$C82-$C$17,MATCH(CE$16,Ages,1))),\"\")","v":""},{"$f":"IF($C82<>\"\",CF82*EXP(-OFFSET('Forecasts Aggregate'!$C$58,$C82-$C$17,MATCH(CF$16,Ages,1))),\"\")","v":""},{"$f":"IF($C82<>\"\",CG82*EXP(-OFFSET('Forecasts Aggregate'!$C$58,$C82-$C$17,MATCH(CG$16,Ages,1))),\"\")","v":""},{"$f":"IF($C82<>\"\",CH82*EXP(-OFFSET('Forecasts Aggregate'!$C$58,$C82-$C$17,MATCH(CH$16,Ages,1))),\"\")","v":""},{"$f":"IF($C82<>\"\",CI82*EXP(-OFFSET('Forecasts Aggregate'!$C$58,$C82-$C$17,MATCH(CI$16,Ages,1))),\"\")","v":""},{"$f":"IF($C82<>\"\",CJ82*EXP(-OFFSET('Forecasts Aggregate'!$C$58,$C82-$C$17,MATCH(CJ$16,Ages,1))),\"\")","v":""},{"$f":"IF($C82<>\"\",CK82*EXP(-OFFSET('Forecasts Aggregate'!$C$58,$C82-$C$17,MATCH(CK$16,Ages,1))),\"\")","v":""},{"$f":"IF($C82<>\"\",CL82*EXP(-OFFSET('Forecasts Aggregate'!$C$58,$C82-$C$17,MATCH(CL$16,Ages,1))),\"\")","v":""},{"$f":"IF($C82<>\"\",CM82*EXP(-OFFSET('Forecasts Aggregate'!$C$58,$C82-$C$17,MATCH(CM$16,Ages,1))),\"\")","v":""},{"$f":"IF($C82<>\"\",CN82*EXP(-OFFSET('Forecasts Aggregate'!$C$58,$C82-$C$17,MATCH(CN$16,Ages,1))),\"\")","v":""},{"$f":"IF($C82<>\"\",CO82*EXP(-OFFSET('Forecasts Aggregate'!$C$58,$C82-$C$17,MATCH(CO$16,Ages,1))),\"\")","v":""},{"$f":"IF($C82<>\"\",CP82*EXP(-OFFSET('Forecasts Aggregate'!$C$58,$C82-$C$17,MATCH(CP$16,Ages,1))),\"\")","v":""},{"$f":"IF($C82<>\"\",CQ82*EXP(-OFFSET('Forecasts Aggregate'!$C$58,$C82-$C$17,MATCH(CQ$16,Ages,1))),\"\")","v":""},{"$f":"IF($C82<>\"\",CR82*EXP(-OFFSET('Forecasts Aggregate'!$C$58,$C82-$C$17,MATCH(CR$16,Ages,1))),\"\")","v":""},{"$f":"IF($C82<>\"\",CS82*EXP(-OFFSET('Forecasts Aggregate'!$C$58,$C82-$C$17,MATCH(CS$16,Ages,1))),\"\")","v":""},{"$f":"IF($C82<>\"\",CT82*EXP(-OFFSET('Forecasts Aggregate'!$C$58,$C82-$C$17,MATCH(CT$16,Ages,1))),\"\")","v":""},{"$f":"IF($C82<>\"\",CU82*EXP(-OFFSET('Forecasts Aggregate'!$C$58,$C82-$C$17,MATCH(CU$16,Ages,1))),\"\")","v":""},{"$f":"IF($C82<>\"\",CV82*EXP(-OFFSET('Forecasts Aggregate'!$C$58,$C82-$C$17,MATCH(CV$16,Ages,1))),\"\")","v":""},{"$f":"IF($C82<>\"\",CW82*EXP(-OFFSET('Forecasts Aggregate'!$C$58,$C82-$C$17,MATCH(CW$16,Ages,1))),\"\")","v":""},{"$f":"IF($C82<>\"\",CX82*EXP(-OFFSET('Forecasts Aggregate'!$C$58,$C82-$C$17,MATCH(CX$16,Ages,1))),\"\")","v":""},{"$f":"IF($C82<>\"\",CY82*EXP(-OFFSET('Forecasts Aggregate'!$C$58,$C82-$C$17,MATCH(CY$16,Ages,1))),\"\")","v":""},{"$f":"IF($C82<>\"\",CZ82*EXP(-OFFSET('Forecasts Aggregate'!$C$58,$C82-$C$17,MATCH(CZ$16,Ages,1))),\"\")","v":""},{"$f":"IF($C82<>\"\",DA82*EXP(-OFFSET('Forecasts Aggregate'!$C$58,$C82-$C$17,MATCH(DA$16,Ages,1))),\"\")","v":""},{"$f":"IF($C82<>\"\",DB82*EXP(-OFFSET('Forecasts Aggregate'!$C$58,$C82-$C$17,MATCH(DB$16,Ages,1))),\"\")","v":""},{"$f":"IF($C82<>\"\",DC82*EXP(-OFFSET('Forecasts Aggregate'!$C$58,$C82-$C$17,MATCH(DC$16,Ages,1))),\"\")","v":""},{"$f":"IF($C82<>\"\",DD82*EXP(-OFFSET('Forecasts Aggregate'!$C$58,$C82-$C$17,MATCH(DD$16,Ages,1))),\"\")","v":""},{"$f":"IF($C82<>\"\",DE82*EXP(-OFFSET('Forecasts Aggregate'!$C$58,$C82-$C$17,MATCH(DE$16,Ages,1))),\"\")","v":""},{"$f":"IF($C82<>\"\",DF82*EXP(-OFFSET('Forecasts Aggregate'!$C$58,$C82-$C$17,MATCH(DF$16,Ages,1))),\"\")","v":""},{"$f":"IF($C82<>\"\",DG82*EXP(-OFFSET('Forecasts Aggregate'!$C$58,$C82-$C$17,MATCH(DG$16,Ages,1))),\"\")","v":""},{"$f":"IF($C82<>\"\",DH82*EXP(-OFFSET('Forecasts Aggregate'!$C$58,$C82-$C$17,MATCH(DH$16,Ages,1))),\"\")","v":""},{"$f":"IF($C82<>\"\",DI82*EXP(-OFFSET('Forecasts Aggregate'!$C$58,$C82-$C$17,MATCH(DI$16,Ages,1))),\"\")","v":""},{"$f":"IF($C82<>\"\",DJ82*EXP(-OFFSET('Forecasts Aggregate'!$C$58,$C82-$C$17,MATCH(DJ$16,Ages,1))),\"\")","v":""},null,"","",""]
[null,null,"","",{"$f":"IF($C83<>\"\",D83*EXP(-OFFSET('Forecasts Aggregate'!$C$58,$C83-$C$17,MATCH(D$16,Ages,1))),\"\")","v":""},{"$f":"IF($C83<>\"\",E83*EXP(-OFFSET('Forecasts Aggregate'!$C$58,$C83-$C$17,MATCH(E$16,Ages,1))),\"\")","v":""},{"$f":"IF($C83<>\"\",F83*EXP(-OFFSET('Forecasts Aggregate'!$C$58,$C83-$C$17,MATCH(F$16,Ages,1))),\"\")","v":""},{"$f":"IF($C83<>\"\",G83*EXP(-OFFSET('Forecasts Aggregate'!$C$58,$C83-$C$17,MATCH(G$16,Ages,1))),\"\")","v":""},{"$f":"IF($C83<>\"\",H83*EXP(-OFFSET('Forecasts Aggregate'!$C$58,$C83-$C$17,MATCH(H$16,Ages,1))),\"\")","v":""},{"$f":"IF($C83<>\"\",I83*EXP(-OFFSET('Forecasts Aggregate'!$C$58,$C83-$C$17,MATCH(I$16,Ages,1))),\"\")","v":""},{"$f":"IF($C83<>\"\",J83*EXP(-OFFSET('Forecasts Aggregate'!$C$58,$C83-$C$17,MATCH(J$16,Ages,1))),\"\")","v":""},{"$f":"IF($C83<>\"\",K83*EXP(-OFFSET('Forecasts Aggregate'!$C$58,$C83-$C$17,MATCH(K$16,Ages,1))),\"\")","v":""},{"$f":"IF($C83<>\"\",L83*EXP(-OFFSET('Forecasts Aggregate'!$C$58,$C83-$C$17,MATCH(L$16,Ages,1))),\"\")","v":""},{"$f":"IF($C83<>\"\",M83*EXP(-OFFSET('Forecasts Aggregate'!$C$58,$C83-$C$17,MATCH(M$16,Ages,1))),\"\")","v":""},{"$f":"IF($C83<>\"\",N83*EXP(-OFFSET('Forecasts Aggregate'!$C$58,$C83-$C$17,MATCH(N$16,Ages,1))),\"\")","v":""},{"$f":"IF($C83<>\"\",O83*EXP(-OFFSET('Forecasts Aggregate'!$C$58,$C83-$C$17,MATCH(O$16,Ages,1))),\"\")","v":""},{"$f":"IF($C83<>\"\",P83*EXP(-OFFSET('Forecasts Aggregate'!$C$58,$C83-$C$17,MATCH(P$16,Ages,1))),\"\")","v":""},{"$f":"IF($C83<>\"\",Q83*EXP(-OFFSET('Forecasts Aggregate'!$C$58,$C83-$C$17,MATCH(Q$16,Ages,1))),\"\")","v":""},{"$f":"IF($C83<>\"\",R83*EXP(-OFFSET('Forecasts Aggregate'!$C$58,$C83-$C$17,MATCH(R$16,Ages,1))),\"\")","v":""},{"$f":"IF($C83<>\"\",S83*EXP(-OFFSET('Forecasts Aggregate'!$C$58,$C83-$C$17,MATCH(S$16,Ages,1))),\"\")","v":""},{"$f":"IF($C83<>\"\",T83*EXP(-OFFSET('Forecasts Aggregate'!$C$58,$C83-$C$17,MATCH(T$16,Ages,1))),\"\")","v":""},{"$f":"IF($C83<>\"\",U83*EXP(-OFFSET('Forecasts Aggregate'!$C$58,$C83-$C$17,MATCH(U$16,Ages,1))),\"\")","v":""},{"$f":"IF($C83<>\"\",V83*EXP(-OFFSET('Forecasts Aggregate'!$C$58,$C83-$C$17,MATCH(V$16,Ages,1))),\"\")","v":""},{"$f":"IF($C83<>\"\",W83*EXP(-OFFSET('Forecasts Aggregate'!$C$58,$C83-$C$17,MATCH(W$16,Ages,1))),\"\")","v":""},{"$f":"IF($C83<>\"\",X83*EXP(-OFFSET('Forecasts Aggregate'!$C$58,$C83-$C$17,MATCH(X$16,Ages,1))),\"\")","v":""},{"$f":"IF($C83<>\"\",Y83*EXP(-OFFSET('Forecasts Aggregate'!$C$58,$C83-$C$17,MATCH(Y$16,Ages,1))),\"\")","v":""},{"$f":"IF($C83<>\"\",Z83*EXP(-OFFSET('Forecasts Aggregate'!$C$58,$C83-$C$17,MATCH(Z$16,Ages,1))),\"\")","v":""},{"$f":"IF($C83<>\"\",AA83*EXP(-OFFSET('Forecasts Aggregate'!$C$58,$C83-$C$17,MATCH(AA$16,Ages,1))),\"\")","v":""},{"$f":"IF($C83<>\"\",AB83*EXP(-OFFSET('Forecasts Aggregate'!$C$58,$C83-$C$17,MATCH(AB$16,Ages,1))),\"\")","v":""},{"$f":"IF($C83<>\"\",AC83*EXP(-OFFSET('Forecasts Aggregate'!$C$58,$C83-$C$17,MATCH(AC$16,Ages,1))),\"\")","v":""},{"$f":"IF($C83<>\"\",AD83*EXP(-OFFSET('Forecasts Aggregate'!$C$58,$C83-$C$17,MATCH(AD$16,Ages,1))),\"\")","v":""},{"$f":"IF($C83<>\"\",AE83*EXP(-OFFSET('Forecasts Aggregate'!$C$58,$C83-$C$17,MATCH(AE$16,Ages,1))),\"\")","v":""},{"$f":"IF($C83<>\"\",AF83*EXP(-OFFSET('Forecasts Aggregate'!$C$58,$C83-$C$17,MATCH(AF$16,Ages,1))),\"\")","v":""},{"$f":"IF($C83<>\"\",AG83*EXP(-OFFSET('Forecasts Aggregate'!$C$58,$C83-$C$17,MATCH(AG$16,Ages,1))),\"\")","v":""},{"$f":"IF($C83<>\"\",AH83*EXP(-OFFSET('Forecasts Aggregate'!$C$58,$C83-$C$17,MATCH(AH$16,Ages,1))),\"\")","v":""},{"$f":"IF($C83<>\"\",AI83*EXP(-OFFSET('Forecasts Aggregate'!$C$58,$C83-$C$17,MATCH(AI$16,Ages,1))),\"\")","v":""},{"$f":"IF($C83<>\"\",AJ83*EXP(-OFFSET('Forecasts Aggregate'!$C$58,$C83-$C$17,MATCH(AJ$16,Ages,1))),\"\")","v":""},{"$f":"IF($C83<>\"\",AK83*EXP(-OFFSET('Forecasts Aggregate'!$C$58,$C83-$C$17,MATCH(AK$16,Ages,1))),\"\")","v":""},{"$f":"IF($C83<>\"\",AL83*EXP(-OFFSET('Forecasts Aggregate'!$C$58,$C83-$C$17,MATCH(AL$16,Ages,1))),\"\")","v":""},{"$f":"IF($C83<>\"\",AM83*EXP(-OFFSET('Forecasts Aggregate'!$C$58,$C83-$C$17,MATCH(AM$16,Ages,1))),\"\")","v":""},{"$f":"IF($C83<>\"\",AN83*EXP(-OFFSET('Forecasts Aggregate'!$C$58,$C83-$C$17,MATCH(AN$16,Ages,1))),\"\")","v":""},{"$f":"IF($C83<>\"\",AO83*EXP(-OFFSET('Forecasts Aggregate'!$C$58,$C83-$C$17,MATCH(AO$16,Ages,1))),\"\")","v":""},{"$f":"IF($C83<>\"\",AP83*EXP(-OFFSET('Forecasts Aggregate'!$C$58,$C83-$C$17,MATCH(AP$16,Ages,1))),\"\")","v":""},{"$f":"IF($C83<>\"\",AQ83*EXP(-OFFSET('Forecasts Aggregate'!$C$58,$C83-$C$17,MATCH(AQ$16,Ages,1))),\"\")","v":""},{"$f":"IF($C83<>\"\",AR83*EXP(-OFFSET('Forecasts Aggregate'!$C$58,$C83-$C$17,MATCH(AR$16,Ages,1))),\"\")","v":""},{"$f":"IF($C83<>\"\",AS83*EXP(-OFFSET('Forecasts Aggregate'!$C$58,$C83-$C$17,MATCH(AS$16,Ages,1))),\"\")","v":""},{"$f":"IF($C83<>\"\",AT83*EXP(-OFFSET('Forecasts Aggregate'!$C$58,$C83-$C$17,MATCH(AT$16,Ages,1))),\"\")","v":""},{"$f":"IF($C83<>\"\",AU83*EXP(-OFFSET('Forecasts Aggregate'!$C$58,$C83-$C$17,MATCH(AU$16,Ages,1))),\"\")","v":""},{"$f":"IF($C83<>\"\",AV83*EXP(-OFFSET('Forecasts Aggregate'!$C$58,$C83-$C$17,MATCH(AV$16,Ages,1))),\"\")","v":""},{"$f":"IF($C83<>\"\",AW83*EXP(-OFFSET('Forecasts Aggregate'!$C$58,$C83-$C$17,MATCH(AW$16,Ages,1))),\"\")","v":""},{"$f":"IF($C83<>\"\",AX83*EXP(-OFFSET('Forecasts Aggregate'!$C$58,$C83-$C$17,MATCH(AX$16,Ages,1))),\"\")","v":""},{"$f":"IF($C83<>\"\",AY83*EXP(-OFFSET('Forecasts Aggregate'!$C$58,$C83-$C$17,MATCH(AY$16,Ages,1))),\"\")","v":""},{"$f":"IF($C83<>\"\",AZ83*EXP(-OFFSET('Forecasts Aggregate'!$C$58,$C83-$C$17,MATCH(AZ$16,Ages,1))),\"\")","v":""},{"$f":"IF($C83<>\"\",BA83*EXP(-OFFSET('Forecasts Aggregate'!$C$58,$C83-$C$17,MATCH(BA$16,Ages,1))),\"\")","v":""},{"$f":"IF($C83<>\"\",BB83*EXP(-OFFSET('Forecasts Aggregate'!$C$58,$C83-$C$17,MATCH(BB$16,Ages,1))),\"\")","v":""},{"$f":"IF($C83<>\"\",BC83*EXP(-OFFSET('Forecasts Aggregate'!$C$58,$C83-$C$17,MATCH(BC$16,Ages,1))),\"\")","v":""},{"$f":"IF($C83<>\"\",BD83*EXP(-OFFSET('Forecasts Aggregate'!$C$58,$C83-$C$17,MATCH(BD$16,Ages,1))),\"\")","v":""},{"$f":"IF($C83<>\"\",BE83*EXP(-OFFSET('Forecasts Aggregate'!$C$58,$C83-$C$17,MATCH(BE$16,Ages,1))),\"\")","v":""},{"$f":"IF($C83<>\"\",BF83*EXP(-OFFSET('Forecasts Aggregate'!$C$58,$C83-$C$17,MATCH(BF$16,Ages,1))),\"\")","v":""},{"$f":"IF($C83<>\"\",BG83*EXP(-OFFSET('Forecasts Aggregate'!$C$58,$C83-$C$17,MATCH(BG$16,Ages,1))),\"\")","v":""},{"$f":"IF($C83<>\"\",BH83*EXP(-OFFSET('Forecasts Aggregate'!$C$58,$C83-$C$17,MATCH(BH$16,Ages,1))),\"\")","v":""},{"$f":"IF($C83<>\"\",BI83*EXP(-OFFSET('Forecasts Aggregate'!$C$58,$C83-$C$17,MATCH(BI$16,Ages,1))),\"\")","v":""},{"$f":"IF($C83<>\"\",BJ83*EXP(-OFFSET('Forecasts Aggregate'!$C$58,$C83-$C$17,MATCH(BJ$16,Ages,1))),\"\")","v":""},{"$f":"IF($C83<>\"\",BK83*EXP(-OFFSET('Forecasts Aggregate'!$C$58,$C83-$C$17,MATCH(BK$16,Ages,1))),\"\")","v":""},{"$f":"IF($C83<>\"\",BL83*EXP(-OFFSET('Forecasts Aggregate'!$C$58,$C83-$C$17,MATCH(BL$16,Ages,1))),\"\")","v":""},{"$f":"IF($C83<>\"\",BM83*EXP(-OFFSET('Forecasts Aggregate'!$C$58,$C83-$C$17,MATCH(BM$16,Ages,1))),\"\")","v":""},{"$f":"IF($C83<>\"\",BN83*EXP(-OFFSET('Forecasts Aggregate'!$C$58,$C83-$C$17,MATCH(BN$16,Ages,1))),\"\")","v":""},{"$f":"IF($C83<>\"\",BO83*EXP(-OFFSET('Forecasts Aggregate'!$C$58,$C83-$C$17,MATCH(BO$16,Ages,1))),\"\")","v":""},{"$f":"IF($C83<>\"\",BP83*EXP(-OFFSET('Forecasts Aggregate'!$C$58,$C83-$C$17,MATCH(BP$16,Ages,1))),\"\")","v":""},{"$f":"IF($C83<>\"\",BQ83*EXP(-OFFSET('Forecasts Aggregate'!$C$58,$C83-$C$17,MATCH(BQ$16,Ages,1))),\"\")","v":""},{"$f":"IF($C83<>\"\",BR83*EXP(-OFFSET('Forecasts Aggregate'!$C$58,$C83-$C$17,MATCH(BR$16,Ages,1))),\"\")","v":""},{"$f":"IF($C83<>\"\",BS83*EXP(-OFFSET('Forecasts Aggregate'!$C$58,$C83-$C$17,MATCH(BS$16,Ages,1))),\"\")","v":""},{"$f":"IF($C83<>\"\",BT83*EXP(-OFFSET('Forecasts Aggregate'!$C$58,$C83-$C$17,MATCH(BT$16,Ages,1))),\"\")","v":""},{"$f":"IF($C83<>\"\",BU83*EXP(-OFFSET('Forecasts Aggregate'!$C$58,$C83-$C$17,MATCH(BU$16,Ages,1))),\"\")","v":""},{"$f":"IF($C83<>\"\",BV83*EXP(-OFFSET('Forecasts Aggregate'!$C$58,$C83-$C$17,MATCH(BV$16,Ages,1))),\"\")","v":""},{"$f":"IF($C83<>\"\",BW83*EXP(-OFFSET('Forecasts Aggregate'!$C$58,$C83-$C$17,MATCH(BW$16,Ages,1))),\"\")","v":""},{"$f":"IF($C83<>\"\",BX83*EXP(-OFFSET('Forecasts Aggregate'!$C$58,$C83-$C$17,MATCH(BX$16,Ages,1))),\"\")","v":""},{"$f":"IF($C83<>\"\",BY83*EXP(-OFFSET('Forecasts Aggregate'!$C$58,$C83-$C$17,MATCH(BY$16,Ages,1))),\"\")","v":""},{"$f":"IF($C83<>\"\",BZ83*EXP(-OFFSET('Forecasts Aggregate'!$C$58,$C83-$C$17,MATCH(BZ$16,Ages,1))),\"\")","v":""},{"$f":"IF($C83<>\"\",CA83*EXP(-OFFSET('Forecasts Aggregate'!$C$58,$C83-$C$17,MATCH(CA$16,Ages,1))),\"\")","v":""},{"$f":"IF($C83<>\"\",CB83*EXP(-OFFSET('Forecasts Aggregate'!$C$58,$C83-$C$17,MATCH(CB$16,Ages,1))),\"\")","v":""},{"$f":"IF($C83<>\"\",CC83*EXP(-OFFSET('Forecasts Aggregate'!$C$58,$C83-$C$17,MATCH(CC$16,Ages,1))),\"\")","v":""},{"$f":"IF($C83<>\"\",CD83*EXP(-OFFSET('Forecasts Aggregate'!$C$58,$C83-$C$17,MATCH(CD$16,Ages,1))),\"\")","v":""},{"$f":"IF($C83<>\"\",CE83*EXP(-OFFSET('Forecasts Aggregate'!$C$58,$C83-$C$17,MATCH(CE$16,Ages,1))),\"\")","v":""},{"$f":"IF($C83<>\"\",CF83*EXP(-OFFSET('Forecasts Aggregate'!$C$58,$C83-$C$17,MATCH(CF$16,Ages,1))),\"\")","v":""},{"$f":"IF($C83<>\"\",CG83*EXP(-OFFSET('Forecasts Aggregate'!$C$58,$C83-$C$17,MATCH(CG$16,Ages,1))),\"\")","v":""},{"$f":"IF($C83<>\"\",CH83*EXP(-OFFSET('Forecasts Aggregate'!$C$58,$C83-$C$17,MATCH(CH$16,Ages,1))),\"\")","v":""},{"$f":"IF($C83<>\"\",CI83*EXP(-OFFSET('Forecasts Aggregate'!$C$58,$C83-$C$17,MATCH(CI$16,Ages,1))),\"\")","v":""},{"$f":"IF($C83<>\"\",CJ83*EXP(-OFFSET('Forecasts Aggregate'!$C$58,$C83-$C$17,MATCH(CJ$16,Ages,1))),\"\")","v":""},{"$f":"IF($C83<>\"\",CK83*EXP(-OFFSET('Forecasts Aggregate'!$C$58,$C83-$C$17,MATCH(CK$16,Ages,1))),\"\")","v":""},{"$f":"IF($C83<>\"\",CL83*EXP(-OFFSET('Forecasts Aggregate'!$C$58,$C83-$C$17,MATCH(CL$16,Ages,1))),\"\")","v":""},{"$f":"IF($C83<>\"\",CM83*EXP(-OFFSET('Forecasts Aggregate'!$C$58,$C83-$C$17,MATCH(CM$16,Ages,1))),\"\")","v":""},{"$f":"IF($C83<>\"\",CN83*EXP(-OFFSET('Forecasts Aggregate'!$C$58,$C83-$C$17,MATCH(CN$16,Ages,1))),\"\")","v":""},{"$f":"IF($C83<>\"\",CO83*EXP(-OFFSET('Forecasts Aggregate'!$C$58,$C83-$C$17,MATCH(CO$16,Ages,1))),\"\")","v":""},{"$f":"IF($C83<>\"\",CP83*EXP(-OFFSET('Forecasts Aggregate'!$C$58,$C83-$C$17,MATCH(CP$16,Ages,1))),\"\")","v":""},{"$f":"IF($C83<>\"\",CQ83*EXP(-OFFSET('Forecasts Aggregate'!$C$58,$C83-$C$17,MATCH(CQ$16,Ages,1))),\"\")","v":""},{"$f":"IF($C83<>\"\",CR83*EXP(-OFFSET('Forecasts Aggregate'!$C$58,$C83-$C$17,MATCH(CR$16,Ages,1))),\"\")","v":""},{"$f":"IF($C83<>\"\",CS83*EXP(-OFFSET('Forecasts Aggregate'!$C$58,$C83-$C$17,MATCH(CS$16,Ages,1))),\"\")","v":""},{"$f":"IF($C83<>\"\",CT83*EXP(-OFFSET('Forecasts Aggregate'!$C$58,$C83-$C$17,MATCH(CT$16,Ages,1))),\"\")","v":""},{"$f":"IF($C83<>\"\",CU83*EXP(-OFFSET('Forecasts Aggregate'!$C$58,$C83-$C$17,MATCH(CU$16,Ages,1))),\"\")","v":""},{"$f":"IF($C83<>\"\",CV83*EXP(-OFFSET('Forecasts Aggregate'!$C$58,$C83-$C$17,MATCH(CV$16,Ages,1))),\"\")","v":""},{"$f":"IF($C83<>\"\",CW83*EXP(-OFFSET('Forecasts Aggregate'!$C$58,$C83-$C$17,MATCH(CW$16,Ages,1))),\"\")","v":""},{"$f":"IF($C83<>\"\",CX83*EXP(-OFFSET('Forecasts Aggregate'!$C$58,$C83-$C$17,MATCH(CX$16,Ages,1))),\"\")","v":""},{"$f":"IF($C83<>\"\",CY83*EXP(-OFFSET('Forecasts Aggregate'!$C$58,$C83-$C$17,MATCH(CY$16,Ages,1))),\"\")","v":""},{"$f":"IF($C83<>\"\",CZ83*EXP(-OFFSET('Forecasts Aggregate'!$C$58,$C83-$C$17,MATCH(CZ$16,Ages,1))),\"\")","v":""},{"$f":"IF($C83<>\"\",DA83*EXP(-OFFSET('Forecasts Aggregate'!$C$58,$C83-$C$17,MATCH(DA$16,Ages,1))),\"\")","v":""},{"$f":"IF($C83<>\"\",DB83*EXP(-OFFSET('Forecasts Aggregate'!$C$58,$C83-$C$17,MATCH(DB$16,Ages,1))),\"\")","v":""},{"$f":"IF($C83<>\"\",DC83*EXP(-OFFSET('Forecasts Aggregate'!$C$58,$C83-$C$17,MATCH(DC$16,Ages,1))),\"\")","v":""},{"$f":"IF($C83<>\"\",DD83*EXP(-OFFSET('Forecasts Aggregate'!$C$58,$C83-$C$17,MATCH(DD$16,Ages,1))),\"\")","v":""},{"$f":"IF($C83<>\"\",DE83*EXP(-OFFSET('Forecasts Aggregate'!$C$58,$C83-$C$17,MATCH(DE$16,Ages,1))),\"\")","v":""},{"$f":"IF($C83<>\"\",DF83*EXP(-OFFSET('Forecasts Aggregate'!$C$58,$C83-$C$17,MATCH(DF$16,Ages,1))),\"\")","v":""},{"$f":"IF($C83<>\"\",DG83*EXP(-OFFSET('Forecasts Aggregate'!$C$58,$C83-$C$17,MATCH(DG$16,Ages,1))),\"\")","v":""},{"$f":"IF($C83<>\"\",DH83*EXP(-OFFSET('Forecasts Aggregate'!$C$58,$C83-$C$17,MATCH(DH$16,Ages,1))),\"\")","v":""},{"$f":"IF($C83<>\"\",DI83*EXP(-OFFSET('Forecasts Aggregate'!$C$58,$C83-$C$17,MATCH(DI$16,Ages,1))),\"\")","v":""},{"$f":"IF($C83<>\"\",DJ83*EXP(-OFFSET('Forecasts Aggregate'!$C$58,$C83-$C$17,MATCH(DJ$16,Ages,1))),\"\")","v":""},null,"","",""]
[null,null,"","",{"$f":"IF($C84<>\"\",D84*EXP(-OFFSET('Forecasts Aggregate'!$C$58,$C84-$C$17,MATCH(D$16,Ages,1))),\"\")","v":""},{"$f":"IF($C84<>\"\",E84*EXP(-OFFSET('Forecasts Aggregate'!$C$58,$C84-$C$17,MATCH(E$16,Ages,1))),\"\")","v":""},{"$f":"IF($C84<>\"\",F84*EXP(-OFFSET('Forecasts Aggregate'!$C$58,$C84-$C$17,MATCH(F$16,Ages,1))),\"\")","v":""},{"$f":"IF($C84<>\"\",G84*EXP(-OFFSET('Forecasts Aggregate'!$C$58,$C84-$C$17,MATCH(G$16,Ages,1))),\"\")","v":""},{"$f":"IF($C84<>\"\",H84*EXP(-OFFSET('Forecasts Aggregate'!$C$58,$C84-$C$17,MATCH(H$16,Ages,1))),\"\")","v":""},{"$f":"IF($C84<>\"\",I84*EXP(-OFFSET('Forecasts Aggregate'!$C$58,$C84-$C$17,MATCH(I$16,Ages,1))),\"\")","v":""},{"$f":"IF($C84<>\"\",J84*EXP(-OFFSET('Forecasts Aggregate'!$C$58,$C84-$C$17,MATCH(J$16,Ages,1))),\"\")","v":""},{"$f":"IF($C84<>\"\",K84*EXP(-OFFSET('Forecasts Aggregate'!$C$58,$C84-$C$17,MATCH(K$16,Ages,1))),\"\")","v":""},{"$f":"IF($C84<>\"\",L84*EXP(-OFFSET('Forecasts Aggregate'!$C$58,$C84-$C$17,MATCH(L$16,Ages,1))),\"\")","v":""},{"$f":"IF($C84<>\"\",M84*EXP(-OFFSET('Forecasts Aggregate'!$C$58,$C84-$C$17,MATCH(M$16,Ages,1))),\"\")","v":""},{"$f":"IF($C84<>\"\",N84*EXP(-OFFSET('Forecasts Aggregate'!$C$58,$C84-$C$17,MATCH(N$16,Ages,1))),\"\")","v":""},{"$f":"IF($C84<>\"\",O84*EXP(-OFFSET('Forecasts Aggregate'!$C$58,$C84-$C$17,MATCH(O$16,Ages,1))),\"\")","v":""},{"$f":"IF($C84<>\"\",P84*EXP(-OFFSET('Forecasts Aggregate'!$C$58,$C84-$C$17,MATCH(P$16,Ages,1))),\"\")","v":""},{"$f":"IF($C84<>\"\",Q84*EXP(-OFFSET('Forecasts Aggregate'!$C$58,$C84-$C$17,MATCH(Q$16,Ages,1))),\"\")","v":""},{"$f":"IF($C84<>\"\",R84*EXP(-OFFSET('Forecasts Aggregate'!$C$58,$C84-$C$17,MATCH(R$16,Ages,1))),\"\")","v":""},{"$f":"IF($C84<>\"\",S84*EXP(-OFFSET('Forecasts Aggregate'!$C$58,$C84-$C$17,MATCH(S$16,Ages,1))),\"\")","v":""},{"$f":"IF($C84<>\"\",T84*EXP(-OFFSET('Forecasts Aggregate'!$C$58,$C84-$C$17,MATCH(T$16,Ages,1))),\"\")","v":""},{"$f":"IF($C84<>\"\",U84*EXP(-OFFSET('Forecasts Aggregate'!$C$58,$C84-$C$17,MATCH(U$16,Ages,1))),\"\")","v":""},{"$f":"IF($C84<>\"\",V84*EXP(-OFFSET('Forecasts Aggregate'!$C$58,$C84-$C$17,MATCH(V$16,Ages,1))),\"\")","v":""},{"$f":"IF($C84<>\"\",W84*EXP(-OFFSET('Forecasts Aggregate'!$C$58,$C84-$C$17,MATCH(W$16,Ages,1))),\"\")","v":""},{"$f":"IF($C84<>\"\",X84*EXP(-OFFSET('Forecasts Aggregate'!$C$58,$C84-$C$17,MATCH(X$16,Ages,1))),\"\")","v":""},{"$f":"IF($C84<>\"\",Y84*EXP(-OFFSET('Forecasts Aggregate'!$C$58,$C84-$C$17,MATCH(Y$16,Ages,1))),\"\")","v":""},{"$f":"IF($C84<>\"\",Z84*EXP(-OFFSET('Forecasts Aggregate'!$C$58,$C84-$C$17,MATCH(Z$16,Ages,1))),\"\")","v":""},{"$f":"IF($C84<>\"\",AA84*EXP(-OFFSET('Forecasts Aggregate'!$C$58,$C84-$C$17,MATCH(AA$16,Ages,1))),\"\")","v":""},{"$f":"IF($C84<>\"\",AB84*EXP(-OFFSET('Forecasts Aggregate'!$C$58,$C84-$C$17,MATCH(AB$16,Ages,1))),\"\")","v":""},{"$f":"IF($C84<>\"\",AC84*EXP(-OFFSET('Forecasts Aggregate'!$C$58,$C84-$C$17,MATCH(AC$16,Ages,1))),\"\")","v":""},{"$f":"IF($C84<>\"\",AD84*EXP(-OFFSET('Forecasts Aggregate'!$C$58,$C84-$C$17,MATCH(AD$16,Ages,1))),\"\")","v":""},{"$f":"IF($C84<>\"\",AE84*EXP(-OFFSET('Forecasts Aggregate'!$C$58,$C84-$C$17,MATCH(AE$16,Ages,1))),\"\")","v":""},{"$f":"IF($C84<>\"\",AF84*EXP(-OFFSET('Forecasts Aggregate'!$C$58,$C84-$C$17,MATCH(AF$16,Ages,1))),\"\")","v":""},{"$f":"IF($C84<>\"\",AG84*EXP(-OFFSET('Forecasts Aggregate'!$C$58,$C84-$C$17,MATCH(AG$16,Ages,1))),\"\")","v":""},{"$f":"IF($C84<>\"\",AH84*EXP(-OFFSET('Forecasts Aggregate'!$C$58,$C84-$C$17,MATCH(AH$16,Ages,1))),\"\")","v":""},{"$f":"IF($C84<>\"\",AI84*EXP(-OFFSET('Forecasts Aggregate'!$C$58,$C84-$C$17,MATCH(AI$16,Ages,1))),\"\")","v":""},{"$f":"IF($C84<>\"\",AJ84*EXP(-OFFSET('Forecasts Aggregate'!$C$58,$C84-$C$17,MATCH(AJ$16,Ages,1))),\"\")","v":""},{"$f":"IF($C84<>\"\",AK84*EXP(-OFFSET('Forecasts Aggregate'!$C$58,$C84-$C$17,MATCH(AK$16,Ages,1))),\"\")","v":""},{"$f":"IF($C84<>\"\",AL84*EXP(-OFFSET('Forecasts Aggregate'!$C$58,$C84-$C$17,MATCH(AL$16,Ages,1))),\"\")","v":""},{"$f":"IF($C84<>\"\",AM84*EXP(-OFFSET('Forecasts Aggregate'!$C$58,$C84-$C$17,MATCH(AM$16,Ages,1))),\"\")","v":""},{"$f":"IF($C84<>\"\",AN84*EXP(-OFFSET('Forecasts Aggregate'!$C$58,$C84-$C$17,MATCH(AN$16,Ages,1))),\"\")","v":""},{"$f":"IF($C84<>\"\",AO84*EXP(-OFFSET('Forecasts Aggregate'!$C$58,$C84-$C$17,MATCH(AO$16,Ages,1))),\"\")","v":""},{"$f":"IF($C84<>\"\",AP84*EXP(-OFFSET('Forecasts Aggregate'!$C$58,$C84-$C$17,MATCH(AP$16,Ages,1))),\"\")","v":""},{"$f":"IF($C84<>\"\",AQ84*EXP(-OFFSET('Forecasts Aggregate'!$C$58,$C84-$C$17,MATCH(AQ$16,Ages,1))),\"\")","v":""},{"$f":"IF($C84<>\"\",AR84*EXP(-OFFSET('Forecasts Aggregate'!$C$58,$C84-$C$17,MATCH(AR$16,Ages,1))),\"\")","v":""},{"$f":"IF($C84<>\"\",AS84*EXP(-OFFSET('Forecasts Aggregate'!$C$58,$C84-$C$17,MATCH(AS$16,Ages,1))),\"\")","v":""},{"$f":"IF($C84<>\"\",AT84*EXP(-OFFSET('Forecasts Aggregate'!$C$58,$C84-$C$17,MATCH(AT$16,Ages,1))),\"\")","v":""},{"$f":"IF($C84<>\"\",AU84*EXP(-OFFSET('Forecasts Aggregate'!$C$58,$C84-$C$17,MATCH(AU$16,Ages,1))),\"\")","v":""},{"$f":"IF($C84<>\"\",AV84*EXP(-OFFSET('Forecasts Aggregate'!$C$58,$C84-$C$17,MATCH(AV$16,Ages,1))),\"\")","v":""},{"$f":"IF($C84<>\"\",AW84*EXP(-OFFSET('Forecasts Aggregate'!$C$58,$C84-$C$17,MATCH(AW$16,Ages,1))),\"\")","v":""},{"$f":"IF($C84<>\"\",AX84*EXP(-OFFSET('Forecasts Aggregate'!$C$58,$C84-$C$17,MATCH(AX$16,Ages,1))),\"\")","v":""},{"$f":"IF($C84<>\"\",AY84*EXP(-OFFSET('Forecasts Aggregate'!$C$58,$C84-$C$17,MATCH(AY$16,Ages,1))),\"\")","v":""},{"$f":"IF($C84<>\"\",AZ84*EXP(-OFFSET('Forecasts Aggregate'!$C$58,$C84-$C$17,MATCH(AZ$16,Ages,1))),\"\")","v":""},{"$f":"IF($C84<>\"\",BA84*EXP(-OFFSET('Forecasts Aggregate'!$C$58,$C84-$C$17,MATCH(BA$16,Ages,1))),\"\")","v":""},{"$f":"IF($C84<>\"\",BB84*EXP(-OFFSET('Forecasts Aggregate'!$C$58,$C84-$C$17,MATCH(BB$16,Ages,1))),\"\")","v":""},{"$f":"IF($C84<>\"\",BC84*EXP(-OFFSET('Forecasts Aggregate'!$C$58,$C84-$C$17,MATCH(BC$16,Ages,1))),\"\")","v":""},{"$f":"IF($C84<>\"\",BD84*EXP(-OFFSET('Forecasts Aggregate'!$C$58,$C84-$C$17,MATCH(BD$16,Ages,1))),\"\")","v":""},{"$f":"IF($C84<>\"\",BE84*EXP(-OFFSET('Forecasts Aggregate'!$C$58,$C84-$C$17,MATCH(BE$16,Ages,1))),\"\")","v":""},{"$f":"IF($C84<>\"\",BF84*EXP(-OFFSET('Forecasts Aggregate'!$C$58,$C84-$C$17,MATCH(BF$16,Ages,1))),\"\")","v":""},{"$f":"IF($C84<>\"\",BG84*EXP(-OFFSET('Forecasts Aggregate'!$C$58,$C84-$C$17,MATCH(BG$16,Ages,1))),\"\")","v":""},{"$f":"IF($C84<>\"\",BH84*EXP(-OFFSET('Forecasts Aggregate'!$C$58,$C84-$C$17,MATCH(BH$16,Ages,1))),\"\")","v":""},{"$f":"IF($C84<>\"\",BI84*EXP(-OFFSET('Forecasts Aggregate'!$C$58,$C84-$C$17,MATCH(BI$16,Ages,1))),\"\")","v":""},{"$f":"IF($C84<>\"\",BJ84*EXP(-OFFSET('Forecasts Aggregate'!$C$58,$C84-$C$17,MATCH(BJ$16,Ages,1))),\"\")","v":""},{"$f":"IF($C84<>\"\",BK84*EXP(-OFFSET('Forecasts Aggregate'!$C$58,$C84-$C$17,MATCH(BK$16,Ages,1))),\"\")","v":""},{"$f":"IF($C84<>\"\",BL84*EXP(-OFFSET('Forecasts Aggregate'!$C$58,$C84-$C$17,MATCH(BL$16,Ages,1))),\"\")","v":""},{"$f":"IF($C84<>\"\",BM84*EXP(-OFFSET('Forecasts Aggregate'!$C$58,$C84-$C$17,MATCH(BM$16,Ages,1))),\"\")","v":""},{"$f":"IF($C84<>\"\",BN84*EXP(-OFFSET('Forecasts Aggregate'!$C$58,$C84-$C$17,MATCH(BN$16,Ages,1))),\"\")","v":""},{"$f":"IF($C84<>\"\",BO84*EXP(-OFFSET('Forecasts Aggregate'!$C$58,$C84-$C$17,MATCH(BO$16,Ages,1))),\"\")","v":""},{"$f":"IF($C84<>\"\",BP84*EXP(-OFFSET('Forecasts Aggregate'!$C$58,$C84-$C$17,MATCH(BP$16,Ages,1))),\"\")","v":""},{"$f":"IF($C84<>\"\",BQ84*EXP(-OFFSET('Forecasts Aggregate'!$C$58,$C84-$C$17,MATCH(BQ$16,Ages,1))),\"\")","v":""},{"$f":"IF($C84<>\"\",BR84*EXP(-OFFSET('Forecasts Aggregate'!$C$58,$C84-$C$17,MATCH(BR$16,Ages,1))),\"\")","v":""},{"$f":"IF($C84<>\"\",BS84*EXP(-OFFSET('Forecasts Aggregate'!$C$58,$C84-$C$17,MATCH(BS$16,Ages,1))),\"\")","v":""},{"$f":"IF($C84<>\"\",BT84*EXP(-OFFSET('Forecasts Aggregate'!$C$58,$C84-$C$17,MATCH(BT$16,Ages,1))),\"\")","v":""},{"$f":"IF($C84<>\"\",BU84*EXP(-OFFSET('Forecasts Aggregate'!$C$58,$C84-$C$17,MATCH(BU$16,Ages,1))),\"\")","v":""},{"$f":"IF($C84<>\"\",BV84*EXP(-OFFSET('Forecasts Aggregate'!$C$58,$C84-$C$17,MATCH(BV$16,Ages,1))),\"\")","v":""},{"$f":"IF($C84<>\"\",BW84*EXP(-OFFSET('Forecasts Aggregate'!$C$58,$C84-$C$17,MATCH(BW$16,Ages,1))),\"\")","v":""},{"$f":"IF($C84<>\"\",BX84*EXP(-OFFSET('Forecasts Aggregate'!$C$58,$C84-$C$17,MATCH(BX$16,Ages,1))),\"\")","v":""},{"$f":"IF($C84<>\"\",BY84*EXP(-OFFSET('Forecasts Aggregate'!$C$58,$C84-$C$17,MATCH(BY$16,Ages,1))),\"\")","v":""},{"$f":"IF($C84<>\"\",BZ84*EXP(-OFFSET('Forecasts Aggregate'!$C$58,$C84-$C$17,MATCH(BZ$16,Ages,1))),\"\")","v":""},{"$f":"IF($C84<>\"\",CA84*EXP(-OFFSET('Forecasts Aggregate'!$C$58,$C84-$C$17,MATCH(CA$16,Ages,1))),\"\")","v":""},{"$f":"IF($C84<>\"\",CB84*EXP(-OFFSET('Forecasts Aggregate'!$C$58,$C84-$C$17,MATCH(CB$16,Ages,1))),\"\")","v":""},{"$f":"IF($C84<>\"\",CC84*EXP(-OFFSET('Forecasts Aggregate'!$C$58,$C84-$C$17,MATCH(CC$16,Ages,1))),\"\")","v":""},{"$f":"IF($C84<>\"\",CD84*EXP(-OFFSET('Forecasts Aggregate'!$C$58,$C84-$C$17,MATCH(CD$16,Ages,1))),\"\")","v":""},{"$f":"IF($C84<>\"\",CE84*EXP(-OFFSET('Forecasts Aggregate'!$C$58,$C84-$C$17,MATCH(CE$16,Ages,1))),\"\")","v":""},{"$f":"IF($C84<>\"\",CF84*EXP(-OFFSET('Forecasts Aggregate'!$C$58,$C84-$C$17,MATCH(CF$16,Ages,1))),\"\")","v":""},{"$f":"IF($C84<>\"\",CG84*EXP(-OFFSET('Forecasts Aggregate'!$C$58,$C84-$C$17,MATCH(CG$16,Ages,1))),\"\")","v":""},{"$f":"IF($C84<>\"\",CH84*EXP(-OFFSET('Forecasts Aggregate'!$C$58,$C84-$C$17,MATCH(CH$16,Ages,1))),\"\")","v":""},{"$f":"IF($C84<>\"\",CI84*EXP(-OFFSET('Forecasts Aggregate'!$C$58,$C84-$C$17,MATCH(CI$16,Ages,1))),\"\")","v":""},{"$f":"IF($C84<>\"\",CJ84*EXP(-OFFSET('Forecasts Aggregate'!$C$58,$C84-$C$17,MATCH(CJ$16,Ages,1))),\"\")","v":""},{"$f":"IF($C84<>\"\",CK84*EXP(-OFFSET('Forecasts Aggregate'!$C$58,$C84-$C$17,MATCH(CK$16,Ages,1))),\"\")","v":""},{"$f":"IF($C84<>\"\",CL84*EXP(-OFFSET('Forecasts Aggregate'!$C$58,$C84-$C$17,MATCH(CL$16,Ages,1))),\"\")","v":""},{"$f":"IF($C84<>\"\",CM84*EXP(-OFFSET('Forecasts Aggregate'!$C$58,$C84-$C$17,MATCH(CM$16,Ages,1))),\"\")","v":""},{"$f":"IF($C84<>\"\",CN84*EXP(-OFFSET('Forecasts Aggregate'!$C$58,$C84-$C$17,MATCH(CN$16,Ages,1))),\"\")","v":""},{"$f":"IF($C84<>\"\",CO84*EXP(-OFFSET('Forecasts Aggregate'!$C$58,$C84-$C$17,MATCH(CO$16,Ages,1))),\"\")","v":""},{"$f":"IF($C84<>\"\",CP84*EXP(-OFFSET('Forecasts Aggregate'!$C$58,$C84-$C$17,MATCH(CP$16,Ages,1))),\"\")","v":""},{"$f":"IF($C84<>\"\",CQ84*EXP(-OFFSET('Forecasts Aggregate'!$C$58,$C84-$C$17,MATCH(CQ$16,Ages,1))),\"\")","v":""},{"$f":"IF($C84<>\"\",CR84*EXP(-OFFSET('Forecasts Aggregate'!$C$58,$C84-$C$17,MATCH(CR$16,Ages,1))),\"\")","v":""},{"$f":"IF($C84<>\"\",CS84*EXP(-OFFSET('Forecasts Aggregate'!$C$58,$C84-$C$17,MATCH(CS$16,Ages,1))),\"\")","v":""},{"$f":"IF($C84<>\"\",CT84*EXP(-OFFSET('Forecasts Aggregate'!$C$58,$C84-$C$17,MATCH(CT$16,Ages,1))),\"\")","v":""},{"$f":"IF($C84<>\"\",CU84*EXP(-OFFSET('Forecasts Aggregate'!$C$58,$C84-$C$17,MATCH(CU$16,Ages,1))),\"\")","v":""},{"$f":"IF($C84<>\"\",CV84*EXP(-OFFSET('Forecasts Aggregate'!$C$58,$C84-$C$17,MATCH(CV$16,Ages,1))),\"\")","v":""},{"$f":"IF($C84<>\"\",CW84*EXP(-OFFSET('Forecasts Aggregate'!$C$58,$C84-$C$17,MATCH(CW$16,Ages,1))),\"\")","v":""},{"$f":"IF($C84<>\"\",CX84*EXP(-OFFSET('Forecasts Aggregate'!$C$58,$C84-$C$17,MATCH(CX$16,Ages,1))),\"\")","v":""},{"$f":"IF($C84<>\"\",CY84*EXP(-OFFSET('Forecasts Aggregate'!$C$58,$C84-$C$17,MATCH(CY$16,Ages,1))),\"\")","v":""},{"$f":"IF($C84<>\"\",CZ84*EXP(-OFFSET('Forecasts Aggregate'!$C$58,$C84-$C$17,MATCH(CZ$16,Ages,1))),\"\")","v":""},{"$f":"IF($C84<>\"\",DA84*EXP(-OFFSET('Forecasts Aggregate'!$C$58,$C84-$C$17,MATCH(DA$16,Ages,1))),\"\")","v":""},{"$f":"IF($C84<>\"\",DB84*EXP(-OFFSET('Forecasts Aggregate'!$C$58,$C84-$C$17,MATCH(DB$16,Ages,1))),\"\")","v":""},{"$f":"IF($C84<>\"\",DC84*EXP(-OFFSET('Forecasts Aggregate'!$C$58,$C84-$C$17,MATCH(DC$16,Ages,1))),\"\")","v":""},{"$f":"IF($C84<>\"\",DD84*EXP(-OFFSET('Forecasts Aggregate'!$C$58,$C84-$C$17,MATCH(DD$16,Ages,1))),\"\")","v":""},{"$f":"IF($C84<>\"\",DE84*EXP(-OFFSET('Forecasts Aggregate'!$C$58,$C84-$C$17,MATCH(DE$16,Ages,1))),\"\")","v":""},{"$f":"IF($C84<>\"\",DF84*EXP(-OFFSET('Forecasts Aggregate'!$C$58,$C84-$C$17,MATCH(DF$16,Ages,1))),\"\")","v":""},{"$f":"IF($C84<>\"\",DG84*EXP(-OFFSET('Forecasts Aggregate'!$C$58,$C84-$C$17,MATCH(DG$16,Ages,1))),\"\")","v":""},{"$f":"IF($C84<>\"\",DH84*EXP(-OFFSET('Forecasts Aggregate'!$C$58,$C84-$C$17,MATCH(DH$16,Ages,1))),\"\")","v":""},{"$f":"IF($C84<>\"\",DI84*EXP(-OFFSET('Forecasts Aggregate'!$C$58,$C84-$C$17,MATCH(DI$16,Ages,1))),\"\")","v":""},{"$f":"IF($C84<>\"\",DJ84*EXP(-OFFSET('Forecasts Aggregate'!$C$58,$C84-$C$17,MATCH(DJ$16,Ages,1))),\"\")","v":""},null,"","",""]
[null,null,"","",{"$f":"IF($C85<>\"\",D85*EXP(-OFFSET('Forecasts Aggregate'!$C$58,$C85-$C$17,MATCH(D$16,Ages,1))),\"\")","v":""},{"$f":"IF($C85<>\"\",E85*EXP(-OFFSET('Forecasts Aggregate'!$C$58,$C85-$C$17,MATCH(E$16,Ages,1))),\"\")","v":""},{"$f":"IF($C85<>\"\",F85*EXP(-OFFSET('Forecasts Aggregate'!$C$58,$C85-$C$17,MATCH(F$16,Ages,1))),\"\")","v":""},{"$f":"IF($C85<>\"\",G85*EXP(-OFFSET('Forecasts Aggregate'!$C$58,$C85-$C$17,MATCH(G$16,Ages,1))),\"\")","v":""},{"$f":"IF($C85<>\"\",H85*EXP(-OFFSET('Forecasts Aggregate'!$C$58,$C85-$C$17,MATCH(H$16,Ages,1))),\"\")","v":""},{"$f":"IF($C85<>\"\",I85*EXP(-OFFSET('Forecasts Aggregate'!$C$58,$C85-$C$17,MATCH(I$16,Ages,1))),\"\")","v":""},{"$f":"IF($C85<>\"\",J85*EXP(-OFFSET('Forecasts Aggregate'!$C$58,$C85-$C$17,MATCH(J$16,Ages,1))),\"\")","v":""},{"$f":"IF($C85<>\"\",K85*EXP(-OFFSET('Forecasts Aggregate'!$C$58,$C85-$C$17,MATCH(K$16,Ages,1))),\"\")","v":""},{"$f":"IF($C85<>\"\",L85*EXP(-OFFSET('Forecasts Aggregate'!$C$58,$C85-$C$17,MATCH(L$16,Ages,1))),\"\")","v":""},{"$f":"IF($C85<>\"\",M85*EXP(-OFFSET('Forecasts Aggregate'!$C$58,$C85-$C$17,MATCH(M$16,Ages,1))),\"\")","v":""},{"$f":"IF($C85<>\"\",N85*EXP(-OFFSET('Forecasts Aggregate'!$C$58,$C85-$C$17,MATCH(N$16,Ages,1))),\"\")","v":""},{"$f":"IF($C85<>\"\",O85*EXP(-OFFSET('Forecasts Aggregate'!$C$58,$C85-$C$17,MATCH(O$16,Ages,1))),\"\")","v":""},{"$f":"IF($C85<>\"\",P85*EXP(-OFFSET('Forecasts Aggregate'!$C$58,$C85-$C$17,MATCH(P$16,Ages,1))),\"\")","v":""},{"$f":"IF($C85<>\"\",Q85*EXP(-OFFSET('Forecasts Aggregate'!$C$58,$C85-$C$17,MATCH(Q$16,Ages,1))),\"\")","v":""},{"$f":"IF($C85<>\"\",R85*EXP(-OFFSET('Forecasts Aggregate'!$C$58,$C85-$C$17,MATCH(R$16,Ages,1))),\"\")","v":""},{"$f":"IF($C85<>\"\",S85*EXP(-OFFSET('Forecasts Aggregate'!$C$58,$C85-$C$17,MATCH(S$16,Ages,1))),\"\")","v":""},{"$f":"IF($C85<>\"\",T85*EXP(-OFFSET('Forecasts Aggregate'!$C$58,$C85-$C$17,MATCH(T$16,Ages,1))),\"\")","v":""},{"$f":"IF($C85<>\"\",U85*EXP(-OFFSET('Forecasts Aggregate'!$C$58,$C85-$C$17,MATCH(U$16,Ages,1))),\"\")","v":""},{"$f":"IF($C85<>\"\",V85*EXP(-OFFSET('Forecasts Aggregate'!$C$58,$C85-$C$17,MATCH(V$16,Ages,1))),\"\")","v":""},{"$f":"IF($C85<>\"\",W85*EXP(-OFFSET('Forecasts Aggregate'!$C$58,$C85-$C$17,MATCH(W$16,Ages,1))),\"\")","v":""},{"$f":"IF($C85<>\"\",X85*EXP(-OFFSET('Forecasts Aggregate'!$C$58,$C85-$C$17,MATCH(X$16,Ages,1))),\"\")","v":""},{"$f":"IF($C85<>\"\",Y85*EXP(-OFFSET('Forecasts Aggregate'!$C$58,$C85-$C$17,MATCH(Y$16,Ages,1))),\"\")","v":""},{"$f":"IF($C85<>\"\",Z85*EXP(-OFFSET('Forecasts Aggregate'!$C$58,$C85-$C$17,MATCH(Z$16,Ages,1))),\"\")","v":""},{"$f":"IF($C85<>\"\",AA85*EXP(-OFFSET('Forecasts Aggregate'!$C$58,$C85-$C$17,MATCH(AA$16,Ages,1))),\"\")","v":""},{"$f":"IF($C85<>\"\",AB85*EXP(-OFFSET('Forecasts Aggregate'!$C$58,$C85-$C$17,MATCH(AB$16,Ages,1))),\"\")","v":""},{"$f":"IF($C85<>\"\",AC85*EXP(-OFFSET('Forecasts Aggregate'!$C$58,$C85-$C$17,MATCH(AC$16,Ages,1))),\"\")","v":""},{"$f":"IF($C85<>\"\",AD85*EXP(-OFFSET('Forecasts Aggregate'!$C$58,$C85-$C$17,MATCH(AD$16,Ages,1))),\"\")","v":""},{"$f":"IF($C85<>\"\",AE85*EXP(-OFFSET('Forecasts Aggregate'!$C$58,$C85-$C$17,MATCH(AE$16,Ages,1))),\"\")","v":""},{"$f":"IF($C85<>\"\",AF85*EXP(-OFFSET('Forecasts Aggregate'!$C$58,$C85-$C$17,MATCH(AF$16,Ages,1))),\"\")","v":""},{"$f":"IF($C85<>\"\",AG85*EXP(-OFFSET('Forecasts Aggregate'!$C$58,$C85-$C$17,MATCH(AG$16,Ages,1))),\"\")","v":""},{"$f":"IF($C85<>\"\",AH85*EXP(-OFFSET('Forecasts Aggregate'!$C$58,$C85-$C$17,MATCH(AH$16,Ages,1))),\"\")","v":""},{"$f":"IF($C85<>\"\",AI85*EXP(-OFFSET('Forecasts Aggregate'!$C$58,$C85-$C$17,MATCH(AI$16,Ages,1))),\"\")","v":""},{"$f":"IF($C85<>\"\",AJ85*EXP(-OFFSET('Forecasts Aggregate'!$C$58,$C85-$C$17,MATCH(AJ$16,Ages,1))),\"\")","v":""},{"$f":"IF($C85<>\"\",AK85*EXP(-OFFSET('Forecasts Aggregate'!$C$58,$C85-$C$17,MATCH(AK$16,Ages,1))),\"\")","v":""},{"$f":"IF($C85<>\"\",AL85*EXP(-OFFSET('Forecasts Aggregate'!$C$58,$C85-$C$17,MATCH(AL$16,Ages,1))),\"\")","v":""},{"$f":"IF($C85<>\"\",AM85*EXP(-OFFSET('Forecasts Aggregate'!$C$58,$C85-$C$17,MATCH(AM$16,Ages,1))),\"\")","v":""},{"$f":"IF($C85<>\"\",AN85*EXP(-OFFSET('Forecasts Aggregate'!$C$58,$C85-$C$17,MATCH(AN$16,Ages,1))),\"\")","v":""},{"$f":"IF($C85<>\"\",AO85*EXP(-OFFSET('Forecasts Aggregate'!$C$58,$C85-$C$17,MATCH(AO$16,Ages,1))),\"\")","v":""},{"$f":"IF($C85<>\"\",AP85*EXP(-OFFSET('Forecasts Aggregate'!$C$58,$C85-$C$17,MATCH(AP$16,Ages,1))),\"\")","v":""},{"$f":"IF($C85<>\"\",AQ85*EXP(-OFFSET('Forecasts Aggregate'!$C$58,$C85-$C$17,MATCH(AQ$16,Ages,1))),\"\")","v":""},{"$f":"IF($C85<>\"\",AR85*EXP(-OFFSET('Forecasts Aggregate'!$C$58,$C85-$C$17,MATCH(AR$16,Ages,1))),\"\")","v":""},{"$f":"IF($C85<>\"\",AS85*EXP(-OFFSET('Forecasts Aggregate'!$C$58,$C85-$C$17,MATCH(AS$16,Ages,1))),\"\")","v":""},{"$f":"IF($C85<>\"\",AT85*EXP(-OFFSET('Forecasts Aggregate'!$C$58,$C85-$C$17,MATCH(AT$16,Ages,1))),\"\")","v":""},{"$f":"IF($C85<>\"\",AU85*EXP(-OFFSET('Forecasts Aggregate'!$C$58,$C85-$C$17,MATCH(AU$16,Ages,1))),\"\")","v":""},{"$f":"IF($C85<>\"\",AV85*EXP(-OFFSET('Forecasts Aggregate'!$C$58,$C85-$C$17,MATCH(AV$16,Ages,1))),\"\")","v":""},{"$f":"IF($C85<>\"\",AW85*EXP(-OFFSET('Forecasts Aggregate'!$C$58,$C85-$C$17,MATCH(AW$16,Ages,1))),\"\")","v":""},{"$f":"IF($C85<>\"\",AX85*EXP(-OFFSET('Forecasts Aggregate'!$C$58,$C85-$C$17,MATCH(AX$16,Ages,1))),\"\")","v":""},{"$f":"IF($C85<>\"\",AY85*EXP(-OFFSET('Forecasts Aggregate'!$C$58,$C85-$C$17,MATCH(AY$16,Ages,1))),\"\")","v":""},{"$f":"IF($C85<>\"\",AZ85*EXP(-OFFSET('Forecasts Aggregate'!$C$58,$C85-$C$17,MATCH(AZ$16,Ages,1))),\"\")","v":""},{"$f":"IF($C85<>\"\",BA85*EXP(-OFFSET('Forecasts Aggregate'!$C$58,$C85-$C$17,MATCH(BA$16,Ages,1))),\"\")","v":""},{"$f":"IF($C85<>\"\",BB85*EXP(-OFFSET('Forecasts Aggregate'!$C$58,$C85-$C$17,MATCH(BB$16,Ages,1))),\"\")","v":""},{"$f":"IF($C85<>\"\",BC85*EXP(-OFFSET('Forecasts Aggregate'!$C$58,$C85-$C$17,MATCH(BC$16,Ages,1))),\"\")","v":""},{"$f":"IF($C85<>\"\",BD85*EXP(-OFFSET('Forecasts Aggregate'!$C$58,$C85-$C$17,MATCH(BD$16,Ages,1))),\"\")","v":""},{"$f":"IF($C85<>\"\",BE85*EXP(-OFFSET('Forecasts Aggregate'!$C$58,$C85-$C$17,MATCH(BE$16,Ages,1))),\"\")","v":""},{"$f":"IF($C85<>\"\",BF85*EXP(-OFFSET('Forecasts Aggregate'!$C$58,$C85-$C$17,MATCH(BF$16,Ages,1))),\"\")","v":""},{"$f":"IF($C85<>\"\",BG85*EXP(-OFFSET('Forecasts Aggregate'!$C$58,$C85-$C$17,MATCH(BG$16,Ages,1))),\"\")","v":""},{"$f":"IF($C85<>\"\",BH85*EXP(-OFFSET('Forecasts Aggregate'!$C$58,$C85-$C$17,MATCH(BH$16,Ages,1))),\"\")","v":""},{"$f":"IF($C85<>\"\",BI85*EXP(-OFFSET('Forecasts Aggregate'!$C$58,$C85-$C$17,MATCH(BI$16,Ages,1))),\"\")","v":""},{"$f":"IF($C85<>\"\",BJ85*EXP(-OFFSET('Forecasts Aggregate'!$C$58,$C85-$C$17,MATCH(BJ$16,Ages,1))),\"\")","v":""},{"$f":"IF($C85<>\"\",BK85*EXP(-OFFSET('Forecasts Aggregate'!$C$58,$C85-$C$17,MATCH(BK$16,Ages,1))),\"\")","v":""},{"$f":"IF($C85<>\"\",BL85*EXP(-OFFSET('Forecasts Aggregate'!$C$58,$C85-$C$17,MATCH(BL$16,Ages,1))),\"\")","v":""},{"$f":"IF($C85<>\"\",BM85*EXP(-OFFSET('Forecasts Aggregate'!$C$58,$C85-$C$17,MATCH(BM$16,Ages,1))),\"\")","v":""},{"$f":"IF($C85<>\"\",BN85*EXP(-OFFSET('Forecasts Aggregate'!$C$58,$C85-$C$17,MATCH(BN$16,Ages,1))),\"\")","v":""},{"$f":"IF($C85<>\"\",BO85*EXP(-OFFSET('Forecasts Aggregate'!$C$58,$C85-$C$17,MATCH(BO$16,Ages,1))),\"\")","v":""},{"$f":"IF($C85<>\"\",BP85*EXP(-OFFSET('Forecasts Aggregate'!$C$58,$C85-$C$17,MATCH(BP$16,Ages,1))),\"\")","v":""},{"$f":"IF($C85<>\"\",BQ85*EXP(-OFFSET('Forecasts Aggregate'!$C$58,$C85-$C$17,MATCH(BQ$16,Ages,1))),\"\")","v":""},{"$f":"IF($C85<>\"\",BR85*EXP(-OFFSET('Forecasts Aggregate'!$C$58,$C85-$C$17,MATCH(BR$16,Ages,1))),\"\")","v":""},{"$f":"IF($C85<>\"\",BS85*EXP(-OFFSET('Forecasts Aggregate'!$C$58,$C85-$C$17,MATCH(BS$16,Ages,1))),\"\")","v":""},{"$f":"IF($C85<>\"\",BT85*EXP(-OFFSET('Forecasts Aggregate'!$C$58,$C85-$C$17,MATCH(BT$16,Ages,1))),\"\")","v":""},{"$f":"IF($C85<>\"\",BU85*EXP(-OFFSET('Forecasts Aggregate'!$C$58,$C85-$C$17,MATCH(BU$16,Ages,1))),\"\")","v":""},{"$f":"IF($C85<>\"\",BV85*EXP(-OFFSET('Forecasts Aggregate'!$C$58,$C85-$C$17,MATCH(BV$16,Ages,1))),\"\")","v":""},{"$f":"IF($C85<>\"\",BW85*EXP(-OFFSET('Forecasts Aggregate'!$C$58,$C85-$C$17,MATCH(BW$16,Ages,1))),\"\")","v":""},{"$f":"IF($C85<>\"\",BX85*EXP(-OFFSET('Forecasts Aggregate'!$C$58,$C85-$C$17,MATCH(BX$16,Ages,1))),\"\")","v":""},{"$f":"IF($C85<>\"\",BY85*EXP(-OFFSET('Forecasts Aggregate'!$C$58,$C85-$C$17,MATCH(BY$16,Ages,1))),\"\")","v":""},{"$f":"IF($C85<>\"\",BZ85*EXP(-OFFSET('Forecasts Aggregate'!$C$58,$C85-$C$17,MATCH(BZ$16,Ages,1))),\"\")","v":""},{"$f":"IF($C85<>\"\",CA85*EXP(-OFFSET('Forecasts Aggregate'!$C$58,$C85-$C$17,MATCH(CA$16,Ages,1))),\"\")","v":""},{"$f":"IF($C85<>\"\",CB85*EXP(-OFFSET('Forecasts Aggregate'!$C$58,$C85-$C$17,MATCH(CB$16,Ages,1))),\"\")","v":""},{"$f":"IF($C85<>\"\",CC85*EXP(-OFFSET('Forecasts Aggregate'!$C$58,$C85-$C$17,MATCH(CC$16,Ages,1))),\"\")","v":""},{"$f":"IF($C85<>\"\",CD85*EXP(-OFFSET('Forecasts Aggregate'!$C$58,$C85-$C$17,MATCH(CD$16,Ages,1))),\"\")","v":""},{"$f":"IF($C85<>\"\",CE85*EXP(-OFFSET('Forecasts Aggregate'!$C$58,$C85-$C$17,MATCH(CE$16,Ages,1))),\"\")","v":""},{"$f":"IF($C85<>\"\",CF85*EXP(-OFFSET('Forecasts Aggregate'!$C$58,$C85-$C$17,MATCH(CF$16,Ages,1))),\"\")","v":""},{"$f":"IF($C85<>\"\",CG85*EXP(-OFFSET('Forecasts Aggregate'!$C$58,$C85-$C$17,MATCH(CG$16,Ages,1))),\"\")","v":""},{"$f":"IF($C85<>\"\",CH85*EXP(-OFFSET('Forecasts Aggregate'!$C$58,$C85-$C$17,MATCH(CH$16,Ages,1))),\"\")","v":""},{"$f":"IF($C85<>\"\",CI85*EXP(-OFFSET('Forecasts Aggregate'!$C$58,$C85-$C$17,MATCH(CI$16,Ages,1))),\"\")","v":""},{"$f":"IF($C85<>\"\",CJ85*EXP(-OFFSET('Forecasts Aggregate'!$C$58,$C85-$C$17,MATCH(CJ$16,Ages,1))),\"\")","v":""},{"$f":"IF($C85<>\"\",CK85*EXP(-OFFSET('Forecasts Aggregate'!$C$58,$C85-$C$17,MATCH(CK$16,Ages,1))),\"\")","v":""},{"$f":"IF($C85<>\"\",CL85*EXP(-OFFSET('Forecasts Aggregate'!$C$58,$C85-$C$17,MATCH(CL$16,Ages,1))),\"\")","v":""},{"$f":"IF($C85<>\"\",CM85*EXP(-OFFSET('Forecasts Aggregate'!$C$58,$C85-$C$17,MATCH(CM$16,Ages,1))),\"\")","v":""},{"$f":"IF($C85<>\"\",CN85*EXP(-OFFSET('Forecasts Aggregate'!$C$58,$C85-$C$17,MATCH(CN$16,Ages,1))),\"\")","v":""},{"$f":"IF($C85<>\"\",CO85*EXP(-OFFSET('Forecasts Aggregate'!$C$58,$C85-$C$17,MATCH(CO$16,Ages,1))),\"\")","v":""},{"$f":"IF($C85<>\"\",CP85*EXP(-OFFSET('Forecasts Aggregate'!$C$58,$C85-$C$17,MATCH(CP$16,Ages,1))),\"\")","v":""},{"$f":"IF($C85<>\"\",CQ85*EXP(-OFFSET('Forecasts Aggregate'!$C$58,$C85-$C$17,MATCH(CQ$16,Ages,1))),\"\")","v":""},{"$f":"IF($C85<>\"\",CR85*EXP(-OFFSET('Forecasts Aggregate'!$C$58,$C85-$C$17,MATCH(CR$16,Ages,1))),\"\")","v":""},{"$f":"IF($C85<>\"\",CS85*EXP(-OFFSET('Forecasts Aggregate'!$C$58,$C85-$C$17,MATCH(CS$16,Ages,1))),\"\")","v":""},{"$f":"IF($C85<>\"\",CT85*EXP(-OFFSET('Forecasts Aggregate'!$C$58,$C85-$C$17,MATCH(CT$16,Ages,1))),\"\")","v":""},{"$f":"IF($C85<>\"\",CU85*EXP(-OFFSET('Forecasts Aggregate'!$C$58,$C85-$C$17,MATCH(CU$16,Ages,1))),\"\")","v":""},{"$f":"IF($C85<>\"\",CV85*EXP(-OFFSET('Forecasts Aggregate'!$C$58,$C85-$C$17,MATCH(CV$16,Ages,1))),\"\")","v":""},{"$f":"IF($C85<>\"\",CW85*EXP(-OFFSET('Forecasts Aggregate'!$C$58,$C85-$C$17,MATCH(CW$16,Ages,1))),\"\")","v":""},{"$f":"IF($C85<>\"\",CX85*EXP(-OFFSET('Forecasts Aggregate'!$C$58,$C85-$C$17,MATCH(CX$16,Ages,1))),\"\")","v":""},{"$f":"IF($C85<>\"\",CY85*EXP(-OFFSET('Forecasts Aggregate'!$C$58,$C85-$C$17,MATCH(CY$16,Ages,1))),\"\")","v":""},{"$f":"IF($C85<>\"\",CZ85*EXP(-OFFSET('Forecasts Aggregate'!$C$58,$C85-$C$17,MATCH(CZ$16,Ages,1))),\"\")","v":""},{"$f":"IF($C85<>\"\",DA85*EXP(-OFFSET('Forecasts Aggregate'!$C$58,$C85-$C$17,MATCH(DA$16,Ages,1))),\"\")","v":""},{"$f":"IF($C85<>\"\",DB85*EXP(-OFFSET('Forecasts Aggregate'!$C$58,$C85-$C$17,MATCH(DB$16,Ages,1))),\"\")","v":""},{"$f":"IF($C85<>\"\",DC85*EXP(-OFFSET('Forecasts Aggregate'!$C$58,$C85-$C$17,MATCH(DC$16,Ages,1))),\"\")","v":""},{"$f":"IF($C85<>\"\",DD85*EXP(-OFFSET('Forecasts Aggregate'!$C$58,$C85-$C$17,MATCH(DD$16,Ages,1))),\"\")","v":""},{"$f":"IF($C85<>\"\",DE85*EXP(-OFFSET('Forecasts Aggregate'!$C$58,$C85-$C$17,MATCH(DE$16,Ages,1))),\"\")","v":""},{"$f":"IF($C85<>\"\",DF85*EXP(-OFFSET('Forecasts Aggregate'!$C$58,$C85-$C$17,MATCH(DF$16,Ages,1))),\"\")","v":""},{"$f":"IF($C85<>\"\",DG85*EXP(-OFFSET('Forecasts Aggregate'!$C$58,$C85-$C$17,MATCH(DG$16,Ages,1))),\"\")","v":""},{"$f":"IF($C85<>\"\",DH85*EXP(-OFFSET('Forecasts Aggregate'!$C$58,$C85-$C$17,MATCH(DH$16,Ages,1))),\"\")","v":""},{"$f":"IF($C85<>\"\",DI85*EXP(-OFFSET('Forecasts Aggregate'!$C$58,$C85-$C$17,MATCH(DI$16,Ages,1))),\"\")","v":""},{"$f":"IF($C85<>\"\",DJ85*EXP(-OFFSET('Forecasts Aggregate'!$C$58,$C85-$C$17,MATCH(DJ$16,Ages,1))),\"\")","v":""},null,"","",""]
[null,null,"","",{"$f":"IF($C86<>\"\",D86*EXP(-OFFSET('Forecasts Aggregate'!$C$58,$C86-$C$17,MATCH(D$16,Ages,1))),\"\")","v":""},{"$f":"IF($C86<>\"\",E86*EXP(-OFFSET('Forecasts Aggregate'!$C$58,$C86-$C$17,MATCH(E$16,Ages,1))),\"\")","v":""},{"$f":"IF($C86<>\"\",F86*EXP(-OFFSET('Forecasts Aggregate'!$C$58,$C86-$C$17,MATCH(F$16,Ages,1))),\"\")","v":""},{"$f":"IF($C86<>\"\",G86*EXP(-OFFSET('Forecasts Aggregate'!$C$58,$C86-$C$17,MATCH(G$16,Ages,1))),\"\")","v":""},{"$f":"IF($C86<>\"\",H86*EXP(-OFFSET('Forecasts Aggregate'!$C$58,$C86-$C$17,MATCH(H$16,Ages,1))),\"\")","v":""},{"$f":"IF($C86<>\"\",I86*EXP(-OFFSET('Forecasts Aggregate'!$C$58,$C86-$C$17,MATCH(I$16,Ages,1))),\"\")","v":""},{"$f":"IF($C86<>\"\",J86*EXP(-OFFSET('Forecasts Aggregate'!$C$58,$C86-$C$17,MATCH(J$16,Ages,1))),\"\")","v":""},{"$f":"IF($C86<>\"\",K86*EXP(-OFFSET('Forecasts Aggregate'!$C$58,$C86-$C$17,MATCH(K$16,Ages,1))),\"\")","v":""},{"$f":"IF($C86<>\"\",L86*EXP(-OFFSET('Forecasts Aggregate'!$C$58,$C86-$C$17,MATCH(L$16,Ages,1))),\"\")","v":""},{"$f":"IF($C86<>\"\",M86*EXP(-OFFSET('Forecasts Aggregate'!$C$58,$C86-$C$17,MATCH(M$16,Ages,1))),\"\")","v":""},{"$f":"IF($C86<>\"\",N86*EXP(-OFFSET('Forecasts Aggregate'!$C$58,$C86-$C$17,MATCH(N$16,Ages,1))),\"\")","v":""},{"$f":"IF($C86<>\"\",O86*EXP(-OFFSET('Forecasts Aggregate'!$C$58,$C86-$C$17,MATCH(O$16,Ages,1))),\"\")","v":""},{"$f":"IF($C86<>\"\",P86*EXP(-OFFSET('Forecasts Aggregate'!$C$58,$C86-$C$17,MATCH(P$16,Ages,1))),\"\")","v":""},{"$f":"IF($C86<>\"\",Q86*EXP(-OFFSET('Forecasts Aggregate'!$C$58,$C86-$C$17,MATCH(Q$16,Ages,1))),\"\")","v":""},{"$f":"IF($C86<>\"\",R86*EXP(-OFFSET('Forecasts Aggregate'!$C$58,$C86-$C$17,MATCH(R$16,Ages,1))),\"\")","v":""},{"$f":"IF($C86<>\"\",S86*EXP(-OFFSET('Forecasts Aggregate'!$C$58,$C86-$C$17,MATCH(S$16,Ages,1))),\"\")","v":""},{"$f":"IF($C86<>\"\",T86*EXP(-OFFSET('Forecasts Aggregate'!$C$58,$C86-$C$17,MATCH(T$16,Ages,1))),\"\")","v":""},{"$f":"IF($C86<>\"\",U86*EXP(-OFFSET('Forecasts Aggregate'!$C$58,$C86-$C$17,MATCH(U$16,Ages,1))),\"\")","v":""},{"$f":"IF($C86<>\"\",V86*EXP(-OFFSET('Forecasts Aggregate'!$C$58,$C86-$C$17,MATCH(V$16,Ages,1))),\"\")","v":""},{"$f":"IF($C86<>\"\",W86*EXP(-OFFSET('Forecasts Aggregate'!$C$58,$C86-$C$17,MATCH(W$16,Ages,1))),\"\")","v":""},{"$f":"IF($C86<>\"\",X86*EXP(-OFFSET('Forecasts Aggregate'!$C$58,$C86-$C$17,MATCH(X$16,Ages,1))),\"\")","v":""},{"$f":"IF($C86<>\"\",Y86*EXP(-OFFSET('Forecasts Aggregate'!$C$58,$C86-$C$17,MATCH(Y$16,Ages,1))),\"\")","v":""},{"$f":"IF($C86<>\"\",Z86*EXP(-OFFSET('Forecasts Aggregate'!$C$58,$C86-$C$17,MATCH(Z$16,Ages,1))),\"\")","v":""},{"$f":"IF($C86<>\"\",AA86*EXP(-OFFSET('Forecasts Aggregate'!$C$58,$C86-$C$17,MATCH(AA$16,Ages,1))),\"\")","v":""},{"$f":"IF($C86<>\"\",AB86*EXP(-OFFSET('Forecasts Aggregate'!$C$58,$C86-$C$17,MATCH(AB$16,Ages,1))),\"\")","v":""},{"$f":"IF($C86<>\"\",AC86*EXP(-OFFSET('Forecasts Aggregate'!$C$58,$C86-$C$17,MATCH(AC$16,Ages,1))),\"\")","v":""},{"$f":"IF($C86<>\"\",AD86*EXP(-OFFSET('Forecasts Aggregate'!$C$58,$C86-$C$17,MATCH(AD$16,Ages,1))),\"\")","v":""},{"$f":"IF($C86<>\"\",AE86*EXP(-OFFSET('Forecasts Aggregate'!$C$58,$C86-$C$17,MATCH(AE$16,Ages,1))),\"\")","v":""},{"$f":"IF($C86<>\"\",AF86*EXP(-OFFSET('Forecasts Aggregate'!$C$58,$C86-$C$17,MATCH(AF$16,Ages,1))),\"\")","v":""},{"$f":"IF($C86<>\"\",AG86*EXP(-OFFSET('Forecasts Aggregate'!$C$58,$C86-$C$17,MATCH(AG$16,Ages,1))),\"\")","v":""},{"$f":"IF($C86<>\"\",AH86*EXP(-OFFSET('Forecasts Aggregate'!$C$58,$C86-$C$17,MATCH(AH$16,Ages,1))),\"\")","v":""},{"$f":"IF($C86<>\"\",AI86*EXP(-OFFSET('Forecasts Aggregate'!$C$58,$C86-$C$17,MATCH(AI$16,Ages,1))),\"\")","v":""},{"$f":"IF($C86<>\"\",AJ86*EXP(-OFFSET('Forecasts Aggregate'!$C$58,$C86-$C$17,MATCH(AJ$16,Ages,1))),\"\")","v":""},{"$f":"IF($C86<>\"\",AK86*EXP(-OFFSET('Forecasts Aggregate'!$C$58,$C86-$C$17,MATCH(AK$16,Ages,1))),\"\")","v":""},{"$f":"IF($C86<>\"\",AL86*EXP(-OFFSET('Forecasts Aggregate'!$C$58,$C86-$C$17,MATCH(AL$16,Ages,1))),\"\")","v":""},{"$f":"IF($C86<>\"\",AM86*EXP(-OFFSET('Forecasts Aggregate'!$C$58,$C86-$C$17,MATCH(AM$16,Ages,1))),\"\")","v":""},{"$f":"IF($C86<>\"\",AN86*EXP(-OFFSET('Forecasts Aggregate'!$C$58,$C86-$C$17,MATCH(AN$16,Ages,1))),\"\")","v":""},{"$f":"IF($C86<>\"\",AO86*EXP(-OFFSET('Forecasts Aggregate'!$C$58,$C86-$C$17,MATCH(AO$16,Ages,1))),\"\")","v":""},{"$f":"IF($C86<>\"\",AP86*EXP(-OFFSET('Forecasts Aggregate'!$C$58,$C86-$C$17,MATCH(AP$16,Ages,1))),\"\")","v":""},{"$f":"IF($C86<>\"\",AQ86*EXP(-OFFSET('Forecasts Aggregate'!$C$58,$C86-$C$17,MATCH(AQ$16,Ages,1))),\"\")","v":""},{"$f":"IF($C86<>\"\",AR86*EXP(-OFFSET('Forecasts Aggregate'!$C$58,$C86-$C$17,MATCH(AR$16,Ages,1))),\"\")","v":""},{"$f":"IF($C86<>\"\",AS86*EXP(-OFFSET('Forecasts Aggregate'!$C$58,$C86-$C$17,MATCH(AS$16,Ages,1))),\"\")","v":""},{"$f":"IF($C86<>\"\",AT86*EXP(-OFFSET('Forecasts Aggregate'!$C$58,$C86-$C$17,MATCH(AT$16,Ages,1))),\"\")","v":""},{"$f":"IF($C86<>\"\",AU86*EXP(-OFFSET('Forecasts Aggregate'!$C$58,$C86-$C$17,MATCH(AU$16,Ages,1))),\"\")","v":""},{"$f":"IF($C86<>\"\",AV86*EXP(-OFFSET('Forecasts Aggregate'!$C$58,$C86-$C$17,MATCH(AV$16,Ages,1))),\"\")","v":""},{"$f":"IF($C86<>\"\",AW86*EXP(-OFFSET('Forecasts Aggregate'!$C$58,$C86-$C$17,MATCH(AW$16,Ages,1))),\"\")","v":""},{"$f":"IF($C86<>\"\",AX86*EXP(-OFFSET('Forecasts Aggregate'!$C$58,$C86-$C$17,MATCH(AX$16,Ages,1))),\"\")","v":""},{"$f":"IF($C86<>\"\",AY86*EXP(-OFFSET('Forecasts Aggregate'!$C$58,$C86-$C$17,MATCH(AY$16,Ages,1))),\"\")","v":""},{"$f":"IF($C86<>\"\",AZ86*EXP(-OFFSET('Forecasts Aggregate'!$C$58,$C86-$C$17,MATCH(AZ$16,Ages,1))),\"\")","v":""},{"$f":"IF($C86<>\"\",BA86*EXP(-OFFSET('Forecasts Aggregate'!$C$58,$C86-$C$17,MATCH(BA$16,Ages,1))),\"\")","v":""},{"$f":"IF($C86<>\"\",BB86*EXP(-OFFSET('Forecasts Aggregate'!$C$58,$C86-$C$17,MATCH(BB$16,Ages,1))),\"\")","v":""},{"$f":"IF($C86<>\"\",BC86*EXP(-OFFSET('Forecasts Aggregate'!$C$58,$C86-$C$17,MATCH(BC$16,Ages,1))),\"\")","v":""},{"$f":"IF($C86<>\"\",BD86*EXP(-OFFSET('Forecasts Aggregate'!$C$58,$C86-$C$17,MATCH(BD$16,Ages,1))),\"\")","v":""},{"$f":"IF($C86<>\"\",BE86*EXP(-OFFSET('Forecasts Aggregate'!$C$58,$C86-$C$17,MATCH(BE$16,Ages,1))),\"\")","v":""},{"$f":"IF($C86<>\"\",BF86*EXP(-OFFSET('Forecasts Aggregate'!$C$58,$C86-$C$17,MATCH(BF$16,Ages,1))),\"\")","v":""},{"$f":"IF($C86<>\"\",BG86*EXP(-OFFSET('Forecasts Aggregate'!$C$58,$C86-$C$17,MATCH(BG$16,Ages,1))),\"\")","v":""},{"$f":"IF($C86<>\"\",BH86*EXP(-OFFSET('Forecasts Aggregate'!$C$58,$C86-$C$17,MATCH(BH$16,Ages,1))),\"\")","v":""},{"$f":"IF($C86<>\"\",BI86*EXP(-OFFSET('Forecasts Aggregate'!$C$58,$C86-$C$17,MATCH(BI$16,Ages,1))),\"\")","v":""},{"$f":"IF($C86<>\"\",BJ86*EXP(-OFFSET('Forecasts Aggregate'!$C$58,$C86-$C$17,MATCH(BJ$16,Ages,1))),\"\")","v":""},{"$f":"IF($C86<>\"\",BK86*EXP(-OFFSET('Forecasts Aggregate'!$C$58,$C86-$C$17,MATCH(BK$16,Ages,1))),\"\")","v":""},{"$f":"IF($C86<>\"\",BL86*EXP(-OFFSET('Forecasts Aggregate'!$C$58,$C86-$C$17,MATCH(BL$16,Ages,1))),\"\")","v":""},{"$f":"IF($C86<>\"\",BM86*EXP(-OFFSET('Forecasts Aggregate'!$C$58,$C86-$C$17,MATCH(BM$16,Ages,1))),\"\")","v":""},{"$f":"IF($C86<>\"\",BN86*EXP(-OFFSET('Forecasts Aggregate'!$C$58,$C86-$C$17,MATCH(BN$16,Ages,1))),\"\")","v":""},{"$f":"IF($C86<>\"\",BO86*EXP(-OFFSET('Forecasts Aggregate'!$C$58,$C86-$C$17,MATCH(BO$16,Ages,1))),\"\")","v":""},{"$f":"IF($C86<>\"\",BP86*EXP(-OFFSET('Forecasts Aggregate'!$C$58,$C86-$C$17,MATCH(BP$16,Ages,1))),\"\")","v":""},{"$f":"IF($C86<>\"\",BQ86*EXP(-OFFSET('Forecasts Aggregate'!$C$58,$C86-$C$17,MATCH(BQ$16,Ages,1))),\"\")","v":""},{"$f":"IF($C86<>\"\",BR86*EXP(-OFFSET('Forecasts Aggregate'!$C$58,$C86-$C$17,MATCH(BR$16,Ages,1))),\"\")","v":""},{"$f":"IF($C86<>\"\",BS86*EXP(-OFFSET('Forecasts Aggregate'!$C$58,$C86-$C$17,MATCH(BS$16,Ages,1))),\"\")","v":""},{"$f":"IF($C86<>\"\",BT86*EXP(-OFFSET('Forecasts Aggregate'!$C$58,$C86-$C$17,MATCH(BT$16,Ages,1))),\"\")","v":""},{"$f":"IF($C86<>\"\",BU86*EXP(-OFFSET('Forecasts Aggregate'!$C$58,$C86-$C$17,MATCH(BU$16,Ages,1))),\"\")","v":""},{"$f":"IF($C86<>\"\",BV86*EXP(-OFFSET('Forecasts Aggregate'!$C$58,$C86-$C$17,MATCH(BV$16,Ages,1))),\"\")","v":""},{"$f":"IF($C86<>\"\",BW86*EXP(-OFFSET('Forecasts Aggregate'!$C$58,$C86-$C$17,MATCH(BW$16,Ages,1))),\"\")","v":""},{"$f":"IF($C86<>\"\",BX86*EXP(-OFFSET('Forecasts Aggregate'!$C$58,$C86-$C$17,MATCH(BX$16,Ages,1))),\"\")","v":""},{"$f":"IF($C86<>\"\",BY86*EXP(-OFFSET('Forecasts Aggregate'!$C$58,$C86-$C$17,MATCH(BY$16,Ages,1))),\"\")","v":""},{"$f":"IF($C86<>\"\",BZ86*EXP(-OFFSET('Forecasts Aggregate'!$C$58,$C86-$C$17,MATCH(BZ$16,Ages,1))),\"\")","v":""},{"$f":"IF($C86<>\"\",CA86*EXP(-OFFSET('Forecasts Aggregate'!$C$58,$C86-$C$17,MATCH(CA$16,Ages,1))),\"\")","v":""},{"$f":"IF($C86<>\"\",CB86*EXP(-OFFSET('Forecasts Aggregate'!$C$58,$C86-$C$17,MATCH(CB$16,Ages,1))),\"\")","v":""},{"$f":"IF($C86<>\"\",CC86*EXP(-OFFSET('Forecasts Aggregate'!$C$58,$C86-$C$17,MATCH(CC$16,Ages,1))),\"\")","v":""},{"$f":"IF($C86<>\"\",CD86*EXP(-OFFSET('Forecasts Aggregate'!$C$58,$C86-$C$17,MATCH(CD$16,Ages,1))),\"\")","v":""},{"$f":"IF($C86<>\"\",CE86*EXP(-OFFSET('Forecasts Aggregate'!$C$58,$C86-$C$17,MATCH(CE$16,Ages,1))),\"\")","v":""},{"$f":"IF($C86<>\"\",CF86*EXP(-OFFSET('Forecasts Aggregate'!$C$58,$C86-$C$17,MATCH(CF$16,Ages,1))),\"\")","v":""},{"$f":"IF($C86<>\"\",CG86*EXP(-OFFSET('Forecasts Aggregate'!$C$58,$C86-$C$17,MATCH(CG$16,Ages,1))),\"\")","v":""},{"$f":"IF($C86<>\"\",CH86*EXP(-OFFSET('Forecasts Aggregate'!$C$58,$C86-$C$17,MATCH(CH$16,Ages,1))),\"\")","v":""},{"$f":"IF($C86<>\"\",CI86*EXP(-OFFSET('Forecasts Aggregate'!$C$58,$C86-$C$17,MATCH(CI$16,Ages,1))),\"\")","v":""},{"$f":"IF($C86<>\"\",CJ86*EXP(-OFFSET('Forecasts Aggregate'!$C$58,$C86-$C$17,MATCH(CJ$16,Ages,1))),\"\")","v":""},{"$f":"IF($C86<>\"\",CK86*EXP(-OFFSET('Forecasts Aggregate'!$C$58,$C86-$C$17,MATCH(CK$16,Ages,1))),\"\")","v":""},{"$f":"IF($C86<>\"\",CL86*EXP(-OFFSET('Forecasts Aggregate'!$C$58,$C86-$C$17,MATCH(CL$16,Ages,1))),\"\")","v":""},{"$f":"IF($C86<>\"\",CM86*EXP(-OFFSET('Forecasts Aggregate'!$C$58,$C86-$C$17,MATCH(CM$16,Ages,1))),\"\")","v":""},{"$f":"IF($C86<>\"\",CN86*EXP(-OFFSET('Forecasts Aggregate'!$C$58,$C86-$C$17,MATCH(CN$16,Ages,1))),\"\")","v":""},{"$f":"IF($C86<>\"\",CO86*EXP(-OFFSET('Forecasts Aggregate'!$C$58,$C86-$C$17,MATCH(CO$16,Ages,1))),\"\")","v":""},{"$f":"IF($C86<>\"\",CP86*EXP(-OFFSET('Forecasts Aggregate'!$C$58,$C86-$C$17,MATCH(CP$16,Ages,1))),\"\")","v":""},{"$f":"IF($C86<>\"\",CQ86*EXP(-OFFSET('Forecasts Aggregate'!$C$58,$C86-$C$17,MATCH(CQ$16,Ages,1))),\"\")","v":""},{"$f":"IF($C86<>\"\",CR86*EXP(-OFFSET('Forecasts Aggregate'!$C$58,$C86-$C$17,MATCH(CR$16,Ages,1))),\"\")","v":""},{"$f":"IF($C86<>\"\",CS86*EXP(-OFFSET('Forecasts Aggregate'!$C$58,$C86-$C$17,MATCH(CS$16,Ages,1))),\"\")","v":""},{"$f":"IF($C86<>\"\",CT86*EXP(-OFFSET('Forecasts Aggregate'!$C$58,$C86-$C$17,MATCH(CT$16,Ages,1))),\"\")","v":""},{"$f":"IF($C86<>\"\",CU86*EXP(-OFFSET('Forecasts Aggregate'!$C$58,$C86-$C$17,MATCH(CU$16,Ages,1))),\"\")","v":""},{"$f":"IF($C86<>\"\",CV86*EXP(-OFFSET('Forecasts Aggregate'!$C$58,$C86-$C$17,MATCH(CV$16,Ages,1))),\"\")","v":""},{"$f":"IF($C86<>\"\",CW86*EXP(-OFFSET('Forecasts Aggregate'!$C$58,$C86-$C$17,MATCH(CW$16,Ages,1))),\"\")","v":""},{"$f":"IF($C86<>\"\",CX86*EXP(-OFFSET('Forecasts Aggregate'!$C$58,$C86-$C$17,MATCH(CX$16,Ages,1))),\"\")","v":""},{"$f":"IF($C86<>\"\",CY86*EXP(-OFFSET('Forecasts Aggregate'!$C$58,$C86-$C$17,MATCH(CY$16,Ages,1))),\"\")","v":""},{"$f":"IF($C86<>\"\",CZ86*EXP(-OFFSET('Forecasts Aggregate'!$C$58,$C86-$C$17,MATCH(CZ$16,Ages,1))),\"\")","v":""},{"$f":"IF($C86<>\"\",DA86*EXP(-OFFSET('Forecasts Aggregate'!$C$58,$C86-$C$17,MATCH(DA$16,Ages,1))),\"\")","v":""},{"$f":"IF($C86<>\"\",DB86*EXP(-OFFSET('Forecasts Aggregate'!$C$58,$C86-$C$17,MATCH(DB$16,Ages,1))),\"\")","v":""},{"$f":"IF($C86<>\"\",DC86*EXP(-OFFSET('Forecasts Aggregate'!$C$58,$C86-$C$17,MATCH(DC$16,Ages,1))),\"\")","v":""},{"$f":"IF($C86<>\"\",DD86*EXP(-OFFSET('Forecasts Aggregate'!$C$58,$C86-$C$17,MATCH(DD$16,Ages,1))),\"\")","v":""},{"$f":"IF($C86<>\"\",DE86*EXP(-OFFSET('Forecasts Aggregate'!$C$58,$C86-$C$17,MATCH(DE$16,Ages,1))),\"\")","v":""},{"$f":"IF($C86<>\"\",DF86*EXP(-OFFSET('Forecasts Aggregate'!$C$58,$C86-$C$17,MATCH(DF$16,Ages,1))),\"\")","v":""},{"$f":"IF($C86<>\"\",DG86*EXP(-OFFSET('Forecasts Aggregate'!$C$58,$C86-$C$17,MATCH(DG$16,Ages,1))),\"\")","v":""},{"$f":"IF($C86<>\"\",DH86*EXP(-OFFSET('Forecasts Aggregate'!$C$58,$C86-$C$17,MATCH(DH$16,Ages,1))),\"\")","v":""},{"$f":"IF($C86<>\"\",DI86*EXP(-OFFSET('Forecasts Aggregate'!$C$58,$C86-$C$17,MATCH(DI$16,Ages,1))),\"\")","v":""},{"$f":"IF($C86<>\"\",DJ86*EXP(-OFFSET('Forecasts Aggregate'!$C$58,$C86-$C$17,MATCH(DJ$16,Ages,1))),\"\")","v":""},null,"","",""]
[null,null,"","",{"$f":"IF($C87<>\"\",D87*EXP(-OFFSET('Forecasts Aggregate'!$C$58,$C87-$C$17,MATCH(D$16,Ages,1))),\"\")","v":""},{"$f":"IF($C87<>\"\",E87*EXP(-OFFSET('Forecasts Aggregate'!$C$58,$C87-$C$17,MATCH(E$16,Ages,1))),\"\")","v":""},{"$f":"IF($C87<>\"\",F87*EXP(-OFFSET('Forecasts Aggregate'!$C$58,$C87-$C$17,MATCH(F$16,Ages,1))),\"\")","v":""},{"$f":"IF($C87<>\"\",G87*EXP(-OFFSET('Forecasts Aggregate'!$C$58,$C87-$C$17,MATCH(G$16,Ages,1))),\"\")","v":""},{"$f":"IF($C87<>\"\",H87*EXP(-OFFSET('Forecasts Aggregate'!$C$58,$C87-$C$17,MATCH(H$16,Ages,1))),\"\")","v":""},{"$f":"IF($C87<>\"\",I87*EXP(-OFFSET('Forecasts Aggregate'!$C$58,$C87-$C$17,MATCH(I$16,Ages,1))),\"\")","v":""},{"$f":"IF($C87<>\"\",J87*EXP(-OFFSET('Forecasts Aggregate'!$C$58,$C87-$C$17,MATCH(J$16,Ages,1))),\"\")","v":""},{"$f":"IF($C87<>\"\",K87*EXP(-OFFSET('Forecasts Aggregate'!$C$58,$C87-$C$17,MATCH(K$16,Ages,1))),\"\")","v":""},{"$f":"IF($C87<>\"\",L87*EXP(-OFFSET('Forecasts Aggregate'!$C$58,$C87-$C$17,MATCH(L$16,Ages,1))),\"\")","v":""},{"$f":"IF($C87<>\"\",M87*EXP(-OFFSET('Forecasts Aggregate'!$C$58,$C87-$C$17,MATCH(M$16,Ages,1))),\"\")","v":""},{"$f":"IF($C87<>\"\",N87*EXP(-OFFSET('Forecasts Aggregate'!$C$58,$C87-$C$17,MATCH(N$16,Ages,1))),\"\")","v":""},{"$f":"IF($C87<>\"\",O87*EXP(-OFFSET('Forecasts Aggregate'!$C$58,$C87-$C$17,MATCH(O$16,Ages,1))),\"\")","v":""},{"$f":"IF($C87<>\"\",P87*EXP(-OFFSET('Forecasts Aggregate'!$C$58,$C87-$C$17,MATCH(P$16,Ages,1))),\"\")","v":""},{"$f":"IF($C87<>\"\",Q87*EXP(-OFFSET('Forecasts Aggregate'!$C$58,$C87-$C$17,MATCH(Q$16,Ages,1))),\"\")","v":""},{"$f":"IF($C87<>\"\",R87*EXP(-OFFSET('Forecasts Aggregate'!$C$58,$C87-$C$17,MATCH(R$16,Ages,1))),\"\")","v":""},{"$f":"IF($C87<>\"\",S87*EXP(-OFFSET('Forecasts Aggregate'!$C$58,$C87-$C$17,MATCH(S$16,Ages,1))),\"\")","v":""},{"$f":"IF($C87<>\"\",T87*EXP(-OFFSET('Forecasts Aggregate'!$C$58,$C87-$C$17,MATCH(T$16,Ages,1))),\"\")","v":""},{"$f":"IF($C87<>\"\",U87*EXP(-OFFSET('Forecasts Aggregate'!$C$58,$C87-$C$17,MATCH(U$16,Ages,1))),\"\")","v":""},{"$f":"IF($C87<>\"\",V87*EXP(-OFFSET('Forecasts Aggregate'!$C$58,$C87-$C$17,MATCH(V$16,Ages,1))),\"\")","v":""},{"$f":"IF($C87<>\"\",W87*EXP(-OFFSET('Forecasts Aggregate'!$C$58,$C87-$C$17,MATCH(W$16,Ages,1))),\"\")","v":""},{"$f":"IF($C87<>\"\",X87*EXP(-OFFSET('Forecasts Aggregate'!$C$58,$C87-$C$17,MATCH(X$16,Ages,1))),\"\")","v":""},{"$f":"IF($C87<>\"\",Y87*EXP(-OFFSET('Forecasts Aggregate'!$C$58,$C87-$C$17,MATCH(Y$16,Ages,1))),\"\")","v":""},{"$f":"IF($C87<>\"\",Z87*EXP(-OFFSET('Forecasts Aggregate'!$C$58,$C87-$C$17,MATCH(Z$16,Ages,1))),\"\")","v":""},{"$f":"IF($C87<>\"\",AA87*EXP(-OFFSET('Forecasts Aggregate'!$C$58,$C87-$C$17,MATCH(AA$16,Ages,1))),\"\")","v":""},{"$f":"IF($C87<>\"\",AB87*EXP(-OFFSET('Forecasts Aggregate'!$C$58,$C87-$C$17,MATCH(AB$16,Ages,1))),\"\")","v":""},{"$f":"IF($C87<>\"\",AC87*EXP(-OFFSET('Forecasts Aggregate'!$C$58,$C87-$C$17,MATCH(AC$16,Ages,1))),\"\")","v":""},{"$f":"IF($C87<>\"\",AD87*EXP(-OFFSET('Forecasts Aggregate'!$C$58,$C87-$C$17,MATCH(AD$16,Ages,1))),\"\")","v":""},{"$f":"IF($C87<>\"\",AE87*EXP(-OFFSET('Forecasts Aggregate'!$C$58,$C87-$C$17,MATCH(AE$16,Ages,1))),\"\")","v":""},{"$f":"IF($C87<>\"\",AF87*EXP(-OFFSET('Forecasts Aggregate'!$C$58,$C87-$C$17,MATCH(AF$16,Ages,1))),\"\")","v":""},{"$f":"IF($C87<>\"\",AG87*EXP(-OFFSET('Forecasts Aggregate'!$C$58,$C87-$C$17,MATCH(AG$16,Ages,1))),\"\")","v":""},{"$f":"IF($C87<>\"\",AH87*EXP(-OFFSET('Forecasts Aggregate'!$C$58,$C87-$C$17,MATCH(AH$16,Ages,1))),\"\")","v":""},{"$f":"IF($C87<>\"\",AI87*EXP(-OFFSET('Forecasts Aggregate'!$C$58,$C87-$C$17,MATCH(AI$16,Ages,1))),\"\")","v":""},{"$f":"IF($C87<>\"\",AJ87*EXP(-OFFSET('Forecasts Aggregate'!$C$58,$C87-$C$17,MATCH(AJ$16,Ages,1))),\"\")","v":""},{"$f":"IF($C87<>\"\",AK87*EXP(-OFFSET('Forecasts Aggregate'!$C$58,$C87-$C$17,MATCH(AK$16,Ages,1))),\"\")","v":""},{"$f":"IF($C87<>\"\",AL87*EXP(-OFFSET('Forecasts Aggregate'!$C$58,$C87-$C$17,MATCH(AL$16,Ages,1))),\"\")","v":""},{"$f":"IF($C87<>\"\",AM87*EXP(-OFFSET('Forecasts Aggregate'!$C$58,$C87-$C$17,MATCH(AM$16,Ages,1))),\"\")","v":""},{"$f":"IF($C87<>\"\",AN87*EXP(-OFFSET('Forecasts Aggregate'!$C$58,$C87-$C$17,MATCH(AN$16,Ages,1))),\"\")","v":""},{"$f":"IF($C87<>\"\",AO87*EXP(-OFFSET('Forecasts Aggregate'!$C$58,$C87-$C$17,MATCH(AO$16,Ages,1))),\"\")","v":""},{"$f":"IF($C87<>\"\",AP87*EXP(-OFFSET('Forecasts Aggregate'!$C$58,$C87-$C$17,MATCH(AP$16,Ages,1))),\"\")","v":""},{"$f":"IF($C87<>\"\",AQ87*EXP(-OFFSET('Forecasts Aggregate'!$C$58,$C87-$C$17,MATCH(AQ$16,Ages,1))),\"\")","v":""},{"$f":"IF($C87<>\"\",AR87*EXP(-OFFSET('Forecasts Aggregate'!$C$58,$C87-$C$17,MATCH(AR$16,Ages,1))),\"\")","v":""},{"$f":"IF($C87<>\"\",AS87*EXP(-OFFSET('Forecasts Aggregate'!$C$58,$C87-$C$17,MATCH(AS$16,Ages,1))),\"\")","v":""},{"$f":"IF($C87<>\"\",AT87*EXP(-OFFSET('Forecasts Aggregate'!$C$58,$C87-$C$17,MATCH(AT$16,Ages,1))),\"\")","v":""},{"$f":"IF($C87<>\"\",AU87*EXP(-OFFSET('Forecasts Aggregate'!$C$58,$C87-$C$17,MATCH(AU$16,Ages,1))),\"\")","v":""},{"$f":"IF($C87<>\"\",AV87*EXP(-OFFSET('Forecasts Aggregate'!$C$58,$C87-$C$17,MATCH(AV$16,Ages,1))),\"\")","v":""},{"$f":"IF($C87<>\"\",AW87*EXP(-OFFSET('Forecasts Aggregate'!$C$58,$C87-$C$17,MATCH(AW$16,Ages,1))),\"\")","v":""},{"$f":"IF($C87<>\"\",AX87*EXP(-OFFSET('Forecasts Aggregate'!$C$58,$C87-$C$17,MATCH(AX$16,Ages,1))),\"\")","v":""},{"$f":"IF($C87<>\"\",AY87*EXP(-OFFSET('Forecasts Aggregate'!$C$58,$C87-$C$17,MATCH(AY$16,Ages,1))),\"\")","v":""},{"$f":"IF($C87<>\"\",AZ87*EXP(-OFFSET('Forecasts Aggregate'!$C$58,$C87-$C$17,MATCH(AZ$16,Ages,1))),\"\")","v":""},{"$f":"IF($C87<>\"\",BA87*EXP(-OFFSET('Forecasts Aggregate'!$C$58,$C87-$C$17,MATCH(BA$16,Ages,1))),\"\")","v":""},{"$f":"IF($C87<>\"\",BB87*EXP(-OFFSET('Forecasts Aggregate'!$C$58,$C87-$C$17,MATCH(BB$16,Ages,1))),\"\")","v":""},{"$f":"IF($C87<>\"\",BC87*EXP(-OFFSET('Forecasts Aggregate'!$C$58,$C87-$C$17,MATCH(BC$16,Ages,1))),\"\")","v":""},{"$f":"IF($C87<>\"\",BD87*EXP(-OFFSET('Forecasts Aggregate'!$C$58,$C87-$C$17,MATCH(BD$16,Ages,1))),\"\")","v":""},{"$f":"IF($C87<>\"\",BE87*EXP(-OFFSET('Forecasts Aggregate'!$C$58,$C87-$C$17,MATCH(BE$16,Ages,1))),\"\")","v":""},{"$f":"IF($C87<>\"\",BF87*EXP(-OFFSET('Forecasts Aggregate'!$C$58,$C87-$C$17,MATCH(BF$16,Ages,1))),\"\")","v":""},{"$f":"IF($C87<>\"\",BG87*EXP(-OFFSET('Forecasts Aggregate'!$C$58,$C87-$C$17,MATCH(BG$16,Ages,1))),\"\")","v":""},{"$f":"IF($C87<>\"\",BH87*EXP(-OFFSET('Forecasts Aggregate'!$C$58,$C87-$C$17,MATCH(BH$16,Ages,1))),\"\")","v":""},{"$f":"IF($C87<>\"\",BI87*EXP(-OFFSET('Forecasts Aggregate'!$C$58,$C87-$C$17,MATCH(BI$16,Ages,1))),\"\")","v":""},{"$f":"IF($C87<>\"\",BJ87*EXP(-OFFSET('Forecasts Aggregate'!$C$58,$C87-$C$17,MATCH(BJ$16,Ages,1))),\"\")","v":""},{"$f":"IF($C87<>\"\",BK87*EXP(-OFFSET('Forecasts Aggregate'!$C$58,$C87-$C$17,MATCH(BK$16,Ages,1))),\"\")","v":""},{"$f":"IF($C87<>\"\",BL87*EXP(-OFFSET('Forecasts Aggregate'!$C$58,$C87-$C$17,MATCH(BL$16,Ages,1))),\"\")","v":""},{"$f":"IF($C87<>\"\",BM87*EXP(-OFFSET('Forecasts Aggregate'!$C$58,$C87-$C$17,MATCH(BM$16,Ages,1))),\"\")","v":""},{"$f":"IF($C87<>\"\",BN87*EXP(-OFFSET('Forecasts Aggregate'!$C$58,$C87-$C$17,MATCH(BN$16,Ages,1))),\"\")","v":""},{"$f":"IF($C87<>\"\",BO87*EXP(-OFFSET('Forecasts Aggregate'!$C$58,$C87-$C$17,MATCH(BO$16,Ages,1))),\"\")","v":""},{"$f":"IF($C87<>\"\",BP87*EXP(-OFFSET('Forecasts Aggregate'!$C$58,$C87-$C$17,MATCH(BP$16,Ages,1))),\"\")","v":""},{"$f":"IF($C87<>\"\",BQ87*EXP(-OFFSET('Forecasts Aggregate'!$C$58,$C87-$C$17,MATCH(BQ$16,Ages,1))),\"\")","v":""},{"$f":"IF($C87<>\"\",BR87*EXP(-OFFSET('Forecasts Aggregate'!$C$58,$C87-$C$17,MATCH(BR$16,Ages,1))),\"\")","v":""},{"$f":"IF($C87<>\"\",BS87*EXP(-OFFSET('Forecasts Aggregate'!$C$58,$C87-$C$17,MATCH(BS$16,Ages,1))),\"\")","v":""},{"$f":"IF($C87<>\"\",BT87*EXP(-OFFSET('Forecasts Aggregate'!$C$58,$C87-$C$17,MATCH(BT$16,Ages,1))),\"\")","v":""},{"$f":"IF($C87<>\"\",BU87*EXP(-OFFSET('Forecasts Aggregate'!$C$58,$C87-$C$17,MATCH(BU$16,Ages,1))),\"\")","v":""},{"$f":"IF($C87<>\"\",BV87*EXP(-OFFSET('Forecasts Aggregate'!$C$58,$C87-$C$17,MATCH(BV$16,Ages,1))),\"\")","v":""},{"$f":"IF($C87<>\"\",BW87*EXP(-OFFSET('Forecasts Aggregate'!$C$58,$C87-$C$17,MATCH(BW$16,Ages,1))),\"\")","v":""},{"$f":"IF($C87<>\"\",BX87*EXP(-OFFSET('Forecasts Aggregate'!$C$58,$C87-$C$17,MATCH(BX$16,Ages,1))),\"\")","v":""},{"$f":"IF($C87<>\"\",BY87*EXP(-OFFSET('Forecasts Aggregate'!$C$58,$C87-$C$17,MATCH(BY$16,Ages,1))),\"\")","v":""},{"$f":"IF($C87<>\"\",BZ87*EXP(-OFFSET('Forecasts Aggregate'!$C$58,$C87-$C$17,MATCH(BZ$16,Ages,1))),\"\")","v":""},{"$f":"IF($C87<>\"\",CA87*EXP(-OFFSET('Forecasts Aggregate'!$C$58,$C87-$C$17,MATCH(CA$16,Ages,1))),\"\")","v":""},{"$f":"IF($C87<>\"\",CB87*EXP(-OFFSET('Forecasts Aggregate'!$C$58,$C87-$C$17,MATCH(CB$16,Ages,1))),\"\")","v":""},{"$f":"IF($C87<>\"\",CC87*EXP(-OFFSET('Forecasts Aggregate'!$C$58,$C87-$C$17,MATCH(CC$16,Ages,1))),\"\")","v":""},{"$f":"IF($C87<>\"\",CD87*EXP(-OFFSET('Forecasts Aggregate'!$C$58,$C87-$C$17,MATCH(CD$16,Ages,1))),\"\")","v":""},{"$f":"IF($C87<>\"\",CE87*EXP(-OFFSET('Forecasts Aggregate'!$C$58,$C87-$C$17,MATCH(CE$16,Ages,1))),\"\")","v":""},{"$f":"IF($C87<>\"\",CF87*EXP(-OFFSET('Forecasts Aggregate'!$C$58,$C87-$C$17,MATCH(CF$16,Ages,1))),\"\")","v":""},{"$f":"IF($C87<>\"\",CG87*EXP(-OFFSET('Forecasts Aggregate'!$C$58,$C87-$C$17,MATCH(CG$16,Ages,1))),\"\")","v":""},{"$f":"IF($C87<>\"\",CH87*EXP(-OFFSET('Forecasts Aggregate'!$C$58,$C87-$C$17,MATCH(CH$16,Ages,1))),\"\")","v":""},{"$f":"IF($C87<>\"\",CI87*EXP(-OFFSET('Forecasts Aggregate'!$C$58,$C87-$C$17,MATCH(CI$16,Ages,1))),\"\")","v":""},{"$f":"IF($C87<>\"\",CJ87*EXP(-OFFSET('Forecasts Aggregate'!$C$58,$C87-$C$17,MATCH(CJ$16,Ages,1))),\"\")","v":""},{"$f":"IF($C87<>\"\",CK87*EXP(-OFFSET('Forecasts Aggregate'!$C$58,$C87-$C$17,MATCH(CK$16,Ages,1))),\"\")","v":""},{"$f":"IF($C87<>\"\",CL87*EXP(-OFFSET('Forecasts Aggregate'!$C$58,$C87-$C$17,MATCH(CL$16,Ages,1))),\"\")","v":""},{"$f":"IF($C87<>\"\",CM87*EXP(-OFFSET('Forecasts Aggregate'!$C$58,$C87-$C$17,MATCH(CM$16,Ages,1))),\"\")","v":""},{"$f":"IF($C87<>\"\",CN87*EXP(-OFFSET('Forecasts Aggregate'!$C$58,$C87-$C$17,MATCH(CN$16,Ages,1))),\"\")","v":""},{"$f":"IF($C87<>\"\",CO87*EXP(-OFFSET('Forecasts Aggregate'!$C$58,$C87-$C$17,MATCH(CO$16,Ages,1))),\"\")","v":""},{"$f":"IF($C87<>\"\",CP87*EXP(-OFFSET('Forecasts Aggregate'!$C$58,$C87-$C$17,MATCH(CP$16,Ages,1))),\"\")","v":""},{"$f":"IF($C87<>\"\",CQ87*EXP(-OFFSET('Forecasts Aggregate'!$C$58,$C87-$C$17,MATCH(CQ$16,Ages,1))),\"\")","v":""},{"$f":"IF($C87<>\"\",CR87*EXP(-OFFSET('Forecasts Aggregate'!$C$58,$C87-$C$17,MATCH(CR$16,Ages,1))),\"\")","v":""},{"$f":"IF($C87<>\"\",CS87*EXP(-OFFSET('Forecasts Aggregate'!$C$58,$C87-$C$17,MATCH(CS$16,Ages,1))),\"\")","v":""},{"$f":"IF($C87<>\"\",CT87*EXP(-OFFSET('Forecasts Aggregate'!$C$58,$C87-$C$17,MATCH(CT$16,Ages,1))),\"\")","v":""},{"$f":"IF($C87<>\"\",CU87*EXP(-OFFSET('Forecasts Aggregate'!$C$58,$C87-$C$17,MATCH(CU$16,Ages,1))),\"\")","v":""},{"$f":"IF($C87<>\"\",CV87*EXP(-OFFSET('Forecasts Aggregate'!$C$58,$C87-$C$17,MATCH(CV$16,Ages,1))),\"\")","v":""},{"$f":"IF($C87<>\"\",CW87*EXP(-OFFSET('Forecasts Aggregate'!$C$58,$C87-$C$17,MATCH(CW$16,Ages,1))),\"\")","v":""},{"$f":"IF($C87<>\"\",CX87*EXP(-OFFSET('Forecasts Aggregate'!$C$58,$C87-$C$17,MATCH(CX$16,Ages,1))),\"\")","v":""},{"$f":"IF($C87<>\"\",CY87*EXP(-OFFSET('Forecasts Aggregate'!$C$58,$C87-$C$17,MATCH(CY$16,Ages,1))),\"\")","v":""},{"$f":"IF($C87<>\"\",CZ87*EXP(-OFFSET('Forecasts Aggregate'!$C$58,$C87-$C$17,MATCH(CZ$16,Ages,1))),\"\")","v":""},{"$f":"IF($C87<>\"\",DA87*EXP(-OFFSET('Forecasts Aggregate'!$C$58,$C87-$C$17,MATCH(DA$16,Ages,1))),\"\")","v":""},{"$f":"IF($C87<>\"\",DB87*EXP(-OFFSET('Forecasts Aggregate'!$C$58,$C87-$C$17,MATCH(DB$16,Ages,1))),\"\")","v":""},{"$f":"IF($C87<>\"\",DC87*EXP(-OFFSET('Forecasts Aggregate'!$C$58,$C87-$C$17,MATCH(DC$16,Ages,1))),\"\")","v":""},{"$f":"IF($C87<>\"\",DD87*EXP(-OFFSET('Forecasts Aggregate'!$C$58,$C87-$C$17,MATCH(DD$16,Ages,1))),\"\")","v":""},{"$f":"IF($C87<>\"\",DE87*EXP(-OFFSET('Forecasts Aggregate'!$C$58,$C87-$C$17,MATCH(DE$16,Ages,1))),\"\")","v":""},{"$f":"IF($C87<>\"\",DF87*EXP(-OFFSET('Forecasts Aggregate'!$C$58,$C87-$C$17,MATCH(DF$16,Ages,1))),\"\")","v":""},{"$f":"IF($C87<>\"\",DG87*EXP(-OFFSET('Forecasts Aggregate'!$C$58,$C87-$C$17,MATCH(DG$16,Ages,1))),\"\")","v":""},{"$f":"IF($C87<>\"\",DH87*EXP(-OFFSET('Forecasts Aggregate'!$C$58,$C87-$C$17,MATCH(DH$16,Ages,1))),\"\")","v":""},{"$f":"IF($C87<>\"\",DI87*EXP(-OFFSET('Forecasts Aggregate'!$C$58,$C87-$C$17,MATCH(DI$16,Ages,1))),\"\")","v":""},{"$f":"IF($C87<>\"\",DJ87*EXP(-OFFSET('Forecasts Aggregate'!$C$58,$C87-$C$17,MATCH(DJ$16,Ages,1))),\"\")","v":""},null,"","",""]
[null,null,"","",{"$f":"IF($C88<>\"\",D88*EXP(-OFFSET('Forecasts Aggregate'!$C$58,$C88-$C$17,MATCH(D$16,Ages,1))),\"\")","v":""},{"$f":"IF($C88<>\"\",E88*EXP(-OFFSET('Forecasts Aggregate'!$C$58,$C88-$C$17,MATCH(E$16,Ages,1))),\"\")","v":""},{"$f":"IF($C88<>\"\",F88*EXP(-OFFSET('Forecasts Aggregate'!$C$58,$C88-$C$17,MATCH(F$16,Ages,1))),\"\")","v":""},{"$f":"IF($C88<>\"\",G88*EXP(-OFFSET('Forecasts Aggregate'!$C$58,$C88-$C$17,MATCH(G$16,Ages,1))),\"\")","v":""},{"$f":"IF($C88<>\"\",H88*EXP(-OFFSET('Forecasts Aggregate'!$C$58,$C88-$C$17,MATCH(H$16,Ages,1))),\"\")","v":""},{"$f":"IF($C88<>\"\",I88*EXP(-OFFSET('Forecasts Aggregate'!$C$58,$C88-$C$17,MATCH(I$16,Ages,1))),\"\")","v":""},{"$f":"IF($C88<>\"\",J88*EXP(-OFFSET('Forecasts Aggregate'!$C$58,$C88-$C$17,MATCH(J$16,Ages,1))),\"\")","v":""},{"$f":"IF($C88<>\"\",K88*EXP(-OFFSET('Forecasts Aggregate'!$C$58,$C88-$C$17,MATCH(K$16,Ages,1))),\"\")","v":""},{"$f":"IF($C88<>\"\",L88*EXP(-OFFSET('Forecasts Aggregate'!$C$58,$C88-$C$17,MATCH(L$16,Ages,1))),\"\")","v":""},{"$f":"IF($C88<>\"\",M88*EXP(-OFFSET('Forecasts Aggregate'!$C$58,$C88-$C$17,MATCH(M$16,Ages,1))),\"\")","v":""},{"$f":"IF($C88<>\"\",N88*EXP(-OFFSET('Forecasts Aggregate'!$C$58,$C88-$C$17,MATCH(N$16,Ages,1))),\"\")","v":""},{"$f":"IF($C88<>\"\",O88*EXP(-OFFSET('Forecasts Aggregate'!$C$58,$C88-$C$17,MATCH(O$16,Ages,1))),\"\")","v":""},{"$f":"IF($C88<>\"\",P88*EXP(-OFFSET('Forecasts Aggregate'!$C$58,$C88-$C$17,MATCH(P$16,Ages,1))),\"\")","v":""},{"$f":"IF($C88<>\"\",Q88*EXP(-OFFSET('Forecasts Aggregate'!$C$58,$C88-$C$17,MATCH(Q$16,Ages,1))),\"\")","v":""},{"$f":"IF($C88<>\"\",R88*EXP(-OFFSET('Forecasts Aggregate'!$C$58,$C88-$C$17,MATCH(R$16,Ages,1))),\"\")","v":""},{"$f":"IF($C88<>\"\",S88*EXP(-OFFSET('Forecasts Aggregate'!$C$58,$C88-$C$17,MATCH(S$16,Ages,1))),\"\")","v":""},{"$f":"IF($C88<>\"\",T88*EXP(-OFFSET('Forecasts Aggregate'!$C$58,$C88-$C$17,MATCH(T$16,Ages,1))),\"\")","v":""},{"$f":"IF($C88<>\"\",U88*EXP(-OFFSET('Forecasts Aggregate'!$C$58,$C88-$C$17,MATCH(U$16,Ages,1))),\"\")","v":""},{"$f":"IF($C88<>\"\",V88*EXP(-OFFSET('Forecasts Aggregate'!$C$58,$C88-$C$17,MATCH(V$16,Ages,1))),\"\")","v":""},{"$f":"IF($C88<>\"\",W88*EXP(-OFFSET('Forecasts Aggregate'!$C$58,$C88-$C$17,MATCH(W$16,Ages,1))),\"\")","v":""},{"$f":"IF($C88<>\"\",X88*EXP(-OFFSET('Forecasts Aggregate'!$C$58,$C88-$C$17,MATCH(X$16,Ages,1))),\"\")","v":""},{"$f":"IF($C88<>\"\",Y88*EXP(-OFFSET('Forecasts Aggregate'!$C$58,$C88-$C$17,MATCH(Y$16,Ages,1))),\"\")","v":""},{"$f":"IF($C88<>\"\",Z88*EXP(-OFFSET('Forecasts Aggregate'!$C$58,$C88-$C$17,MATCH(Z$16,Ages,1))),\"\")","v":""},{"$f":"IF($C88<>\"\",AA88*EXP(-OFFSET('Forecasts Aggregate'!$C$58,$C88-$C$17,MATCH(AA$16,Ages,1))),\"\")","v":""},{"$f":"IF($C88<>\"\",AB88*EXP(-OFFSET('Forecasts Aggregate'!$C$58,$C88-$C$17,MATCH(AB$16,Ages,1))),\"\")","v":""},{"$f":"IF($C88<>\"\",AC88*EXP(-OFFSET('Forecasts Aggregate'!$C$58,$C88-$C$17,MATCH(AC$16,Ages,1))),\"\")","v":""},{"$f":"IF($C88<>\"\",AD88*EXP(-OFFSET('Forecasts Aggregate'!$C$58,$C88-$C$17,MATCH(AD$16,Ages,1))),\"\")","v":""},{"$f":"IF($C88<>\"\",AE88*EXP(-OFFSET('Forecasts Aggregate'!$C$58,$C88-$C$17,MATCH(AE$16,Ages,1))),\"\")","v":""},{"$f":"IF($C88<>\"\",AF88*EXP(-OFFSET('Forecasts Aggregate'!$C$58,$C88-$C$17,MATCH(AF$16,Ages,1))),\"\")","v":""},{"$f":"IF($C88<>\"\",AG88*EXP(-OFFSET('Forecasts Aggregate'!$C$58,$C88-$C$17,MATCH(AG$16,Ages,1))),\"\")","v":""},{"$f":"IF($C88<>\"\",AH88*EXP(-OFFSET('Forecasts Aggregate'!$C$58,$C88-$C$17,MATCH(AH$16,Ages,1))),\"\")","v":""},{"$f":"IF($C88<>\"\",AI88*EXP(-OFFSET('Forecasts Aggregate'!$C$58,$C88-$C$17,MATCH(AI$16,Ages,1))),\"\")","v":""},{"$f":"IF($C88<>\"\",AJ88*EXP(-OFFSET('Forecasts Aggregate'!$C$58,$C88-$C$17,MATCH(AJ$16,Ages,1))),\"\")","v":""},{"$f":"IF($C88<>\"\",AK88*EXP(-OFFSET('Forecasts Aggregate'!$C$58,$C88-$C$17,MATCH(AK$16,Ages,1))),\"\")","v":""},{"$f":"IF($C88<>\"\",AL88*EXP(-OFFSET('Forecasts Aggregate'!$C$58,$C88-$C$17,MATCH(AL$16,Ages,1))),\"\")","v":""},{"$f":"IF($C88<>\"\",AM88*EXP(-OFFSET('Forecasts Aggregate'!$C$58,$C88-$C$17,MATCH(AM$16,Ages,1))),\"\")","v":""},{"$f":"IF($C88<>\"\",AN88*EXP(-OFFSET('Forecasts Aggregate'!$C$58,$C88-$C$17,MATCH(AN$16,Ages,1))),\"\")","v":""},{"$f":"IF($C88<>\"\",AO88*EXP(-OFFSET('Forecasts Aggregate'!$C$58,$C88-$C$17,MATCH(AO$16,Ages,1))),\"\")","v":""},{"$f":"IF($C88<>\"\",AP88*EXP(-OFFSET('Forecasts Aggregate'!$C$58,$C88-$C$17,MATCH(AP$16,Ages,1))),\"\")","v":""},{"$f":"IF($C88<>\"\",AQ88*EXP(-OFFSET('Forecasts Aggregate'!$C$58,$C88-$C$17,MATCH(AQ$16,Ages,1))),\"\")","v":""},{"$f":"IF($C88<>\"\",AR88*EXP(-OFFSET('Forecasts Aggregate'!$C$58,$C88-$C$17,MATCH(AR$16,Ages,1))),\"\")","v":""},{"$f":"IF($C88<>\"\",AS88*EXP(-OFFSET('Forecasts Aggregate'!$C$58,$C88-$C$17,MATCH(AS$16,Ages,1))),\"\")","v":""},{"$f":"IF($C88<>\"\",AT88*EXP(-OFFSET('Forecasts Aggregate'!$C$58,$C88-$C$17,MATCH(AT$16,Ages,1))),\"\")","v":""},{"$f":"IF($C88<>\"\",AU88*EXP(-OFFSET('Forecasts Aggregate'!$C$58,$C88-$C$17,MATCH(AU$16,Ages,1))),\"\")","v":""},{"$f":"IF($C88<>\"\",AV88*EXP(-OFFSET('Forecasts Aggregate'!$C$58,$C88-$C$17,MATCH(AV$16,Ages,1))),\"\")","v":""},{"$f":"IF($C88<>\"\",AW88*EXP(-OFFSET('Forecasts Aggregate'!$C$58,$C88-$C$17,MATCH(AW$16,Ages,1))),\"\")","v":""},{"$f":"IF($C88<>\"\",AX88*EXP(-OFFSET('Forecasts Aggregate'!$C$58,$C88-$C$17,MATCH(AX$16,Ages,1))),\"\")","v":""},{"$f":"IF($C88<>\"\",AY88*EXP(-OFFSET('Forecasts Aggregate'!$C$58,$C88-$C$17,MATCH(AY$16,Ages,1))),\"\")","v":""},{"$f":"IF($C88<>\"\",AZ88*EXP(-OFFSET('Forecasts Aggregate'!$C$58,$C88-$C$17,MATCH(AZ$16,Ages,1))),\"\")","v":""},{"$f":"IF($C88<>\"\",BA88*EXP(-OFFSET('Forecasts Aggregate'!$C$58,$C88-$C$17,MATCH(BA$16,Ages,1))),\"\")","v":""},{"$f":"IF($C88<>\"\",BB88*EXP(-OFFSET('Forecasts Aggregate'!$C$58,$C88-$C$17,MATCH(BB$16,Ages,1))),\"\")","v":""},{"$f":"IF($C88<>\"\",BC88*EXP(-OFFSET('Forecasts Aggregate'!$C$58,$C88-$C$17,MATCH(BC$16,Ages,1))),\"\")","v":""},{"$f":"IF($C88<>\"\",BD88*EXP(-OFFSET('Forecasts Aggregate'!$C$58,$C88-$C$17,MATCH(BD$16,Ages,1))),\"\")","v":""},{"$f":"IF($C88<>\"\",BE88*EXP(-OFFSET('Forecasts Aggregate'!$C$58,$C88-$C$17,MATCH(BE$16,Ages,1))),\"\")","v":""},{"$f":"IF($C88<>\"\",BF88*EXP(-OFFSET('Forecasts Aggregate'!$C$58,$C88-$C$17,MATCH(BF$16,Ages,1))),\"\")","v":""},{"$f":"IF($C88<>\"\",BG88*EXP(-OFFSET('Forecasts Aggregate'!$C$58,$C88-$C$17,MATCH(BG$16,Ages,1))),\"\")","v":""},{"$f":"IF($C88<>\"\",BH88*EXP(-OFFSET('Forecasts Aggregate'!$C$58,$C88-$C$17,MATCH(BH$16,Ages,1))),\"\")","v":""},{"$f":"IF($C88<>\"\",BI88*EXP(-OFFSET('Forecasts Aggregate'!$C$58,$C88-$C$17,MATCH(BI$16,Ages,1))),\"\")","v":""},{"$f":"IF($C88<>\"\",BJ88*EXP(-OFFSET('Forecasts Aggregate'!$C$58,$C88-$C$17,MATCH(BJ$16,Ages,1))),\"\")","v":""},{"$f":"IF($C88<>\"\",BK88*EXP(-OFFSET('Forecasts Aggregate'!$C$58,$C88-$C$17,MATCH(BK$16,Ages,1))),\"\")","v":""},{"$f":"IF($C88<>\"\",BL88*EXP(-OFFSET('Forecasts Aggregate'!$C$58,$C88-$C$17,MATCH(BL$16,Ages,1))),\"\")","v":""},{"$f":"IF($C88<>\"\",BM88*EXP(-OFFSET('Forecasts Aggregate'!$C$58,$C88-$C$17,MATCH(BM$16,Ages,1))),\"\")","v":""},{"$f":"IF($C88<>\"\",BN88*EXP(-OFFSET('Forecasts Aggregate'!$C$58,$C88-$C$17,MATCH(BN$16,Ages,1))),\"\")","v":""},{"$f":"IF($C88<>\"\",BO88*EXP(-OFFSET('Forecasts Aggregate'!$C$58,$C88-$C$17,MATCH(BO$16,Ages,1))),\"\")","v":""},{"$f":"IF($C88<>\"\",BP88*EXP(-OFFSET('Forecasts Aggregate'!$C$58,$C88-$C$17,MATCH(BP$16,Ages,1))),\"\")","v":""},{"$f":"IF($C88<>\"\",BQ88*EXP(-OFFSET('Forecasts Aggregate'!$C$58,$C88-$C$17,MATCH(BQ$16,Ages,1))),\"\")","v":""},{"$f":"IF($C88<>\"\",BR88*EXP(-OFFSET('Forecasts Aggregate'!$C$58,$C88-$C$17,MATCH(BR$16,Ages,1))),\"\")","v":""},{"$f":"IF($C88<>\"\",BS88*EXP(-OFFSET('Forecasts Aggregate'!$C$58,$C88-$C$17,MATCH(BS$16,Ages,1))),\"\")","v":""},{"$f":"IF($C88<>\"\",BT88*EXP(-OFFSET('Forecasts Aggregate'!$C$58,$C88-$C$17,MATCH(BT$16,Ages,1))),\"\")","v":""},{"$f":"IF($C88<>\"\",BU88*EXP(-OFFSET('Forecasts Aggregate'!$C$58,$C88-$C$17,MATCH(BU$16,Ages,1))),\"\")","v":""},{"$f":"IF($C88<>\"\",BV88*EXP(-OFFSET('Forecasts Aggregate'!$C$58,$C88-$C$17,MATCH(BV$16,Ages,1))),\"\")","v":""},{"$f":"IF($C88<>\"\",BW88*EXP(-OFFSET('Forecasts Aggregate'!$C$58,$C88-$C$17,MATCH(BW$16,Ages,1))),\"\")","v":""},{"$f":"IF($C88<>\"\",BX88*EXP(-OFFSET('Forecasts Aggregate'!$C$58,$C88-$C$17,MATCH(BX$16,Ages,1))),\"\")","v":""},{"$f":"IF($C88<>\"\",BY88*EXP(-OFFSET('Forecasts Aggregate'!$C$58,$C88-$C$17,MATCH(BY$16,Ages,1))),\"\")","v":""},{"$f":"IF($C88<>\"\",BZ88*EXP(-OFFSET('Forecasts Aggregate'!$C$58,$C88-$C$17,MATCH(BZ$16,Ages,1))),\"\")","v":""},{"$f":"IF($C88<>\"\",CA88*EXP(-OFFSET('Forecasts Aggregate'!$C$58,$C88-$C$17,MATCH(CA$16,Ages,1))),\"\")","v":""},{"$f":"IF($C88<>\"\",CB88*EXP(-OFFSET('Forecasts Aggregate'!$C$58,$C88-$C$17,MATCH(CB$16,Ages,1))),\"\")","v":""},{"$f":"IF($C88<>\"\",CC88*EXP(-OFFSET('Forecasts Aggregate'!$C$58,$C88-$C$17,MATCH(CC$16,Ages,1))),\"\")","v":""},{"$f":"IF($C88<>\"\",CD88*EXP(-OFFSET('Forecasts Aggregate'!$C$58,$C88-$C$17,MATCH(CD$16,Ages,1))),\"\")","v":""},{"$f":"IF($C88<>\"\",CE88*EXP(-OFFSET('Forecasts Aggregate'!$C$58,$C88-$C$17,MATCH(CE$16,Ages,1))),\"\")","v":""},{"$f":"IF($C88<>\"\",CF88*EXP(-OFFSET('Forecasts Aggregate'!$C$58,$C88-$C$17,MATCH(CF$16,Ages,1))),\"\")","v":""},{"$f":"IF($C88<>\"\",CG88*EXP(-OFFSET('Forecasts Aggregate'!$C$58,$C88-$C$17,MATCH(CG$16,Ages,1))),\"\")","v":""},{"$f":"IF($C88<>\"\",CH88*EXP(-OFFSET('Forecasts Aggregate'!$C$58,$C88-$C$17,MATCH(CH$16,Ages,1))),\"\")","v":""},{"$f":"IF($C88<>\"\",CI88*EXP(-OFFSET('Forecasts Aggregate'!$C$58,$C88-$C$17,MATCH(CI$16,Ages,1))),\"\")","v":""},{"$f":"IF($C88<>\"\",CJ88*EXP(-OFFSET('Forecasts Aggregate'!$C$58,$C88-$C$17,MATCH(CJ$16,Ages,1))),\"\")","v":""},{"$f":"IF($C88<>\"\",CK88*EXP(-OFFSET('Forecasts Aggregate'!$C$58,$C88-$C$17,MATCH(CK$16,Ages,1))),\"\")","v":""},{"$f":"IF($C88<>\"\",CL88*EXP(-OFFSET('Forecasts Aggregate'!$C$58,$C88-$C$17,MATCH(CL$16,Ages,1))),\"\")","v":""},{"$f":"IF($C88<>\"\",CM88*EXP(-OFFSET('Forecasts Aggregate'!$C$58,$C88-$C$17,MATCH(CM$16,Ages,1))),\"\")","v":""},{"$f":"IF($C88<>\"\",CN88*EXP(-OFFSET('Forecasts Aggregate'!$C$58,$C88-$C$17,MATCH(CN$16,Ages,1))),\"\")","v":""},{"$f":"IF($C88<>\"\",CO88*EXP(-OFFSET('Forecasts Aggregate'!$C$58,$C88-$C$17,MATCH(CO$16,Ages,1))),\"\")","v":""},{"$f":"IF($C88<>\"\",CP88*EXP(-OFFSET('Forecasts Aggregate'!$C$58,$C88-$C$17,MATCH(CP$16,Ages,1))),\"\")","v":""},{"$f":"IF($C88<>\"\",CQ88*EXP(-OFFSET('Forecasts Aggregate'!$C$58,$C88-$C$17,MATCH(CQ$16,Ages,1))),\"\")","v":""},{"$f":"IF($C88<>\"\",CR88*EXP(-OFFSET('Forecasts Aggregate'!$C$58,$C88-$C$17,MATCH(CR$16,Ages,1))),\"\")","v":""},{"$f":"IF($C88<>\"\",CS88*EXP(-OFFSET('Forecasts Aggregate'!$C$58,$C88-$C$17,MATCH(CS$16,Ages,1))),\"\")","v":""},{"$f":"IF($C88<>\"\",CT88*EXP(-OFFSET('Forecasts Aggregate'!$C$58,$C88-$C$17,MATCH(CT$16,Ages,1))),\"\")","v":""},{"$f":"IF($C88<>\"\",CU88*EXP(-OFFSET('Forecasts Aggregate'!$C$58,$C88-$C$17,MATCH(CU$16,Ages,1))),\"\")","v":""},{"$f":"IF($C88<>\"\",CV88*EXP(-OFFSET('Forecasts Aggregate'!$C$58,$C88-$C$17,MATCH(CV$16,Ages,1))),\"\")","v":""},{"$f":"IF($C88<>\"\",CW88*EXP(-OFFSET('Forecasts Aggregate'!$C$58,$C88-$C$17,MATCH(CW$16,Ages,1))),\"\")","v":""},{"$f":"IF($C88<>\"\",CX88*EXP(-OFFSET('Forecasts Aggregate'!$C$58,$C88-$C$17,MATCH(CX$16,Ages,1))),\"\")","v":""},{"$f":"IF($C88<>\"\",CY88*EXP(-OFFSET('Forecasts Aggregate'!$C$58,$C88-$C$17,MATCH(CY$16,Ages,1))),\"\")","v":""},{"$f":"IF($C88<>\"\",CZ88*EXP(-OFFSET('Forecasts Aggregate'!$C$58,$C88-$C$17,MATCH(CZ$16,Ages,1))),\"\")","v":""},{"$f":"IF($C88<>\"\",DA88*EXP(-OFFSET('Forecasts Aggregate'!$C$58,$C88-$C$17,MATCH(DA$16,Ages,1))),\"\")","v":""},{"$f":"IF($C88<>\"\",DB88*EXP(-OFFSET('Forecasts Aggregate'!$C$58,$C88-$C$17,MATCH(DB$16,Ages,1))),\"\")","v":""},{"$f":"IF($C88<>\"\",DC88*EXP(-OFFSET('Forecasts Aggregate'!$C$58,$C88-$C$17,MATCH(DC$16,Ages,1))),\"\")","v":""},{"$f":"IF($C88<>\"\",DD88*EXP(-OFFSET('Forecasts Aggregate'!$C$58,$C88-$C$17,MATCH(DD$16,Ages,1))),\"\")","v":""},{"$f":"IF($C88<>\"\",DE88*EXP(-OFFSET('Forecasts Aggregate'!$C$58,$C88-$C$17,MATCH(DE$16,Ages,1))),\"\")","v":""},{"$f":"IF($C88<>\"\",DF88*EXP(-OFFSET('Forecasts Aggregate'!$C$58,$C88-$C$17,MATCH(DF$16,Ages,1))),\"\")","v":""},{"$f":"IF($C88<>\"\",DG88*EXP(-OFFSET('Forecasts Aggregate'!$C$58,$C88-$C$17,MATCH(DG$16,Ages,1))),\"\")","v":""},{"$f":"IF($C88<>\"\",DH88*EXP(-OFFSET('Forecasts Aggregate'!$C$58,$C88-$C$17,MATCH(DH$16,Ages,1))),\"\")","v":""},{"$f":"IF($C88<>\"\",DI88*EXP(-OFFSET('Forecasts Aggregate'!$C$58,$C88-$C$17,MATCH(DI$16,Ages,1))),\"\")","v":""},{"$f":"IF($C88<>\"\",DJ88*EXP(-OFFSET('Forecasts Aggregate'!$C$58,$C88-$C$17,MATCH(DJ$16,Ages,1))),\"\")","v":""},null,"","",""]

{"sheet":"Forecasts Cardiovascular","index":8,"n_rows":105,"n_cols":24,"rows_kept":105,"cut":false,"hidden":false,"merged":[[52,2,53,2],[52,3,53,3],[0,2,3,9],[0,10,3,16],[5,1,5,23],[11,2,12,2],[11,3,12,3]]}
[null,null,"Society of Actuaries - Cause of deaths forecasting tool",null,null,null,null,null,null,null,"Forecast Cardiovascular"]
[]
[]
[]
[]
[null,"central scenario - diffusion LC"]
[null,"Cardiovascular"]
[null,"Parameters Male",null,{"$f":"TRANSPOSE(Ages_group)","v":0},"1 - 4","5 - 9","10 - 14","15 - 19","20 - 24","25 - 29","30 - 34","35 - 39","40 - 44","45 - 49","50 - 54","55 - 59","60 - 64","65 - 69","70 - 74","75 - 79","80 - 84","85 - 89","90 - 94","95+"]
[null,null,"b_x",{"$f":"INDEX(beta_M,MATCH($B$7,Causes,0),MATCH(D8,Ages_group,0))","v":5.03803044996095E-2},2.3371617612420799E-2,5.2981042148931998E-2,7.1208432866637097E-2,3.92764754379685E-2,1.07074876718431E-2,-5.89832182721731E-3,5.6856534681222503E-4,2.3020871706685798E-2,4.0846645195418099E-2,4.4657248102331501E-2,4.0242706296215902E-2,4.6868770734312101E-2,5.8302471033685903E-2,7.3111895735961302E-2,8.28577337313499E-2,8.2951694304336396E-2,8.3925982837416202E-2,7.8000981045996301E-2,5.91284000097623E-2,4.3488995509522302E-2]
[null,null,"delta type",{"$f":"INDEX(drifts_type,MATCH($B$7,Causes,0),MATCH(C16,genders,0))","v":"historical2"}]
[null,null,"delta",{"$f":"INDEX(drifts,MATCH($B$7,Causes,0),MATCH(C16,genders,0))","v":-0.14299016395908501},null,"k1",null,{"$f":"INDEX(k_1,MATCH($B$7,Causes,0),MATCH(C16,genders,0))","v":1}]
[null,null,"Adjustment factors",{"$f":"INDEX(adjustment_use,MATCH($B$7,Causes,0),MATCH(C16,genders,0))","v":"no"},null,"k2",null,{"$f":"INDEX(k_2,MATCH($B$7,Causes,0),MATCH(C16,genders,0))","v":0}]
[null,null,null,null,null,"delta basis",null,{"$f":"D11*H11","v":-0.14299016395908501}]
[]
[null,"Death rate",null,"age"]
[null,"sex","M",{"$f":"TRANSPOSE(Ages_group)","v":0},"1 - 4","5 - 9","10 - 14","15 - 19","20 - 24","25 - 29","30 - 34","35 - 39","40 - 44","45 - 49","50 - 54","55 - 59","60 - 64","65 - 69","70 - 74","75 - 79","80 - 84","85 - 89","90 - 94","95+"]
[null,"time",{"$f":"Year_0","v":2016},{"$f":"(OFFSET(q0_M,MATCH($B$7,Causes,0),MATCH(D$16,Ages_group,0))^$H$11)*EXP($H$12)","v":9.9934260531207348E-5},1.3398330632730549E-5,4.1212085485864396E-6,6.2252219904720757E-6,2.1991390907493292E-5,4.2604645762644151E-5,8.0962198306634231E-5,1.5011780585423578E-4,2.597499528199682E-4,4.6461984820486837E-4,7.7884238962148413E-4,1.3719430423189628E-3,2.1851734748457004E-3,3.2884332006996239E-3,4.5456196475870646E-3,6.795752720657018E-3,1.0838927100531864E-2,1.8825629485588642E-2,3.4118130936925409E-2,6.621701560891638E-2,0.12437534541669801]
[null,null,{"$f":"IF(C17<Year_max,C17+1,\"\")","v":2017},{"$f":"IF($C18<>\"\",D17*EXP(D$9*$H$13)*\nIF($D$12=\"yes\",OFFSET(INDIRECT(\"'adjustment \" & $B$7 & \"'!C8\"),$C18-$C$17,MATCH(D$16,Ages_group))/OFFSET(INDIRECT(\"'adjustment \" & $B$7 & \"'!C8\"),$C17-$C$17,MATCH(D$16,Ages_group)),1),\"\")","v":9.9216932189626644E-5},{"$f":"IF($C18<>\"\",E17*EXP(E$9*$H$13)*\nIF($D$12=\"yes\",OFFSET(INDIRECT(\"'adjustment \" & $B$7 & \"'!C8\"),$C18-$C$17,MATCH(E$16,Ages_group))/OFFSET(INDIRECT(\"'adjustment \" & $B$7 & \"'!C8\"),$C17-$C$17,MATCH(E$16,Ages_group)),1),\"\")","v":1.3353629333881565E-5},{"$f":"IF($C18<>\"\",F17*EXP(F$9*$H$13)*\nIF($D$12=\"yes\",OFFSET(INDIRECT(\"'adjustment \" & $B$7 & \"'!C8\"),$C18-$C$17,MATCH(F$16,Ages_group))/OFFSET(INDIRECT(\"'adjustment \" & $B$7 & \"'!C8\"),$C17-$C$17,MATCH(F$16,Ages_group)),1),\"\")","v":4.0901051937959871E-6},{"$f":"IF($C18<>\"\",G17*EXP(G$9*$H$13)*\nIF($D$12=\"yes\",OFFSET(INDIRECT(\"'adjustment \" & $B$7 & \"'!C8\"),$C18-$C$17,MATCH(G$16,Ages_group))/OFFSET(INDIRECT(\"'adjustment \" & $B$7 & \"'!C8\"),$C17-$C$17,MATCH(G$16,Ages_group)),1),\"\")","v":6.1621577317777771E-6},{"$f":"IF($C18<>\"\",H17*EXP(H$9*$H$13)*\nIF($D$12=\"yes\",OFFSET(INDIRECT(\"'adjustment \" & $B$7 & \"'!C8\"),$C18-$C$17,MATCH(H$16,Ages_group))/OFFSET(INDIRECT(\"'adjustment \" & $B$7 & \"'!C8\"),$C17-$C$17,MATCH(H$16,Ages_group)),1),\"\")","v":2.186823013325725E-5},{"$f":"IF($C18<>\"\",I17*EXP(I$9*$H$13)*\nIF($D$12=\"yes\",OFFSET(INDIRECT(\"'adjustment \" & $B$7 & \"'!C8\"),$C18-$C$17,MATCH(I$16,Ages_group))/OFFSET(INDIRECT(\"'adjustment \" & $B$7 & \"'!C8\"),$C17-$C$17,MATCH(I$16,Ages_group)),1),\"\")","v":4.2539465173485716E-5},{"$f":"IF($C18<>\"\",J17*EXP(J$9*$H$13)*\nIF($D$12=\"yes\",OFFSET(INDIRECT(\"'adjustment \" & $B$7 & \"'!C8\"),$C18-$C$17,MATCH(J$16,Ages_group))/OFFSET(INDIRECT(\"'adjustment \" & $B$7 & \"'!C8\"),$C17-$C$17,MATCH(J$16,Ages_group)),1),\"\")","v":8.1030510790421517E-5},{"$f":"IF($C18<>\"\",K17*EXP(K$9*$H$13)*\nIF($D$12=\"yes\",OFFSET(INDIRECT(\"'adjustment \" & $B$7 & \"'!C8\"),$C18-$C$17,MATCH(K$16,Ages_group))/OFFSET(INDIRECT(\"'adjustment \" & $B$7 & \"'!C8\"),$C17-$C$17,MATCH(K$16,Ages_group)),1),\"\")","v":1.5010560188497712E-4},{"$f":"IF($C18<>\"\",L17*EXP(L$9*$H$13)*\nIF($D$12=\"yes\",OFFSET(INDIRECT(\"'adjustment \" & $B$7 & \"'!C8\"),$C18-$C$17,MATCH(L$16,Ages_group))/OFFSET(INDIRECT(\"'adjustment \" & $B$7 & \"'!C8\"),$C17-$C$17,MATCH(L$16,Ages_group)),1),\"\")","v":2.5889632451746883E-4},{"$f":"IF($C18<>\"\",M17*EXP(M$9*$H$13)*\nIF($D$12=\"yes\",OFFSET(INDIRECT(\"'adjustment \" & $B$7 & \"'!C8\"),$C18-$C$17,MATCH(M$16,Ages_group))/OFFSET(INDIRECT(\"'adjustment \" & $B$7 & \"'!C8\"),$C17-$C$17,MATCH(M$16,Ages_group)),1),\"\")","v":4.6191406717288272E-4},{"$f":"IF($C18<>\"\",N17*EXP(N$9*$H$13)*\nIF($D$12=\"yes\",OFFSET(INDIRECT(\"'adjustment \" & $B$7 & \"'!C8\"),$C18-$C$17,MATCH(N$16,Ages_group))/OFFSET(INDIRECT(\"'adjustment \" & $B$7 & \"'!C8\"),$C17-$C$17,MATCH(N$16,Ages_group)),1),\"\")","v":7.738848997473752E-4},{"$f":"IF($C18<>\"\",O17*EXP(O$9*$H$13)*\nIF($D$12=\"yes\",OFFSET(INDIRECT(\"'adjustment \" & $B$7 & \"'!C8\"),$C18-$C$17,MATCH(O$16,Ages_group))/OFFSET(INDIRECT(\"'adjustment \" & $B$7 & \"'!C8\"),$C17-$C$17,MATCH(O$16,Ages_group)),1),\"\")","v":1.3640711255944176E-3},{"$f":"IF($C18<>\"\",P17*EXP(P$9*$H$13)*\nIF($D$12=\"yes\",OFFSET(INDIRECT(\"'adjustment \" & $B$7 & \"'!C8\"),$C18-$C$17,MATCH(P$16,Ages_group))/OFFSET(INDIRECT(\"'adjustment \" & $B$7 & \"'!C8\"),$C17-$C$17,MATCH(P$16,Ages_group)),1),\"\")","v":2.1705779005316613E-3},{"$f":"IF($C18<>\"\",Q17*EXP(Q$9*$H$13)*\nIF($D$12=\"yes\",OFFSET(INDIRECT(\"'adjustment \" & $B$7 & \"'!C8\"),$C18-$C$17,MATCH(Q$16,Ages_group))/OFFSET(INDIRECT(\"'adjustment \" & $B$7 & \"'!C8\"),$C17-$C$17,MATCH(Q$16,Ages_group)),1),\"\")","v":3.2611325422997142E-3},{"$f":"IF($C18<>\"\",R17*EXP(R$9*$H$13)*\nIF($D$12=\"yes\",OFFSET(INDIRECT(\"'adjustment \" & $B$7 & \"'!C8\"),$C18-$C$17,MATCH(R$16,Ages_group))/OFFSET(INDIRECT(\"'adjustment \" & $B$7 & \"'!C8\"),$C17-$C$17,MATCH(R$16,Ages_group)),1),\"\")","v":4.498345994714539E-3},{"$f":"IF($C18<>\"\",S17*EXP(S$9*$H$13)*\nIF($D$12=\"yes\",OFFSET(INDIRECT(\"'adjustment \" & $B$7 & \"'!C8\"),$C18-$C$17,MATCH(S$16,Ages_group))/OFFSET(INDIRECT(\"'adjustment \" & $B$7 & \"'!C8\"),$C17-$C$17,MATCH(S$16,Ages_group)),1),\"\")","v":6.715712809752558E-3},{"$f":"IF($C18<>\"\",T17*EXP(T$9*$H$13)*\nIF($D$12=\"yes\",OFFSET(INDIRECT(\"'adjustment \" & $B$7 & \"'!C8\"),$C18-$C$17,MATCH(T$16,Ages_group))/OFFSET(INDIRECT(\"'adjustment \" & $B$7 & \"'!C8\"),$C17-$C$17,MATCH(T$16,Ages_group)),1),\"\")","v":1.071112304862774E-2},{"$f":"IF($C18<>\"\",U17*EXP(U$9*$H$13)*\nIF($D$12=\"yes\",OFFSET(INDIRECT(\"'adjustment \" & $B$7 & \"'!C8\"),$C18-$C$17,MATCH(U$16,Ages_group))/OFFSET(INDIRECT(\"'adjustment \" & $B$7 & \"'!C8\"),$C17-$C$17,MATCH(U$16,Ages_group)),1),\"\")","v":1.8601060996038258E-2},{"$f":"IF($C18<>\"\",V17*EXP(V$9*$H$13)*\nIF($D$12=\"yes\",OFFSET(INDIRECT(\"'adjustment \" & $B$7 & \"'!C8\"),$C18-$C$17,MATCH(V$16,Ages_group))/OFFSET(INDIRECT(\"'adjustment \" & $B$7 & \"'!C8\"),$C17-$C$17,MATCH(V$16,Ages_group)),1),\"\")","v":3.3739712935603801E-2},{"$f":"IF($C18<>\"\",W17*EXP(W$9*$H$13)*\nIF($D$12=\"yes\",OFFSET(INDIRECT(\"'adjustment \" & $B$7 & \"'!C8\"),$C18-$C$17,MATCH(W$16,Ages_group))/OFFSET(INDIRECT(\"'adjustment \" & $B$7 & \"'!C8\"),$C17-$C$17,MATCH(W$16,Ages_group)),1),\"\")","v":6.5659525384799453E-2},{"$f":"IF($C18<>\"\",X17*EXP(X$9*$H$13)*\nIF($D$12=\"yes\",OFFSET(INDIRECT(\"'adjustment \" & $B$7 & \"'!C8\"),$C18-$C$17,MATCH(X$16,Ages_group))/OFFSET(INDIRECT(\"'adjustment \" & $B$7 & \"'!C8\"),$C17-$C$17,MATCH(X$16,Ages_group)),1),\"\")","v":0.12360431730878137}]
[null,null,{"$f":"IF(C18<Year_max,C18+1,\"\")","v":2018},9.8504752832457294E-5,1.3309077173471805E-5,4.0592365805061921E-6,6.0997323419833745E-6,2.1745759109677464E-5,4.2474384303715322E-5,8.109888091339769E-5,1.500933989078517E-4,2.5804550153320308E-4,4.592240436489358E-4,7.6895896530242548E-4,1.356244376250009E-3,2.1560798154064711E-3,3.2340585346795469E-3,4.4515639796008167E-3,6.6366156034462385E-3,1.0584825960976776E-2,1.8379171354838606E-2,3.3365492121519354E-2,6.5106728748080392E-2,0.12283806896120393]
[null,null,2019,9.7797685500277878E-5,1.3264673653925706E-5,4.0286009370891233E-6,6.037939349063672E-6,2.1623973973868445E-5,4.2409403000772876E-5,8.1167308724196276E-5,1.5008119692277885E-4,2.5719747464792369E-4,4.5654968586689555E-4,7.6406438542992426E-4,1.3484625351249378E-3,2.1416785683041162E-3,3.2072092961784229E-3,4.4052684892988084E-3,6.5584499986277587E-3,1.0460018068648907E-2,1.8159928606355569E-2,3.2995421941969388E-2,6.4558586182796918E-2,0.12207657074325748]
[null,null,2020,9.7095693498961793E-5,1.3220418279327778E-5,3.99819650528758E-6,5.9767723465579579E-6,2.1502870884578437E-5,4.2344521112331699E-5,8.1235794271491803E-5,1.5006899592967795E-4,2.5635223467268103E-4,4.5389090259504328E-4,7.5920096055165462E-4,1.3407253445454146E-3,2.1273735124079591E-3,3.1805829607572402E-3,4.3594544640351831E-3,6.4812050229584896E-3,1.0336681812231232E-2,1.7943301176149638E-2,3.2629456360586097E-2,6.4015058505677125E-2,0.12131979320792056]
[null,null,2021,9.6398740397772952E-5,1.3176310555417075E-5,3.9680215401141815E-6,5.9162249929058071E-6,2.1382446022068264E-5,4.2279738486298141E-5,8.1304337603999911E-5,1.5005679592846834E-4,2.5550977244872354E-4,4.5124760313296138E-4,7.5436849235975545E-4,1.3330325483161269E-3,2.1131640052216884E-3,3.1541776778688017E-3,4.3141168966573723E-3,6.404869833331257E-3,1.0214799839357552E-2,1.7729257866428698E-2,3.2267549851609657E-2,6.3476106863338502E-2,0.12056770709071986]
[null,null,2022,9.5706790027475183E-5,1.3132349989581666E-5,3.9380743097512186E-6,5.8562910107896138E-6,2.1262695587990857E-5,4.221505497081125E-5,8.1372938770477309E-5,1.5004459691906941E-4,2.5467007884739847E-4,4.4861969730843927E-4,7.495667838086353E-4,1.3253838917117566E-3,2.0990494085404601E-3,3.1279916123292018E-3,4.2692508320863222E-3,6.3294337143482617E-3,1.009435500226704E-2,1.7517767851555038E-2,3.190965739422489E-2,6.2941692729510529E-2,0.11982028330859845]
[null,null,2023,9.501980647845515E-5,1.3088536090853142E-5,3.9083530954512597E-6,5.7969641864837829E-6,2.1143615805271434E-5,4.2150470414242405E-5,8.1441597819721862E-5,1.5003239890140049E-4,2.5383314477005306E-4,4.4600709547439738E-4,7.4479563910693819E-4,1.3177791214685449E-3,2.0850290884222348E-3,3.1020229441902796E-3,4.2248513667749376E-3,6.2548860768169273E-3,9.9753303553916962E-3,1.7308800673605983E-2,3.1555734466960687E-2,6.2411777902280703E-2,0.11907749295879122]
[null,null,2024,9.4337754098858825E-5,1.3044868369901125E-5,3.8788561914385084E-6,5.7382383692105141E-6,2.1025202917988378E-5,4.2085984665194956E-5,8.1510314800572597E-5,1.5002020187538097E-4,2.5299896114793581E-4,4.4340970850582879E-4,7.4005486370955957E-4,1.3102179857759065E-3,2.0711024151593036E-3,3.0762698686131315E-3,4.1809136481721614E-3,6.1812164562634626E-3,9.8577091529722504E-3,1.7102326237987461E-2,3.1205737042151613E-2,6.1886324501363721E-2,0.11833930731770718]
[null,null,2025,9.3660597492741245E-5,1.3001346339027808E-5,3.8495819048109027E-6,5.6801074705021138E-6,2.0907453191254768E-5,4.2021597572503873E-5,8.1579089761909764E-5,1.5000800584093026E-4,2.521675189420983E-4,4.4082744779675912E-4,7.3534426430971406E-4,1.3027002342680916E-3,2.0572687632500072E-3,3.0507305957426733E-3,4.1374328741926201E-3,6.108414511463935E-3,9.7414748467021754E-3,1.6898314809099899E-2,3.0859621580460881E-2,6.1365294965393627E-2,0.11760569783981875]
[null,null,2026,9.2988301518229626E-5,1.2957969512162506E-5,3.820528555442958E-6,5.6225654635697634E-6,2.0790362911100577E-5,4.1957308985235393E-5,8.1647922752654844E-5,1.4999581079796771E-4,2.5133880914329722E-4,4.3826022525722357E-4,7.3066364883105322E-4,1.2952256180158959E-3,2.0435275113706401E-3,3.025403350583245E-3,4.0944042926917938E-3,6.0364700229926394E-3,9.626611083399482E-3,1.669673700605584E-2,3.0517345025464122E-2,6.0848652049238824E-2,0.11687663615655787]
[null,null,"","","","","","","","","","","","","","","","","","","","","",""]
[null,null,"","","","","","","","","","","","","","","","","","","","","",""]
[null,null,"","","","","","","","","","","","","","","","","","","","","",""]
[null,null,"","","","","","","","","","","","","","","","","","","","","",""]
[null,null,"","","","","","","","","","","","","","","","","","","","","",""]
[null,null,"","","","","","","","","","","","","","","","","","","","","",""]
[null,null,"","","","","","","","","","","","","","","","","","","","","",""]
[null,null,"","","","","","","","","","","","","","","","","","","","","",""]
[null,null,"","","","","","","","","","","","","","","","","","","","","",""]
[null,null,"","","","","","","","","","","","","","","","","","","","","",""]
[null,null,"","","","","","","","","","","","","","","","","","","","","",""]
[null,null,"","","","","","","","","","","","","","","","","","","","","",""]
[null,null,"","","","","","","","","","","","","","","","","","","","","",""]
[null,null,"","","","","","","","","","","","","","","","","","","","","",""]
[null,null,"","","","","","","","","","","","","","","","","","","","","",""]
[null,null,"","","","","","","","","","","","","","","","","","","","","",""]
[null,null,"","","","","","","","","","","","","","","","","","","","","",""]
[null,null,"","","","","","","","","","","","","","","","","","","","","",""]
[null,null,"","","","","","","","","","","","","","","","","","","","","",""]
[null,null,"","","","","","","","","","","","","","","","","","","","","",""]
[]
[null,"Parameters Female",null,{"$f":"TRANSPOSE(Ages_group)","v":0},"1 - 4","5 - 9","10 - 14","15 - 19","20 - 24","25 - 29","30 - 34","35 - 39","40 - 44","45 - 49","50 - 54","55 - 59","60 - 64","65 - 69","70 - 74","75 - 79","80 - 84","85 - 89","90 - 94","95+"]
[null,null,"b_x",{"$f":"INDEX(beta_F,MATCH($B$7,Causes,0),MATCH(D49,Ages_group,0))","v":6.8875528226812296E-2},2.1350224417471701E-2,3.4190050175346001E-2,5.8843109154813798E-2,4.8527848429829198E-2,3.8040108313953498E-2,1.6400955175505799E-2,8.1557203721023507E-3,1.7983150476289001E-2,2.44145072545301E-2,1.99355904846544E-2,2.5262493825054501E-2,4.4909298693491501E-2,6.5468326359457096E-2,7.6623171009501695E-2,7.8575797500061301E-2,7.7293974713835506E-2,7.8357892397357104E-2,7.5302079985473405E-2,6.5261571268893107E-2,5.6228601765566801E-2]
[null,null,"delta type",{"$f":"INDEX(drifts_type,MATCH($B$7,Causes,0),MATCH(C57,genders,0))","v":"historical2"}]
[null,null,"delta",{"$f":"INDEX(drifts,MATCH($B$7,Causes,0),MATCH(C57,genders,0))","v":-0.21355482716959101},null,"k1",null,{"$f":"INDEX(k_1,MATCH($B$7,Causes,0),MATCH(C57,genders,0))","v":1}]
[null,null,"Adjustment factors",{"$f":"INDEX(adjustment_use,MATCH($B$7,Causes,0),MATCH(C57,genders,0))","v":"no"},null,"k2",null,{"$f":"INDEX(k_2,MATCH($B$7,Causes,0),MATCH(C57,genders,0))","v":0}]
[null,null,null,null,null,"delta basis",null,{"$f":"D52*H52","v":-0.21355482716959101}]
[]
[null,"Death rate",null,"age"]
[null,"sex","F",{"$f":"TRANSPOSE(Ages_group)","v":0},"1 - 4","5 - 9","10 - 14","15 - 19","20 - 24","25 - 29","30 - 34","35 - 39","40 - 44","45 - 49","50 - 54","55 - 59","60 - 64","65 - 69","70 - 74","75 - 79","80 - 84","85 - 89","90 - 94","95+"]
[null,"time",{"$f":"Year_0","v":2016},{"$f":"(OFFSET(q0_F,MATCH($B$7,Causes,0),MATCH(D$16,Ages_group,0))^$H$52)*EXP($H$53)","v":8.0739250857215237E-5},1.0861706180838547E-5,4.1985093659792723E-6,5.0070624712054375E-6,1.2908190615041579E-5,2.2210494940643305E-5,4.2708250294081297E-5,7.3625882796716697E-5,1.2112046002775666E-4,1.9923222779489043E-4,3.2043884498012763E-4,5.5395228050079211E-4,8.774357633654985E-4,1.3442345936800757E-3,2.0852896175406746E-3,3.5647435882092114E-3,6.3867763779133146E-3,1.2498555461273611E-2,2.4639946645408393E-2,4.9883605670256424E-2,9.9764171070840207E-2]
[null,null,{"$f":"IF(C58<Year_max,C58+1,\"\")","v":2017},{"$f":"IF($C59<>\"\",D58*EXP(D$50*$H$54)*\nIF($D$53=\"yes\",OFFSET(INDIRECT(\"'adjustment \" & $B$7 & \"'!C42\"),$C59-$C$58,MATCH(D$16,Ages_group))/OFFSET(INDIRECT(\"'adjustment \" & $B$7 & \"'!C42\"),$C58-$C$58,MATCH(D$16,Ages_group)),1),\"\")","v":7.956037245386921E-5},{"$f":"IF($C59<>\"\",E58*EXP(E$50*$H$54)*\nIF($D$53=\"yes\",OFFSET(INDIRECT(\"'adjustment \" & $B$7 & \"'!C42\"),$C59-$C$58,MATCH(E$16,Ages_group))/OFFSET(INDIRECT(\"'adjustment \" & $B$7 & \"'!C42\"),$C58-$C$58,MATCH(E$16,Ages_group)),1),\"\")","v":1.081229557338476E-5},{"$f":"IF($C59<>\"\",F58*EXP(F$50*$H$54)*\nIF($D$53=\"yes\",OFFSET(INDIRECT(\"'adjustment \" & $B$7 & \"'!C42\"),$C59-$C$58,MATCH(F$16,Ages_group))/OFFSET(INDIRECT(\"'adjustment \" & $B$7 & \"'!C42\"),$C58-$C$58,MATCH(F$16,Ages_group)),1),\"\")","v":4.1679658005482202E-6},{"$f":"IF($C59<>\"\",G58*EXP(G$50*$H$54)*\nIF($D$53=\"yes\",OFFSET(INDIRECT(\"'adjustment \" & $B$7 & \"'!C42\"),$C59-$C$58,MATCH(G$16,Ages_group))/OFFSET(INDIRECT(\"'adjustment \" & $B$7 & \"'!C42\"),$C58-$C$58,MATCH(G$16,Ages_group)),1),\"\")","v":4.9445362547396701E-6},{"$f":"IF($C59<>\"\",H58*EXP(H$50*$H$54)*\nIF($D$53=\"yes\",OFFSET(INDIRECT(\"'adjustment \" & $B$7 & \"'!C42\"),$C59-$C$58,MATCH(H$16,Ages_group))/OFFSET(INDIRECT(\"'adjustment \" & $B$7 & \"'!C42\"),$C58-$C$58,MATCH(H$16,Ages_group)),1),\"\")","v":1.2775109212771973E-5},{"$f":"IF($C59<>\"\",I58*EXP(I$50*$H$54)*\nIF($D$53=\"yes\",OFFSET(INDIRECT(\"'adjustment \" & $B$7 & \"'!C42\"),$C59-$C$58,MATCH(I$16,Ages_group))/OFFSET(INDIRECT(\"'adjustment \" & $B$7 & \"'!C42\"),$C58-$C$58,MATCH(I$16,Ages_group)),1),\"\")","v":2.2030795576545981E-5},{"$f":"IF($C59<>\"\",J58*EXP(J$50*$H$54)*\nIF($D$53=\"yes\",OFFSET(INDIRECT(\"'adjustment \" & $B$7 & \"'!C42\"),$C59-$C$58,MATCH(J$16,Ages_group))/OFFSET(INDIRECT(\"'adjustment \" & $B$7 & \"'!C42\"),$C58-$C$58,MATCH(J$16,Ages_group)),1),\"\")","v":4.2558926169744963E-5},{"$f":"IF($C59<>\"\",K58*EXP(K$50*$H$54)*\nIF($D$53=\"yes\",OFFSET(INDIRECT(\"'adjustment \" & $B$7 & \"'!C42\"),$C59-$C$58,MATCH(K$16,Ages_group))/OFFSET(INDIRECT(\"'adjustment \" & $B$7 & \"'!C42\"),$C58-$C$58,MATCH(K$16,Ages_group)),1),\"\")","v":7.3497760685676535E-5},{"$f":"IF($C59<>\"\",L58*EXP(L$50*$H$54)*\nIF($D$53=\"yes\",OFFSET(INDIRECT(\"'adjustment \" & $B$7 & \"'!C42\"),$C59-$C$58,MATCH(L$16,Ages_group))/OFFSET(INDIRECT(\"'adjustment \" & $B$7 & \"'!C42\"),$C58-$C$58,MATCH(L$16,Ages_group)),1),\"\")","v":1.2065620243020265E-4},{"$f":"IF($C59<>\"\",M58*EXP(M$50*$H$54)*\nIF($D$53=\"yes\",OFFSET(INDIRECT(\"'adjustment \" & $B$7 & \"'!C42\"),$C59-$C$58,MATCH(M$16,Ages_group))/OFFSET(INDIRECT(\"'adjustment \" & $B$7 & \"'!C42\"),$C58-$C$58,MATCH(M$16,Ages_group)),1),\"\")","v":1.9819616693040709E-4},{"$f":"IF($C59<>\"\",N58*EXP(N$50*$H$54)*\nIF($D$53=\"yes\",OFFSET(INDIRECT(\"'adjustment \" & $B$7 & \"'!C42\"),$C59-$C$58,MATCH(N$16,Ages_group))/OFFSET(INDIRECT(\"'adjustment \" & $B$7 & \"'!C42\"),$C58-$C$58,MATCH(N$16,Ages_group)),1),\"\")","v":3.1907752721490923E-4},{"$f":"IF($C59<>\"\",O58*EXP(O$50*$H$54)*\nIF($D$53=\"yes\",OFFSET(INDIRECT(\"'adjustment \" & $B$7 & \"'!C42\"),$C59-$C$58,MATCH(O$16,Ages_group))/OFFSET(INDIRECT(\"'adjustment \" & $B$7 & \"'!C42\"),$C58-$C$58,MATCH(O$16,Ages_group)),1),\"\")","v":5.5097179508788326E-4},{"$f":"IF($C59<>\"\",P58*EXP(P$50*$H$54)*\nIF($D$53=\"yes\",OFFSET(INDIRECT(\"'adjustment \" & $B$7 & \"'!C42\"),$C59-$C$58,MATCH(P$16,Ages_group))/OFFSET(INDIRECT(\"'adjustment \" & $B$7 & \"'!C42\"),$C58-$C$58,MATCH(P$16,Ages_group)),1),\"\")","v":8.6906085449211807E-4},{"$f":"IF($C59<>\"\",Q58*EXP(Q$50*$H$54)*\nIF($D$53=\"yes\",OFFSET(INDIRECT(\"'adjustment \" & $B$7 & \"'!C42\"),$C59-$C$58,MATCH(Q$16,Ages_group))/OFFSET(INDIRECT(\"'adjustment \" & $B$7 & \"'!C42\"),$C58-$C$58,MATCH(Q$16,Ages_group)),1),\"\")","v":1.3255715151334663E-3},{"$f":"IF($C59<>\"\",R58*EXP(R$50*$H$54)*\nIF($D$53=\"yes\",OFFSET(INDIRECT(\"'adjustment \" & $B$7 & \"'!C42\"),$C59-$C$58,MATCH(R$16,Ages_group))/OFFSET(INDIRECT(\"'adjustment \" & $B$7 & \"'!C42\"),$C58-$C$58,MATCH(R$16,Ages_group)),1),\"\")","v":2.0514451640504545E-3},{"$f":"IF($C59<>\"\",S58*EXP(S$50*$H$54)*\nIF($D$53=\"yes\",OFFSET(INDIRECT(\"'adjustment \" & $B$7 & \"'!C42\"),$C59-$C$58,MATCH(S$16,Ages_group))/OFFSET(INDIRECT(\"'adjustment \" & $B$7 & \"'!C42\"),$C58-$C$58,MATCH(S$16,Ages_group)),1),\"\")","v":3.5054254107429149E-3},{"$f":"IF($C59<>\"\",T58*EXP(T$50*$H$54)*\nIF($D$53=\"yes\",OFFSET(INDIRECT(\"'adjustment \" & $B$7 & \"'!C42\"),$C59-$C$58,MATCH(T$16,Ages_group))/OFFSET(INDIRECT(\"'adjustment \" & $B$7 & \"'!C42\"),$C58-$C$58,MATCH(T$16,Ages_group)),1),\"\")","v":6.2822183621541565E-3},{"$f":"IF($C59<>\"\",U58*EXP(U$50*$H$54)*\nIF($D$53=\"yes\",OFFSET(INDIRECT(\"'adjustment \" & $B$7 & \"'!C42\"),$C59-$C$58,MATCH(U$16,Ages_group))/OFFSET(INDIRECT(\"'adjustment \" & $B$7 & \"'!C42\"),$C58-$C$58,MATCH(U$16,Ages_group)),1),\"\")","v":1.2291148490079071E-2},{"$f":"IF($C59<>\"\",V58*EXP(V$50*$H$54)*\nIF($D$53=\"yes\",OFFSET(INDIRECT(\"'adjustment \" & $B$7 & \"'!C42\"),$C59-$C$58,MATCH(V$16,Ages_group))/OFFSET(INDIRECT(\"'adjustment \" & $B$7 & \"'!C42\"),$C58-$C$58,MATCH(V$16,Ages_group)),1),\"\")","v":2.4246877607050084E-2},{"$f":"IF($C59<>\"\",W58*EXP(W$50*$H$54)*\nIF($D$53=\"yes\",OFFSET(INDIRECT(\"'adjustment \" & $B$7 & \"'!C42\"),$C59-$C$58,MATCH(W$16,Ages_group))/OFFSET(INDIRECT(\"'adjustment \" & $B$7 & \"'!C42\"),$C58-$C$58,MATCH(W$16,Ages_group)),1),\"\")","v":4.919320388408456E-2},{"$f":"IF($C59<>\"\",X58*EXP(X$50*$H$54)*\nIF($D$53=\"yes\",OFFSET(INDIRECT(\"'adjustment \" & $B$7 & \"'!C42\"),$C59-$C$58,MATCH(X$16,Ages_group))/OFFSET(INDIRECT(\"'adjustment \" & $B$7 & \"'!C42\"),$C58-$C$58,MATCH(X$16,Ages_group)),1),\"\")","v":9.8573377711041632E-2}]
[null,null,2018,7.8398706921278368E-5,1.076310973799609E-5,4.1376444352620105E-6,4.8827908409437327E-6,1.2643399858697054E-5,2.1852550113478025E-5,4.2410124138773624E-5,7.3369861529862365E-5,1.201937243430372E-4,1.9716549385948904E-4,3.1772199272499263E-4,5.4800734588171865E-4,8.6076588206715455E-4,1.3071675509575733E-3,2.0181500093350503E-3,3.4470943017966549E-3,6.1793720673027942E-3,1.2087183328766751E-2,2.3860079007144399E-2,4.8512357434178886E-2,9.7396797758827369E-2]
[null,null,2019,7.7254002933335801E-5,1.0714147652169801E-5,4.1075436536458244E-6,4.8218164794625955E-6,1.2513048407217088E-5,2.1675746788302636E-5,4.226184237573228E-5,7.3242184941292493E-5,1.1973301894535477E-4,1.9614018056416893E-4,3.1637221694133587E-4,5.4505884660107523E-4,8.5255008311683925E-4,1.2890191036613967E-3,1.9853952382218741E-3,3.3897338363165128E-3,6.0782094707495325E-3,1.1886602862307215E-2,2.3479450816448248E-2,4.7840934072255883E-2,9.6234261561794252E-2]
[null,null,2020,7.6126012833561399E-5,1.0665408298054589E-5,4.0776618509844719E-6,4.7616035416998079E-6,1.2384040858571237E-5,2.1500373933055504E-5,4.2114079061568345E-5,7.3114730532660384E-5,1.1927407944239449E-4,1.9512019917218026E-4,3.1502817539927352E-4,5.4212621142895755E-4,8.4441270194980081E-4,1.2711226257007661E-3,1.9531720802324569E-3,3.333327862565356E-3,5.9787030086432555E-3,1.1689350923464974E-2,2.3104894601436218E-2,4.7178803380381898E-2,9.5085601492524166E-2]
[null,null,2021,7.5014492581521454E-5,1.0616890662429422E-5,4.0479974342368387E-6,4.7021425192970231E-6,1.2256363357333977E-5,2.13264199741748E-5,4.1966832383589333E-5,7.2987497917333501E-5,1.1881689906543998E-4,1.9410552195619986E-4,3.1368984373807319E-4,5.3920935501010001E-4,8.3635299008755627E-4,1.2534746187848899E-3,1.9214719072340486E-3,3.277860497574784E-3,5.8808255683810854E-3,1.1495372277070351E-2,2.2736313498844869E-2,4.6525836745640647E-2,9.3950651924413681E-2]
[null,null,2022,7.391920170003052E-5,1.0568593736682479E-5,4.0185488219509627E-6,4.6434240226325155E-6,1.2130002190927033E-5,2.1153873431737386E-5,4.1820100535440605E-5,7.2860486709352105E-5,1.1836147107171954E-4,1.9309612133309399E-4,3.1235719770049403E-4,5.3630819244848238E-4,8.2837020619566605E-4,1.2360716331925319E-3,1.8902862311293341E-3,3.2233161226727504E-3,5.7845504812209887E-3,1.1304612604552332E-2,2.2373612190623109E-2,4.5881907335151309E-2,9.2829249207792119E-2]
[null,null,2023,7.2839903223124262E-5,1.0520516516790176E-5,3.9893144441797204E-6,4.5854387793384434E-6,1.2004943788146641E-5,2.098272291870121E-5,4.1673881717083222E-5,7.2733696523428083E-5,1.1790778874430664E-4,1.9209196986316859E-4,3.110302131323469E-4,5.3342263930485935E-4,8.2046361601554566E-4,1.21891026709768E-3,1.8596067015836438E-3,3.1696793790856109E-3,5.6898515150153239E-3,1.1117018488728094E-2,2.2016696879282174E-2,4.5246890071432379E-2,9.1721231646324758E-2]
[null,null,2024,7.1776363644791862E-5,1.0472658003296297E-5,3.9602927423971349E-6,4.5281776328366274E-6,1.1881174717705996E-5,2.081295714015383E-5,4.1528174134771855E-5,7.2607126974943815E-5,1.1745584539202088E-4,1.910930402494234E-4,3.0970886598205685E-4,5.3055261159430244E-4,8.1263249229692868E-4,1.2019871659045807E-3,1.8294251037890526E-3,3.116935163613352E-3,5.5967028670633476E-3,1.0932537398844941E-2,2.1665475263638843E-2,4.4620661608106502E-2,9.0626439473697626E-2]
[null,null,2025,7.0728352868457115E-5,1.0425017201291221E-5,3.9314821694152846E-6,4.4716315408926162E-6,1.1758681686792739E-5,2.0644564892567016E-5,4.1382976001032792E-5,7.2480777679950978E-5,1.1700563434932934E-4,1.9009930533680979E-4,3.0839313230022699E-4,5.2769802578375583E-4,8.0487611473097369E-4,1.185299021592002E-3,1.7997333562647681E-3,3.0650686243767844E-3,5.5050791570807342E-3,1.0751117675870458E-2,2.1319856514945605E-2,4.4003100305941539E-2,8.9544714830580643E-2]
[null,null,2026,6.9695644157197014E-5,1.0377593120391234E-5,3.9028811893018239E-6,4.4157915741878078E-6,1.1637451539641302E-5,2.0477535063057382E-5,4.1238285534641992E-5,7.2354648255169371E-5,1.1655714897624824E-4,1.8911073811149267E-4,3.0708298823920447E-4,5.24858798789605E-4,7.9719376988401024E-4,1.1688425720666033E-3,1.7705235086932173E-3,3.0140651566355056E-3,5.4149554202841876E-3,1.0572708518026776E-2,2.0979751253401607E-2,4.3394086209223269E-2,8.847590174186569E-2]
[null,null,"","","","","","","","","","","","","","","","","","","","","",""]
[null,null,"","","","","","","","","","","","","","","","","","","","","",""]
[null,null,"","","","","","","","","","","","","","","","","","","","","",""]
[null,null,"","","","","","","","","","","","","","","","","","","","","",""]
[null,null,"","","","","","","","","","","","","","","","","","","","","",""]
[null,null,"","","","","","","","","","","","","","","","","","","","","",""]
[null,null,"","","","","","","","","","","","","","","","","","","","","",""]
[null,null,"","","","","","","","","","","","","","","","","","","","","",""]
[null,null,"","","","","","","","","","","","","","","","","","","","","",""]
[null,null,"","","","","","","","","","","","","","","","","","","","","",""]
[null,null,"","","","","","","","","","","","","","","","","","","","","",""]
[null,null,"","","","","","","","","","","","","","","","","","","","","",""]
[null,null,"","","","","","","","","","","","","","","","","","","","","",""]
[null,null,"","","","","","","","","","","","","","","","","","","","","",""]
[null,null,"","","","","","","","","","","","","","","","","","","","","",""]
[null,null,"","","","","","","","","","","","","","","","","","","","","",""]
[null,null,"","","","","","","","","","","","","","","","","","","","","",""]
[null,null,"","","","","","","","","","","","","","","","","","","","","",""]
[null,null,"","","","","","","","","","","","","","","","","","","","","",""]
[null,null,"","","","","","","","","","","","","","","","","","","","","",""]
[null,null,""]
[null,null,""]
[null,null,""]
[null,null,""]
[null,null,""]
[null,null,""]
[null,null,""]
[null,null,""]
[null,null,""]
[null,null,""]
[null,null,""]
[null,null,""]
[null,null,""]
[null,null,""]
[null,null,""]
[null,null,""]
[null,null,""]

{"sheet":"Forecasts Cerebrovascular","index":9,"n_rows":105,"n_cols":24,"rows_kept":105,"cut":false,"hidden":false,"merged":[[52,2,53,2],[52,3,53,3],[0,2,3,9],[0,10,3,16],[5,1,5,23],[11,2,12,2],[11,3,12,3]]}
[null,null,"Society of Actuaries - Cause of deaths forecasting tool",null,null,null,null,null,null,null,"Forecast Cerebrovascular"]
[]
[]
[]
[]
[null,"central scenario - diffusion LC"]
[null,"Cerebrovascular"]
[null,"Parameters Male",null,{"$f":"TRANSPOSE(Ages_group)","v":0},"1 - 4","5 - 9","10 - 14","15 - 19","20 - 24","25 - 29","30 - 34","35 - 39","40 - 44","45 - 49","50 - 54","55 - 59","60 - 64","65 - 69","70 - 74","75 - 79","80 - 84","85 - 89","90 - 94","95+"]
[null,null,"b_x",{"$f":"INDEX(beta_M,MATCH($B$7,Causes,0),MATCH(D8,Ages_group,0))","v":1.3613165604250899E-2},-1.7619138548157999E-3,-1.84557149241674E-2,-3.4350902355970103E-2,2.6364602422149601E-2,3.9601323727482401E-2,2.9969900994380402E-2,1.04452222245612E-2,2.6810152953360498E-2,3.9140627897770001E-2,4.2440704255329302E-2,3.3559117486527699E-2,3.3317807013876002E-2,5.3769332430785202E-2,7.6437232431078805E-2,8.9315143543302902E-2,9.8126695308631495E-2,0.11338040428514699,0.12657154252783301,0.113113246984894,8.8592309043593304E-2]
[null,null,"delta type",{"$f":"INDEX(drifts_type,MATCH($B$7,Causes,0),MATCH(C16,genders,0))","v":"historical2"}]
[null,null,"delta",{"$f":"INDEX(drifts,MATCH($B$7,Causes,0),MATCH(C16,genders,0))","v":-0.13677231392212599},null,"k1",null,{"$f":"INDEX(k_1,MATCH($B$7,Causes,0),MATCH(C16,genders,0))","v":1}]
[null,null,"Adjustment factors",{"$f":"INDEX(adjustment_use,MATCH($B$7,Causes,0),MATCH(C16,genders,0))","v":"no"},null,"k2",null,{"$f":"INDEX(k_2,MATCH($B$7,Causes,0),MATCH(C16,genders,0))","v":0}]
[null,null,null,null,null,"delta basis",null,{"$f":"D11*H11","v":-0.13677231392212599}]
[]
[null,"Death rate",null,"age"]
[null,"sex","M",{"$f":"TRANSPOSE(Ages_group)","v":0},"1 - 4","5 - 9","10 - 14","15 - 19","20 - 24","25 - 29","30 - 34","35 - 39","40 - 44","45 - 49","50 - 54","55 - 59","60 - 64","65 - 69","70 - 74","75 - 79","80 - 84","85 - 89","90 - 94","95+"]
[null,"time",{"$f":"Year_0","v":2016},{"$f":"(OFFSET(q0_M,MATCH($B$7,Causes,0),MATCH(D$16,Ages_group,0))^$H$11)*EXP($H$12)","v":2.9165967709281959E-5},2.9366620103654115E-6,1.89930662851766E-6,2.5290207760043646E-6,2.9994959632071623E-6,5.5552770002220831E-6,1.1170806548208468E-5,2.0280127853301923E-5,3.7581558981516841E-5,6.6690892901008543E-5,1.0584512972205872E-4,1.7528818758655171E-4,2.8783841527120653E-4,4.6142298828900257E-4,6.6710301024915011E-4,1.1705382707985206E-3,2.1024469340886922E-3,3.7973106866857321E-3,6.2936739659996766E-3,1.1320656193560314E-2,1.9180691640004983E-2]
[null,null,{"$f":"IF(C17<Year_max,C17+1,\"\")","v":2017},{"$f":"IF($C18<>\"\",D17*EXP(D$9*$H$13)*\nIF($D$12=\"yes\",OFFSET(INDIRECT(\"'adjustment \" & $B$7 & \"'!C8\"),$C18-$C$17,MATCH(D$16,Ages_group))/OFFSET(INDIRECT(\"'adjustment \" & $B$7 & \"'!C8\"),$C17-$C$17,MATCH(D$16,Ages_group)),1),\"\")","v":2.9111713995968878E-5},{"$f":"IF($C18<>\"\",E17*EXP(E$9*$H$13)*\nIF($D$12=\"yes\",OFFSET(INDIRECT(\"'adjustment \" & $B$7 & \"'!C8\"),$C18-$C$17,MATCH(E$16,Ages_group))/OFFSET(INDIRECT(\"'adjustment \" & $B$7 & \"'!C8\"),$C17-$C$17,MATCH(E$16,Ages_group)),1),\"\")","v":2.9373697754912488E-6},{"$f":"IF($C18<>\"\",F17*EXP(F$9*$H$13)*\nIF($D$12=\"yes\",OFFSET(INDIRECT(\"'adjustment \" & $B$7 & \"'!C8\"),$C18-$C$17,MATCH(F$16,Ages_group))/OFFSET(INDIRECT(\"'adjustment \" & $B$7 & \"'!C8\"),$C17-$C$17,MATCH(F$16,Ages_group)),1),\"\")","v":1.9041069729147831E-6},{"$f":"IF($C18<>\"\",G17*EXP(G$9*$H$13)*\nIF($D$12=\"yes\",OFFSET(INDIRECT(\"'adjustment \" & $B$7 & \"'!C8\"),$C18-$C$17,MATCH(G$16,Ages_group))/OFFSET(INDIRECT(\"'adjustment \" & $B$7 & \"'!C8\"),$C17-$C$17,MATCH(G$16,Ages_group)),1),\"\")","v":2.5409307099662592E-6},{"$f":"IF($C18<>\"\",H17*EXP(H$9*$H$13)*\nIF($D$12=\"yes\",OFFSET(INDIRECT(\"'adjustment \" & $B$7 & \"'!C8\"),$C18-$C$17,MATCH(H$16,Ages_group))/OFFSET(INDIRECT(\"'adjustment \" & $B$7 & \"'!C8\"),$C17-$C$17,MATCH(H$16,Ages_group)),1),\"\")","v":2.988699415292998E-6},{"$f":"IF($C18<>\"\",I17*EXP(I$9*$H$13)*\nIF($D$12=\"yes\",OFFSET(INDIRECT(\"'adjustment \" & $B$7 & \"'!C8\"),$C18-$C$17,MATCH(I$16,Ages_group))/OFFSET(INDIRECT(\"'adjustment \" & $B$7 & \"'!C8\"),$C17-$C$17,MATCH(I$16,Ages_group)),1),\"\")","v":5.5252689347623453E-6},{"$f":"IF($C18<>\"\",J17*EXP(J$9*$H$13)*\nIF($D$12=\"yes\",OFFSET(INDIRECT(\"'adjustment \" & $B$7 & \"'!C8\"),$C18-$C$17,MATCH(J$16,Ages_group))/OFFSET(INDIRECT(\"'adjustment \" & $B$7 & \"'!C8\"),$C17-$C$17,MATCH(J$16,Ages_group)),1),\"\")","v":1.112511054253822E-5},{"$f":"IF($C18<>\"\",K17*EXP(K$9*$H$13)*\nIF($D$12=\"yes\",OFFSET(INDIRECT(\"'adjustment \" & $B$7 & \"'!C8\"),$C18-$C$17,MATCH(K$16,Ages_group))/OFFSET(INDIRECT(\"'adjustment \" & $B$7 & \"'!C8\"),$C17-$C$17,MATCH(K$16,Ages_group)),1),\"\")","v":2.0251175999049918E-5},{"$f":"IF($C18<>\"\",L17*EXP(L$9*$H$13)*\nIF($D$12=\"yes\",OFFSET(INDIRECT(\"'adjustment \" & $B$7 & \"'!C8\"),$C18-$C$17,MATCH(L$16,Ages_group))/OFFSET(INDIRECT(\"'adjustment \" & $B$7 & \"'!C8\"),$C17-$C$17,MATCH(L$16,Ages_group)),1),\"\")","v":3.7444004017735982E-5},{"$f":"IF($C18<>\"\",M17*EXP(M$9*$H$13)*\nIF($D$12=\"yes\",OFFSET(INDIRECT(\"'adjustment \" & $B$7 & \"'!C8\"),$C18-$C$17,MATCH(M$16,Ages_group))/OFFSET(INDIRECT(\"'adjustment \" & $B$7 & \"'!C8\"),$C17-$C$17,MATCH(M$16,Ages_group)),1),\"\")","v":6.633482685053935E-5},{"$f":"IF($C18<>\"\",N17*EXP(N$9*$H$13)*\nIF($D$12=\"yes\",OFFSET(INDIRECT(\"'adjustment \" & $B$7 & \"'!C8\"),$C18-$C$17,MATCH(N$16,Ages_group))/OFFSET(INDIRECT(\"'adjustment \" & $B$7 & \"'!C8\"),$C17-$C$17,MATCH(N$16,Ages_group)),1),\"\")","v":1.0523250885156044E-4},{"$f":"IF($C18<>\"\",O17*EXP(O$9*$H$13)*\nIF($D$12=\"yes\",OFFSET(INDIRECT(\"'adjustment \" & $B$7 & \"'!C8\"),$C18-$C$17,MATCH(O$16,Ages_group))/OFFSET(INDIRECT(\"'adjustment \" & $B$7 & \"'!C8\"),$C17-$C$17,MATCH(O$16,Ages_group)),1),\"\")","v":1.7448546578006368E-4},{"$f":"IF($C18<>\"\",P17*EXP(P$9*$H$13)*\nIF($D$12=\"yes\",OFFSET(INDIRECT(\"'adjustment \" & $B$7 & \"'!C8\"),$C18-$C$17,MATCH(P$16,Ages_group))/OFFSET(INDIRECT(\"'adjustment \" & $B$7 & \"'!C8\"),$C17-$C$17,MATCH(P$16,Ages_group)),1),\"\")","v":2.8652973304671902E-4},{"$f":"IF($C18<>\"\",Q17*EXP(Q$9*$H$13)*\nIF($D$12=\"yes\",OFFSET(INDIRECT(\"'adjustment \" & $B$7 & \"'!C8\"),$C18-$C$17,MATCH(Q$16,Ages_group))/OFFSET(INDIRECT(\"'adjustment \" & $B$7 & \"'!C8\"),$C17-$C$17,MATCH(Q$16,Ages_group)),1),\"\")","v":4.5804205882350681E-4},{"$f":"IF($C18<>\"\",R17*EXP(R$9*$H$13)*\nIF($D$12=\"yes\",OFFSET(INDIRECT(\"'adjustment \" & $B$7 & \"'!C8\"),$C18-$C$17,MATCH(R$16,Ages_group))/OFFSET(INDIRECT(\"'adjustment \" & $B$7 & \"'!C8\"),$C17-$C$17,MATCH(R$16,Ages_group)),1),\"\")","v":6.6016511303402007E-4},{"$f":"IF($C18<>\"\",S17*EXP(S$9*$H$13)*\nIF($D$12=\"yes\",OFFSET(INDIRECT(\"'adjustment \" & $B$7 & \"'!C8\"),$C18-$C$17,MATCH(S$16,Ages_group))/OFFSET(INDIRECT(\"'adjustment \" & $B$7 & \"'!C8\"),$C17-$C$17,MATCH(S$16,Ages_group)),1),\"\")","v":1.1563261471552156E-3},{"$f":"IF($C18<>\"\",T17*EXP(T$9*$H$13)*\nIF($D$12=\"yes\",OFFSET(INDIRECT(\"'adjustment \" & $B$7 & \"'!C8\"),$C18-$C$17,MATCH(T$16,Ages_group))/OFFSET(INDIRECT(\"'adjustment \" & $B$7 & \"'!C8\"),$C17-$C$17,MATCH(T$16,Ages_group)),1),\"\")","v":2.0744184678318984E-3},{"$f":"IF($C18<>\"\",U17*EXP(U$9*$H$13)*\nIF($D$12=\"yes\",OFFSET(INDIRECT(\"'adjustment \" & $B$7 & \"'!C8\"),$C18-$C$17,MATCH(U$16,Ages_group))/OFFSET(INDIRECT(\"'adjustment \" & $B$7 & \"'!C8\"),$C17-$C$17,MATCH(U$16,Ages_group)),1),\"\")","v":3.7388788804667396E-3},{"$f":"IF($C18<>\"\",V17*EXP(V$9*$H$13)*\nIF($D$12=\"yes\",OFFSET(INDIRECT(\"'adjustment \" & $B$7 & \"'!C8\"),$C18-$C$17,MATCH(V$16,Ages_group))/OFFSET(INDIRECT(\"'adjustment \" & $B$7 & \"'!C8\"),$C17-$C$17,MATCH(V$16,Ages_group)),1),\"\")","v":6.1856587867231468E-3},{"$f":"IF($C18<>\"\",W17*EXP(W$9*$H$13)*\nIF($D$12=\"yes\",OFFSET(INDIRECT(\"'adjustment \" & $B$7 & \"'!C8\"),$C18-$C$17,MATCH(W$16,Ages_group))/OFFSET(INDIRECT(\"'adjustment \" & $B$7 & \"'!C8\"),$C17-$C$17,MATCH(W$16,Ages_group)),1),\"\")","v":1.1146864841116103E-2},{"$f":"IF($C18<>\"\",X17*EXP(X$9*$H$13)*\nIF($D$12=\"yes\",OFFSET(INDIRECT(\"'adjustment \" & $B$7 & \"'!C8\"),$C18-$C$17,MATCH(X$16,Ages_group))/OFFSET(INDIRECT(\"'adjustment \" & $B$7 & \"'!C8\"),$C17-$C$17,MATCH(X$16,Ages_group)),1),\"\")","v":1.8949682071941788E-2}]
[null,null,2018,2.9057561203888296E-5,2.9380777111956108E-6,1.9089194497954056E-6,2.5528967314574942E-6,2.9779417290570265E-6,5.4954229645487315E-6,1.1079601463830247E-5,2.0222265476384711E-5,3.7306952528759622E-5,6.5980661854723671E-5,1.0462343376849664E-4,1.736864199902399E-4,2.852270008590363E-4,4.5468590203804818E-4,6.5329937021937716E-4,1.1422865804145694E-3,2.0467636590063435E-3,3.6813462042530913E-3,6.0794974179581192E-3,1.0975741481910798E-2,1.8721454750814125E-2]
[null,null,2019,2.9003509145309372E-5,2.9387858175196088E-6,1.9137440898234017E-6,2.5649191046114359E-6,2.9672227646184223E-6,5.4657382139876824E-6,1.1034278547429329E-5,2.0193396226301441E-5,3.7170402671783455E-5,6.5628387763734563E-5,1.0401788395020946E-4,1.7289103338298113E-4,2.8393019165580191E-4,4.5135433641873163E-4,6.4650503139665407E-4,1.12841747547205E-3,2.0194775262521976E-3,3.6246988225189184E-3,5.9751580436817392E-3,1.0807245157704402E-2,1.8495976167628943E-2]
[null,null,2020,2.8949557632850479E-5,2.9394940945043636E-6,1.9185809237401459E-6,2.5769980948053353E-6,2.9565423825998554E-6,5.4362138122153542E-6,1.0989141031808195E-5,2.0164568189879487E-5,3.7034352610748161E-5,6.52779944819355E-5,1.0341583899282408E-4,1.7209928920127899E-4,2.8263927850765531E-4,4.4804718178164711E-4,6.3978135396156163E-4,1.1147167626608964E-3,1.9925551546179057E-3,3.5689231126350132E-3,5.872609393913643E-3,1.0641335539035655E-2,1.827321321697082E-2]
[null,null,2021,2.8895706479478553E-5,2.9402025421910063E-6,1.9234299823647089E-6,2.5891339686661862E-6,2.9459004441256768E-6,5.4068488930720663E-6,1.0944188158554723E-5,2.013578130828234E-5,3.6898800516314713E-5,6.4929471967591095E-5,1.0281727861056125E-4,1.7131117076486273E-4,2.8135423460767263E-4,4.4476425926312464E-4,6.3312760303292431E-4,1.1011823974432654E-3,1.9659916946748769E-3,3.5140056615928432E-3,5.7718207353445045E-3,1.0477972915569213E-2,1.805313319214133E-2]
[null,null,2022,2.8841955498508437E-5,2.9409111606206777E-6,1.9282912965940543E-6,2.6013269940766106E-6,2.9352968108201152E-6,5.3776425950768932E-6,1.0899419172359202E-5,2.0107035522757484E-5,3.6763744565839776E-5,6.4582810232579284E-5,1.0222218263505374E-4,1.7052666146984792E-4,2.8007503327081001E-4,4.4150539131006055E-4,6.2654305137235908E-4,1.0878123601051283E-3,1.9397823616439738E-3,3.4599332627789749E-3,5.6727618621254172E-3,1.0317118186591008E-2,1.7835703780356951E-2]
[null,null,2023,2.8788304503602247E-5,2.9416199498345288E-6,1.9331648974032351E-6,2.6135774401807722E-6,2.9247313448054757E-6,5.3485940614023909E-6,1.0854833321001636E-5,2.0078330774636285E-5,3.6629182943351207E-5,6.4237999342105082E-5,1.016305310146668E-4,1.6974574478838665E-4,2.7880164793334935E-4,4.3827040167031489E-4,6.2002697930479056E-4,1.0746046554548712E-3,1.9139224345336478E-3,3.4066929127991316E-3,5.5754030868153566E-3,1.0158732851649527E-2,1.7620893058004801E-2]
[null,null,2024,2.873475330876872E-5,2.9423289098737199E-6,1.9380508158455918E-6,2.6258855773903168E-6,2.9142039087003482E-6,5.3197024398494581E-6,1.0810429855339112E-5,2.0049667005333856E-5,3.6495113839523639E-5,6.3895029414415901E-5,1.0104230381382249E-4,1.6896840426831934E-4,2.7753405215234696E-4,4.3505911538317882E-4,6.1357867463979188E-4,1.0615573125255561E-3,1.8884072552895639E-3,3.3542718083511224E-3,5.4797152314840034E-3,1.0002779001340754E-2,1.7408669485955531E-2]
[null,null,2025,2.8681301728362563E-5,2.9430380407794219E-6,1.9429490830529488E-6,2.6382516773903417E-6,2.9037143656178209E-6,5.2909668828223383E-6,1.07662080292932E-5,2.002104415634895E-5,3.6361535451654132E-5,6.35538906205183E-5,1.0045748121232799E-4,1.68194623532828E-4,2.762722196050841E-4,4.3187135876991223E-4,6.0719743259374454E-4,1.048668384280796E-3,1.8632322279555633E-3,3.3026573431458889E-3,5.3856696189672672E-3,9.8492193082345865E-3,1.7199001904932659E-2]
[null,null,2026,2.862794957708382E-5,2.9437473425928154E-6,1.9478597302358147E-6,2.6506760131453924E-6,2.8932625791636995E-6,5.2623865473037513E-6,1.0722167099837434E-5,1.9992462169263835E-5,3.6228445983637959E-5,6.3214573183896351E-5,9.9876043504707734E-5,1.6742438628009138E-4,2.7501612408852065E-4,4.2870695942435046E-4,6.0088255571280689E-4,1.0359359473242013E-3,1.8383928178458096E-3,3.2518371048759292E-3,5.2932380642728843E-3,9.6980170179405481E-3,1.6991859530937667E-2]
[null,null,"","","","","","","","","","","","","","","","","","","","","",""]
[null,null,"","","","","","","","","","","","","","","","","","","","","",""]
[null,null,"","","","","","","","","","","","","","","","","","","","","",""]
[null,null,"","","","","","","","","","","","","","","","","","","","","",""]
[null,null,"","","","","","","","","","","","","","","","","","","","","",""]
[null,null,"","","","","","","","","","","","","","","","","","","","","",""]
[null,null,"","","","","","","","","","","","","","","","","","","","","",""]
[null,null,"","","","","","","","","","","","","","","","","","","","","",""]
[null,null,"","","","","","","","","","","","","","","","","","","","","",""]
[null,null,"","","","","","","","","","","","","","","","","","","","","",""]
[null,null,"","","","","","","","","","","","","","","","","","","","","",""]
[null,null,"","","","","","","","","","","","","","","","","","","","","",""]
[null,null,"","","","","","","","","","","","","","","","","","","","","",""]
[null,null,"","","","","","","","","","","","","","","","","","","","","",""]
[null,null,"","","","","","","","","","","","","","","","","","","","","",""]
[null,null,"","","","","","","","","","","","","","","","","","","","","",""]
[null,null,"","","","","","","","","","","","","","","","","","","","","",""]
[null,null,"","","","","","","","","","","","","","","","","","","","","",""]
[null,null,"","","","","","","","","","","","","","","","","","","","","",""]
[null,null,"","","","","","","","","","","","","","","","","","","","","",""]
[]
[null,"Parameters Female",null,{"$f":"TRANSPOSE(Ages_group)","v":0},"1 - 4","5 - 9","10 - 14","15 - 19","20 - 24","25 - 29","30 - 34","35 - 39","40 - 44","45 - 49","50 - 54","55 - 59","60 - 64","65 - 69","70 - 74","75 - 79","80 - 84","85 - 89","90 - 94","95+"]
[null,null,"b_x",{"$f":"INDEX(beta_F,MATCH($B$7,Causes,0),MATCH(D49,Ages_group,0))","v":-1.53662994511922E-2},5.1549948566399099E-2,-6.1578570216636999E-2,8.7658496207033507E-3,1.7674238196834099E-2,6.4238231949717506E-2,3.6296921261077898E-2,3.3190117181941897E-2,5.7848164062659198E-2,6.0776870704978697E-2,5.1112565557083302E-2,3.3699931245631101E-2,4.7985985196759E-2,6.0074915199817502E-2,7.1085005377280602E-2,7.6628816004103498E-2,7.6336608552751706E-2,8.4782055226979805E-2,8.8582362574983697E-2,8.2339596107179294E-2,7.3976687080948095E-2]
[null,null,"delta type",{"$f":"INDEX(drifts_type,MATCH($B$7,Causes,0),MATCH(C57,genders,0))","v":"historical2"}]
[null,null,"delta",{"$f":"INDEX(drifts,MATCH($B$7,Causes,0),MATCH(C57,genders,0))","v":-0.18803751553668099},null,"k1",null,{"$f":"INDEX(k_1,MATCH($B$7,Causes,0),MATCH(C57,genders,0))","v":1}]
[null,null,"Adjustment factors",{"$f":"INDEX(adjustment_use,MATCH($B$7,Causes,0),MATCH(C57,genders,0))","v":"no"},null,"k2",null,{"$f":"INDEX(k_2,MATCH($B$7,Causes,0),MATCH(C57,genders,0))","v":0}]
[null,null,null,null,null,"delta basis",null,{"$f":"D52*H52","v":-0.18803751553668099}]
[]
[null,"Death rate",null,"age"]
[null,"sex","F",{"$f":"TRANSPOSE(Ages_group)","v":0},"1 - 4","5 - 9","10 - 14","15 - 19","20 - 24","25 - 29","30 - 34","35 - 39","40 - 44","45 - 49","50 - 54","55 - 59","60 - 64","65 - 69","70 - 74","75 - 79","80 - 84","85 - 89","90 - 94","95+"]
[null,"time",{"$f":"Year_0","v":2016},{"$f":"(OFFSET(q0_F,MATCH($B$7,Causes,0),MATCH(D$16,Ages_group,0))^$H$52)*EXP($H$53)","v":2.4256830665198548E-5},2.2280033819873084E-6,2.4087882244162652E-6,2.4444335006393212E-6,2.9872576938721516E-6,4.2489453695630396E-6,8.8603440428142248E-6,1.729157608652405E-5,2.8251369219600339E-5,5.0239792882426772E-5,7.7234119146630495E-5,1.3523521262422751E-4,2.0074471321480635E-4,2.9985465247968558E-4,4.8999309367245573E-4,9.0112500876273394E-4,1.8306482692893183E-3,3.7097827156364407E-3,6.8909784863153039E-3,1.2504338986207016E-2,2.0973284007522856E-2]
[null,null,{"$f":"IF(C58<Year_max,C58+1,\"\")","v":2017},{"$f":"IF($C59<>\"\",D58*EXP(D$50*$H$54)*\nIF($D$53=\"yes\",OFFSET(INDIRECT(\"'adjustment \" & $B$7 & \"'!C42\"),$C59-$C$58,MATCH(D$16,Ages_group))/OFFSET(INDIRECT(\"'adjustment \" & $B$7 & \"'!C42\"),$C58-$C$58,MATCH(D$16,Ages_group)),1),\"\")","v":2.432702069685278E-5},{"$f":"IF($C59<>\"\",E58*EXP(E$50*$H$54)*\nIF($D$53=\"yes\",OFFSET(INDIRECT(\"'adjustment \" & $B$7 & \"'!C42\"),$C59-$C$58,MATCH(E$16,Ages_group))/OFFSET(INDIRECT(\"'adjustment \" & $B$7 & \"'!C42\"),$C58-$C$58,MATCH(E$16,Ages_group)),1),\"\")","v":2.2065109575714679E-6},{"$f":"IF($C59<>\"\",F58*EXP(F$50*$H$54)*\nIF($D$53=\"yes\",OFFSET(INDIRECT(\"'adjustment \" & $B$7 & \"'!C42\"),$C59-$C$58,MATCH(F$16,Ages_group))/OFFSET(INDIRECT(\"'adjustment \" & $B$7 & \"'!C42\"),$C58-$C$58,MATCH(F$16,Ages_group)),1),\"\")","v":2.4368418835910881E-6},{"$f":"IF($C59<>\"\",G58*EXP(G$50*$H$54)*\nIF($D$53=\"yes\",OFFSET(INDIRECT(\"'adjustment \" & $B$7 & \"'!C42\"),$C59-$C$58,MATCH(G$16,Ages_group))/OFFSET(INDIRECT(\"'adjustment \" & $B$7 & \"'!C42\"),$C58-$C$58,MATCH(G$16,Ages_group)),1),\"\")","v":2.4404076387594442E-6},{"$f":"IF($C59<>\"\",H58*EXP(H$50*$H$54)*\nIF($D$53=\"yes\",OFFSET(INDIRECT(\"'adjustment \" & $B$7 & \"'!C42\"),$C59-$C$58,MATCH(H$16,Ages_group))/OFFSET(INDIRECT(\"'adjustment \" & $B$7 & \"'!C42\"),$C58-$C$58,MATCH(H$16,Ages_group)),1),\"\")","v":2.9773462614348746E-6},{"$f":"IF($C59<>\"\",I58*EXP(I$50*$H$54)*\nIF($D$53=\"yes\",OFFSET(INDIRECT(\"'adjustment \" & $B$7 & \"'!C42\"),$C59-$C$58,MATCH(I$16,Ages_group))/OFFSET(INDIRECT(\"'adjustment \" & $B$7 & \"'!C42\"),$C58-$C$58,MATCH(I$16,Ages_group)),1),\"\")","v":4.1979302502535893E-6},{"$f":"IF($C59<>\"\",J58*EXP(J$50*$H$54)*\nIF($D$53=\"yes\",OFFSET(INDIRECT(\"'adjustment \" & $B$7 & \"'!C42\"),$C59-$C$58,MATCH(J$16,Ages_group))/OFFSET(INDIRECT(\"'adjustment \" & $B$7 & \"'!C42\"),$C58-$C$58,MATCH(J$16,Ages_group)),1),\"\")","v":8.8000764767390655E-6},{"$f":"IF($C59<>\"\",K58*EXP(K$50*$H$54)*\nIF($D$53=\"yes\",OFFSET(INDIRECT(\"'adjustment \" & $B$7 & \"'!C42\"),$C59-$C$58,MATCH(K$16,Ages_group))/OFFSET(INDIRECT(\"'adjustment \" & $B$7 & \"'!C42\"),$C58-$C$58,MATCH(K$16,Ages_group)),1),\"\")","v":1.7183995635223671E-5},{"$f":"IF($C59<>\"\",L58*EXP(L$50*$H$54)*\nIF($D$53=\"yes\",OFFSET(INDIRECT(\"'adjustment \" & $B$7 & \"'!C42\"),$C59-$C$58,MATCH(L$16,Ages_group))/OFFSET(INDIRECT(\"'adjustment \" & $B$7 & \"'!C42\"),$C58-$C$58,MATCH(L$16,Ages_group)),1),\"\")","v":2.7945726763831652E-5},{"$f":"IF($C59<>\"\",M58*EXP(M$50*$H$54)*\nIF($D$53=\"yes\",OFFSET(INDIRECT(\"'adjustment \" & $B$7 & \"'!C42\"),$C59-$C$58,MATCH(M$16,Ages_group))/OFFSET(INDIRECT(\"'adjustment \" & $B$7 & \"'!C42\"),$C58-$C$58,MATCH(M$16,Ages_group)),1),\"\")","v":4.9668904227294602E-5},{"$f":"IF($C59<>\"\",N58*EXP(N$50*$H$54)*\nIF($D$53=\"yes\",OFFSET(INDIRECT(\"'adjustment \" & $B$7 & \"'!C42\"),$C59-$C$58,MATCH(N$16,Ages_group))/OFFSET(INDIRECT(\"'adjustment \" & $B$7 & \"'!C42\"),$C58-$C$58,MATCH(N$16,Ages_group)),1),\"\")","v":7.6495371628500805E-5},{"$f":"IF($C59<>\"\",O58*EXP(O$50*$H$54)*\nIF($D$53=\"yes\",OFFSET(INDIRECT(\"'adjustment \" & $B$7 & \"'!C42\"),$C59-$C$58,MATCH(O$16,Ages_group))/OFFSET(INDIRECT(\"'adjustment \" & $B$7 & \"'!C42\"),$C58-$C$58,MATCH(O$16,Ages_group)),1),\"\")","v":1.3438095669022625E-4},{"$f":"IF($C59<>\"\",P58*EXP(P$50*$H$54)*\nIF($D$53=\"yes\",OFFSET(INDIRECT(\"'adjustment \" & $B$7 & \"'!C42\"),$C59-$C$58,MATCH(P$16,Ages_group))/OFFSET(INDIRECT(\"'adjustment \" & $B$7 & \"'!C42\"),$C58-$C$58,MATCH(P$16,Ages_group)),1),\"\")","v":1.9894150800070946E-4},{"$f":"IF($C59<>\"\",Q58*EXP(Q$50*$H$54)*\nIF($D$53=\"yes\",OFFSET(INDIRECT(\"'adjustment \" & $B$7 & \"'!C42\"),$C59-$C$58,MATCH(Q$16,Ages_group))/OFFSET(INDIRECT(\"'adjustment \" & $B$7 & \"'!C42\"),$C58-$C$58,MATCH(Q$16,Ages_group)),1),\"\")","v":2.9648645301093296E-4},{"$f":"IF($C59<>\"\",R58*EXP(R$50*$H$54)*\nIF($D$53=\"yes\",OFFSET(INDIRECT(\"'adjustment \" & $B$7 & \"'!C42\"),$C59-$C$58,MATCH(R$16,Ages_group))/OFFSET(INDIRECT(\"'adjustment \" & $B$7 & \"'!C42\"),$C58-$C$58,MATCH(R$16,Ages_group)),1),\"\")","v":4.8348710704628075E-4},{"$f":"IF($C59<>\"\",S58*EXP(S$50*$H$54)*\nIF($D$53=\"yes\",OFFSET(INDIRECT(\"'adjustment \" & $B$7 & \"'!C42\"),$C59-$C$58,MATCH(S$16,Ages_group))/OFFSET(INDIRECT(\"'adjustment \" & $B$7 & \"'!C42\"),$C58-$C$58,MATCH(S$16,Ages_group)),1),\"\")","v":8.8823371441232638E-4},{"$f":"IF($C59<>\"\",T58*EXP(T$50*$H$54)*\nIF($D$53=\"yes\",OFFSET(INDIRECT(\"'adjustment \" & $B$7 & \"'!C42\"),$C59-$C$58,MATCH(T$16,Ages_group))/OFFSET(INDIRECT(\"'adjustment \" & $B$7 & \"'!C42\"),$C58-$C$58,MATCH(T$16,Ages_group)),1),\"\")","v":1.8045585719872565E-3},{"$f":"IF($C59<>\"\",U58*EXP(U$50*$H$54)*\nIF($D$53=\"yes\",OFFSET(INDIRECT(\"'adjustment \" & $B$7 & \"'!C42\"),$C59-$C$58,MATCH(U$16,Ages_group))/OFFSET(INDIRECT(\"'adjustment \" & $B$7 & \"'!C42\"),$C58-$C$58,MATCH(U$16,Ages_group)),1),\"\")","v":3.6511095243036717E-3},{"$f":"IF($C59<>\"\",V58*EXP(V$50*$H$54)*\nIF($D$53=\"yes\",OFFSET(INDIRECT(\"'adjustment \" & $B$7 & \"'!C42\"),$C59-$C$58,MATCH(V$16,Ages_group))/OFFSET(INDIRECT(\"'adjustment \" & $B$7 & \"'!C42\"),$C58-$C$58,MATCH(V$16,Ages_group)),1),\"\")","v":6.7771474477070675E-3},{"$f":"IF($C59<>\"\",W58*EXP(W$50*$H$54)*\nIF($D$53=\"yes\",OFFSET(INDIRECT(\"'adjustment \" & $B$7 & \"'!C42\"),$C59-$C$58,MATCH(W$16,Ages_group))/OFFSET(INDIRECT(\"'adjustment \" & $B$7 & \"'!C42\"),$C58-$C$58,MATCH(W$16,Ages_group)),1),\"\")","v":1.2312226214814139E-2},{"$f":"IF($C59<>\"\",X58*EXP(X$50*$H$54)*\nIF($D$53=\"yes\",OFFSET(INDIRECT(\"'adjustment \" & $B$7 & \"'!C42\"),$C59-$C$58,MATCH(X$16,Ages_group))/OFFSET(INDIRECT(\"'adjustment \" & $B$7 & \"'!C42\"),$C58-$C$58,MATCH(X$16,Ages_group)),1),\"\")","v":2.0683557174868382E-2}]
[null,null,2018,2.439741383173231E-5,2.1852258597292786E-6,2.4652222662964893E-6,2.4363884072762916E-6,2.9674677141729073E-6,4.1475276458559106E-6,8.7402188472874813E-6,1.7077084501366891E-5,2.7643390955257378E-5,4.9104502737770802E-5,7.5763690260688789E-5,1.3353209693364517E-4,1.9715450021962126E-4,2.9315608776475281E-4,4.7706750502945344E-4,8.755268400573832E-4,1.7788406950489052E-3,3.5933642965863084E-3,6.6651967669284721E-3,1.212306500423331E-2,2.0397832654752559E-2]
[null,null,2019,2.4468010657540538E-5,2.1641460884858975E-6,2.493933177678342E-6,2.4323757952699259E-6,2.9576219429764152E-6,4.0977302021871204E-6,8.680768366093419E-6,1.6970838520759984E-5,2.7344326020327533E-5,4.8546514698399216E-5,7.5039007455176773E-5,1.3268859926782525E-4,1.9538354437682268E-4,2.8986313175788305E-4,4.7073314063210734E-4,8.6300174742638539E-4,1.7534893394329889E-3,3.5365323559949364E-3,6.5550953826309542E-3,1.1936810007603079E-2,2.011605515886981E-2]
[null,null,2020,2.4538811763681449E-5,2.1432696631592304E-6,2.5229784671986883E-6,2.4283697918383942E-6,2.9478088390975794E-6,4.0485306533626059E-6,8.6217222637571347E-6,1.6865253555116971E-5,2.704849657251464E-5,4.7994867231372782E-5,7.432125627042923E-5,1.3185042982142659E-4,1.936284962845124E-4,2.8660716478080231E-4,4.6448288209377563E-4,8.5065583599034083E-4,1.7284992816181367E-3,3.480599258160601E-3,6.4468127465637029E-3,1.1753416574757057E-2,1.9838170162672194E-2]
[null,null,2021,2.4609817741264545E-5,2.122594622173823E-6,2.5523620291518613E-6,2.424370386097698E-6,2.9380282941493959E-6,3.9999218207358645E-6,8.5630777897161892E-6,1.6760325491898444E-5,2.6755867608126653E-5,4.7449488287015123E-5,7.3610370405209199E-5,1.3101755493706831E-4,1.9188921305006743E-4,2.8338777134410791E-4,4.5831561268117987E-4,8.3848654242284768E-4,1.703865372526602E-3,3.4255507871636371E-3,6.3403188150978739E-3,1.1572840741520112E-2,1.956412389481877E-2]
[null,null,2022,2.4681029183109769E-5,2.1021190228765503E-6,2.5820878031866201E-6,2.420377567181765E-6,2.9282802001044779E-6,3.9518966118510774E-6,8.5048322121173156E-6,1.6656050244151373E-5,2.6466404502165186E-5,4.6910306634370235E-5,7.2906284192453732E-5,1.3018994116997703E-4,1.9016555306440903E-4,2.8020454062549542E-4,4.5223023048870313E-4,8.2649134006788287E-4,1.6795825364633197E-3,3.371372951920559E-3,6.2355840408908148E-3,1.1395039219169012E-2,1.9293863326770751E-2]
[null,null,2023,2.4752446683752462E-5,2.0818409413540813E-6,2.6121597748343636E-6,2.416391324242418E-6,2.9185644492938637E-6,3.9044480194082598E-6,8.4469828176891591E-6,1.655242375034992E-5,2.6180073004228547E-5,4.6377251851899172E-5,7.2208932593208073E-5,1.2936755528664384E-4,1.8845737599047316E-4,2.7705706641733451E-4,4.4622564824151273E-4,8.1466773841520337E-4,1.6556457700700852E-3,3.3180519826280968E-3,6.132579364687989E-3,1.1219969384054991E-2,1.9027336162530349E-2]
[null,null,2024,2.4824070839448323E-5,2.0617584722521067E-6,2.6425819760434979E-6,2.4124116464493472E-6,2.9088809344058265E-6,3.8575691202408309E-6,8.3895269116158868E-6,1.6449441974237246E-5,2.5896839234459098E-5,4.5850254318282392E-5,7.1518251190617706E-5,1.2855036426348977E-4,1.8676454275178453E-4,2.7394494707483325E-4,4.4030079310129684E-4,8.030132825832529E-4,1.6320501412946369E-3,3.2655743272634718E-3,6.0312762072603212E-3,1.1047589267385756E-2,1.8764490828521403E-2]
[null,null,2025,2.4895902248178382E-5,2.0418697285963084E-6,2.673358485720026E-6,2.4084385229900789E-6,2.8992295484846894E-6,3.8112530743054664E-6,8.3324618174116497E-6,1.6347100904668293E-5,2.5616669679534462E-5,4.5329245203326664E-5,7.083417618397799E-5,1.2773833528553972E-4,1.8508691552113327E-4,2.7086778546478479E-4,4.3445460647458049E-4,7.9152555280946591E-4,1.608790788374431E-3,3.2139266481400228E-3,5.9316464614747278E-3,1.087785754516447E-2,1.8505276463609766E-2]
[null,null,2026,2.4967941509654013E-5,2.0221728416150572E-6,2.7044934302744334E-6,2.4044719430699471E-6,2.889610184929644E-6,3.7654931236840735E-6,8.2757848767959105E-6,1.6245396555453555E-5,2.533953118870209E-5,4.4814156458975267E-5,7.0156644382840622E-5,1.2693143574510476E-4,1.8342435770935322E-4,2.6782518891488972E-4,4.2868604382358691E-4,7.802021639478629E-4,1.5858629188348996E-3,3.1630958185173089E-3,5.8336624844956353E-3,1.0710733528283322E-2,1.8249642909261579E-2]
[null,null,"","","","","","","","","","","","","","","","","","","","","",""]
[null,null,"","","","","","","","","","","","","","","","","","","","","",""]
[null,null,"","","","","","","","","","","","","","","","","","","","","",""]
[null,null,"","","","","","","","","","","","","","","","","","","","","",""]
[null,null,"","","","","","","","","","","","","","","","","","","","","",""]
[null,null,"","","","","","","","","","","","","","","","","","","","","",""]
[null,null,"","","","","","","","","","","","","","","","","","","","","",""]
[null,null,"","","","","","","","","","","","","","","","","","","","","",""]
[null,null,"","","","","","","","","","","","","","","","","","","","","",""]
[null,null,"","","","","","","","","","","","","","","","","","","","","",""]
[null,null,"","","","","","","","","","","","","","","","","","","","","",""]
[null,null,"","","","","","","","","","","","","","","","","","","","","",""]
[null,null,"","","","","","","","","","","","","","","","","","","","","",""]
[null,null,"","","","","","","","","","","","","","","","","","","","","",""]
[null,null,"","","","","","","","","","","","","","","","","","","","","",""]
[null,null,"","","","","","","","","","","","","","","","","","","","","",""]
[null,null,"","","","","","","","","","","","","","","","","","","","","",""]
[null,null,"","","","","","","","","","","","","","","","","","","","","",""]
[null,null,"","","","","","","","","","","","","","","","","","","","","",""]
[null,null,"","","","","","","","","","","","","","","","","","","","","",""]
[null,null,""]
[null,null,""]
[null,null,""]
[null,null,""]
[null,null,""]
[null,null,""]
[null,null,""]
[null,null,""]
[null,null,""]
[null,null,""]
[null,null,""]
[null,null,""]
[null,null,""]
[null,null,""]
[null,null,""]
[null,null,""]
[null,null,""]

{"sheet":"Forecasts NeoSmok","index":10,"n_rows":105,"n_cols":24,"rows_kept":105,"cut":false,"hidden":false,"merged":[[52,2,53,2],[52,3,53,3],[0,2,3,9],[0,10,3,16],[5,1,5,23],[11,2,12,2],[11,3,12,3]]}
[null,null,"Society of Actuaries - Cause of deaths forecasting tool",null,null,null,null,null,null,null,"Forecast NeoSmok"]
[]
[]
[]
[]
[null,"central scenario - diffusion LC"]
[null,"NeoSmok"]
[null,"Parameters Male",null,{"$f":"TRANSPOSE(Ages_group)","v":0},"1 - 4","5 - 9","10 - 14","15 - 19","20 - 24","25 - 29","30 - 34","35 - 39","40 - 44","45 - 49","50 - 54","55 - 59","60 - 64","65 - 69","70 - 74","75 - 79","80 - 84","85 - 89","90 - 94","95+"]
[null,null,"b_x",{"$f":"INDEX(beta_M,MATCH($B$7,Causes,0),MATCH(D8,Ages_group,0))","v":2.15388667914427E-2},0.24997254506591399,2.14165180095926E-2,3.1351304417510703E-2,{"$f":"INDEX(beta_M,MATCH($B$7,Causes,0),MATCH(H8,Ages_group,0))","v":6.7736111248976105E-2},5.3311686088198399E-3,1.6319682071574301E-2,2.5498440150362699E-2,6.8623133992107996E-2,9.67442586603105E-2,6.2741786347011094E-2,3.74132658673203E-2,3.9398274425518097E-2,5.1425055358338002E-2,4.8109181372652202E-2,4.1948167105495697E-2,3.3950039835727898E-2,2.5806458711341799E-2,2.2337538990502701E-2,1.7684448955104501E-2,1.4653754014376401E-2]
[null,null,"delta type",{"$f":"INDEX(drifts_type,MATCH($B$7,Causes,0),MATCH(C16,genders,0))","v":"historical2"}]
[null,null,"delta",{"$f":"INDEX(drifts,MATCH($B$7,Causes,0),MATCH(C16,genders,0))","v":-0.55464167658612595},null,"k1",null,{"$f":"INDEX(k_1,MATCH($B$7,Causes,0),MATCH(C16,genders,0))","v":1}]
[null,null,"Adjustment factors",{"$f":"INDEX(adjustment_use,MATCH($B$7,Causes,0),MATCH(C16,genders,0))","v":"no"},null,"k2",null,{"$f":"INDEX(k_2,MATCH($B$7,Causes,0),MATCH(C16,genders,0))","v":0}]
[null,null,null,null,null,"delta basis",null,{"$f":"D11*H11","v":-0.55464167658612595}]
[]
[null,"Death rate",null,"age"]
[null,"sex","M",{"$f":"TRANSPOSE(Ages_group)","v":0},"1 - 4","5 - 9","10 - 14","15 - 19","20 - 24","25 - 29","30 - 34","35 - 39","40 - 44","45 - 49","50 - 54","55 - 59","60 - 64","65 - 69","70 - 74","75 - 79","80 - 84","85 - 89","90 - 94","95+"]
[null,"time",{"$f":"Year_0","v":2016},{"$f":"(OFFSET(q0_M,MATCH($B$7,Causes,0),MATCH(D$16,Ages_group,0))^$H$11)*EXP($H$12)","v":0},0,9.8898745744797942E-8,2.0023005648409106E-7,3.9807813491819037E-7,1.8656633906636579E-6,3.1628483314623886E-6,7.5959788600215932E-6,2.1503911964387921E-5,5.6051030555074756E-5,1.6734391364495291E-4,4.359890877927374E-4,9.0009760748580578E-4,1.431857164409736E-3,2.1894282771323624E-3,3.1693656362951511E-3,4.0331376330299444E-3,4.7646544776157136E-3,5.0993926724890327E-3,4.8760515599960714E-3,4.5291614925174898E-3]
[null,null,{"$f":"IF(C17<Year_max,C17+1,\"\")","v":2017},{"$f":"IF($C18<>\"\",D17*EXP(D$9*$H$13)*\nIF($D$12=\"yes\",OFFSET(INDIRECT(\"'adjustment \" & $B$7 & \"'!C8\"),$C18-$C$17,MATCH(D$16,Ages_group))/OFFSET(INDIRECT(\"'adjustment \" & $B$7 & \"'!C8\"),$C17-$C$17,MATCH(D$16,Ages_group)),1),\"\")","v":0},{"$f":"IF($C18<>\"\",E17*EXP(E$9*$H$13)*\nIF($D$12=\"yes\",OFFSET(INDIRECT(\"'adjustment \" & $B$7 & \"'!C8\"),$C18-$C$17,MATCH(E$16,Ages_group))/OFFSET(INDIRECT(\"'adjustment \" & $B$7 & \"'!C8\"),$C17-$C$17,MATCH(E$16,Ages_group)),1),\"\")","v":0},{"$f":"IF($C18<>\"\",F17*EXP(F$9*$H$13)*\nIF($D$12=\"yes\",OFFSET(INDIRECT(\"'adjustment \" & $B$7 & \"'!C8\"),$C18-$C$17,MATCH(F$16,Ages_group))/OFFSET(INDIRECT(\"'adjustment \" & $B$7 & \"'!C8\"),$C17-$C$17,MATCH(F$16,Ages_group)),1),\"\")","v":9.7730927333819711E-8},{"$f":"IF($C18<>\"\",G17*EXP(G$9*$H$13)*\nIF($D$12=\"yes\",OFFSET(INDIRECT(\"'adjustment \" & $B$7 & \"'!C8\"),$C18-$C$17,MATCH(G$16,Ages_group))/OFFSET(INDIRECT(\"'adjustment \" & $B$7 & \"'!C8\"),$C17-$C$17,MATCH(G$16,Ages_group)),1),\"\")","v":1.9677840498997015E-7},{"$f":"IF($C18<>\"\",H17*EXP(H$9*$H$13)*\nIF($D$12=\"yes\",OFFSET(INDIRECT(\"'adjustment \" & $B$7 & \"'!C8\"),$C18-$C$17,MATCH(H$16,Ages_group))/OFFSET(INDIRECT(\"'adjustment \" & $B$7 & \"'!C8\"),$C17-$C$17,MATCH(H$16,Ages_group)),1),\"\")","v":3.8340007820832899E-7},{"$f":"IF($C18<>\"\",I17*EXP(I$9*$H$13)*\nIF($D$12=\"yes\",OFFSET(INDIRECT(\"'adjustment \" & $B$7 & \"'!C8\"),$C18-$C$17,MATCH(I$16,Ages_group))/OFFSET(INDIRECT(\"'adjustment \" & $B$7 & \"'!C8\"),$C17-$C$17,MATCH(I$16,Ages_group)),1),\"\")","v":1.860154980311195E-6},{"$f":"IF($C18<>\"\",J17*EXP(J$9*$H$13)*\nIF($D$12=\"yes\",OFFSET(INDIRECT(\"'adjustment \" & $B$7 & \"'!C8\"),$C18-$C$17,MATCH(J$16,Ages_group))/OFFSET(INDIRECT(\"'adjustment \" & $B$7 & \"'!C8\"),$C17-$C$17,MATCH(J$16,Ages_group)),1),\"\")","v":3.1343487476206512E-6},{"$f":"IF($C18<>\"\",K17*EXP(K$9*$H$13)*\nIF($D$12=\"yes\",OFFSET(INDIRECT(\"'adjustment \" & $B$7 & \"'!C8\"),$C18-$C$17,MATCH(K$16,Ages_group))/OFFSET(INDIRECT(\"'adjustment \" & $B$7 & \"'!C8\"),$C17-$C$17,MATCH(K$16,Ages_group)),1),\"\")","v":7.4893088156020786E-6},{"$f":"IF($C18<>\"\",L17*EXP(L$9*$H$13)*\nIF($D$12=\"yes\",OFFSET(INDIRECT(\"'adjustment \" & $B$7 & \"'!C8\"),$C18-$C$17,MATCH(L$16,Ages_group))/OFFSET(INDIRECT(\"'adjustment \" & $B$7 & \"'!C8\"),$C17-$C$17,MATCH(L$16,Ages_group)),1),\"\")","v":2.0700826361592969E-5},{"$f":"IF($C18<>\"\",M17*EXP(M$9*$H$13)*\nIF($D$12=\"yes\",OFFSET(INDIRECT(\"'adjustment \" & $B$7 & \"'!C8\"),$C18-$C$17,MATCH(M$16,Ages_group))/OFFSET(INDIRECT(\"'adjustment \" & $B$7 & \"'!C8\"),$C17-$C$17,MATCH(M$16,Ages_group)),1),\"\")","v":5.3122689677665134E-5},{"$f":"IF($C18<>\"\",N17*EXP(N$9*$H$13)*\nIF($D$12=\"yes\",OFFSET(INDIRECT(\"'adjustment \" & $B$7 & \"'!C8\"),$C18-$C$17,MATCH(N$16,Ages_group))/OFFSET(INDIRECT(\"'adjustment \" & $B$7 & \"'!C8\"),$C17-$C$17,MATCH(N$16,Ages_group)),1),\"\")","v":1.6162063801266854E-4},{"$f":"IF($C18<>\"\",O17*EXP(O$9*$H$13)*\nIF($D$12=\"yes\",OFFSET(INDIRECT(\"'adjustment \" & $B$7 & \"'!C8\"),$C18-$C$17,MATCH(O$16,Ages_group))/OFFSET(INDIRECT(\"'adjustment \" & $B$7 & \"'!C8\"),$C17-$C$17,MATCH(O$16,Ages_group)),1),\"\")","v":4.2703512018803388E-4},{"$f":"IF($C18<>\"\",P17*EXP(P$9*$H$13)*\nIF($D$12=\"yes\",OFFSET(INDIRECT(\"'adjustment \" & $B$7 & \"'!C8\"),$C18-$C$17,MATCH(P$16,Ages_group))/OFFSET(INDIRECT(\"'adjustment \" & $B$7 & \"'!C8\"),$C17-$C$17,MATCH(P$16,Ages_group)),1),\"\")","v":8.8064208655469576E-4},{"$f":"IF($C18<>\"\",Q17*EXP(Q$9*$H$13)*\nIF($D$12=\"yes\",OFFSET(INDIRECT(\"'adjustment \" & $B$7 & \"'!C8\"),$C18-$C$17,MATCH(Q$16,Ages_group))/OFFSET(INDIRECT(\"'adjustment \" & $B$7 & \"'!C8\"),$C17-$C$17,MATCH(Q$16,Ages_group)),1),\"\")","v":1.3915939810945853E-3},{"$f":"IF($C18<>\"\",R17*EXP(R$9*$H$13)*\nIF($D$12=\"yes\",OFFSET(INDIRECT(\"'adjustment \" & $B$7 & \"'!C8\"),$C18-$C$17,MATCH(R$16,Ages_group))/OFFSET(INDIRECT(\"'adjustment \" & $B$7 & \"'!C8\"),$C17-$C$17,MATCH(R$16,Ages_group)),1),\"\")","v":2.131779532233181E-3},{"$f":"IF($C18<>\"\",S17*EXP(S$9*$H$13)*\nIF($D$12=\"yes\",OFFSET(INDIRECT(\"'adjustment \" & $B$7 & \"'!C8\"),$C18-$C$17,MATCH(S$16,Ages_group))/OFFSET(INDIRECT(\"'adjustment \" & $B$7 & \"'!C8\"),$C17-$C$17,MATCH(S$16,Ages_group)),1),\"\")","v":3.0964777362484067E-3},{"$f":"IF($C18<>\"\",T17*EXP(T$9*$H$13)*\nIF($D$12=\"yes\",OFFSET(INDIRECT(\"'adjustment \" & $B$7 & \"'!C8\"),$C18-$C$17,MATCH(T$16,Ages_group))/OFFSET(INDIRECT(\"'adjustment \" & $B$7 & \"'!C8\"),$C17-$C$17,MATCH(T$16,Ages_group)),1),\"\")","v":3.9579037735850949E-3},{"$f":"IF($C18<>\"\",U17*EXP(U$9*$H$13)*\nIF($D$12=\"yes\",OFFSET(INDIRECT(\"'adjustment \" & $B$7 & \"'!C8\"),$C18-$C$17,MATCH(U$16,Ages_group))/OFFSET(INDIRECT(\"'adjustment \" & $B$7 & \"'!C8\"),$C17-$C$17,MATCH(U$16,Ages_group)),1),\"\")","v":4.6969421208141555E-3},{"$f":"IF($C18<>\"\",V17*EXP(V$9*$H$13)*\nIF($D$12=\"yes\",OFFSET(INDIRECT(\"'adjustment \" & $B$7 & \"'!C8\"),$C18-$C$17,MATCH(V$16,Ages_group))/OFFSET(INDIRECT(\"'adjustment \" & $B$7 & \"'!C8\"),$C17-$C$17,MATCH(V$16,Ages_group)),1),\"\")","v":5.0366043691289601E-3},{"$f":"IF($C18<>\"\",W17*EXP(W$9*$H$13)*\nIF($D$12=\"yes\",OFFSET(INDIRECT(\"'adjustment \" & $B$7 & \"'!C8\"),$C18-$C$17,MATCH(W$16,Ages_group))/OFFSET(INDIRECT(\"'adjustment \" & $B$7 & \"'!C8\"),$C17-$C$17,MATCH(W$16,Ages_group)),1),\"\")","v":4.8284584410895771E-3},{"$f":"IF($C18<>\"\",X17*EXP(X$9*$H$13)*\nIF($D$12=\"yes\",OFFSET(INDIRECT(\"'adjustment \" & $B$7 & \"'!C8\"),$C18-$C$17,MATCH(X$16,Ages_group))/OFFSET(INDIRECT(\"'adjustment \" & $B$7 & \"'!C8\"),$C17-$C$17,MATCH(X$16,Ages_group)),1),\"\")","v":4.4924995462653043E-3}]
[null,null,{"$f":"IF(C18<Year_max,C18+1,\"\")","v":2018},0,0,9.6576898782669818E-8,1.9338625454302502E-7,3.6926323521979446E-7,1.8546628336560115E-6,3.1061059659376114E-6,7.384136734590065E-6,1.992773281263848E-5,5.0347337607229944E-5,1.5609310229855409E-4,4.1826504144227395E-4,8.6160709478792623E-4,1.3524629804935798E-3,2.075648707707625E-3,3.0252660852000059E-3,3.884073321145405E-3,4.6301920506348826E-3,4.9745891717624903E-3,4.7813298588967289E-3,4.4561343653868463E-3]
[null,null,2019,0,0,9.5436497257612906E-8,1.9005257943871362E-7,3.5564765015748776E-7,1.8491869026791997E-6,3.0781176724374201E-6,7.2804415811419608E-6,1.91835112335752E-5,4.7716981566958249E-5,1.5075461206431466E-4,4.0967507500477797E-4,8.4298354248912312E-4,1.3144323261349684E-3,2.0209958359507672E-3,2.9556921333947403E-3,3.8116200966574979E-3,4.5643905916486656E-3,4.9133375612141501E-3,4.7346612792671426E-3,4.4200635476723026E-3]
[null,null,2020,0,0,9.4309561847690613E-8,1.8677637165402826E-7,3.4253410304238848E-7,1.8437271395036283E-6,3.0503815739948483E-6,7.1782026148197336E-6,1.8467083371135429E-5,4.5224046356216188E-5,1.4559870182599691E-4,4.012615218844047E-4,8.2476253643480244E-4,1.2774710767743528E-3,1.9677820017247692E-3,2.8877182176304307E-3,3.7405184094101772E-3,4.4995242627731144E-3,4.852840135517106E-3,4.6884482123063995E-3,4.3842847103568918E-3]
[null,null,2021,0,0,9.319593354201701E-8,1.8355664054269366E-7,3.2990408258032286E-7,1.8382834963935248E-6,3.0228953981474082E-6,7.0773993864425394E-6,1.7777411240523398E-5,4.286135253461641E-5,1.4061912722359486E-4,3.9302075905670063E-4,8.0693537562762769E-4,1.2415491612212941E-3,1.9159693144495268E-3,2.8213075408693071E-3,3.6707430479249251E-3,4.4355797745107414E-3,4.7930876084699859E-3,4.6426862119440778E-3,4.3487954899634638E-3]
[null,null,2022,0,0,9.2095455207342113E-8,1.8039241253561949E-7,3.1773976003112302E-7,1.8328559257540573E-6,2.9956568929091656E-6,6.978011733996608E-6,1.711349562154798E-5,4.0622095745843272E-5,1.3580985745846068E-4,3.8494923790376157E-4,7.8949354714146099E-4,1.2066373538737842E-3,1.8655208812229183E-3,2.7564241523182812E-3,3.6022692710163322E-3,4.3725440262262737E-3,4.7340708082114708E-3,4.5973708755060079E-3,4.3135935421463713E-3]
[null,null,2023,0,0,9.1007971565880336E-8,1.7728273084651643E-7,3.0602396404129044E-7,1.8274443801309182E-6,2.9686638265862323E-6,6.8800197786025671E-6,1.6474374610918842E-5,3.8499827121688061E-5,1.3116506798936089E-4,3.7704348268613518E-4,7.7242872205622246E-4,1.1727072509406776E-3,1.8164007805514431E-3,2.6930329279673216E-3,3.5350727990192824E-3,4.310404103462658E-3,4.6757806758124373E-3,4.5524978432906994E-3,4.2786765415366093E-3]
[null,null,2024,0,0,8.9933329173400764E-8,1.7422665518258717E-7,2.94740156404637E-7,1.8220488122099106E-6,2.9419139875939185E-6,6.783403920539399E-6,1.5859122228608591E-5,3.6488434709859594E-5,1.2667913347833259E-4,3.6930008904610635E-4,7.5573275148061749E-4,1.1397312473327371E-3,1.7685740367725446E-3,2.6310995515754052E-3,3.4691298051797875E-3,4.2491472752952111E-3,4.6182082638854347E-3,4.5080627981498997E-3,4.2440421815882054E-3]
[null,null,2025,0,0,8.8871376397576119E-8,1.712232614602044E-7,2.8387240871668687E-7,1.8166691748165331E-6,2.9154051842755354E-6,6.6881448353242261E-6,1.5266847076261747E-5,3.458212587208391E-5,1.2234662097779619E-4,3.6171572254172055E-4,7.393976626608326E-4,1.1076825142034934E-3,1.7220065951504082E-3,2.5705904960937414E-3,3.4044169072064154E-3,4.1887609917233672E-3,4.5613447352112844E-3,4.4640614650732525E-3,4.2096881744258536E-3]
[null,null,2026,0,0,8.7821963396587432E-8,1.6827164152549033E-7,2.7340537988988437E-7,1.8113054209155682E-6,2.8891352447228286E-6,6.5942234698471564E-6,1.4696691045706819E-5,3.277541060180099E-5,1.1816228335067345E-4,3.5428711721091426E-4,7.2341565517334075E-4,1.0765349771216452E-3,1.6766652976274966E-3,2.5114730055162222E-3,3.3409111589793165E-3,4.1292328810994981E-3,4.5051813613825875E-3,4.4204896107770068E-3,4.1756122506937821E-3]
[null,null,"","","","","","","","","","","","","","","","","","","","","",""]
[null,null,"","","","","","","","","","","","","","","","","","","","","",""]
[null,null,"","","","","","","","","","","","","","","","","","","","","",""]
[null,null,"","","","","","","","","","","","","","","","","","","","","",""]
[null,null,"","","","","","","","","","","","","","","","","","","","","",""]
[null,null,"","","","","","","","","","","","","","","","","","","","","",""]
[null,null,"","","","","","","","","","","","","","","","","","","","","",""]
[null,null,"","","","","","","","","","","","","","","","","","","","","",""]
[null,null,"","","","","","","","","","","","","","","","","","","","","",""]
[null,null,"","","","","","","","","","","","","","","","","","","","","",""]
[null,null,"","","","","","","","","","","","","","","","","","","","","",""]
[null,null,"","","","","","","","","","","","","","","","","","","","","",""]
[null,null,"","","","","","","","","","","","","","","","","","","","","",""]
[null,null,"","","","","","","","","","","","","","","","","","","","","",""]
[null,null,"","","","","","","","","","","","","","","","","","","","","",""]
[null,null,"","","","","","","","","","","","","","","","","","","","","",""]
[null,null,"","","","","","","","","","","","","","","","","","","","","",""]
[null,null,"","","","","","","","","","","","","","","","","","","","","",""]
[null,null,"","","","","","","","","","","","","","","","","","","","","",""]
[null,null,"","","","","","","","","","","","","","","","","","","","","",""]
[]
[null,"Parameters Female",null,{"$f":"TRANSPOSE(Ages_group)","v":0},"1 - 4","5 - 9","10 - 14","15 - 19","20 - 24","25 - 29","30 - 34","35 - 39","40 - 44","45 - 49","50 - 54","55 - 59","60 - 64","65 - 69","70 - 74","75 - 79","80 - 84","85 - 89","90 - 94","95+"]
[null,null,"b_x",{"$f":"INDEX(beta_F,MATCH($B$7,Causes,0),MATCH(D49,Ages_group,0))","v":-0.13844890156537501},0.367953618854655,-5.7708859522308899E-2,6.3707500992443003E-2,0.12186462535331199,4.8888542758960103E-2,-2.8739798912604999E-2,7.5438705596841293E-2,0.15487414129206001,0.13523198154198901,6.16368329717559E-2,1.6421782107491099E-2,4.6281233700054401E-2,8.3100943316986794E-2,5.8992593891296498E-2,3.5534503106871299E-2,1.6590253584708E-2,-2.53762789156835E-5,-1.12109923696787E-2,-1.7587145020346001E-2,-3.2796185400196E-2]
[null,null,"delta type",{"$f":"INDEX(drifts_type,MATCH($B$7,Causes,0),MATCH(C57,genders,0))","v":"historical2"}]
[null,null,"delta",{"$f":"INDEX(drifts,MATCH($B$7,Causes,0),MATCH(C57,genders,0))","v":-0.291519369255683},null,"k1",null,{"$f":"INDEX(k_1,MATCH($B$7,Causes,0),MATCH(C57,genders,0))","v":1}]
[null,null,"Adjustment factors",{"$f":"INDEX(adjustment_use,MATCH($B$7,Causes,0),MATCH(C57,genders,0))","v":"no"},null,"k2",null,{"$f":"INDEX(k_2,MATCH($B$7,Causes,0),MATCH(C57,genders,0))","v":0}]
[null,null,null,null,null,"delta basis",null,{"$f":"D52*H52","v":-0.291519369255683}]
[]
[null,"Death rate",null,"age"]
[null,"sex","F",{"$f":"TRANSPOSE(Ages_group)","v":0},"1 - 4","5 - 9","10 - 14","15 - 19","20 - 24","25 - 29","30 - 34","35 - 39","40 - 44","45 - 49","50 - 54","55 - 59","60 - 64","65 - 69","70 - 74","75 - 79","80 - 84","85 - 89","90 - 94","95+"]
[null,"time",{"$f":"Year_0","v":2016},{"$f":"(OFFSET(q0_F,MATCH($B$7,Causes,0),MATCH(D$16,Ages_group,0))^$H$52)*EXP($H$53)","v":0},0,2.0631490567184769E-7,2.0436912948276528E-7,3.0325646836070499E-7,1.0056354783415045E-6,2.9564584323268979E-6,4.9689643836238256E-6,1.4785030098315247E-5,4.667911782432654E-5,1.2910948395324209E-4,3.1646097228310181E-4,5.6834078249541652E-4,8.3284219457331469E-4,1.3593058490779931E-3,2.0574531486652454E-3,2.574200139707594E-3,2.8886809612483624E-3,2.8413190210792162E-3,2.5019816839040574E-3,2.2207424344301732E-3]
[null,null,{"$f":"IF(C58<Year_max,C58+1,\"\")","v":2017},{"$f":"IF($C59<>\"\",D58*EXP(D$50*$H$54)*\nIF($D$53=\"yes\",OFFSET(INDIRECT(\"'adjustment \" & $B$7 & \"'!C42\"),$C59-$C$58,MATCH(D$16,Ages_group))/OFFSET(INDIRECT(\"'adjustment \" & $B$7 & \"'!C42\"),$C58-$C$58,MATCH(D$16,Ages_group)),1),\"\")","v":0},{"$f":"IF($C59<>\"\",E58*EXP(E$50*$H$54)*\nIF($D$53=\"yes\",OFFSET(INDIRECT(\"'adjustment \" & $B$7 & \"'!C42\"),$C59-$C$58,MATCH(E$16,Ages_group))/OFFSET(INDIRECT(\"'adjustment \" & $B$7 & \"'!C42\"),$C58-$C$58,MATCH(E$16,Ages_group)),1),\"\")","v":0},{"$f":"IF($C59<>\"\",F58*EXP(F$50*$H$54)*\nIF($D$53=\"yes\",OFFSET(INDIRECT(\"'adjustment \" & $B$7 & \"'!C42\"),$C59-$C$58,MATCH(F$16,Ages_group))/OFFSET(INDIRECT(\"'adjustment \" & $B$7 & \"'!C42\"),$C58-$C$58,MATCH(F$16,Ages_group)),1),\"\")","v":2.0981515319311867E-7},{"$f":"IF($C59<>\"\",G58*EXP(G$50*$H$54)*\nIF($D$53=\"yes\",OFFSET(INDIRECT(\"'adjustment \" & $B$7 & \"'!C42\"),$C59-$C$58,MATCH(G$16,Ages_group))/OFFSET(INDIRECT(\"'adjustment \" & $B$7 & \"'!C42\"),$C58-$C$58,MATCH(G$16,Ages_group)),1),\"\")","v":2.0060862016010605E-7},{"$f":"IF($C59<>\"\",H58*EXP(H$50*$H$54)*\nIF($D$53=\"yes\",OFFSET(INDIRECT(\"'adjustment \" & $B$7 & \"'!C42\"),$C59-$C$58,MATCH(H$16,Ages_group))/OFFSET(INDIRECT(\"'adjustment \" & $B$7 & \"'!C42\"),$C58-$C$58,MATCH(H$16,Ages_group)),1),\"\")","v":2.9267213198617324E-7},{"$f":"IF($C59<>\"\",I58*EXP(I$50*$H$54)*\nIF($D$53=\"yes\",OFFSET(INDIRECT(\"'adjustment \" & $B$7 & \"'!C42\"),$C59-$C$58,MATCH(I$16,Ages_group))/OFFSET(INDIRECT(\"'adjustment \" & $B$7 & \"'!C42\"),$C58-$C$58,MATCH(I$16,Ages_group)),1),\"\")","v":9.9140485260505148E-7},{"$f":"IF($C59<>\"\",J58*EXP(J$50*$H$54)*\nIF($D$53=\"yes\",OFFSET(INDIRECT(\"'adjustment \" & $B$7 & \"'!C42\"),$C59-$C$58,MATCH(J$16,Ages_group))/OFFSET(INDIRECT(\"'adjustment \" & $B$7 & \"'!C42\"),$C58-$C$58,MATCH(J$16,Ages_group)),1),\"\")","v":2.9813323099291116E-6},{"$f":"IF($C59<>\"\",K58*EXP(K$50*$H$54)*\nIF($D$53=\"yes\",OFFSET(INDIRECT(\"'adjustment \" & $B$7 & \"'!C42\"),$C59-$C$58,MATCH(K$16,Ages_group))/OFFSET(INDIRECT(\"'adjustment \" & $B$7 & \"'!C42\"),$C58-$C$58,MATCH(K$16,Ages_group)),1),\"\")","v":4.8608805323942638E-6},{"$f":"IF($C59<>\"\",L58*EXP(L$50*$H$54)*\nIF($D$53=\"yes\",OFFSET(INDIRECT(\"'adjustment \" & $B$7 & \"'!C42\"),$C59-$C$58,MATCH(L$16,Ages_group))/OFFSET(INDIRECT(\"'adjustment \" & $B$7 & \"'!C42\"),$C58-$C$58,MATCH(L$16,Ages_group)),1),\"\")","v":1.4132348323542518E-5},{"$f":"IF($C59<>\"\",M58*EXP(M$50*$H$54)*\nIF($D$53=\"yes\",OFFSET(INDIRECT(\"'adjustment \" & $B$7 & \"'!C42\"),$C59-$C$58,MATCH(M$16,Ages_group))/OFFSET(INDIRECT(\"'adjustment \" & $B$7 & \"'!C42\"),$C58-$C$58,MATCH(M$16,Ages_group)),1),\"\")","v":4.4874700240673596E-5},{"$f":"IF($C59<>\"\",N58*EXP(N$50*$H$54)*\nIF($D$53=\"yes\",OFFSET(INDIRECT(\"'adjustment \" & $B$7 & \"'!C42\"),$C59-$C$58,MATCH(N$16,Ages_group))/OFFSET(INDIRECT(\"'adjustment \" & $B$7 & \"'!C42\"),$C58-$C$58,MATCH(N$16,Ages_group)),1),\"\")","v":1.2681031998093624E-4},{"$f":"IF($C59<>\"\",O58*EXP(O$50*$H$54)*\nIF($D$53=\"yes\",OFFSET(INDIRECT(\"'adjustment \" & $B$7 & \"'!C42\"),$C59-$C$58,MATCH(O$16,Ages_group))/OFFSET(INDIRECT(\"'adjustment \" & $B$7 & \"'!C42\"),$C58-$C$58,MATCH(O$16,Ages_group)),1),\"\")","v":3.1494960947136522E-4},{"$f":"IF($C59<>\"\",P58*EXP(P$50*$H$54)*\nIF($D$53=\"yes\",OFFSET(INDIRECT(\"'adjustment \" & $B$7 & \"'!C42\"),$C59-$C$58,MATCH(P$16,Ages_group))/OFFSET(INDIRECT(\"'adjustment \" & $B$7 & \"'!C42\"),$C58-$C$58,MATCH(P$16,Ages_group)),1),\"\")","v":5.6072429498865749E-4},{"$f":"IF($C59<>\"\",Q58*EXP(Q$50*$H$54)*\nIF($D$53=\"yes\",OFFSET(INDIRECT(\"'adjustment \" & $B$7 & \"'!C42\"),$C59-$C$58,MATCH(Q$16,Ages_group))/OFFSET(INDIRECT(\"'adjustment \" & $B$7 & \"'!C42\"),$C58-$C$58,MATCH(Q$16,Ages_group)),1),\"\")","v":8.1290857337521253E-4},{"$f":"IF($C59<>\"\",R58*EXP(R$50*$H$54)*\nIF($D$53=\"yes\",OFFSET(INDIRECT(\"'adjustment \" & $B$7 & \"'!C42\"),$C59-$C$58,MATCH(R$16,Ages_group))/OFFSET(INDIRECT(\"'adjustment \" & $B$7 & \"'!C42\"),$C58-$C$58,MATCH(R$16,Ages_group)),1),\"\")","v":1.3361290711567807E-3},{"$f":"IF($C59<>\"\",S58*EXP(S$50*$H$54)*\nIF($D$53=\"yes\",OFFSET(INDIRECT(\"'adjustment \" & $B$7 & \"'!C42\"),$C59-$C$58,MATCH(S$16,Ages_group))/OFFSET(INDIRECT(\"'adjustment \" & $B$7 & \"'!C42\"),$C58-$C$58,MATCH(S$16,Ages_group)),1),\"\")","v":2.036250011081439E-3},{"$f":"IF($C59<>\"\",T58*EXP(T$50*$H$54)*\nIF($D$53=\"yes\",OFFSET(INDIRECT(\"'adjustment \" & $B$7 & \"'!C42\"),$C59-$C$58,MATCH(T$16,Ages_group))/OFFSET(INDIRECT(\"'adjustment \" & $B$7 & \"'!C42\"),$C58-$C$58,MATCH(T$16,Ages_group)),1),\"\")","v":2.5617803864979357E-3},{"$f":"IF($C59<>\"\",U58*EXP(U$50*$H$54)*\nIF($D$53=\"yes\",OFFSET(INDIRECT(\"'adjustment \" & $B$7 & \"'!C42\"),$C59-$C$58,MATCH(U$16,Ages_group))/OFFSET(INDIRECT(\"'adjustment \" & $B$7 & \"'!C42\"),$C58-$C$58,MATCH(U$16,Ages_group)),1),\"\")","v":2.8887023308556024E-3},{"$f":"IF($C59<>\"\",V58*EXP(V$50*$H$54)*\nIF($D$53=\"yes\",OFFSET(INDIRECT(\"'adjustment \" & $B$7 & \"'!C42\"),$C59-$C$58,MATCH(V$16,Ages_group))/OFFSET(INDIRECT(\"'adjustment \" & $B$7 & \"'!C42\"),$C58-$C$58,MATCH(V$16,Ages_group)),1),\"\")","v":2.8506202717715852E-3},{"$f":"IF($C59<>\"\",W58*EXP(W$50*$H$54)*\nIF($D$53=\"yes\",OFFSET(INDIRECT(\"'adjustment \" & $B$7 & \"'!C42\"),$C59-$C$58,MATCH(W$16,Ages_group))/OFFSET(INDIRECT(\"'adjustment \" & $B$7 & \"'!C42\"),$C58-$C$58,MATCH(W$16,Ages_group)),1),\"\")","v":2.5148422674351797E-3},{"$f":"IF($C59<>\"\",X58*EXP(X$50*$H$54)*\nIF($D$53=\"yes\",OFFSET(INDIRECT(\"'adjustment \" & $B$7 & \"'!C42\"),$C59-$C$58,MATCH(X$16,Ages_group))/OFFSET(INDIRECT(\"'adjustment \" & $B$7 & \"'!C42\"),$C58-$C$58,MATCH(X$16,Ages_group)),1),\"\")","v":2.2420761587385531E-3}]
[null,null,2018,0,0,2.1337478436711348E-7,1.9691730636811037E-7,2.8245721288110591E-7,9.7737560272815438E-7,3.0064154614991931E-6,4.7551476979953147E-6,1.3508479036555596E-5,4.3140033821308916E-5,1.2455209920513068E-4,3.1344546466674094E-4,5.5320987807708948E-4,7.9345205246892855E-4,1.3133474677543666E-3,2.0152653829901522E-3,2.5494205549188489E-3,2.8887237006209286E-3,2.8599519707394913E-3,2.5277689564097688E-3,2.2636148270268421E-3]
[null,null,2019,0,0,2.1699480667064321E-7,1.9329391486928486E-7,2.7259881754758784E-7,9.635448790654384E-7,3.031709647743468E-6,4.6517147416113739E-6,1.2912150316665878E-5,4.1472422280758652E-5,1.2233409251500085E-4,3.1194850339727665E-4,5.4579616388524574E-4,7.7446121272061895E-4,1.2909543009669386E-3,1.9944970125360582E-3,2.5371203558662144E-3,2.8887450705443419E-3,2.8693142176574311E-3,2.5407620906203118E-3,2.2853604081043448E-3]
[null,null,2020,0,0,2.2067624467292535E-7,1.8973719585443707E-7,2.6308450249993184E-7,9.4990987229651481E-7,3.057216644181794E-6,4.5505316367874237E-6,1.2342146391832878E-5,3.9869273560559785E-5,1.201555837836277E-4,3.1045869135565225E-4,5.3848180286892623E-4,7.5592490830714623E-4,1.2689429477749845E-3,1.9739426710703835E-3,2.5248795016307554E-3,2.8887664406258436E-3,2.8787071125261931E-3,2.5538220116058824E-3,2.3073148896938745E-3]
[null,null,2021,0,0,2.2442014032556601E-7,1.8624592251158124E-7,2.5390225855823447E-7,9.3646781285534718E-7,3.0829382412721939E-6,4.4515494452332044E-6,1.1797305159994993E-5,3.8328095800284029E-5,1.1801586963678205E-4,3.089759943983934E-4,5.3126546356953535E-4,7.3783226017453741E-4,1.2473068980844617E-3,1.9536001529117542E-3,2.5126977058913063E-3,2.888787810865435E-3,2.8881307556739245E-3,2.5669490626611191E-3,2.3294802786134497E-3]
[null,null,2022,0,0,2.2822755325746177E-7,1.8281889060277659E-7,2.4504049569012245E-7,9.2321597036769226E-7,3.1088762445365363E-6,4.3547202931536855E-6,1.1276515819820542E-5,3.6846493464304906E-5,1.1591425922582649E-4,3.0750037854508899E-4,5.2414583237171165E-4,7.2017264965301014E-4,1.2260397528013685E-3,1.9334672751095037E-3,2.5005746837081168E-3,2.8888091812631169E-3,2.8975852477572039E-3,2.5801435888452504E-3,2.3518586009597326E-3]
[null,null,2023,0,0,2.3209956107470488E-7,1.7945491804875181E-7,2.3648802838155599E-7,9.1015165309650166E-7,3.135032474687274E-6,4.2599973480943942E-6,1.0778716606048777E-5,3.5422163618287634E-5,1.1385007400466134E-4,3.0603180997761261E-4,5.1712161326420607E-4,7.0293571222482015E-4,1.2051352219391422E-3,1.9135418772094205E-3,2.4885101515161861E-3,2.8888305518188907E-3,2.9070706897621158E-3,2.5934059369911635E-3,2.3744519022932307E-3]
[null,null,2024,0,0,2.3603725966557636E-7,1.7615284452117293E-7,2.2823406151822449E-7,8.9727220739517173E-7,3.1614087677552477E-6,4.1673347962903963E-6,1.030289262480373E-5,3.405289234961425E-5,1.1182264751064275E-4,3.0457025503934733E-4,5.1019152760396465E-4,6.8611133144127155E-4,1.1845871227583286E-3,1.8938218210219112E-3,2.4765038271186311E-3,2.8888519225327577E-3,2.9165871830053296E-3,2.6067364557145222E-3,2.3972622478252779E-3]
[null,null,2025,0,0,2.4004176351071355E-7,1.7291153104241353E-7,2.2026817675971333E-7,8.845750171685302E-7,3.1880069752185665E-6,4.0766878205079823E-6,9.8480737844676524E-6,3.273655132617994E-5,1.0983132514940214E-4,3.0311568023441433E-4,5.0335431388337222E-4,6.6968963298532009E-4,1.1643893779379702E-3,1.8743049903925516E-3,2.4645554296800847E-3,2.8888732934047186E-3,2.9261348291351819E-3,2.6201354954229297E-3,2.4202917226068114E-3]
[null,null,2026,0,0,2.4411420599853976E-7,1.6972985959268946E-7,2.1258031938924309E-7,8.7205750334145029E-7,3.2148289641325718E-6,3.98801257836833E-6,9.4133328178955553E-6,3.147109448821176E-5,1.0787546398349765E-4,3.0166805222690536E-4,4.9660872750061623E-4,6.5366097887628496E-4,1.1445360137781735E-3,1.8549892909750024E-3,2.4526646797201272E-3,2.8888946644347749E-3,2.9357137301327619E-3,2.6336034083251397E-3,2.443542431718963E-3]
[null,null,"","","","","","","","","","","","","","","","","","","","","",""]
[null,null,"","","","","","","","","","","","","","","","","","","","","",""]
[null,null,"","","","","","","","","","","","","","","","","","","","","",""]
[null,null,"","","","","","","","","","","","","","","","","","","","","",""]
[null,null,"","","","","","","","","","","","","","","","","","","","","",""]
[null,null,"","","","","","","","","","","","","","","","","","","","","",""]
[null,null,"","","","","","","","","","","","","","","","","","","","","",""]
[null,null,"","","","","","","","","","","","","","","","","","","","","",""]
[null,null,"","","","","","","","","","","","","","","","","","","","","",""]
[null,null,"","","","","","","","","","","","","","","","","","","","","",""]
[null,null,"","","","","","","","","","","","","","","","","","","","","",""]
[null,null,"","","","","","","","","","","","","","","","","","","","","",""]
[null,null,"","","","","","","","","","","","","","","","","","","","","",""]
[null,null,"","","","","","","","","","","","","","","","","","","","","",""]
[null,null,"","","","","","","","","","","","","","","","","","","","","",""]
[null,null,"","","","","","","","","","","","","","","","","","","","","",""]
[null,null,"","","","","","","","","","","","","","","","","","","","","",""]
[null,null,"","","","","","","","","","","","","","","","","","","","","",""]
[null,null,"","","","","","","","","","","","","","","","","","","","","",""]
[null,null,"","","","","","","","","","","","","","","","","","","","","",""]
[null,null,""]
[null,null,""]
[null,null,""]
[null,null,""]
[null,null,""]
[null,null,""]
[null,null,""]
[null,null,""]
[null,null,""]
[null,null,""]
[null,null,""]
[null,null,""]
[null,null,""]
[null,null,""]
[null,null,""]
[null,null,""]
[null,null,""]

{"sheet":"Forecasts Neoplasm","index":11,"n_rows":105,"n_cols":24,"rows_kept":105,"cut":false,"hidden":false,"merged":[[52,2,53,2],[52,3,53,3],[0,2,3,9],[0,10,3,16],[5,1,5,23],[11,2,12,2],[11,3,12,3]]}
[null,null,"Society of Actuaries - Cause of deaths forecasting tool",null,null,null,null,null,null,null,"Forecast Neoplasm"]
[]
[]
[]
[]
[null,"central scenario - diffusion LC"]
[null,"Neoplasm"]
[null,"Parameters Male",null,{"$f":"TRANSPOSE(Ages_group)","v":0},"1 - 4","5 - 9","10 - 14","15 - 19","20 - 24","25 - 29","30 - 34","35 - 39","40 - 44","45 - 49","50 - 54","55 - 59","60 - 64","65 - 69","70 - 74","75 - 79","80 - 84","85 - 89","90 - 94","95+"]
[null,null,"b_x",{"$f":"INDEX(beta_M,MATCH($B$7,Causes,0),MATCH(D8,Ages_group,0))","v":3.6258041213466402E-2},6.1338670544853403E-2,4.2190546511801201E-2,5.5805621710997802E-2,5.8967106228776899E-2,6.7538030038822097E-2,1.46248646721223E-2,2.7202398721281301E-2,4.4380416216445E-2,6.2345346374935197E-2,6.1434231644963498E-2,3.4552729458500402E-2,2.08370098086289E-2,3.0470367173157101E-2,5.1082545102579299E-2,5.5692289397640198E-2,5.4316812951220102E-2,5.94497295545885E-2,6.5782833823513298E-2,5.1032820569323803E-2,4.4697588282383301E-2]
[null,null,"delta type",{"$f":"INDEX(drifts_type,MATCH($B$7,Causes,0),MATCH(C16,genders,0))","v":"historical2"}]
[null,null,"delta",{"$f":"INDEX(drifts,MATCH($B$7,Causes,0),MATCH(C16,genders,0))","v":-0.12882735571778001},null,"k1",null,{"$f":"INDEX(k_1,MATCH($B$7,Causes,0),MATCH(C16,genders,0))","v":1}]
[null,null,"Adjustment factors",{"$f":"INDEX(adjustment_use,MATCH($B$7,Causes,0),MATCH(C16,genders,0))","v":"no"},null,"k2",null,{"$f":"INDEX(k_2,MATCH($B$7,Causes,0),MATCH(C16,genders,0))","v":0}]
[null,null,null,null,null,"delta basis",null,{"$f":"D11*H11","v":-0.12882735571778001}]
[]
[null,"Death rate",null,"age"]
[null,"sex","M",{"$f":"TRANSPOSE(Ages_group)","v":0},"1 - 4","5 - 9","10 - 14","15 - 19","20 - 24","25 - 29","30 - 34","35 - 39","40 - 44","45 - 49","50 - 54","55 - 59","60 - 64","65 - 69","70 - 74","75 - 79","80 - 84","85 - 89","90 - 94","95+"]
[null,"time",{"$f":"Year_0","v":2016},{"$f":"(OFFSET(q0_M,MATCH($B$7,Causes,0),MATCH(D$16,Ages_group,0))^$H$11)*EXP($H$12)","v":2.9577443590517056E-5},2.6996485240960338E-5,2.6043742213024593E-5,2.3836592389307377E-5,3.7012508126684199E-5,4.4961378757629554E-5,7.444857443992155E-5,1.0985538013460872E-4,1.6775897039715602E-4,2.7751206642987689E-4,5.2402316885978432E-4,1.0136092182696131E-3,1.8110818280555046E-3,2.923094883417503E-3,4.1597271129821933E-3,6.0629404143043419E-3,8.6838718685450754E-3,1.2484210246371492E-2,1.7099741007805026E-2,2.3598263208749574E-2,2.9691665834101252E-2]
[null,null,{"$f":"IF(C17<Year_max,C17+1,\"\")","v":2017},{"$f":"IF($C18<>\"\",D17*EXP(D$9*$H$13)*\nIF($D$12=\"yes\",OFFSET(INDIRECT(\"'adjustment \" & $B$7 & \"'!C8\"),$C18-$C$17,MATCH(D$16,Ages_group))/OFFSET(INDIRECT(\"'adjustment \" & $B$7 & \"'!C8\"),$C17-$C$17,MATCH(D$16,Ages_group)),1),\"\")","v":2.9439608701860957E-5},{"$f":"IF($C18<>\"\",E17*EXP(E$9*$H$13)*\nIF($D$12=\"yes\",OFFSET(INDIRECT(\"'adjustment \" & $B$7 & \"'!C8\"),$C18-$C$17,MATCH(E$16,Ages_group))/OFFSET(INDIRECT(\"'adjustment \" & $B$7 & \"'!C8\"),$C17-$C$17,MATCH(E$16,Ages_group)),1),\"\")","v":2.6783997006441779E-5},{"$f":"IF($C18<>\"\",F17*EXP(F$9*$H$13)*\nIF($D$12=\"yes\",OFFSET(INDIRECT(\"'adjustment \" & $B$7 & \"'!C8\"),$C18-$C$17,MATCH(F$16,Ages_group))/OFFSET(INDIRECT(\"'adjustment \" & $B$7 & \"'!C8\"),$C17-$C$17,MATCH(F$16,Ages_group)),1),\"\")","v":2.5902570752917137E-5},{"$f":"IF($C18<>\"\",G17*EXP(G$9*$H$13)*\nIF($D$12=\"yes\",OFFSET(INDIRECT(\"'adjustment \" & $B$7 & \"'!C8\"),$C18-$C$17,MATCH(G$16,Ages_group))/OFFSET(INDIRECT(\"'adjustment \" & $B$7 & \"'!C8\"),$C17-$C$17,MATCH(G$16,Ages_group)),1),\"\")","v":2.3665838732119135E-5},{"$f":"IF($C18<>\"\",H17*EXP(H$9*$H$13)*\nIF($D$12=\"yes\",OFFSET(INDIRECT(\"'adjustment \" & $B$7 & \"'!C8\"),$C18-$C$17,MATCH(H$16,Ages_group))/OFFSET(INDIRECT(\"'adjustment \" & $B$7 & \"'!C8\"),$C17-$C$17,MATCH(H$16,Ages_group)),1),\"\")","v":3.6732405041316141E-5},{"$f":"IF($C18<>\"\",I17*EXP(I$9*$H$13)*\nIF($D$12=\"yes\",OFFSET(INDIRECT(\"'adjustment \" & $B$7 & \"'!C8\"),$C18-$C$17,MATCH(I$16,Ages_group))/OFFSET(INDIRECT(\"'adjustment \" & $B$7 & \"'!C8\"),$C17-$C$17,MATCH(I$16,Ages_group)),1),\"\")","v":4.4571878159373958E-5},{"$f":"IF($C18<>\"\",J17*EXP(J$9*$H$13)*\nIF($D$12=\"yes\",OFFSET(INDIRECT(\"'adjustment \" & $B$7 & \"'!C8\"),$C18-$C$17,MATCH(J$16,Ages_group))/OFFSET(INDIRECT(\"'adjustment \" & $B$7 & \"'!C8\"),$C17-$C$17,MATCH(J$16,Ages_group)),1),\"\")","v":7.4308439227605032E-5},{"$f":"IF($C18<>\"\",K17*EXP(K$9*$H$13)*\nIF($D$12=\"yes\",OFFSET(INDIRECT(\"'adjustment \" & $B$7 & \"'!C8\"),$C18-$C$17,MATCH(K$16,Ages_group))/OFFSET(INDIRECT(\"'adjustment \" & $B$7 & \"'!C8\"),$C17-$C$17,MATCH(K$16,Ages_group)),1),\"\")","v":1.0947107527654012E-4},{"$f":"IF($C18<>\"\",L17*EXP(L$9*$H$13)*\nIF($D$12=\"yes\",OFFSET(INDIRECT(\"'adjustment \" & $B$7 & \"'!C8\"),$C18-$C$17,MATCH(L$16,Ages_group))/OFFSET(INDIRECT(\"'adjustment \" & $B$7 & \"'!C8\"),$C17-$C$17,MATCH(L$16,Ages_group)),1),\"\")","v":1.6680256000388809E-4},{"$f":"IF($C18<>\"\",M17*EXP(M$9*$H$13)*\nIF($D$12=\"yes\",OFFSET(INDIRECT(\"'adjustment \" & $B$7 & \"'!C8\"),$C18-$C$17,MATCH(M$16,Ages_group))/OFFSET(INDIRECT(\"'adjustment \" & $B$7 & \"'!C8\"),$C17-$C$17,MATCH(M$16,Ages_group)),1),\"\")","v":2.7529207604621669E-4},{"$f":"IF($C18<>\"\",N17*EXP(N$9*$H$13)*\nIF($D$12=\"yes\",OFFSET(INDIRECT(\"'adjustment \" & $B$7 & \"'!C8\"),$C18-$C$17,MATCH(N$16,Ages_group))/OFFSET(INDIRECT(\"'adjustment \" & $B$7 & \"'!C8\"),$C17-$C$17,MATCH(N$16,Ages_group)),1),\"\")","v":5.1989220349342035E-4},{"$f":"IF($C18<>\"\",O17*EXP(O$9*$H$13)*\nIF($D$12=\"yes\",OFFSET(INDIRECT(\"'adjustment \" & $B$7 & \"'!C8\"),$C18-$C$17,MATCH(O$16,Ages_group))/OFFSET(INDIRECT(\"'adjustment \" & $B$7 & \"'!C8\"),$C17-$C$17,MATCH(O$16,Ages_group)),1),\"\")","v":1.0091073294321341E-3},{"$f":"IF($C18<>\"\",P17*EXP(P$9*$H$13)*\nIF($D$12=\"yes\",OFFSET(INDIRECT(\"'adjustment \" & $B$7 & \"'!C8\"),$C18-$C$17,MATCH(P$16,Ages_group))/OFFSET(INDIRECT(\"'adjustment \" & $B$7 & \"'!C8\"),$C17-$C$17,MATCH(P$16,Ages_group)),1),\"\")","v":1.8062267212617059E-3},{"$f":"IF($C18<>\"\",Q17*EXP(Q$9*$H$13)*\nIF($D$12=\"yes\",OFFSET(INDIRECT(\"'adjustment \" & $B$7 & \"'!C8\"),$C18-$C$17,MATCH(Q$16,Ages_group))/OFFSET(INDIRECT(\"'adjustment \" & $B$7 & \"'!C8\"),$C17-$C$17,MATCH(Q$16,Ages_group)),1),\"\")","v":2.9116430089599259E-3},{"$f":"IF($C18<>\"\",R17*EXP(R$9*$H$13)*\nIF($D$12=\"yes\",OFFSET(INDIRECT(\"'adjustment \" & $B$7 & \"'!C8\"),$C18-$C$17,MATCH(R$16,Ages_group))/OFFSET(INDIRECT(\"'adjustment \" & $B$7 & \"'!C8\"),$C17-$C$17,MATCH(R$16,Ages_group)),1),\"\")","v":4.1324425353371956E-3},{"$f":"IF($C18<>\"\",S17*EXP(S$9*$H$13)*\nIF($D$12=\"yes\",OFFSET(INDIRECT(\"'adjustment \" & $B$7 & \"'!C8\"),$C18-$C$17,MATCH(S$16,Ages_group))/OFFSET(INDIRECT(\"'adjustment \" & $B$7 & \"'!C8\"),$C17-$C$17,MATCH(S$16,Ages_group)),1),\"\")","v":6.0195963700383527E-3},{"$f":"IF($C18<>\"\",T17*EXP(T$9*$H$13)*\nIF($D$12=\"yes\",OFFSET(INDIRECT(\"'adjustment \" & $B$7 & \"'!C8\"),$C18-$C$17,MATCH(T$16,Ages_group))/OFFSET(INDIRECT(\"'adjustment \" & $B$7 & \"'!C8\"),$C17-$C$17,MATCH(T$16,Ages_group)),1),\"\")","v":8.6233186573377012E-3},{"$f":"IF($C18<>\"\",U17*EXP(U$9*$H$13)*\nIF($D$12=\"yes\",OFFSET(INDIRECT(\"'adjustment \" & $B$7 & \"'!C8\"),$C18-$C$17,MATCH(U$16,Ages_group))/OFFSET(INDIRECT(\"'adjustment \" & $B$7 & \"'!C8\"),$C17-$C$17,MATCH(U$16,Ages_group)),1),\"\")","v":1.238896198990019E-2},{"$f":"IF($C18<>\"\",V17*EXP(V$9*$H$13)*\nIF($D$12=\"yes\",OFFSET(INDIRECT(\"'adjustment \" & $B$7 & \"'!C8\"),$C18-$C$17,MATCH(V$16,Ages_group))/OFFSET(INDIRECT(\"'adjustment \" & $B$7 & \"'!C8\"),$C17-$C$17,MATCH(V$16,Ages_group)),1),\"\")","v":1.6955439369777271E-2},{"$f":"IF($C18<>\"\",W17*EXP(W$9*$H$13)*\nIF($D$12=\"yes\",OFFSET(INDIRECT(\"'adjustment \" & $B$7 & \"'!C8\"),$C18-$C$17,MATCH(W$16,Ages_group))/OFFSET(INDIRECT(\"'adjustment \" & $B$7 & \"'!C8\"),$C17-$C$17,MATCH(W$16,Ages_group)),1),\"\")","v":2.3443627115148698E-2},{"$f":"IF($C18<>\"\",X17*EXP(X$9*$H$13)*\nIF($D$12=\"yes\",OFFSET(INDIRECT(\"'adjustment \" & $B$7 & \"'!C8\"),$C18-$C$17,MATCH(X$16,Ages_group))/OFFSET(INDIRECT(\"'adjustment \" & $B$7 & \"'!C8\"),$C17-$C$17,MATCH(X$16,Ages_group)),1),\"\")","v":2.9521184453120644E-2}]
[null,null,{"$f":"IF(C18<Year_max,C18+1,\"\")","v":2018},2.9302416142433638E-5,2.657318125815266E-5,2.5762164520056437E-5,2.3496308270384629E-5,3.6454421718763514E-5,4.4185751806309093E-5,7.4168567793042196E-5,1.0908811482439643E-4,1.658516022003576E-4,2.7308984473648417E-4,5.1579380324225012E-4,1.004625435482961E-3,1.8013846299272942E-3,2.9002359997680424E-3,4.1053369233207231E-3,5.9765621929399344E-3,8.5631876876653273E-3,1.2294440429806295E-2,1.6812355467312176E-2,2.3290004330079581E-2,2.9351681929352814E-2]
[null,null,2019,2.9165862918893993E-5,2.6364024832022069E-5,2.5622519366488374E-5,2.3327992241731547E-5,3.6178542117095225E-5,4.3802970467335804E-5,7.4028959639721844E-5,1.0870649407506954E-4,1.6490606590081406E-4,2.7090523043488065E-4,5.1172771138983247E-4,1.0001634476159119E-3,1.7965555191607231E-3,2.8888736800721936E-3,4.0784091030573125E-3,5.9338356677644515E-3,8.5034760152098866E-3,1.2200640021761286E-2,1.6670479024158406E-2,2.3137388213474198E-2,2.9183152642468797E-2]
[null,null,2020,2.9029946051850292E-5,2.6156514667592955E-5,2.5483631166743033E-5,2.3160881946556911E-5,3.5904750315782237E-5,4.3423505164584067E-5,7.3889614272067345E-5,1.0832620834190413E-4,1.639659201967299E-4,2.6873809221207963E-4,5.0769367324346622E-4,9.9572127741923274E-4,1.7917393541639827E-3,2.8775558747913378E-3,4.0516579083712135E-3,5.8914145951040834E-3,8.4441807161842325E-3,1.2107555263737083E-2,1.6529799850784059E-2,2.2985772168775957E-2,2.9015591004410018E-2]
[null,null,2021,2.8894662575795172E-5,2.5950637807206593E-5,2.5345495817712823E-5,2.299496874757744E-5,3.563303051477881E-5,4.3047327171219251E-5,7.3750531195434919E-5,1.0794725295464013E-4,1.6303113435579014E-4,2.6658829026613524E-4,5.0369143611823702E-4,9.9129883687384544E-4,1.7869361002323491E-3,2.8662824095303518E-3,4.0250821807358813E-3,5.8492967912746052E-3,8.3852988871889814E-3,1.2015180695683324E-2,1.6390307843644866E-2,2.2835149642654567E-2,2.8848991459202989E-2]
[null,null,2022,2.8760009539040933E-5,2.5746381395193463E-5,2.5208109238531259E-5,2.2830244069383105E-5,3.5363367033610725E-5,4.2674408009267416E-5,7.3611709916111855E-5,1.0756962325935534E-4,1.6210167782088771E-4,2.644556859134637E-4,4.9972074932118945E-4,9.868960383516037E-4,1.7821457227541338E-3,2.8550531105773439E-3,3.9986807692238054E-3,5.8074800882029808E-3,8.3268276450703445E-3,1.1923510899207082E-2,1.6251992984458542E-2,2.2685514124722795E-2,2.8683348482775105E-2]
[null,null,2023,2.862598400365514E-5,2.5543732677070499E-5,2.5071467370452409E-5,2.2666699397993916E-5,3.5095744310470383E-5,4.2304719447459412E-5,7.3473149941314742E-5,1.0719331461840826E-4,1.6117752020912464E-4,2.6234014157989685E-4,4.9578136413562404E-4,9.8251279461355643E-4,1.7773681872104347E-3,2.8438678049009778E-3,3.9724525304566652E-3,5.765962333315759E-3,8.268764126778955E-3,1.1832540497255054E-2,1.6114845339485293E-2,2.2536859147255048E-2,2.8518656582771459E-2]
[null,null,2024,2.8492583045396523E-5,2.5342678998744643E-5,2.4935566176730981E-5,2.2504326280419854E-5,3.483014690131875E-5,4.1938233499093688E-5,7.3334850779187754E-5,1.068183224103812E-4,1.6025863131081882E-4,2.6024152079180733E-4,4.9187303380551805E-4,9.7814901880821994E-4,1.7726034591748871E-3,2.8327263201478057E-3,3.9463963285558132E-3,5.7247413894282641E-3,8.2111054892296774E-3,1.1742264153798152E-2,1.597885505881436E-2,2.2389178284907833E-2,2.8354910298372737E-2]
[null,null,2025,2.8359803753651174E-5,2.5143207805722692E-5,2.4800401642503073E-5,2.2343116324223978E-5,3.4566559478994119E-5,4.1574922419917587E-5,7.3196811938800883E-5,1.0644464203002344E-4,1.5934498108851654E-4,2.5815968816730449E-4,4.8799551352006926E-4,9.7380462446985635E-4,1.7678515043134159E-3,2.8216284846396132E-3,3.9205110350930845E-3,5.6838151346345839E-3,8.1538489091623964E-3,1.1652676573518509E-2,1.5844012375656611E-2,2.2242465154442025E-2,2.819210420011415E-2]
[null,null,2026,2.822764323136903E-5,2.4945306642327347E-5,2.4665969774667561E-5,2.218306119708865E-5,3.430496683232762E-5,4.1214758706027029E-5,7.3059032930148225E-5,1.0607226888819473E-4,1.5843653967601056E-4,2.560945094075011E-4,4.841485603983614E-4,9.6947952551676051E-4,1.7631122883839875E-3,2.8105741273707729E-3,3.8947955290419248E-3,5.643181462198341E-3,8.0969915830037768E-3,1.1563772501498879E-2,1.5710307605643091E-2,2.209671341444697E-2,2.8030232889705402E-2]
[null,null,"","","","","","","","","","","","","","","","","","","","","",""]
[null,null,"","","","","","","","","","","","","","","","","","","","","",""]
[null,null,"","","","","","","","","","","","","","","","","","","","","",""]
[null,null,"","","","","","","","","","","","","","","","","","","","","",""]
[null,null,"","","","","","","","","","","","","","","","","","","","","",""]
[null,null,"","","","","","","","","","","","","","","","","","","","","",""]
[null,null,"","","","","","","","","","","","","","","","","","","","","",""]
[null,null,"","","","","","","","","","","","","","","","","","","","","",""]
[null,null,"","","","","","","","","","","","","","","","","","","","","",""]
[null,null,"","","","","","","","","","","","","","","","","","","","","",""]
[null,null,"","","","","","","","","","","","","","","","","","","","","",""]
[null,null,"","","","","","","","","","","","","","","","","","","","","",""]
[null,null,"","","","","","","","","","","","","","","","","","","","","",""]
[null,null,"","","","","","","","","","","","","","","","","","","","","",""]
[null,null,"","","","","","","","","","","","","","","","","","","","","",""]
[null,null,"","","","","","","","","","","","","","","","","","","","","",""]
[null,null,"","","","","","","","","","","","","","","","","","","","","",""]
[null,null,"","","","","","","","","","","","","","","","","","","","","",""]
[null,null,"","","","","","","","","","","","","","","","","","","","","",""]
[null,null,"","","","","","","","","","","","","","","","","","","","","",""]
[]
[null,"Parameters Female",null,{"$f":"TRANSPOSE(Ages_group)","v":0},"1 - 4","5 - 9","10 - 14","15 - 19","20 - 24","25 - 29","30 - 34","35 - 39","40 - 44","45 - 49","50 - 54","55 - 59","60 - 64","65 - 69","70 - 74","75 - 79","80 - 84","85 - 89","90 - 94","95+"]
[null,null,"b_x",{"$f":"INDEX(beta_F,MATCH($B$7,Causes,0),MATCH(D49,Ages_group,0))","v":5.36338682795637E-2},4.6672585928725002E-2,5.2807012186912999E-2,2.7676842271295899E-2,5.22656271412726E-2,6.0201303340671503E-2,5.039722529553E-2,3.9912777193601999E-2,5.1590736785954397E-2,5.0421226100538598E-2,5.2910157250771001E-2,4.8267741211394898E-2,5.1485724265154499E-2,5.2052294066258699E-2,5.4437824102365799E-2,5.0132984939852E-2,4.5038855570466399E-2,4.6643644325456098E-2,4.6483832888762601E-2,3.6590104443830603E-2,3.03776324116206E-2]
[null,null,"delta type",{"$f":"INDEX(drifts_type,MATCH($B$7,Causes,0),MATCH(C57,genders,0))","v":"historical2"}]
[null,null,"delta",{"$f":"INDEX(drifts,MATCH($B$7,Causes,0),MATCH(C57,genders,0))","v":-0.12729217311576099},null,"k1",null,{"$f":"INDEX(k_1,MATCH($B$7,Causes,0),MATCH(C57,genders,0))","v":1}]
[null,null,"Adjustment factors",{"$f":"INDEX(adjustment_use,MATCH($B$7,Causes,0),MATCH(C57,genders,0))","v":"no"},null,"k2",null,{"$f":"INDEX(k_2,MATCH($B$7,Causes,0),MATCH(C57,genders,0))","v":0}]
[null,null,null,null,null,"delta basis",null,{"$f":"D52*H52","v":-0.12729217311576099}]
[]
[null,"Death rate",null,"age"]
[null,"sex","F",{"$f":"TRANSPOSE(Ages_group)","v":0},"1 - 4","5 - 9","10 - 14","15 - 19","20 - 24","25 - 29","30 - 34","35 - 39","40 - 44","45 - 49","50 - 54","55 - 59","60 - 64","65 - 69","70 - 74","75 - 79","80 - 84","85 - 89","90 - 94","95+"]
[null,"time",{"$f":"Year_0","v":2016},{"$f":"(OFFSET(q0_F,MATCH($B$7,Causes,0),MATCH(D$16,Ages_group,0))^$H$52)*EXP($H$53)","v":3.0769007689892481E-5},2.4148615346030359E-5,2.2228014360846711E-5,2.357683863259283E-5,2.7000307419068004E-5,3.5062903850857898E-5,6.0936318208856834E-5,1.2494924239053569E-4,2.2378072220135758E-4,3.8449177414982756E-4,6.2485052693416507E-4,1.0203198926086495E-3,1.5565677239366784E-3,2.2884653004959054E-3,3.0987869786219119E-3,4.4304880483912682E-3,5.9979209450862691E-3,8.084948481768028E-3,1.034539611636601E-2,1.2937392204777562E-2,1.4850421399892115E-2]
[null,null,{"$f":"IF(C58<Year_max,C58+1,\"\")","v":2017},{"$f":"IF($C59<>\"\",D58*EXP(D$50*$H$54)*\nIF($D$53=\"yes\",OFFSET(INDIRECT(\"'adjustment \" & $B$7 & \"'!C42\"),$C59-$C$58,MATCH(D$16,Ages_group))/OFFSET(INDIRECT(\"'adjustment \" & $B$7 & \"'!C42\"),$C58-$C$58,MATCH(D$16,Ages_group)),1),\"\")","v":3.0559657839853219E-5},{"$f":"IF($C59<>\"\",E58*EXP(E$50*$H$54)*\nIF($D$53=\"yes\",OFFSET(INDIRECT(\"'adjustment \" & $B$7 & \"'!C42\"),$C59-$C$58,MATCH(E$16,Ages_group))/OFFSET(INDIRECT(\"'adjustment \" & $B$7 & \"'!C42\"),$C58-$C$58,MATCH(E$16,Ages_group)),1),\"\")","v":2.4005572430439887E-5},{"$f":"IF($C59<>\"\",F58*EXP(F$50*$H$54)*\nIF($D$53=\"yes\",OFFSET(INDIRECT(\"'adjustment \" & $B$7 & \"'!C42\"),$C59-$C$58,MATCH(F$16,Ages_group))/OFFSET(INDIRECT(\"'adjustment \" & $B$7 & \"'!C42\"),$C58-$C$58,MATCH(F$16,Ages_group)),1),\"\")","v":2.2079100495498831E-5},{"$f":"IF($C59<>\"\",G58*EXP(G$50*$H$54)*\nIF($D$53=\"yes\",OFFSET(INDIRECT(\"'adjustment \" & $B$7 & \"'!C42\"),$C59-$C$58,MATCH(G$16,Ages_group))/OFFSET(INDIRECT(\"'adjustment \" & $B$7 & \"'!C42\"),$C58-$C$58,MATCH(G$16,Ages_group)),1),\"\")","v":2.3493922504160254E-5},{"$f":"IF($C59<>\"\",H58*EXP(H$50*$H$54)*\nIF($D$53=\"yes\",OFFSET(INDIRECT(\"'adjustment \" & $B$7 & \"'!C42\"),$C59-$C$58,MATCH(H$16,Ages_group))/OFFSET(INDIRECT(\"'adjustment \" & $B$7 & \"'!C42\"),$C58-$C$58,MATCH(H$16,Ages_group)),1),\"\")","v":2.6821270459141797E-5},{"$f":"IF($C59<>\"\",I58*EXP(I$50*$H$54)*\nIF($D$53=\"yes\",OFFSET(INDIRECT(\"'adjustment \" & $B$7 & \"'!C42\"),$C59-$C$58,MATCH(I$16,Ages_group))/OFFSET(INDIRECT(\"'adjustment \" & $B$7 & \"'!C42\"),$C58-$C$58,MATCH(I$16,Ages_group)),1),\"\")","v":3.4795238284671428E-5},{"$f":"IF($C59<>\"\",J58*EXP(J$50*$H$54)*\nIF($D$53=\"yes\",OFFSET(INDIRECT(\"'adjustment \" & $B$7 & \"'!C42\"),$C59-$C$58,MATCH(J$16,Ages_group))/OFFSET(INDIRECT(\"'adjustment \" & $B$7 & \"'!C42\"),$C58-$C$58,MATCH(J$16,Ages_group)),1),\"\")","v":6.0546652449452063E-5},{"$f":"IF($C59<>\"\",K58*EXP(K$50*$H$54)*\nIF($D$53=\"yes\",OFFSET(INDIRECT(\"'adjustment \" & $B$7 & \"'!C42\"),$C59-$C$58,MATCH(K$16,Ages_group))/OFFSET(INDIRECT(\"'adjustment \" & $B$7 & \"'!C42\"),$C58-$C$58,MATCH(K$16,Ages_group)),1),\"\")","v":1.2431603713915581E-4},{"$f":"IF($C59<>\"\",L58*EXP(L$50*$H$54)*\nIF($D$53=\"yes\",OFFSET(INDIRECT(\"'adjustment \" & $B$7 & \"'!C42\"),$C59-$C$58,MATCH(L$16,Ages_group))/OFFSET(INDIRECT(\"'adjustment \" & $B$7 & \"'!C42\"),$C58-$C$58,MATCH(L$16,Ages_group)),1),\"\")","v":2.2231594741564515E-4},{"$f":"IF($C59<>\"\",M58*EXP(M$50*$H$54)*\nIF($D$53=\"yes\",OFFSET(INDIRECT(\"'adjustment \" & $B$7 & \"'!C42\"),$C59-$C$58,MATCH(M$16,Ages_group))/OFFSET(INDIRECT(\"'adjustment \" & $B$7 & \"'!C42\"),$C58-$C$58,MATCH(M$16,Ages_group)),1),\"\")","v":3.8203192088699282E-4},{"$f":"IF($C59<>\"\",N58*EXP(N$50*$H$54)*\nIF($D$53=\"yes\",OFFSET(INDIRECT(\"'adjustment \" & $B$7 & \"'!C42\"),$C59-$C$58,MATCH(N$16,Ages_group))/OFFSET(INDIRECT(\"'adjustment \" & $B$7 & \"'!C42\"),$C58-$C$58,MATCH(N$16,Ages_group)),1),\"\")","v":6.2065626820575982E-4},{"$f":"IF($C59<>\"\",O58*EXP(O$50*$H$54)*\nIF($D$53=\"yes\",OFFSET(INDIRECT(\"'adjustment \" & $B$7 & \"'!C42\"),$C59-$C$58,MATCH(O$16,Ages_group))/OFFSET(INDIRECT(\"'adjustment \" & $B$7 & \"'!C42\"),$C58-$C$58,MATCH(O$16,Ages_group)),1),\"\")","v":1.0140701585449438E-3},{"$f":"IF($C59<>\"\",P58*EXP(P$50*$H$54)*\nIF($D$53=\"yes\",OFFSET(INDIRECT(\"'adjustment \" & $B$7 & \"'!C42\"),$C59-$C$58,MATCH(P$16,Ages_group))/OFFSET(INDIRECT(\"'adjustment \" & $B$7 & \"'!C42\"),$C58-$C$58,MATCH(P$16,Ages_group)),1),\"\")","v":1.5463997552269345E-3},{"$f":"IF($C59<>\"\",Q58*EXP(Q$50*$H$54)*\nIF($D$53=\"yes\",OFFSET(INDIRECT(\"'adjustment \" & $B$7 & \"'!C42\"),$C59-$C$58,MATCH(Q$16,Ages_group))/OFFSET(INDIRECT(\"'adjustment \" & $B$7 & \"'!C42\"),$C58-$C$58,MATCH(Q$16,Ages_group)),1),\"\")","v":2.2733523967416254E-3},{"$f":"IF($C59<>\"\",R58*EXP(R$50*$H$54)*\nIF($D$53=\"yes\",OFFSET(INDIRECT(\"'adjustment \" & $B$7 & \"'!C42\"),$C59-$C$58,MATCH(R$16,Ages_group))/OFFSET(INDIRECT(\"'adjustment \" & $B$7 & \"'!C42\"),$C58-$C$58,MATCH(R$16,Ages_group)),1),\"\")","v":3.0773881339525508E-3},{"$f":"IF($C59<>\"\",S58*EXP(S$50*$H$54)*\nIF($D$53=\"yes\",OFFSET(INDIRECT(\"'adjustment \" & $B$7 & \"'!C42\"),$C59-$C$58,MATCH(S$16,Ages_group))/OFFSET(INDIRECT(\"'adjustment \" & $B$7 & \"'!C42\"),$C58-$C$58,MATCH(S$16,Ages_group)),1),\"\")","v":4.4023047487880742E-3},{"$f":"IF($C59<>\"\",T58*EXP(T$50*$H$54)*\nIF($D$53=\"yes\",OFFSET(INDIRECT(\"'adjustment \" & $B$7 & \"'!C42\"),$C59-$C$58,MATCH(T$16,Ages_group))/OFFSET(INDIRECT(\"'adjustment \" & $B$7 & \"'!C42\"),$C58-$C$58,MATCH(T$16,Ages_group)),1),\"\")","v":5.9636326845253921E-3},{"$f":"IF($C59<>\"\",U58*EXP(U$50*$H$54)*\nIF($D$53=\"yes\",OFFSET(INDIRECT(\"'adjustment \" & $B$7 & \"'!C42\"),$C59-$C$58,MATCH(U$16,Ages_group))/OFFSET(INDIRECT(\"'adjustment \" & $B$7 & \"'!C42\"),$C58-$C$58,MATCH(U$16,Ages_group)),1),\"\")","v":8.0370873695306475E-3},{"$f":"IF($C59<>\"\",V58*EXP(V$50*$H$54)*\nIF($D$53=\"yes\",OFFSET(INDIRECT(\"'adjustment \" & $B$7 & \"'!C42\"),$C59-$C$58,MATCH(V$16,Ages_group))/OFFSET(INDIRECT(\"'adjustment \" & $B$7 & \"'!C42\"),$C58-$C$58,MATCH(V$16,Ages_group)),1),\"\")","v":1.0284362862616603E-2},{"$f":"IF($C59<>\"\",W58*EXP(W$50*$H$54)*\nIF($D$53=\"yes\",OFFSET(INDIRECT(\"'adjustment \" & $B$7 & \"'!C42\"),$C59-$C$58,MATCH(W$16,Ages_group))/OFFSET(INDIRECT(\"'adjustment \" & $B$7 & \"'!C42\"),$C58-$C$58,MATCH(W$16,Ages_group)),1),\"\")","v":1.2877274679540359E-2},{"$f":"IF($C59<>\"\",X58*EXP(X$50*$H$54)*\nIF($D$53=\"yes\",OFFSET(INDIRECT(\"'adjustment \" & $B$7 & \"'!C42\"),$C59-$C$58,MATCH(X$16,Ages_group))/OFFSET(INDIRECT(\"'adjustment \" & $B$7 & \"'!C42\"),$C58-$C$58,MATCH(X$16,Ages_group)),1),\"\")","v":1.4793108154818874E-2}]
[null,null,2018,3.035173238933159E-5,2.3863376821223193E-5,2.193118426039056E-5,2.3411297979044874E-5,2.6643420679514023E-5,3.4529616041982252E-5,6.0159478461925141E-5,1.236860407819053E-4,2.2086076043156171E-4,3.795878049649323E-4,6.1649016310053723E-4,1.0078587057851212E-3,1.5362982067481208E-3,2.2583392978040655E-3,3.0561370601872055E-3,4.374300729293042E-3,5.9295404393543572E-3,7.989509584524079E-3,1.0223689678024658E-2,1.2817436508657066E-2,1.4736016102664836E-2]
[null,null,2019,3.0145221646828001E-5,2.3722023499410355E-5,2.1784258972020044E-5,2.332896403172251E-5,2.6466750208083519E-5,3.4266021524329303E-5,5.977478031229434E-5,1.2305923705707199E-4,2.1941509849137756E-4,3.7715932570126041E-4,6.1235202263957406E-4,1.0016852998458883E-3,1.5262626446233044E-3,2.243425344577497E-3,3.0350327368857347E-3,4.3464748494663492E-3,5.8956430890137529E-3,7.9422134495135931E-3,1.016337443834167E-2,1.2757876394022765E-2,1.4679144389765067E-2]
[null,null,2020,2.9940115986783046E-5,2.3581507475761026E-5,2.1638317991660735E-5,2.3246919640275594E-5,2.6291251224948416E-5,3.4004439252328095E-5,5.9392542168469987E-5,1.2243560978535321E-4,2.1797889924814878E-4,3.7474638305772477E-4,6.0824165911245291E-4,9.9554970768022505E-4,1.5162926378097671E-3,2.2286098823088908E-3,3.0140741506547034E-3,4.31882597612276E-3,5.8619395193500604E-3,7.8951972971933165E-3,1.0103415031851255E-2,1.2698593043564584E-2,1.4622492165749243E-2]
[null,null,2021,2.9736405849128848E-5,2.3441823790588335E-5,2.1493354725061423E-5,2.3165163786380484E-5,2.611691596206001E-5,3.3744853864761714E-5,5.9012748299602915E-5,1.2181514286943812E-4,2.1655210076302844E-4,3.7234887763608511E-4,6.0415888606874728E-4,9.8945169766858666E-4,1.5063877580804915E-3,2.2138922605691716E-3,2.9932602950987204E-3,4.2913529832854765E-3,5.8284286225790318E-3,7.8484594701274599E-3,1.0043809359295225E-2,1.2639585171213651E-2,1.456605858352893E-2]
[null,null,2022,2.9534081738843462E-5,2.3302967513583821E-5,2.1349362622148273E-5,2.3083695455294829E-5,2.5943736702878933E-5,3.3487250117678738E-5,5.8635383075437057E-5,1.2119782029359223E-4,2.1513464150259526E-4,3.6996671067401882E-4,6.0010351830956405E-4,9.8339103961016076E-4,1.496547580005768E-3,2.1992718332246642E-3,2.9725901707721141E-3,4.2640547521402847E-3,5.7951092972492804E-3,7.8019983206918915E-3,9.9845553338000787E-3,1.258085149687721E-2,1.450984279928492E-2]
[null,null,2023,2.9333134225508307E-5,2.3164933743643424E-5,2.1206335176728874E-5,2.3002513635844968E-5,2.5771705782033597E-5,3.3231612883498056E-5,5.8260430965666191E-5,1.2058362612324398E-4,2.1372646033619998E-4,3.6759978404105243E-4,5.9607537187914299E-4,9.7736750471417696E-4,1.4867716809349217E-3,2.1847479584087251E-3,2.9520627851309395E-3,4.236930170989992E-3,5.7619804482060754E-3,7.7558122110160475E-3,9.92565088080395E-3,1.2522390746410842E-2,1.4453843972454614E-2]
[null,null,2024,2.9133553942868613E-5,2.3027717608694488E-5,2.1064265926198251E-5,2.2921617320413384E-5,2.5600815584980898E-5,3.2977927150120512E-5,5.7887876539294798E-5,1.1997254450457345E-4,2.1232749653332897E-4,3.6524800023451936E-4,5.9207426405651184E-4,9.7138086559126998E-4,1.4770596409781594E-3,2.1703199984935647E-3,2.9316771524853188E-3,4.2099781352091525E-3,5.7290409865553473E-3,7.7098995129251989E-3,9.8670939379839652E-3,1.2464201651590831E-2,1.4398061265719459E-2]
[null,null,2025,2.893533158839685E-5,2.2891314265523793E-5,2.0923148451246866E-5,2.28410055049262E-5,2.5431058547669182E-5,3.272617802004733E-5,5.7517704464002999E-5,1.193645596641031E-4,2.1093768976098505E-4,3.6291126237554338E-4,5.8810001334719817E-4,9.6543089624489533E-4,1.4674110429885338E-3,2.1559873200622534E-3,2.9114322939521103E-3,4.1831975471990851E-3,5.6962898296278987E-3,7.6642586078830505E-3,9.8088824551840446E-3,1.2406282950086644E-2,1.4342493844992414E-2]
[null,null,2026,2.8738457922859139E-5,2.2755718899606611E-5,2.0782976375570558E-5,2.2760677188840704E-5,2.5262427156203444E-5,3.2476350709505252E-5,5.7149899505515582E-5,1.1875965590829065E-4,2.0955698008108553E-4,3.6058947420504771E-4,5.8415243947499654E-4,9.5951737206279855E-4,1.4578254725440274E-3,2.1417492938809136E-3,2.8913272374079041E-3,4.1565873163431719E-3,5.6637259009438166E-3,7.6188878869346867E-3,9.7510143943431177E-3,1.2348633385433553E-2,1.4287140879405493E-2]
[null,null,"","","","","","","","","","","","","","","","","","","","","",""]
[null,null,"","","","","","","","","","","","","","","","","","","","","",""]
[null,null,"","","","","","","","","","","","","","","","","","","","","",""]
[null,null,"","","","","","","","","","","","","","","","","","","","","",""]
[null,null,"","","","","","","","","","","","","","","","","","","","","",""]
[null,null,"","","","","","","","","","","","","","","","","","","","","",""]
[null,null,"","","","","","","","","","","","","","","","","","","","","",""]
[null,null,"","","","","","","","","","","","","","","","","","","","","",""]
[null,null,"","","","","","","","","","","","","","","","","","","","","",""]
[null,null,"","","","","","","","","","","","","","","","","","","","","",""]
[null,null,"","","","","","","","","","","","","","","","","","","","","",""]
[null,null,"","","","","","","","","","","","","","","","","","","","","",""]
[null,null,"","","","","","","","","","","","","","","","","","","","","",""]
[null,null,"","","","","","","","","","","","","","","","","","","","","",""]
[null,null,"","","","","","","","","","","","","","","","","","","","","",""]
[null,null,"","","","","","","","","","","","","","","","","","","","","",""]
[null,null,"","","","","","","","","","","","","","","","","","","","","",""]
[null,null,"","","","","","","","","","","","","","","","","","","","","",""]
[null,null,"","","","","","","","","","","","","","","","","","","","","",""]
[null,null,"","","","","","","","","","","","","","","","","","","","","",""]
[null,null,""]
[null,null,""]
[null,null,""]
[null,null,""]
[null,null,""]
[null,null,""]
[null,null,""]
[null,null,""]
[null,null,""]
[null,null,""]
[null,null,""]
[null,null,""]
[null,null,""]
[null,null,""]
[null,null,""]
[null,null,""]
[null,null,""]

{"sheet":"Forecasts Dementia","index":12,"n_rows":105,"n_cols":24,"rows_kept":105,"cut":false,"hidden":false,"merged":[[52,2,53,2],[52,3,53,3],[0,2,3,9],[0,10,3,16],[5,1,5,23],[11,2,12,2],[11,3,12,3]]}
[null,null,"Society of Actuaries - Cause of deaths forecasting tool",null,null,null,null,null,null,null,"Forecast Dementia"]
[]
[]
[]
[]
[null,"central scenario - diffusion LC"]
[null,"Dementia"]
[null,"Parameters Male",null,{"$f":"TRANSPOSE(Ages_group)","v":0},"1 - 4","5 - 9","10 - 14","15 - 19","20 - 24","25 - 29","30 - 34","35 - 39","40 - 44","45 - 49","50 - 54","55 - 59","60 - 64","65 - 69","70 - 74","75 - 79","80 - 84","85 - 89","90 - 94","95+"]
[null,null,"b_x",{"$f":"INDEX(beta_M,MATCH($B$7,Causes,0),MATCH(D8,Ages_group,0))","v":-0.15175817344116599},-0.18247986628322899,-8.2864636725543506E-2,-6.9039106565151706E-2,-0.20689328881156099,-8.4624357562804703E-2,-7.8419038329509902E-3,0.113896678397716,-4.00145886876263E-2,3.8517913608661303E-2,8.9912740175554104E-2,0.13500816274894001,0.15202832805232799,0.167208810163578,0.13688632609544399,0.14030695206105301,0.146338107891446,0.14316024338132299,0.14930343901807699,0.184515819241343,0.228432401074571]
[null,null,"delta type",{"$f":"INDEX(drifts_type,MATCH($B$7,Causes,0),MATCH(C16,genders,0))","v":"historical2"}]
[null,null,"delta",{"$f":"INDEX(drifts,MATCH($B$7,Causes,0),MATCH(C16,genders,0))","v":9.6139443801791694E-2},null,"k1",null,{"$f":"INDEX(k_1,MATCH($B$7,Causes,0),MATCH(C16,genders,0))","v":1}]
[null,null,"Adjustment factors",{"$f":"INDEX(adjustment_use,MATCH($B$7,Causes,0),MATCH(C16,genders,0))","v":"no"},null,"k2",null,{"$f":"INDEX(k_2,MATCH($B$7,Causes,0),MATCH(C16,genders,0))","v":0}]
[null,null,null,null,null,"delta basis",null,{"$f":"D11*H11","v":9.6139443801791694E-2}]
[]
[null,"Death rate",null,"age"]
[null,"sex","M",{"$f":"TRANSPOSE(Ages_group)","v":0},"1 - 4","5 - 9","10 - 14","15 - 19","20 - 24","25 - 29","30 - 34","35 - 39","40 - 44","45 - 49","50 - 54","55 - 59","60 - 64","65 - 69","70 - 74","75 - 79","80 - 84","85 - 89","90 - 94","95+"]
[null,"time",{"$f":"Year_0","v":2016},{"$f":"(OFFSET(q0_M,MATCH($B$7,Causes,0),MATCH(D$16,Ages_group,0))^$H$11)*EXP($H$12)","v":0},0,0,0,0,5.6894737619908819E-7,6.227660671961573E-7,1.0748541104217941E-6,1.0466207618605828E-6,2.738327477128844E-6,6.6548657280770933E-6,1.780828283139033E-5,5.144127000910785E-5,1.5879629025108164E-4,4.0406548807870012E-4,1.2252819835685345E-3,3.3659890289688401E-3,8.3521237367178269E-3,1.7719899245105798E-2,3.5026353485541714E-2,6.2895239442384898E-2]
[null,null,{"$f":"IF(C17<Year_max,C17+1,\"\")","v":2017},{"$f":"IF($C18<>\"\",D17*EXP(D$9*$H$13)*\nIF($D$12=\"yes\",OFFSET(INDIRECT(\"'adjustment \" & $B$7 & \"'!C8\"),$C18-$C$17,MATCH(D$16,Ages_group))/OFFSET(INDIRECT(\"'adjustment \" & $B$7 & \"'!C8\"),$C17-$C$17,MATCH(D$16,Ages_group)),1),\"\")","v":0},{"$f":"IF($C18<>\"\",E17*EXP(E$9*$H$13)*\nIF($D$12=\"yes\",OFFSET(INDIRECT(\"'adjustment \" & $B$7 & \"'!C8\"),$C18-$C$17,MATCH(E$16,Ages_group))/OFFSET(INDIRECT(\"'adjustment \" & $B$7 & \"'!C8\"),$C17-$C$17,MATCH(E$16,Ages_group)),1),\"\")","v":0},{"$f":"IF($C18<>\"\",F17*EXP(F$9*$H$13)*\nIF($D$12=\"yes\",OFFSET(INDIRECT(\"'adjustment \" & $B$7 & \"'!C8\"),$C18-$C$17,MATCH(F$16,Ages_group))/OFFSET(INDIRECT(\"'adjustment \" & $B$7 & \"'!C8\"),$C17-$C$17,MATCH(F$16,Ages_group)),1),\"\")","v":0},{"$f":"IF($C18<>\"\",G17*EXP(G$9*$H$13)*\nIF($D$12=\"yes\",OFFSET(INDIRECT(\"'adjustment \" & $B$7 & \"'!C8\"),$C18-$C$17,MATCH(G$16,Ages_group))/OFFSET(INDIRECT(\"'adjustment \" & $B$7 & \"'!C8\"),$C17-$C$17,MATCH(G$16,Ages_group)),1),\"\")","v":0},{"$f":"IF($C18<>\"\",H17*EXP(H$9*$H$13)*\nIF($D$12=\"yes\",OFFSET(INDIRECT(\"'adjustment \" & $B$7 & \"'!C8\"),$C18-$C$17,MATCH(H$16,Ages_group))/OFFSET(INDIRECT(\"'adjustment \" & $B$7 & \"'!C8\"),$C17-$C$17,MATCH(H$16,Ages_group)),1),\"\")","v":0},{"$f":"IF($C18<>\"\",I17*EXP(I$9*$H$13)*\nIF($D$12=\"yes\",OFFSET(INDIRECT(\"'adjustment \" & $B$7 & \"'!C8\"),$C18-$C$17,MATCH(I$16,Ages_group))/OFFSET(INDIRECT(\"'adjustment \" & $B$7 & \"'!C8\"),$C17-$C$17,MATCH(I$16,Ages_group)),1),\"\")","v":5.6433734745317088E-7},{"$f":"IF($C18<>\"\",J17*EXP(J$9*$H$13)*\nIF($D$12=\"yes\",OFFSET(INDIRECT(\"'adjustment \" & $B$7 & \"'!C8\"),$C18-$C$17,MATCH(J$16,Ages_group))/OFFSET(INDIRECT(\"'adjustment \" & $B$7 & \"'!C8\"),$C17-$C$17,MATCH(J$16,Ages_group)),1),\"\")","v":6.2229673066637528E-7},{"$f":"IF($C18<>\"\",K17*EXP(K$9*$H$13)*\nIF($D$12=\"yes\",OFFSET(INDIRECT(\"'adjustment \" & $B$7 & \"'!C8\"),$C18-$C$17,MATCH(K$16,Ages_group))/OFFSET(INDIRECT(\"'adjustment \" & $B$7 & \"'!C8\"),$C17-$C$17,MATCH(K$16,Ages_group)),1),\"\")","v":1.0866883977570768E-6},{"$f":"IF($C18<>\"\",L17*EXP(L$9*$H$13)*\nIF($D$12=\"yes\",OFFSET(INDIRECT(\"'adjustment \" & $B$7 & \"'!C8\"),$C18-$C$17,MATCH(L$16,Ages_group))/OFFSET(INDIRECT(\"'adjustment \" & $B$7 & \"'!C8\"),$C17-$C$17,MATCH(L$16,Ages_group)),1),\"\")","v":1.0426021670912037E-6},{"$f":"IF($C18<>\"\",M17*EXP(M$9*$H$13)*\nIF($D$12=\"yes\",OFFSET(INDIRECT(\"'adjustment \" & $B$7 & \"'!C8\"),$C18-$C$17,MATCH(M$16,Ages_group))/OFFSET(INDIRECT(\"'adjustment \" & $B$7 & \"'!C8\"),$C17-$C$17,MATCH(M$16,Ages_group)),1),\"\")","v":2.748486550768276E-6},{"$f":"IF($C18<>\"\",N17*EXP(N$9*$H$13)*\nIF($D$12=\"yes\",OFFSET(INDIRECT(\"'adjustment \" & $B$7 & \"'!C8\"),$C18-$C$17,MATCH(N$16,Ages_group))/OFFSET(INDIRECT(\"'adjustment \" & $B$7 & \"'!C8\"),$C17-$C$17,MATCH(N$16,Ages_group)),1),\"\")","v":6.7126408065225015E-6},{"$f":"IF($C18<>\"\",O17*EXP(O$9*$H$13)*\nIF($D$12=\"yes\",OFFSET(INDIRECT(\"'adjustment \" & $B$7 & \"'!C8\"),$C18-$C$17,MATCH(O$16,Ages_group))/OFFSET(INDIRECT(\"'adjustment \" & $B$7 & \"'!C8\"),$C17-$C$17,MATCH(O$16,Ages_group)),1),\"\")","v":1.8040933985894281E-5},{"$f":"IF($C18<>\"\",P17*EXP(P$9*$H$13)*\nIF($D$12=\"yes\",OFFSET(INDIRECT(\"'adjustment \" & $B$7 & \"'!C8\"),$C18-$C$17,MATCH(P$16,Ages_group))/OFFSET(INDIRECT(\"'adjustment \" & $B$7 & \"'!C8\"),$C17-$C$17,MATCH(P$16,Ages_group)),1),\"\")","v":5.2198652880088151E-5},{"$f":"IF($C18<>\"\",Q17*EXP(Q$9*$H$13)*\nIF($D$12=\"yes\",OFFSET(INDIRECT(\"'adjustment \" & $B$7 & \"'!C8\"),$C18-$C$17,MATCH(Q$16,Ages_group))/OFFSET(INDIRECT(\"'adjustment \" & $B$7 & \"'!C8\"),$C17-$C$17,MATCH(Q$16,Ages_group)),1),\"\")","v":1.6136962634101664E-4},{"$f":"IF($C18<>\"\",R17*EXP(R$9*$H$13)*\nIF($D$12=\"yes\",OFFSET(INDIRECT(\"'adjustment \" & $B$7 & \"'!C8\"),$C18-$C$17,MATCH(R$16,Ages_group))/OFFSET(INDIRECT(\"'adjustment \" & $B$7 & \"'!C8\"),$C17-$C$17,MATCH(R$16,Ages_group)),1),\"\")","v":4.0941820480843756E-4},{"$f":"IF($C18<>\"\",S17*EXP(S$9*$H$13)*\nIF($D$12=\"yes\",OFFSET(INDIRECT(\"'adjustment \" & $B$7 & \"'!C8\"),$C18-$C$17,MATCH(S$16,Ages_group))/OFFSET(INDIRECT(\"'adjustment \" & $B$7 & \"'!C8\"),$C17-$C$17,MATCH(S$16,Ages_group)),1),\"\")","v":1.2419218272498457E-3},{"$f":"IF($C18<>\"\",T17*EXP(T$9*$H$13)*\nIF($D$12=\"yes\",OFFSET(INDIRECT(\"'adjustment \" & $B$7 & \"'!C8\"),$C18-$C$17,MATCH(T$16,Ages_group))/OFFSET(INDIRECT(\"'adjustment \" & $B$7 & \"'!C8\"),$C17-$C$17,MATCH(T$16,Ages_group)),1),\"\")","v":3.4136793596254949E-3},{"$f":"IF($C18<>\"\",U17*EXP(U$9*$H$13)*\nIF($D$12=\"yes\",OFFSET(INDIRECT(\"'adjustment \" & $B$7 & \"'!C8\"),$C18-$C$17,MATCH(U$16,Ages_group))/OFFSET(INDIRECT(\"'adjustment \" & $B$7 & \"'!C8\"),$C17-$C$17,MATCH(U$16,Ages_group)),1),\"\")","v":8.467871618905342E-3},{"$f":"IF($C18<>\"\",V17*EXP(V$9*$H$13)*\nIF($D$12=\"yes\",OFFSET(INDIRECT(\"'adjustment \" & $B$7 & \"'!C8\"),$C18-$C$17,MATCH(V$16,Ages_group))/OFFSET(INDIRECT(\"'adjustment \" & $B$7 & \"'!C8\"),$C17-$C$17,MATCH(V$16,Ages_group)),1),\"\")","v":1.7976084018591684E-2},{"$f":"IF($C18<>\"\",W17*EXP(W$9*$H$13)*\nIF($D$12=\"yes\",OFFSET(INDIRECT(\"'adjustment \" & $B$7 & \"'!C8\"),$C18-$C$17,MATCH(W$16,Ages_group))/OFFSET(INDIRECT(\"'adjustment \" & $B$7 & \"'!C8\"),$C17-$C$17,MATCH(W$16,Ages_group)),1),\"\")","v":3.565323845988215E-2},{"$f":"IF($C18<>\"\",X17*EXP(X$9*$H$13)*\nIF($D$12=\"yes\",OFFSET(INDIRECT(\"'adjustment \" & $B$7 & \"'!C8\"),$C18-$C$17,MATCH(X$16,Ages_group))/OFFSET(INDIRECT(\"'adjustment \" & $B$7 & \"'!C8\"),$C17-$C$17,MATCH(X$16,Ages_group)),1),\"\")","v":6.4291783566497201E-2}]
[null,null,{"$f":"IF(C18<Year_max,C18+1,\"\")","v":2018},0,0,0,0,0,5.5976467253983494E-7,6.2182774784369096E-7,1.0986529821767509E-6,1.0385990020787233E-6,2.75868331412089E-6,6.770917466791761E-6,1.8276624544040039E-5,5.2967186891255174E-5,1.6398466402625525E-4,4.1484182978754081E-4,1.2587876469933627E-3,3.4620453810281881E-3,8.5852235927769884E-3,1.8235972573755907E-2,3.6291343122598539E-2,6.571933696107074E-2]
[null,null,2019,0,0,0,0,0,5.5522904879094424E-7,6.2135911846153939E-7,1.1107492982691205E-6,1.0346112075791987E-6,2.7689179070138525E-6,6.8297000634324162E-6,1.8515394213236393E-5,5.3747036223675358E-5,1.6664207909223319E-4,4.2033730234833068E-4,1.2758825116488696E-3,3.5110966665637677E-3,8.7042018886326414E-3,1.8499618457882071E-2,3.6940868278323956E-2,6.717858816493355E-2]
[null,null,2020,0,0,0,0,0,5.507301759908016E-7,6.2089084225355633E-7,1.122978796417499E-6,1.0306387245761599E-6,2.7791904697930821E-6,6.8889929887965811E-6,1.875728321963808E-5,5.4538367475694648E-5,1.6934255827566884E-4,4.2590557426660543E-4,1.293209531742419E-3,3.560842925257665E-3,8.8248290448507214E-3,1.8767075992411609E-2,3.7602018325597064E-2,6.8670241005429372E-2]
[null,null,2021,0,0,0,0,0,5.4626775635627762E-7,6.2042291895357841E-7,1.1353429429741136E-6,1.0266814942797356E-6,2.7895011433251753E-6,6.9488006733691434E-6,1.9002332314922788E-5,5.5341349698528704E-5,1.7208679944203157E-4,4.3154760992648156E-4,1.3107718600423126E-3,3.6112940036956633E-3,8.9471279121577027E-3,1.9038400284136139E-2,3.8275001321184103E-2,7.0195014937888253E-2]
[null,null,2022,0,0,0,0,0,5.4184149451710007E-7,6.1995534829564278E-7,1.1478432204359252E-6,1.0227394581257841E-6,2.7998500689993365E-6,7.0091275860988177E-6,1.9250582783156698E-5,5.615615443237714E-5,1.7487551176588621E-4,4.3726438648741806E-4,1.3285726921327696E-3,3.6624598879728921E-3,9.0711216579567842E-3,1.9313647236551636E-2,3.8960029045552125E-2,7.1753645392634902E-2]
[null,null,2023,0,0,0,0,0,5.3745109749630328E-7,6.1948813001398705E-7,1.1604811276223845E-6,1.0188125577750252E-6,2.8102373887293186E-6,7.0699782347320759E-6,1.9502076447749719E-5,5.6982955743069441E-5,1.777094159141599E-4,4.4305689405345328E-4,1.3466152669953841E-3,3.7143507056704383E-3,9.1968337707165511E-3,1.9592873561376754E-2,3.9657317069513996E-2,7.334688412970207E-2]
[null,null,2024,0,0,0,0,0,5.3309627469083558E-7,6.1902126384304921E-7,1.1732581798551446E-6,1.0149007351121783E-6,2.8206632449553681E-6,7.1313571661499755E-6,1.9756855678501584E-5,5.7821930259250485E-5,1.8058924423237886E-4,4.4892613584468369E-4,1.3649028675984799E-3,3.7669767278599602E-3,9.3242880644204655E-3,1.9876136790237676E-2,4.0367084822066218E-2,7.4975499601420151E-2]
[null,null,2025,0,0,0,0,0,5.2877673785232449E-7,6.1855474951746721E-7,1.1861759091397523E-6,1.0110039322451013E-6,2.831127780646178E-6,7.1932689667079092E-6,2.0014963398740014E-5,5.8673257210113484E-5,1.8351574093392322E-4,4.5487312837101445E-4,1.3834388214944689E-3,3.8203483711367059E-3,9.453508683078005E-3,2.0163495286521897E-2,4.1089555659440849E-2,7.6640277323057795E-2]
[null,null,2026,0,0,0,0,0,5.2449220106799694E-7,6.1808858677207906E-7,1.1992358643493401E-6,1.0071220915039343E-6,2.8416311393008496E-6,7.2557182625783086E-6,2.0276443092552114E-5,5.9537118463688555E-5,1.8648966229234873E-4,4.6089890160821133E-4,1.4022265014253211E-3,3.8744761996813331E-3,9.5845201052983334E-3,2.045500825740338E-2,4.182495693539328E-2,7.8342020251692318E-2]
[null,null,"","","","","","","","","","","","","","","","","","","","","",""]
[null,null,"","","","","","","","","","","","","","","","","","","","","",""]
[null,null,"","","","","","","","","","","","","","","","","","","","","",""]
[null,null,"","","","","","","","","","","","","","","","","","","","","",""]
[null,null,"","","","","","","","","","","","","","","","","","","","","",""]
[null,null,"","","","","","","","","","","","","","","","","","","","","",""]
[null,null,"","","","","","","","","","","","","","","","","","","","","",""]
[null,null,"","","","","","","","","","","","","","","","","","","","","",""]
[null,null,"","","","","","","","","","","","","","","","","","","","","",""]
[null,null,"","","","","","","","","","","","","","","","","","","","","",""]
[null,null,"","","","","","","","","","","","","","","","","","","","","",""]
[null,null,"","","","","","","","","","","","","","","","","","","","","",""]
[null,null,"","","","","","","","","","","","","","","","","","","","","",""]
[null,null,"","","","","","","","","","","","","","","","","","","","","",""]
[null,null,"","","","","","","","","","","","","","","","","","","","","",""]
[null,null,"","","","","","","","","","","","","","","","","","","","","",""]
[null,null,"","","","","","","","","","","","","","","","","","","","","",""]
[null,null,"","","","","","","","","","","","","","","","","","","","","",""]
[null,null,"","","","","","","","","","","","","","","","","","","","","",""]
[null,null,"","","","","","","","","","","","","","","","","","","","","",""]
[]
[null,"Parameters Female",null,{"$f":"TRANSPOSE(Ages_group)","v":0},"1 - 4","5 - 9","10 - 14","15 - 19","20 - 24","25 - 29","30 - 34","35 - 39","40 - 44","45 - 49","50 - 54","55 - 59","60 - 64","65 - 69","70 - 74","75 - 79","80 - 84","85 - 89","90 - 94","95+"]
[null,null,"b_x",{"$f":"INDEX(beta_F,MATCH($B$7,Causes,0),MATCH(D49,Ages_group,0))","v":-0.18782323476010199},-0.25345389171159499,-0.27999671059089398,-0.15828526671250401,-0.16582459859960599,-0.16636654421043001,0.107674482744505,9.7656551785868708E-3,0.112861258260001,6.1009415442084401E-2,0.123043140507967,0.188882275273658,0.16776350908398499,0.178812474238813,0.14937948267214901,0.15973618625234001,0.17400534655925101,0.17238064033080699,0.17941718952931399,0.19718244262651799,0.22983674788515199]
[null,null,"delta type",{"$f":"INDEX(drifts_type,MATCH($B$7,Causes,0),MATCH(C57,genders,0))","v":"historical2"}]
[null,null,"delta",{"$f":"INDEX(drifts,MATCH($B$7,Causes,0),MATCH(C57,genders,0))","v":8.7774292038229604E-2},null,"k1",null,{"$f":"INDEX(k_1,MATCH($B$7,Causes,0),MATCH(C57,genders,0))","v":1}]
[null,null,"Adjustment factors",{"$f":"INDEX(adjustment_use,MATCH($B$7,Causes,0),MATCH(C57,genders,0))","v":"no"},null,"k2",null,{"$f":"INDEX(k_2,MATCH($B$7,Causes,0),MATCH(C57,genders,0))","v":0}]
[null,null,null,null,null,"delta basis",null,{"$f":"D52*H52","v":8.7774292038229604E-2}]
[]
[null,"Death rate",null,"age"]
[null,"sex","F",{"$f":"TRANSPOSE(Ages_group)","v":0},"1 - 4","5 - 9","10 - 14","15 - 19","20 - 24","25 - 29","30 - 34","35 - 39","40 - 44","45 - 49","50 - 54","55 - 59","60 - 64","65 - 69","70 - 74","75 - 79","80 - 84","85 - 89","90 - 94","95+"]
[null,"time",{"$f":"Year_0","v":2016},{"$f":"(OFFSET(q0_F,MATCH($B$7,Causes,0),MATCH(D$16,Ages_group,0))^$H$52)*EXP($H$53)","v":0},0,0,0,0,9.7733310684874834E-8,7.3044963106707237E-7,7.4338147674977237E-7,1.7587470254089992E-6,2.2040937407476315E-6,6.9148020288170306E-6,1.5375892891067183E-5,4.674232459361326E-5,1.2780240028303815E-4,3.1058059119917997E-4,9.987348907962287E-4,3.0591503356165407E-3,8.2279944792069629E-3,1.9196507958834198E-2,4.0431309048545333E-2,8.1481315857765607E-2]
[null,null,{"$f":"IF(C58<Year_max,C58+1,\"\")","v":2017},{"$f":"IF($C59<>\"\",D58*EXP(D$50*$H$54)*\nIF($D$53=\"yes\",OFFSET(INDIRECT(\"'adjustment \" & $B$7 & \"'!C42\"),$C59-$C$58,MATCH(D$16,Ages_group))/OFFSET(INDIRECT(\"'adjustment \" & $B$7 & \"'!C42\"),$C58-$C$58,MATCH(D$16,Ages_group)),1),\"\")","v":0},{"$f":"IF($C59<>\"\",E58*EXP(E$50*$H$54)*\nIF($D$53=\"yes\",OFFSET(INDIRECT(\"'adjustment \" & $B$7 & \"'!C42\"),$C59-$C$58,MATCH(E$16,Ages_group))/OFFSET(INDIRECT(\"'adjustment \" & $B$7 & \"'!C42\"),$C58-$C$58,MATCH(E$16,Ages_group)),1),\"\")","v":0},{"$f":"IF($C59<>\"\",F58*EXP(F$50*$H$54)*\nIF($D$53=\"yes\",OFFSET(INDIRECT(\"'adjustment \" & $B$7 & \"'!C42\"),$C59-$C$58,MATCH(F$16,Ages_group))/OFFSET(INDIRECT(\"'adjustment \" & $B$7 & \"'!C42\"),$C58-$C$58,MATCH(F$16,Ages_group)),1),\"\")","v":0},{"$f":"IF($C59<>\"\",G58*EXP(G$50*$H$54)*\nIF($D$53=\"yes\",OFFSET(INDIRECT(\"'adjustment \" & $B$7 & \"'!C42\"),$C59-$C$58,MATCH(G$16,Ages_group))/OFFSET(INDIRECT(\"'adjustment \" & $B$7 & \"'!C42\"),$C58-$C$58,MATCH(G$16,Ages_group)),1),\"\")","v":0},{"$f":"IF($C59<>\"\",H58*EXP(H$50*$H$54)*\nIF($D$53=\"yes\",OFFSET(INDIRECT(\"'adjustment \" & $B$7 & \"'!C42\"),$C59-$C$58,MATCH(H$16,Ages_group))/OFFSET(INDIRECT(\"'adjustment \" & $B$7 & \"'!C42\"),$C58-$C$58,MATCH(H$16,Ages_group)),1),\"\")","v":0},{"$f":"IF($C59<>\"\",I58*EXP(I$50*$H$54)*\nIF($D$53=\"yes\",OFFSET(INDIRECT(\"'adjustment \" & $B$7 & \"'!C42\"),$C59-$C$58,MATCH(I$16,Ages_group))/OFFSET(INDIRECT(\"'adjustment \" & $B$7 & \"'!C42\"),$C58-$C$58,MATCH(I$16,Ages_group)),1),\"\")","v":9.6316509658537167E-8},{"$f":"IF($C59<>\"\",J58*EXP(J$50*$H$54)*\nIF($D$53=\"yes\",OFFSET(INDIRECT(\"'adjustment \" & $B$7 & \"'!C42\"),$C59-$C$58,MATCH(J$16,Ages_group))/OFFSET(INDIRECT(\"'adjustment \" & $B$7 & \"'!C42\"),$C58-$C$58,MATCH(J$16,Ages_group)),1),\"\")","v":7.3738587390774798E-7},{"$f":"IF($C59<>\"\",K58*EXP(K$50*$H$54)*\nIF($D$53=\"yes\",OFFSET(INDIRECT(\"'adjustment \" & $B$7 & \"'!C42\"),$C59-$C$58,MATCH(K$16,Ages_group))/OFFSET(INDIRECT(\"'adjustment \" & $B$7 & \"'!C42\"),$C58-$C$58,MATCH(K$16,Ages_group)),1),\"\")","v":7.4401895680589048E-7},{"$f":"IF($C59<>\"\",L58*EXP(L$50*$H$54)*\nIF($D$53=\"yes\",OFFSET(INDIRECT(\"'adjustment \" & $B$7 & \"'!C42\"),$C59-$C$58,MATCH(L$16,Ages_group))/OFFSET(INDIRECT(\"'adjustment \" & $B$7 & \"'!C42\"),$C58-$C$58,MATCH(L$16,Ages_group)),1),\"\")","v":1.7762563141331319E-6},{"$f":"IF($C59<>\"\",M58*EXP(M$50*$H$54)*\nIF($D$53=\"yes\",OFFSET(INDIRECT(\"'adjustment \" & $B$7 & \"'!C42\"),$C59-$C$58,MATCH(M$16,Ages_group))/OFFSET(INDIRECT(\"'adjustment \" & $B$7 & \"'!C42\"),$C58-$C$58,MATCH(M$16,Ages_group)),1),\"\")","v":2.2159284506122963E-6},{"$f":"IF($C59<>\"\",N58*EXP(N$50*$H$54)*\nIF($D$53=\"yes\",OFFSET(INDIRECT(\"'adjustment \" & $B$7 & \"'!C42\"),$C59-$C$58,MATCH(N$16,Ages_group))/OFFSET(INDIRECT(\"'adjustment \" & $B$7 & \"'!C42\"),$C58-$C$58,MATCH(N$16,Ages_group)),1),\"\")","v":6.9898867892768366E-6},{"$f":"IF($C59<>\"\",O58*EXP(O$50*$H$54)*\nIF($D$53=\"yes\",OFFSET(INDIRECT(\"'adjustment \" & $B$7 & \"'!C42\"),$C59-$C$58,MATCH(O$16,Ages_group))/OFFSET(INDIRECT(\"'adjustment \" & $B$7 & \"'!C42\"),$C58-$C$58,MATCH(O$16,Ages_group)),1),\"\")","v":1.5632934804548187E-5},{"$f":"IF($C59<>\"\",P58*EXP(P$50*$H$54)*\nIF($D$53=\"yes\",OFFSET(INDIRECT(\"'adjustment \" & $B$7 & \"'!C42\"),$C59-$C$58,MATCH(P$16,Ages_group))/OFFSET(INDIRECT(\"'adjustment \" & $B$7 & \"'!C42\"),$C58-$C$58,MATCH(P$16,Ages_group)),1),\"\")","v":4.7435713087879126E-5},{"$f":"IF($C59<>\"\",Q58*EXP(Q$50*$H$54)*\nIF($D$53=\"yes\",OFFSET(INDIRECT(\"'adjustment \" & $B$7 & \"'!C42\"),$C59-$C$58,MATCH(Q$16,Ages_group))/OFFSET(INDIRECT(\"'adjustment \" & $B$7 & \"'!C42\"),$C58-$C$58,MATCH(Q$16,Ages_group)),1),\"\")","v":1.2982410056617031E-4},{"$f":"IF($C59<>\"\",R58*EXP(R$50*$H$54)*\nIF($D$53=\"yes\",OFFSET(INDIRECT(\"'adjustment \" & $B$7 & \"'!C42\"),$C59-$C$58,MATCH(R$16,Ages_group))/OFFSET(INDIRECT(\"'adjustment \" & $B$7 & \"'!C42\"),$C58-$C$58,MATCH(R$16,Ages_group)),1),\"\")","v":3.1467963797580147E-4},{"$f":"IF($C59<>\"\",S58*EXP(S$50*$H$54)*\nIF($D$53=\"yes\",OFFSET(INDIRECT(\"'adjustment \" & $B$7 & \"'!C42\"),$C59-$C$58,MATCH(S$16,Ages_group))/OFFSET(INDIRECT(\"'adjustment \" & $B$7 & \"'!C42\"),$C58-$C$58,MATCH(S$16,Ages_group)),1),\"\")","v":1.0128365101974516E-3},{"$f":"IF($C59<>\"\",T58*EXP(T$50*$H$54)*\nIF($D$53=\"yes\",OFFSET(INDIRECT(\"'adjustment \" & $B$7 & \"'!C42\"),$C59-$C$58,MATCH(T$16,Ages_group))/OFFSET(INDIRECT(\"'adjustment \" & $B$7 & \"'!C42\"),$C58-$C$58,MATCH(T$16,Ages_group)),1),\"\")","v":3.106231966874832E-3},{"$f":"IF($C59<>\"\",U58*EXP(U$50*$H$54)*\nIF($D$53=\"yes\",OFFSET(INDIRECT(\"'adjustment \" & $B$7 & \"'!C42\"),$C59-$C$58,MATCH(U$16,Ages_group))/OFFSET(INDIRECT(\"'adjustment \" & $B$7 & \"'!C42\"),$C58-$C$58,MATCH(U$16,Ages_group)),1),\"\")","v":8.353435484202372E-3},{"$f":"IF($C59<>\"\",V58*EXP(V$50*$H$54)*\nIF($D$53=\"yes\",OFFSET(INDIRECT(\"'adjustment \" & $B$7 & \"'!C42\"),$C59-$C$58,MATCH(V$16,Ages_group))/OFFSET(INDIRECT(\"'adjustment \" & $B$7 & \"'!C42\"),$C58-$C$58,MATCH(V$16,Ages_group)),1),\"\")","v":1.9501211700735765E-2},{"$f":"IF($C59<>\"\",W58*EXP(W$50*$H$54)*\nIF($D$53=\"yes\",OFFSET(INDIRECT(\"'adjustment \" & $B$7 & \"'!C42\"),$C59-$C$58,MATCH(W$16,Ages_group))/OFFSET(INDIRECT(\"'adjustment \" & $B$7 & \"'!C42\"),$C58-$C$58,MATCH(W$16,Ages_group)),1),\"\")","v":4.1137166635865412E-2},{"$f":"IF($C59<>\"\",X58*EXP(X$50*$H$54)*\nIF($D$53=\"yes\",OFFSET(INDIRECT(\"'adjustment \" & $B$7 & \"'!C42\"),$C59-$C$58,MATCH(X$16,Ages_group))/OFFSET(INDIRECT(\"'adjustment \" & $B$7 & \"'!C42\"),$C58-$C$58,MATCH(X$16,Ages_group)),1),\"\")","v":8.3141792907725984E-2}]
[null,null,2018,0,0,0,0,0,9.492024743451946E-8,7.4438798229575028E-7,7.4465698352726008E-7,1.7939399174046079E-6,2.2278267060308512E-6,7.0657868617629038E-6,1.5894273739721141E-5,4.8139387497707818E-5,1.3187778203295602E-4,3.1883278402634104E-4,1.0271372371612214E-3,3.1540382045626061E-3,8.4807889170408022E-3,1.9810751966578454E-2,4.1855347221013216E-2,8.4836108194150994E-2]
[null,null,2019,0,0,0,0,0,9.3544226269953867E-8,7.5145658168068147E-7,7.4529555738266901E-7,1.8117995706201006E-6,2.2397888482062037E-6,7.142511099385984E-6,1.6159981530767364E-5,4.8853500407198793E-5,1.3396395059226635E-4,3.2304074335373601E-4,1.0416398829832011E-3,3.2025802006825361E-3,8.6100839339001319E-3,2.0125205525894817E-2,4.2586065941260326E-2,8.6564951293718065E-2]
[null,null,2020,0,0,0,0,0,9.218815273823277E-8,7.5859230345132145E-7,7.4593467884130715E-7,1.8298370264531077E-6,2.251815220173324E-6,7.2200684513888226E-6,1.6430131212734736E-5,4.9578206663925975E-5,1.3608312015592151E-4,3.2730423938434383E-4,1.0563472986530923E-3,3.2518692788713827E-3,8.7413501354626985E-3,2.0444650366770484E-2,4.3329541689786283E-2,8.832902583572802E-2]
[null,null,2021,0,0,0,0,0,9.0851737666437659E-8,7.6579578499202571E-7,7.4657434837276659E-7,1.8480540550259493E-6,2.2639061668090822E-6,7.2984679641900123E-6,1.6704797041612802E-5,5.0313663412514781E-5,1.3823581276528908E-4,3.3162400509231278E-4,1.0712623754150948E-3,3.3019169370415171E-3,8.8746175736920552E-3,2.07691657151861E-2,4.4085997181249961E-2,9.012904978847823E-2]
[null,null,2022,0,0,0,0,0,8.9534696073675068E-8,7.7306766973965838E-7,7.4721456644704231E-7,1.8664524440834824E-6,2.2760620348421373E-6,7.3777187824391826E-6,1.6984054514743521E-5,5.1060030128717211E-5,1.4042255871988505E-4,3.3600078312559365E-4,1.086388045336279E-3,3.3527348500630963E-3,9.0099167587130383E-3,2.1098832054666276E-2,4.4855659018505668E-2,9.196575575147159E-2]
[null,null,2023,0,0,0,0,0,8.8236747110306474E-8,7.8040860724106586E-7,7.4785533353453225E-7,1.8850339991685415E-6,2.2882831728628819E-6,7.4578301500836482E-6,1.7267980391573194E-5,5.1817468653992406E-5,1.4264389670800898E-4,3.4043532593361472E-4,1.1017272818829838E-3,3.404334872487519E-3,9.1472786657967285E-3,2.143373114624043E-2,4.5638757760484032E-2,9.3839891253580401E-2]
[null,null,2024,0,0,0,0,0,8.6957613998059149E-8,7.8781925321109635E-7,7.4849665010603766E-7,1.9038005437991278E-6,2.3005699313334366E-6,7.5388114114466359E-6,1.7556652714751323E-5,5.2586143230600212E-5,1.4490037393944584E-4,3.4492839589664195E-4,1.1172831005053529E-3,3.4567290413127973E-3,9.2867347424518999E-3,2.1773946048720447E-2,4.6435527991257941E-2,9.57522190572863E-2]
[null,null,2025,0,0,0,0,0,8.5697023971005133E-8,7.953002695911705E-7,7.4913851663276359E-7,1.9227539196473617E-6,2.3129226625977013E-6,7.6206720123172243E-6,1.7850150831582179E-5,5.3366220537215318E-5,1.4719254628026699E-4,3.4948076545684607E-4,1.1330585592301242E-3,3.509929578791488E-3,9.4283169156245822E-3,2.2119561139300227E-2,4.7246208390314237E-2,9.7703517469120302E-2]
[null,null,2026,0,0,0,0,0,8.4454708217395926E-8,8.028523246084077E-7,7.4978093358631925E-7,1.9418959867202169E-6,2.3253417208914595E-6,7.7034215010521135E-6,1.8148555415834977E-5,5.4157869725069697E-5,1.4952097838976354E-4,3.5409321725109996E-4,1.1490567592617892E-3,3.5639488952818382E-3,9.572057599007389E-3,2.2470662134482195E-2,4.8071041804052264E-2,9.9694580656429083E-2]
[null,null,"","","","","","","","","","","","","","","","","","","","","",""]
[null,null,"","","","","","","","","","","","","","","","","","","","","",""]
[null,null,"","","","","","","","","","","","","","","","","","","","","",""]
[null,null,"","","","","","","","","","","","","","","","","","","","","",""]
[null,null,"","","","","","","","","","","","","","","","","","","","","",""]
[null,null,"","","","","","","","","","","","","","","","","","","","","",""]
[null,null,"","","","","","","","","","","","","","","","","","","","","",""]
[null,null,"","","","","","","","","","","","","","","","","","","","","",""]
[null,null,"","","","","","","","","","","","","","","","","","","","","",""]
[null,null,"","","","","","","","","","","","","","","","","","","","","",""]
[null,null,"","","","","","","","","","","","","","","","","","","","","",""]
[null,null,"","","","","","","","","","","","","","","","","","","","","",""]
[null,null,"","","","","","","","","","","","","","","","","","","","","",""]
[null,null,"","","","","","","","","","","","","","","","","","","","","",""]
[null,null,"","","","","","","","","","","","","","","","","","","","","",""]
[null,null,"","","","","","","","","","","","","","","","","","","","","",""]
[null,null,"","","","","","","","","","","","","","","","","","","","","",""]
[null,null,"","","","","","","","","","","","","","","","","","","","","",""]
[null,null,"","","","","","","","","","","","","","","","","","","","","",""]
[null,null,"","","","","","","","","","","","","","","","","","","","","",""]
[null,null,""]
[null,null,""]
[null,null,""]
[null,null,""]
[null,null,""]
[null,null,""]
[null,null,""]
[null,null,""]
[null,null,""]
[null,null,""]
[null,null,""]
[null,null,""]
[null,null,""]
[null,null,""]
[null,null,""]
[null,null,""]
[null,null,""]

{"sheet":"Forecasts Diabetes","index":13,"n_rows":105,"n_cols":24,"rows_kept":105,"cut":false,"hidden":false,"merged":[[52,2,53,2],[52,3,53,3],[0,2,3,9],[0,10,3,16],[5,1,5,23],[11,2,12,2],[11,3,12,3]]}
[null,null,"Society of Actuaries - Cause of deaths forecasting tool",null,null,null,null,null,null,null,"Forecast Diabetes"]
[]
[]
[]
[]
[null,"central scenario - diffusion LC"]
[null,"Diabetes"]
[null,"Parameters Male",null,{"$f":"TRANSPOSE(Ages_group)","v":0},"1 - 4","5 - 9","10 - 14","15 - 19","20 - 24","25 - 29","30 - 34","35 - 39","40 - 44","45 - 49","50 - 54","55 - 59","60 - 64","65 - 69","70 - 74","75 - 79","80 - 84","85 - 89","90 - 94","95+"]
[null,null,"b_x",{"$f":"INDEX(beta_M,MATCH($B$7,Causes,0),MATCH(D8,Ages_group,0))","v":0.3609598421879},0.27233750276121199,0.29483027917189703,0.21097400935889399,9.8484529365939405E-2,-5.2966919259684102E-2,-8.7284380783566998E-2,-8.7374061224530106E-2,-9.4329707060712406E-2,-7.5368730119233396E-2,-5.6951987467548697E-2,-5.9126131367785301E-2,-5.15346562675996E-2,-2.1919333631608098E-2,3.8630600661379202E-2,6.6575904740145894E-2,7.6305873277578401E-2,8.91659332668161E-2,9.6880429766561402E-2,2.6655676189910701E-2,-4.4944673565964301E-2]
[null,null,"delta type",{"$f":"INDEX(drifts_type,MATCH($B$7,Causes,0),MATCH(C16,genders,0))","v":"historical2"}]
[null,null,"delta",{"$f":"INDEX(drifts,MATCH($B$7,Causes,0),MATCH(C16,genders,0))","v":-3.3145714371148598E-2},null,"k1",null,{"$f":"INDEX(k_1,MATCH($B$7,Causes,0),MATCH(C16,genders,0))","v":1}]
[null,null,"Adjustment factors",{"$f":"INDEX(adjustment_use,MATCH($B$7,Causes,0),MATCH(C16,genders,0))","v":"no"},null,"k2",null,{"$f":"INDEX(k_2,MATCH($B$7,Causes,0),MATCH(C16,genders,0))","v":0}]
[null,null,null,null,null,"delta basis",null,{"$f":"D11*H11","v":-3.3145714371148598E-2}]
[]
[null,"Death rate",null,"age"]
[null,"sex","M",{"$f":"TRANSPOSE(Ages_group)","v":0},"1 - 4","5 - 9","10 - 14","15 - 19","20 - 24","25 - 29","30 - 34","35 - 39","40 - 44","45 - 49","50 - 54","55 - 59","60 - 64","65 - 69","70 - 74","75 - 79","80 - 84","85 - 89","90 - 94","95+"]
[null,"time",{"$f":"Year_0","v":2016},{"$f":"(OFFSET(q0_M,MATCH($B$7,Causes,0),MATCH(D$16,Ages_group,0))^$H$11)*EXP($H$12)","v":2.8134139516206654E-5},5.5213012361557461E-7,3.0293143273897048E-7,1.4898556743993916E-6,4.7875124585322353E-6,1.4403054462988275E-5,3.1863922724876971E-5,6.2646782335438263E-5,1.0992831411339226E-4,1.8436794573139256E-4,2.9007988365536042E-4,4.6258360452606915E-4,7.1317572446021038E-4,1.0544639411073275E-3,1.4044645011656678E-3,1.9646921879984004E-3,3.0156049461876411E-3,4.7605450467090625E-3,7.6312398121262878E-3,1.3715325472802549E-2,2.3769583841198236E-2]
[null,null,{"$f":"IF(C17<Year_max,C17+1,\"\")","v":2017},{"$f":"IF($C18<>\"\",D17*EXP(D$9*$H$13)*\nIF($D$12=\"yes\",OFFSET(INDIRECT(\"'adjustment \" & $B$7 & \"'!C8\"),$C18-$C$17,MATCH(D$16,Ages_group))/OFFSET(INDIRECT(\"'adjustment \" & $B$7 & \"'!C8\"),$C17-$C$17,MATCH(D$16,Ages_group)),1),\"\")","v":2.7799540630684036E-5},{"$f":"IF($C18<>\"\",E17*EXP(E$9*$H$13)*\nIF($D$12=\"yes\",OFFSET(INDIRECT(\"'adjustment \" & $B$7 & \"'!C8\"),$C18-$C$17,MATCH(E$16,Ages_group))/OFFSET(INDIRECT(\"'adjustment \" & $B$7 & \"'!C8\"),$C17-$C$17,MATCH(E$16,Ages_group)),1),\"\")","v":5.47168570991578E-7},{"$f":"IF($C18<>\"\",F17*EXP(F$9*$H$13)*\nIF($D$12=\"yes\",OFFSET(INDIRECT(\"'adjustment \" & $B$7 & \"'!C8\"),$C18-$C$17,MATCH(F$16,Ages_group))/OFFSET(INDIRECT(\"'adjustment \" & $B$7 & \"'!C8\"),$C17-$C$17,MATCH(F$16,Ages_group)),1),\"\")","v":2.999854954803753E-7},{"$f":"IF($C18<>\"\",G17*EXP(G$9*$H$13)*\nIF($D$12=\"yes\",OFFSET(INDIRECT(\"'adjustment \" & $B$7 & \"'!C8\"),$C18-$C$17,MATCH(G$16,Ages_group))/OFFSET(INDIRECT(\"'adjustment \" & $B$7 & \"'!C8\"),$C17-$C$17,MATCH(G$16,Ages_group)),1),\"\")","v":1.4794736286425546E-6},{"$f":"IF($C18<>\"\",H17*EXP(H$9*$H$13)*\nIF($D$12=\"yes\",OFFSET(INDIRECT(\"'adjustment \" & $B$7 & \"'!C8\"),$C18-$C$17,MATCH(H$16,Ages_group))/OFFSET(INDIRECT(\"'adjustment \" & $B$7 & \"'!C8\"),$C17-$C$17,MATCH(H$16,Ages_group)),1),\"\")","v":4.7719098696618098E-6},{"$f":"IF($C18<>\"\",I17*EXP(I$9*$H$13)*\nIF($D$12=\"yes\",OFFSET(INDIRECT(\"'adjustment \" & $B$7 & \"'!C8\"),$C18-$C$17,MATCH(I$16,Ages_group))/OFFSET(INDIRECT(\"'adjustment \" & $B$7 & \"'!C8\"),$C17-$C$17,MATCH(I$16,Ages_group)),1),\"\")","v":1.4428363055026751E-5},{"$f":"IF($C18<>\"\",J17*EXP(J$9*$H$13)*\nIF($D$12=\"yes\",OFFSET(INDIRECT(\"'adjustment \" & $B$7 & \"'!C8\"),$C18-$C$17,MATCH(J$16,Ages_group))/OFFSET(INDIRECT(\"'adjustment \" & $B$7 & \"'!C8\"),$C17-$C$17,MATCH(J$16,Ages_group)),1),\"\")","v":3.1956241820167518E-5},{"$f":"IF($C18<>\"\",K17*EXP(K$9*$H$13)*\nIF($D$12=\"yes\",OFFSET(INDIRECT(\"'adjustment \" & $B$7 & \"'!C8\"),$C18-$C$17,MATCH(K$16,Ages_group))/OFFSET(INDIRECT(\"'adjustment \" & $B$7 & \"'!C8\"),$C17-$C$17,MATCH(K$16,Ages_group)),1),\"\")","v":6.282847512903757E-5},{"$f":"IF($C18<>\"\",L17*EXP(L$9*$H$13)*\nIF($D$12=\"yes\",OFFSET(INDIRECT(\"'adjustment \" & $B$7 & \"'!C8\"),$C18-$C$17,MATCH(L$16,Ages_group))/OFFSET(INDIRECT(\"'adjustment \" & $B$7 & \"'!C8\"),$C17-$C$17,MATCH(L$16,Ages_group)),1),\"\")","v":1.1027255666477114E-4},{"$f":"IF($C18<>\"\",M17*EXP(M$9*$H$13)*\nIF($D$12=\"yes\",OFFSET(INDIRECT(\"'adjustment \" & $B$7 & \"'!C8\"),$C18-$C$17,MATCH(M$16,Ages_group))/OFFSET(INDIRECT(\"'adjustment \" & $B$7 & \"'!C8\"),$C17-$C$17,MATCH(M$16,Ages_group)),1),\"\")","v":1.848291003659501E-4},{"$f":"IF($C18<>\"\",N17*EXP(N$9*$H$13)*\nIF($D$12=\"yes\",OFFSET(INDIRECT(\"'adjustment \" & $B$7 & \"'!C8\"),$C18-$C$17,MATCH(N$16,Ages_group))/OFFSET(INDIRECT(\"'adjustment \" & $B$7 & \"'!C8\"),$C17-$C$17,MATCH(N$16,Ages_group)),1),\"\")","v":2.9062798877279948E-4},{"$f":"IF($C18<>\"\",O17*EXP(O$9*$H$13)*\nIF($D$12=\"yes\",OFFSET(INDIRECT(\"'adjustment \" & $B$7 & \"'!C8\"),$C18-$C$17,MATCH(O$16,Ages_group))/OFFSET(INDIRECT(\"'adjustment \" & $B$7 & \"'!C8\"),$C17-$C$17,MATCH(O$16,Ages_group)),1),\"\")","v":4.6349105454341873E-4},{"$f":"IF($C18<>\"\",P17*EXP(P$9*$H$13)*\nIF($D$12=\"yes\",OFFSET(INDIRECT(\"'adjustment \" & $B$7 & \"'!C8\"),$C18-$C$17,MATCH(P$16,Ages_group))/OFFSET(INDIRECT(\"'adjustment \" & $B$7 & \"'!C8\"),$C17-$C$17,MATCH(P$16,Ages_group)),1),\"\")","v":7.1439497875121086E-4},{"$f":"IF($C18<>\"\",Q17*EXP(Q$9*$H$13)*\nIF($D$12=\"yes\",OFFSET(INDIRECT(\"'adjustment \" & $B$7 & \"'!C8\"),$C18-$C$17,MATCH(Q$16,Ages_group))/OFFSET(INDIRECT(\"'adjustment \" & $B$7 & \"'!C8\"),$C17-$C$17,MATCH(Q$16,Ages_group)),1),\"\")","v":1.0552303212397326E-3},{"$f":"IF($C18<>\"\",R17*EXP(R$9*$H$13)*\nIF($D$12=\"yes\",OFFSET(INDIRECT(\"'adjustment \" & $B$7 & \"'!C8\"),$C18-$C$17,MATCH(R$16,Ages_group))/OFFSET(INDIRECT(\"'adjustment \" & $B$7 & \"'!C8\"),$C17-$C$17,MATCH(R$16,Ages_group)),1),\"\")","v":1.4026673210823413E-3},{"$f":"IF($C18<>\"\",S17*EXP(S$9*$H$13)*\nIF($D$12=\"yes\",OFFSET(INDIRECT(\"'adjustment \" & $B$7 & \"'!C8\"),$C18-$C$17,MATCH(S$16,Ages_group))/OFFSET(INDIRECT(\"'adjustment \" & $B$7 & \"'!C8\"),$C17-$C$17,MATCH(S$16,Ages_group)),1),\"\")","v":1.9603614701789382E-3},{"$f":"IF($C18<>\"\",T17*EXP(T$9*$H$13)*\nIF($D$12=\"yes\",OFFSET(INDIRECT(\"'adjustment \" & $B$7 & \"'!C8\"),$C18-$C$17,MATCH(T$16,Ages_group))/OFFSET(INDIRECT(\"'adjustment \" & $B$7 & \"'!C8\"),$C17-$C$17,MATCH(T$16,Ages_group)),1),\"\")","v":3.0079874770787898E-3},{"$f":"IF($C18<>\"\",U17*EXP(U$9*$H$13)*\nIF($D$12=\"yes\",OFFSET(INDIRECT(\"'adjustment \" & $B$7 & \"'!C8\"),$C18-$C$17,MATCH(U$16,Ages_group))/OFFSET(INDIRECT(\"'adjustment \" & $B$7 & \"'!C8\"),$C17-$C$17,MATCH(U$16,Ages_group)),1),\"\")","v":4.7464961762391494E-3},{"$f":"IF($C18<>\"\",V17*EXP(V$9*$H$13)*\nIF($D$12=\"yes\",OFFSET(INDIRECT(\"'adjustment \" & $B$7 & \"'!C8\"),$C18-$C$17,MATCH(V$16,Ages_group))/OFFSET(INDIRECT(\"'adjustment \" & $B$7 & \"'!C8\"),$C17-$C$17,MATCH(V$16,Ages_group)),1),\"\")","v":7.6067738988813832E-3},{"$f":"IF($C18<>\"\",W17*EXP(W$9*$H$13)*\nIF($D$12=\"yes\",OFFSET(INDIRECT(\"'adjustment \" & $B$7 & \"'!C8\"),$C18-$C$17,MATCH(W$16,Ages_group))/OFFSET(INDIRECT(\"'adjustment \" & $B$7 & \"'!C8\"),$C17-$C$17,MATCH(W$16,Ages_group)),1),\"\")","v":1.3703213040421382E-2},{"$f":"IF($C18<>\"\",X17*EXP(X$9*$H$13)*\nIF($D$12=\"yes\",OFFSET(INDIRECT(\"'adjustment \" & $B$7 & \"'!C8\"),$C18-$C$17,MATCH(X$16,Ages_group))/OFFSET(INDIRECT(\"'adjustment \" & $B$7 & \"'!C8\"),$C17-$C$17,MATCH(X$16,Ages_group)),1),\"\")","v":2.3805020333105859E-2}]
[null,null,{"$f":"IF(C18<Year_max,C18+1,\"\")","v":2018},2.7468921124524643E-5,5.422516038799231E-7,2.9706820677189298E-7,1.4691639300774282E-6,4.7563581299080328E-6,1.4453716118523181E-5,3.204882839085426E-5,6.3010694881404989E-5,1.1061787721807459E-4,1.8529140847431855E-4,2.911771295333034E-4,4.6440028470499722E-4,7.1561631749485763E-4,1.0559972583741217E-3,1.400872440705593E-3,1.9560402984435629E-3,3.0003892498257721E-3,4.7324887654675574E-3,7.5823864238621988E-3,1.3691111304907633E-2,2.3840509654922792E-2]
[null,null,2019,2.7142233671031345E-5,5.3737882162620571E-7,2.9417928801308112E-7,1.4589260745532633E-6,4.7408570735527223E-6,1.4479113731621407E-5,3.2141683211891585E-5,6.3193443120864996E-5,1.109642791490856E-4,1.8575487294165125E-4,2.917273078937168E-4,4.6531129850291259E-4,7.1683974425475747E-4,1.0567647529153216E-3,1.3990798570926732E-3,1.9517286517500999E-3,2.9928102158233339E-3,4.7185226920423446E-3,7.5580771355941547E-3,1.3679020256814564E-2,2.3876051885409637E-2]
[null,null,2020,2.6819431506362683E-5,5.3254982717638275E-7,2.9131846331282131E-7,1.4487595614324802E-6,4.7254065354177746E-6,1.450455597260258E-5,3.2234807060479146E-5,6.3376721380174628E-5,1.1131176584415851E-4,1.862194966603181E-4,2.922785258145818E-4,4.662240994361234E-4,7.180652626006096E-4,1.0575328052684536E-3,1.3972895673045986E-3,1.9474265091027571E-3,2.9852503265889998E-3,4.7045978339726423E-3,7.5338457834089037E-3,1.3666939886703783E-2,2.391164710344441E-2]
[null,null,2021,2.6500468422838844E-5,5.2776422704441893E-7,2.884854594629718E-7,1.4386638935661878E-6,4.7100063508634046E-6,1.4530042919885405E-5,3.2328200716068365E-5,6.3560531196536337E-5,1.1166034070025205E-4,1.866852825299236E-4,2.9283078526014489E-4,4.6713869101045201E-4,7.1929287610821577E-4,1.0583014158389329E-3,1.3955015684061463E-3,1.9431338495520226E-3,2.9777095337627621E-3,4.6907140696275896E-3,7.5096921174417465E-3,1.3654870185145227E-2,2.3947295388022722E-2]
[null,null,2022,2.6185298762327229E-5,5.2302163128022383E-7,2.85680005912276E-7,1.428638577269873E-6,4.6946563557863908E-6,1.4555574652026383E-5,3.2421864960368975E-5,6.3744874111610871E-5,1.1201000712496261E-4,1.8715223345732495E-4,2.9338408819836403E-4,4.6805507673859816E-4,7.2052258835949136E-4,1.0590705850324696E-3,1.3937158574658492E-3,1.9388506521945635E-3,2.9701877891067704E-3,4.6768712777352723E-3,7.485615888629055E-3,1.3642811142717166E-2,2.3982996818257954E-2]
[null,null,2023,2.5873877409706709E-5,5.1832165343787714E-7,2.8290183474052491E-7,1.4186831222992581E-6,4.6793563866183269E-6,1.458115124772005E-5,3.2515800577355537E-5,6.3929751671530226E-5,1.1236076853655753E-4,1.8762035235665023E-4,2.9393843660091568E-4,4.6897326014015245E-4,7.2175440294247519E-4,1.0598403132550686E-3,1.3919324315559917E-3,1.934576896173123E-3,2.9626850445050243E-3,4.6630693373816605E-3,7.4616168487057046E-3,1.3630762750006188E-2,2.4018751473381433E-2]
[null,null,2024,2.5566159786409587E-5,5.1366391054413948E-7,2.801506806329709E-7,1.4087970418263284E-6,4.6641062803238807E-6,1.4606772785799223E-5,3.2610008353274027E-5,6.4115165426910592E-5,1.1271262836400852E-4,1.8808964214931648E-4,2.9449383244320172E-4,4.6989324474160988E-4,7.2298832345134019E-4,1.0606106009130303E-3,1.3901512877526046E-3,1.9303125606764198E-3,2.9552012519630656E-3,4.6493081280095565E-3,7.4376947502025146E-3,1.3618724997607197E-2,2.4054559432742605E-2]
[null,null,2025,2.5262101844040383E-5,5.0904802306724631E-7,2.7742628085499005E-7,1.398979852415526E-6,4.6489058743990529E-6,1.4632439345235243E-5,3.2704489076648392E-5,6.4301116932865388E-5,1.1306559004702516E-4,1.8856010576404804E-4,2.9505027770435652E-4,4.708150340763834E-4,7.2422435348640419E-4,1.0613814484129499E-3,1.3883724231354597E-3,1.9260576249390462E-3,2.9477363636076707E-3,4.6355875294175376E-3,7.4138493464436942E-3,1.3606697876123399E-2,2.4090420775809217E-2]
[null,null,2026,2.4961660058070504E-5,5.0447361488598195E-7,2.7472837522699128E-7,1.3892310740001093E-6,4.6337550068694489E-6,1.4658151005138213E-5,3.2799243538287182E-5,6.4487607749018274E-5,1.1341965703608857E-4,1.8903174613689482E-4,2.9560777436725405E-4,4.7173863168481738E-4,7.2546249665413987E-4,1.0621528561617181E-3,1.3865958347880662E-3,1.9218120682413669E-3,2.9402903316865449E-3,4.6219074217589088E-3,7.3900803915443007E-3,1.35946813761663E-2,2.412633558216748E-2]
[null,null,"","","","","","","","","","","","","","","","","","","","","",""]
[null,null,"","","","","","","","","","","","","","","","","","","","","",""]
[null,null,"","","","","","","","","","","","","","","","","","","","","",""]
[null,null,"","","","","","","","","","","","","","","","","","","","","",""]
[null,null,"","","","","","","","","","","","","","","","","","","","","",""]
[null,null,"","","","","","","","","","","","","","","","","","","","","",""]
[null,null,"","","","","","","","","","","","","","","","","","","","","",""]
[null,null,"","","","","","","","","","","","","","","","","","","","","",""]
[null,null,"","","","","","","","","","","","","","","","","","","","","",""]
[null,null,"","","","","","","","","","","","","","","","","","","","","",""]
[null,null,"","","","","","","","","","","","","","","","","","","","","",""]
[null,null,"","","","","","","","","","","","","","","","","","","","","",""]
[null,null,"","","","","","","","","","","","","","","","","","","","","",""]
[null,null,"","","","","","","","","","","","","","","","","","","","","",""]
[null,null,"","","","","","","","","","","","","","","","","","","","","",""]
[null,null,"","","","","","","","","","","","","","","","","","","","","",""]
[null,null,"","","","","","","","","","","","","","","","","","","","","",""]
[null,null,"","","","","","","","","","","","","","","","","","","","","",""]
[null,null,"","","","","","","","","","","","","","","","","","","","","",""]
[null,null,"","","","","","","","","","","","","","","","","","","","","",""]
[]
[null,"Parameters Female",null,{"$f":"TRANSPOSE(Ages_group)","v":0},"1 - 4","5 - 9","10 - 14","15 - 19","20 - 24","25 - 29","30 - 34","35 - 39","40 - 44","45 - 49","50 - 54","55 - 59","60 - 64","65 - 69","70 - 74","75 - 79","80 - 84","85 - 89","90 - 94","95+"]
[null,null,"b_x",{"$f":"INDEX(beta_F,MATCH($B$7,Causes,0),MATCH(D49,Ages_group,0))","v":0.186523452803667},0.118381597550516,7.7757405867304896E-2,0.13213353090476099,8.2435856121031797E-2,3.8365603785518398E-2,-3.23000404343032E-3,-1.5482376978563899E-2,-2.1039615758586899E-2,-1.6628848508287102E-2,-1.53535042663927E-2,1.8772753075316599E-3,2.72441481287117E-2,5.2404472210873597E-2,8.0436965240609296E-2,6.9375885801140902E-2,6.5051750060266395E-2,5.7967417545803999E-2,4.9801894362905198E-2,3.10040079634211E-2,9.7308590119783798E-4]
[null,null,"delta type",{"$f":"INDEX(drifts_type,MATCH($B$7,Causes,0),MATCH(C57,genders,0))","v":"historical2"}]
[null,null,"delta",{"$f":"INDEX(drifts,MATCH($B$7,Causes,0),MATCH(C57,genders,0))","v":-7.80925294180531E-2},null,"k1",null,{"$f":"INDEX(k_1,MATCH($B$7,Causes,0),MATCH(C57,genders,0))","v":1}]
[null,null,"Adjustment factors",{"$f":"INDEX(adjustment_use,MATCH($B$7,Causes,0),MATCH(C57,genders,0))","v":"no"},null,"k2",null,{"$f":"INDEX(k_2,MATCH($B$7,Causes,0),MATCH(C57,genders,0))","v":0}]
[null,null,null,null,null,"delta basis",null,{"$f":"D52*H52","v":-7.80925294180531E-2}]
[]
[null,"Death rate",null,"age"]
[null,"sex","F",{"$f":"TRANSPOSE(Ages_group)","v":0},"1 - 4","5 - 9","10 - 14","15 - 19","20 - 24","25 - 29","30 - 34","35 - 39","40 - 44","45 - 49","50 - 54","55 - 59","60 - 64","65 - 69","70 - 74","75 - 79","80 - 84","85 - 89","90 - 94","95+"]
[null,"time",{"$f":"Year_0","v":2016},{"$f":"(OFFSET(q0_F,MATCH($B$7,Causes,0),MATCH(D$16,Ages_group,0))^$H$52)*EXP($H$53)","v":1.7633115044240382E-5},7.0521730698187575E-7,6.4198381297073077E-7,1.0506907442797634E-6,2.5931341051750603E-6,8.2765066723496755E-6,2.1435377880197379E-5,3.7158590770996073E-5,6.0279691131012138E-5,9.7986580079243788E-5,1.6422272045188752E-4,2.6151494512370268E-4,4.1693370345293683E-4,6.1891144614048261E-4,8.8256056469364515E-4,1.4048212673397791E-3,2.1542317796767615E-3,3.5895265048882662E-3,5.9476631350688152E-3,1.0049961798880324E-2,1.7816861981309502E-2]
[null,null,{"$f":"IF(C58<Year_max,C58+1,\"\")","v":2017},{"$f":"IF($C59<>\"\",D58*EXP(D$50*$H$54)*\nIF($D$53=\"yes\",OFFSET(INDIRECT(\"'adjustment \" & $B$7 & \"'!C42\"),$C59-$C$58,MATCH(D$16,Ages_group))/OFFSET(INDIRECT(\"'adjustment \" & $B$7 & \"'!C42\"),$C58-$C$58,MATCH(D$16,Ages_group)),1),\"\")","v":1.7378131102448788E-5},{"$f":"IF($C59<>\"\",E58*EXP(E$50*$H$54)*\nIF($D$53=\"yes\",OFFSET(INDIRECT(\"'adjustment \" & $B$7 & \"'!C42\"),$C59-$C$58,MATCH(E$16,Ages_group))/OFFSET(INDIRECT(\"'adjustment \" & $B$7 & \"'!C42\"),$C58-$C$58,MATCH(E$16,Ages_group)),1),\"\")","v":6.9872781455909963E-7},{"$f":"IF($C59<>\"\",F58*EXP(F$50*$H$54)*\nIF($D$53=\"yes\",OFFSET(INDIRECT(\"'adjustment \" & $B$7 & \"'!C42\"),$C59-$C$58,MATCH(F$16,Ages_group))/OFFSET(INDIRECT(\"'adjustment \" & $B$7 & \"'!C42\"),$C58-$C$58,MATCH(F$16,Ages_group)),1),\"\")","v":6.380973241660604E-7},{"$f":"IF($C59<>\"\",G58*EXP(G$50*$H$54)*\nIF($D$53=\"yes\",OFFSET(INDIRECT(\"'adjustment \" & $B$7 & \"'!C42\"),$C59-$C$58,MATCH(G$16,Ages_group))/OFFSET(INDIRECT(\"'adjustment \" & $B$7 & \"'!C42\"),$C58-$C$58,MATCH(G$16,Ages_group)),1),\"\")","v":1.0399047869218842E-6},{"$f":"IF($C59<>\"\",H58*EXP(H$50*$H$54)*\nIF($D$53=\"yes\",OFFSET(INDIRECT(\"'adjustment \" & $B$7 & \"'!C42\"),$C59-$C$58,MATCH(H$16,Ages_group))/OFFSET(INDIRECT(\"'adjustment \" & $B$7 & \"'!C42\"),$C58-$C$58,MATCH(H$16,Ages_group)),1),\"\")","v":2.5764940999982047E-6},{"$f":"IF($C59<>\"\",I58*EXP(I$50*$H$54)*\nIF($D$53=\"yes\",OFFSET(INDIRECT(\"'adjustment \" & $B$7 & \"'!C42\"),$C59-$C$58,MATCH(I$16,Ages_group))/OFFSET(INDIRECT(\"'adjustment \" & $B$7 & \"'!C42\"),$C58-$C$58,MATCH(I$16,Ages_group)),1),\"\")","v":8.25174681310395E-6},{"$f":"IF($C59<>\"\",J58*EXP(J$50*$H$54)*\nIF($D$53=\"yes\",OFFSET(INDIRECT(\"'adjustment \" & $B$7 & \"'!C42\"),$C59-$C$58,MATCH(J$16,Ages_group))/OFFSET(INDIRECT(\"'adjustment \" & $B$7 & \"'!C42\"),$C58-$C$58,MATCH(J$16,Ages_group)),1),\"\")","v":2.1440785404426894E-5},{"$f":"IF($C59<>\"\",K58*EXP(K$50*$H$54)*\nIF($D$53=\"yes\",OFFSET(INDIRECT(\"'adjustment \" & $B$7 & \"'!C42\"),$C59-$C$58,MATCH(K$16,Ages_group))/OFFSET(INDIRECT(\"'adjustment \" & $B$7 & \"'!C42\"),$C58-$C$58,MATCH(K$16,Ages_group)),1),\"\")","v":3.7203544832237664E-5},{"$f":"IF($C59<>\"\",L58*EXP(L$50*$H$54)*\nIF($D$53=\"yes\",OFFSET(INDIRECT(\"'adjustment \" & $B$7 & \"'!C42\"),$C59-$C$58,MATCH(L$16,Ages_group))/OFFSET(INDIRECT(\"'adjustment \" & $B$7 & \"'!C42\"),$C58-$C$58,MATCH(L$16,Ages_group)),1),\"\")","v":6.0378814291792778E-5},{"$f":"IF($C59<>\"\",M58*EXP(M$50*$H$54)*\nIF($D$53=\"yes\",OFFSET(INDIRECT(\"'adjustment \" & $B$7 & \"'!C42\"),$C59-$C$58,MATCH(M$16,Ages_group))/OFFSET(INDIRECT(\"'adjustment \" & $B$7 & \"'!C42\"),$C58-$C$58,MATCH(M$16,Ages_group)),1),\"\")","v":9.8113907013509019E-5},{"$f":"IF($C59<>\"\",N58*EXP(N$50*$H$54)*\nIF($D$53=\"yes\",OFFSET(INDIRECT(\"'adjustment \" & $B$7 & \"'!C42\"),$C59-$C$58,MATCH(N$16,Ages_group))/OFFSET(INDIRECT(\"'adjustment \" & $B$7 & \"'!C42\"),$C58-$C$58,MATCH(N$16,Ages_group)),1),\"\")","v":1.6441974059505906E-4},{"$f":"IF($C59<>\"\",O58*EXP(O$50*$H$54)*\nIF($D$53=\"yes\",OFFSET(INDIRECT(\"'adjustment \" & $B$7 & \"'!C42\"),$C59-$C$58,MATCH(O$16,Ages_group))/OFFSET(INDIRECT(\"'adjustment \" & $B$7 & \"'!C42\"),$C58-$C$58,MATCH(O$16,Ages_group)),1),\"\")","v":2.6147660953498749E-4},{"$f":"IF($C59<>\"\",P58*EXP(P$50*$H$54)*\nIF($D$53=\"yes\",OFFSET(INDIRECT(\"'adjustment \" & $B$7 & \"'!C42\"),$C59-$C$58,MATCH(P$16,Ages_group))/OFFSET(INDIRECT(\"'adjustment \" & $B$7 & \"'!C42\"),$C58-$C$58,MATCH(P$16,Ages_group)),1),\"\")","v":4.1604759309465592E-4},{"$f":"IF($C59<>\"\",Q58*EXP(Q$50*$H$54)*\nIF($D$53=\"yes\",OFFSET(INDIRECT(\"'adjustment \" & $B$7 & \"'!C42\"),$C59-$C$58,MATCH(Q$16,Ages_group))/OFFSET(INDIRECT(\"'adjustment \" & $B$7 & \"'!C42\"),$C58-$C$58,MATCH(Q$16,Ages_group)),1),\"\")","v":6.1638378992253751E-4},{"$f":"IF($C59<>\"\",R58*EXP(R$50*$H$54)*\nIF($D$53=\"yes\",OFFSET(INDIRECT(\"'adjustment \" & $B$7 & \"'!C42\"),$C59-$C$58,MATCH(R$16,Ages_group))/OFFSET(INDIRECT(\"'adjustment \" & $B$7 & \"'!C42\"),$C58-$C$58,MATCH(R$16,Ages_group)),1),\"\")","v":8.7703411294140238E-4},{"$f":"IF($C59<>\"\",S58*EXP(S$50*$H$54)*\nIF($D$53=\"yes\",OFFSET(INDIRECT(\"'adjustment \" & $B$7 & \"'!C42\"),$C59-$C$58,MATCH(S$16,Ages_group))/OFFSET(INDIRECT(\"'adjustment \" & $B$7 & \"'!C42\"),$C58-$C$58,MATCH(S$16,Ages_group)),1),\"\")","v":1.3972308931075625E-3},{"$f":"IF($C59<>\"\",T58*EXP(T$50*$H$54)*\nIF($D$53=\"yes\",OFFSET(INDIRECT(\"'adjustment \" & $B$7 & \"'!C42\"),$C59-$C$58,MATCH(T$16,Ages_group))/OFFSET(INDIRECT(\"'adjustment \" & $B$7 & \"'!C42\"),$C58-$C$58,MATCH(T$16,Ages_group)),1),\"\")","v":2.1433159123164973E-3},{"$f":"IF($C59<>\"\",U58*EXP(U$50*$H$54)*\nIF($D$53=\"yes\",OFFSET(INDIRECT(\"'adjustment \" & $B$7 & \"'!C42\"),$C59-$C$58,MATCH(U$16,Ages_group))/OFFSET(INDIRECT(\"'adjustment \" & $B$7 & \"'!C42\"),$C58-$C$58,MATCH(U$16,Ages_group)),1),\"\")","v":3.5733140794728347E-3},{"$f":"IF($C59<>\"\",V58*EXP(V$50*$H$54)*\nIF($D$53=\"yes\",OFFSET(INDIRECT(\"'adjustment \" & $B$7 & \"'!C42\"),$C59-$C$58,MATCH(V$16,Ages_group))/OFFSET(INDIRECT(\"'adjustment \" & $B$7 & \"'!C42\"),$C58-$C$58,MATCH(V$16,Ages_group)),1),\"\")","v":5.924576668425793E-3},{"$f":"IF($C59<>\"\",W58*EXP(W$50*$H$54)*\nIF($D$53=\"yes\",OFFSET(INDIRECT(\"'adjustment \" & $B$7 & \"'!C42\"),$C59-$C$58,MATCH(W$16,Ages_group))/OFFSET(INDIRECT(\"'adjustment \" & $B$7 & \"'!C42\"),$C58-$C$58,MATCH(W$16,Ages_group)),1),\"\")","v":1.0025658451541098E-2},{"$f":"IF($C59<>\"\",X58*EXP(X$50*$H$54)*\nIF($D$53=\"yes\",OFFSET(INDIRECT(\"'adjustment \" & $B$7 & \"'!C42\"),$C59-$C$58,MATCH(X$16,Ages_group))/OFFSET(INDIRECT(\"'adjustment \" & $B$7 & \"'!C42\"),$C58-$C$58,MATCH(X$16,Ages_group)),1),\"\")","v":1.7815508116235623E-2}]
[null,null,2018,1.7126834360020915E-5,6.9229803920720131E-7,6.3423436367304468E-7,1.0292295537487943E-6,2.5599608728594509E-6,8.2270610250399604E-6,2.1446194292817957E-5,3.7248553278416361E-5,6.047810044944382E-5,9.8241399400514584E-5,1.6461699710587028E-4,2.6143827956590278E-4,4.1516336598918126E-4,6.1386645674191211E-4,8.7154226693769601E-4,1.3896815303423022E-3,2.1324553575559966E-3,3.5571748789625522E-3,5.9015798142793017E-3,1.0001413875837398E-2,1.7814154354039043E-2]
[null,null,2019,1.6879171498151464E-5,6.8592743140268619E-7,6.303947890542608E-7,1.0186639081117298E-6,2.5435337385697441E-6,8.2024490865675959E-6,2.1451604545714709E-5,3.7293616175326478E-5,6.0577549871995254E-5,9.8369057455255119E-5,1.6481449026789453E-4,2.613999552156248E-4,4.1428101813403042E-4,6.1135940443895727E-4,8.6608480998691623E-4,1.3821729574553954E-3,2.1216498351166895E-3,3.5411085726304243E-3,5.878672224789213E-3,9.9772279296445575E-3,1.7812800694711944E-2]
[null,null,2020,1.6635089969052566E-5,6.7961544667883935E-7,6.2657845873458398E-7,1.0082067250302938E-6,2.5272120163368515E-6,8.1779107767596507E-6,2.1457016163461372E-5,3.7338733588841915E-5,6.0677162827917811E-5,9.8496881393004643E-5,1.6501222036504536E-4,2.6136163648332985E-4,4.1340054553522753E-4,6.0886259102620514E-4,8.6066152675036639E-4,1.3747049540555022E-3,2.1108990661402264E-3,3.5251148312432151E-3,5.855853553465574E-3,9.9531004711816019E-3,1.7811447138246513E-2]
[null,null,2021,1.6394537984804477E-5,6.7336154557919248E-7,6.2278523199596748E-7,9.9785689107267375E-7,2.5109950297371485E-6,8.1534458753498401E-6,2.1462429146402261E-5,3.7383905584916277E-5,6.0776939586123703E-5,9.8624871429316914E-5,1.6521018768157693E-4,2.6132332336819441E-4,4.1252194420728501E-4,6.0637597468766644E-4,8.5527220323776583E-4,1.3672773009420762E-3,2.1002027731812814E-3,3.5091933270547005E-3,5.8331234551633705E-3,9.92903135901042E-3,1.7810093684634928E-2]
[null,null,2022,1.6157464506367498E-5,6.6716519361141908E-7,6.1901496897225364E-7,9.8761330423708818E-7,2.4948821066875846E-6,8.1290541627308253E-6,2.1467843494881773E-5,3.7429132229582952E-5,6.0876880415967328E-5,9.8753027780025779E-5,1.6540839250208444E-4,2.6128501586939509E-4,4.1164521017318569E-4,6.038995137781296E-4,8.4991662679880658E-4,1.3598897800989318E-3,2.0895606802003924E-3,3.4933437337989529E-3,5.8104815860773032E-3,9.9050204520349343E-3,1.7808740333869377E-2]
[null,null,2023,1.5923819232752779E-5,6.6102586120165377E-7,6.1526753064401695E-7,9.7747487383445109E-7,2.4788725794178319E-6,8.1047354199522416E-6,2.1473259209244397E-5,3.7474413588955212E-5,6.0976985587246006E-5,9.8881350661245555E-5,1.656068351115045E-4,2.6124671398610854E-4,4.1077033946436479E-4,6.0143316682246379E-4,8.4459458611476246E-4,1.3525421746878436E-3,2.0789725125568378E-3,3.477565726683654E-3,5.7879276037365876E-3,9.8810676095002735E-3,1.7807387085942043E-2]
[null,null,2024,1.569355259034972E-5,6.5494302364923188E-7,6.1154277883343791E-7,9.6744052037224014E-7,2.4629657844426085E-6,8.080489428718733E-6,2.1478676289834701E-5,3.7519749729226317E-5,6.1077255370200719E-5,9.9009840289371369E-5,1.6580551579511559E-4,2.6120841771751159E-4,4.0989732812069196E-4,5.9897689251492393E-4,8.393058711901512E-4,1.3452342690421829E-3,2.0684379970015475E-3,3.4618589823834402E-3,5.7654611669997755E-3,9.8571726909919451E-3,1.7806033940845113E-2]
[null,null,2025,1.5466615722407709E-5,6.4891616108184595E-7,6.0784057619920801E-7,9.5750917543955745E-7,2.4471610625341839E-6,8.0563159713879909E-6,2.1484094736997347E-5,3.756514071666961E-5,6.1177690035516804E-5,9.9138496881079547E-5,1.6600443483853842E-4,2.6117012706278122E-4,4.0902617219045324E-4,5.9653064971845911E-4,8.3405027334444812E-4,1.3379658486605867E-3,2.0579568616700527E-3,3.4462231790332765E-3,5.7430819360495952E-3,9.8333355564350165E-3,1.7804680898570773E-2]
[null,null,2026,1.5242960478669959E-5,6.429447584111145E-7,6.0416078623146575E-7,9.4767978159337048E-7,2.431457758695056E-6,8.0322148309688004E-6,2.1489514551077081E-5,3.7610586617638607E-5,6.1278289854324751E-5,9.9267320653327983E-5,1.6620359252773637E-4,2.6113184202109446E-4,4.0815686773033335E-4,5.9409439746402359E-4,8.2882758520385236E-4,1.3307367002006619E-3,2.0475288360754687E-3,3.4306579962218608E-3,5.7207895723878095E-3,9.8095560660932894E-3,1.7803327959111208E-2]
[null,null,"","","","","","","","","","","","","","","","","","","","","",""]
[null,null,"","","","","","","","","","","","","","","","","","","","","",""]
[null,null,"","","","","","","","","","","","","","","","","","","","","",""]
[null,null,"","","","","","","","","","","","","","","","","","","","","",""]
[null,null,"","","","","","","","","","","","","","","","","","","","","",""]
[null,null,"","","","","","","","","","","","","","","","","","","","","",""]
[null,null,"","","","","","","","","","","","","","","","","","","","","",""]
[null,null,"","","","","","","","","","","","","","","","","","","","","",""]
[null,null,"","","","","","","","","","","","","","","","","","","","","",""]
[null,null,"","","","","","","","","","","","","","","","","","","","","",""]
[null,null,"","","","","","","","","","","","","","","","","","","","","",""]
[null,null,"","","","","","","","","","","","","","","","","","","","","",""]
[null,null,"","","","","","","","","","","","","","","","","","","","","",""]
[null,null,"","","","","","","","","","","","","","","","","","","","","",""]
[null,null,"","","","","","","","","","","","","","","","","","","","","",""]
[null,null,"","","","","","","","","","","","","","","","","","","","","",""]
[null,null,"","","","","","","","","","","","","","","","","","","","","",""]
[null,null,"","","","","","","","","","","","","","","","","","","","","",""]
[null,null,"","","","","","","","","","","","","","","","","","","","","",""]
[null,null,"","","","","","","","","","","","","","","","","","","","","",""]
[null,null,""]
[null,null,""]
[null,null,""]
[null,null,""]
[null,null,""]
[null,null,""]
[null,null,""]
[null,null,""]
[null,null,""]
[null,null,""]
[null,null,""]
[null,null,""]
[null,null,""]
[null,null,""]
[null,null,""]
[null,null,""]
[null,null,""]

{"sheet":"Forecasts Influenza","index":14,"n_rows":105,"n_cols":24,"rows_kept":105,"cut":false,"hidden":false,"merged":[[52,2,53,2],[52,3,53,3],[0,2,3,9],[0,10,3,16],[5,1,5,23],[11,2,12,2],[11,3,12,3]]}
[null,null,"Society of Actuaries - Cause of deaths forecasting tool",null,null,null,null,null,null,null,"Forecast Influenza"]
[]
[]
[]
[]
[null,"central scenario - diffusion LC"]
[null,"Influenza"]
[null,"Parameters Male",null,{"$f":"TRANSPOSE(Ages_group)","v":0},"1 - 4","5 - 9","10 - 14","15 - 19","20 - 24","25 - 29","30 - 34","35 - 39","40 - 44","45 - 49","50 - 54","55 - 59","60 - 64","65 - 69","70 - 74","75 - 79","80 - 84","85 - 89","90 - 94","95+"]
[null,null,"b_x",{"$f":"INDEX(beta_M,MATCH($B$7,Causes,0),MATCH(D8,Ages_group,0))","v":0.12215801841026901},4.0543147606634897E-2,-5.9377939270911798E-2,-6.5184434133755895E-2,3.8245010107929101E-3,-1.8858623663333799E-2,-7.5201262486858003E-2,-5.7713344597232402E-2,2.2987939545981901E-2,4.7308177390415998E-2,4.3056764685322699E-2,3.0861922435696798E-3,-3.9271121695839399E-2,1.9594504143390899E-2,5.9068821767958198E-2,0.101289032560395,0.13543432033250399,0.17343068154129901,0.18929429988448401,0.18730968737642201,0.16722063734849099]
[null,null,"delta type",{"$f":"INDEX(drifts_type,MATCH($B$7,Causes,0),MATCH(C16,genders,0))","v":"historical2"}]
[null,null,"delta",{"$f":"INDEX(drifts,MATCH($B$7,Causes,0),MATCH(C16,genders,0))","v":-4.0386680960097898E-2},null,"k1",null,{"$f":"INDEX(k_1,MATCH($B$7,Causes,0),MATCH(C16,genders,0))","v":1}]
[null,null,"Adjustment factors",{"$f":"INDEX(adjustment_use,MATCH($B$7,Causes,0),MATCH(C16,genders,0))","v":"no"},null,"k2",null,{"$f":"INDEX(k_2,MATCH($B$7,Causes,0),MATCH(C16,genders,0))","v":0}]
[null,null,null,null,null,"delta basis",null,{"$f":"D11*H11","v":-4.0386680960097898E-2}]
[]
[null,"Death rate",null,"age"]
[null,"sex","M",{"$f":"TRANSPOSE(Ages_group)","v":0},"1 - 4","5 - 9","10 - 14","15 - 19","20 - 24","25 - 29","30 - 34","35 - 39","40 - 44","45 - 49","50 - 54","55 - 59","60 - 64","65 - 69","70 - 74","75 - 79","80 - 84","85 - 89","90 - 94","95+"]
[null,"time",{"$f":"Year_0","v":2016},{"$f":"(OFFSET(q0_M,MATCH($B$7,Causes,0),MATCH(D$16,Ages_group,0))^$H$11)*EXP($H$12)","v":7.0299788533994298E-5},9.4197500693383109E-6,3.728297725443933E-6,3.1868182108176383E-6,4.0751872097741136E-6,6.6019527333580332E-6,9.6821762875318845E-6,1.5911177031749351E-5,2.0143824996825521E-5,2.9115945042626943E-5,4.4519469720060711E-5,7.4699642010195492E-5,1.2226212251151131E-4,1.8064562559329126E-4,2.7676699911539509E-4,4.7826264373469556E-4,8.7600153615980151E-4,1.7823936707106014E-3,3.5994206342059381E-3,7.6010693759504889E-3,1.6861694140345846E-2]
[null,null,{"$f":"IF(C17<Year_max,C17+1,\"\")","v":2017},{"$f":"IF($C18<>\"\",D17*EXP(D$9*$H$13)*\nIF($D$12=\"yes\",OFFSET(INDIRECT(\"'adjustment \" & $B$7 & \"'!C8\"),$C18-$C$17,MATCH(D$16,Ages_group))/OFFSET(INDIRECT(\"'adjustment \" & $B$7 & \"'!C8\"),$C17-$C$17,MATCH(D$16,Ages_group)),1),\"\")","v":6.9953814668688845E-5},{"$f":"IF($C18<>\"\",E17*EXP(E$9*$H$13)*\nIF($D$12=\"yes\",OFFSET(INDIRECT(\"'adjustment \" & $B$7 & \"'!C8\"),$C18-$C$17,MATCH(E$16,Ages_group))/OFFSET(INDIRECT(\"'adjustment \" & $B$7 & \"'!C8\"),$C17-$C$17,MATCH(E$16,Ages_group)),1),\"\")","v":9.4043387614430882E-6},{"$f":"IF($C18<>\"\",F17*EXP(F$9*$H$13)*\nIF($D$12=\"yes\",OFFSET(INDIRECT(\"'adjustment \" & $B$7 & \"'!C8\"),$C18-$C$17,MATCH(F$16,Ages_group))/OFFSET(INDIRECT(\"'adjustment \" & $B$7 & \"'!C8\"),$C17-$C$17,MATCH(F$16,Ages_group)),1),\"\")","v":3.7372492026643999E-6},{"$f":"IF($C18<>\"\",G17*EXP(G$9*$H$13)*\nIF($D$12=\"yes\",OFFSET(INDIRECT(\"'adjustment \" & $B$7 & \"'!C8\"),$C18-$C$17,MATCH(G$16,Ages_group))/OFFSET(INDIRECT(\"'adjustment \" & $B$7 & \"'!C8\"),$C17-$C$17,MATCH(G$16,Ages_group)),1),\"\")","v":3.1952188268956181E-6},{"$f":"IF($C18<>\"\",H17*EXP(H$9*$H$13)*\nIF($D$12=\"yes\",OFFSET(INDIRECT(\"'adjustment \" & $B$7 & \"'!C8\"),$C18-$C$17,MATCH(H$16,Ages_group))/OFFSET(INDIRECT(\"'adjustment \" & $B$7 & \"'!C8\"),$C17-$C$17,MATCH(H$16,Ages_group)),1),\"\")","v":4.0745578094411115E-6},{"$f":"IF($C18<>\"\",I17*EXP(I$9*$H$13)*\nIF($D$12=\"yes\",OFFSET(INDIRECT(\"'adjustment \" & $B$7 & \"'!C8\"),$C18-$C$17,MATCH(I$16,Ages_group))/OFFSET(INDIRECT(\"'adjustment \" & $B$7 & \"'!C8\"),$C17-$C$17,MATCH(I$16,Ages_group)),1),\"\")","v":6.6069829416199496E-6},{"$f":"IF($C18<>\"\",J17*EXP(J$9*$H$13)*\nIF($D$12=\"yes\",OFFSET(INDIRECT(\"'adjustment \" & $B$7 & \"'!C8\"),$C18-$C$17,MATCH(J$16,Ages_group))/OFFSET(INDIRECT(\"'adjustment \" & $B$7 & \"'!C8\"),$C17-$C$17,MATCH(J$16,Ages_group)),1),\"\")","v":9.7116270099397936E-6},{"$f":"IF($C18<>\"\",K17*EXP(K$9*$H$13)*\nIF($D$12=\"yes\",OFFSET(INDIRECT(\"'adjustment \" & $B$7 & \"'!C8\"),$C18-$C$17,MATCH(K$16,Ages_group))/OFFSET(INDIRECT(\"'adjustment \" & $B$7 & \"'!C8\"),$C17-$C$17,MATCH(K$16,Ages_group)),1),\"\")","v":1.5948306860890451E-5},{"$f":"IF($C18<>\"\",L17*EXP(L$9*$H$13)*\nIF($D$12=\"yes\",OFFSET(INDIRECT(\"'adjustment \" & $B$7 & \"'!C8\"),$C18-$C$17,MATCH(L$16,Ages_group))/OFFSET(INDIRECT(\"'adjustment \" & $B$7 & \"'!C8\"),$C17-$C$17,MATCH(L$16,Ages_group)),1),\"\")","v":2.012513201583054E-5},{"$f":"IF($C18<>\"\",M17*EXP(M$9*$H$13)*\nIF($D$12=\"yes\",OFFSET(INDIRECT(\"'adjustment \" & $B$7 & \"'!C8\"),$C18-$C$17,MATCH(M$16,Ages_group))/OFFSET(INDIRECT(\"'adjustment \" & $B$7 & \"'!C8\"),$C17-$C$17,MATCH(M$16,Ages_group)),1),\"\")","v":2.9060368637543217E-5},{"$f":"IF($C18<>\"\",N17*EXP(N$9*$H$13)*\nIF($D$12=\"yes\",OFFSET(INDIRECT(\"'adjustment \" & $B$7 & \"'!C8\"),$C18-$C$17,MATCH(N$16,Ages_group))/OFFSET(INDIRECT(\"'adjustment \" & $B$7 & \"'!C8\"),$C17-$C$17,MATCH(N$16,Ages_group)),1),\"\")","v":4.4442121202780111E-5},{"$f":"IF($C18<>\"\",O17*EXP(O$9*$H$13)*\nIF($D$12=\"yes\",OFFSET(INDIRECT(\"'adjustment \" & $B$7 & \"'!C8\"),$C18-$C$17,MATCH(O$16,Ages_group))/OFFSET(INDIRECT(\"'adjustment \" & $B$7 & \"'!C8\"),$C17-$C$17,MATCH(O$16,Ages_group)),1),\"\")","v":7.4690331947740079E-5},{"$f":"IF($C18<>\"\",P17*EXP(P$9*$H$13)*\nIF($D$12=\"yes\",OFFSET(INDIRECT(\"'adjustment \" & $B$7 & \"'!C8\"),$C18-$C$17,MATCH(P$16,Ages_group))/OFFSET(INDIRECT(\"'adjustment \" & $B$7 & \"'!C8\"),$C17-$C$17,MATCH(P$16,Ages_group)),1),\"\")","v":1.224561877938425E-4},{"$f":"IF($C18<>\"\",Q17*EXP(Q$9*$H$13)*\nIF($D$12=\"yes\",OFFSET(INDIRECT(\"'adjustment \" & $B$7 & \"'!C8\"),$C18-$C$17,MATCH(Q$16,Ages_group))/OFFSET(INDIRECT(\"'adjustment \" & $B$7 & \"'!C8\"),$C17-$C$17,MATCH(Q$16,Ages_group)),1),\"\")","v":1.8050272696460451E-4},{"$f":"IF($C18<>\"\",R17*EXP(R$9*$H$13)*\nIF($D$12=\"yes\",OFFSET(INDIRECT(\"'adjustment \" & $B$7 & \"'!C8\"),$C18-$C$17,MATCH(R$16,Ages_group))/OFFSET(INDIRECT(\"'adjustment \" & $B$7 & \"'!C8\"),$C17-$C$17,MATCH(R$16,Ages_group)),1),\"\")","v":2.7610753243968082E-4},{"$f":"IF($C18<>\"\",S17*EXP(S$9*$H$13)*\nIF($D$12=\"yes\",OFFSET(INDIRECT(\"'adjustment \" & $B$7 & \"'!C8\"),$C18-$C$17,MATCH(S$16,Ages_group))/OFFSET(INDIRECT(\"'adjustment \" & $B$7 & \"'!C8\"),$C17-$C$17,MATCH(S$16,Ages_group)),1),\"\")","v":4.7631019760737304E-4},{"$f":"IF($C18<>\"\",T17*EXP(T$9*$H$13)*\nIF($D$12=\"yes\",OFFSET(INDIRECT(\"'adjustment \" & $B$7 & \"'!C8\"),$C18-$C$17,MATCH(T$16,Ages_group))/OFFSET(INDIRECT(\"'adjustment \" & $B$7 & \"'!C8\"),$C17-$C$17,MATCH(T$16,Ages_group)),1),\"\")","v":8.7122311344895885E-4},{"$f":"IF($C18<>\"\",U17*EXP(U$9*$H$13)*\nIF($D$12=\"yes\",OFFSET(INDIRECT(\"'adjustment \" & $B$7 & \"'!C8\"),$C18-$C$17,MATCH(U$16,Ages_group))/OFFSET(INDIRECT(\"'adjustment \" & $B$7 & \"'!C8\"),$C17-$C$17,MATCH(U$16,Ages_group)),1),\"\")","v":1.7699528895316616E-3},{"$f":"IF($C18<>\"\",V17*EXP(V$9*$H$13)*\nIF($D$12=\"yes\",OFFSET(INDIRECT(\"'adjustment \" & $B$7 & \"'!C8\"),$C18-$C$17,MATCH(V$16,Ages_group))/OFFSET(INDIRECT(\"'adjustment \" & $B$7 & \"'!C8\"),$C17-$C$17,MATCH(V$16,Ages_group)),1),\"\")","v":3.5720080943633446E-3},{"$f":"IF($C18<>\"\",W17*EXP(W$9*$H$13)*\nIF($D$12=\"yes\",OFFSET(INDIRECT(\"'adjustment \" & $B$7 & \"'!C8\"),$C18-$C$17,MATCH(W$16,Ages_group))/OFFSET(INDIRECT(\"'adjustment \" & $B$7 & \"'!C8\"),$C17-$C$17,MATCH(W$16,Ages_group)),1),\"\")","v":7.5437856239900167E-3},{"$f":"IF($C18<>\"\",X17*EXP(X$9*$H$13)*\nIF($D$12=\"yes\",OFFSET(INDIRECT(\"'adjustment \" & $B$7 & \"'!C8\"),$C18-$C$17,MATCH(X$16,Ages_group))/OFFSET(INDIRECT(\"'adjustment \" & $B$7 & \"'!C8\"),$C17-$C$17,MATCH(X$16,Ages_group)),1),\"\")","v":1.674820257930958E-2}]
[null,null,{"$f":"IF(C18<Year_max,C18+1,\"\")","v":2018},6.9609543481555987E-5,9.3889526674239541E-6,3.7462221719840311E-6,3.2036415874279785E-6,4.0739285063170867E-6,6.6120169825350491E-6,9.7411673139690848E-6,1.598552333504903E-5,2.0106456381468509E-5,2.9004898316489993E-5,4.4364907071492046E-5,7.468102304562842E-5,1.2265056111379836E-4,1.8035994137501302E-4,2.7544963710844682E-4,4.7436572209186815E-4,8.6647075613031129E-4,1.7575989427254452E-3,3.5448043234913682E-3,7.4869335781588232E-3,1.663547489966739E-2]
[null,null,2019,6.9266966593023582E-5,9.3735917460294114E-6,3.7552166850044015E-6,3.2120865507886362E-6,4.0732993003870246E-6,6.6170548590235344E-6,9.7707974721043111E-6,1.6022826656417215E-5,2.0087798077642176E-5,2.8949533876974479E-5,4.4287827092713116E-5,7.4671715303715894E-5,1.2284524296032353E-4,1.8021726873509791E-4,2.7479330937757142E-4,4.7242918464917671E-4,8.6174432202207384E-4,1.745331224203944E-3,3.5178077316430963E-3,7.4305099850006367E-3,1.6523505959937578E-2]
[null,null,2020,6.8926075664758784E-5,9.3582559560754509E-6,3.76423279345098E-6,3.2205537755053842E-6,4.072670191635915E-6,6.6220965740078344E-6,9.8005177576588506E-6,1.6060217027658959E-5,2.0069157088269225E-5,2.8894275116890398E-5,4.4210881033365578E-5,7.4662408721857897E-5,1.2304023382313874E-4,1.8007470895551101E-4,2.7413854551185422E-4,4.7050055287313085E-4,8.5704366971803628E-4,1.7331491321095327E-3,3.491016740980366E-3,7.3745116155781287E-3,1.6412290653244385E-2]
[null,null,2021,6.8586862399465083E-5,9.3429452564454434E-6,3.7732705491734255E-6,3.2290433202602974E-6,4.0720411800487476E-6,6.6271421304126039E-6,9.8303284447774356E-6,1.6097694651911146E-5,2.0050533397282261E-5,2.8839121834517253E-5,4.413406866077663E-5,7.4653103299909864E-5,1.2323553419274204E-4,1.7993226194697485E-4,2.7348534178499491E-4,4.6857979448985672E-4,8.5236865858333267E-4,1.7210520687854424E-3,3.4644297856815456E-3,7.3189352652881312E-3,1.6301823907085067E-2]
[null,null,2022,6.8249318540680341E-5,9.3276596060900293E-6,3.7823300041458855E-6,3.2375552438901402E-6,4.0714122656105172E-6,6.6321915311647264E-6,9.8602298084386739E-6,1.6135259732784698E-5,2.0031926988628804E-5,2.8784073828519593E-5,4.4057389742677728E-5,7.4643799037727216E-5,1.2343114456041005E-4,1.7978992762028256E-4,2.7283369447957199E-4,4.6666687735723446E-4,8.4771914875023341E-4,1.7090394407464386E-3,3.4380453118500191E-3,7.2637777536782482E-3,1.619210068309854E-2]
[null,null,2023,6.791343587257581E-5,9.3123989640270085E-6,3.7914112104672958E-6,3.2460896053867731E-6,4.0707834483062187E-6,6.6372447791933146E-6,9.8902221244575909E-6,1.6172912474365669E-5,2.0013337846271266E-5,2.8729130897946269E-5,4.398084404720387E-5,7.4634495935165416E-5,1.2362706541819919E-4,1.7964770588629786E-4,2.7218359988702174E-4,4.6476176946436029E-4,8.4309500111396101E-4,1.697110658649705E-3,3.4118617774233678E-3,7.2090359242648486E-3,1.6083115976835594E-2]
[null,null,2024,6.7579206219756194E-5,9.2971632893412304E-6,3.8005142203616786E-6,3.2546464638975629E-6,4.0701547281208493E-6,6.6423018774297141E-6,9.9203056694881695E-6,1.621065308121637E-5,1.9994765954186943E-5,2.8674292842229717E-5,4.3904431342892894E-5,7.4625193992079925E-5,1.2382329725894691E-4,1.7950559665595497E-4,2.7153505430761688E-4,4.6286443893101085E-4,8.3849607732852834E-4,1.6852651372659302E-3,3.3858776520832427E-3,7.154706644352431E-3,1.5974864817530614E-2]
[null,null,2025,6.7246621447060654E-5,9.2819525411844837E-6,3.809639086178444E-6,3.2632258787257916E-6,4.0695261050394106E-6,6.6473628288075031E-6,9.9504807210259045E-6,1.6248481758376469E-5,1.9976211296368003E-5,2.8619559461185205E-5,4.3828151398684789E-5,7.4615893208326248E-5,1.2401984057627295E-4,1.7936359984025856E-4,2.7088805405044576E-4,4.6097485400710972E-4,8.339222398025994E-4,1.6735022954505962E-3,3.3600914171659237E-3,7.1007868048543503E-3,1.5867342267874895E-2]
[null,null,2026,6.6915673459364764E-5,9.2667666787753879E-6,3.818785860392691E-6,3.2718279093310671E-6,4.0688975790469044E-6,6.6524276362624963E-6,9.9807475574103608E-6,1.6286398711364105E-5,1.9957673856821463E-5,2.8564930555010119E-5,4.3752003983920992E-5,7.4606593583759887E-5,1.2421669586458055E-4,1.792217153502837E-4,2.7024259543339125E-4,4.5909298307219611E-4,8.2937335169537281E-4,1.6618215561154672E-3,3.3345015655735612E-3,7.0472733201148953E-3,1.5760543423791431E-2]
[null,null,"","","","","","","","","","","","","","","","","","","","","",""]
[null,null,"","","","","","","","","","","","","","","","","","","","","",""]
[null,null,"","","","","","","","","","","","","","","","","","","","","",""]
[null,null,"","","","","","","","","","","","","","","","","","","","","",""]
[null,null,"","","","","","","","","","","","","","","","","","","","","",""]
[null,null,"","","","","","","","","","","","","","","","","","","","","",""]
[null,null,"","","","","","","","","","","","","","","","","","","","","",""]
[null,null,"","","","","","","","","","","","","","","","","","","","","",""]
[null,null,"","","","","","","","","","","","","","","","","","","","","",""]
[null,null,"","","","","","","","","","","","","","","","","","","","","",""]
[null,null,"","","","","","","","","","","","","","","","","","","","","",""]
[null,null,"","","","","","","","","","","","","","","","","","","","","",""]
[null,null,"","","","","","","","","","","","","","","","","","","","","",""]
[null,null,"","","","","","","","","","","","","","","","","","","","","",""]
[null,null,"","","","","","","","","","","","","","","","","","","","","",""]
[null,null,"","","","","","","","","","","","","","","","","","","","","",""]
[null,null,"","","","","","","","","","","","","","","","","","","","","",""]
[null,null,"","","","","","","","","","","","","","","","","","","","","",""]
[null,null,"","","","","","","","","","","","","","","","","","","","","",""]
[null,null,"","","","","","","","","","","","","","","","","","","","","",""]
[]
[null,"Parameters Female",null,{"$f":"TRANSPOSE(Ages_group)","v":0},"1 - 4","5 - 9","10 - 14","15 - 19","20 - 24","25 - 29","30 - 34","35 - 39","40 - 44","45 - 49","50 - 54","55 - 59","60 - 64","65 - 69","70 - 74","75 - 79","80 - 84","85 - 89","90 - 94","95+"]
[null,null,"b_x",{"$f":"INDEX(beta_F,MATCH($B$7,Causes,0),MATCH(D49,Ages_group,0))","v":0.23210440428369999},7.5758315806583806E-2,-9.2345357652732094E-2,-4.3742136099131301E-2,4.4965886170431997E-3,-2.64933902428293E-2,-0.16557940840243801,-0.13392163545668201,-1.58129528687047E-3,-2.6260353352977699E-2,-2.31677579135438E-2,-7.8458345523057901E-2,-5.14782762633193E-2,2.2365793609352098E-2,4.5518970869134499E-2,0.11104203508131499,0.15879939665124199,0.21570166626454301,0.256636097029393,0.26285988712843,0.25774480085284601]
[null,null,"delta type",{"$f":"INDEX(drifts_type,MATCH($B$7,Causes,0),MATCH(C57,genders,0))","v":"historical2"}]
[null,null,"delta",{"$f":"INDEX(drifts,MATCH($B$7,Causes,0),MATCH(C57,genders,0))","v":-2.3007339314683E-4},null,"k1",null,{"$f":"INDEX(k_1,MATCH($B$7,Causes,0),MATCH(C57,genders,0))","v":1}]
[null,null,"Adjustment factors",{"$f":"INDEX(adjustment_use,MATCH($B$7,Causes,0),MATCH(C57,genders,0))","v":"no"},null,"k2",null,{"$f":"INDEX(k_2,MATCH($B$7,Causes,0),MATCH(C57,genders,0))","v":0}]
[null,null,null,null,null,"delta basis",null,{"$f":"D52*H52","v":-2.3007339314683E-4}]
[]
[null,"Death rate",null,"age"]
[null,"sex","F",{"$f":"TRANSPOSE(Ages_group)","v":0},"1 - 4","5 - 9","10 - 14","15 - 19","20 - 24","25 - 29","30 - 34","35 - 39","40 - 44","45 - 49","50 - 54","55 - 59","60 - 64","65 - 69","70 - 74","75 - 79","80 - 84","85 - 89","90 - 94","95+"]
[null,"time",{"$f":"Year_0","v":2016},{"$f":"(OFFSET(q0_F,MATCH($B$7,Causes,0),MATCH(D$16,Ages_group,0))^$H$52)*EXP($H$53)","v":4.3171253347336962E-5},8.8760315735259112E-6,3.3949721308052586E-6,2.9404792883097933E-6,3.5056105499142386E-6,5.1295467116588259E-6,8.4840540424849295E-6,1.284797170944891E-5,1.8647814809689273E-5,2.5113639353205142E-5,3.3765197310871586E-5,5.3502075134500418E-5,8.383560472651043E-5,1.2879389997625724E-4,1.9286238655502914E-4,3.3291939793915552E-4,6.2283515627992191E-4,1.2663762250494086E-3,2.5650965259997852E-3,5.3431681590675817E-3,1.1283377418028604E-2]
[null,null,{"$f":"IF(C58<Year_max,C58+1,\"\")","v":2017},{"$f":"IF($C59<>\"\",D58*EXP(D$50*$H$54)*\nIF($D$53=\"yes\",OFFSET(INDIRECT(\"'adjustment \" & $B$7 & \"'!C42\"),$C59-$C$58,MATCH(D$16,Ages_group))/OFFSET(INDIRECT(\"'adjustment \" & $B$7 & \"'!C42\"),$C58-$C$58,MATCH(D$16,Ages_group)),1),\"\")","v":4.3168948018724907E-5},{"$f":"IF($C59<>\"\",E58*EXP(E$50*$H$54)*\nIF($D$53=\"yes\",OFFSET(INDIRECT(\"'adjustment \" & $B$7 & \"'!C42\"),$C59-$C$58,MATCH(E$16,Ages_group))/OFFSET(INDIRECT(\"'adjustment \" & $B$7 & \"'!C42\"),$C58-$C$58,MATCH(E$16,Ages_group)),1),\"\")","v":8.8758768658854987E-6},{"$f":"IF($C59<>\"\",F58*EXP(F$50*$H$54)*\nIF($D$53=\"yes\",OFFSET(INDIRECT(\"'adjustment \" & $B$7 & \"'!C42\"),$C59-$C$58,MATCH(F$16,Ages_group))/OFFSET(INDIRECT(\"'adjustment \" & $B$7 & \"'!C42\"),$C58-$C$58,MATCH(F$16,Ages_group)),1),\"\")","v":3.395044261861588E-6},{"$f":"IF($C59<>\"\",G58*EXP(G$50*$H$54)*\nIF($D$53=\"yes\",OFFSET(INDIRECT(\"'adjustment \" & $B$7 & \"'!C42\"),$C59-$C$58,MATCH(G$16,Ages_group))/OFFSET(INDIRECT(\"'adjustment \" & $B$7 & \"'!C42\"),$C58-$C$58,MATCH(G$16,Ages_group)),1),\"\")","v":2.9405088811531401E-6},{"$f":"IF($C59<>\"\",H58*EXP(H$50*$H$54)*\nIF($D$53=\"yes\",OFFSET(INDIRECT(\"'adjustment \" & $B$7 & \"'!C42\"),$C59-$C$58,MATCH(H$16,Ages_group))/OFFSET(INDIRECT(\"'adjustment \" & $B$7 & \"'!C42\"),$C58-$C$58,MATCH(H$16,Ages_group)),1),\"\")","v":3.5056069232028438E-6},{"$f":"IF($C59<>\"\",I58*EXP(I$50*$H$54)*\nIF($D$53=\"yes\",OFFSET(INDIRECT(\"'adjustment \" & $B$7 & \"'!C42\"),$C59-$C$58,MATCH(I$16,Ages_group))/OFFSET(INDIRECT(\"'adjustment \" & $B$7 & \"'!C42\"),$C58-$C$58,MATCH(I$16,Ages_group)),1),\"\")","v":5.1295779785172241E-6},{"$f":"IF($C59<>\"\",J58*EXP(J$50*$H$54)*\nIF($D$53=\"yes\",OFFSET(INDIRECT(\"'adjustment \" & $B$7 & \"'!C42\"),$C59-$C$58,MATCH(J$16,Ages_group))/OFFSET(INDIRECT(\"'adjustment \" & $B$7 & \"'!C42\"),$C58-$C$58,MATCH(J$16,Ages_group)),1),\"\")","v":8.484377252212178E-6},{"$f":"IF($C59<>\"\",K58*EXP(K$50*$H$54)*\nIF($D$53=\"yes\",OFFSET(INDIRECT(\"'adjustment \" & $B$7 & \"'!C42\"),$C59-$C$58,MATCH(K$16,Ages_group))/OFFSET(INDIRECT(\"'adjustment \" & $B$7 & \"'!C42\"),$C58-$C$58,MATCH(K$16,Ages_group)),1),\"\")","v":1.2848367584747749E-5},{"$f":"IF($C59<>\"\",L58*EXP(L$50*$H$54)*\nIF($D$53=\"yes\",OFFSET(INDIRECT(\"'adjustment \" & $B$7 & \"'!C42\"),$C59-$C$58,MATCH(L$16,Ages_group))/OFFSET(INDIRECT(\"'adjustment \" & $B$7 & \"'!C42\"),$C58-$C$58,MATCH(L$16,Ages_group)),1),\"\")","v":1.8647821594026088E-5},{"$f":"IF($C59<>\"\",M58*EXP(M$50*$H$54)*\nIF($D$53=\"yes\",OFFSET(INDIRECT(\"'adjustment \" & $B$7 & \"'!C42\"),$C59-$C$58,MATCH(M$16,Ages_group))/OFFSET(INDIRECT(\"'adjustment \" & $B$7 & \"'!C42\"),$C58-$C$58,MATCH(M$16,Ages_group)),1),\"\")","v":2.5113791085465759E-5},{"$f":"IF($C59<>\"\",N58*EXP(N$50*$H$54)*\nIF($D$53=\"yes\",OFFSET(INDIRECT(\"'adjustment \" & $B$7 & \"'!C42\"),$C59-$C$58,MATCH(N$16,Ages_group))/OFFSET(INDIRECT(\"'adjustment \" & $B$7 & \"'!C42\"),$C58-$C$58,MATCH(N$16,Ages_group)),1),\"\")","v":3.3765377289465023E-5},{"$f":"IF($C59<>\"\",O58*EXP(O$50*$H$54)*\nIF($D$53=\"yes\",OFFSET(INDIRECT(\"'adjustment \" & $B$7 & \"'!C42\"),$C59-$C$58,MATCH(O$16,Ages_group))/OFFSET(INDIRECT(\"'adjustment \" & $B$7 & \"'!C42\"),$C58-$C$58,MATCH(O$16,Ages_group)),1),\"\")","v":5.3503040918686753E-5},{"$f":"IF($C59<>\"\",P58*EXP(P$50*$H$54)*\nIF($D$53=\"yes\",OFFSET(INDIRECT(\"'adjustment \" & $B$7 & \"'!C42\"),$C59-$C$58,MATCH(P$16,Ages_group))/OFFSET(INDIRECT(\"'adjustment \" & $B$7 & \"'!C42\"),$C58-$C$58,MATCH(P$16,Ages_group)),1),\"\")","v":8.3836597662990972E-5},{"$f":"IF($C59<>\"\",Q58*EXP(Q$50*$H$54)*\nIF($D$53=\"yes\",OFFSET(INDIRECT(\"'adjustment \" & $B$7 & \"'!C42\"),$C59-$C$58,MATCH(Q$16,Ages_group))/OFFSET(INDIRECT(\"'adjustment \" & $B$7 & \"'!C42\"),$C58-$C$58,MATCH(Q$16,Ages_group)),1),\"\")","v":1.2879323723365718E-4},{"$f":"IF($C59<>\"\",R58*EXP(R$50*$H$54)*\nIF($D$53=\"yes\",OFFSET(INDIRECT(\"'adjustment \" & $B$7 & \"'!C42\"),$C59-$C$58,MATCH(R$16,Ages_group))/OFFSET(INDIRECT(\"'adjustment \" & $B$7 & \"'!C42\"),$C58-$C$58,MATCH(R$16,Ages_group)),1),\"\")","v":1.9286036677490281E-4},{"$f":"IF($C59<>\"\",S58*EXP(S$50*$H$54)*\nIF($D$53=\"yes\",OFFSET(INDIRECT(\"'adjustment \" & $B$7 & \"'!C42\"),$C59-$C$58,MATCH(S$16,Ages_group))/OFFSET(INDIRECT(\"'adjustment \" & $B$7 & \"'!C42\"),$C58-$C$58,MATCH(S$16,Ages_group)),1),\"\")","v":3.3291089268368301E-4},{"$f":"IF($C59<>\"\",T58*EXP(T$50*$H$54)*\nIF($D$53=\"yes\",OFFSET(INDIRECT(\"'adjustment \" & $B$7 & \"'!C42\"),$C59-$C$58,MATCH(T$16,Ages_group))/OFFSET(INDIRECT(\"'adjustment \" & $B$7 & \"'!C42\"),$C58-$C$58,MATCH(T$16,Ages_group)),1),\"\")","v":6.2281240109178244E-4},{"$f":"IF($C59<>\"\",U58*EXP(U$50*$H$54)*\nIF($D$53=\"yes\",OFFSET(INDIRECT(\"'adjustment \" & $B$7 & \"'!C42\"),$C59-$C$58,MATCH(U$16,Ages_group))/OFFSET(INDIRECT(\"'adjustment \" & $B$7 & \"'!C42\"),$C58-$C$58,MATCH(U$16,Ages_group)),1),\"\")","v":1.2663133798845763E-3},{"$f":"IF($C59<>\"\",V58*EXP(V$50*$H$54)*\nIF($D$53=\"yes\",OFFSET(INDIRECT(\"'adjustment \" & $B$7 & \"'!C42\"),$C59-$C$58,MATCH(V$16,Ages_group))/OFFSET(INDIRECT(\"'adjustment \" & $B$7 & \"'!C42\"),$C58-$C$58,MATCH(V$16,Ages_group)),1),\"\")","v":2.5649450739936245E-3},{"$f":"IF($C59<>\"\",W58*EXP(W$50*$H$54)*\nIF($D$53=\"yes\",OFFSET(INDIRECT(\"'adjustment \" & $B$7 & \"'!C42\"),$C59-$C$58,MATCH(W$16,Ages_group))/OFFSET(INDIRECT(\"'adjustment \" & $B$7 & \"'!C42\"),$C58-$C$58,MATCH(W$16,Ages_group)),1),\"\")","v":5.3428450297044114E-3},{"$f":"IF($C59<>\"\",X58*EXP(X$50*$H$54)*\nIF($D$53=\"yes\",OFFSET(INDIRECT(\"'adjustment \" & $B$7 & \"'!C42\"),$C59-$C$58,MATCH(X$16,Ages_group))/OFFSET(INDIRECT(\"'adjustment \" & $B$7 & \"'!C42\"),$C58-$C$58,MATCH(X$16,Ages_group)),1),\"\")","v":1.1282708331093934E-2}]
[null,null,2018,4.3166642813216528E-5,8.8757221609416121E-6,3.3951163944504452E-6,2.940538474294308E-6,3.5056032964952009E-6,5.1296092455662072E-6,8.4847004742524701E-6,1.2848763472244407E-5,1.864782837836537E-5,2.5113942818643115E-5,3.3765557269017796E-5,5.3504006720306787E-5,8.3837590611231719E-5,1.2879257449446743E-4,1.9285834701592892E-4,3.3290238764549843E-4,6.227896467350003E-4,1.2662505378384971E-3,2.5647936309297044E-3,5.3425219198825662E-3,1.1282039283835091E-2]
[null,null,2019,4.3164337730805252E-5,8.8755674586942059E-6,3.3951885285718629E-6,2.9405680677332999E-6,3.5055996697913099E-6,5.1296405128057769E-6,8.4850237086062749E-6,1.2849159371939262E-5,1.8647835162707122E-5,2.5114094552737216E-5,3.3765737249529911E-5,5.350497253936084E-5,8.3838583571232793E-5,1.2879191175868798E-4,1.9285632727810727E-4,3.3289388282459626E-4,6.2276689320954514E-4,1.2661876989110161E-3,2.5646421968074972E-3,5.342198829600864E-3,1.1281370276249723E-2]
[null,null,2020,4.3162032771484505E-5,8.8754127591432307E-6,3.3952606642258731E-6,2.9405976614701187E-6,3.5055960430911709E-6,5.1296717802359342E-6,8.4853469552740618E-6,1.2849555283832689E-5,1.864784194705134E-5,2.511424628774807E-5,3.3765917231001377E-5,5.3505938375849223E-5,8.383957654299433E-5,1.2879124902631881E-4,1.9285430756143762E-4,3.3288537822097092E-4,6.227441405153866E-4,1.2661248631019785E-3,2.5644907716264745E-3,5.3418757588581233E-3,1.1280701308335476E-2]
[null,null,2021,4.3159727935247715E-5,8.875258062288641E-6,3.3953328014125091E-6,2.9406272555047674E-6,3.5055924163947838E-6,5.1297030478566806E-6,8.4856702142563E-6,1.2849951207925064E-5,1.8647848731398028E-5,2.5114398023675678E-5,3.3766097213432198E-5,5.3506904229772248E-5,8.384056952651648E-5,1.2879058629735991E-4,1.9285228786591974E-4,3.3287687383461688E-4,6.2272138865249421E-4,1.2660620304112298E-3,2.5643393553861082E-3,5.3415527076531629E-3,1.1280032380089998E-2]
[null,null,2022,4.3157423222088309E-5,8.8751033681303909E-6,3.3954049401318033E-6,2.940656849837249E-6,3.5055887897021486E-6,5.129734315668017E-6,8.4859934855534587E-6,1.2850347144216763E-5,1.8647855515747182E-5,2.511454976052005E-5,3.3766277196822382E-5,5.3507870101130233E-5,8.384156252179939E-5,1.2878992357181124E-4,1.9285026819155344E-4,3.3286836966552855E-4,6.2269863762083773E-4,1.2659992008386151E-3,2.564187948085871E-3,5.3412296759848005E-3,1.1279363491510937E-2]
[null,null,2023,4.3155118631999714E-5,8.8749486766684313E-6,3.3954770803837879E-6,2.9406864444675664E-6,3.5055851630132654E-6,5.1297655836699444E-6,8.4863167691660055E-6,1.2850743092708162E-5,1.8647862300098807E-5,2.511470149828119E-5,3.376645718117193E-5,5.350883598992349E-5,8.3842555528843184E-5,1.2878926084967281E-4,1.9284824853833848E-4,3.3285986571370045E-4,6.2267588742038679E-4,1.2659363743839798E-3,2.5640365497252345E-3,5.3409066638518549E-3,1.1278694642595939E-2]
[null,null,2024,4.3152814164975356E-5,8.8747939879027165E-6,3.395549222168496E-6,2.9407160393957231E-6,3.5055815363281341E-6,5.1297968518624643E-6,8.4866400650944113E-6,1.2851139053399637E-5,1.8647869084452898E-5,2.5114853236959104E-5,3.3766637166480847E-5,5.350980189615233E-5,8.3843548547648009E-5,1.2878859813094458E-4,1.9284622890627465E-4,3.3285136197912696E-4,6.2265313805111094E-4,1.2658735510471691E-3,2.5638851603036715E-3,5.3405836712531445E-3,1.1278025833342654E-2]
[null,null,2025,4.3150509821008671E-5,8.8746393018331991E-6,3.3956213654859598E-6,2.9407456346217216E-6,3.5055779096467547E-6,5.1298281202455777E-6,8.4869633733391455E-6,1.2851535026291563E-5,1.8647875868809459E-5,2.5115004976553796E-5,3.3766817152749141E-5,5.3510767819817073E-5,8.3844541578214003E-5,1.2878793541562655E-4,1.9284420929536171E-4,3.3284285846180259E-4,6.2263038951297981E-4,1.2658107308280281E-3,2.5637337798206537E-3,5.3402606981874882E-3,1.127735706374873E-2]
[null,null,2026,4.3148205600093077E-5,8.8744846184598332E-6,3.3956935103362119E-6,2.9407752301455652E-6,3.5055742829691277E-6,5.1298593888192853E-6,8.4872866939006755E-6,1.2851931011384317E-5,1.8647882653168487E-5,2.5115156717065272E-5,3.3766997139976818E-5,5.3511733760918036E-5,8.3845534620541299E-5,1.2878727270371868E-4,1.9284218970559944E-4,3.3283435516172171E-4,6.2260764180596315E-4,1.2657479137264023E-3,2.5635824082756533E-3,5.3399377446537053E-3,1.1276688333811815E-2]
[null,null,"","","","","","","","","","","","","","","","","","","","","",""]
[null,null,"","","","","","","","","","","","","","","","","","","","","",""]
[null,null,"","","","","","","","","","","","","","","","","","","","","",""]
[null,null,"","","","","","","","","","","","","","","","","","","","","",""]
[null,null,"","","","","","","","","","","","","","","","","","","","","",""]
[null,null,"","","","","","","","","","","","","","","","","","","","","",""]
[null,null,"","","","","","","","","","","","","","","","","","","","","",""]
[null,null,"","","","","","","","","","","","","","","","","","","","","",""]
[null,null,"","","","","","","","","","","","","","","","","","","","","",""]
[null,null,"","","","","","","","","","","","","","","","","","","","","",""]
[null,null,"","","","","","","","","","","","","","","","","","","","","",""]
[null,null,"","","","","","","","","","","","","","","","","","","","","",""]
[null,null,"","","","","","","","","","","","","","","","","","","","","",""]
[null,null,"","","","","","","","","","","","","","","","","","","","","",""]
[null,null,"","","","","","","","","","","","","","","","","","","","","",""]
[null,null,"","","","","","","","","","","","","","","","","","","","","",""]
[null,null,"","","","","","","","","","","","","","","","","","","","","",""]
[null,null,"","","","","","","","","","","","","","","","","","","","","",""]
[null,null,"","","","","","","","","","","","","","","","","","","","","",""]
[null,null,"","","","","","","","","","","","","","","","","","","","","",""]
[null,null,""]
[null,null,""]
[null,null,""]
[null,null,""]
[null,null,""]
[null,null,""]
[null,null,""]
[null,null,""]
[null,null,""]
[null,null,""]
[null,null,""]
[null,null,""]
[null,null,""]
[null,null,""]
[null,null,""]
[null,null,""]
[null,null,""]

{"sheet":"Forecasts Respiratory","index":15,"n_rows":105,"n_cols":24,"rows_kept":105,"cut":false,"hidden":false,"merged":[[52,2,53,2],[52,3,53,3],[0,2,3,9],[0,10,3,16],[5,1,5,23],[11,2,12,2],[11,3,12,3]]}
[null,null,"Society of Actuaries - Cause of deaths forecasting tool",null,null,null,null,null,null,null,"Forecast Respiratory"]
[]
[]
[]
[]
[null,"central scenario - diffusion LC"]
[null,"Respiratory"]
[null,"Parameters Male",null,{"$f":"TRANSPOSE(Ages_group)","v":0},"1 - 4","5 - 9","10 - 14","15 - 19","20 - 24","25 - 29","30 - 34","35 - 39","40 - 44","45 - 49","50 - 54","55 - 59","60 - 64","65 - 69","70 - 74","75 - 79","80 - 84","85 - 89","90 - 94","95+"]
[null,null,"b_x",{"$f":"INDEX(beta_M,MATCH($B$7,Causes,0),MATCH(D8,Ages_group,0))","v":4.4042766369540097E-2},-6.3678076443121207E-2,-0.20746529373558401,0.11293723571433199,0.27910476789396998,6.7722937962567398E-3,-8.4724081549552493E-2,-1.37074872883185E-2,2.6878837191295302E-2,0.10798033736414001,6.3156392166096295E-2,-7.5219659617015294E-2,-3.71043760996378E-3,6.9564534576764994E-2,0.11862571406075501,0.114340482418022,0.111561531056249,0.123076929175332,0.13444371643764899,9.6450116243415498E-2,3.9569381779736498E-2]
[null,null,"delta type",{"$f":"INDEX(drifts_type,MATCH($B$7,Causes,0),MATCH(C16,genders,0))","v":"historical2"}]
[null,null,"delta",{"$f":"INDEX(drifts,MATCH($B$7,Causes,0),MATCH(C16,genders,0))","v":-0.118032599593973},null,"k1",null,{"$f":"INDEX(k_1,MATCH($B$7,Causes,0),MATCH(C16,genders,0))","v":1}]
[null,null,"Adjustment factors",{"$f":"INDEX(adjustment_use,MATCH($B$7,Causes,0),MATCH(C16,genders,0))","v":"no"},null,"k2",null,{"$f":"INDEX(k_2,MATCH($B$7,Causes,0),MATCH(C16,genders,0))","v":0}]
[null,null,null,null,null,"delta basis",null,{"$f":"D11*H11","v":-0.118032599593973}]
[]
[null,"Death rate",null,"age"]
[null,"sex","M",{"$f":"TRANSPOSE(Ages_group)","v":0},"1 - 4","5 - 9","10 - 14","15 - 19","20 - 24","25 - 29","30 - 34","35 - 39","40 - 44","45 - 49","50 - 54","55 - 59","60 - 64","65 - 69","70 - 74","75 - 79","80 - 84","85 - 89","90 - 94","95+"]
[null,"time",{"$f":"Year_0","v":2016},{"$f":"(OFFSET(q0_M,MATCH($B$7,Causes,0),MATCH(D$16,Ages_group,0))^$H$11)*EXP($H$12)","v":8.2975435806953294E-5},1.2452221176541742E-5,6.4610027045806658E-6,6.5047516292423155E-6,5.6536887317130972E-6,1.2194496721967535E-5,1.6449605627500994E-5,2.0005679801463906E-5,3.1736685391866514E-5,4.3890320725990716E-5,8.7007995333328048E-5,2.0744950996227064E-4,4.3462051281550662E-4,8.3489688260819455E-4,1.4729229820859603E-3,2.782627396954891E-3,4.4914287253059728E-3,7.0370357058151456E-3,1.0722810218646441E-2,1.6262060052941237E-2,2.5357891206816301E-2]
[null,null,{"$f":"IF(C17<Year_max,C17+1,\"\")","v":2017},{"$f":"IF($C18<>\"\",D17*EXP(D$9*$H$13)*\nIF($D$12=\"yes\",OFFSET(INDIRECT(\"'adjustment \" & $B$7 & \"'!C8\"),$C18-$C$17,MATCH(D$16,Ages_group))/OFFSET(INDIRECT(\"'adjustment \" & $B$7 & \"'!C8\"),$C17-$C$17,MATCH(D$16,Ages_group)),1),\"\")","v":8.2545208713042824E-5},{"$f":"IF($C18<>\"\",E17*EXP(E$9*$H$13)*\nIF($D$12=\"yes\",OFFSET(INDIRECT(\"'adjustment \" & $B$7 & \"'!C8\"),$C18-$C$17,MATCH(E$16,Ages_group))/OFFSET(INDIRECT(\"'adjustment \" & $B$7 & \"'!C8\"),$C17-$C$17,MATCH(E$16,Ages_group)),1),\"\")","v":1.2546165783656747E-5},{"$f":"IF($C18<>\"\",F17*EXP(F$9*$H$13)*\nIF($D$12=\"yes\",OFFSET(INDIRECT(\"'adjustment \" & $B$7 & \"'!C8\"),$C18-$C$17,MATCH(F$16,Ages_group))/OFFSET(INDIRECT(\"'adjustment \" & $B$7 & \"'!C8\"),$C17-$C$17,MATCH(F$16,Ages_group)),1),\"\")","v":6.621170659661585E-6},{"$f":"IF($C18<>\"\",G17*EXP(G$9*$H$13)*\nIF($D$12=\"yes\",OFFSET(INDIRECT(\"'adjustment \" & $B$7 & \"'!C8\"),$C18-$C$17,MATCH(G$16,Ages_group))/OFFSET(INDIRECT(\"'adjustment \" & $B$7 & \"'!C8\"),$C17-$C$17,MATCH(G$16,Ages_group)),1),\"\")","v":6.4186168733159792E-6},{"$f":"IF($C18<>\"\",H17*EXP(H$9*$H$13)*\nIF($D$12=\"yes\",OFFSET(INDIRECT(\"'adjustment \" & $B$7 & \"'!C8\"),$C18-$C$17,MATCH(H$16,Ages_group))/OFFSET(INDIRECT(\"'adjustment \" & $B$7 & \"'!C8\"),$C17-$C$17,MATCH(H$16,Ages_group)),1),\"\")","v":5.4704711363551294E-6},{"$f":"IF($C18<>\"\",I17*EXP(I$9*$H$13)*\nIF($D$12=\"yes\",OFFSET(INDIRECT(\"'adjustment \" & $B$7 & \"'!C8\"),$C18-$C$17,MATCH(I$16,Ages_group))/OFFSET(INDIRECT(\"'adjustment \" & $B$7 & \"'!C8\"),$C17-$C$17,MATCH(I$16,Ages_group)),1),\"\")","v":1.2184752928305117E-5},{"$f":"IF($C18<>\"\",J17*EXP(J$9*$H$13)*\nIF($D$12=\"yes\",OFFSET(INDIRECT(\"'adjustment \" & $B$7 & \"'!C8\"),$C18-$C$17,MATCH(J$16,Ages_group))/OFFSET(INDIRECT(\"'adjustment \" & $B$7 & \"'!C8\"),$C17-$C$17,MATCH(J$16,Ages_group)),1),\"\")","v":1.6614930295217607E-5},{"$f":"IF($C18<>\"\",K17*EXP(K$9*$H$13)*\nIF($D$12=\"yes\",OFFSET(INDIRECT(\"'adjustment \" & $B$7 & \"'!C8\"),$C18-$C$17,MATCH(K$16,Ages_group))/OFFSET(INDIRECT(\"'adjustment \" & $B$7 & \"'!C8\"),$C17-$C$17,MATCH(K$16,Ages_group)),1),\"\")","v":2.0038073796705648E-5},{"$f":"IF($C18<>\"\",L17*EXP(L$9*$H$13)*\nIF($D$12=\"yes\",OFFSET(INDIRECT(\"'adjustment \" & $B$7 & \"'!C8\"),$C18-$C$17,MATCH(L$16,Ages_group))/OFFSET(INDIRECT(\"'adjustment \" & $B$7 & \"'!C8\"),$C17-$C$17,MATCH(L$16,Ages_group)),1),\"\")","v":3.1636157799567108E-5},{"$f":"IF($C18<>\"\",M17*EXP(M$9*$H$13)*\nIF($D$12=\"yes\",OFFSET(INDIRECT(\"'adjustment \" & $B$7 & \"'!C8\"),$C18-$C$17,MATCH(M$16,Ages_group))/OFFSET(INDIRECT(\"'adjustment \" & $B$7 & \"'!C8\"),$C17-$C$17,MATCH(M$16,Ages_group)),1),\"\")","v":4.3334479491655638E-5},{"$f":"IF($C18<>\"\",N17*EXP(N$9*$H$13)*\nIF($D$12=\"yes\",OFFSET(INDIRECT(\"'adjustment \" & $B$7 & \"'!C8\"),$C18-$C$17,MATCH(N$16,Ages_group))/OFFSET(INDIRECT(\"'adjustment \" & $B$7 & \"'!C8\"),$C17-$C$17,MATCH(N$16,Ages_group)),1),\"\")","v":8.6361804599153331E-5},{"$f":"IF($C18<>\"\",O17*EXP(O$9*$H$13)*\nIF($D$12=\"yes\",OFFSET(INDIRECT(\"'adjustment \" & $B$7 & \"'!C8\"),$C18-$C$17,MATCH(O$16,Ages_group))/OFFSET(INDIRECT(\"'adjustment \" & $B$7 & \"'!C8\"),$C17-$C$17,MATCH(O$16,Ages_group)),1),\"\")","v":2.0929952428099826E-4},{"$f":"IF($C18<>\"\",P17*EXP(P$9*$H$13)*\nIF($D$12=\"yes\",OFFSET(INDIRECT(\"'adjustment \" & $B$7 & \"'!C8\"),$C18-$C$17,MATCH(P$16,Ages_group))/OFFSET(INDIRECT(\"'adjustment \" & $B$7 & \"'!C8\"),$C17-$C$17,MATCH(P$16,Ages_group)),1),\"\")","v":4.3481089768441936E-4},{"$f":"IF($C18<>\"\",Q17*EXP(Q$9*$H$13)*\nIF($D$12=\"yes\",OFFSET(INDIRECT(\"'adjustment \" & $B$7 & \"'!C8\"),$C18-$C$17,MATCH(Q$16,Ages_group))/OFFSET(INDIRECT(\"'adjustment \" & $B$7 & \"'!C8\"),$C17-$C$17,MATCH(Q$16,Ages_group)),1),\"\")","v":8.280697090263131E-4},{"$f":"IF($C18<>\"\",R17*EXP(R$9*$H$13)*\nIF($D$12=\"yes\",OFFSET(INDIRECT(\"'adjustment \" & $B$7 & \"'!C8\"),$C18-$C$17,MATCH(R$16,Ages_group))/OFFSET(INDIRECT(\"'adjustment \" & $B$7 & \"'!C8\"),$C17-$C$17,MATCH(R$16,Ages_group)),1),\"\")","v":1.4524432643207427E-3},{"$f":"IF($C18<>\"\",S17*EXP(S$9*$H$13)*\nIF($D$12=\"yes\",OFFSET(INDIRECT(\"'adjustment \" & $B$7 & \"'!C8\"),$C18-$C$17,MATCH(S$16,Ages_group))/OFFSET(INDIRECT(\"'adjustment \" & $B$7 & \"'!C8\"),$C17-$C$17,MATCH(S$16,Ages_group)),1),\"\")","v":2.7453256005982511E-3},{"$f":"IF($C18<>\"\",T17*EXP(T$9*$H$13)*\nIF($D$12=\"yes\",OFFSET(INDIRECT(\"'adjustment \" & $B$7 & \"'!C8\"),$C18-$C$17,MATCH(T$16,Ages_group))/OFFSET(INDIRECT(\"'adjustment \" & $B$7 & \"'!C8\"),$C17-$C$17,MATCH(T$16,Ages_group)),1),\"\")","v":4.4326737408914704E-3},{"$f":"IF($C18<>\"\",U17*EXP(U$9*$H$13)*\nIF($D$12=\"yes\",OFFSET(INDIRECT(\"'adjustment \" & $B$7 & \"'!C8\"),$C18-$C$17,MATCH(U$16,Ages_group))/OFFSET(INDIRECT(\"'adjustment \" & $B$7 & \"'!C8\"),$C17-$C$17,MATCH(U$16,Ages_group)),1),\"\")","v":6.9355470080120982E-3},{"$f":"IF($C18<>\"\",V17*EXP(V$9*$H$13)*\nIF($D$12=\"yes\",OFFSET(INDIRECT(\"'adjustment \" & $B$7 & \"'!C8\"),$C18-$C$17,MATCH(V$16,Ages_group))/OFFSET(INDIRECT(\"'adjustment \" & $B$7 & \"'!C8\"),$C17-$C$17,MATCH(V$16,Ages_group)),1),\"\")","v":1.0553995696250382E-2},{"$f":"IF($C18<>\"\",W17*EXP(W$9*$H$13)*\nIF($D$12=\"yes\",OFFSET(INDIRECT(\"'adjustment \" & $B$7 & \"'!C8\"),$C18-$C$17,MATCH(W$16,Ages_group))/OFFSET(INDIRECT(\"'adjustment \" & $B$7 & \"'!C8\"),$C17-$C$17,MATCH(W$16,Ages_group)),1),\"\")","v":1.6077978371250686E-2},{"$f":"IF($C18<>\"\",X17*EXP(X$9*$H$13)*\nIF($D$12=\"yes\",OFFSET(INDIRECT(\"'adjustment \" & $B$7 & \"'!C8\"),$C18-$C$17,MATCH(X$16,Ages_group))/OFFSET(INDIRECT(\"'adjustment \" & $B$7 & \"'!C8\"),$C17-$C$17,MATCH(X$16,Ages_group)),1),\"\")","v":2.5239733899549754E-2}]
[null,null,{"$f":"IF(C18<Year_max,C18+1,\"\")","v":2018},8.2117212343810504E-5,1.2640819146991295E-5,6.7853091708632469E-6,6.333622698398937E-6,5.2931910251498464E-6,1.2175016920246082E-5,1.6781916537465221E-5,2.0070520245597459E-5,3.1535948633615273E-5,4.2785677610705927E-5,8.572041299249941E-5,2.1116603684539597E-4,4.3500136595114067E-4,8.2129836305630565E-4,1.4322482992851953E-3,2.708523843885063E-3,4.3746873645089954E-3,6.8355219884128219E-3,1.03878389046535E-2,1.5895980439430923E-2,2.5122127156568964E-2]
[null,null,2019,8.1691435132963421E-5,1.2736186613689773E-5,6.953516668086313E-6,6.2497540011217679E-6,5.1216559836187446E-6,1.2165288691569483E-5,1.6950581053687176E-5,2.0103019233074386E-5,3.1436056885379093E-5,4.2243825934490805E-5,8.5083784871219556E-5,2.1304919478519539E-4,4.3519191765220279E-4,8.1458238818096058E-4,1.4123341277393528E-3,2.6722154236624106E-3,4.317459541551048E-3,6.7369395377319414E-3,1.022429800188094E-2,1.5716042670053342E-2,2.5005068412471583E-2]
[null,null,2020,8.1267865574179802E-5,1.2832273571237597E-5,7.125894021304084E-6,6.166995878111163E-6,4.9556798328084332E-6,1.2155568236059345E-5,1.7120940711162445E-5,2.0135570844208999E-5,3.1336481549421533E-5,4.1708836443366882E-5,8.4451884857874034E-5,2.1494914654221657E-4,4.3538255282415402E-4,8.0792133161612873E-4,1.3926968454930509E-3,2.6363937266347713E-3,4.2609803489402831E-3,6.6397788511239038E-3,1.0063331804696823E-2,1.5538141742692014E-2,2.4888555113808986E-2]
[null,null,2021,8.0846492220798088E-5,1.2929085447765553E-5,7.3025446010517828E-6,6.085333623341614E-6,4.7950824272176205E-6,1.2145855547504659E-5,1.729301254669245E-5,2.0168175164211627E-5,3.1237221623490338E-5,4.118062223240004E-5,8.3824677837764192E-5,2.1686604188206918E-4,4.3557327150355865E-4,8.0131474428019706E-4,1.3733326026405064E-3,2.6010522281594557E-3,4.205239993408885E-3,6.544019423792318E-3,9.9048997782333909E-3,1.5362254600901295E-2,2.4772584719030568E-2]
[null,null,2022,8.0427303685507576E-5,1.3026627712356454E-5,7.4835743404153709E-6,6.004752725522167E-6,4.6396894592726284E-6,1.2136150619699378E-5,1.7466813768304808E-5,2.0200832278430574E-5,3.1138276108507943E-5,4.0659097497248378E-5,8.3202128956981101E-5,2.1880003190595778E-4,4.35764073726997E-4,7.9476218076381219E-4,1.3542376028055402E-3,2.566184491058195E-3,4.1502288098004556E-3,6.4496410466626259E-3,9.7489620257834204E-3,1.5188358449227644E-2,2.4657154698428295E-2]
[null,null,2023,8.0010288640040703E-5,1.3124905875354087E-5,7.6690917985570581E-6,5.9252388655177848E-6,4.489332270139214E-6,1.2126453446442414E-5,1.7642361756974228E-5,2.0233542272352342E-5,3.1039644008561403E-5,4.0144177520223978E-5,8.258420362046876E-5,2.2075126906259267E-4,4.359549595310654E-4,7.8826319929985145E-4,1.3354081023972944E-3,2.5317841644446597E-3,4.095937259394113E-3,6.3566238021171752E-3,9.5954792787533525E-3,1.5016430750255274E-2,2.4542262534081531E-2]
[null,null,2024,7.9595435814866901E-5,1.3223925488674511E-5,7.8592082258156137E-6,5.8467779138048502E-6,4.3438476666653678E-6,1.2116764021537638E-5,1.7819674068360696E-5,2.0266305231601854E-5,3.0941324330892378E-5,3.9635778656531142E-5,8.1970867490101633E-5,2.227199071602067E-4,4.3614592895237621E-4,7.8181736173363933E-4,1.3168404098762979E-3,2.4978449825676938E-3,4.0423559282505165E-3,6.2649480597918063E-3,9.4444128867745801E-3,1.4846449221685237E-2,2.442790571980211E-2]
[null,null,2025,7.9182733998888039E-5,1.3323692146119688E-5,8.0540376304205025E-6,5.7693559279603677E-6,4.2030777442563937E-6,1.2107082338793864E-5,1.7998768434565124E-5,2.0299121241942684E-5,3.0843316085887156E-5,3.913381832067896E-5,8.1362086482776464E-5,2.2470610137867946E-4,4.3633698202755786E-4,7.7542423349340726E-4,1.2985308850307375E-3,2.4643607636700587E-3,3.9894755255795262E-3,6.1745944724330582E-3,9.2957248079704319E-3,1.4678391833447584E-2,2.4314081761079666E-2]
[null,null,2026,7.8772172039135458E-5,1.3424211483693493E-5,8.2536968468598723E-6,5.6929591501844099E-6,4.0668697154900292E-6,1.2097408392024858E-5,1.8179662765902648E-5,2.0331990389277278E-5,3.0745618287066664E-5,3.8638214973065924E-5,8.0757826768518311E-5,2.2671000828176937E-4,4.3652811879325479E-4,7.6908338356099562E-4,1.2804759382627905E-3,2.4313254088624728E-3,3.9372868821292185E-3,6.0855439718151228E-3,9.1493775993763769E-3,1.4512236804846201E-2,2.420078817502723E-2]
[null,null,"","","","","","","","","","","","","","","","","","","","","",""]
[null,null,"","","","","","","","","","","","","","","","","","","","","",""]
[null,null,"","","","","","","","","","","","","","","","","","","","","",""]
[null,null,"","","","","","","","","","","","","","","","","","","","","",""]
[null,null,"","","","","","","","","","","","","","","","","","","","","",""]
[null,null,"","","","","","","","","","","","","","","","","","","","","",""]
[null,null,"","","","","","","","","","","","","","","","","","","","","",""]
[null,null,"","","","","","","","","","","","","","","","","","","","","",""]
[null,null,"","","","","","","","","","","","","","","","","","","","","",""]
[null,null,"","","","","","","","","","","","","","","","","","","","","",""]
[null,null,"","","","","","","","","","","","","","","","","","","","","",""]
[null,null,"","","","","","","","","","","","","","","","","","","","","",""]
[null,null,"","","","","","","","","","","","","","","","","","","","","",""]
[null,null,"","","","","","","","","","","","","","","","","","","","","",""]
[null,null,"","","","","","","","","","","","","","","","","","","","","",""]
[null,null,"","","","","","","","","","","","","","","","","","","","","",""]
[null,null,"","","","","","","","","","","","","","","","","","","","","",""]
[null,null,"","","","","","","","","","","","","","","","","","","","","",""]
[null,null,"","","","","","","","","","","","","","","","","","","","","",""]
[null,null,"","","","","","","","","","","","","","","","","","","","","",""]
[]
[null,"Parameters Female",null,{"$f":"TRANSPOSE(Ages_group)","v":0},"1 - 4","5 - 9","10 - 14","15 - 19","20 - 24","25 - 29","30 - 34","35 - 39","40 - 44","45 - 49","50 - 54","55 - 59","60 - 64","65 - 69","70 - 74","75 - 79","80 - 84","85 - 89","90 - 94","95+"]
[null,null,"b_x",{"$f":"INDEX(beta_F,MATCH($B$7,Causes,0),MATCH(D49,Ages_group,0))","v":0.123279771463502},-0.58310055108832304,-1.1995132021025801,-0.25022650129984603,1.77531799310585,1.4955332047474099,1.0176393513689199,0.89143163049407403,0.17886182314058099,0.75528450419964799,-0.89879482896471996,-1.69787184873325,-0.46914868232776102,0.89019006063237505,0.67208761091100599,0.190284896775302,-2.5504229063260001E-2,-0.13854271709115801,-0.20889472826153099,-0.641354007627432,-0.87695955027879302]
[null,null,"delta type",{"$f":"INDEX(drifts_type,MATCH($B$7,Causes,0),MATCH(C57,genders,0))","v":"historical2"}]
[null,null,"delta",{"$f":"INDEX(drifts,MATCH($B$7,Causes,0),MATCH(C57,genders,0))","v":-1.00507322902547E-2},null,"k1",null,{"$f":"INDEX(k_1,MATCH($B$7,Causes,0),MATCH(C57,genders,0))","v":1}]
[null,null,"Adjustment factors",{"$f":"INDEX(adjustment_use,MATCH($B$7,Causes,0),MATCH(C57,genders,0))","v":"no"},null,"k2",null,{"$f":"INDEX(k_2,MATCH($B$7,Causes,0),MATCH(C57,genders,0))","v":0}]
[null,null,null,null,null,"delta basis",null,{"$f":"D52*H52","v":-1.00507322902547E-2}]
[]
[null,"Death rate",null,"age"]
[null,"sex","F",{"$f":"TRANSPOSE(Ages_group)","v":0},"1 - 4","5 - 9","10 - 14","15 - 19","20 - 24","25 - 29","30 - 34","35 - 39","40 - 44","45 - 49","50 - 54","55 - 59","60 - 64","65 - 69","70 - 74","75 - 79","80 - 84","85 - 89","90 - 94","95+"]
[null,"time",{"$f":"Year_0","v":2016},{"$f":"(OFFSET(q0_F,MATCH($B$7,Causes,0),MATCH(D$16,Ages_group,0))^$H$52)*EXP($H$53)","v":7.3253375634738942E-5},9.2435252731839215E-6,4.7397045506364245E-6,6.0273855084679972E-6,5.2823041072113356E-6,7.0743327009036086E-6,1.0985893164116935E-5,1.550772267434352E-5,2.7488510904862624E-5,4.2078253676121693E-5,9.4235254412883496E-5,2.0570062210804814E-4,3.8788195263556296E-4,6.3502368660913388E-4,1.1728039582873959E-3,2.1879651763136829E-3,3.4408419880382077E-3,5.2755353435168578E-3,7.533061432440381E-3,1.0380667499411959E-2,1.5137363747430422E-2]
[null,null,{"$f":"IF(C58<Year_max,C58+1,\"\")","v":2017},{"$f":"IF($C59<>\"\",D58*EXP(D$50*$H$54)*\nIF($D$53=\"yes\",OFFSET(INDIRECT(\"'adjustment \" & $B$7 & \"'!C42\"),$C59-$C$58,MATCH(D$16,Ages_group))/OFFSET(INDIRECT(\"'adjustment \" & $B$7 & \"'!C42\"),$C58-$C$58,MATCH(D$16,Ages_group)),1),\"\")","v":7.3162667102531136E-5},{"$f":"IF($C59<>\"\",E58*EXP(E$50*$H$54)*\nIF($D$53=\"yes\",OFFSET(INDIRECT(\"'adjustment \" & $B$7 & \"'!C42\"),$C59-$C$58,MATCH(E$16,Ages_group))/OFFSET(INDIRECT(\"'adjustment \" & $B$7 & \"'!C42\"),$C58-$C$58,MATCH(E$16,Ages_group)),1),\"\")","v":9.297856814068213E-6},{"$f":"IF($C59<>\"\",F58*EXP(F$50*$H$54)*\nIF($D$53=\"yes\",OFFSET(INDIRECT(\"'adjustment \" & $B$7 & \"'!C42\"),$C59-$C$58,MATCH(F$16,Ages_group))/OFFSET(INDIRECT(\"'adjustment \" & $B$7 & \"'!C42\"),$C58-$C$58,MATCH(F$16,Ages_group)),1),\"\")","v":4.7971922015460495E-6},{"$f":"IF($C59<>\"\",G58*EXP(G$50*$H$54)*\nIF($D$53=\"yes\",OFFSET(INDIRECT(\"'adjustment \" & $B$7 & \"'!C42\"),$C59-$C$58,MATCH(G$16,Ages_group))/OFFSET(INDIRECT(\"'adjustment \" & $B$7 & \"'!C42\"),$C58-$C$58,MATCH(G$16,Ages_group)),1),\"\")","v":6.0425632170355384E-6},{"$f":"IF($C59<>\"\",H58*EXP(H$50*$H$54)*\nIF($D$53=\"yes\",OFFSET(INDIRECT(\"'adjustment \" & $B$7 & \"'!C42\"),$C59-$C$58,MATCH(H$16,Ages_group))/OFFSET(INDIRECT(\"'adjustment \" & $B$7 & \"'!C42\"),$C58-$C$58,MATCH(H$16,Ages_group)),1),\"\")","v":5.1888865707767425E-6},{"$f":"IF($C59<>\"\",I58*EXP(I$50*$H$54)*\nIF($D$53=\"yes\",OFFSET(INDIRECT(\"'adjustment \" & $B$7 & \"'!C42\"),$C59-$C$58,MATCH(I$16,Ages_group))/OFFSET(INDIRECT(\"'adjustment \" & $B$7 & \"'!C42\"),$C58-$C$58,MATCH(I$16,Ages_group)),1),\"\")","v":6.9687921516927858E-6},{"$f":"IF($C59<>\"\",J58*EXP(J$50*$H$54)*\nIF($D$53=\"yes\",OFFSET(INDIRECT(\"'adjustment \" & $B$7 & \"'!C42\"),$C59-$C$58,MATCH(J$16,Ages_group))/OFFSET(INDIRECT(\"'adjustment \" & $B$7 & \"'!C42\"),$C58-$C$58,MATCH(J$16,Ages_group)),1),\"\")","v":1.0874101897804601E-5},{"$f":"IF($C59<>\"\",K58*EXP(K$50*$H$54)*\nIF($D$53=\"yes\",OFFSET(INDIRECT(\"'adjustment \" & $B$7 & \"'!C42\"),$C59-$C$58,MATCH(K$16,Ages_group))/OFFSET(INDIRECT(\"'adjustment \" & $B$7 & \"'!C42\"),$C58-$C$58,MATCH(K$16,Ages_group)),1),\"\")","v":1.5369401176132385E-5},{"$f":"IF($C59<>\"\",L58*EXP(L$50*$H$54)*\nIF($D$53=\"yes\",OFFSET(INDIRECT(\"'adjustment \" & $B$7 & \"'!C42\"),$C59-$C$58,MATCH(L$16,Ages_group))/OFFSET(INDIRECT(\"'adjustment \" & $B$7 & \"'!C42\"),$C58-$C$58,MATCH(L$16,Ages_group)),1),\"\")","v":2.7439139411107109E-5},{"$f":"IF($C59<>\"\",M58*EXP(M$50*$H$54)*\nIF($D$53=\"yes\",OFFSET(INDIRECT(\"'adjustment \" & $B$7 & \"'!C42\"),$C59-$C$58,MATCH(M$16,Ages_group))/OFFSET(INDIRECT(\"'adjustment \" & $B$7 & \"'!C42\"),$C58-$C$58,MATCH(M$16,Ages_group)),1),\"\")","v":4.176004015422474E-5},{"$f":"IF($C59<>\"\",N58*EXP(N$50*$H$54)*\nIF($D$53=\"yes\",OFFSET(INDIRECT(\"'adjustment \" & $B$7 & \"'!C42\"),$C59-$C$58,MATCH(N$16,Ages_group))/OFFSET(INDIRECT(\"'adjustment \" & $B$7 & \"'!C42\"),$C58-$C$58,MATCH(N$16,Ages_group)),1),\"\")","v":9.5090389574447936E-5},{"$f":"IF($C59<>\"\",O58*EXP(O$50*$H$54)*\nIF($D$53=\"yes\",OFFSET(INDIRECT(\"'adjustment \" & $B$7 & \"'!C42\"),$C59-$C$58,MATCH(O$16,Ages_group))/OFFSET(INDIRECT(\"'adjustment \" & $B$7 & \"'!C42\"),$C58-$C$58,MATCH(O$16,Ages_group)),1),\"\")","v":2.0924099554810012E-4},{"$f":"IF($C59<>\"\",P58*EXP(P$50*$H$54)*\nIF($D$53=\"yes\",OFFSET(INDIRECT(\"'adjustment \" & $B$7 & \"'!C42\"),$C59-$C$58,MATCH(P$16,Ages_group))/OFFSET(INDIRECT(\"'adjustment \" & $B$7 & \"'!C42\"),$C58-$C$58,MATCH(P$16,Ages_group)),1),\"\")","v":3.8971524653611401E-4},{"$f":"IF($C59<>\"\",Q58*EXP(Q$50*$H$54)*\nIF($D$53=\"yes\",OFFSET(INDIRECT(\"'adjustment \" & $B$7 & \"'!C42\"),$C59-$C$58,MATCH(Q$16,Ages_group))/OFFSET(INDIRECT(\"'adjustment \" & $B$7 & \"'!C42\"),$C58-$C$58,MATCH(Q$16,Ages_group)),1),\"\")","v":6.2936743148636143E-4},{"$f":"IF($C59<>\"\",R58*EXP(R$50*$H$54)*\nIF($D$53=\"yes\",OFFSET(INDIRECT(\"'adjustment \" & $B$7 & \"'!C42\"),$C59-$C$58,MATCH(R$16,Ages_group))/OFFSET(INDIRECT(\"'adjustment \" & $B$7 & \"'!C42\"),$C58-$C$58,MATCH(R$16,Ages_group)),1),\"\")","v":1.1649083967955958E-3},{"$f":"IF($C59<>\"\",S58*EXP(S$50*$H$54)*\nIF($D$53=\"yes\",OFFSET(INDIRECT(\"'adjustment \" & $B$7 & \"'!C42\"),$C59-$C$58,MATCH(S$16,Ages_group))/OFFSET(INDIRECT(\"'adjustment \" & $B$7 & \"'!C42\"),$C58-$C$58,MATCH(S$16,Ages_group)),1),\"\")","v":2.1837846861939968E-3},{"$f":"IF($C59<>\"\",T58*EXP(T$50*$H$54)*\nIF($D$53=\"yes\",OFFSET(INDIRECT(\"'adjustment \" & $B$7 & \"'!C42\"),$C59-$C$58,MATCH(T$16,Ages_group))/OFFSET(INDIRECT(\"'adjustment \" & $B$7 & \"'!C42\"),$C58-$C$58,MATCH(T$16,Ages_group)),1),\"\")","v":3.4417241133800226E-3},{"$f":"IF($C59<>\"\",U58*EXP(U$50*$H$54)*\nIF($D$53=\"yes\",OFFSET(INDIRECT(\"'adjustment \" & $B$7 & \"'!C42\"),$C59-$C$58,MATCH(U$16,Ages_group))/OFFSET(INDIRECT(\"'adjustment \" & $B$7 & \"'!C42\"),$C58-$C$58,MATCH(U$16,Ages_group)),1),\"\")","v":5.2828864099239408E-3},{"$f":"IF($C59<>\"\",V58*EXP(V$50*$H$54)*\nIF($D$53=\"yes\",OFFSET(INDIRECT(\"'adjustment \" & $B$7 & \"'!C42\"),$C59-$C$58,MATCH(V$16,Ages_group))/OFFSET(INDIRECT(\"'adjustment \" & $B$7 & \"'!C42\"),$C58-$C$58,MATCH(V$16,Ages_group)),1),\"\")","v":7.5488940486638347E-3},{"$f":"IF($C59<>\"\",W58*EXP(W$50*$H$54)*\nIF($D$53=\"yes\",OFFSET(INDIRECT(\"'adjustment \" & $B$7 & \"'!C42\"),$C59-$C$58,MATCH(W$16,Ages_group))/OFFSET(INDIRECT(\"'adjustment \" & $B$7 & \"'!C42\"),$C58-$C$58,MATCH(W$16,Ages_group)),1),\"\")","v":1.0447798218384895E-2},{"$f":"IF($C59<>\"\",X58*EXP(X$50*$H$54)*\nIF($D$53=\"yes\",OFFSET(INDIRECT(\"'adjustment \" & $B$7 & \"'!C42\"),$C59-$C$58,MATCH(X$16,Ages_group))/OFFSET(INDIRECT(\"'adjustment \" & $B$7 & \"'!C42\"),$C58-$C$58,MATCH(X$16,Ages_group)),1),\"\")","v":1.5271375496231821E-2}]
[null,null,2018,7.3072070893308362E-5,9.3525077045780668E-6,4.8553771174374468E-6,6.0577791449665226E-6,5.0971211232670546E-6,6.8648261407456637E-6,1.0763448207385008E-5,1.523231343978746E-5,2.7389856592376737E-5,4.144423309734645E-5,9.5953284635946846E-5,2.1284230338867346E-4,3.9155720535779105E-4,6.2376155751107769E-4,1.1570659898747966E-3,2.1796121836318047E-3,3.4426064648714603E-3,5.2902477194957083E-3,7.5647599410975947E-3,1.0515363064877093E-2,1.5406573656955167E-2]
[null,null,2019,7.2981586867982797E-5,9.4074798217849163E-6,4.9142677554043944E-6,6.0730333885020751E-6,5.0069785474932958E-6,6.7624111778420152E-6,1.0653920517008319E-5,1.5096448460740676E-5,2.7340662289404297E-5,4.1130814306782222E-5,9.6824010014373587E-5,2.1650559438951902E-4,3.9340787005467037E-4,6.1820561593053599E-4,1.1492763796773109E-3,2.1754476533654811E-3,3.4434890425704989E-3,5.2976192865052492E-3,7.5806591796799558E-3,1.0583364846346987E-2,1.5542968732957525E-2]
[null,null,2020,7.2891214887638829E-5,9.4627750537932348E-6,4.9738726751163586E-6,6.0883260441256673E-6,4.9184301429724104E-6,6.6615241232074926E-6,1.0545507368619301E-5,1.4961795332579468E-5,2.7291556343208637E-5,4.0819765721453736E-5,9.7702636765718544E-5,2.202319353608978E-4,3.9526728177439438E-4,6.1269916198910038E-4,1.1415392107645573E-3,2.1712910801625607E-3,3.4443718465351309E-3,5.3050011252455398E-3,7.5965918344962054E-3,1.0651806388408555E-2,1.5680571320582645E-2]
[null,null,2021,7.2800954813532893E-5,9.5183952998053854E-6,5.0342005400626278E-6,6.1036572085637287E-6,4.8314477167893236E-6,6.5621421822853952E-6,1.0438197420758658E-5,1.4828343246171276E-5,2.7242538595094143E-5,4.0511069416868181E-5,9.8589236590767689E-5,2.2402241147425353E-4,3.9713548185908671E-4,6.0724175489264298E-4,1.133854130090841E-3,2.1671424488196819E-3,3.4452548768233639E-3,5.312393250029474E-3,7.6125579757789314E-3,1.0720690534948734E-2,1.5819392109984169E-2]
[null,null,2022,7.2710806507093192E-5,9.574342470186853E-6,5.0952601188115411E-6,6.1190269787862571E-6,4.7460035746205994E-6,6.4642429005864382E-6,1.033197944737656E-5,1.4696081488795852E-5,2.7193608886650235E-5,4.0204707604085321E-5,9.9483881840953744E-5,2.2787812657823237E-4,3.9901251184627128E-4,6.0183295777325779E-4,1.1262207869872445E-3,2.1630017441625323E-3,3.4461381334932204E-3,5.3197956751898888E-3,7.6285576739083347E-3,1.0790020148245587E-2,1.595944188595615E-2]
[null,null,2023,7.2620769829919544E-5,9.6306184865318589E-6,5.1570602862849845E-6,6.1344354520074339E-6,4.6620705119168523E-6,6.3678041586153528E-6,1.0226842336658256E-5,1.4564999443285309E-5,2.7144767059750847E-5,3.9900662628692409E-5,1.0038664552426047E-4,2.3180020352014168E-4,4.008984134697959E-4,5.9647233765428953E-4,1.1186388331456271E-3,2.1588689510457929E-3,3.4470216166027374E-3,5.3272084150795939E-3,7.6445909994125377E-3,1.0859798109087238E-2,1.6100731528770892E-2]
[null,null,2024,7.253084464378315E-5,9.6872252817293579E-6,5.2196100250483497E-6,6.1498827256862374E-6,4.5796218052410914E-6,6.2728041668731804E-6,1.0122775089861623E-5,1.443508658717184E-5,2.7096012956553923E-5,3.9598916969786807E-5,1.0129760131118052E-4,2.3578978447294155E-4,4.0279322866076023E-4,5.9115946541567373E-4,1.111107922602731E-3,2.1547440543530816E-3,3.4479053262099673E-3,5.3346314840713978E-3,7.660658022967894E-3,1.0930027316891576E-2,1.6243272015024231E-2]
[null,null,2025,7.2441030810626355E-5,9.7441648000294293E-6,5.2829184266161373E-6,6.1653688975270599E-6,4.4986312037602496E-6,6.179221460934121E-6,1.0019766820166553E-5,1.4306332491843037E-5,2.7047346419500901E-5,3.9299453238966355E-5,1.0221682354072738E-4,2.3984803126786422E-4,4.0469699954844788E-4,5.8589391575958512E-4,1.1036277117243956E-3,2.1506270389968995E-3,3.4487892623729765E-3,5.3420648965581364E-3,7.6767588153993024E-3,1.1000710689826727E-2,1.6387074418488291E-2]
[null,null,2026,7.2351328192562481E-5,9.8014389971100548E-6,5.3469946927733924E-6,6.1808940654803265E-6,4.4190729208871846E-6,6.087034896595835E-6,9.9178067515360522E-6,1.4178726821704746E-5,2.6998767291316206E-5,3.9002254179327322E-5,1.0314438722650179E-4,2.4397612573275832E-4,4.0660976846126337E-4,5.8067526717639267E-4,1.0961978591898774E-3,2.1465178899185747E-3,3.4496734251498475E-3,5.3495086669527007E-3,7.6928934476805178E-3,1.1071851164932317E-2,1.6532149910971787E-2]
[null,null,"","","","","","","","","","","","","","","","","","","","","",""]
[null,null,"","","","","","","","","","","","","","","","","","","","","",""]
[null,null,"","","","","","","","","","","","","","","","","","","","","",""]
[null,null,"","","","","","","","","","","","","","","","","","","","","",""]
[null,null,"","","","","","","","","","","","","","","","","","","","","",""]
[null,null,"","","","","","","","","","","","","","","","","","","","","",""]
[null,null,"","","","","","","","","","","","","","","","","","","","","",""]
[null,null,"","","","","","","","","","","","","","","","","","","","","",""]
[null,null,"","","","","","","","","","","","","","","","","","","","","",""]
[null,null,"","","","","","","","","","","","","","","","","","","","","",""]
[null,null,"","","","","","","","","","","","","","","","","","","","","",""]
[null,null,"","","","","","","","","","","","","","","","","","","","","",""]
[null,null,"","","","","","","","","","","","","","","","","","","","","",""]
[null,null,"","","","","","","","","","","","","","","","","","","","","",""]
[null,null,"","","","","","","","","","","","","","","","","","","","","",""]
[null,null,"","","","","","","","","","","","","","","","","","","","","",""]
[null,null,"","","","","","","","","","","","","","","","","","","","","",""]
[null,null,"","","","","","","","","","","","","","","","","","","","","",""]
[null,null,"","","","","","","","","","","","","","","","","","","","","",""]
[null,null,"","","","","","","","","","","","","","","","","","","","","",""]
[null,null,""]
[null,null,""]
[null,null,""]
[null,null,""]
[null,null,""]
[null,null,""]
[null,null,""]
[null,null,""]
[null,null,""]
[null,null,""]
[null,null,""]
[null,null,""]
[null,null,""]
[null,null,""]
[null,null,""]
[null,null,""]
[null,null,""]

{"sheet":"Forecasts Drug","index":16,"n_rows":105,"n_cols":24,"rows_kept":105,"cut":false,"hidden":false,"merged":[[52,2,53,2],[52,3,53,3],[0,2,3,9],[0,10,3,16],[5,1,5,23],[11,2,12,2],[11,3,12,3]]}
[null,null,"Society of Actuaries - Cause of deaths forecasting tool",null,null,null,null,null,null,null,"Forecast Drug"]
[]
[]
[]
[]
[null,"central scenario - diffusion LC"]
[null,"Drug"]
[null,"Parameters Male",null,{"$f":"TRANSPOSE(Ages_group)","v":0},"1 - 4","5 - 9","10 - 14","15 - 19","20 - 24","25 - 29","30 - 34","35 - 39","40 - 44","45 - 49","50 - 54","55 - 59","60 - 64","65 - 69","70 - 74","75 - 79","80 - 84","85 - 89","90 - 94","95+"]
[null,null,"b_x",{"$f":"INDEX(beta_M,MATCH($B$7,Causes,0),MATCH(D8,Ages_group,0))","v":-0.53942463846108402},-2.3477899332197998E-2,-0.13132538755784501,-0.160257990871012,0.144373378274256,0.30924597109549001,0.39129990116422397,0.37498520496232701,0.19235410068484499,7.4616855087818096E-2,8.5819950660861496E-2,0.181786708609426,0.246351455126506,0.213606416032151,8.6650250585480801E-2,2.8275078177382802E-2,2.5575588188731901E-2,-1.7489647775906701E-2,-3.58990886439048E-2,-0.14448268669384701,-0.30258351931370298]
[null,null,"delta type",{"$f":"INDEX(drifts_type,MATCH($B$7,Causes,0),MATCH(C16,genders,0))","v":"historical2"}]
[null,null,"delta",{"$f":"INDEX(drifts,MATCH($B$7,Causes,0),MATCH(C16,genders,0))","v":0.20062556683645499},null,"k1",null,{"$f":"INDEX(k_1,MATCH($B$7,Causes,0),MATCH(C16,genders,0))","v":1}]
[null,null,"Adjustment factors",{"$f":"INDEX(adjustment_use,MATCH($B$7,Causes,0),MATCH(C16,genders,0))","v":"no"},null,"k2",null,{"$f":"INDEX(k_2,MATCH($B$7,Causes,0),MATCH(C16,genders,0))","v":0}]
[null,null,null,null,null,"delta basis",null,{"$f":"D11*H11","v":0.20062556683645499}]
[]
[null,"Death rate",null,"age"]
[null,"sex","M",{"$f":"TRANSPOSE(Ages_group)","v":0},"1 - 4","5 - 9","10 - 14","15 - 19","20 - 24","25 - 29","30 - 34","35 - 39","40 - 44","45 - 49","50 - 54","55 - 59","60 - 64","65 - 69","70 - 74","75 - 79","80 - 84","85 - 89","90 - 94","95+"]
[null,"time",{"$f":"Year_0","v":2016},{"$f":"(OFFSET(q0_M,MATCH($B$7,Causes,0),MATCH(D$16,Ages_group,0))^$H$11)*EXP($H$12)","v":0},2.1039837270480463E-6,2.614947871881069E-7,5.2266390437200715E-7,5.9716962931548838E-5,2.6462988816592839E-4,4.1854405410958305E-4,4.9984557512933788E-4,4.9472213252478678E-4,5.1112615292075276E-4,5.9898872301767075E-4,6.9983557348378444E-4,6.9762159494122177E-4,6.0455899996402938E-4,3.9484341671214046E-4,2.9154869345415476E-4,2.5274531345204066E-4,1.9654965452931355E-4,1.8378294753499836E-4,1.4042105108990447E-4,8.6450460692725776E-5]
[null,null,{"$f":"IF(C17<Year_max,C17+1,\"\")","v":2017},{"$f":"IF($C18<>\"\",D17*EXP(D$9*$H$13)*\nIF($D$12=\"yes\",OFFSET(INDIRECT(\"'adjustment \" & $B$7 & \"'!C8\"),$C18-$C$17,MATCH(D$16,Ages_group))/OFFSET(INDIRECT(\"'adjustment \" & $B$7 & \"'!C8\"),$C17-$C$17,MATCH(D$16,Ages_group)),1),\"\")","v":0},{"$f":"IF($C18<>\"\",E17*EXP(E$9*$H$13)*\nIF($D$12=\"yes\",OFFSET(INDIRECT(\"'adjustment \" & $B$7 & \"'!C8\"),$C18-$C$17,MATCH(E$16,Ages_group))/OFFSET(INDIRECT(\"'adjustment \" & $B$7 & \"'!C8\"),$C17-$C$17,MATCH(E$16,Ages_group)),1),\"\")","v":2.0940967057554092E-6},{"$f":"IF($C18<>\"\",F17*EXP(F$9*$H$13)*\nIF($D$12=\"yes\",OFFSET(INDIRECT(\"'adjustment \" & $B$7 & \"'!C8\"),$C18-$C$17,MATCH(F$16,Ages_group))/OFFSET(INDIRECT(\"'adjustment \" & $B$7 & \"'!C8\"),$C17-$C$17,MATCH(F$16,Ages_group)),1),\"\")","v":2.5469509369263256E-7},{"$f":"IF($C18<>\"\",G17*EXP(G$9*$H$13)*\nIF($D$12=\"yes\",OFFSET(INDIRECT(\"'adjustment \" & $B$7 & \"'!C8\"),$C18-$C$17,MATCH(G$16,Ages_group))/OFFSET(INDIRECT(\"'adjustment \" & $B$7 & \"'!C8\"),$C17-$C$17,MATCH(G$16,Ages_group)),1),\"\")","v":5.0612657031337545E-7},{"$f":"IF($C18<>\"\",H17*EXP(H$9*$H$13)*\nIF($D$12=\"yes\",OFFSET(INDIRECT(\"'adjustment \" & $B$7 & \"'!C8\"),$C18-$C$17,MATCH(H$16,Ages_group))/OFFSET(INDIRECT(\"'adjustment \" & $B$7 & \"'!C8\"),$C17-$C$17,MATCH(H$16,Ages_group)),1),\"\")","v":6.1471958230563373E-5},{"$f":"IF($C18<>\"\",I17*EXP(I$9*$H$13)*\nIF($D$12=\"yes\",OFFSET(INDIRECT(\"'adjustment \" & $B$7 & \"'!C8\"),$C18-$C$17,MATCH(I$16,Ages_group))/OFFSET(INDIRECT(\"'adjustment \" & $B$7 & \"'!C8\"),$C17-$C$17,MATCH(I$16,Ages_group)),1),\"\")","v":2.8156824443296166E-4},{"$f":"IF($C18<>\"\",J17*EXP(J$9*$H$13)*\nIF($D$12=\"yes\",OFFSET(INDIRECT(\"'adjustment \" & $B$7 & \"'!C8\"),$C18-$C$17,MATCH(J$16,Ages_group))/OFFSET(INDIRECT(\"'adjustment \" & $B$7 & \"'!C8\"),$C17-$C$17,MATCH(J$16,Ages_group)),1),\"\")","v":4.5272592284719803E-4},{"$f":"IF($C18<>\"\",K17*EXP(K$9*$H$13)*\nIF($D$12=\"yes\",OFFSET(INDIRECT(\"'adjustment \" & $B$7 & \"'!C8\"),$C18-$C$17,MATCH(K$16,Ages_group))/OFFSET(INDIRECT(\"'adjustment \" & $B$7 & \"'!C8\"),$C17-$C$17,MATCH(K$16,Ages_group)),1),\"\")","v":5.3890042860801467E-4},{"$f":"IF($C18<>\"\",L17*EXP(L$9*$H$13)*\nIF($D$12=\"yes\",OFFSET(INDIRECT(\"'adjustment \" & $B$7 & \"'!C8\"),$C18-$C$17,MATCH(L$16,Ages_group))/OFFSET(INDIRECT(\"'adjustment \" & $B$7 & \"'!C8\"),$C17-$C$17,MATCH(L$16,Ages_group)),1),\"\")","v":5.1418720283722622E-4},{"$f":"IF($C18<>\"\",M17*EXP(M$9*$H$13)*\nIF($D$12=\"yes\",OFFSET(INDIRECT(\"'adjustment \" & $B$7 & \"'!C8\"),$C18-$C$17,MATCH(M$16,Ages_group))/OFFSET(INDIRECT(\"'adjustment \" & $B$7 & \"'!C8\"),$C17-$C$17,MATCH(M$16,Ages_group)),1),\"\")","v":5.1883529554887459E-4},{"$f":"IF($C18<>\"\",N17*EXP(N$9*$H$13)*\nIF($D$12=\"yes\",OFFSET(INDIRECT(\"'adjustment \" & $B$7 & \"'!C8\"),$C18-$C$17,MATCH(N$16,Ages_group))/OFFSET(INDIRECT(\"'adjustment \" & $B$7 & \"'!C8\"),$C17-$C$17,MATCH(N$16,Ages_group)),1),\"\")","v":6.0939121329905922E-4},{"$f":"IF($C18<>\"\",O17*EXP(O$9*$H$13)*\nIF($D$12=\"yes\",OFFSET(INDIRECT(\"'adjustment \" & $B$7 & \"'!C8\"),$C18-$C$17,MATCH(O$16,Ages_group))/OFFSET(INDIRECT(\"'adjustment \" & $B$7 & \"'!C8\"),$C17-$C$17,MATCH(O$16,Ages_group)),1),\"\")","v":7.2583046907554252E-4},{"$f":"IF($C18<>\"\",P17*EXP(P$9*$H$13)*\nIF($D$12=\"yes\",OFFSET(INDIRECT(\"'adjustment \" & $B$7 & \"'!C8\"),$C18-$C$17,MATCH(P$16,Ages_group))/OFFSET(INDIRECT(\"'adjustment \" & $B$7 & \"'!C8\"),$C17-$C$17,MATCH(P$16,Ages_group)),1),\"\")","v":7.3296740172693021E-4},{"$f":"IF($C18<>\"\",Q17*EXP(Q$9*$H$13)*\nIF($D$12=\"yes\",OFFSET(INDIRECT(\"'adjustment \" & $B$7 & \"'!C8\"),$C18-$C$17,MATCH(Q$16,Ages_group))/OFFSET(INDIRECT(\"'adjustment \" & $B$7 & \"'!C8\"),$C17-$C$17,MATCH(Q$16,Ages_group)),1),\"\")","v":6.3103048580477974E-4},{"$f":"IF($C18<>\"\",R17*EXP(R$9*$H$13)*\nIF($D$12=\"yes\",OFFSET(INDIRECT(\"'adjustment \" & $B$7 & \"'!C8\"),$C18-$C$17,MATCH(R$16,Ages_group))/OFFSET(INDIRECT(\"'adjustment \" & $B$7 & \"'!C8\"),$C17-$C$17,MATCH(R$16,Ages_group)),1),\"\")","v":4.0176748612510786E-4},{"$f":"IF($C18<>\"\",S17*EXP(S$9*$H$13)*\nIF($D$12=\"yes\",OFFSET(INDIRECT(\"'adjustment \" & $B$7 & \"'!C8\"),$C18-$C$17,MATCH(S$16,Ages_group))/OFFSET(INDIRECT(\"'adjustment \" & $B$7 & \"'!C8\"),$C17-$C$17,MATCH(S$16,Ages_group)),1),\"\")","v":2.9320726261114027E-4},{"$f":"IF($C18<>\"\",T17*EXP(T$9*$H$13)*\nIF($D$12=\"yes\",OFFSET(INDIRECT(\"'adjustment \" & $B$7 & \"'!C8\"),$C18-$C$17,MATCH(T$16,Ages_group))/OFFSET(INDIRECT(\"'adjustment \" & $B$7 & \"'!C8\"),$C17-$C$17,MATCH(T$16,Ages_group)),1),\"\")","v":2.5404551207849815E-4},{"$f":"IF($C18<>\"\",U17*EXP(U$9*$H$13)*\nIF($D$12=\"yes\",OFFSET(INDIRECT(\"'adjustment \" & $B$7 & \"'!C8\"),$C18-$C$17,MATCH(U$16,Ages_group))/OFFSET(INDIRECT(\"'adjustment \" & $B$7 & \"'!C8\"),$C17-$C$17,MATCH(U$16,Ages_group)),1),\"\")","v":1.9586119580760163E-4},{"$f":"IF($C18<>\"\",V17*EXP(V$9*$H$13)*\nIF($D$12=\"yes\",OFFSET(INDIRECT(\"'adjustment \" & $B$7 & \"'!C8\"),$C18-$C$17,MATCH(V$16,Ages_group))/OFFSET(INDIRECT(\"'adjustment \" & $B$7 & \"'!C8\"),$C17-$C$17,MATCH(V$16,Ages_group)),1),\"\")","v":1.8246404744686899E-4},{"$f":"IF($C18<>\"\",W17*EXP(W$9*$H$13)*\nIF($D$12=\"yes\",OFFSET(INDIRECT(\"'adjustment \" & $B$7 & \"'!C8\"),$C18-$C$17,MATCH(W$16,Ages_group))/OFFSET(INDIRECT(\"'adjustment \" & $B$7 & \"'!C8\"),$C17-$C$17,MATCH(W$16,Ages_group)),1),\"\")","v":1.3640910508091507E-4},{"$f":"IF($C18<>\"\",X17*EXP(X$9*$H$13)*\nIF($D$12=\"yes\",OFFSET(INDIRECT(\"'adjustment \" & $B$7 & \"'!C8\"),$C18-$C$17,MATCH(X$16,Ages_group))/OFFSET(INDIRECT(\"'adjustment \" & $B$7 & \"'!C8\"),$C17-$C$17,MATCH(X$16,Ages_group)),1),\"\")","v":8.1358519204925041E-5}]
[null,null,{"$f":"IF(C18<Year_max,C18+1,\"\")","v":2018},0,2.0842561454637693E-6,2.4807221378541205E-7,4.9011248535512963E-7,6.3278530306901527E-5,2.9959078629602647E-4,4.8969937383027393E-4,5.8100678770389377E-4,5.3441813531219834E-4,5.2666071256389892E-4,6.1997436107848734E-4,7.5279092661131928E-4,7.7010404478604539E-4,6.5866106374846587E-4,4.088129776897596E-4,2.9487526707588143E-4,2.5535239932143348E-4,1.9517514856512959E-4,1.8115461231436145E-4,1.3251178370017133E-4,7.6566493621648438E-5]
[null,null,2019,0,2.0744618278440115E-6,2.4162154975259076E-7,4.7460509364733125E-7,6.5138194927563117E-5,3.1876691000515511E-4,5.2969239141779922E-4,6.2640307826427493E-4,5.5544506314945973E-4,5.3460415769301722E-4,6.3074130379042672E-4,7.8075281120411138E-4,8.0912225891428423E-4,6.8750148631087664E-4,4.159820206942412E-4,2.9655276052418194E-4,2.5666600958912042E-4,1.9449150435515698E-4,1.7985457421316084E-4,1.2872581202688144E-4,7.2056718863671852E-5]
[null,null,2020,0,2.0647135355929904E-6,2.3533862343545061E-7,4.5958836317499361E-7,6.7052512405751071E-5,3.3917045370624723E-4,5.7295157911137499E-4,6.7534635526312226E-4,5.7729930515339905E-4,5.4266741111429412E-4,6.4169523335640393E-4,8.0975332015107869E-4,8.5011737609096778E-4,7.176047282797432E-4,4.2327678176640876E-4,2.9823979693719766E-4,2.5798637746683945E-4,1.9381025476052994E-4,1.7856386570640434E-4,1.250480087074595E-4,6.7812570326848649E-5]
[null,null,2021,0,2.0550110524287097E-6,2.2921907312159754E-7,4.4504676918369509E-7,6.9023088910019964E-5,3.60879981756705E-4,6.1974368015282628E-4,7.2811375836624032E-4,6.0001341238119803E-4,5.5085227985561698E-4,6.5283939713126407E-4,8.3983103241657916E-4,8.9318955840065738E-4,7.4902608402011418E-4,4.3069946552862719E-4,2.9993643060317372E-4,2.5931353771778821E-4,1.9313139139357755E-4,1.772824198411831E-4,1.2147528328223277E-4,6.3818402598015016E-5]
[null,null,2022,0,2.0453541630855234E-6,2.2325865051698788E-7,4.3096527812961401E-7,7.105157781189865E-5,3.8397908723946414E-4,6.7035722230675201E-4,7.8500408122534357E-4,6.2362121662638533E-4,5.5916059819966272E-4,6.641770988658677E-4,8.7102595995321608E-4,9.384440427560361E-4,7.8182326904038661E-4,4.3825231526405112E-4,3.0164271611919158E-4,2.6064752528399677E-4,1.924549058960086E-4,1.7601017014506917E-4,1.1800463358852705E-4,6.0059491780535174E-5]
[null,null,2023,0,2.03574265330936E-6,2.1745321779669164E-7,4.1732933213739208E-7,7.3139681073117424E-5,4.0855671384025901E-4,7.2510429697001375E-4,8.4633946338709637E-4,6.4815788080999841E-4,5.6759422809497242E-4,6.7571169968650639E-4,9.0337960092916933E-4,9.8599139801995779E-4,8.1605652600555151E-4,4.4593761359458967E-4,3.033587083929258E-4,2.6198837528724762E-4,1.917807899388086E-4,1.7474705062266741E-4,1.1463314323794823E-4,5.6521981216878144E-5]
[null,null,2024,0,2.0261763098529691E-6,2.117987447323453E-7,4.0412483394975846E-7,7.5289150673603928E-5,4.3470749832751808E-4,7.8432248357844254E-4,9.1246721439750022E-4,6.7365995135440905E-4,5.7615505957322641E-4,6.8744661909132798E-4,9.3693499493261801E-4,1.0359477951548835E-3,8.5178873539238254E-4,4.5375768317076052E-4,3.0508446264441102E-4,2.6333612303000033E-4,1.9110903522213734E-4,1.7349299575219204E-4,1.1135797916573982E-4,5.319283040814067E-5]
[null,null,2025,0,2.0166549204711888E-6,2.0629130589430006E-7,3.9133813235335463E-7,7.7501790081445718E-5,4.6253213495361744E-4,8.4837693117697241E-4,9.8376178043055882E-4,7.0016541261782065E-4,5.8484501117281253E-4,6.9938533596406599E-4,9.7173678022669202E-4,1.0884352910597518E-3,8.8908553098982076E-4,4.6171488737364121E-4,3.0682003440781901E-4,2.6469080399632111E-4,1.9043963347522658E-4,1.7224794048206792E-4,1.0817638925015746E-4,5.0059766942215725E-5]
[null,null,2026,0,2.0071782739162392E-6,2.0092707792652291E-7,3.7895600806569346E-7,7.9779455766052905E-5,4.9213776318062809E-4,9.1766260998850174E-4,1.0606268645771896E-3,7.2771374347051655E-4,5.9366603036878341E-4,7.1153138960537493E-4,1.0078312531311183E-3,1.1435821267877738E-3,9.2801542045671049E-4,4.6981163102912993E-4,3.0856547953324559E-4,2.6605245385281689E-4,1.8977257645627827E-4,1.7101182022755606E-4,1.0508569999985989E-4,4.7111241253397132E-5]
[null,null,"","","","","","","","","","","","","","","","","","","","","",""]
[null,null,"","","","","","","","","","","","","","","","","","","","","",""]
[null,null,"","","","","","","","","","","","","","","","","","","","","",""]
[null,null,"","","","","","","","","","","","","","","","","","","","","",""]
[null,null,"","","","","","","","","","","","","","","","","","","","","",""]
[null,null,"","","","","","","","","","","","","","","","","","","","","",""]
[null,null,"","","","","","","","","","","","","","","","","","","","","",""]
[null,null,"","","","","","","","","","","","","","","","","","","","","",""]
[null,null,"","","","","","","","","","","","","","","","","","","","","",""]
[null,null,"","","","","","","","","","","","","","","","","","","","","",""]
[null,null,"","","","","","","","","","","","","","","","","","","","","",""]
[null,null,"","","","","","","","","","","","","","","","","","","","","",""]
[null,null,"","","","","","","","","","","","","","","","","","","","","",""]
[null,null,"","","","","","","","","","","","","","","","","","","","","",""]
[null,null,"","","","","","","","","","","","","","","","","","","","","",""]
[null,null,"","","","","","","","","","","","","","","","","","","","","",""]
[null,null,"","","","","","","","","","","","","","","","","","","","","",""]
[null,null,"","","","","","","","","","","","","","","","","","","","","",""]
[null,null,"","","","","","","","","","","","","","","","","","","","","",""]
[null,null,"","","","","","","","","","","","","","","","","","","","","",""]
[]
[null,"Parameters Female",null,{"$f":"TRANSPOSE(Ages_group)","v":0},"1 - 4","5 - 9","10 - 14","15 - 19","20 - 24","25 - 29","30 - 34","35 - 39","40 - 44","45 - 49","50 - 54","55 - 59","60 - 64","65 - 69","70 - 74","75 - 79","80 - 84","85 - 89","90 - 94","95+"]
[null,null,"b_x",{"$f":"INDEX(beta_F,MATCH($B$7,Causes,0),MATCH(D49,Ages_group,0))","v":-0.105389497413205},-2.2996955038327199E-2,-5.6341769605876002E-2,-2.89022543036127E-2,8.1627084959032994E-2,0.16012591912524399,0.19183401503660699,0.16411081115509299,9.4579085409865496E-2,7.1023923112785298E-2,9.8017757381601206E-2,0.144363234641225,0.14224471839840699,9.9134447388450106E-2,5.3643754736279303E-2,1.4245634352454999E-2,-3.7871721059351002E-3,-1.41035147302644E-2,-3.1006082371501199E-2,-2.4021465929757301E-2,-2.8401674198566301E-2]
[null,null,"delta type",{"$f":"INDEX(drifts_type,MATCH($B$7,Causes,0),MATCH(C57,genders,0))","v":"historical2"}]
[null,null,"delta",{"$f":"INDEX(drifts,MATCH($B$7,Causes,0),MATCH(C57,genders,0))","v":0.55290581413293105},null,"k1",null,{"$f":"INDEX(k_1,MATCH($B$7,Causes,0),MATCH(C57,genders,0))","v":1}]
[null,null,"Adjustment factors",{"$f":"INDEX(adjustment_use,MATCH($B$7,Causes,0),MATCH(C57,genders,0))","v":"no"},null,"k2",null,{"$f":"INDEX(k_2,MATCH($B$7,Causes,0),MATCH(C57,genders,0))","v":0}]
[null,null,null,null,null,"delta basis",null,{"$f":"D52*H52","v":0.55290581413293105}]
[]
[null,"Death rate",null,"age"]
[null,"sex","F",{"$f":"TRANSPOSE(Ages_group)","v":0},"1 - 4","5 - 9","10 - 14","15 - 19","20 - 24","25 - 29","30 - 34","35 - 39","40 - 44","45 - 49","50 - 54","55 - 59","60 - 64","65 - 69","70 - 74","75 - 79","80 - 84","85 - 89","90 - 94","95+"]
[null,"time",{"$f":"Year_0","v":2016},{"$f":"(OFFSET(q0_F,MATCH($B$7,Causes,0),MATCH(D$16,Ages_group,0))^$H$52)*EXP($H$53)","v":0},1.6239222615427192E-6,4.0920917090231228E-7,1.1157690948259459E-6,2.4804017489541182E-5,9.8540510250570598E-5,1.6759832682607573E-4,2.2230882583017101E-4,2.4520881993319151E-4,2.7703271062920438E-4,3.4238177416356225E-4,3.8855307736006327E-4,3.1978203815666539E-4,2.1315940826746116E-4,1.3815204597461718E-4,9.5124027618698133E-5,7.7722031618132468E-5,7.037060837061218E-5,6.5392079071394994E-5,5.9712315907024722E-5,5.4438038809756383E-5]
[null,null,{"$f":"IF(C58<Year_max,C58+1,\"\")","v":2017},{"$f":"IF($C59<>\"\",D58*EXP(D$50*$H$54)*\nIF($D$53=\"yes\",OFFSET(INDIRECT(\"'adjustment \" & $B$7 & \"'!C42\"),$C59-$C$58,MATCH(D$16,Ages_group))/OFFSET(INDIRECT(\"'adjustment \" & $B$7 & \"'!C42\"),$C58-$C$58,MATCH(D$16,Ages_group)),1),\"\")","v":0},{"$f":"IF($C59<>\"\",E58*EXP(E$50*$H$54)*\nIF($D$53=\"yes\",OFFSET(INDIRECT(\"'adjustment \" & $B$7 & \"'!C42\"),$C59-$C$58,MATCH(E$16,Ages_group))/OFFSET(INDIRECT(\"'adjustment \" & $B$7 & \"'!C42\"),$C58-$C$58,MATCH(E$16,Ages_group)),1),\"\")","v":1.6034045653846617E-6},{"$f":"IF($C59<>\"\",F58*EXP(F$50*$H$54)*\nIF($D$53=\"yes\",OFFSET(INDIRECT(\"'adjustment \" & $B$7 & \"'!C42\"),$C59-$C$58,MATCH(F$16,Ages_group))/OFFSET(INDIRECT(\"'adjustment \" & $B$7 & \"'!C42\"),$C58-$C$58,MATCH(F$16,Ages_group)),1),\"\")","v":3.9665812104344137E-7},{"$f":"IF($C59<>\"\",G58*EXP(G$50*$H$54)*\nIF($D$53=\"yes\",OFFSET(INDIRECT(\"'adjustment \" & $B$7 & \"'!C42\"),$C59-$C$58,MATCH(G$16,Ages_group))/OFFSET(INDIRECT(\"'adjustment \" & $B$7 & \"'!C42\"),$C58-$C$58,MATCH(G$16,Ages_group)),1),\"\")","v":1.0980805640283289E-6},{"$f":"IF($C59<>\"\",H58*EXP(H$50*$H$54)*\nIF($D$53=\"yes\",OFFSET(INDIRECT(\"'adjustment \" & $B$7 & \"'!C42\"),$C59-$C$58,MATCH(H$16,Ages_group))/OFFSET(INDIRECT(\"'adjustment \" & $B$7 & \"'!C42\"),$C58-$C$58,MATCH(H$16,Ages_group)),1),\"\")","v":2.5949120721198285E-5},{"$f":"IF($C59<>\"\",I58*EXP(I$50*$H$54)*\nIF($D$53=\"yes\",OFFSET(INDIRECT(\"'adjustment \" & $B$7 & \"'!C42\"),$C59-$C$58,MATCH(I$16,Ages_group))/OFFSET(INDIRECT(\"'adjustment \" & $B$7 & \"'!C42\"),$C58-$C$58,MATCH(I$16,Ages_group)),1),\"\")","v":1.0766260257774587E-4},{"$f":"IF($C59<>\"\",J58*EXP(J$50*$H$54)*\nIF($D$53=\"yes\",OFFSET(INDIRECT(\"'adjustment \" & $B$7 & \"'!C42\"),$C59-$C$58,MATCH(J$16,Ages_group))/OFFSET(INDIRECT(\"'adjustment \" & $B$7 & \"'!C42\"),$C58-$C$58,MATCH(J$16,Ages_group)),1),\"\")","v":1.8635181155388751E-4},{"$f":"IF($C59<>\"\",K58*EXP(K$50*$H$54)*\nIF($D$53=\"yes\",OFFSET(INDIRECT(\"'adjustment \" & $B$7 & \"'!C42\"),$C59-$C$58,MATCH(K$16,Ages_group))/OFFSET(INDIRECT(\"'adjustment \" & $B$7 & \"'!C42\"),$C58-$C$58,MATCH(K$16,Ages_group)),1),\"\")","v":2.4342413762145653E-4},{"$f":"IF($C59<>\"\",L58*EXP(L$50*$H$54)*\nIF($D$53=\"yes\",OFFSET(INDIRECT(\"'adjustment \" & $B$7 & \"'!C42\"),$C59-$C$58,MATCH(L$16,Ages_group))/OFFSET(INDIRECT(\"'adjustment \" & $B$7 & \"'!C42\"),$C58-$C$58,MATCH(L$16,Ages_group)),1),\"\")","v":2.5837279916994668E-4},{"$f":"IF($C59<>\"\",M58*EXP(M$50*$H$54)*\nIF($D$53=\"yes\",OFFSET(INDIRECT(\"'adjustment \" & $B$7 & \"'!C42\"),$C59-$C$58,MATCH(M$16,Ages_group))/OFFSET(INDIRECT(\"'adjustment \" & $B$7 & \"'!C42\"),$C58-$C$58,MATCH(M$16,Ages_group)),1),\"\")","v":2.881280871059665E-4},{"$f":"IF($C59<>\"\",N58*EXP(N$50*$H$54)*\nIF($D$53=\"yes\",OFFSET(INDIRECT(\"'adjustment \" & $B$7 & \"'!C42\"),$C59-$C$58,MATCH(N$16,Ages_group))/OFFSET(INDIRECT(\"'adjustment \" & $B$7 & \"'!C42\"),$C58-$C$58,MATCH(N$16,Ages_group)),1),\"\")","v":3.614490174669559E-4},{"$f":"IF($C59<>\"\",O58*EXP(O$50*$H$54)*\nIF($D$53=\"yes\",OFFSET(INDIRECT(\"'adjustment \" & $B$7 & \"'!C42\"),$C59-$C$58,MATCH(O$16,Ages_group))/OFFSET(INDIRECT(\"'adjustment \" & $B$7 & \"'!C42\"),$C58-$C$58,MATCH(O$16,Ages_group)),1),\"\")","v":4.208384595505616E-4},{"$f":"IF($C59<>\"\",P58*EXP(P$50*$H$54)*\nIF($D$53=\"yes\",OFFSET(INDIRECT(\"'adjustment \" & $B$7 & \"'!C42\"),$C59-$C$58,MATCH(P$16,Ages_group))/OFFSET(INDIRECT(\"'adjustment \" & $B$7 & \"'!C42\"),$C58-$C$58,MATCH(P$16,Ages_group)),1),\"\")","v":3.4594768520293767E-4},{"$f":"IF($C59<>\"\",Q58*EXP(Q$50*$H$54)*\nIF($D$53=\"yes\",OFFSET(INDIRECT(\"'adjustment \" & $B$7 & \"'!C42\"),$C59-$C$58,MATCH(Q$16,Ages_group))/OFFSET(INDIRECT(\"'adjustment \" & $B$7 & \"'!C42\"),$C58-$C$58,MATCH(Q$16,Ages_group)),1),\"\")","v":2.2516923921790021E-4},{"$f":"IF($C59<>\"\",R58*EXP(R$50*$H$54)*\nIF($D$53=\"yes\",OFFSET(INDIRECT(\"'adjustment \" & $B$7 & \"'!C42\"),$C59-$C$58,MATCH(R$16,Ages_group))/OFFSET(INDIRECT(\"'adjustment \" & $B$7 & \"'!C42\"),$C58-$C$58,MATCH(R$16,Ages_group)),1),\"\")","v":1.4231100019451389E-4},{"$f":"IF($C59<>\"\",S58*EXP(S$50*$H$54)*\nIF($D$53=\"yes\",OFFSET(INDIRECT(\"'adjustment \" & $B$7 & \"'!C42\"),$C59-$C$58,MATCH(S$16,Ages_group))/OFFSET(INDIRECT(\"'adjustment \" & $B$7 & \"'!C42\"),$C58-$C$58,MATCH(S$16,Ages_group)),1),\"\")","v":9.5876229926827593E-5},{"$f":"IF($C59<>\"\",T58*EXP(T$50*$H$54)*\nIF($D$53=\"yes\",OFFSET(INDIRECT(\"'adjustment \" & $B$7 & \"'!C42\"),$C59-$C$58,MATCH(T$16,Ages_group))/OFFSET(INDIRECT(\"'adjustment \" & $B$7 & \"'!C42\"),$C58-$C$58,MATCH(T$16,Ages_group)),1),\"\")","v":7.7559455882804387E-5},{"$f":"IF($C59<>\"\",U58*EXP(U$50*$H$54)*\nIF($D$53=\"yes\",OFFSET(INDIRECT(\"'adjustment \" & $B$7 & \"'!C42\"),$C59-$C$58,MATCH(U$16,Ages_group))/OFFSET(INDIRECT(\"'adjustment \" & $B$7 & \"'!C42\"),$C58-$C$58,MATCH(U$16,Ages_group)),1),\"\")","v":6.9823998306663612E-5},{"$f":"IF($C59<>\"\",V58*EXP(V$50*$H$54)*\nIF($D$53=\"yes\",OFFSET(INDIRECT(\"'adjustment \" & $B$7 & \"'!C42\"),$C59-$C$58,MATCH(V$16,Ages_group))/OFFSET(INDIRECT(\"'adjustment \" & $B$7 & \"'!C42\"),$C58-$C$58,MATCH(V$16,Ages_group)),1),\"\")","v":6.4280588288485052E-5},{"$f":"IF($C59<>\"\",W58*EXP(W$50*$H$54)*\nIF($D$53=\"yes\",OFFSET(INDIRECT(\"'adjustment \" & $B$7 & \"'!C42\"),$C59-$C$58,MATCH(W$16,Ages_group))/OFFSET(INDIRECT(\"'adjustment \" & $B$7 & \"'!C42\"),$C58-$C$58,MATCH(W$16,Ages_group)),1),\"\")","v":5.8924483744053455E-5},{"$f":"IF($C59<>\"\",X58*EXP(X$50*$H$54)*\nIF($D$53=\"yes\",OFFSET(INDIRECT(\"'adjustment \" & $B$7 & \"'!C42\"),$C59-$C$58,MATCH(X$16,Ages_group))/OFFSET(INDIRECT(\"'adjustment \" & $B$7 & \"'!C42\"),$C58-$C$58,MATCH(X$16,Ages_group)),1),\"\")","v":5.3589850914418115E-5}]
[null,null,2018,0,1.5831461032217306E-6,3.8449203042732773E-7,1.0806724533671265E-6,2.7147088832978313E-5,1.1762914525548168E-4,2.0720372528213458E-4,2.665450215729036E-4,2.7224348361164891E-4,2.9966784207825531E-4,3.8157811567801511E-4,4.5580647627394932E-4,3.74254293915777E-4,2.3785572826488051E-4,1.4659515632569012E-4,9.6634380346349302E-5,7.7397220216684072E-5,6.928163408581527E-5,6.3187989881808402E-5,5.8147046078558691E-5,5.2754878460369209E-5]
[null,null,2019,0,1.5631435997220507E-6,3.7269909178523674E-7,1.0635403172807595E-6,2.8400362386983573E-5,1.2851831074344911E-4,2.303888725996056E-4,2.9186197071295406E-4,2.8685881256507753E-4,3.1166977325196207E-4,4.0282820350368161E-4,4.9368003113392511E-4,4.0487704501399388E-4,2.5125699969020957E-4,1.5100828346916481E-4,9.7398525912520596E-5,7.723532390842878E-5,6.8743482728096946E-5,6.2113962731401442E-5,5.7379865767652814E-5,5.1932915540534793E-5]
[null,null,2020,0,1.5433938209364326E-6,3.6126785999481068E-7,1.0466797806841059E-6,2.971149461640087E-5,1.4041550808242429E-4,2.5616833165254801E-4,3.195835714573662E-4,3.0225876209999137E-4,3.2415239114500253E-4,4.2526170886312404E-4,5.3470054908546843E-4,4.3800545309482478E-4,2.6541332577461897E-4,1.5555426419165683E-4,9.8168714032534596E-5,7.7073766248183758E-5,6.8209511509713326E-5,6.1058191175482749E-5,5.6622807477883604E-5,5.1123759456035811E-5]
[null,null,2021,0,1.5238935737755163E-6,3.5018724097250413E-7,1.0300865378512222E-6,3.1083156627079152E-5,1.5341405279909002E-4,2.8483239403534531E-4,3.4993822215328573E-4,3.1848545439228202E-4,3.3713494763599512E-4,4.489445362867489E-4,5.7912951539808473E-4,4.7384453948030528E-4,2.8036724782035566E-4,1.6023709794137691E-4,9.8944992488461322E-5,7.6912546527579091E-5,6.7679687961054119E-5,6.0020364917678545E-5,5.5875737661360898E-5,5.0327210666202779E-5]
[null,null,2022,0,1.5046397054935215E-6,3.3944648090670496E-7,1.0137563513157776E-6,3.2518142839243393E-5,1.6761589882526622E-4,3.1670383364148846E-4,3.8317601485387561E-4,3.3558327293718921E-4,3.5063746565633646E-4,4.7394626052870391E-4,6.2725014249351437E-4,5.1261610102989715E-4,2.9616370399243033E-4,1.6506090456664928E-4,9.9727409440212043E-5,7.6751664039726591E-5,6.7153979864719677E-5,5.9000178935825071E-5,5.5138524532198268E-5,4.9543072739368392E-5]
[null,null,2023,0,1.4856291031785207E-6,3.2903515582109155E-7,9.9768505078891884E-7,3.4019376680430853E-5,1.8313243817236885E-4,3.521415412839912E-4,4.1957079582745116E-4,3.5359898394771118E-4,3.6468077007146741E-4,5.0034033096166253E-4,6.7936917528316199E-4,5.5456008277165265E-4,3.1285016436269922E-4,1.7002992794045848E-4,1.0051601342852713E-4,7.6591118079216719E-5,6.6632355253561914E-5,5.7997333392321109E-5,5.4411038043265489E-5,4.8771152304426779E-5]
[null,null,2024,0,1.4668586932491518E-6,3.1894316145809686E-7,9.8186853209429177E-7,3.5589916541247663E-5,2.0008537463333457E-4,3.9154456601317347E-4,4.5942242177766143E-4,3.7258186427026075E-4,3.7928651979895789E-4,5.2820428735435602E-4,7.3581884651336836E-4,5.9993606284669911E-4,3.3047677356260212E-4,1.7514853969411017E-4,1.0131085337798747E-4,7.6430907942115478E-5,6.6114782408740468E-5,5.7011533546004266E-5,5.3693149863247757E-5,4.8011259003147527E-5]
[null,null,2025,0,1.4483254409576907E-6,3.0916070347266207E-7,9.6630275611994453E-7,3.7232962006079064E-5,2.1860767836488201E-4,4.353566086393849E-4,5.0305923036372087E-4,3.9258383616744432E-4,3.9447724121294633E-4,5.5761998766575721E-4,7.9695899458287239E-4,6.4902485895689975E-4,3.4909650147324316E-4,1.8042124306329085E-4,1.0211197860004975E-4,7.627103292596133E-5,6.5601229857793929E-5,5.6042489665525104E-5,5.2984733354007545E-5,4.7263205443232696E-5]
[null,null,2026,0,1.4300263498994006E-6,2.9967828792676196E-7,9.509837477868485E-7,3.8951860371446891E-5,2.388446288373639E-4,4.8407101806032893E-4,5.5084074537531456E-4,4.1365960933662297E-4,4.1027636288645293E-4,5.8867384852512392E-4,8.6317935733248917E-4,7.0213026625749091E-4,3.6876530240565473E-4,1.8585267684990991E-4,1.0291943879610567E-4,7.6111492329762126E-5,6.5091666372726087E-5,5.5089916944193704E-5,5.2285663548245198E-5,4.6526807152105219E-5]
[null,null,"","","","","","","","","","","","","","","","","","","","","",""]
[null,null,"","","","","","","","","","","","","","","","","","","","","",""]
[null,null,"","","","","","","","","","","","","","","","","","","","","",""]
[null,null,"","","","","","","","","","","","","","","","","","","","","",""]
[null,null,"","","","","","","","","","","","","","","","","","","","","",""]
[null,null,"","","","","","","","","","","","","","","","","","","","","",""]
[null,null,"","","","","","","","","","","","","","","","","","","","","",""]
[null,null,"","","","","","","","","","","","","","","","","","","","","",""]
[null,null,"","","","","","","","","","","","","","","","","","","","","",""]
[null,null,"","","","","","","","","","","","","","","","","","","","","",""]
[null,null,"","","","","","","","","","","","","","","","","","","","","",""]
[null,null,"","","","","","","","","","","","","","","","","","","","","",""]
[null,null,"","","","","","","","","","","","","","","","","","","","","",""]
[null,null,"","","","","","","","","","","","","","","","","","","","","",""]
[null,null,"","","","","","","","","","","","","","","","","","","","","",""]
[null,null,"","","","","","","","","","","","","","","","","","","","","",""]
[null,null,"","","","","","","","","","","","","","","","","","","","","",""]
[null,null,"","","","","","","","","","","","","","","","","","","","","",""]
[null,null,"","","","","","","","","","","","","","","","","","","","","",""]
[null,null,"","","","","","","","","","","","","","","","","","","","","",""]
[null,null,""]
[null,null,""]
[null,null,""]
[null,null,""]
[null,null,""]
[null,null,""]
[null,null,""]
[null,null,""]
[null,null,""]
[null,null,""]
[null,null,""]
[null,null,""]
[null,null,""]
[null,null,""]
[null,null,""]
[null,null,""]
[null,null,""]

{"sheet":"Forecasts External","index":17,"n_rows":105,"n_cols":24,"rows_kept":105,"cut":false,"hidden":false,"merged":[[52,2,53,2],[52,3,53,3],[0,2,3,9],[0,10,3,16],[5,1,5,23],[11,2,12,2],[11,3,12,3]]}
[null,null,"Society of Actuaries - Cause of deaths forecasting tool",null,null,null,null,null,null,null,"Forecast External"]
[]
[]
[]
[]
[null,"central scenario - diffusion LC"]
[null,"External"]
[null,"Parameters Male",null,{"$f":"TRANSPOSE(Ages_group)","v":0},"1 - 4","5 - 9","10 - 14","15 - 19","20 - 24","25 - 29","30 - 34","35 - 39","40 - 44","45 - 49","50 - 54","55 - 59","60 - 64","65 - 69","70 - 74","75 - 79","80 - 84","85 - 89","90 - 94","95+"]
[null,null,"b_x",{"$f":"INDEX(beta_M,MATCH($B$7,Causes,0),MATCH(D8,Ages_group,0))","v":-5.9930790281183602E-2},0.101492175012314,0.2355996344879,0.21624902136916299,0.21143944207705101,0.122232146741517,6.3889536342637193E-2,3.6841915450298503E-2,6.3228096667869702E-2,8.1475029311188496E-2,4.02211600470775E-2,-3.4081260081113202E-2,-6.4298527165408903E-2,-3.4818536310910697E-2,-1.1180363192977501E-2,9.9985719607263695E-3,2.5500586619262501E-2,1.80035573168629E-2,2.4060867550645099E-2,5.9978887808363301E-4,-4.65220528010028E-2]
[null,null,"delta type",{"$f":"INDEX(drifts_type,MATCH($B$7,Causes,0),MATCH(C16,genders,0))","v":"historical2"}]
[null,null,"delta",{"$f":"INDEX(drifts,MATCH($B$7,Causes,0),MATCH(C16,genders,0))","v":4.2643773189522997E-2},null,"k1",null,{"$f":"INDEX(k_1,MATCH($B$7,Causes,0),MATCH(C16,genders,0))","v":1}]
[null,null,"Adjustment factors",{"$f":"INDEX(adjustment_use,MATCH($B$7,Causes,0),MATCH(C16,genders,0))","v":"no"},null,"k2",null,{"$f":"INDEX(k_2,MATCH($B$7,Causes,0),MATCH(C16,genders,0))","v":0}]
[null,null,null,null,null,"delta basis",null,{"$f":"D11*H11","v":4.2643773189522997E-2}]
[]
[null,"Death rate",null,"age"]
[null,"sex","M",{"$f":"TRANSPOSE(Ages_group)","v":0},"1 - 4","5 - 9","10 - 14","15 - 19","20 - 24","25 - 29","30 - 34","35 - 39","40 - 44","45 - 49","50 - 54","55 - 59","60 - 64","65 - 69","70 - 74","75 - 79","80 - 84","85 - 89","90 - 94","95+"]
[null,"time",{"$f":"Year_0","v":2016},{"$f":"(OFFSET(q0_M,MATCH($B$7,Causes,0),MATCH(D$16,Ages_group,0))^$H$11)*EXP($H$12)","v":4.4991975994727694E-4},1.3939878224536521E-4,5.345055666476097E-5,8.6649843318787866E-5,4.9507377969240922E-4,9.0492760530469409E-4,8.7126639443980839E-4,7.9213876129378979E-4,7.4438935605947577E-4,6.9551226677378179E-4,7.0359790211607664E-4,7.8002565216344927E-4,8.1340659235504351E-4,7.8242085399622143E-4,8.2035182058517976E-4,9.9304710105940991E-4,1.4076827006962028E-3,2.3107906503743534E-3,3.7743317075121228E-3,6.2373421628649488E-3,1.0390305272842459E-2]
[null,null,{"$f":"IF(C17<Year_max,C17+1,\"\")","v":2017},{"$f":"IF($C18<>\"\",D17*EXP(D$9*$H$13)*\nIF($D$12=\"yes\",OFFSET(INDIRECT(\"'adjustment \" & $B$7 & \"'!C8\"),$C18-$C$17,MATCH(D$16,Ages_group))/OFFSET(INDIRECT(\"'adjustment \" & $B$7 & \"'!C8\"),$C17-$C$17,MATCH(D$16,Ages_group)),1),\"\")","v":4.4877137932115293E-4},{"$f":"IF($C18<>\"\",E17*EXP(E$9*$H$13)*\nIF($D$12=\"yes\",OFFSET(INDIRECT(\"'adjustment \" & $B$7 & \"'!C8\"),$C18-$C$17,MATCH(E$16,Ages_group))/OFFSET(INDIRECT(\"'adjustment \" & $B$7 & \"'!C8\"),$C17-$C$17,MATCH(E$16,Ages_group)),1),\"\")","v":1.4000340894135396E-4},{"$f":"IF($C18<>\"\",F17*EXP(F$9*$H$13)*\nIF($D$12=\"yes\",OFFSET(INDIRECT(\"'adjustment \" & $B$7 & \"'!C8\"),$C18-$C$17,MATCH(F$16,Ages_group))/OFFSET(INDIRECT(\"'adjustment \" & $B$7 & \"'!C8\"),$C17-$C$17,MATCH(F$16,Ages_group)),1),\"\")","v":5.399027347329249E-5},{"$f":"IF($C18<>\"\",G17*EXP(G$9*$H$13)*\nIF($D$12=\"yes\",OFFSET(INDIRECT(\"'adjustment \" & $B$7 & \"'!C8\"),$C18-$C$17,MATCH(G$16,Ages_group))/OFFSET(INDIRECT(\"'adjustment \" & $B$7 & \"'!C8\"),$C17-$C$17,MATCH(G$16,Ages_group)),1),\"\")","v":8.7452595616366045E-5},{"$f":"IF($C18<>\"\",H17*EXP(H$9*$H$13)*\nIF($D$12=\"yes\",OFFSET(INDIRECT(\"'adjustment \" & $B$7 & \"'!C8\"),$C18-$C$17,MATCH(H$16,Ages_group))/OFFSET(INDIRECT(\"'adjustment \" & $B$7 & \"'!C8\"),$C17-$C$17,MATCH(H$16,Ages_group)),1),\"\")","v":4.9955783489261042E-4},{"$f":"IF($C18<>\"\",I17*EXP(I$9*$H$13)*\nIF($D$12=\"yes\",OFFSET(INDIRECT(\"'adjustment \" & $B$7 & \"'!C8\"),$C18-$C$17,MATCH(I$16,Ages_group))/OFFSET(INDIRECT(\"'adjustment \" & $B$7 & \"'!C8\"),$C17-$C$17,MATCH(I$16,Ages_group)),1),\"\")","v":9.0965680071533519E-4},{"$f":"IF($C18<>\"\",J17*EXP(J$9*$H$13)*\nIF($D$12=\"yes\",OFFSET(INDIRECT(\"'adjustment \" & $B$7 & \"'!C8\"),$C18-$C$17,MATCH(J$16,Ages_group))/OFFSET(INDIRECT(\"'adjustment \" & $B$7 & \"'!C8\"),$C17-$C$17,MATCH(J$16,Ages_group)),1),\"\")","v":8.7364338837913941E-4},{"$f":"IF($C18<>\"\",K17*EXP(K$9*$H$13)*\nIF($D$12=\"yes\",OFFSET(INDIRECT(\"'adjustment \" & $B$7 & \"'!C8\"),$C18-$C$17,MATCH(K$16,Ages_group))/OFFSET(INDIRECT(\"'adjustment \" & $B$7 & \"'!C8\"),$C17-$C$17,MATCH(K$16,Ages_group)),1),\"\")","v":7.9338425142648494E-4},{"$f":"IF($C18<>\"\",L17*EXP(L$9*$H$13)*\nIF($D$12=\"yes\",OFFSET(INDIRECT(\"'adjustment \" & $B$7 & \"'!C8\"),$C18-$C$17,MATCH(L$16,Ages_group))/OFFSET(INDIRECT(\"'adjustment \" & $B$7 & \"'!C8\"),$C17-$C$17,MATCH(L$16,Ages_group)),1),\"\")","v":7.4639914989718822E-4},{"$f":"IF($C18<>\"\",M17*EXP(M$9*$H$13)*\nIF($D$12=\"yes\",OFFSET(INDIRECT(\"'adjustment \" & $B$7 & \"'!C8\"),$C18-$C$17,MATCH(M$16,Ages_group))/OFFSET(INDIRECT(\"'adjustment \" & $B$7 & \"'!C8\"),$C17-$C$17,MATCH(M$16,Ages_group)),1),\"\")","v":6.9793295924594999E-4},{"$f":"IF($C18<>\"\",N17*EXP(N$9*$H$13)*\nIF($D$12=\"yes\",OFFSET(INDIRECT(\"'adjustment \" & $B$7 & \"'!C8\"),$C18-$C$17,MATCH(N$16,Ages_group))/OFFSET(INDIRECT(\"'adjustment \" & $B$7 & \"'!C8\"),$C17-$C$17,MATCH(N$16,Ages_group)),1),\"\")","v":7.0480573612313052E-4},{"$f":"IF($C18<>\"\",O17*EXP(O$9*$H$13)*\nIF($D$12=\"yes\",OFFSET(INDIRECT(\"'adjustment \" & $B$7 & \"'!C8\"),$C18-$C$17,MATCH(O$16,Ages_group))/OFFSET(INDIRECT(\"'adjustment \" & $B$7 & \"'!C8\"),$C17-$C$17,MATCH(O$16,Ages_group)),1),\"\")","v":7.7889282253272444E-4},{"$f":"IF($C18<>\"\",P17*EXP(P$9*$H$13)*\nIF($D$12=\"yes\",OFFSET(INDIRECT(\"'adjustment \" & $B$7 & \"'!C8\"),$C18-$C$17,MATCH(P$16,Ages_group))/OFFSET(INDIRECT(\"'adjustment \" & $B$7 & \"'!C8\"),$C17-$C$17,MATCH(P$16,Ages_group)),1),\"\")","v":8.1117934182587076E-4},{"$f":"IF($C18<>\"\",Q17*EXP(Q$9*$H$13)*\nIF($D$12=\"yes\",OFFSET(INDIRECT(\"'adjustment \" & $B$7 & \"'!C8\"),$C18-$C$17,MATCH(Q$16,Ages_group))/OFFSET(INDIRECT(\"'adjustment \" & $B$7 & \"'!C8\"),$C17-$C$17,MATCH(Q$16,Ages_group)),1),\"\")","v":7.8125998243112275E-4},{"$f":"IF($C18<>\"\",R17*EXP(R$9*$H$13)*\nIF($D$12=\"yes\",OFFSET(INDIRECT(\"'adjustment \" & $B$7 & \"'!C8\"),$C18-$C$17,MATCH(R$16,Ages_group))/OFFSET(INDIRECT(\"'adjustment \" & $B$7 & \"'!C8\"),$C17-$C$17,MATCH(R$16,Ages_group)),1),\"\")","v":8.1996079231472598E-4},{"$f":"IF($C18<>\"\",S17*EXP(S$9*$H$13)*\nIF($D$12=\"yes\",OFFSET(INDIRECT(\"'adjustment \" & $B$7 & \"'!C8\"),$C18-$C$17,MATCH(S$16,Ages_group))/OFFSET(INDIRECT(\"'adjustment \" & $B$7 & \"'!C8\"),$C17-$C$17,MATCH(S$16,Ages_group)),1),\"\")","v":9.9347060361870297E-4},{"$f":"IF($C18<>\"\",T17*EXP(T$9*$H$13)*\nIF($D$12=\"yes\",OFFSET(INDIRECT(\"'adjustment \" & $B$7 & \"'!C8\"),$C18-$C$17,MATCH(T$16,Ages_group))/OFFSET(INDIRECT(\"'adjustment \" & $B$7 & \"'!C8\"),$C17-$C$17,MATCH(T$16,Ages_group)),1),\"\")","v":1.4092143055206895E-3},{"$f":"IF($C18<>\"\",U17*EXP(U$9*$H$13)*\nIF($D$12=\"yes\",OFFSET(INDIRECT(\"'adjustment \" & $B$7 & \"'!C8\"),$C18-$C$17,MATCH(U$16,Ages_group))/OFFSET(INDIRECT(\"'adjustment \" & $B$7 & \"'!C8\"),$C17-$C$17,MATCH(U$16,Ages_group)),1),\"\")","v":2.312565417090396E-3},{"$f":"IF($C18<>\"\",V17*EXP(V$9*$H$13)*\nIF($D$12=\"yes\",OFFSET(INDIRECT(\"'adjustment \" & $B$7 & \"'!C8\"),$C18-$C$17,MATCH(V$16,Ages_group))/OFFSET(INDIRECT(\"'adjustment \" & $B$7 & \"'!C8\"),$C17-$C$17,MATCH(V$16,Ages_group)),1),\"\")","v":3.7782063335699877E-3},{"$f":"IF($C18<>\"\",W17*EXP(W$9*$H$13)*\nIF($D$12=\"yes\",OFFSET(INDIRECT(\"'adjustment \" & $B$7 & \"'!C8\"),$C18-$C$17,MATCH(W$16,Ages_group))/OFFSET(INDIRECT(\"'adjustment \" & $B$7 & \"'!C8\"),$C17-$C$17,MATCH(W$16,Ages_group)),1),\"\")","v":6.2375016990328788E-3},{"$f":"IF($C18<>\"\",X17*EXP(X$9*$H$13)*\nIF($D$12=\"yes\",OFFSET(INDIRECT(\"'adjustment \" & $B$7 & \"'!C8\"),$C18-$C$17,MATCH(X$16,Ages_group))/OFFSET(INDIRECT(\"'adjustment \" & $B$7 & \"'!C8\"),$C17-$C$17,MATCH(X$16,Ages_group)),1),\"\")","v":1.0369712630328213E-2}]
[null,null,{"$f":"IF(C18<Year_max,C18+1,\"\")","v":2018},4.4762592983560071E-4,1.4061065813831161E-4,5.4535440070405977E-5,8.8262784872011137E-5,5.0408250373842011E-4,9.1441071112980743E-4,8.7602686724687318E-4,7.9463169985960231E-4,7.4841437002322309E-4,7.0036207680610689E-4,7.0601564356301326E-4,7.7776163810811384E-4,8.0895818990097095E-4,7.801008332418833E-4,8.1956995043150804E-4,9.93894286788178E-4,1.4107475767813249E-3,2.3143415468883329E-3,3.7820849372133571E-3,6.2376612392813589E-3,1.0349160800563407E-2]
[null,null,2019,4.464834040091418E-4,1.4122054121104411E-4,5.5086111485322534E-5,8.9080479984118661E-5,5.0864815408173468E-4,9.1918946570991567E-4,8.7841684873522818E-4,7.958811096722032E-4,7.5043503108814023E-4,7.0279964877731132E-4,7.072276279950912E-4,7.766320965002882E-4,8.0674311988129116E-4,7.7894340387302773E-4,8.1917929484668283E-4,9.9431815064485955E-4,1.412282516291246E-3,2.3161190408150577E-3,3.7859675225255115E-3,6.2378207836104932E-3,1.0328649702660874E-2]
[null,null,2020,4.4534379437939338E-4,1.4183306958369434E-4,5.5642343302920631E-5,8.9905750489381226E-5,5.1325515710621324E-4,9.2399319429247047E-4,8.8081335058469109E-4,7.971324839481901E-4,7.5246114778205488E-4,7.052457045846793E-4,7.0844169298484093E-4,7.7550419532338799E-4,8.0453411511350367E-4,7.7778769177287233E-4,8.1878882547144942E-4,9.9474219526580489E-4,1.4138191258655627E-3,2.3178978999182677E-3,3.7898540935939239E-3,6.2379803320203866E-3,1.0308179255893762E-2]
[null,null,2021,4.4420709350301979E-4,1.4244825472995614E-4,5.6204191669346843E-5,9.0738666568701966E-5,5.1790388735745401E-4,9.2882202739281582E-4,8.8321639058414828E-4,7.983858257763146E-4,7.5449273483474454E-4,7.0770027375573945E-4,7.0965784210385967E-4,7.7437793219501891E-4,8.0233115898988049E-4,7.7663369439351924E-4,8.1839854221704938E-4,9.9516642072810407E-4,1.4153574073213597E-3,2.3196781252464659E-3,3.7937446545102628E-3,6.2381398845111442E-3,1.0287749379695203E-2]
[null,null,2022,4.4307329395568379E-4,1.4306610817328922E-4,5.6771713297683271E-5,9.1579299053162698E-5,5.2259472277344486E-4,9.336760962083754E-4,8.8562598657101772E-4,7.9964113825018465E-4,7.565298070157558E-4,7.1016338592078934E-4,7.1087607892987581E-4,7.7325330473624644E-4,8.0013423494816832E-4,7.7548140919085086E-4,8.1800844499476646E-4,9.9559082710888006E-4,1.4168973624776988E-3,2.3214597178489601E-3,3.7976392093703975E-3,6.2382994410828691E-3,1.0267359993658014E-2]
[null,null,2023,4.4194238833199814E-4,1.4368664148713502E-4,5.7344965473672173E-5,9.2427719430047384E-5,5.2732804471528939E-4,9.3855553262221672E-4,8.8804215643138165E-4,8.0089842446827235E-4,7.5857237913451209E-4,7.1263507081325303E-4,7.1209640704675942E-4,7.7213031057159101E-4,7.9794332647146441E-4,7.7433083362452438E-4,8.176185337159267E-4,9.9601541448528902E-4,1.4184389931556206E-3,2.3232426787758642E-3,3.8015377622744018E-3,6.2384590017356663E-3,1.0247011017534367E-2]
[null,null,2024,4.4081436924547717E-4,1.4430986629513349E-4,5.7924006061498373E-5,9.3283999848921425E-5,5.3210423799821102E-4,9.4346046920663483E-4,8.9046491810011914E-4,8.0215768753392157E-4,7.6062046604042104E-4,7.1511535827004026E-4,7.13318830044533E-4,7.7100894732902295E-4,7.9575841708809218E-4,7.7318196515796609E-4,8.172288082918985E-4,9.9644018293451944E-4,1.4199823011781477E-3,2.325027009078098E-3,3.8054403173265585E-3,6.2386185664696408E-3,1.0226702371235477E-2]
[null,null,2025,4.396892293284886E-4,1.4493579427134082E-4,5.8508893509630104E-5,9.4148213127767219E-5,5.369236909228385E-4,9.4839103922675372E-4,8.928942895610393E-4,8.0341893055535551E-4,7.6267408262298254E-4,7.1760427823190653E-4,7.1454335151938174E-4,7.6988921263995756E-4,7.9357949037147724E-4,7.7203480125836565E-4,8.1683926863409238E-4,9.9686513253379318E-4,1.4215272883702859E-3,2.3268127098073888E-3,3.8093468786353636E-3,6.2387781352848956E-3,1.0206433974831293E-2]
[null,null,2026,4.3856696123220537E-4,1.455644371404481E-4,5.9099686856718804E-5,9.502043275917662E-5,5.4178679530677426E-4,9.5334737664414762E-4,8.9533028884701484E-4,8.0468215664568452E-4,7.6473324381189697E-4,7.2010186074381456E-4,7.1576997507366428E-4,7.6877110413924997E-4,7.914065299400243E-4,7.7088933939667068E-4,8.164499146539612E-4,9.9729026336036483E-4,1.4230739565590266E-3,2.3285997820162723E-3,3.8132574503135313E-3,6.2389377081815359E-3,1.0186205748550173E-2]
[null,null,"","","","","","","","","","","","","","","","","","","","","",""]
[null,null,"","","","","","","","","","","","","","","","","","","","","",""]
[null,null,"","","","","","","","","","","","","","","","","","","","","",""]
[null,null,"","","","","","","","","","","","","","","","","","","","","",""]
[null,null,"","","","","","","","","","","","","","","","","","","","","",""]
[null,null,"","","","","","","","","","","","","","","","","","","","","",""]
[null,null,"","","","","","","","","","","","","","","","","","","","","",""]
[null,null,"","","","","","","","","","","","","","","","","","","","","",""]
[null,null,"","","","","","","","","","","","","","","","","","","","","",""]
[null,null,"","","","","","","","","","","","","","","","","","","","","",""]
[null,null,"","","","","","","","","","","","","","","","","","","","","",""]
[null,null,"","","","","","","","","","","","","","","","","","","","","",""]
[null,null,"","","","","","","","","","","","","","","","","","","","","",""]
[null,null,"","","","","","","","","","","","","","","","","","","","","",""]
[null,null,"","","","","","","","","","","","","","","","","","","","","",""]
[null,null,"","","","","","","","","","","","","","","","","","","","","",""]
[null,null,"","","","","","","","","","","","","","","","","","","","","",""]
[null,null,"","","","","","","","","","","","","","","","","","","","","",""]
[null,null,"","","","","","","","","","","","","","","","","","","","","",""]
[null,null,"","","","","","","","","","","","","","","","","","","","","",""]
[]
[null,"Parameters Female",null,{"$f":"TRANSPOSE(Ages_group)","v":0},"1 - 4","5 - 9","10 - 14","15 - 19","20 - 24","25 - 29","30 - 34","35 - 39","40 - 44","45 - 49","50 - 54","55 - 59","60 - 64","65 - 69","70 - 74","75 - 79","80 - 84","85 - 89","90 - 94","95+"]
[null,null,"b_x",{"$f":"INDEX(beta_F,MATCH($B$7,Causes,0),MATCH(D49,Ages_group,0))","v":-5.4428191664798099E-2},0.16595487261889399,0.30576799332348997,0.233399566433694,0.289535271217785,0.100364421121635,4.2254933720042999E-2,5.0008486175343599E-2,0.114694677012585,0.101940668603814,1.5679907563151799E-2,-5.6012467240628701E-2,-7.6032499831687902E-2,3.9683728781764998E-3,3.07316305323545E-2,3.9334458278747701E-2,8.47408770358077E-3,-2.1061053140816799E-2,-5.2689171345516102E-2,-9.1874037904820405E-2,-0.150011926055027]
[null,null,"delta type",{"$f":"INDEX(drifts_type,MATCH($B$7,Causes,0),MATCH(C57,genders,0))","v":"historical2"}]
[null,null,"delta",{"$f":"INDEX(drifts,MATCH($B$7,Causes,0),MATCH(C57,genders,0))","v":5.8541209246970004E-3},null,"k1",null,{"$f":"INDEX(k_1,MATCH($B$7,Causes,0),MATCH(C57,genders,0))","v":1}]
[null,null,"Adjustment factors",{"$f":"INDEX(adjustment_use,MATCH($B$7,Causes,0),MATCH(C57,genders,0))","v":"no"},null,"k2",null,{"$f":"INDEX(k_2,MATCH($B$7,Causes,0),MATCH(C57,genders,0))","v":0}]
[null,null,null,null,null,"delta basis",null,{"$f":"D52*H52","v":5.8541209246970004E-3}]
[]
[null,"Death rate",null,"age"]
[null,"sex","F",{"$f":"TRANSPOSE(Ages_group)","v":0},"1 - 4","5 - 9","10 - 14","15 - 19","20 - 24","25 - 29","30 - 34","35 - 39","40 - 44","45 - 49","50 - 54","55 - 59","60 - 64","65 - 69","70 - 74","75 - 79","80 - 84","85 - 89","90 - 94","95+"]
[null,"time",{"$f":"Year_0","v":2016},{"$f":"(OFFSET(q0_F,MATCH($B$7,Causes,0),MATCH(D$16,Ages_group,0))^$H$52)*EXP($H$53)","v":3.4012760995658363E-4},9.2472365957207048E-5,3.9161322257827601E-5,5.1316812801787167E-5,1.6832608823400637E-4,2.324244666494321E-4,2.2170905840947843E-4,2.2323203944859925E-4,2.2077851274508834E-4,2.2774002870406794E-4,2.5212531999757365E-4,2.7884145937937021E-4,2.9464833942000556E-4,2.8508405450634194E-4,3.053985187087163E-4,4.226301983068454E-4,6.9919350762791927E-4,1.2707673364301759E-3,2.2682304779063434E-3,4.0430902016980646E-3,7.2218304722193871E-3]
[null,null,{"$f":"IF(C58<Year_max,C58+1,\"\")","v":2017},{"$f":"IF($C59<>\"\",D58*EXP(D$50*$H$54)*\nIF($D$53=\"yes\",OFFSET(INDIRECT(\"'adjustment \" & $B$7 & \"'!C42\"),$C59-$C$58,MATCH(D$16,Ages_group))/OFFSET(INDIRECT(\"'adjustment \" & $B$7 & \"'!C42\"),$C58-$C$58,MATCH(D$16,Ages_group)),1),\"\")","v":3.4001925262680126E-4},{"$f":"IF($C59<>\"\",E58*EXP(E$50*$H$54)*\nIF($D$53=\"yes\",OFFSET(INDIRECT(\"'adjustment \" & $B$7 & \"'!C42\"),$C59-$C$58,MATCH(E$16,Ages_group))/OFFSET(INDIRECT(\"'adjustment \" & $B$7 & \"'!C42\"),$C58-$C$58,MATCH(E$16,Ages_group)),1),\"\")","v":9.2562248354426284E-5},{"$f":"IF($C59<>\"\",F58*EXP(F$50*$H$54)*\nIF($D$53=\"yes\",OFFSET(INDIRECT(\"'adjustment \" & $B$7 & \"'!C42\"),$C59-$C$58,MATCH(F$16,Ages_group))/OFFSET(INDIRECT(\"'adjustment \" & $B$7 & \"'!C42\"),$C58-$C$58,MATCH(F$16,Ages_group)),1),\"\")","v":3.9231483910670952E-5},{"$f":"IF($C59<>\"\",G58*EXP(G$50*$H$54)*\nIF($D$53=\"yes\",OFFSET(INDIRECT(\"'adjustment \" & $B$7 & \"'!C42\"),$C59-$C$58,MATCH(G$16,Ages_group))/OFFSET(INDIRECT(\"'adjustment \" & $B$7 & \"'!C42\"),$C58-$C$58,MATCH(G$16,Ages_group)),1),\"\")","v":5.1386977416071371E-5},{"$f":"IF($C59<>\"\",H58*EXP(H$50*$H$54)*\nIF($D$53=\"yes\",OFFSET(INDIRECT(\"'adjustment \" & $B$7 & \"'!C42\"),$C59-$C$58,MATCH(H$16,Ages_group))/OFFSET(INDIRECT(\"'adjustment \" & $B$7 & \"'!C42\"),$C58-$C$58,MATCH(H$16,Ages_group)),1),\"\")","v":1.6861163859143122E-4},{"$f":"IF($C59<>\"\",I58*EXP(I$50*$H$54)*\nIF($D$53=\"yes\",OFFSET(INDIRECT(\"'adjustment \" & $B$7 & \"'!C42\"),$C59-$C$58,MATCH(I$16,Ages_group))/OFFSET(INDIRECT(\"'adjustment \" & $B$7 & \"'!C42\"),$C58-$C$58,MATCH(I$16,Ages_group)),1),\"\")","v":2.3256106671453393E-4},{"$f":"IF($C59<>\"\",J58*EXP(J$50*$H$54)*\nIF($D$53=\"yes\",OFFSET(INDIRECT(\"'adjustment \" & $B$7 & \"'!C42\"),$C59-$C$58,MATCH(J$16,Ages_group))/OFFSET(INDIRECT(\"'adjustment \" & $B$7 & \"'!C42\"),$C58-$C$58,MATCH(J$16,Ages_group)),1),\"\")","v":2.2176390836343109E-4},{"$f":"IF($C59<>\"\",K58*EXP(K$50*$H$54)*\nIF($D$53=\"yes\",OFFSET(INDIRECT(\"'adjustment \" & $B$7 & \"'!C42\"),$C59-$C$58,MATCH(K$16,Ages_group))/OFFSET(INDIRECT(\"'adjustment \" & $B$7 & \"'!C42\"),$C58-$C$58,MATCH(K$16,Ages_group)),1),\"\")","v":2.2329740147331191E-4},{"$f":"IF($C59<>\"\",L58*EXP(L$50*$H$54)*\nIF($D$53=\"yes\",OFFSET(INDIRECT(\"'adjustment \" & $B$7 & \"'!C42\"),$C59-$C$58,MATCH(L$16,Ages_group))/OFFSET(INDIRECT(\"'adjustment \" & $B$7 & \"'!C42\"),$C58-$C$58,MATCH(L$16,Ages_group)),1),\"\")","v":2.2092680127646687E-4},{"$f":"IF($C59<>\"\",M58*EXP(M$50*$H$54)*\nIF($D$53=\"yes\",OFFSET(INDIRECT(\"'adjustment \" & $B$7 & \"'!C42\"),$C59-$C$58,MATCH(M$16,Ages_group))/OFFSET(INDIRECT(\"'adjustment \" & $B$7 & \"'!C42\"),$C58-$C$58,MATCH(M$16,Ages_group)),1),\"\")","v":2.2787597836598905E-4},{"$f":"IF($C59<>\"\",N58*EXP(N$50*$H$54)*\nIF($D$53=\"yes\",OFFSET(INDIRECT(\"'adjustment \" & $B$7 & \"'!C42\"),$C59-$C$58,MATCH(N$16,Ages_group))/OFFSET(INDIRECT(\"'adjustment \" & $B$7 & \"'!C42\"),$C58-$C$58,MATCH(N$16,Ages_group)),1),\"\")","v":2.5214846416605628E-4},{"$f":"IF($C59<>\"\",O58*EXP(O$50*$H$54)*\nIF($D$53=\"yes\",OFFSET(INDIRECT(\"'adjustment \" & $B$7 & \"'!C42\"),$C59-$C$58,MATCH(O$16,Ages_group))/OFFSET(INDIRECT(\"'adjustment \" & $B$7 & \"'!C42\"),$C58-$C$58,MATCH(O$16,Ages_group)),1),\"\")","v":2.7875004120636723E-4},{"$f":"IF($C59<>\"\",P58*EXP(P$50*$H$54)*\nIF($D$53=\"yes\",OFFSET(INDIRECT(\"'adjustment \" & $B$7 & \"'!C42\"),$C59-$C$58,MATCH(P$16,Ages_group))/OFFSET(INDIRECT(\"'adjustment \" & $B$7 & \"'!C42\"),$C58-$C$58,MATCH(P$16,Ages_group)),1),\"\")","v":2.9451721961122119E-4},{"$f":"IF($C59<>\"\",Q58*EXP(Q$50*$H$54)*\nIF($D$53=\"yes\",OFFSET(INDIRECT(\"'adjustment \" & $B$7 & \"'!C42\"),$C59-$C$58,MATCH(Q$16,Ages_group))/OFFSET(INDIRECT(\"'adjustment \" & $B$7 & \"'!C42\"),$C58-$C$58,MATCH(Q$16,Ages_group)),1),\"\")","v":2.8509067746636051E-4},{"$f":"IF($C59<>\"\",R58*EXP(R$50*$H$54)*\nIF($D$53=\"yes\",OFFSET(INDIRECT(\"'adjustment \" & $B$7 & \"'!C42\"),$C59-$C$58,MATCH(R$16,Ages_group))/OFFSET(INDIRECT(\"'adjustment \" & $B$7 & \"'!C42\"),$C58-$C$58,MATCH(R$16,Ages_group)),1),\"\")","v":3.0545346688533006E-4},{"$f":"IF($C59<>\"\",S58*EXP(S$50*$H$54)*\nIF($D$53=\"yes\",OFFSET(INDIRECT(\"'adjustment \" & $B$7 & \"'!C42\"),$C59-$C$58,MATCH(S$16,Ages_group))/OFFSET(INDIRECT(\"'adjustment \" & $B$7 & \"'!C42\"),$C58-$C$58,MATCH(S$16,Ages_group)),1),\"\")","v":4.2272752800829981E-4},{"$f":"IF($C59<>\"\",T58*EXP(T$50*$H$54)*\nIF($D$53=\"yes\",OFFSET(INDIRECT(\"'adjustment \" & $B$7 & \"'!C42\"),$C59-$C$58,MATCH(T$16,Ages_group))/OFFSET(INDIRECT(\"'adjustment \" & $B$7 & \"'!C42\"),$C58-$C$58,MATCH(T$16,Ages_group)),1),\"\")","v":6.9922819431344368E-4},{"$f":"IF($C59<>\"\",U58*EXP(U$50*$H$54)*\nIF($D$53=\"yes\",OFFSET(INDIRECT(\"'adjustment \" & $B$7 & \"'!C42\"),$C59-$C$58,MATCH(U$16,Ages_group))/OFFSET(INDIRECT(\"'adjustment \" & $B$7 & \"'!C42\"),$C58-$C$58,MATCH(U$16,Ages_group)),1),\"\")","v":1.2706106681616609E-3},{"$f":"IF($C59<>\"\",V58*EXP(V$50*$H$54)*\nIF($D$53=\"yes\",OFFSET(INDIRECT(\"'adjustment \" & $B$7 & \"'!C42\"),$C59-$C$58,MATCH(V$16,Ages_group))/OFFSET(INDIRECT(\"'adjustment \" & $B$7 & \"'!C42\"),$C58-$C$58,MATCH(V$16,Ages_group)),1),\"\")","v":2.2675309528709564E-3},{"$f":"IF($C59<>\"\",W58*EXP(W$50*$H$54)*\nIF($D$53=\"yes\",OFFSET(INDIRECT(\"'adjustment \" & $B$7 & \"'!C42\"),$C59-$C$58,MATCH(W$16,Ages_group))/OFFSET(INDIRECT(\"'adjustment \" & $B$7 & \"'!C42\"),$C58-$C$58,MATCH(W$16,Ages_group)),1),\"\")","v":4.0409162437536486E-3},{"$f":"IF($C59<>\"\",X58*EXP(X$50*$H$54)*\nIF($D$53=\"yes\",OFFSET(INDIRECT(\"'adjustment \" & $B$7 & \"'!C42\"),$C59-$C$58,MATCH(X$16,Ages_group))/OFFSET(INDIRECT(\"'adjustment \" & $B$7 & \"'!C42\"),$C58-$C$58,MATCH(X$16,Ages_group)),1),\"\")","v":7.2154911316573405E-3}]
[null,null,2018,3.3991092981733003E-4,9.2652218116613916E-5,3.9301771265539819E-5,5.1457237965251547E-5,1.6889767335984357E-4,2.32697747061966E-4,2.2181877188704783E-4,2.2336278263593277E-4,2.2107518940761291E-4,2.2801200918321114E-4,2.5217161045908767E-4,2.7865865300481243E-4,2.9438615815132921E-4,2.8509730058024109E-4,3.0550842494837723E-4,4.2282488012431623E-4,6.9926288271975946E-4,1.2704540192082052E-3,2.2668316435699404E-3,4.0387434547401518E-3,7.209157355784041E-3]
[null,null,2019,3.398026415171725E-4,9.2742275328688004E-5,3.9372184547642686E-5,5.1527594580497864E-5,1.6918419336100395E-4,2.3283450773891167E-4,2.2187364898368576E-4,2.2342818294206535E-4,2.2122367720542381E-4,2.2814812120417998E-4,2.5219475887686284E-4,2.7856729476487973E-4,2.9425515501436413E-4,2.8510392384798724E-4,3.0556339289963661E-4,4.2292225466005661E-4,6.9929757284695193E-4,1.2702973895674272E-3,2.2661325499367625E-3,4.036571834029043E-3,7.202829139714791E-3]
[null,null,2020,3.3969438771533475E-4,9.2832420075649119E-5,3.9442723982591515E-5,5.1598047393159827E-5,1.6947119941806689E-4,2.3297134879258206E-4,2.2192853965670277E-4,2.2349360239731485E-4,2.2137226473684191E-4,2.2828431447737021E-4,2.5221790941957681E-4,2.7847596647674616E-4,2.9412421017437198E-4,2.8511054726960251E-4,3.0561837074088728E-4,4.2301965162068412E-4,6.9933226469510654E-4,1.2701407792369464E-3,2.2654336719049105E-3,4.0344013809921293E-3,7.1965064785691809E-3]
[null,null,2021,3.3958616840082634E-4,9.2922652442580488E-5,3.9513389796402478E-5,5.1668596534766558E-5,1.6975869235558334E-4,2.3310827027021603E-4,2.2198344390945762E-4,2.2355904100728811E-4,2.2152095206885448E-4,2.2842058905128544E-4,2.5224106208742466E-4,2.7838466813059204E-4,2.9399332360541036E-4,2.851171708450905E-4,3.0567335847390866E-4,4.2311707101136311E-4,6.993669582643086E-4,1.2699841882143816E-3,2.2647350094078928E-3,4.0322320950015554E-3,7.1901893674710844E-3]
[null,null,2022,3.3947798356266033E-4,9.3012972514648005E-5,3.9584182215496678E-5,5.1739242137026989E-5,1.7004667299950303E-4,2.3324527221908018E-4,2.2203836174530987E-4,2.2362449877759362E-4,2.2166973926849375E-4,2.2855694497445823E-4,2.5226421688060151E-4,2.782933997166009E-4,2.938624952815484E-4,2.8512379457445476E-4,3.0572835610048055E-4,4.2321451283725909E-4,6.9940165355464356E-4,1.2698276164973528E-3,2.2640365623792379E-3,4.0300639754298042E-3,7.1838778015486573E-3]
[null,null,2023,3.3936983318985333E-4,9.3103380377100361E-5,3.9655101466700885E-5,5.1809984331830154E-5,1.7033514217717685E-4,2.3338235468646894E-4,2.2209329316761993E-4,2.2368997571384149E-4,2.2181862640283703E-4,2.2869338229545013E-4,2.522873737993024E-4,2.7820216122495945E-4,2.9373172517686678E-4,2.8513041845769891E-4,3.0578336362238303E-4,4.2331197710353876E-4,6.9943635056619673E-4,1.2696710640834796E-3,2.2633383307524954E-3,4.0278970216496958E-3,7.1775717759343305E-3]
[null,null,2024,3.3926171727142546E-4,9.3193876115269105E-5,3.9726147777248235E-5,5.1880823251245411E-5,1.7062410071735923E-4,2.3351951771970447E-4,2.2214823817974904E-4,2.2375547182164348E-4,2.2196761353900665E-4,2.2882990106285161E-4,2.5231053284372249E-4,2.7811095264585763E-4,2.9360101326545774E-4,2.8513704249482648E-4,3.0583838104139647E-4,4.2340946381537009E-4,6.9947104929905357E-4,1.2695145309703825E-3,2.2626403144612351E-3,4.0257312330343872E-3,7.1712712857648075E-3]
[null,null,2025,3.3915363579640025E-4,9.3284459814568728E-5,3.9797321374778994E-5,5.195175902752269E-5,1.7091354945021045E-4,2.336567613661368E-4,2.2220319678505925E-4,2.2382098710661298E-4,2.2211670074417006E-4,2.2896650132528225E-4,2.5233369401405687E-4,2.7801977396948866E-4,2.9347035952142494E-4,2.8514366668584105E-4,3.0589340835930157E-4,4.2350697297792217E-4,6.9950574975329938E-4,1.2693580171556818E-3,2.2619425134390472E-3,4.0235666089573725E-3,7.1649763261810613E-3]
[null,null,2026,3.3904558875380477E-4,9.3375131560496742E-5,3.986862248734126E-5,5.2022791793092752E-5,1.7120348920729914E-4,2.3379408567314377E-4,2.2225816898691346E-4,2.2388652157436507E-4,2.2226588808553976E-4,2.2910318313139056E-4,2.5235685731050071E-4,2.7792862518604891E-4,2.9333976391888371E-4,2.8515029103074623E-4,3.0594844557787939E-4,4.2360450459636529E-4,6.9954045192901972E-4,1.2692015226369981E-3,2.2612449276195423E-3,4.0214031487924833E-3,7.1586868923283302E-3]
[null,null,"","","","","","","","","","","","","","","","","","","","","",""]
[null,null,"","","","","","","","","","","","","","","","","","","","","",""]
[null,null,"","","","","","","","","","","","","","","","","","","","","",""]
[null,null,"","","","","","","","","","","","","","","","","","","","","",""]
[null,null,"","","","","","","","","","","","","","","","","","","","","",""]
[null,null,"","","","","","","","","","","","","","","","","","","","","",""]
[null,null,"","","","","","","","","","","","","","","","","","","","","",""]
[null,null,"","","","","","","","","","","","","","","","","","","","","",""]
[null,null,"","","","","","","","","","","","","","","","","","","","","",""]
[null,null,"","","","","","","","","","","","","","","","","","","","","",""]
[null,null,"","","","","","","","","","","","","","","","","","","","","",""]
[null,null,"","","","","","","","","","","","","","","","","","","","","",""]
[null,null,"","","","","","","","","","","","","","","","","","","","","",""]
[null,null,"","","","","","","","","","","","","","","","","","","","","",""]
[null,null,"","","","","","","","","","","","","","","","","","","","","",""]
[null,null,"","","","","","","","","","","","","","","","","","","","","",""]
[null,null,"","","","","","","","","","","","","","","","","","","","","",""]
[null,null,"","","","","","","","","","","","","","","","","","","","","",""]
[null,null,"","","","","","","","","","","","","","","","","","","","","",""]
[null,null,"","","","","","","","","","","","","","","","","","","","","",""]
[null,null,""]
[null,null,""]
[null,null,""]
[null,null,""]
[null,null,""]
[null,null,""]
[null,null,""]
[null,null,""]
[null,null,""]
[null,null,""]
[null,null,""]
[null,null,""]
[null,null,""]
[null,null,""]
[null,null,""]
[null,null,""]
[null,null,""]

{"sheet":"Forecasts Other","index":18,"n_rows":105,"n_cols":24,"rows_kept":105,"cut":false,"hidden":false,"merged":[[52,2,53,2],[52,3,53,3],[0,2,3,9],[0,10,3,16],[5,1,5,23],[11,2,12,2],[11,3,12,3]]}
[null,null,"Society of Actuaries - Cause of deaths forecasting tool",null,null,null,null,null,null,null,"Forecast Other"]
[]
[]
[]
[]
[null,"central scenario - diffusion LC"]
[null,"Other"]
[null,"Parameters Male",null,{"$f":"TRANSPOSE(Ages_group)","v":0},"1 - 4","5 - 9","10 - 14","15 - 19","20 - 24","25 - 29","30 - 34","35 - 39","40 - 44","45 - 49","50 - 54","55 - 59","60 - 64","65 - 69","70 - 74","75 - 79","80 - 84","85 - 89","90 - 94","95+"]
[null,null,"b_x",{"$f":"INDEX(beta_M,MATCH($B$7,Causes,0),MATCH(D8,Ages_group,0))","v":5.9621320203726798E-2},8.4714326443085505E-2,3.3523055138254598E-2,7.8641859132918907E-2,5.34043520413763E-2,1.5736640333992202E-2,3.4418331843413003E-2,0.10551961847909699,0.16585164492599,0.14024760793195901,8.8513815623005407E-2,1.62429845182544E-2,-4.9145226624265598E-2,-5.2393396719767803E-2,-1.0557765210712699E-2,1.1374163875537101E-2,2.1271305439292499E-2,3.9852393858650102E-2,5.6415385775908301E-2,5.4848016232984902E-2,5.1899566757300501E-2]
[null,null,"delta type",{"$f":"INDEX(drifts_type,MATCH($B$7,Causes,0),MATCH(C16,genders,0))","v":"historical2"}]
[null,null,"delta",{"$f":"INDEX(drifts,MATCH($B$7,Causes,0),MATCH(C16,genders,0))","v":-0.23544977249672},null,"k1",null,{"$f":"INDEX(k_1,MATCH($B$7,Causes,0),MATCH(C16,genders,0))","v":1}]
[null,null,"Adjustment factors",{"$f":"INDEX(adjustment_use,MATCH($B$7,Causes,0),MATCH(C16,genders,0))","v":"no"},null,"k2",null,{"$f":"INDEX(k_2,MATCH($B$7,Causes,0),MATCH(C16,genders,0))","v":0}]
[null,null,null,null,null,"delta basis",null,{"$f":"D11*H11","v":-0.23544977249672}]
[]
[null,"Death rate",null,"age"]
[null,"sex","M",{"$f":"TRANSPOSE(Ages_group)","v":0},"1 - 4","5 - 9","10 - 14","15 - 19","20 - 24","25 - 29","30 - 34","35 - 39","40 - 44","45 - 49","50 - 54","55 - 59","60 - 64","65 - 69","70 - 74","75 - 79","80 - 84","85 - 89","90 - 94","95+"]
[null,"time",{"$f":"Year_0","v":2016},{"$f":"(OFFSET(q0_M,MATCH($B$7,Causes,0),MATCH(D$16,Ages_group,0))^$H$11)*EXP($H$12)","v":5.4702665564762814E-3},8.1605426316993076E-5,3.7335191298516959E-5,3.4074615296225984E-5,5.7686175624428144E-5,8.7900285699975432E-5,1.2011397922262808E-4,1.6631224686860572E-4,2.2624755484622341E-4,3.4656490676026366E-4,5.6456324551847667E-4,8.6844255435672099E-4,1.2554624094774597E-3,1.6431004078219023E-3,1.9464573626127651E-3,2.6651416208225225E-3,3.8877648594881921E-3,6.0369073940190207E-3,9.415746196675203E-3,1.5699995021038055E-2,2.6192213380540771E-2]
[null,null,{"$f":"IF(C17<Year_max,C17+1,\"\")","v":2017},{"$f":"IF($C18<>\"\",D17*EXP(D$9*$H$13)*\nIF($D$12=\"yes\",OFFSET(INDIRECT(\"'adjustment \" & $B$7 & \"'!C8\"),$C18-$C$17,MATCH(D$16,Ages_group))/OFFSET(INDIRECT(\"'adjustment \" & $B$7 & \"'!C8\"),$C17-$C$17,MATCH(D$16,Ages_group)),1),\"\")","v":5.3940123785341815E-3},{"$f":"IF($C18<>\"\",E17*EXP(E$9*$H$13)*\nIF($D$12=\"yes\",OFFSET(INDIRECT(\"'adjustment \" & $B$7 & \"'!C8\"),$C18-$C$17,MATCH(E$16,Ages_group))/OFFSET(INDIRECT(\"'adjustment \" & $B$7 & \"'!C8\"),$C17-$C$17,MATCH(E$16,Ages_group)),1),\"\")","v":7.9993852650578307E-5},{"$f":"IF($C18<>\"\",F17*EXP(F$9*$H$13)*\nIF($D$12=\"yes\",OFFSET(INDIRECT(\"'adjustment \" & $B$7 & \"'!C8\"),$C18-$C$17,MATCH(F$16,Ages_group))/OFFSET(INDIRECT(\"'adjustment \" & $B$7 & \"'!C8\"),$C17-$C$17,MATCH(F$16,Ages_group)),1),\"\")","v":3.7041664719814429E-5},{"$f":"IF($C18<>\"\",G17*EXP(G$9*$H$13)*\nIF($D$12=\"yes\",OFFSET(INDIRECT(\"'adjustment \" & $B$7 & \"'!C8\"),$C18-$C$17,MATCH(G$16,Ages_group))/OFFSET(INDIRECT(\"'adjustment \" & $B$7 & \"'!C8\"),$C17-$C$17,MATCH(G$16,Ages_group)),1),\"\")","v":3.344948799113746E-5},{"$f":"IF($C18<>\"\",H17*EXP(H$9*$H$13)*\nIF($D$12=\"yes\",OFFSET(INDIRECT(\"'adjustment \" & $B$7 & \"'!C8\"),$C18-$C$17,MATCH(H$16,Ages_group))/OFFSET(INDIRECT(\"'adjustment \" & $B$7 & \"'!C8\"),$C17-$C$17,MATCH(H$16,Ages_group)),1),\"\")","v":5.6965368425438616E-5},{"$f":"IF($C18<>\"\",I17*EXP(I$9*$H$13)*\nIF($D$12=\"yes\",OFFSET(INDIRECT(\"'adjustment \" & $B$7 & \"'!C8\"),$C18-$C$17,MATCH(I$16,Ages_group))/OFFSET(INDIRECT(\"'adjustment \" & $B$7 & \"'!C8\"),$C17-$C$17,MATCH(I$16,Ages_group)),1),\"\")","v":8.7575201203787681E-5},{"$f":"IF($C18<>\"\",J17*EXP(J$9*$H$13)*\nIF($D$12=\"yes\",OFFSET(INDIRECT(\"'adjustment \" & $B$7 & \"'!C8\"),$C18-$C$17,MATCH(J$16,Ages_group))/OFFSET(INDIRECT(\"'adjustment \" & $B$7 & \"'!C8\"),$C17-$C$17,MATCH(J$16,Ages_group)),1),\"\")","v":1.1914453434432985E-4},{"$f":"IF($C18<>\"\",K17*EXP(K$9*$H$13)*\nIF($D$12=\"yes\",OFFSET(INDIRECT(\"'adjustment \" & $B$7 & \"'!C8\"),$C18-$C$17,MATCH(K$16,Ages_group))/OFFSET(INDIRECT(\"'adjustment \" & $B$7 & \"'!C8\"),$C17-$C$17,MATCH(K$16,Ages_group)),1),\"\")","v":1.6223119647125459E-4},{"$f":"IF($C18<>\"\",L17*EXP(L$9*$H$13)*\nIF($D$12=\"yes\",OFFSET(INDIRECT(\"'adjustment \" & $B$7 & \"'!C8\"),$C18-$C$17,MATCH(L$16,Ages_group))/OFFSET(INDIRECT(\"'adjustment \" & $B$7 & \"'!C8\"),$C17-$C$17,MATCH(L$16,Ages_group)),1),\"\")","v":2.1758292519850761E-4},{"$f":"IF($C18<>\"\",M17*EXP(M$9*$H$13)*\nIF($D$12=\"yes\",OFFSET(INDIRECT(\"'adjustment \" & $B$7 & \"'!C8\"),$C18-$C$17,MATCH(M$16,Ages_group))/OFFSET(INDIRECT(\"'adjustment \" & $B$7 & \"'!C8\"),$C17-$C$17,MATCH(M$16,Ages_group)),1),\"\")","v":3.3530777949687402E-4},{"$f":"IF($C18<>\"\",N17*EXP(N$9*$H$13)*\nIF($D$12=\"yes\",OFFSET(INDIRECT(\"'adjustment \" & $B$7 & \"'!C8\"),$C18-$C$17,MATCH(N$16,Ages_group))/OFFSET(INDIRECT(\"'adjustment \" & $B$7 & \"'!C8\"),$C17-$C$17,MATCH(N$16,Ages_group)),1),\"\")","v":5.5291918836160845E-4},{"$f":"IF($C18<>\"\",O17*EXP(O$9*$H$13)*\nIF($D$12=\"yes\",OFFSET(INDIRECT(\"'adjustment \" & $B$7 & \"'!C8\"),$C18-$C$17,MATCH(O$16,Ages_group))/OFFSET(INDIRECT(\"'adjustment \" & $B$7 & \"'!C8\"),$C17-$C$17,MATCH(O$16,Ages_group)),1),\"\")","v":8.6512761943505114E-4},{"$f":"IF($C18<>\"\",P17*EXP(P$9*$H$13)*\nIF($D$12=\"yes\",OFFSET(INDIRECT(\"'adjustment \" & $B$7 & \"'!C8\"),$C18-$C$17,MATCH(P$16,Ages_group))/OFFSET(INDIRECT(\"'adjustment \" & $B$7 & \"'!C8\"),$C17-$C$17,MATCH(P$16,Ages_group)),1),\"\")","v":1.2700740310236818E-3},{"$f":"IF($C18<>\"\",Q17*EXP(Q$9*$H$13)*\nIF($D$12=\"yes\",OFFSET(INDIRECT(\"'adjustment \" & $B$7 & \"'!C8\"),$C18-$C$17,MATCH(Q$16,Ages_group))/OFFSET(INDIRECT(\"'adjustment \" & $B$7 & \"'!C8\"),$C17-$C$17,MATCH(Q$16,Ages_group)),1),\"\")","v":1.6634952532759806E-3},{"$f":"IF($C18<>\"\",R17*EXP(R$9*$H$13)*\nIF($D$12=\"yes\",OFFSET(INDIRECT(\"'adjustment \" & $B$7 & \"'!C8\"),$C18-$C$17,MATCH(R$16,Ages_group))/OFFSET(INDIRECT(\"'adjustment \" & $B$7 & \"'!C8\"),$C17-$C$17,MATCH(R$16,Ages_group)),1),\"\")","v":1.9513019307806367E-3},{"$f":"IF($C18<>\"\",S17*EXP(S$9*$H$13)*\nIF($D$12=\"yes\",OFFSET(INDIRECT(\"'adjustment \" & $B$7 & \"'!C8\"),$C18-$C$17,MATCH(S$16,Ages_group))/OFFSET(INDIRECT(\"'adjustment \" & $B$7 & \"'!C8\"),$C17-$C$17,MATCH(S$16,Ages_group)),1),\"\")","v":2.658013802071809E-3},{"$f":"IF($C18<>\"\",T17*EXP(T$9*$H$13)*\nIF($D$12=\"yes\",OFFSET(INDIRECT(\"'adjustment \" & $B$7 & \"'!C8\"),$C18-$C$17,MATCH(T$16,Ages_group))/OFFSET(INDIRECT(\"'adjustment \" & $B$7 & \"'!C8\"),$C17-$C$17,MATCH(T$16,Ages_group)),1),\"\")","v":3.8683423510397041E-3},{"$f":"IF($C18<>\"\",U17*EXP(U$9*$H$13)*\nIF($D$12=\"yes\",OFFSET(INDIRECT(\"'adjustment \" & $B$7 & \"'!C8\"),$C18-$C$17,MATCH(U$16,Ages_group))/OFFSET(INDIRECT(\"'adjustment \" & $B$7 & \"'!C8\"),$C17-$C$17,MATCH(U$16,Ages_group)),1),\"\")","v":5.9805265916744975E-3},{"$f":"IF($C18<>\"\",V17*EXP(V$9*$H$13)*\nIF($D$12=\"yes\",OFFSET(INDIRECT(\"'adjustment \" & $B$7 & \"'!C8\"),$C18-$C$17,MATCH(V$16,Ages_group))/OFFSET(INDIRECT(\"'adjustment \" & $B$7 & \"'!C8\"),$C17-$C$17,MATCH(V$16,Ages_group)),1),\"\")","v":9.2915039176979693E-3},{"$f":"IF($C18<>\"\",W17*EXP(W$9*$H$13)*\nIF($D$12=\"yes\",OFFSET(INDIRECT(\"'adjustment \" & $B$7 & \"'!C8\"),$C18-$C$17,MATCH(W$16,Ages_group))/OFFSET(INDIRECT(\"'adjustment \" & $B$7 & \"'!C8\"),$C17-$C$17,MATCH(W$16,Ages_group)),1),\"\")","v":1.5498549552351425E-2},{"$f":"IF($C18<>\"\",X17*EXP(X$9*$H$13)*\nIF($D$12=\"yes\",OFFSET(INDIRECT(\"'adjustment \" & $B$7 & \"'!C8\"),$C18-$C$17,MATCH(X$16,Ages_group))/OFFSET(INDIRECT(\"'adjustment \" & $B$7 & \"'!C8\"),$C17-$C$17,MATCH(X$16,Ages_group)),1),\"\")","v":2.5874098908656815E-2}]
[null,null,{"$f":"IF(C18<Year_max,C18+1,\"\")","v":2018},5.31882116518322E-3,7.8414104927602561E-5,3.6750445825883506E-5,3.2835829169087408E-5,5.6253567942746209E-5,8.7251318978204861E-5,1.181829138956121E-4,1.5825028886350139E-4,2.0925012590795568E-4,3.2441630643491168E-4,5.415152886506043E-4,8.6182533796233974E-4,1.2848557090228876E-3,1.6841432480319005E-3,1.9561585566699792E-3,2.6509050463981742E-3,3.849016873622687E-3,5.9246723494816439E-3,9.1689010354889817E-3,1.5299688815494329E-2,2.5559848058978121E-2]
[null,null,2019,5.244678098956965E-3,7.6865554637748926E-5,3.6461516473873118E-5,3.2233428431166467E-5,5.5550661634552547E-5,8.6928634576830338E-5,1.172290547251811E-4,1.5436706669311274E-4,2.0123644882772093E-4,3.1387861038831549E-4,5.3034659316357361E-4,8.5853566163906526E-4,1.2998094226665793E-3,1.7050475342840546E-3,1.9610272702914439E-3,2.6438153028181515E-3,3.8297879424891951E-3,5.8693397497099247E-3,9.0479159179453379E-3,1.5103379645964856E-2,2.5249413906331945E-2]
[null,null,2020,5.1715685689408411E-3,7.5347585682751059E-5,3.6174858663569971E-5,3.1642079238409162E-5,5.4856538365304991E-5,8.6607143569711735E-5,1.1628289419143983E-4,1.5057913290755353E-4,1.9352967249637522E-4,3.0368319996598622E-4,5.1940825083830289E-4,8.5525854235007058E-4,1.3149371741809574E-3,1.7262112932290587E-3,1.9659081017303764E-3,2.6367445204846279E-3,3.8106550753129876E-3,5.8145239205572193E-3,8.9285272184031952E-3,1.4909589304792357E-2,2.4942750095469757E-2]
[null,null,2021,5.09947816789285E-3,7.385959413127544E-5,3.5890454536277151E-5,3.1061578840980023E-5,5.4171088388125141E-5,8.6286841543280123E-5,1.1534437015837417E-4,1.4688414927432382E-4,1.8611804349925941E-4,2.9381895704038807E-4,5.0869551066522298E-4,8.519939321638588E-4,1.3302409890950078E-3,1.7476377455498638E-3,1.9708010811470022E-3,2.629692648686479E-3,3.7916177921774323E-3,5.7602200357208819E-3,8.8107138718713628E-3,1.4718285473077481E-2,2.4639810834145289E-2]
[null,null,2022,5.0283926894044229E-3,7.2400987978644382E-5,3.5608286373701522E-5,3.0491728208658806E-5,5.3494203327456922E-5,8.5967724100289412E-5,1.1441342099147232E-4,1.4327983493760425E-4,1.7899025854364021E-4,2.8427512462319508E-4,4.9820371962383417E-4,8.4874178333189281E-4,1.3457229165117102E-3,1.7693301519058767E-3,1.9757062387766129E-3,2.6226596368482051E-3,3.7726756155634644E-3,5.7064233139728056E-3,8.6944550913145794E-3,1.452943624660227E-2,2.4340550886276655E-2]
[null,null,2023,4.9582981251008523E-3,7.0971186911304097E-5,3.5328336596849898E-5,2.9932331962601062E-5,5.2825776161931462E-5,8.5649786859755988E-5,1.134899855536772E-4,1.3976396501031934E-4,1.7213544722033706E-4,2.7504129513476121E-4,4.879283206616918E-4,8.455020482878964E-4,1.3613850293824024E-3,1.7912918134291647E-3,1.9806236049297529E-3,2.6156454345295692E-3,3.7538280703376115E-3,5.653129018738455E-3,8.5797303639858439E-3,1.4343010130509414E-2,2.4044925565191531E-2]
[null,null,2024,4.8891806618807472E-3,6.9569622075944112E-5,3.5050587764933863E-5,2.9383198308350582E-5,5.2165701207446091E-5,8.533302545689857E-5,1.125740032013714E-4,1.363343692007494E-4,1.6554315542552898E-4,2.6610739905462145E-4,4.7786485071507531E-4,8.4227467964715882E-4,1.3772294247843383E-3,1.8135260722268189E-3,1.9855532099924077E-3,2.6086499914252347E-3,3.7350746837400738E-3,5.6003324576798311E-3,8.4665194478071373E-3,1.4158976034049777E-2,2.375289072695435E-2]
[null,null,2025,4.8210266791939719E-3,6.8195735853176197E-5,3.4775022574283227E-5,2.8844138970080801E-5,5.1513874100454777E-5,8.5017435543078304E-5,1.1166541378039468E-4,1.3298893047284318E-4,1.5920332941745841E-4,2.5746369394064782E-4,4.6800893877048074E-4,8.3905963020584158E-4,1.3932582242014754E-3,1.8360363118895533E-3,1.9904950844261905E-3,2.6016732573644042E-3,3.716414985372867E-3,5.5480289822823301E-3,8.3548023677978995E-3,1.3977303265397312E-2,2.3464402763774567E-2]
[null,null,2026,4.7538227463575292E-3,6.6848981635682809E-5,3.4501623857267997E-5,2.8314969126042603E-5,5.0870191781467347E-5,8.4703012785739039E-5,1.1076415762209348E-4,1.2972558373940457E-4,1.5310630048371744E-4,2.4910075380488509E-4,4.5835630396609485E-4,8.3585685294028833E-4,1.4094735738085309E-3,1.8588259580066165E-3,1.9954492587685312E-3,2.5947151823104606E-3,3.6978485071880226E-3,5.496213987445462E-3,8.2445594125506415E-3,1.3797961526530508E-2,2.3179418597494974E-2]
[null,null,"","","","","","","","","","","","","","","","","","","","","",""]
[null,null,"","","","","","","","","","","","","","","","","","","","","",""]
[null,null,"","","","","","","","","","","","","","","","","","","","","",""]
[null,null,"","","","","","","","","","","","","","","","","","","","","",""]
[null,null,"","","","","","","","","","","","","","","","","","","","","",""]
[null,null,"","","","","","","","","","","","","","","","","","","","","",""]
[null,null,"","","","","","","","","","","","","","","","","","","","","",""]
[null,null,"","","","","","","","","","","","","","","","","","","","","",""]
[null,null,"","","","","","","","","","","","","","","","","","","","","",""]
[null,null,"","","","","","","","","","","","","","","","","","","","","",""]
[null,null,"","","","","","","","","","","","","","","","","","","","","",""]
[null,null,"","","","","","","","","","","","","","","","","","","","","",""]
[null,null,"","","","","","","","","","","","","","","","","","","","","",""]
[null,null,"","","","","","","","","","","","","","","","","","","","","",""]
[null,null,"","","","","","","","","","","","","","","","","","","","","",""]
[null,null,"","","","","","","","","","","","","","","","","","","","","",""]
[null,null,"","","","","","","","","","","","","","","","","","","","","",""]
[null,null,"","","","","","","","","","","","","","","","","","","","","",""]
[null,null,"","","","","","","","","","","","","","","","","","","","","",""]
[null,null,"","","","","","","","","","","","","","","","","","","","","",""]
[]
[null,"Parameters Female",null,{"$f":"TRANSPOSE(Ages_group)","v":0},"1 - 4","5 - 9","10 - 14","15 - 19","20 - 24","25 - 29","30 - 34","35 - 39","40 - 44","45 - 49","50 - 54","55 - 59","60 - 64","65 - 69","70 - 74","75 - 79","80 - 84","85 - 89","90 - 94","95+"]
[null,null,"b_x",{"$f":"INDEX(beta_F,MATCH($B$7,Causes,0),MATCH(D49,Ages_group,0))","v":6.9663649635163194E-2},7.98060661662892E-2,6.8682760646384206E-2,8.97474301753729E-2,8.3381239492492099E-2,5.0136861543067401E-2,5.3633707803385798E-2,5.5344783858390402E-2,7.4557692865044906E-2,7.9309145374267004E-2,2.41841760789329E-2,-2.7844199442539401E-2,-4.4697175495860497E-2,-2.19829020152233E-2,-8.0681502706337095E-3,1.00630575567378E-2,2.0728188755822E-2,5.5919951854256703E-2,8.6255156726579199E-2,9.9379695138321206E-2,0.10179886355374999]
[null,null,"delta type",{"$f":"INDEX(drifts_type,MATCH($B$7,Causes,0),MATCH(C57,genders,0))","v":"historical2"}]
[null,null,"delta",{"$f":"INDEX(drifts,MATCH($B$7,Causes,0),MATCH(C57,genders,0))","v":-0.18559236860963599},null,"k1",null,{"$f":"INDEX(k_1,MATCH($B$7,Causes,0),MATCH(C57,genders,0))","v":1}]
[null,null,"Adjustment factors",{"$f":"INDEX(adjustment_use,MATCH($B$7,Causes,0),MATCH(C57,genders,0))","v":"no"},null,"k2",null,{"$f":"INDEX(k_2,MATCH($B$7,Causes,0),MATCH(C57,genders,0))","v":0}]
[null,null,null,null,null,"delta basis",null,{"$f":"D52*H52","v":-0.18559236860963599}]
[]
[null,"Death rate",null,"age"]
[null,"sex","F",{"$f":"TRANSPOSE(Ages_group)","v":0},"1 - 4","5 - 9","10 - 14","15 - 19","20 - 24","25 - 29","30 - 34","35 - 39","40 - 44","45 - 49","50 - 54","55 - 59","60 - 64","65 - 69","70 - 74","75 - 79","80 - 84","85 - 89","90 - 94","95+"]
[null,"time",{"$f":"Year_0","v":2016},{"$f":"(OFFSET(q0_F,MATCH($B$7,Causes,0),MATCH(D$16,Ages_group,0))^$H$52)*EXP($H$53)","v":4.6016873864198494E-3},7.7168967359035856E-5,3.1772452050101033E-5,3.2065204710665512E-5,4.3215001680483774E-5,7.5898643628810104E-5,1.0367061299330573E-4,1.4724947567483921E-4,1.9402161126792086E-4,2.578831849957154E-4,4.0400300621435065E-4,5.8873583604470282E-4,8.3045936282856718E-4,1.1296857969538329E-3,1.5757105291631479E-3,2.2870860794778399E-3,3.4981013207304053E-3,5.3836245218104881E-3,8.5353808905871704E-3,1.3731089817682117E-2,2.3040137375457421E-2]
[null,null,{"$f":"IF(C58<Year_max,C58+1,\"\")","v":2017},{"$f":"IF($C59<>\"\",D58*EXP(D$50*$H$54)*\nIF($D$53=\"yes\",OFFSET(INDIRECT(\"'adjustment \" & $B$7 & \"'!C42\"),$C59-$C$58,MATCH(D$16,Ages_group))/OFFSET(INDIRECT(\"'adjustment \" & $B$7 & \"'!C42\"),$C58-$C$58,MATCH(D$16,Ages_group)),1),\"\")","v":4.5425749352274039E-3},{"$f":"IF($C59<>\"\",E58*EXP(E$50*$H$54)*\nIF($D$53=\"yes\",OFFSET(INDIRECT(\"'adjustment \" & $B$7 & \"'!C42\"),$C59-$C$58,MATCH(E$16,Ages_group))/OFFSET(INDIRECT(\"'adjustment \" & $B$7 & \"'!C42\"),$C58-$C$58,MATCH(E$16,Ages_group)),1),\"\")","v":7.6034410089305231E-5},{"$f":"IF($C59<>\"\",F58*EXP(F$50*$H$54)*\nIF($D$53=\"yes\",OFFSET(INDIRECT(\"'adjustment \" & $B$7 & \"'!C42\"),$C59-$C$58,MATCH(F$16,Ages_group))/OFFSET(INDIRECT(\"'adjustment \" & $B$7 & \"'!C42\"),$C58-$C$58,MATCH(F$16,Ages_group)),1),\"\")","v":3.137001907848063E-5},{"$f":"IF($C59<>\"\",G58*EXP(G$50*$H$54)*\nIF($D$53=\"yes\",OFFSET(INDIRECT(\"'adjustment \" & $B$7 & \"'!C42\"),$C59-$C$58,MATCH(G$16,Ages_group))/OFFSET(INDIRECT(\"'adjustment \" & $B$7 & \"'!C42\"),$C58-$C$58,MATCH(G$16,Ages_group)),1),\"\")","v":3.1535536054217131E-5},{"$f":"IF($C59<>\"\",H58*EXP(H$50*$H$54)*\nIF($D$53=\"yes\",OFFSET(INDIRECT(\"'adjustment \" & $B$7 & \"'!C42\"),$C59-$C$58,MATCH(H$16,Ages_group))/OFFSET(INDIRECT(\"'adjustment \" & $B$7 & \"'!C42\"),$C58-$C$58,MATCH(H$16,Ages_group)),1),\"\")","v":4.2551400740835752E-5},{"$f":"IF($C59<>\"\",I58*EXP(I$50*$H$54)*\nIF($D$53=\"yes\",OFFSET(INDIRECT(\"'adjustment \" & $B$7 & \"'!C42\"),$C59-$C$58,MATCH(I$16,Ages_group))/OFFSET(INDIRECT(\"'adjustment \" & $B$7 & \"'!C42\"),$C58-$C$58,MATCH(I$16,Ages_group)),1),\"\")","v":7.5195680928904314E-5},{"$f":"IF($C59<>\"\",J58*EXP(J$50*$H$54)*\nIF($D$53=\"yes\",OFFSET(INDIRECT(\"'adjustment \" & $B$7 & \"'!C42\"),$C59-$C$58,MATCH(J$16,Ages_group))/OFFSET(INDIRECT(\"'adjustment \" & $B$7 & \"'!C42\"),$C58-$C$58,MATCH(J$16,Ages_group)),1),\"\")","v":1.0264379395964202E-4},{"$f":"IF($C59<>\"\",K58*EXP(K$50*$H$54)*\nIF($D$53=\"yes\",OFFSET(INDIRECT(\"'adjustment \" & $B$7 & \"'!C42\"),$C59-$C$58,MATCH(K$16,Ages_group))/OFFSET(INDIRECT(\"'adjustment \" & $B$7 & \"'!C42\"),$C58-$C$58,MATCH(K$16,Ages_group)),1),\"\")","v":1.4574473370838431E-4},{"$f":"IF($C59<>\"\",L58*EXP(L$50*$H$54)*\nIF($D$53=\"yes\",OFFSET(INDIRECT(\"'adjustment \" & $B$7 & \"'!C42\"),$C59-$C$58,MATCH(L$16,Ages_group))/OFFSET(INDIRECT(\"'adjustment \" & $B$7 & \"'!C42\"),$C58-$C$58,MATCH(L$16,Ages_group)),1),\"\")","v":1.913553579627744E-4},{"$f":"IF($C59<>\"\",M58*EXP(M$50*$H$54)*\nIF($D$53=\"yes\",OFFSET(INDIRECT(\"'adjustment \" & $B$7 & \"'!C42\"),$C59-$C$58,MATCH(M$16,Ages_group))/OFFSET(INDIRECT(\"'adjustment \" & $B$7 & \"'!C42\"),$C58-$C$58,MATCH(M$16,Ages_group)),1),\"\")","v":2.5411515715794162E-4},{"$f":"IF($C59<>\"\",N58*EXP(N$50*$H$54)*\nIF($D$53=\"yes\",OFFSET(INDIRECT(\"'adjustment \" & $B$7 & \"'!C42\"),$C59-$C$58,MATCH(N$16,Ages_group))/OFFSET(INDIRECT(\"'adjustment \" & $B$7 & \"'!C42\"),$C58-$C$58,MATCH(N$16,Ages_group)),1),\"\")","v":4.0219374310297761E-4},{"$f":"IF($C59<>\"\",O58*EXP(O$50*$H$54)*\nIF($D$53=\"yes\",OFFSET(INDIRECT(\"'adjustment \" & $B$7 & \"'!C42\"),$C59-$C$58,MATCH(O$16,Ages_group))/OFFSET(INDIRECT(\"'adjustment \" & $B$7 & \"'!C42\"),$C58-$C$58,MATCH(O$16,Ages_group)),1),\"\")","v":5.9178610370976383E-4},{"$f":"IF($C59<>\"\",P58*EXP(P$50*$H$54)*\nIF($D$53=\"yes\",OFFSET(INDIRECT(\"'adjustment \" & $B$7 & \"'!C42\"),$C59-$C$58,MATCH(P$16,Ages_group))/OFFSET(INDIRECT(\"'adjustment \" & $B$7 & \"'!C42\"),$C58-$C$58,MATCH(P$16,Ages_group)),1),\"\")","v":8.3737705385493726E-4},{"$f":"IF($C59<>\"\",Q58*EXP(Q$50*$H$54)*\nIF($D$53=\"yes\",OFFSET(INDIRECT(\"'adjustment \" & $B$7 & \"'!C42\"),$C59-$C$58,MATCH(Q$16,Ages_group))/OFFSET(INDIRECT(\"'adjustment \" & $B$7 & \"'!C42\"),$C58-$C$58,MATCH(Q$16,Ages_group)),1),\"\")","v":1.1343041703042211E-3},{"$f":"IF($C59<>\"\",R58*EXP(R$50*$H$54)*\nIF($D$53=\"yes\",OFFSET(INDIRECT(\"'adjustment \" & $B$7 & \"'!C42\"),$C59-$C$58,MATCH(R$16,Ages_group))/OFFSET(INDIRECT(\"'adjustment \" & $B$7 & \"'!C42\"),$C58-$C$58,MATCH(R$16,Ages_group)),1),\"\")","v":1.5780717451988812E-3},{"$f":"IF($C59<>\"\",S58*EXP(S$50*$H$54)*\nIF($D$53=\"yes\",OFFSET(INDIRECT(\"'adjustment \" & $B$7 & \"'!C42\"),$C59-$C$58,MATCH(S$16,Ages_group))/OFFSET(INDIRECT(\"'adjustment \" & $B$7 & \"'!C42\"),$C58-$C$58,MATCH(S$16,Ages_group)),1),\"\")","v":2.2828186427092129E-3},{"$f":"IF($C59<>\"\",T58*EXP(T$50*$H$54)*\nIF($D$53=\"yes\",OFFSET(INDIRECT(\"'adjustment \" & $B$7 & \"'!C42\"),$C59-$C$58,MATCH(T$16,Ages_group))/OFFSET(INDIRECT(\"'adjustment \" & $B$7 & \"'!C42\"),$C58-$C$58,MATCH(T$16,Ages_group)),1),\"\")","v":3.4846699988384422E-3},{"$f":"IF($C59<>\"\",U58*EXP(U$50*$H$54)*\nIF($D$53=\"yes\",OFFSET(INDIRECT(\"'adjustment \" & $B$7 & \"'!C42\"),$C59-$C$58,MATCH(U$16,Ages_group))/OFFSET(INDIRECT(\"'adjustment \" & $B$7 & \"'!C42\"),$C58-$C$58,MATCH(U$16,Ages_group)),1),\"\")","v":5.3280404967966611E-3},{"$f":"IF($C59<>\"\",V58*EXP(V$50*$H$54)*\nIF($D$53=\"yes\",OFFSET(INDIRECT(\"'adjustment \" & $B$7 & \"'!C42\"),$C59-$C$58,MATCH(V$16,Ages_group))/OFFSET(INDIRECT(\"'adjustment \" & $B$7 & \"'!C42\"),$C58-$C$58,MATCH(V$16,Ages_group)),1),\"\")","v":8.3998318123410329E-3},{"$f":"IF($C59<>\"\",W58*EXP(W$50*$H$54)*\nIF($D$53=\"yes\",OFFSET(INDIRECT(\"'adjustment \" & $B$7 & \"'!C42\"),$C59-$C$58,MATCH(W$16,Ages_group))/OFFSET(INDIRECT(\"'adjustment \" & $B$7 & \"'!C42\"),$C58-$C$58,MATCH(W$16,Ages_group)),1),\"\")","v":1.348015330965986E-2},{"$f":"IF($C59<>\"\",X58*EXP(X$50*$H$54)*\nIF($D$53=\"yes\",OFFSET(INDIRECT(\"'adjustment \" & $B$7 & \"'!C42\"),$C59-$C$58,MATCH(X$16,Ages_group))/OFFSET(INDIRECT(\"'adjustment \" & $B$7 & \"'!C42\"),$C58-$C$58,MATCH(X$16,Ages_group)),1),\"\")","v":2.2608924236994368E-2}]
[null,null,2018,4.4842218319855144E-3,7.4916533361537931E-5,3.0972683362067089E-5,3.101461672240757E-5,4.1897989924755411E-5,7.449922897192926E-5,1.0162714518828748E-4,1.4425536869573679E-4,1.8872574442492369E-4,2.5040218538668289E-4,4.0039258248825881E-4,5.9485217495303241E-4,8.4435236895212681E-4,1.1389414244553249E-3,1.5804364995375352E-3,2.2785591684815402E-3,3.4712902478963247E-3,5.2730303572431263E-3,8.2664353682712615E-3,1.3233802681702078E-2,2.2185781569976561E-2]
[null,null,2019,4.4266183222465422E-3,7.3815091934274914E-5,3.0580380338529601E-5,3.0502302189634448E-5,4.1254612754739298E-5,7.3809227456287838E-5,1.0062056594655986E-4,1.4278122349985011E-4,1.861322671491148E-4,2.4674346523712335E-4,3.9859948808445368E-4,5.9793413165358002E-4,8.5138578812618483E-4,1.1435976365954982E-3,1.5828047974812878E-3,2.2743076419376464E-3,3.4579618698920558E-3,5.2185881779848479E-3,8.135157372723795E-3,1.2991954126569514E-2,2.1770558329587551E-2]
[null,null,2020,4.3697547768667324E-3,7.2729844171657817E-5,3.0193046263290118E-5,2.9998450317639619E-5,4.0621115156121275E-5,7.3125616638887957E-5,9.962395649949684E-5,1.4132214258946076E-4,1.8357442954928458E-4,2.4313820401849177E-4,3.9681442376832143E-4,6.0103205611469735E-4,8.5847779538159019E-4,1.1482728842286552E-3,1.5851766443402621E-3,2.270064048248077E-3,3.4446846675739262E-3,5.1647080950320305E-3,8.005964182941713E-3,1.2754525368605347E-2,2.1363106297925868E-2]
[null,null,2021,4.3136216903965855E-3,7.166055199041849E-5,2.9810618199165633E-5,2.950292131607386E-5,3.999734542017501E-5,7.2448337329969765E-5,9.8637218099973965E-5,1.3987797202267877E-4,1.8105174186347687E-4,2.3958562062231873E-4,3.950373535783935E-4,6.0414603106609237E-4,8.656288787545585E-4,1.1529672451755617E-3,1.5875520454325389E-3,2.265828372611048E-3,3.4314584444475947E-3,5.1113843049385059E-3,7.8788226904435744E-3,1.2521435635745426E-2,2.0963280031097216E-2]
[null,null,2022,4.2582096794919018E-3,7.060698080764797E-5,2.943303400614162E-5,2.9015577703712968E-5,3.9383154167783105E-5,7.1777330887980739E-5,9.7660252978920496E-5,1.384485594307459E-4,1.785637210600653E-4,2.3608494535320336E-4,3.9326824171424904E-4,6.0727613966609945E-4,8.7283953034662603E-4,1.1576807975751293E-3,1.5899310060841678E-3,2.2616006002523941E-3,3.4182830047731812E-3,5.0586110641766416E-3,7.7537003125386665E-3,1.2292605632040024E-2,2.0570936807296891E-2]
[null,null,2023,4.2035094813452391E-3,6.9568899489333327E-5,2.9060232331275034E-5,2.8536284270314508E-5,3.8778394313664057E-5,7.1112539214498267E-5,9.6692964335632115E-5,1.370337540019598E-4,1.7610989074526488E-4,2.3263541976205267E-4,3.9150705253579373E-4,6.1042246550390008E-4,8.8011024635851402E-4,1.1624136198857171E-3,1.5923135316291798E-3,2.2573807164255164E-3,3.4051581535623683E-3,5.0063826885187014E-3,7.6305649839770017E-3,1.2067957510677758E-2,2.0185936575863872E-2]
[null,null,2024,4.1495119521375188E-3,6.8546080299651115E-5,2.8692152598725176E-5,2.8064908039104633E-5,3.8182921031148594E-5,7.0453904749199277E-5,9.573525632817966E-5,1.3563340646576252E-4,1.7368978107191438E-4,2.2923629648175751E-4,3.897537505625416E-4,6.1358509260175519E-4,8.8744152712427434E-4,1.1671657908864364E-3,1.5946996274095989E-3,2.2531687064113312E-3,3.3920836965755166E-3,4.9546935524245987E-3,7.5093851487319247E-3,1.1847414847502489E-2,1.9808141907288395E-2]
[null,null,2025,4.0962080655095236E-3,6.7538298851006363E-5,2.8328734999910849E-5,2.7601318229884561E-5,3.7596591717496863E-5,6.9801370464876405E-5,9.4787034063912768E-5,1.3424736907699143E-4,1.7130292864951248E-4,2.2588683906526959E-4,3.8800830047290048E-4,6.1676410541724905E-4,8.9483387714572025E-4,1.1719373896784632E-3,1.5970892987754539E-3,2.24896455551822E-3,3.3790594403187903E-3,4.9035380884359624E-3,7.3901297519132101E-3,1.1630902615014219E-2,1.9437417944155176E-2]
[null,null,2026,4.043588911053028E-3,6.6545334054806109E-5,2.7969920483792168E-5,2.7145386222746478E-5,3.7019265959748222E-5,6.9154879862500372E-5,9.3848203590057641E-5,1.3287549560029132E-4,1.6894887645548998E-4,2.225863218260444E-4,3.8627066710346039E-4,6.1995958884554449E-4,9.0228780512714366E-4,1.1767284956863541E-3,1.599482551084791E-3,2.2447682490819758E-3,3.366085192041293E-3,4.8529107865764682E-3,7.2727682318085955E-3,1.141834715684511E-2,1.9073632353004775E-2]
[null,null,"","","","","","","","","","","","","","","","","","","","","",""]
[null,null,"","","","","","","","","","","","","","","","","","","","","",""]
[null,null,"","","","","","","","","","","","","","","","","","","","","",""]
[null,null,"","","","","","","","","","","","","","","","","","","","","",""]
[null,null,"","","","","","","","","","","","","","","","","","","","","",""]
[null,null,"","","","","","","","","","","","","","","","","","","","","",""]
[null,null,"","","","","","","","","","","","","","","","","","","","","",""]
[null,null,"","","","","","","","","","","","","","","","","","","","","",""]
[null,null,"","","","","","","","","","","","","","","","","","","","","",""]
[null,null,"","","","","","","","","","","","","","","","","","","","","",""]
[null,null,"","","","","","","","","","","","","","","","","","","","","",""]
[null,null,"","","","","","","","","","","","","","","","","","","","","",""]
[null,null,"","","","","","","","","","","","","","","","","","","","","",""]
[null,null,"","","","","","","","","","","","","","","","","","","","","",""]
[null,null,"","","","","","","","","","","","","","","","","","","","","",""]
[null,null,"","","","","","","","","","","","","","","","","","","","","",""]
[null,null,"","","","","","","","","","","","","","","","","","","","","",""]
[null,null,"","","","","","","","","","","","","","","","","","","","","",""]
[null,null,"","","","","","","","","","","","","","","","","","","","","",""]
[null,null,"","","","","","","","","","","","","","","","","","","","","",""]
[null,null,""]
[null,null,""]
[null,null,""]
[null,null,""]
[null,null,""]
[null,null,""]
[null,null,""]
[null,null,""]
[null,null,""]
[null,null,""]
[null,null,""]
[null,null,""]
[null,null,""]
[null,null,""]
[null,null,""]
[null,null,""]
[null,null,""]

{"sheet":"Forecasts Aggregate","index":19,"n_rows":105,"n_cols":24,"rows_kept":105,"cut":false,"hidden":false,"merged":[[52,2,53,2],[52,3,53,3],[0,2,3,9],[0,10,3,16],[5,1,5,23],[11,2,12,2],[11,3,12,3]]}
[null,null,"Society of Actuaries - Cause of deaths forecasting tool",null,null,null,null,null,null,null,"Forecast Aggregate"]
[]
[]
[]
[]
[null,"central scenario - diffusion LC"]
[null,"Aggregate"]
[null,"Male"]
[]
[]
[]
[]
[]
[]
[null,"Death rate",null,"age"]
[null,"sex","M",{"$f":"TRANSPOSE(Ages_group)","v":0},"1 - 4","5 - 9","10 - 14","15 - 19","20 - 24","25 - 29","30 - 34","35 - 39","40 - 44","45 - 49","50 - 54","55 - 59","60 - 64","65 - 69","70 - 74","75 - 79","80 - 84","85 - 89","90 - 94","95+"]
[null,"time",{"$f":"Year_0","v":2016},{"$f":"IF($C17<>\"\",SUM('Forecasts Cardiovascular:Forecasts Other'!D17),\"\")","v":6.2602733521117185E-3},{"$f":"IF($C17<>\"\",SUM('Forecasts Cardiovascular:Forecasts Other'!E17),\"\")","v":2.8886377154295831E-4},{"$f":"IF($C17<>\"\",SUM('Forecasts Cardiovascular:Forecasts Other'!F17),\"\")","v":1.337026307491031E-4},{"$f":"IF($C17<>\"\",SUM('Forecasts Cardiovascular:Forecasts Other'!G17),\"\")","v":1.6521961324611313E-4},{"$f":"IF($C17<>\"\",SUM('Forecasts Cardiovascular:Forecasts Other'!H17),\"\")","v":6.893947797807085E-4},{"$f":"IF($C17<>\"\",SUM('Forecasts Cardiovascular:Forecasts Other'!I17),\"\")","v":1.3862131953762704E-3},{"$f":"IF($C17<>\"\",SUM('Forecasts Cardiovascular:Forecasts Other'!J17),\"\")","v":1.6382873261053523E-3},{"$f":"IF($C17<>\"\",SUM('Forecasts Cardiovascular:Forecasts Other'!K17),\"\")","v":1.8457843692729749E-3},{"$f":"IF($C17<>\"\",SUM('Forecasts Cardiovascular:Forecasts Other'!L17),\"\")","v":2.11480888285746E-3},{"$f":"IF($C17<>\"\",SUM('Forecasts Cardiovascular:Forecasts Other'!M17),\"\")","v":2.6781897035227662E-3},{"$f":"IF($C17<>\"\",SUM('Forecasts Cardiovascular:Forecasts Other'!N17),\"\")","v":3.8714666869373309E-3},{"$f":"IF($C17<>\"\",SUM('Forecasts Cardiovascular:Forecasts Other'!O17),\"\")","v":6.1076743553017451E-3},{"$f":"IF($C17<>\"\",SUM('Forecasts Cardiovascular:Forecasts Other'!P17),\"\")","v":9.2721815522282796E-3},{"$f":"IF($C17<>\"\",SUM('Forecasts Cardiovascular:Forecasts Other'!Q17),\"\")","v":1.3363691238157914E-2},{"$f":"IF($C17<>\"\",SUM('Forecasts Cardiovascular:Forecasts Other'!R17),\"\")","v":1.8281750618306579E-2},{"$f":"IF($C17<>\"\",SUM('Forecasts Cardiovascular:Forecasts Other'!S17),\"\")","v":2.7599198669647634E-2},{"$f":"IF($C17<>\"\",SUM('Forecasts Cardiovascular:Forecasts Other'!T17),\"\")","v":4.2955600646454269E-2},{"$f":"IF($C17<>\"\",SUM('Forecasts Cardiovascular:Forecasts Other'!U17),\"\")","v":7.034815075513691E-2},{"$f":"IF($C17<>\"\",SUM('Forecasts Cardiovascular:Forecasts Other'!V17),\"\")","v":0.11565816934502594},{"$f":"IF($C17<>\"\",SUM('Forecasts Cardiovascular:Forecasts Other'!W17),\"\")","v":0.20069455319345125},{"$f":"IF($C17<>\"\",SUM('Forecasts Cardiovascular:Forecasts Other'!X17),\"\")","v":0.343330242128143}]
[null,null,{"$f":"IF(C17<Year_max,C17+1,\"\")","v":2017},{"$f":"IF($C18<>\"\",SUM('Forecasts Cardiovascular:Forecasts Other'!D18),\"\")","v":6.1808505767552068E-3},{"$f":"IF($C18<>\"\",SUM('Forecasts Cardiovascular:Forecasts Other'!E18),\"\")","v":2.8766402752959371E-4},{"$f":"IF($C18<>\"\",SUM('Forecasts Cardiovascular:Forecasts Other'!F18),\"\")","v":1.3393955249156765E-4},{"$f":"IF($C18<>\"\",SUM('Forecasts Cardiovascular:Forecasts Other'!G18),\"\")","v":1.6506722508552419E-4},{"$f":"IF($C18<>\"\",SUM('Forecasts Cardiovascular:Forecasts Other'!H18),\"\")","v":6.9428483503214508E-4},{"$f":"IF($C18<>\"\",SUM('Forecasts Cardiovascular:Forecasts Other'!I18),\"\")","v":1.4070814498724226E-3},{"$f":"IF($C18<>\"\",SUM('Forecasts Cardiovascular:Forecasts Other'!J18),\"\")","v":1.674017350734844E-3},{"$f":"IF($C18<>\"\",SUM('Forecasts Cardiovascular:Forecasts Other'!K18),\"\")","v":1.8817345826663142E-3},{"$f":"IF($C18<>\"\",SUM('Forecasts Cardiovascular:Forecasts Other'!L18),\"\")","v":2.1250894414808676E-3},{"$f":"IF($C18<>\"\",SUM('Forecasts Cardiovascular:Forecasts Other'!M18),\"\")","v":2.66871212908492E-3},{"$f":"IF($C18<>\"\",SUM('Forecasts Cardiovascular:Forecasts Other'!N18),\"\")","v":3.8558909432700782E-3},{"$f":"IF($C18<>\"\",SUM('Forecasts Cardiovascular:Forecasts Other'!O18),\"\")","v":6.1100717967960188E-3},{"$f":"IF($C18<>\"\",SUM('Forecasts Cardiovascular:Forecasts Other'!P18),\"\")","v":9.282057933080826E-3},{"$f":"IF($C18<>\"\",SUM('Forecasts Cardiovascular:Forecasts Other'!Q18),\"\")","v":1.3323369696261279E-2},{"$f":"IF($C18<>\"\",SUM('Forecasts Cardiovascular:Forecasts Other'!R18),\"\")","v":1.8136399707190609E-2},{"$f":"IF($C18<>\"\",SUM('Forecasts Cardiovascular:Forecasts Other'!S18),\"\")","v":2.7356723827130593E-2},{"$f":"IF($C18<>\"\",SUM('Forecasts Cardiovascular:Forecasts Other'!T18),\"\")","v":4.2623929807066037E-2},{"$f":"IF($C18<>\"\",SUM('Forecasts Cardiovascular:Forecasts Other'!U18),\"\")","v":6.9834664884480091E-2},{"$f":"IF($C18<>\"\",SUM('Forecasts Cardiovascular:Forecasts Other'!V18),\"\")","v":0.1148784514680348},{"$f":"IF($C18<>\"\",SUM('Forecasts Cardiovascular:Forecasts Other'!W18),\"\")","v":0.19992915163416325},{"$f":"IF($C18<>\"\",SUM('Forecasts Cardiovascular:Forecasts Other'!X18),\"\")","v":0.34297759381676146}]
[null,null,{"$f":"IF(C18<Year_max,C18+1,\"\")","v":2018},{"$f":"IF($C19<>\"\",SUM('Forecasts Cardiovascular:Forecasts Other'!D19),\"\")","v":6.1025075021474912E-3},{"$f":"IF($C19<>\"\",SUM('Forecasts Cardiovascular:Forecasts Other'!E19),\"\")","v":2.8650137877249317E-4},{"$f":"IF($C19<>\"\",SUM('Forecasts Cardiovascular:Forecasts Other'!F19),\"\")","v":1.3418945510883479E-4},{"$f":"IF($C19<>\"\",SUM('Forecasts Cardiovascular:Forecasts Other'!G19),\"\")","v":1.6493747834072655E-4},{"$f":"IF($C19<>\"\",SUM('Forecasts Cardiovascular:Forecasts Other'!H19),\"\")","v":6.9928546544216063E-4},{"$f":"IF($C19<>\"\",SUM('Forecasts Cardiovascular:Forecasts Other'!I19),\"\")","v":1.4290635530061122E-3},{"$f":"IF($C19<>\"\",SUM('Forecasts Cardiovascular:Forecasts Other'!J19),\"\")","v":1.7125560510990992E-3},{"$f":"IF($C19<>\"\",SUM('Forecasts Cardiovascular:Forecasts Other'!K19),\"\")","v":1.9208420838144485E-3},{"$f":"IF($C19<>\"\",SUM('Forecasts Cardiovascular:Forecasts Other'!L19),\"\")","v":2.136513301553573E-3},{"$f":"IF($C19<>\"\",SUM('Forecasts Cardiovascular:Forecasts Other'!M19),\"\")","v":2.6599216513679266E-3},{"$f":"IF($C19<>\"\",SUM('Forecasts Cardiovascular:Forecasts Other'!N19),\"\")","v":3.8410079649679177E-3},{"$f":"IF($C19<>\"\",SUM('Forecasts Cardiovascular:Forecasts Other'!O19),\"\")","v":6.1137231449873188E-3},{"$f":"IF($C19<>\"\",SUM('Forecasts Cardiovascular:Forecasts Other'!P19),\"\")","v":9.2944519161416821E-3},{"$f":"IF($C19<>\"\",SUM('Forecasts Cardiovascular:Forecasts Other'!Q19),\"\")","v":1.3285988788833164E-2},{"$f":"IF($C19<>\"\",SUM('Forecasts Cardiovascular:Forecasts Other'!R19),\"\")","v":1.7993802672526565E-2},{"$f":"IF($C19<>\"\",SUM('Forecasts Cardiovascular:Forecasts Other'!S19),\"\")","v":2.7118122573676844E-2},{"$f":"IF($C19<>\"\",SUM('Forecasts Cardiovascular:Forecasts Other'!T19),\"\")","v":4.2297560230012562E-2},{"$f":"IF($C19<>\"\",SUM('Forecasts Cardiovascular:Forecasts Other'!U19),\"\")","v":6.9330172373850793E-2},{"$f":"IF($C19<>\"\",SUM('Forecasts Cardiovascular:Forecasts Other'!V19),\"\")","v":0.11411507698933181},{"$f":"IF($C19<>\"\",SUM('Forecasts Cardiovascular:Forecasts Other'!W19),\"\")","v":0.19918903470253924},{"$f":"IF($C19<>\"\",SUM('Forecasts Cardiovascular:Forecasts Other'!X19),\"\")","v":0.34267036403215079}]
[null,null,2019,{"$f":"IF($C20<>\"\",SUM('Forecasts Cardiovascular:Forecasts Other'!D20),\"\")","v":6.0252291959276066E-3},{"$f":"IF($C20<>\"\",SUM('Forecasts Cardiovascular:Forecasts Other'!E20),\"\")","v":2.8537519916144985E-4},{"$f":"IF($C20<>\"\",SUM('Forecasts Cardiovascular:Forecasts Other'!F20),\"\")","v":1.3445246304071053E-4},{"$f":"IF($C20<>\"\",SUM('Forecasts Cardiovascular:Forecasts Other'!G20),\"\")","v":1.6483018341024148E-4},{"$f":"IF($C20<>\"\",SUM('Forecasts Cardiovascular:Forecasts Other'!H20),\"\")","v":7.0439820950714835E-4},{"$f":"IF($C20<>\"\",SUM('Forecasts Cardiovascular:Forecasts Other'!I20),\"\")","v":1.4522289952076822E-3},{"$f":"IF($C20<>\"\",SUM('Forecasts Cardiovascular:Forecasts Other'!J20),\"\")","v":1.7541313803181382E-3},{"$f":"IF($C20<>\"\",SUM('Forecasts Cardiovascular:Forecasts Other'!K20),\"\")","v":1.9633428217435086E-3},{"$f":"IF($C20<>\"\",SUM('Forecasts Cardiovascular:Forecasts Other'!L20),\"\")","v":2.1490967428391037E-3},{"$f":"IF($C20<>\"\",SUM('Forecasts Cardiovascular:Forecasts Other'!M20),\"\")","v":2.6517998531512435E-3},{"$f":"IF($C20<>\"\",SUM('Forecasts Cardiovascular:Forecasts Other'!N20),\"\")","v":3.8268087377044541E-3},{"$f":"IF($C20<>\"\",SUM('Forecasts Cardiovascular:Forecasts Other'!O20),\"\")","v":6.1186602632771333E-3},{"$f":"IF($C20<>\"\",SUM('Forecasts Cardiovascular:Forecasts Other'!P20),\"\")","v":9.3094465641628786E-3},{"$f":"IF($C20<>\"\",SUM('Forecasts Cardiovascular:Forecasts Other'!Q20),\"\")","v":1.3251568552195888E-2},{"$f":"IF($C20<>\"\",SUM('Forecasts Cardiovascular:Forecasts Other'!R20),\"\")","v":1.7853911642093837E-2},{"$f":"IF($C20<>\"\",SUM('Forecasts Cardiovascular:Forecasts Other'!S20),\"\")","v":2.6883337260956749E-2},{"$f":"IF($C20<>\"\",SUM('Forecasts Cardiovascular:Forecasts Other'!T20),\"\")","v":4.1976438921098279E-2},{"$f":"IF($C20<>\"\",SUM('Forecasts Cardiovascular:Forecasts Other'!U20),\"\")","v":6.8834603679775438E-2},{"$f":"IF($C20<>\"\",SUM('Forecasts Cardiovascular:Forecasts Other'!V20),\"\")","v":0.11336793591270794},{"$f":"IF($C20<>\"\",SUM('Forecasts Cardiovascular:Forecasts Other'!W20),\"\")","v":0.19847424826503737},{"$f":"IF($C20<>\"\",SUM('Forecasts Cardiovascular:Forecasts Other'!X20),\"\")","v":0.34240909785163637}]
[null,null,2020,{"$f":"IF($C21<>\"\",SUM('Forecasts Cardiovascular:Forecasts Other'!D21),\"\")","v":5.9490009332491987E-3},{"$f":"IF($C21<>\"\",SUM('Forecasts Cardiovascular:Forecasts Other'!E21),\"\")","v":2.8428487519795295E-4},{"$f":"IF($C21<>\"\",SUM('Forecasts Cardiovascular:Forecasts Other'!F21),\"\")","v":1.3472870402561239E-4},{"$f":"IF($C21<>\"\",SUM('Forecasts Cardiovascular:Forecasts Other'!G21),\"\")","v":1.6474515606558862E-4},{"$f":"IF($C21<>\"\",SUM('Forecasts Cardiovascular:Forecasts Other'!H21),\"\")","v":7.0962466212313427E-4},{"$f":"IF($C21<>\"\",SUM('Forecasts Cardiovascular:Forecasts Other'!I21),\"\")","v":1.4766517097557247E-3},{"$f":"IF($C21<>\"\",SUM('Forecasts Cardiovascular:Forecasts Other'!J21),\"\")","v":1.798989911408422E-3},{"$f":"IF($C21<>\"\",SUM('Forecasts Cardiovascular:Forecasts Other'!K21),\"\")","v":2.0094914352436072E-3},{"$f":"IF($C21<>\"\",SUM('Forecasts Cardiovascular:Forecasts Other'!L21),\"\")","v":2.1628577594895492E-3},{"$f":"IF($C21<>\"\",SUM('Forecasts Cardiovascular:Forecasts Other'!M21),\"\")","v":2.644329150000603E-3},{"$f":"IF($C21<>\"\",SUM('Forecasts Cardiovascular:Forecasts Other'!N21),\"\")","v":3.813284636488108E-3},{"$f":"IF($C21<>\"\",SUM('Forecasts Cardiovascular:Forecasts Other'!O21),\"\")","v":6.1249164287947048E-3},{"$f":"IF($C21<>\"\",SUM('Forecasts Cardiovascular:Forecasts Other'!P21),\"\")","v":9.3271297636234249E-3},{"$f":"IF($C21<>\"\",SUM('Forecasts Cardiovascular:Forecasts Other'!Q21),\"\")","v":1.3220132211502015E-2},{"$f":"IF($C21<>\"\",SUM('Forecasts Cardiovascular:Forecasts Other'!R21),\"\")","v":1.7716679969637071E-2},{"$f":"IF($C21<>\"\",SUM('Forecasts Cardiovascular:Forecasts Other'!S21),\"\")","v":2.6652311431394609E-2},{"$f":"IF($C21<>\"\",SUM('Forecasts Cardiovascular:Forecasts Other'!T21),\"\")","v":4.1660513941593917E-2},{"$f":"IF($C21<>\"\",SUM('Forecasts Cardiovascular:Forecasts Other'!U21),\"\")","v":6.8347890752587667E-2},{"$f":"IF($C21<>\"\",SUM('Forecasts Cardiovascular:Forecasts Other'!V21),\"\")","v":0.11263692124000212},{"$f":"IF($C21<>\"\",SUM('Forecasts Cardiovascular:Forecasts Other'!W21),\"\")","v":0.19778484364188634},{"$f":"IF($C21<>\"\",SUM('Forecasts Cardiovascular:Forecasts Other'!X21),\"\")","v":0.34219435793727587}]
[null,null,2021,{"$f":"IF($C22<>\"\",SUM('Forecasts Cardiovascular:Forecasts Other'!D22),\"\")","v":5.8738081938920182E-3},{"$f":"IF($C22<>\"\",SUM('Forecasts Cardiovascular:Forecasts Other'!E22),\"\")","v":2.8322980574973036E-4},{"$f":"IF($C22<>\"\",SUM('Forecasts Cardiovascular:Forecasts Other'!F22),\"\")","v":1.3501830916216751E-4},{"$f":"IF($C22<>\"\",SUM('Forecasts Cardiovascular:Forecasts Other'!G22),\"\")","v":1.6468221736572588E-4},{"$f":"IF($C22<>\"\",SUM('Forecasts Cardiovascular:Forecasts Other'!H22),\"\")","v":7.14966475677282E-4},{"$f":"IF($C22<>\"\",SUM('Forecasts Cardiovascular:Forecasts Other'!I22),\"\")","v":1.5024103570939428E-3},{"$f":"IF($C22<>\"\",SUM('Forecasts Cardiovascular:Forecasts Other'!J22),\"\")","v":1.8473983578779776E-3},{"$f":"IF($C22<>\"\",SUM('Forecasts Cardiovascular:Forecasts Other'!K22),\"\")","v":2.0595627069503451E-3},{"$f":"IF($C22<>\"\",SUM('Forecasts Cardiovascular:Forecasts Other'!L22),\"\")","v":2.1778160864918579E-3},{"$f":"IF($C22<>\"\",SUM('Forecasts Cardiovascular:Forecasts Other'!M22),\"\")","v":2.6374927562932146E-3},{"$f":"IF($C22<>\"\",SUM('Forecasts Cardiovascular:Forecasts Other'!N22),\"\")","v":3.8004274166445499E-3},{"$f":"IF($C22<>\"\",SUM('Forecasts Cardiovascular:Forecasts Other'!O22),\"\")","v":6.1325263802943465E-3},{"$f":"IF($C22<>\"\",SUM('Forecasts Cardiovascular:Forecasts Other'!P22),\"\")","v":9.3475944536779293E-3},{"$f":"IF($C22<>\"\",SUM('Forecasts Cardiovascular:Forecasts Other'!Q22),\"\")","v":1.3191706253355206E-2},{"$f":"IF($C22<>\"\",SUM('Forecasts Cardiovascular:Forecasts Other'!R22),\"\")","v":1.7582062206526514E-2},{"$f":"IF($C22<>\"\",SUM('Forecasts Cardiovascular:Forecasts Other'!S22),\"\")","v":2.6424989795179842E-2},{"$f":"IF($C22<>\"\",SUM('Forecasts Cardiovascular:Forecasts Other'!T22),\"\")","v":4.1349734395813562E-2},{"$f":"IF($C22<>\"\",SUM('Forecasts Cardiovascular:Forecasts Other'!U22),\"\")","v":6.7869967024939581E-2},{"$f":"IF($C22<>\"\",SUM('Forecasts Cardiovascular:Forecasts Other'!V22),\"\")","v":0.11192192895078465},{"$f":"IF($C22<>\"\",SUM('Forecasts Cardiovascular:Forecasts Other'!W22),\"\")","v":0.19712087764689598},{"$f":"IF($C22<>\"\",SUM('Forecasts Cardiovascular:Forecasts Other'!X22),\"\")","v":0.34202672480049273}]
[null,null,2022,{"$f":"IF($C23<>\"\",SUM('Forecasts Cardiovascular:Forecasts Other'!D23),\"\")","v":5.7996366594136465E-3},{"$f":"IF($C23<>\"\",SUM('Forecasts Cardiovascular:Forecasts Other'!E23),\"\")","v":2.8220940181014165E-4},{"$f":"IF($C23<>\"\",SUM('Forecasts Cardiovascular:Forecasts Other'!F23),\"\")","v":1.353214129724592E-4},{"$f":"IF($C23<>\"\",SUM('Forecasts Cardiovascular:Forecasts Other'!G23),\"\")","v":1.6464119357341824E-4},{"$f":"IF($C23<>\"\",SUM('Forecasts Cardiovascular:Forecasts Other'!H23),\"\")","v":7.2042536118592277E-4},{"$f":"IF($C23<>\"\",SUM('Forecasts Cardiovascular:Forecasts Other'!I23),\"\")","v":1.5295886273464462E-3},{"$f":"IF($C23<>\"\",SUM('Forecasts Cardiovascular:Forecasts Other'!J23),\"\")","v":1.8996452185065077E-3},{"$f":"IF($C23<>\"\",SUM('Forecasts Cardiovascular:Forecasts Other'!K23),\"\")","v":2.1138531311915734E-3},{"$f":"IF($C23<>\"\",SUM('Forecasts Cardiovascular:Forecasts Other'!L23),\"\")","v":2.1939932287216805E-3},{"$f":"IF($C23<>\"\",SUM('Forecasts Cardiovascular:Forecasts Other'!M23),\"\")","v":2.6312746527960649E-3},{"$f":"IF($C23<>\"\",SUM('Forecasts Cardiovascular:Forecasts Other'!N23),\"\")","v":3.7882292051270383E-3},{"$f":"IF($C23<>\"\",SUM('Forecasts Cardiovascular:Forecasts Other'!O23),\"\")","v":6.1415263679237648E-3},{"$f":"IF($C23<>\"\",SUM('Forecasts Cardiovascular:Forecasts Other'!P23),\"\")","v":9.3709388670020557E-3},{"$f":"IF($C23<>\"\",SUM('Forecasts Cardiovascular:Forecasts Other'!Q23),\"\")","v":1.3166320503409955E-2},{"$f":"IF($C23<>\"\",SUM('Forecasts Cardiovascular:Forecasts Other'!R23),\"\")","v":1.7450014074179211E-2},{"$f":"IF($C23<>\"\",SUM('Forecasts Cardiovascular:Forecasts Other'!S23),\"\")","v":2.6201318207793697E-2},{"$f":"IF($C23<>\"\",SUM('Forecasts Cardiovascular:Forecasts Other'!T23),\"\")","v":4.1044050418953204E-2},{"$f":"IF($C23<>\"\",SUM('Forecasts Cardiovascular:Forecasts Other'!U23),\"\")","v":6.7400767400586259E-2},{"$f":"IF($C23<>\"\",SUM('Forecasts Cardiovascular:Forecasts Other'!V23),\"\")","v":0.1112228579826645},{"$f":"IF($C23<>\"\",SUM('Forecasts Cardiovascular:Forecasts Other'!W23),\"\")","v":0.19648241262877919},{"$f":"IF($C23<>\"\",SUM('Forecasts Cardiovascular:Forecasts Other'!X23),\"\")","v":0.3419067970780118}]
[null,null,2023,{"$f":"IF($C24<>\"\",SUM('Forecasts Cardiovascular:Forecasts Other'!D24),\"\")","v":5.726472210340886E-3},{"$f":"IF($C24<>\"\",SUM('Forecasts Cardiovascular:Forecasts Other'!E24),\"\")","v":2.8122308626232567E-4},{"$f":"IF($C24<>\"\",SUM('Forecasts Cardiovascular:Forecasts Other'!F24),\"\")","v":1.3563815346695642E-4},{"$f":"IF($C24<>\"\",SUM('Forecasts Cardiovascular:Forecasts Other'!G24),\"\")","v":1.6462191607349464E-4},{"$f":"IF($C24<>\"\",SUM('Forecasts Cardiovascular:Forecasts Other'!H24),\"\")","v":7.260030894799906E-4},{"$f":"IF($C24<>\"\",SUM('Forecasts Cardiovascular:Forecasts Other'!I24),\"\")","v":1.558275562196319E-3},{"$f":"IF($C24<>\"\",SUM('Forecasts Cardiovascular:Forecasts Other'!J24),\"\")","v":1.9560425564524985E-3},{"$f":"IF($C24<>\"\",SUM('Forecasts Cardiovascular:Forecasts Other'!K24),\"\")","v":2.172682604484606E-3},{"$f":"IF($C24<>\"\",SUM('Forecasts Cardiovascular:Forecasts Other'!L24),\"\")","v":2.2114124926474609E-3},{"$f":"IF($C24<>\"\",SUM('Forecasts Cardiovascular:Forecasts Other'!M24),\"\")","v":2.6256595557246241E-3},{"$f":"IF($C24<>\"\",SUM('Forecasts Cardiovascular:Forecasts Other'!N24),\"\")","v":3.7766824921448682E-3},{"$f":"IF($C24<>\"\",SUM('Forecasts Cardiovascular:Forecasts Other'!O24),\"\")","v":6.1519542049309414E-3},{"$f":"IF($C24<>\"\",SUM('Forecasts Cardiovascular:Forecasts Other'!P24),\"\")","v":9.3972667831308757E-3},{"$f":"IF($C24<>\"\",SUM('Forecasts Cardiovascular:Forecasts Other'!Q24),\"\")","v":1.3144008209116865E-2},{"$f":"IF($C24<>\"\",SUM('Forecasts Cardiovascular:Forecasts Other'!R24),\"\")","v":1.7320492437221866E-2},{"$f":"IF($C24<>\"\",SUM('Forecasts Cardiovascular:Forecasts Other'!S24),\"\")","v":2.5981243648040189E-2},{"$f":"IF($C24<>\"\",SUM('Forecasts Cardiovascular:Forecasts Other'!T24),\"\")","v":4.0743413165187599E-2},{"$f":"IF($C24<>\"\",SUM('Forecasts Cardiovascular:Forecasts Other'!U24),\"\")","v":6.6940228243441049E-2},{"$f":"IF($C24<>\"\",SUM('Forecasts Cardiovascular:Forecasts Other'!V24),\"\")","v":0.11053961021221588},{"$f":"IF($C24<>\"\",SUM('Forecasts Cardiovascular:Forecasts Other'!W24),\"\")","v":0.19586951651399934},{"$f":"IF($C24<>\"\",SUM('Forecasts Cardiovascular:Forecasts Other'!X24),\"\")","v":0.34183519181904753}]
[null,null,2024,{"$f":"IF($C25<>\"\",SUM('Forecasts Cardiovascular:Forecasts Other'!D25),\"\")","v":5.6543009234002808E-3},{"$f":"IF($C25<>\"\",SUM('Forecasts Cardiovascular:Forecasts Other'!E25),\"\")","v":2.8027029364800993E-4},{"$f":"IF($C25<>\"\",SUM('Forecasts Cardiovascular:Forecasts Other'!F25),\"\")","v":1.3596867221116334E-4},{"$f":"IF($C25<>\"\",SUM('Forecasts Cardiovascular:Forecasts Other'!G25),\"\")","v":1.6462422129295378E-4},{"$f":"IF($C25<>\"\",SUM('Forecasts Cardiovascular:Forecasts Other'!H25),\"\")","v":7.3170149243878329E-4},{"$f":"IF($C25<>\"\",SUM('Forecasts Cardiovascular:Forecasts Other'!I25),\"\")","v":1.5885658973668572E-3},{"$f":"IF($C25<>\"\",SUM('Forecasts Cardiovascular:Forecasts Other'!J25),\"\")","v":2.0169279236575922E-3},{"$f":"IF($C25<>\"\",SUM('Forecasts Cardiovascular:Forecasts Other'!K25),\"\")","v":2.2363962482633906E-3},{"$f":"IF($C25<>\"\",SUM('Forecasts Cardiovascular:Forecasts Other'!L25),\"\")","v":2.2300990207314462E-3},{"$f":"IF($C25<>\"\",SUM('Forecasts Cardiovascular:Forecasts Other'!M25),\"\")","v":2.6206328872128322E-3},{"$f":"IF($C25<>\"\",SUM('Forecasts Cardiovascular:Forecasts Other'!N25),\"\")","v":3.7657801231005148E-3},{"$f":"IF($C25<>\"\",SUM('Forecasts Cardiovascular:Forecasts Other'!O25),\"\")","v":6.16384932137975E-3},{"$f":"IF($C25<>\"\",SUM('Forecasts Cardiovascular:Forecasts Other'!P25),\"\")","v":9.426687794916384E-3},{"$f":"IF($C25<>\"\",SUM('Forecasts Cardiovascular:Forecasts Other'!Q25),\"\")","v":1.3124806127789027E-2},{"$f":"IF($C25<>\"\",SUM('Forecasts Cardiovascular:Forecasts Other'!R25),\"\")","v":1.719345527737658E-2},{"$f":"IF($C25<>\"\",SUM('Forecasts Cardiovascular:Forecasts Other'!S25),\"\")","v":2.5764714196570452E-2},{"$f":"IF($C25<>\"\",SUM('Forecasts Cardiovascular:Forecasts Other'!T25),\"\")","v":4.0447774796021574E-2},{"$f":"IF($C25<>\"\",SUM('Forecasts Cardiovascular:Forecasts Other'!U25),\"\")","v":6.6488287366899781E-2},{"$f":"IF($C25<>\"\",SUM('Forecasts Cardiovascular:Forecasts Other'!V25),\"\")","v":0.1098720904365193},{"$f":"IF($C25<>\"\",SUM('Forecasts Cardiovascular:Forecasts Other'!W25),\"\")","v":0.19528226285115846},{"$f":"IF($C25<>\"\",SUM('Forecasts Cardiovascular:Forecasts Other'!X25),\"\")","v":0.34181254478371714}]
[null,null,2025,{"$f":"IF($C26<>\"\",SUM('Forecasts Cardiovascular:Forecasts Other'!D26),\"\")","v":5.5831090687872044E-3},{"$f":"IF($C26<>\"\",SUM('Forecasts Cardiovascular:Forecasts Other'!E26),\"\")","v":2.7935046994088952E-4},{"$f":"IF($C26<>\"\",SUM('Forecasts Cardiovascular:Forecasts Other'!F26),\"\")","v":1.3631311439402607E-4},{"$f":"IF($C26<>\"\",SUM('Forecasts Cardiovascular:Forecasts Other'!G26),\"\")","v":1.646479506228797E-4},{"$f":"IF($C26<>\"\",SUM('Forecasts Cardiovascular:Forecasts Other'!H26),\"\")","v":7.3752246427301717E-4},{"$f":"IF($C26<>\"\",SUM('Forecasts Cardiovascular:Forecasts Other'!I26),\"\")","v":1.6205604270241986E-3},{"$f":"IF($C26<>\"\",SUM('Forecasts Cardiovascular:Forecasts Other'!J26),\"\")","v":2.0826664424144427E-3},{"$f":"IF($C26<>\"\",SUM('Forecasts Cardiovascular:Forecasts Other'!K26),\"\")","v":2.3053663741637084E-3},{"$f":"IF($C26<>\"\",SUM('Forecasts Cardiovascular:Forecasts Other'!L26),\"\")","v":2.2500798285783178E-3},{"$f":"IF($C26<>\"\",SUM('Forecasts Cardiovascular:Forecasts Other'!M26),\"\")","v":2.6161807471285913E-3},{"$f":"IF($C26<>\"\",SUM('Forecasts Cardiovascular:Forecasts Other'!N26),\"\")","v":3.7555152908263618E-3},{"$f":"IF($C26<>\"\",SUM('Forecasts Cardiovascular:Forecasts Other'!O26),\"\")","v":6.1772528199471183E-3},{"$f":"IF($C26<>\"\",SUM('Forecasts Cardiovascular:Forecasts Other'!P26),\"\")","v":9.4593175887623931E-3},{"$f":"IF($C26<>\"\",SUM('Forecasts Cardiovascular:Forecasts Other'!Q26),\"\")","v":1.3108754620173973E-2},{"$f":"IF($C26<>\"\",SUM('Forecasts Cardiovascular:Forecasts Other'!R26),\"\")","v":1.7068861668051438E-2},{"$f":"IF($C26<>\"\",SUM('Forecasts Cardiovascular:Forecasts Other'!S26),\"\")","v":2.555167901488976E-2},{"$f":"IF($C26<>\"\",SUM('Forecasts Cardiovascular:Forecasts Other'!T26),\"\")","v":4.0157088468892523E-2},{"$f":"IF($C26<>\"\",SUM('Forecasts Cardiovascular:Forecasts Other'!U26),\"\")","v":6.604488402343181E-2},{"$f":"IF($C26<>\"\",SUM('Forecasts Cardiovascular:Forecasts Other'!V26),\"\")","v":0.10922020635531331},{"$f":"IF($C26<>\"\",SUM('Forecasts Cardiovascular:Forecasts Other'!W26),\"\")","v":0.19472073085694203},{"$f":"IF($C26<>\"\",SUM('Forecasts Cardiovascular:Forecasts Other'!X26),\"\")","v":0.34183951075266106}]
[null,null,2026,{"$f":"IF($C27<>\"\",SUM('Forecasts Cardiovascular:Forecasts Other'!D27),\"\")","v":5.5128831074729876E-3},{"$f":"IF($C27<>\"\",SUM('Forecasts Cardiovascular:Forecasts Other'!E27),\"\")","v":2.7846307232448468E-4},{"$f":"IF($C27<>\"\",SUM('Forecasts Cardiovascular:Forecasts Other'!F27),\"\")","v":1.3667162889813582E-4},{"$f":"IF($C27<>\"\",SUM('Forecasts Cardiovascular:Forecasts Other'!G27),\"\")","v":1.6469295034212981E-4},{"$f":"IF($C27<>\"\",SUM('Forecasts Cardiovascular:Forecasts Other'!H27),\"\")","v":7.4346796285818277E-4},{"$f":"IF($C27<>\"\",SUM('Forecasts Cardiovascular:Forecasts Other'!I27),\"\")","v":1.6543663915044901E-3},{"$f":"IF($C27<>\"\",SUM('Forecasts Cardiovascular:Forecasts Other'!J27),\"\")","v":2.1536530569333458E-3},{"$f":"IF($C27<>\"\",SUM('Forecasts Cardiovascular:Forecasts Other'!K27),\"\")","v":2.3799946030015613E-3},{"$f":"IF($C27<>\"\",SUM('Forecasts Cardiovascular:Forecasts Other'!L27),\"\")","v":2.2713838448862639E-3},{"$f":"IF($C27<>\"\",SUM('Forecasts Cardiovascular:Forecasts Other'!M27),\"\")","v":2.6122898861721767E-3},{"$f":"IF($C27<>\"\",SUM('Forecasts Cardiovascular:Forecasts Other'!N27),\"\")","v":3.7458815281122019E-3},{"$f":"IF($C27<>\"\",SUM('Forecasts Cardiovascular:Forecasts Other'!O27),\"\")","v":6.1922075338772175E-3},{"$f":"IF($C27<>\"\",SUM('Forecasts Cardiovascular:Forecasts Other'!P27),\"\")","v":9.4952782393284817E-3},{"$f":"IF($C27<>\"\",SUM('Forecasts Cardiovascular:Forecasts Other'!Q27),\"\")","v":1.3095897749725357E-2},{"$f":"IF($C27<>\"\",SUM('Forecasts Cardiovascular:Forecasts Other'!R27),\"\")","v":1.6946671749618104E-2},{"$f":"IF($C27<>\"\",SUM('Forecasts Cardiovascular:Forecasts Other'!S27),\"\")","v":2.5342088324836837E-2},{"$f":"IF($C27<>\"\",SUM('Forecasts Cardiovascular:Forecasts Other'!T27),\"\")","v":3.9871308326020719E-2},{"$f":"IF($C27<>\"\",SUM('Forecasts Cardiovascular:Forecasts Other'!U27),\"\")","v":6.560995889443598E-2},{"$f":"IF($C27<>\"\",SUM('Forecasts Cardiovascular:Forecasts Other'!V27),\"\")","v":0.10858386855375204},{"$f":"IF($C27<>\"\",SUM('Forecasts Cardiovascular:Forecasts Other'!W27),\"\")","v":0.19418500546363596},{"$f":"IF($C27<>\"\",SUM('Forecasts Cardiovascular:Forecasts Other'!X27),\"\")","v":0.34191676384787173}]
[null,null,"",{"$f":"IF($C28<>\"\",SUM('Forecasts Cardiovascular:Forecasts Other'!D28),\"\")","v":""},{"$f":"IF($C28<>\"\",SUM('Forecasts Cardiovascular:Forecasts Other'!E28),\"\")","v":""},{"$f":"IF($C28<>\"\",SUM('Forecasts Cardiovascular:Forecasts Other'!F28),\"\")","v":""},{"$f":"IF($C28<>\"\",SUM('Forecasts Cardiovascular:Forecasts Other'!G28),\"\")","v":""},{"$f":"IF($C28<>\"\",SUM('Forecasts Cardiovascular:Forecasts Other'!H28),\"\")","v":""},{"$f":"IF($C28<>\"\",SUM('Forecasts Cardiovascular:Forecasts Other'!I28),\"\")","v":""},{"$f":"IF($C28<>\"\",SUM('Forecasts Cardiovascular:Forecasts Other'!J28),\"\")","v":""},{"$f":"IF($C28<>\"\",SUM('Forecasts Cardiovascular:Forecasts Other'!K28),\"\")","v":""},{"$f":"IF($C28<>\"\",SUM('Forecasts Cardiovascular:Forecasts Other'!L28),\"\")","v":""},{"$f":"IF($C28<>\"\",SUM('Forecasts Cardiovascular:Forecasts Other'!M28),\"\")","v":""},{"$f":"IF($C28<>\"\",SUM('Forecasts Cardiovascular:Forecasts Other'!N28),\"\")","v":""},{"$f":"IF($C28<>\"\",SUM('Forecasts Cardiovascular:Forecasts Other'!O28),\"\")","v":""},{"$f":"IF($C28<>\"\",SUM('Forecasts Cardiovascular:Forecasts Other'!P28),\"\")","v":""},{"$f":"IF($C28<>\"\",SUM('Forecasts Cardiovascular:Forecasts Other'!Q28),\"\")","v":""},{"$f":"IF($C28<>\"\",SUM('Forecasts Cardiovascular:Forecasts Other'!R28),\"\")","v":""},{"$f":"IF($C28<>\"\",SUM('Forecasts Cardiovascular:Forecasts Other'!S28),\"\")","v":""},{"$f":"IF($C28<>\"\",SUM('Forecasts Cardiovascular:Forecasts Other'!T28),\"\")","v":""},{"$f":"IF($C28<>\"\",SUM('Forecasts Cardiovascular:Forecasts Other'!U28),\"\")","v":""},{"$f":"IF($C28<>\"\",SUM('Forecasts Cardiovascular:Forecasts Other'!V28),\"\")","v":""},{"$f":"IF($C28<>\"\",SUM('Forecasts Cardiovascular:Forecasts Other'!W28),\"\")","v":""},{"$f":"IF($C28<>\"\",SUM('Forecasts Cardiovascular:Forecasts Other'!X28),\"\")","v":""}]
[null,null,"",{"$f":"IF($C29<>\"\",SUM('Forecasts Cardiovascular:Forecasts Other'!D29),\"\")","v":""},{"$f":"IF($C29<>\"\",SUM('Forecasts Cardiovascular:Forecasts Other'!E29),\"\")","v":""},{"$f":"IF($C29<>\"\",SUM('Forecasts Cardiovascular:Forecasts Other'!F29),\"\")","v":""},{"$f":"IF($C29<>\"\",SUM('Forecasts Cardiovascular:Forecasts Other'!G29),\"\")","v":""},{"$f":"IF($C29<>\"\",SUM('Forecasts Cardiovascular:Forecasts Other'!H29),\"\")","v":""},{"$f":"IF($C29<>\"\",SUM('Forecasts Cardiovascular:Forecasts Other'!I29),\"\")","v":""},{"$f":"IF($C29<>\"\",SUM('Forecasts Cardiovascular:Forecasts Other'!J29),\"\")","v":""},{"$f":"IF($C29<>\"\",SUM('Forecasts Cardiovascular:Forecasts Other'!K29),\"\")","v":""},{"$f":"IF($C29<>\"\",SUM('Forecasts Cardiovascular:Forecasts Other'!L29),\"\")","v":""},{"$f":"IF($C29<>\"\",SUM('Forecasts Cardiovascular:Forecasts Other'!M29),\"\")","v":""},{"$f":"IF($C29<>\"\",SUM('Forecasts Cardiovascular:Forecasts Other'!N29),\"\")","v":""},{"$f":"IF($C29<>\"\",SUM('Forecasts Cardiovascular:Forecasts Other'!O29),\"\")","v":""},{"$f":"IF($C29<>\"\",SUM('Forecasts Cardiovascular:Forecasts Other'!P29),\"\")","v":""},{"$f":"IF($C29<>\"\",SUM('Forecasts Cardiovascular:Forecasts Other'!Q29),\"\")","v":""},{"$f":"IF($C29<>\"\",SUM('Forecasts Cardiovascular:Forecasts Other'!R29),\"\")","v":""},{"$f":"IF($C29<>\"\",SUM('Forecasts Cardiovascular:Forecasts Other'!S29),\"\")","v":""},{"$f":"IF($C29<>\"\",SUM('Forecasts Cardiovascular:Forecasts Other'!T29),\"\")","v":""},{"$f":"IF($C29<>\"\",SUM('Forecasts Cardiovascular:Forecasts Other'!U29),\"\")","v":""},{"$f":"IF($C29<>\"\",SUM('Forecasts Cardiovascular:Forecasts Other'!V29),\"\")","v":""},{"$f":"IF($C29<>\"\",SUM('Forecasts Cardiovascular:Forecasts Other'!W29),\"\")","v":""},{"$f":"IF($C29<>\"\",SUM('Forecasts Cardiovascular:Forecasts Other'!X29),\"\")","v":""}]
[null,null,"",{"$f":"IF($C30<>\"\",SUM('Forecasts Cardiovascular:Forecasts Other'!D30),\"\")","v":""},{"$f":"IF($C30<>\"\",SUM('Forecasts Cardiovascular:Forecasts Other'!E30),\"\")","v":""},{"$f":"IF($C30<>\"\",SUM('Forecasts Cardiovascular:Forecasts Other'!F30),\"\")","v":""},{"$f":"IF($C30<>\"\",SUM('Forecasts Cardiovascular:Forecasts Other'!G30),\"\")","v":""},{"$f":"IF($C30<>\"\",SUM('Forecasts Cardiovascular:Forecasts Other'!H30),\"\")","v":""},{"$f":"IF($C30<>\"\",SUM('Forecasts Cardiovascular:Forecasts Other'!I30),\"\")","v":""},{"$f":"IF($C30<>\"\",SUM('Forecasts Cardiovascular:Forecasts Other'!J30),\"\")","v":""},{"$f":"IF($C30<>\"\",SUM('Forecasts Cardiovascular:Forecasts Other'!K30),\"\")","v":""},{"$f":"IF($C30<>\"\",SUM('Forecasts Cardiovascular:Forecasts Other'!L30),\"\")","v":""},{"$f":"IF($C30<>\"\",SUM('Forecasts Cardiovascular:Forecasts Other'!M30),\"\")","v":""},{"$f":"IF($C30<>\"\",SUM('Forecasts Cardiovascular:Forecasts Other'!N30),\"\")","v":""},{"$f":"IF($C30<>\"\",SUM('Forecasts Cardiovascular:Forecasts Other'!O30),\"\")","v":""},{"$f":"IF($C30<>\"\",SUM('Forecasts Cardiovascular:Forecasts Other'!P30),\"\")","v":""},{"$f":"IF($C30<>\"\",SUM('Forecasts Cardiovascular:Forecasts Other'!Q30),\"\")","v":""},{"$f":"IF($C30<>\"\",SUM('Forecasts Cardiovascular:Forecasts Other'!R30),\"\")","v":""},{"$f":"IF($C30<>\"\",SUM('Forecasts Cardiovascular:Forecasts Other'!S30),\"\")","v":""},{"$f":"IF($C30<>\"\",SUM('Forecasts Cardiovascular:Forecasts Other'!T30),\"\")","v":""},{"$f":"IF($C30<>\"\",SUM('Forecasts Cardiovascular:Forecasts Other'!U30),\"\")","v":""},{"$f":"IF($C30<>\"\",SUM('Forecasts Cardiovascular:Forecasts Other'!V30),\"\")","v":""},{"$f":"IF($C30<>\"\",SUM('Forecasts Cardiovascular:Forecasts Other'!W30),\"\")","v":""},{"$f":"IF($C30<>\"\",SUM('Forecasts Cardiovascular:Forecasts Other'!X30),\"\")","v":""}]
[null,null,"",{"$f":"IF($C31<>\"\",SUM('Forecasts Cardiovascular:Forecasts Other'!D31),\"\")","v":""},{"$f":"IF($C31<>\"\",SUM('Forecasts Cardiovascular:Forecasts Other'!E31),\"\")","v":""},{"$f":"IF($C31<>\"\",SUM('Forecasts Cardiovascular:Forecasts Other'!F31),\"\")","v":""},{"$f":"IF($C31<>\"\",SUM('Forecasts Cardiovascular:Forecasts Other'!G31),\"\")","v":""},{"$f":"IF($C31<>\"\",SUM('Forecasts Cardiovascular:Forecasts Other'!H31),\"\")","v":""},{"$f":"IF($C31<>\"\",SUM('Forecasts Cardiovascular:Forecasts Other'!I31),\"\")","v":""},{"$f":"IF($C31<>\"\",SUM('Forecasts Cardiovascular:Forecasts Other'!J31),\"\")","v":""},{"$f":"IF($C31<>\"\",SUM('Forecasts Cardiovascular:Forecasts Other'!K31),\"\")","v":""},{"$f":"IF($C31<>\"\",SUM('Forecasts Cardiovascular:Forecasts Other'!L31),\"\")","v":""},{"$f":"IF($C31<>\"\",SUM('Forecasts Cardiovascular:Forecasts Other'!M31),\"\")","v":""},{"$f":"IF($C31<>\"\",SUM('Forecasts Cardiovascular:Forecasts Other'!N31),\"\")","v":""},{"$f":"IF($C31<>\"\",SUM('Forecasts Cardiovascular:Forecasts Other'!O31),\"\")","v":""},{"$f":"IF($C31<>\"\",SUM('Forecasts Cardiovascular:Forecasts Other'!P31),\"\")","v":""},{"$f":"IF($C31<>\"\",SUM('Forecasts Cardiovascular:Forecasts Other'!Q31),\"\")","v":""},{"$f":"IF($C31<>\"\",SUM('Forecasts Cardiovascular:Forecasts Other'!R31),\"\")","v":""},{"$f":"IF($C31<>\"\",SUM('Forecasts Cardiovascular:Forecasts Other'!S31),\"\")","v":""},{"$f":"IF($C31<>\"\",SUM('Forecasts Cardiovascular:Forecasts Other'!T31),\"\")","v":""},{"$f":"IF($C31<>\"\",SUM('Forecasts Cardiovascular:Forecasts Other'!U31),\"\")","v":""},{"$f":"IF($C31<>\"\",SUM('Forecasts Cardiovascular:Forecasts Other'!V31),\"\")","v":""},{"$f":"IF($C31<>\"\",SUM('Forecasts Cardiovascular:Forecasts Other'!W31),\"\")","v":""},{"$f":"IF($C31<>\"\",SUM('Forecasts Cardiovascular:Forecasts Other'!X31),\"\")","v":""}]
[null,null,"",{"$f":"IF($C32<>\"\",SUM('Forecasts Cardiovascular:Forecasts Other'!D32),\"\")","v":""},{"$f":"IF($C32<>\"\",SUM('Forecasts Cardiovascular:Forecasts Other'!E32),\"\")","v":""},{"$f":"IF($C32<>\"\",SUM('Forecasts Cardiovascular:Forecasts Other'!F32),\"\")","v":""},{"$f":"IF($C32<>\"\",SUM('Forecasts Cardiovascular:Forecasts Other'!G32),\"\")","v":""},{"$f":"IF($C32<>\"\",SUM('Forecasts Cardiovascular:Forecasts Other'!H32),\"\")","v":""},{"$f":"IF($C32<>\"\",SUM('Forecasts Cardiovascular:Forecasts Other'!I32),\"\")","v":""},{"$f":"IF($C32<>\"\",SUM('Forecasts Cardiovascular:Forecasts Other'!J32),\"\")","v":""},{"$f":"IF($C32<>\"\",SUM('Forecasts Cardiovascular:Forecasts Other'!K32),\"\")","v":""},{"$f":"IF($C32<>\"\",SUM('Forecasts Cardiovascular:Forecasts Other'!L32),\"\")","v":""},{"$f":"IF($C32<>\"\",SUM('Forecasts Cardiovascular:Forecasts Other'!M32),\"\")","v":""},{"$f":"IF($C32<>\"\",SUM('Forecasts Cardiovascular:Forecasts Other'!N32),\"\")","v":""},{"$f":"IF($C32<>\"\",SUM('Forecasts Cardiovascular:Forecasts Other'!O32),\"\")","v":""},{"$f":"IF($C32<>\"\",SUM('Forecasts Cardiovascular:Forecasts Other'!P32),\"\")","v":""},{"$f":"IF($C32<>\"\",SUM('Forecasts Cardiovascular:Forecasts Other'!Q32),\"\")","v":""},{"$f":"IF($C32<>\"\",SUM('Forecasts Cardiovascular:Forecasts Other'!R32),\"\")","v":""},{"$f":"IF($C32<>\"\",SUM('Forecasts Cardiovascular:Forecasts Other'!S32),\"\")","v":""},{"$f":"IF($C32<>\"\",SUM('Forecasts Cardiovascular:Forecasts Other'!T32),\"\")","v":""},{"$f":"IF($C32<>\"\",SUM('Forecasts Cardiovascular:Forecasts Other'!U32),\"\")","v":""},{"$f":"IF($C32<>\"\",SUM('Forecasts Cardiovascular:Forecasts Other'!V32),\"\")","v":""},{"$f":"IF($C32<>\"\",SUM('Forecasts Cardiovascular:Forecasts Other'!W32),\"\")","v":""},{"$f":"IF($C32<>\"\",SUM('Forecasts Cardiovascular:Forecasts Other'!X32),\"\")","v":""}]
[null,null,"",{"$f":"IF($C33<>\"\",SUM('Forecasts Cardiovascular:Forecasts Other'!D33),\"\")","v":""},{"$f":"IF($C33<>\"\",SUM('Forecasts Cardiovascular:Forecasts Other'!E33),\"\")","v":""},{"$f":"IF($C33<>\"\",SUM('Forecasts Cardiovascular:Forecasts Other'!F33),\"\")","v":""},{"$f":"IF($C33<>\"\",SUM('Forecasts Cardiovascular:Forecasts Other'!G33),\"\")","v":""},{"$f":"IF($C33<>\"\",SUM('Forecasts Cardiovascular:Forecasts Other'!H33),\"\")","v":""},{"$f":"IF($C33<>\"\",SUM('Forecasts Cardiovascular:Forecasts Other'!I33),\"\")","v":""},{"$f":"IF($C33<>\"\",SUM('Forecasts Cardiovascular:Forecasts Other'!J33),\"\")","v":""},{"$f":"IF($C33<>\"\",SUM('Forecasts Cardiovascular:Forecasts Other'!K33),\"\")","v":""},{"$f":"IF($C33<>\"\",SUM('Forecasts Cardiovascular:Forecasts Other'!L33),\"\")","v":""},{"$f":"IF($C33<>\"\",SUM('Forecasts Cardiovascular:Forecasts Other'!M33),\"\")","v":""},{"$f":"IF($C33<>\"\",SUM('Forecasts Cardiovascular:Forecasts Other'!N33),\"\")","v":""},{"$f":"IF($C33<>\"\",SUM('Forecasts Cardiovascular:Forecasts Other'!O33),\"\")","v":""},{"$f":"IF($C33<>\"\",SUM('Forecasts Cardiovascular:Forecasts Other'!P33),\"\")","v":""},{"$f":"IF($C33<>\"\",SUM('Forecasts Cardiovascular:Forecasts Other'!Q33),\"\")","v":""},{"$f":"IF($C33<>\"\",SUM('Forecasts Cardiovascular:Forecasts Other'!R33),\"\")","v":""},{"$f":"IF($C33<>\"\",SUM('Forecasts Cardiovascular:Forecasts Other'!S33),\"\")","v":""},{"$f":"IF($C33<>\"\",SUM('Forecasts Cardiovascular:Forecasts Other'!T33),\"\")","v":""},{"$f":"IF($C33<>\"\",SUM('Forecasts Cardiovascular:Forecasts Other'!U33),\"\")","v":""},{"$f":"IF($C33<>\"\",SUM('Forecasts Cardiovascular:Forecasts Other'!V33),\"\")","v":""},{"$f":"IF($C33<>\"\",SUM('Forecasts Cardiovascular:Forecasts Other'!W33),\"\")","v":""},{"$f":"IF($C33<>\"\",SUM('Forecasts Cardiovascular:Forecasts Other'!X33),\"\")","v":""}]
[null,null,"",{"$f":"IF($C34<>\"\",SUM('Forecasts Cardiovascular:Forecasts Other'!D34),\"\")","v":""},{"$f":"IF($C34<>\"\",SUM('Forecasts Cardiovascular:Forecasts Other'!E34),\"\")","v":""},{"$f":"IF($C34<>\"\",SUM('Forecasts Cardiovascular:Forecasts Other'!F34),\"\")","v":""},{"$f":"IF($C34<>\"\",SUM('Forecasts Cardiovascular:Forecasts Other'!G34),\"\")","v":""},{"$f":"IF($C34<>\"\",SUM('Forecasts Cardiovascular:Forecasts Other'!H34),\"\")","v":""},{"$f":"IF($C34<>\"\",SUM('Forecasts Cardiovascular:Forecasts Other'!I34),\"\")","v":""},{"$f":"IF($C34<>\"\",SUM('Forecasts Cardiovascular:Forecasts Other'!J34),\"\")","v":""},{"$f":"IF($C34<>\"\",SUM('Forecasts Cardiovascular:Forecasts Other'!K34),\"\")","v":""},{"$f":"IF($C34<>\"\",SUM('Forecasts Cardiovascular:Forecasts Other'!L34),\"\")","v":""},{"$f":"IF($C34<>\"\",SUM('Forecasts Cardiovascular:Forecasts Other'!M34),\"\")","v":""},{"$f":"IF($C34<>\"\",SUM('Forecasts Cardiovascular:Forecasts Other'!N34),\"\")","v":""},{"$f":"IF($C34<>\"\",SUM('Forecasts Cardiovascular:Forecasts Other'!O34),\"\")","v":""},{"$f":"IF($C34<>\"\",SUM('Forecasts Cardiovascular:Forecasts Other'!P34),\"\")","v":""},{"$f":"IF($C34<>\"\",SUM('Forecasts Cardiovascular:Forecasts Other'!Q34),\"\")","v":""},{"$f":"IF($C34<>\"\",SUM('Forecasts Cardiovascular:Forecasts Other'!R34),\"\")","v":""},{"$f":"IF($C34<>\"\",SUM('Forecasts Cardiovascular:Forecasts Other'!S34),\"\")","v":""},{"$f":"IF($C34<>\"\",SUM('Forecasts Cardiovascular:Forecasts Other'!T34),\"\")","v":""},{"$f":"IF($C34<>\"\",SUM('Forecasts Cardiovascular:Forecasts Other'!U34),\"\")","v":""},{"$f":"IF($C34<>\"\",SUM('Forecasts Cardiovascular:Forecasts Other'!V34),\"\")","v":""},{"$f":"IF($C34<>\"\",SUM('Forecasts Cardiovascular:Forecasts Other'!W34),\"\")","v":""},{"$f":"IF($C34<>\"\",SUM('Forecasts Cardiovascular:Forecasts Other'!X34),\"\")","v":""}]
[null,null,"",{"$f":"IF($C35<>\"\",SUM('Forecasts Cardiovascular:Forecasts Other'!D35),\"\")","v":""},{"$f":"IF($C35<>\"\",SUM('Forecasts Cardiovascular:Forecasts Other'!E35),\"\")","v":""},{"$f":"IF($C35<>\"\",SUM('Forecasts Cardiovascular:Forecasts Other'!F35),\"\")","v":""},{"$f":"IF($C35<>\"\",SUM('Forecasts Cardiovascular:Forecasts Other'!G35),\"\")","v":""},{"$f":"IF($C35<>\"\",SUM('Forecasts Cardiovascular:Forecasts Other'!H35),\"\")","v":""},{"$f":"IF($C35<>\"\",SUM('Forecasts Cardiovascular:Forecasts Other'!I35),\"\")","v":""},{"$f":"IF($C35<>\"\",SUM('Forecasts Cardiovascular:Forecasts Other'!J35),\"\")","v":""},{"$f":"IF($C35<>\"\",SUM('Forecasts Cardiovascular:Forecasts Other'!K35),\"\")","v":""},{"$f":"IF($C35<>\"\",SUM('Forecasts Cardiovascular:Forecasts Other'!L35),\"\")","v":""},{"$f":"IF($C35<>\"\",SUM('Forecasts Cardiovascular:Forecasts Other'!M35),\"\")","v":""},{"$f":"IF($C35<>\"\",SUM('Forecasts Cardiovascular:Forecasts Other'!N35),\"\")","v":""},{"$f":"IF($C35<>\"\",SUM('Forecasts Cardiovascular:Forecasts Other'!O35),\"\")","v":""},{"$f":"IF($C35<>\"\",SUM('Forecasts Cardiovascular:Forecasts Other'!P35),\"\")","v":""},{"$f":"IF($C35<>\"\",SUM('Forecasts Cardiovascular:Forecasts Other'!Q35),\"\")","v":""},{"$f":"IF($C35<>\"\",SUM('Forecasts Cardiovascular:Forecasts Other'!R35),\"\")","v":""},{"$f":"IF($C35<>\"\",SUM('Forecasts Cardiovascular:Forecasts Other'!S35),\"\")","v":""},{"$f":"IF($C35<>\"\",SUM('Forecasts Cardiovascular:Forecasts Other'!T35),\"\")","v":""},{"$f":"IF($C35<>\"\",SUM('Forecasts Cardiovascular:Forecasts Other'!U35),\"\")","v":""},{"$f":"IF($C35<>\"\",SUM('Forecasts Cardiovascular:Forecasts Other'!V35),\"\")","v":""},{"$f":"IF($C35<>\"\",SUM('Forecasts Cardiovascular:Forecasts Other'!W35),\"\")","v":""},{"$f":"IF($C35<>\"\",SUM('Forecasts Cardiovascular:Forecasts Other'!X35),\"\")","v":""}]
[null,null,"",{"$f":"IF($C36<>\"\",SUM('Forecasts Cardiovascular:Forecasts Other'!D36),\"\")","v":""},{"$f":"IF($C36<>\"\",SUM('Forecasts Cardiovascular:Forecasts Other'!E36),\"\")","v":""},{"$f":"IF($C36<>\"\",SUM('Forecasts Cardiovascular:Forecasts Other'!F36),\"\")","v":""},{"$f":"IF($C36<>\"\",SUM('Forecasts Cardiovascular:Forecasts Other'!G36),\"\")","v":""},{"$f":"IF($C36<>\"\",SUM('Forecasts Cardiovascular:Forecasts Other'!H36),\"\")","v":""},{"$f":"IF($C36<>\"\",SUM('Forecasts Cardiovascular:Forecasts Other'!I36),\"\")","v":""},{"$f":"IF($C36<>\"\",SUM('Forecasts Cardiovascular:Forecasts Other'!J36),\"\")","v":""},{"$f":"IF($C36<>\"\",SUM('Forecasts Cardiovascular:Forecasts Other'!K36),\"\")","v":""},{"$f":"IF($C36<>\"\",SUM('Forecasts Cardiovascular:Forecasts Other'!L36),\"\")","v":""},{"$f":"IF($C36<>\"\",SUM('Forecasts Cardiovascular:Forecasts Other'!M36),\"\")","v":""},{"$f":"IF($C36<>\"\",SUM('Forecasts Cardiovascular:Forecasts Other'!N36),\"\")","v":""},{"$f":"IF($C36<>\"\",SUM('Forecasts Cardiovascular:Forecasts Other'!O36),\"\")","v":""},{"$f":"IF($C36<>\"\",SUM('Forecasts Cardiovascular:Forecasts Other'!P36),\"\")","v":""},{"$f":"IF($C36<>\"\",SUM('Forecasts Cardiovascular:Forecasts Other'!Q36),\"\")","v":""},{"$f":"IF($C36<>\"\",SUM('Forecasts Cardiovascular:Forecasts Other'!R36),\"\")","v":""},{"$f":"IF($C36<>\"\",SUM('Forecasts Cardiovascular:Forecasts Other'!S36),\"\")","v":""},{"$f":"IF($C36<>\"\",SUM('Forecasts Cardiovascular:Forecasts Other'!T36),\"\")","v":""},{"$f":"IF($C36<>\"\",SUM('Forecasts Cardiovascular:Forecasts Other'!U36),\"\")","v":""},{"$f":"IF($C36<>\"\",SUM('Forecasts Cardiovascular:Forecasts Other'!V36),\"\")","v":""},{"$f":"IF($C36<>\"\",SUM('Forecasts Cardiovascular:Forecasts Other'!W36),\"\")","v":""},{"$f":"IF($C36<>\"\",SUM('Forecasts Cardiovascular:Forecasts Other'!X36),\"\")","v":""}]
[null,null,"",{"$f":"IF($C37<>\"\",SUM('Forecasts Cardiovascular:Forecasts Other'!D37),\"\")","v":""},{"$f":"IF($C37<>\"\",SUM('Forecasts Cardiovascular:Forecasts Other'!E37),\"\")","v":""},{"$f":"IF($C37<>\"\",SUM('Forecasts Cardiovascular:Forecasts Other'!F37),\"\")","v":""},{"$f":"IF($C37<>\"\",SUM('Forecasts Cardiovascular:Forecasts Other'!G37),\"\")","v":""},{"$f":"IF($C37<>\"\",SUM('Forecasts Cardiovascular:Forecasts Other'!H37),\"\")","v":""},{"$f":"IF($C37<>\"\",SUM('Forecasts Cardiovascular:Forecasts Other'!I37),\"\")","v":""},{"$f":"IF($C37<>\"\",SUM('Forecasts Cardiovascular:Forecasts Other'!J37),\"\")","v":""},{"$f":"IF($C37<>\"\",SUM('Forecasts Cardiovascular:Forecasts Other'!K37),\"\")","v":""},{"$f":"IF($C37<>\"\",SUM('Forecasts Cardiovascular:Forecasts Other'!L37),\"\")","v":""},{"$f":"IF($C37<>\"\",SUM('Forecasts Cardiovascular:Forecasts Other'!M37),\"\")","v":""},{"$f":"IF($C37<>\"\",SUM('Forecasts Cardiovascular:Forecasts Other'!N37),\"\")","v":""},{"$f":"IF($C37<>\"\",SUM('Forecasts Cardiovascular:Forecasts Other'!O37),\"\")","v":""},{"$f":"IF($C37<>\"\",SUM('Forecasts Cardiovascular:Forecasts Other'!P37),\"\")","v":""},{"$f":"IF($C37<>\"\",SUM('Forecasts Cardiovascular:Forecasts Other'!Q37),\"\")","v":""},{"$f":"IF($C37<>\"\",SUM('Forecasts Cardiovascular:Forecasts Other'!R37),\"\")","v":""},{"$f":"IF($C37<>\"\",SUM('Forecasts Cardiovascular:Forecasts Other'!S37),\"\")","v":""},{"$f":"IF($C37<>\"\",SUM('Forecasts Cardiovascular:Forecasts Other'!T37),\"\")","v":""},{"$f":"IF($C37<>\"\",SUM('Forecasts Cardiovascular:Forecasts Other'!U37),\"\")","v":""},{"$f":"IF($C37<>\"\",SUM('Forecasts Cardiovascular:Forecasts Other'!V37),\"\")","v":""},{"$f":"IF($C37<>\"\",SUM('Forecasts Cardiovascular:Forecasts Other'!W37),\"\")","v":""},{"$f":"IF($C37<>\"\",SUM('Forecasts Cardiovascular:Forecasts Other'!X37),\"\")","v":""}]
[null,null,"",{"$f":"IF($C38<>\"\",SUM('Forecasts Cardiovascular:Forecasts Other'!D38),\"\")","v":""},{"$f":"IF($C38<>\"\",SUM('Forecasts Cardiovascular:Forecasts Other'!E38),\"\")","v":""},{"$f":"IF($C38<>\"\",SUM('Forecasts Cardiovascular:Forecasts Other'!F38),\"\")","v":""},{"$f":"IF($C38<>\"\",SUM('Forecasts Cardiovascular:Forecasts Other'!G38),\"\")","v":""},{"$f":"IF($C38<>\"\",SUM('Forecasts Cardiovascular:Forecasts Other'!H38),\"\")","v":""},{"$f":"IF($C38<>\"\",SUM('Forecasts Cardiovascular:Forecasts Other'!I38),\"\")","v":""},{"$f":"IF($C38<>\"\",SUM('Forecasts Cardiovascular:Forecasts Other'!J38),\"\")","v":""},{"$f":"IF($C38<>\"\",SUM('Forecasts Cardiovascular:Forecasts Other'!K38),\"\")","v":""},{"$f":"IF($C38<>\"\",SUM('Forecasts Cardiovascular:Forecasts Other'!L38),\"\")","v":""},{"$f":"IF($C38<>\"\",SUM('Forecasts Cardiovascular:Forecasts Other'!M38),\"\")","v":""},{"$f":"IF($C38<>\"\",SUM('Forecasts Cardiovascular:Forecasts Other'!N38),\"\")","v":""},{"$f":"IF($C38<>\"\",SUM('Forecasts Cardiovascular:Forecasts Other'!O38),\"\")","v":""},{"$f":"IF($C38<>\"\",SUM('Forecasts Cardiovascular:Forecasts Other'!P38),\"\")","v":""},{"$f":"IF($C38<>\"\",SUM('Forecasts Cardiovascular:Forecasts Other'!Q38),\"\")","v":""},{"$f":"IF($C38<>\"\",SUM('Forecasts Cardiovascular:Forecasts Other'!R38),\"\")","v":""},{"$f":"IF($C38<>\"\",SUM('Forecasts Cardiovascular:Forecasts Other'!S38),\"\")","v":""},{"$f":"IF($C38<>\"\",SUM('Forecasts Cardiovascular:Forecasts Other'!T38),\"\")","v":""},{"$f":"IF($C38<>\"\",SUM('Forecasts Cardiovascular:Forecasts Other'!U38),\"\")","v":""},{"$f":"IF($C38<>\"\",SUM('Forecasts Cardiovascular:Forecasts Other'!V38),\"\")","v":""},{"$f":"IF($C38<>\"\",SUM('Forecasts Cardiovascular:Forecasts Other'!W38),\"\")","v":""},{"$f":"IF($C38<>\"\",SUM('Forecasts Cardiovascular:Forecasts Other'!X38),\"\")","v":""}]
[null,null,"",{"$f":"IF($C39<>\"\",SUM('Forecasts Cardiovascular:Forecasts Other'!D39),\"\")","v":""},{"$f":"IF($C39<>\"\",SUM('Forecasts Cardiovascular:Forecasts Other'!E39),\"\")","v":""},{"$f":"IF($C39<>\"\",SUM('Forecasts Cardiovascular:Forecasts Other'!F39),\"\")","v":""},{"$f":"IF($C39<>\"\",SUM('Forecasts Cardiovascular:Forecasts Other'!G39),\"\")","v":""},{"$f":"IF($C39<>\"\",SUM('Forecasts Cardiovascular:Forecasts Other'!H39),\"\")","v":""},{"$f":"IF($C39<>\"\",SUM('Forecasts Cardiovascular:Forecasts Other'!I39),\"\")","v":""},{"$f":"IF($C39<>\"\",SUM('Forecasts Cardiovascular:Forecasts Other'!J39),\"\")","v":""},{"$f":"IF($C39<>\"\",SUM('Forecasts Cardiovascular:Forecasts Other'!K39),\"\")","v":""},{"$f":"IF($C39<>\"\",SUM('Forecasts Cardiovascular:Forecasts Other'!L39),\"\")","v":""},{"$f":"IF($C39<>\"\",SUM('Forecasts Cardiovascular:Forecasts Other'!M39),\"\")","v":""},{"$f":"IF($C39<>\"\",SUM('Forecasts Cardiovascular:Forecasts Other'!N39),\"\")","v":""},{"$f":"IF($C39<>\"\",SUM('Forecasts Cardiovascular:Forecasts Other'!O39),\"\")","v":""},{"$f":"IF($C39<>\"\",SUM('Forecasts Cardiovascular:Forecasts Other'!P39),\"\")","v":""},{"$f":"IF($C39<>\"\",SUM('Forecasts Cardiovascular:Forecasts Other'!Q39),\"\")","v":""},{"$f":"IF($C39<>\"\",SUM('Forecasts Cardiovascular:Forecasts Other'!R39),\"\")","v":""},{"$f":"IF($C39<>\"\",SUM('Forecasts Cardiovascular:Forecasts Other'!S39),\"\")","v":""},{"$f":"IF($C39<>\"\",SUM('Forecasts Cardiovascular:Forecasts Other'!T39),\"\")","v":""},{"$f":"IF($C39<>\"\",SUM('Forecasts Cardiovascular:Forecasts Other'!U39),\"\")","v":""},{"$f":"IF($C39<>\"\",SUM('Forecasts Cardiovascular:Forecasts Other'!V39),\"\")","v":""},{"$f":"IF($C39<>\"\",SUM('Forecasts Cardiovascular:Forecasts Other'!W39),\"\")","v":""},{"$f":"IF($C39<>\"\",SUM('Forecasts Cardiovascular:Forecasts Other'!X39),\"\")","v":""}]
[null,null,"",{"$f":"IF($C40<>\"\",SUM('Forecasts Cardiovascular:Forecasts Other'!D40),\"\")","v":""},{"$f":"IF($C40<>\"\",SUM('Forecasts Cardiovascular:Forecasts Other'!E40),\"\")","v":""},{"$f":"IF($C40<>\"\",SUM('Forecasts Cardiovascular:Forecasts Other'!F40),\"\")","v":""},{"$f":"IF($C40<>\"\",SUM('Forecasts Cardiovascular:Forecasts Other'!G40),\"\")","v":""},{"$f":"IF($C40<>\"\",SUM('Forecasts Cardiovascular:Forecasts Other'!H40),\"\")","v":""},{"$f":"IF($C40<>\"\",SUM('Forecasts Cardiovascular:Forecasts Other'!I40),\"\")","v":""},{"$f":"IF($C40<>\"\",SUM('Forecasts Cardiovascular:Forecasts Other'!J40),\"\")","v":""},{"$f":"IF($C40<>\"\",SUM('Forecasts Cardiovascular:Forecasts Other'!K40),\"\")","v":""},{"$f":"IF($C40<>\"\",SUM('Forecasts Cardiovascular:Forecasts Other'!L40),\"\")","v":""},{"$f":"IF($C40<>\"\",SUM('Forecasts Cardiovascular:Forecasts Other'!M40),\"\")","v":""},{"$f":"IF($C40<>\"\",SUM('Forecasts Cardiovascular:Forecasts Other'!N40),\"\")","v":""},{"$f":"IF($C40<>\"\",SUM('Forecasts Cardiovascular:Forecasts Other'!O40),\"\")","v":""},{"$f":"IF($C40<>\"\",SUM('Forecasts Cardiovascular:Forecasts Other'!P40),\"\")","v":""},{"$f":"IF($C40<>\"\",SUM('Forecasts Cardiovascular:Forecasts Other'!Q40),\"\")","v":""},{"$f":"IF($C40<>\"\",SUM('Forecasts Cardiovascular:Forecasts Other'!R40),\"\")","v":""},{"$f":"IF($C40<>\"\",SUM('Forecasts Cardiovascular:Forecasts Other'!S40),\"\")","v":""},{"$f":"IF($C40<>\"\",SUM('Forecasts Cardiovascular:Forecasts Other'!T40),\"\")","v":""},{"$f":"IF($C40<>\"\",SUM('Forecasts Cardiovascular:Forecasts Other'!U40),\"\")","v":""},{"$f":"IF($C40<>\"\",SUM('Forecasts Cardiovascular:Forecasts Other'!V40),\"\")","v":""},{"$f":"IF($C40<>\"\",SUM('Forecasts Cardiovascular:Forecasts Other'!W40),\"\")","v":""},{"$f":"IF($C40<>\"\",SUM('Forecasts Cardiovascular:Forecasts Other'!X40),\"\")","v":""}]
[null,null,"",{"$f":"IF($C41<>\"\",SUM('Forecasts Cardiovascular:Forecasts Other'!D41),\"\")","v":""},{"$f":"IF($C41<>\"\",SUM('Forecasts Cardiovascular:Forecasts Other'!E41),\"\")","v":""},{"$f":"IF($C41<>\"\",SUM('Forecasts Cardiovascular:Forecasts Other'!F41),\"\")","v":""},{"$f":"IF($C41<>\"\",SUM('Forecasts Cardiovascular:Forecasts Other'!G41),\"\")","v":""},{"$f":"IF($C41<>\"\",SUM('Forecasts Cardiovascular:Forecasts Other'!H41),\"\")","v":""},{"$f":"IF($C41<>\"\",SUM('Forecasts Cardiovascular:Forecasts Other'!I41),\"\")","v":""},{"$f":"IF($C41<>\"\",SUM('Forecasts Cardiovascular:Forecasts Other'!J41),\"\")","v":""},{"$f":"IF($C41<>\"\",SUM('Forecasts Cardiovascular:Forecasts Other'!K41),\"\")","v":""},{"$f":"IF($C41<>\"\",SUM('Forecasts Cardiovascular:Forecasts Other'!L41),\"\")","v":""},{"$f":"IF($C41<>\"\",SUM('Forecasts Cardiovascular:Forecasts Other'!M41),\"\")","v":""},{"$f":"IF($C41<>\"\",SUM('Forecasts Cardiovascular:Forecasts Other'!N41),\"\")","v":""},{"$f":"IF($C41<>\"\",SUM('Forecasts Cardiovascular:Forecasts Other'!O41),\"\")","v":""},{"$f":"IF($C41<>\"\",SUM('Forecasts Cardiovascular:Forecasts Other'!P41),\"\")","v":""},{"$f":"IF($C41<>\"\",SUM('Forecasts Cardiovascular:Forecasts Other'!Q41),\"\")","v":""},{"$f":"IF($C41<>\"\",SUM('Forecasts Cardiovascular:Forecasts Other'!R41),\"\")","v":""},{"$f":"IF($C41<>\"\",SUM('Forecasts Cardiovascular:Forecasts Other'!S41),\"\")","v":""},{"$f":"IF($C41<>\"\",SUM('Forecasts Cardiovascular:Forecasts Other'!T41),\"\")","v":""},{"$f":"IF($C41<>\"\",SUM('Forecasts Cardiovascular:Forecasts Other'!U41),\"\")","v":""},{"$f":"IF($C41<>\"\",SUM('Forecasts Cardiovascular:Forecasts Other'!V41),\"\")","v":""},{"$f":"IF($C41<>\"\",SUM('Forecasts Cardiovascular:Forecasts Other'!W41),\"\")","v":""},{"$f":"IF($C41<>\"\",SUM('Forecasts Cardiovascular:Forecasts Other'!X41),\"\")","v":""}]
[null,null,"",{"$f":"IF($C42<>\"\",SUM('Forecasts Cardiovascular:Forecasts Other'!D42),\"\")","v":""},{"$f":"IF($C42<>\"\",SUM('Forecasts Cardiovascular:Forecasts Other'!E42),\"\")","v":""},{"$f":"IF($C42<>\"\",SUM('Forecasts Cardiovascular:Forecasts Other'!F42),\"\")","v":""},{"$f":"IF($C42<>\"\",SUM('Forecasts Cardiovascular:Forecasts Other'!G42),\"\")","v":""},{"$f":"IF($C42<>\"\",SUM('Forecasts Cardiovascular:Forecasts Other'!H42),\"\")","v":""},{"$f":"IF($C42<>\"\",SUM('Forecasts Cardiovascular:Forecasts Other'!I42),\"\")","v":""},{"$f":"IF($C42<>\"\",SUM('Forecasts Cardiovascular:Forecasts Other'!J42),\"\")","v":""},{"$f":"IF($C42<>\"\",SUM('Forecasts Cardiovascular:Forecasts Other'!K42),\"\")","v":""},{"$f":"IF($C42<>\"\",SUM('Forecasts Cardiovascular:Forecasts Other'!L42),\"\")","v":""},{"$f":"IF($C42<>\"\",SUM('Forecasts Cardiovascular:Forecasts Other'!M42),\"\")","v":""},{"$f":"IF($C42<>\"\",SUM('Forecasts Cardiovascular:Forecasts Other'!N42),\"\")","v":""},{"$f":"IF($C42<>\"\",SUM('Forecasts Cardiovascular:Forecasts Other'!O42),\"\")","v":""},{"$f":"IF($C42<>\"\",SUM('Forecasts Cardiovascular:Forecasts Other'!P42),\"\")","v":""},{"$f":"IF($C42<>\"\",SUM('Forecasts Cardiovascular:Forecasts Other'!Q42),\"\")","v":""},{"$f":"IF($C42<>\"\",SUM('Forecasts Cardiovascular:Forecasts Other'!R42),\"\")","v":""},{"$f":"IF($C42<>\"\",SUM('Forecasts Cardiovascular:Forecasts Other'!S42),\"\")","v":""},{"$f":"IF($C42<>\"\",SUM('Forecasts Cardiovascular:Forecasts Other'!T42),\"\")","v":""},{"$f":"IF($C42<>\"\",SUM('Forecasts Cardiovascular:Forecasts Other'!U42),\"\")","v":""},{"$f":"IF($C42<>\"\",SUM('Forecasts Cardiovascular:Forecasts Other'!V42),\"\")","v":""},{"$f":"IF($C42<>\"\",SUM('Forecasts Cardiovascular:Forecasts Other'!W42),\"\")","v":""},{"$f":"IF($C42<>\"\",SUM('Forecasts Cardiovascular:Forecasts Other'!X42),\"\")","v":""}]
[null,null,"",{"$f":"IF($C43<>\"\",SUM('Forecasts Cardiovascular:Forecasts Other'!D43),\"\")","v":""},{"$f":"IF($C43<>\"\",SUM('Forecasts Cardiovascular:Forecasts Other'!E43),\"\")","v":""},{"$f":"IF($C43<>\"\",SUM('Forecasts Cardiovascular:Forecasts Other'!F43),\"\")","v":""},{"$f":"IF($C43<>\"\",SUM('Forecasts Cardiovascular:Forecasts Other'!G43),\"\")","v":""},{"$f":"IF($C43<>\"\",SUM('Forecasts Cardiovascular:Forecasts Other'!H43),\"\")","v":""},{"$f":"IF($C43<>\"\",SUM('Forecasts Cardiovascular:Forecasts Other'!I43),\"\")","v":""},{"$f":"IF($C43<>\"\",SUM('Forecasts Cardiovascular:Forecasts Other'!J43),\"\")","v":""},{"$f":"IF($C43<>\"\",SUM('Forecasts Cardiovascular:Forecasts Other'!K43),\"\")","v":""},{"$f":"IF($C43<>\"\",SUM('Forecasts Cardiovascular:Forecasts Other'!L43),\"\")","v":""},{"$f":"IF($C43<>\"\",SUM('Forecasts Cardiovascular:Forecasts Other'!M43),\"\")","v":""},{"$f":"IF($C43<>\"\",SUM('Forecasts Cardiovascular:Forecasts Other'!N43),\"\")","v":""},{"$f":"IF($C43<>\"\",SUM('Forecasts Cardiovascular:Forecasts Other'!O43),\"\")","v":""},{"$f":"IF($C43<>\"\",SUM('Forecasts Cardiovascular:Forecasts Other'!P43),\"\")","v":""},{"$f":"IF($C43<>\"\",SUM('Forecasts Cardiovascular:Forecasts Other'!Q43),\"\")","v":""},{"$f":"IF($C43<>\"\",SUM('Forecasts Cardiovascular:Forecasts Other'!R43),\"\")","v":""},{"$f":"IF($C43<>\"\",SUM('Forecasts Cardiovascular:Forecasts Other'!S43),\"\")","v":""},{"$f":"IF($C43<>\"\",SUM('Forecasts Cardiovascular:Forecasts Other'!T43),\"\")","v":""},{"$f":"IF($C43<>\"\",SUM('Forecasts Cardiovascular:Forecasts Other'!U43),\"\")","v":""},{"$f":"IF($C43<>\"\",SUM('Forecasts Cardiovascular:Forecasts Other'!V43),\"\")","v":""},{"$f":"IF($C43<>\"\",SUM('Forecasts Cardiovascular:Forecasts Other'!W43),\"\")","v":""},{"$f":"IF($C43<>\"\",SUM('Forecasts Cardiovascular:Forecasts Other'!X43),\"\")","v":""}]
[null,null,"",{"$f":"IF($C44<>\"\",SUM('Forecasts Cardiovascular:Forecasts Other'!D44),\"\")","v":""},{"$f":"IF($C44<>\"\",SUM('Forecasts Cardiovascular:Forecasts Other'!E44),\"\")","v":""},{"$f":"IF($C44<>\"\",SUM('Forecasts Cardiovascular:Forecasts Other'!F44),\"\")","v":""},{"$f":"IF($C44<>\"\",SUM('Forecasts Cardiovascular:Forecasts Other'!G44),\"\")","v":""},{"$f":"IF($C44<>\"\",SUM('Forecasts Cardiovascular:Forecasts Other'!H44),\"\")","v":""},{"$f":"IF($C44<>\"\",SUM('Forecasts Cardiovascular:Forecasts Other'!I44),\"\")","v":""},{"$f":"IF($C44<>\"\",SUM('Forecasts Cardiovascular:Forecasts Other'!J44),\"\")","v":""},{"$f":"IF($C44<>\"\",SUM('Forecasts Cardiovascular:Forecasts Other'!K44),\"\")","v":""},{"$f":"IF($C44<>\"\",SUM('Forecasts Cardiovascular:Forecasts Other'!L44),\"\")","v":""},{"$f":"IF($C44<>\"\",SUM('Forecasts Cardiovascular:Forecasts Other'!M44),\"\")","v":""},{"$f":"IF($C44<>\"\",SUM('Forecasts Cardiovascular:Forecasts Other'!N44),\"\")","v":""},{"$f":"IF($C44<>\"\",SUM('Forecasts Cardiovascular:Forecasts Other'!O44),\"\")","v":""},{"$f":"IF($C44<>\"\",SUM('Forecasts Cardiovascular:Forecasts Other'!P44),\"\")","v":""},{"$f":"IF($C44<>\"\",SUM('Forecasts Cardiovascular:Forecasts Other'!Q44),\"\")","v":""},{"$f":"IF($C44<>\"\",SUM('Forecasts Cardiovascular:Forecasts Other'!R44),\"\")","v":""},{"$f":"IF($C44<>\"\",SUM('Forecasts Cardiovascular:Forecasts Other'!S44),\"\")","v":""},{"$f":"IF($C44<>\"\",SUM('Forecasts Cardiovascular:Forecasts Other'!T44),\"\")","v":""},{"$f":"IF($C44<>\"\",SUM('Forecasts Cardiovascular:Forecasts Other'!U44),\"\")","v":""},{"$f":"IF($C44<>\"\",SUM('Forecasts Cardiovascular:Forecasts Other'!V44),\"\")","v":""},{"$f":"IF($C44<>\"\",SUM('Forecasts Cardiovascular:Forecasts Other'!W44),\"\")","v":""},{"$f":"IF($C44<>\"\",SUM('Forecasts Cardiovascular:Forecasts Other'!X44),\"\")","v":""}]
[null,null,"",{"$f":"IF($C45<>\"\",SUM('Forecasts Cardiovascular:Forecasts Other'!D45),\"\")","v":""},{"$f":"IF($C45<>\"\",SUM('Forecasts Cardiovascular:Forecasts Other'!E45),\"\")","v":""},{"$f":"IF($C45<>\"\",SUM('Forecasts Cardiovascular:Forecasts Other'!F45),\"\")","v":""},{"$f":"IF($C45<>\"\",SUM('Forecasts Cardiovascular:Forecasts Other'!G45),\"\")","v":""},{"$f":"IF($C45<>\"\",SUM('Forecasts Cardiovascular:Forecasts Other'!H45),\"\")","v":""},{"$f":"IF($C45<>\"\",SUM('Forecasts Cardiovascular:Forecasts Other'!I45),\"\")","v":""},{"$f":"IF($C45<>\"\",SUM('Forecasts Cardiovascular:Forecasts Other'!J45),\"\")","v":""},{"$f":"IF($C45<>\"\",SUM('Forecasts Cardiovascular:Forecasts Other'!K45),\"\")","v":""},{"$f":"IF($C45<>\"\",SUM('Forecasts Cardiovascular:Forecasts Other'!L45),\"\")","v":""},{"$f":"IF($C45<>\"\",SUM('Forecasts Cardiovascular:Forecasts Other'!M45),\"\")","v":""},{"$f":"IF($C45<>\"\",SUM('Forecasts Cardiovascular:Forecasts Other'!N45),\"\")","v":""},{"$f":"IF($C45<>\"\",SUM('Forecasts Cardiovascular:Forecasts Other'!O45),\"\")","v":""},{"$f":"IF($C45<>\"\",SUM('Forecasts Cardiovascular:Forecasts Other'!P45),\"\")","v":""},{"$f":"IF($C45<>\"\",SUM('Forecasts Cardiovascular:Forecasts Other'!Q45),\"\")","v":""},{"$f":"IF($C45<>\"\",SUM('Forecasts Cardiovascular:Forecasts Other'!R45),\"\")","v":""},{"$f":"IF($C45<>\"\",SUM('Forecasts Cardiovascular:Forecasts Other'!S45),\"\")","v":""},{"$f":"IF($C45<>\"\",SUM('Forecasts Cardiovascular:Forecasts Other'!T45),\"\")","v":""},{"$f":"IF($C45<>\"\",SUM('Forecasts Cardiovascular:Forecasts Other'!U45),\"\")","v":""},{"$f":"IF($C45<>\"\",SUM('Forecasts Cardiovascular:Forecasts Other'!V45),\"\")","v":""},{"$f":"IF($C45<>\"\",SUM('Forecasts Cardiovascular:Forecasts Other'!W45),\"\")","v":""},{"$f":"IF($C45<>\"\",SUM('Forecasts Cardiovascular:Forecasts Other'!X45),\"\")","v":""}]
[null,null,"",{"$f":"IF($C46<>\"\",SUM('Forecasts Cardiovascular:Forecasts Other'!D46),\"\")","v":""},{"$f":"IF($C46<>\"\",SUM('Forecasts Cardiovascular:Forecasts Other'!E46),\"\")","v":""},{"$f":"IF($C46<>\"\",SUM('Forecasts Cardiovascular:Forecasts Other'!F46),\"\")","v":""},{"$f":"IF($C46<>\"\",SUM('Forecasts Cardiovascular:Forecasts Other'!G46),\"\")","v":""},{"$f":"IF($C46<>\"\",SUM('Forecasts Cardiovascular:Forecasts Other'!H46),\"\")","v":""},{"$f":"IF($C46<>\"\",SUM('Forecasts Cardiovascular:Forecasts Other'!I46),\"\")","v":""},{"$f":"IF($C46<>\"\",SUM('Forecasts Cardiovascular:Forecasts Other'!J46),\"\")","v":""},{"$f":"IF($C46<>\"\",SUM('Forecasts Cardiovascular:Forecasts Other'!K46),\"\")","v":""},{"$f":"IF($C46<>\"\",SUM('Forecasts Cardiovascular:Forecasts Other'!L46),\"\")","v":""},{"$f":"IF($C46<>\"\",SUM('Forecasts Cardiovascular:Forecasts Other'!M46),\"\")","v":""},{"$f":"IF($C46<>\"\",SUM('Forecasts Cardiovascular:Forecasts Other'!N46),\"\")","v":""},{"$f":"IF($C46<>\"\",SUM('Forecasts Cardiovascular:Forecasts Other'!O46),\"\")","v":""},{"$f":"IF($C46<>\"\",SUM('Forecasts Cardiovascular:Forecasts Other'!P46),\"\")","v":""},{"$f":"IF($C46<>\"\",SUM('Forecasts Cardiovascular:Forecasts Other'!Q46),\"\")","v":""},{"$f":"IF($C46<>\"\",SUM('Forecasts Cardiovascular:Forecasts Other'!R46),\"\")","v":""},{"$f":"IF($C46<>\"\",SUM('Forecasts Cardiovascular:Forecasts Other'!S46),\"\")","v":""},{"$f":"IF($C46<>\"\",SUM('Forecasts Cardiovascular:Forecasts Other'!T46),\"\")","v":""},{"$f":"IF($C46<>\"\",SUM('Forecasts Cardiovascular:Forecasts Other'!U46),\"\")","v":""},{"$f":"IF($C46<>\"\",SUM('Forecasts Cardiovascular:Forecasts Other'!V46),\"\")","v":""},{"$f":"IF($C46<>\"\",SUM('Forecasts Cardiovascular:Forecasts Other'!W46),\"\")","v":""},{"$f":"IF($C46<>\"\",SUM('Forecasts Cardiovascular:Forecasts Other'!X46),\"\")","v":""}]
[null,null,"",{"$f":"IF($C47<>\"\",SUM('Forecasts Cardiovascular:Forecasts Other'!D47),\"\")","v":""},{"$f":"IF($C47<>\"\",SUM('Forecasts Cardiovascular:Forecasts Other'!E47),\"\")","v":""},{"$f":"IF($C47<>\"\",SUM('Forecasts Cardiovascular:Forecasts Other'!F47),\"\")","v":""},{"$f":"IF($C47<>\"\",SUM('Forecasts Cardiovascular:Forecasts Other'!G47),\"\")","v":""},{"$f":"IF($C47<>\"\",SUM('Forecasts Cardiovascular:Forecasts Other'!H47),\"\")","v":""},{"$f":"IF($C47<>\"\",SUM('Forecasts Cardiovascular:Forecasts Other'!I47),\"\")","v":""},{"$f":"IF($C47<>\"\",SUM('Forecasts Cardiovascular:Forecasts Other'!J47),\"\")","v":""},{"$f":"IF($C47<>\"\",SUM('Forecasts Cardiovascular:Forecasts Other'!K47),\"\")","v":""},{"$f":"IF($C47<>\"\",SUM('Forecasts Cardiovascular:Forecasts Other'!L47),\"\")","v":""},{"$f":"IF($C47<>\"\",SUM('Forecasts Cardiovascular:Forecasts Other'!M47),\"\")","v":""},{"$f":"IF($C47<>\"\",SUM('Forecasts Cardiovascular:Forecasts Other'!N47),\"\")","v":""},{"$f":"IF($C47<>\"\",SUM('Forecasts Cardiovascular:Forecasts Other'!O47),\"\")","v":""},{"$f":"IF($C47<>\"\",SUM('Forecasts Cardiovascular:Forecasts Other'!P47),\"\")","v":""},{"$f":"IF($C47<>\"\",SUM('Forecasts Cardiovascular:Forecasts Other'!Q47),\"\")","v":""},{"$f":"IF($C47<>\"\",SUM('Forecasts Cardiovascular:Forecasts Other'!R47),\"\")","v":""},{"$f":"IF($C47<>\"\",SUM('Forecasts Cardiovascular:Forecasts Other'!S47),\"\")","v":""},{"$f":"IF($C47<>\"\",SUM('Forecasts Cardiovascular:Forecasts Other'!T47),\"\")","v":""},{"$f":"IF($C47<>\"\",SUM('Forecasts Cardiovascular:Forecasts Other'!U47),\"\")","v":""},{"$f":"IF($C47<>\"\",SUM('Forecasts Cardiovascular:Forecasts Other'!V47),\"\")","v":""},{"$f":"IF($C47<>\"\",SUM('Forecasts Cardiovascular:Forecasts Other'!W47),\"\")","v":""},{"$f":"IF($C47<>\"\",SUM('Forecasts Cardiovascular:Forecasts Other'!X47),\"\")","v":""}]
[]
[null,"Female"]
[]
[]
[]
[]
[]
[]
[null,"Death rate",null,"age"]
[null,"sex","F",{"$f":"TRANSPOSE(Ages_group)","v":0},"1 - 4","5 - 9","10 - 14","15 - 19","20 - 24","25 - 29","30 - 34","35 - 39","40 - 44","45 - 49","50 - 54","55 - 59","60 - 64","65 - 69","70 - 74","75 - 79","80 - 84","85 - 89","90 - 94","95+"]
[null,"time",{"$f":"Year_0","v":2016},{"$f":"IF($C58<>\"\",SUM('Forecasts Cardiovascular:Forecasts Other'!D58),\"\")","v":5.2116378296150553E-3},{"$f":"IF($C58<>\"\",SUM('Forecasts Cardiovascular:Forecasts Other'!E58),\"\")","v":2.2732835464033354E-4},{"$f":"IF($C58<>\"\",SUM('Forecasts Cardiovascular:Forecasts Other'!F58),\"\")","v":1.0916127083015746E-4},{"$f":"IF($C58<>\"\",SUM('Forecasts Cardiovascular:Forecasts Other'!G58),\"\")","v":1.2574904588225652E-4},{"$f":"IF($C58<>\"\",SUM('Forecasts Cardiovascular:Forecasts Other'!H58),\"\")","v":2.9092516836267437E-4},{"$f":"IF($C58<>\"\",SUM('Forecasts Cardiovascular:Forecasts Other'!I58),\"\")","v":4.8996971956381547E-4},{"$f":"IF($C58<>\"\",SUM('Forecasts Cardiovascular:Forecasts Other'!J58),\"\")","v":6.5007514392480541E-4},{"$f":"IF($C58<>\"\",SUM('Forecasts Cardiovascular:Forecasts Other'!K58),\"\")","v":8.7988367324254801E-4},{"$f":"IF($C58<>\"\",SUM('Forecasts Cardiovascular:Forecasts Other'!L58),\"\")","v":1.1561212893642036E-3},{"$f":"IF($C58<>\"\",SUM('Forecasts Cardiovascular:Forecasts Other'!M58),\"\")","v":1.610681403829777E-3},{"$f":"IF($C58<>\"\",SUM('Forecasts Cardiovascular:Forecasts Other'!N58),\"\")","v":2.4492810495941116E-3},{"$f":"IF($C58<>\"\",SUM('Forecasts Cardiovascular:Forecasts Other'!O58),\"\")","v":3.8181922660582264E-3},{"$f":"IF($C58<>\"\",SUM('Forecasts Cardiovascular:Forecasts Other'!P58),\"\")","v":5.5833723088262619E-3},{"$f":"IF($C58<>\"\",SUM('Forecasts Cardiovascular:Forecasts Other'!Q58),\"\")","v":7.9038574339655287E-3},{"$f":"IF($C58<>\"\",SUM('Forecasts Cardiovascular:Forecasts Other'!R58),\"\")","v":1.1611444133494768E-2},{"$f":"IF($C58<>\"\",SUM('Forecasts Cardiovascular:Forecasts Other'!S58),\"\")","v":1.8683090831820688E-2},{"$f":"IF($C58<>\"\",SUM('Forecasts Cardiovascular:Forecasts Other'!T58),\"\")","v":3.0341621851584386E-2},{"$f":"IF($C58<>\"\",SUM('Forecasts Cardiovascular:Forecasts Other'!U58),\"\")","v":5.2266162639199212E-2},{"$f":"IF($C58<>\"\",SUM('Forecasts Cardiovascular:Forecasts Other'!V58),\"\")","v":9.0828972769077018E-2},{"$f":"IF($C58<>\"\",SUM('Forecasts Cardiovascular:Forecasts Other'!W58),\"\")","v":0.16186631738633747},{"$f":"IF($C58<>\"\",SUM('Forecasts Cardiovascular:Forecasts Other'!X58),\"\")","v":0.29384394380370604}]
[null,null,{"$f":"IF(C58<Year_max,C58+1,\"\")","v":2017},{"$f":"IF($C59<>\"\",SUM('Forecasts Cardiovascular:Forecasts Other'!D59),\"\")","v":5.1507509850684851E-3},{"$f":"IF($C59<>\"\",SUM('Forecasts Cardiovascular:Forecasts Other'!E59),\"\")","v":2.2609690346502511E-4},{"$f":"IF($C59<>\"\",SUM('Forecasts Cardiovascular:Forecasts Other'!F59),\"\")","v":1.0872221823059997E-4},{"$f":"IF($C59<>\"\",SUM('Forecasts Cardiovascular:Forecasts Other'!G59),\"\")","v":1.2512304593724689E-4},{"$f":"IF($C59<>\"\",SUM('Forecasts Cardiovascular:Forecasts Other'!H59),\"\")","v":2.9124954571277785E-4},{"$f":"IF($C59<>\"\",SUM('Forecasts Cardiovascular:Forecasts Other'!I59),\"\")","v":4.9788115263823261E-4},{"$f":"IF($C59<>\"\",SUM('Forecasts Cardiovascular:Forecasts Other'!J59),\"\")","v":6.6718315171117716E-4},{"$f":"IF($C59<>\"\",SUM('Forecasts Cardiovascular:Forecasts Other'!K59),\"\")","v":8.984902793455268E-4},{"$f":"IF($C59<>\"\",SUM('Forecasts Cardiovascular:Forecasts Other'!L59),\"\")","v":1.1639472149534691E-3},{"$f":"IF($C59<>\"\",SUM('Forecasts Cardiovascular:Forecasts Other'!M59),\"\")","v":1.6120945816190772E-3},{"$f":"IF($C59<>\"\",SUM('Forecasts Cardiovascular:Forecasts Other'!N59),\"\")","v":2.4590961060143445E-3},{"$f":"IF($C59<>\"\",SUM('Forecasts Cardiovascular:Forecasts Other'!O59),\"\")","v":3.8456007050674339E-3},{"$f":"IF($C59<>\"\",SUM('Forecasts Cardiovascular:Forecasts Other'!P59),\"\")","v":5.5900035217591564E-3},{"$f":"IF($C59<>\"\",SUM('Forecasts Cardiovascular:Forecasts Other'!Q59),\"\")","v":7.857251584458446E-3},{"$f":"IF($C59<>\"\",SUM('Forecasts Cardiovascular:Forecasts Other'!R59),\"\")","v":1.1523768202972493E-2},{"$f":"IF($C59<>\"\",SUM('Forecasts Cardiovascular:Forecasts Other'!S59),\"\")","v":1.8560399267851795E-2},{"$f":"IF($C59<>\"\",SUM('Forecasts Cardiovascular:Forecasts Other'!T59),\"\")","v":3.0187732047862563E-2},{"$f":"IF($C59<>\"\",SUM('Forecasts Cardiovascular:Forecasts Other'!U59),\"\")","v":5.2012472231517698E-2},{"$f":"IF($C59<>\"\",SUM('Forecasts Cardiovascular:Forecasts Other'!V59),\"\")","v":9.0430279034464836E-2},{"$f":"IF($C59<>\"\",SUM('Forecasts Cardiovascular:Forecasts Other'!W59),\"\")","v":0.16143100941852764},{"$f":"IF($C59<>\"\",SUM('Forecasts Cardiovascular:Forecasts Other'!X59),\"\")","v":0.29368150927032088}]
[null,null,2018,{"$f":"IF($C60<>\"\",SUM('Forecasts Cardiovascular:Forecasts Other'!D60),\"\")","v":5.0906461630117325E-3},{"$f":"IF($C60<>\"\",SUM('Forecasts Cardiovascular:Forecasts Other'!E60),\"\")","v":2.2488413790504904E-4},{"$f":"IF($C60<>\"\",SUM('Forecasts Cardiovascular:Forecasts Other'!F60),\"\")","v":1.0829110027991135E-4},{"$f":"IF($C60<>\"\",SUM('Forecasts Cardiovascular:Forecasts Other'!G60),\"\")","v":1.2450746884766888E-4},{"$f":"IF($C60<>\"\",SUM('Forecasts Cardiovascular:Forecasts Other'!H60),\"\")","v":2.9164218287546406E-4},{"$f":"IF($C60<>\"\",SUM('Forecasts Cardiovascular:Forecasts Other'!I60),\"\")","v":5.0664960735220766E-4},{"$f":"IF($C60<>\"\",SUM('Forecasts Cardiovascular:Forecasts Other'!J60),\"\")","v":6.8640461022370647E-4},{"$f":"IF($C60<>\"\",SUM('Forecasts Cardiovascular:Forecasts Other'!K60),\"\")","v":9.1912559458967851E-4},{"$f":"IF($C60<>\"\",SUM('Forecasts Cardiovascular:Forecasts Other'!L60),\"\")","v":1.1725604975481878E-3},{"$f":"IF($C60<>\"\",SUM('Forecasts Cardiovascular:Forecasts Other'!M60),\"\")","v":1.6141072740541852E-3},{"$f":"IF($C60<>\"\",SUM('Forecasts Cardiovascular:Forecasts Other'!N60),\"\")","v":2.470071879789309E-3},{"$f":"IF($C60<>\"\",SUM('Forecasts Cardiovascular:Forecasts Other'!O60),\"\")","v":3.8758397809136244E-3},{"$f":"IF($C60<>\"\",SUM('Forecasts Cardiovascular:Forecasts Other'!P60),\"\")","v":5.5991188375871317E-3},{"$f":"IF($C60<>\"\",SUM('Forecasts Cardiovascular:Forecasts Other'!Q60),\"\")","v":7.8123078130761794E-3},{"$f":"IF($C60<>\"\",SUM('Forecasts Cardiovascular:Forecasts Other'!R60),\"\")","v":1.1437541510972442E-2},{"$f":"IF($C60<>\"\",SUM('Forecasts Cardiovascular:Forecasts Other'!S60),\"\")","v":1.8439539021870264E-2},{"$f":"IF($C60<>\"\",SUM('Forecasts Cardiovascular:Forecasts Other'!T60),\"\")","v":3.0037013781182745E-2},{"$f":"IF($C60<>\"\",SUM('Forecasts Cardiovascular:Forecasts Other'!U60),\"\")","v":5.1766008974372786E-2},{"$f":"IF($C60<>\"\",SUM('Forecasts Cardiovascular:Forecasts Other'!V60),\"\")","v":9.0047257777445086E-2},{"$f":"IF($C60<>\"\",SUM('Forecasts Cardiovascular:Forecasts Other'!W60),\"\")","v":0.16102596716761008},{"$f":"IF($C60<>\"\",SUM('Forecasts Cardiovascular:Forecasts Other'!X60),\"\")","v":0.29358083063647289}]
[null,null,2019,{"$f":"IF($C61<>\"\",SUM('Forecasts Cardiovascular:Forecasts Other'!D61),\"\")","v":5.031313295098358E-3},{"$f":"IF($C61<>\"\",SUM('Forecasts Cardiovascular:Forecasts Other'!E61),\"\")","v":2.2368980281463284E-4},{"$f":"IF($C61<>\"\",SUM('Forecasts Cardiovascular:Forecasts Other'!F61),\"\")","v":1.078678456610029E-4},{"$f":"IF($C61<>\"\",SUM('Forecasts Cardiovascular:Forecasts Other'!G61),\"\")","v":1.239021526730845E-4},{"$f":"IF($C61<>\"\",SUM('Forecasts Cardiovascular:Forecasts Other'!H61),\"\")","v":2.9210529983440581E-4},{"$f":"IF($C61<>\"\",SUM('Forecasts Cardiovascular:Forecasts Other'!I61),\"\")","v":5.1635313433601843E-4},{"$f":"IF($C61<>\"\",SUM('Forecasts Cardiovascular:Forecasts Other'!J61),\"\")","v":7.0797419358472474E-4},{"$f":"IF($C61<>\"\",SUM('Forecasts Cardiovascular:Forecasts Other'!K61),\"\")","v":9.4197987198099448E-4},{"$f":"IF($C61<>\"\",SUM('Forecasts Cardiovascular:Forecasts Other'!L61),\"\")","v":1.1819971975880687E-3},{"$f":"IF($C61<>\"\",SUM('Forecasts Cardiovascular:Forecasts Other'!M61),\"\")","v":1.6167335581008335E-3},{"$f":"IF($C61<>\"\",SUM('Forecasts Cardiovascular:Forecasts Other'!N61),\"\")","v":2.4822665386472699E-3},{"$f":"IF($C61<>\"\",SUM('Forecasts Cardiovascular:Forecasts Other'!O61),\"\")","v":3.9091332103397217E-3},{"$f":"IF($C61<>\"\",SUM('Forecasts Cardiovascular:Forecasts Other'!P61),\"\")","v":5.6108913963238876E-3},{"$f":"IF($C61<>\"\",SUM('Forecasts Cardiovascular:Forecasts Other'!Q61),\"\")","v":7.7690482355715395E-3},{"$f":"IF($C61<>\"\",SUM('Forecasts Cardiovascular:Forecasts Other'!R61),\"\")","v":1.1352750150852815E-2},{"$f":"IF($C61<>\"\",SUM('Forecasts Cardiovascular:Forecasts Other'!S61),\"\")","v":1.8320490244884201E-2},{"$f":"IF($C61<>\"\",SUM('Forecasts Cardiovascular:Forecasts Other'!T61),\"\")","v":2.98894429932892E-2},{"$f":"IF($C61<>\"\",SUM('Forecasts Cardiovascular:Forecasts Other'!U61),\"\")","v":5.1526722280587273E-2},{"$f":"IF($C61<>\"\",SUM('Forecasts Cardiovascular:Forecasts Other'!V61),\"\")","v":8.9679817867641745E-2},{"$f":"IF($C61<>\"\",SUM('Forecasts Cardiovascular:Forecasts Other'!W61),\"\")","v":0.16065114593772095},{"$f":"IF($C61<>\"\",SUM('Forecasts Cardiovascular:Forecasts Other'!X61),\"\")","v":0.29354223290101361}]
[null,null,2020,{"$f":"IF($C62<>\"\",SUM('Forecasts Cardiovascular:Forecasts Other'!D62),\"\")","v":4.9727424427942687E-3},{"$f":"IF($C62<>\"\",SUM('Forecasts Cardiovascular:Forecasts Other'!E62),\"\")","v":2.2251364676483353E-4},{"$f":"IF($C62<>\"\",SUM('Forecasts Cardiovascular:Forecasts Other'!F62),\"\")","v":1.0745238445847008E-4},{"$f":"IF($C62<>\"\",SUM('Forecasts Cardiovascular:Forecasts Other'!G62),\"\")","v":1.2330693809177787E-4},{"$f":"IF($C62<>\"\",SUM('Forecasts Cardiovascular:Forecasts Other'!H62),\"\")","v":2.926412328181066E-4},{"$f":"IF($C62<>\"\",SUM('Forecasts Cardiovascular:Forecasts Other'!I62),\"\")","v":5.2707702205787835E-4},{"$f":"IF($C62<>\"\",SUM('Forecasts Cardiovascular:Forecasts Other'!J62),\"\")","v":7.3215285073753101E-4},{"$f":"IF($C62<>\"\",SUM('Forecasts Cardiovascular:Forecasts Other'!K62),\"\")","v":9.6726146083815515E-4},{"$f":"IF($C62<>\"\",SUM('Forecasts Cardiovascular:Forecasts Other'!L62),\"\")","v":1.1922954761856394E-3},{"$f":"IF($C62<>\"\",SUM('Forecasts Cardiovascular:Forecasts Other'!M62),\"\")","v":1.6199883412850817E-3},{"$f":"IF($C62<>\"\",SUM('Forecasts Cardiovascular:Forecasts Other'!N62),\"\")","v":2.4957415594299595E-3},{"$f":"IF($C62<>\"\",SUM('Forecasts Cardiovascular:Forecasts Other'!O62),\"\")","v":3.9457232533959847E-3},{"$f":"IF($C62<>\"\",SUM('Forecasts Cardiovascular:Forecasts Other'!P62),\"\")","v":5.6255087080803352E-3},{"$f":"IF($C62<>\"\",SUM('Forecasts Cardiovascular:Forecasts Other'!Q62),\"\")","v":7.7274974605680289E-3},{"$f":"IF($C62<>\"\",SUM('Forecasts Cardiovascular:Forecasts Other'!R62),\"\")","v":1.1269380624489431E-2},{"$f":"IF($C62<>\"\",SUM('Forecasts Cardiovascular:Forecasts Other'!S62),\"\")","v":1.8203233470742264E-2},{"$f":"IF($C62<>\"\",SUM('Forecasts Cardiovascular:Forecasts Other'!T62),\"\")","v":2.9744996341821553E-2},{"$f":"IF($C62<>\"\",SUM('Forecasts Cardiovascular:Forecasts Other'!U62),\"\")","v":5.1294563260276864E-2},{"$f":"IF($C62<>\"\",SUM('Forecasts Cardiovascular:Forecasts Other'!V62),\"\")","v":8.9327872064758201E-2},{"$f":"IF($C62<>\"\",SUM('Forecasts Cardiovascular:Forecasts Other'!W62),\"\")","v":0.16030650887561934},{"$f":"IF($C62<>\"\",SUM('Forecasts Cardiovascular:Forecasts Other'!X62),\"\")","v":0.29356606084948322}]
[null,null,2021,{"$f":"IF($C63<>\"\",SUM('Forecasts Cardiovascular:Forecasts Other'!D63),\"\")","v":4.9149237957029114E-3},{"$f":"IF($C63<>\"\",SUM('Forecasts Cardiovascular:Forecasts Other'!E63),\"\")","v":2.2135542198963929E-4},{"$f":"IF($C63<>\"\",SUM('Forecasts Cardiovascular:Forecasts Other'!F63),\"\")","v":1.0704464813878741E-4},{"$f":"IF($C63<>\"\",SUM('Forecasts Cardiovascular:Forecasts Other'!G63),\"\")","v":1.2272166835811959E-4},{"$f":"IF($C63<>\"\",SUM('Forecasts Cardiovascular:Forecasts Other'!H63),\"\")","v":2.9325243943786037E-4},{"$f":"IF($C63<>\"\",SUM('Forecasts Cardiovascular:Forecasts Other'!I63),\"\")","v":5.3891446671496185E-4},{"$f":"IF($C63<>\"\",SUM('Forecasts Cardiovascular:Forecasts Other'!J63),\"\")","v":7.5923074532536681E-4},{"$f":"IF($C63<>\"\",SUM('Forecasts Cardiovascular:Forecasts Other'!K63),\"\")","v":9.9519852529454124E-4},{"$f":"IF($C63<>\"\",SUM('Forecasts Cardiovascular:Forecasts Other'!L63),\"\")","v":1.2034957018888454E-3},{"$f":"IF($C63<>\"\",SUM('Forecasts Cardiovascular:Forecasts Other'!M63),\"\")","v":1.6238873860258533E-3},{"$f":"IF($C63<>\"\",SUM('Forecasts Cardiovascular:Forecasts Other'!N63),\"\")","v":2.5105619112513453E-3},{"$f":"IF($C63<>\"\",SUM('Forecasts Cardiovascular:Forecasts Other'!O63),\"\")","v":3.9858722527227504E-3},{"$f":"IF($C63<>\"\",SUM('Forecasts Cardiovascular:Forecasts Other'!P63),\"\")","v":5.6431738256333269E-3},{"$f":"IF($C63<>\"\",SUM('Forecasts Cardiovascular:Forecasts Other'!Q63),\"\")","v":7.6876827033566719E-3},{"$f":"IF($C63<>\"\",SUM('Forecasts Cardiovascular:Forecasts Other'!R63),\"\")","v":1.1187419841233072E-2},{"$f":"IF($C63<>\"\",SUM('Forecasts Cardiovascular:Forecasts Other'!S63),\"\")","v":1.8087749611317202E-2},{"$f":"IF($C63<>\"\",SUM('Forecasts Cardiovascular:Forecasts Other'!T63),\"\")","v":2.9603651194316162E-2},{"$f":"IF($C63<>\"\",SUM('Forecasts Cardiovascular:Forecasts Other'!U63),\"\")","v":5.1069484707528291E-2},{"$f":"IF($C63<>\"\",SUM('Forecasts Cardiovascular:Forecasts Other'!V63),\"\")","v":8.8991336995195555E-2},{"$f":"IF($C63<>\"\",SUM('Forecasts Cardiovascular:Forecasts Other'!W63),\"\")","v":0.15999202697230613},{"$f":"IF($C63<>\"\",SUM('Forecasts Cardiovascular:Forecasts Other'!X63),\"\")","v":0.29365267925379668}]
[null,null,2022,{"$f":"IF($C64<>\"\",SUM('Forecasts Cardiovascular:Forecasts Other'!D64),\"\")","v":4.8578476699120948E-3},{"$f":"IF($C64<>\"\",SUM('Forecasts Cardiovascular:Forecasts Other'!E64),\"\")","v":2.20214884332861E-4},{"$f":"IF($C64<>\"\",SUM('Forecasts Cardiovascular:Forecasts Other'!F64),\"\")","v":1.066445695310039E-4},{"$f":"IF($C64<>\"\",SUM('Forecasts Cardiovascular:Forecasts Other'!G64),\"\")","v":1.221461892606282E-4},{"$f":"IF($C64<>\"\",SUM('Forecasts Cardiovascular:Forecasts Other'!H64),\"\")","v":2.9394150406714044E-4},{"$f":"IF($C64<>\"\",SUM('Forecasts Cardiovascular:Forecasts Other'!I64),\"\")","v":5.5196730413902093E-4},{"$f":"IF($C64<>\"\",SUM('Forecasts Cardiovascular:Forecasts Other'!J64),\"\")","v":7.8953052453080181E-4},{"$f":"IF($C64<>\"\",SUM('Forecasts Cardiovascular:Forecasts Other'!K64),\"\")","v":1.0260409260315071E-3},{"$f":"IF($C64<>\"\",SUM('Forecasts Cardiovascular:Forecasts Other'!L64),\"\")","v":1.215640563424497E-3},{"$f":"IF($C64<>\"\",SUM('Forecasts Cardiovascular:Forecasts Other'!M64),\"\")","v":1.6284473352692593E-3},{"$f":"IF($C64<>\"\",SUM('Forecasts Cardiovascular:Forecasts Other'!N64),\"\")","v":2.5267962488741921E-3},{"$f":"IF($C64<>\"\",SUM('Forecasts Cardiovascular:Forecasts Other'!O64),\"\")","v":4.0298643007134248E-3},{"$f":"IF($C64<>\"\",SUM('Forecasts Cardiovascular:Forecasts Other'!P64),\"\")","v":5.6641066129655996E-3},{"$f":"IF($C64<>\"\",SUM('Forecasts Cardiovascular:Forecasts Other'!Q64),\"\")","v":7.6496339066808002E-3},{"$f":"IF($C64<>\"\",SUM('Forecasts Cardiovascular:Forecasts Other'!R64),\"\")","v":1.1106855117046016E-2},{"$f":"IF($C64<>\"\",SUM('Forecasts Cardiovascular:Forecasts Other'!S64),\"\")","v":1.7974019951783562E-2},{"$f":"IF($C64<>\"\",SUM('Forecasts Cardiovascular:Forecasts Other'!T64),\"\")","v":2.9465385622386805E-2},{"$f":"IF($C64<>\"\",SUM('Forecasts Cardiovascular:Forecasts Other'!U64),\"\")","v":5.085144108750711E-2},{"$f":"IF($C64<>\"\",SUM('Forecasts Cardiovascular:Forecasts Other'!V64),\"\")","v":8.8670133129662723E-2},{"$f":"IF($C64<>\"\",SUM('Forecasts Cardiovascular:Forecasts Other'!W64),\"\")","v":0.15970767906681577},{"$f":"IF($C64<>\"\",SUM('Forecasts Cardiovascular:Forecasts Other'!X64),\"\")","v":0.29380247307920049}]
[null,null,2023,{"$f":"IF($C65<>\"\",SUM('Forecasts Cardiovascular:Forecasts Other'!D65),\"\")","v":4.80150450636215E-3},{"$f":"IF($C65<>\"\",SUM('Forecasts Cardiovascular:Forecasts Other'!E65),\"\")","v":2.1909179319580183E-4},{"$f":"IF($C65<>\"\",SUM('Forecasts Cardiovascular:Forecasts Other'!F65),\"\")","v":1.0625208280792747E-4},{"$f":"IF($C65<>\"\",SUM('Forecasts Cardiovascular:Forecasts Other'!G65),\"\")","v":1.2158034908071762E-4},{"$f":"IF($C65<>\"\",SUM('Forecasts Cardiovascular:Forecasts Other'!H65),\"\")","v":2.9471114347347536E-4},{"$f":"IF($C65<>\"\",SUM('Forecasts Cardiovascular:Forecasts Other'!I65),\"\")","v":5.6634680945738796E-4},{"$f":"IF($C65<>\"\",SUM('Forecasts Cardiovascular:Forecasts Other'!J65),\"\")","v":8.2341095368467876E-4},{"$f":"IF($C65<>\"\",SUM('Forecasts Cardiovascular:Forecasts Other'!K65),\"\")","v":1.0600622807468521E-3},{"$f":"IF($C65<>\"\",SUM('Forecasts Cardiovascular:Forecasts Other'!L65),\"\")","v":1.2287751887328612E-3},{"$f":"IF($C65<>\"\",SUM('Forecasts Cardiovascular:Forecasts Other'!M65),\"\")","v":1.6336857394644601E-3},{"$f":"IF($C65<>\"\",SUM('Forecasts Cardiovascular:Forecasts Other'!N65),\"\")","v":2.5445171168731384E-3},{"$f":"IF($C65<>\"\",SUM('Forecasts Cardiovascular:Forecasts Other'!O65),\"\")","v":4.0780070451830611E-3},{"$f":"IF($C65<>\"\",SUM('Forecasts Cardiovascular:Forecasts Other'!P65),\"\")","v":5.6885451176291761E-3},{"$f":"IF($C65<>\"\",SUM('Forecasts Cardiovascular:Forecasts Other'!Q65),\"\")","v":7.6133838688891113E-3},{"$f":"IF($C65<>\"\",SUM('Forecasts Cardiovascular:Forecasts Other'!R65),\"\")","v":1.1027674173819602E-2},{"$f":"IF($C65<>\"\",SUM('Forecasts Cardiovascular:Forecasts Other'!S65),\"\")","v":1.7862026145988131E-2},{"$f":"IF($C65<>\"\",SUM('Forecasts Cardiovascular:Forecasts Other'!T65),\"\")","v":2.9330178396082936E-2},{"$f":"IF($C65<>\"\",SUM('Forecasts Cardiovascular:Forecasts Other'!U65),\"\")","v":5.0640388523990831E-2},{"$f":"IF($C65<>\"\",SUM('Forecasts Cardiovascular:Forecasts Other'!V65),\"\")","v":8.8364184761772824E-2},{"$f":"IF($C65<>\"\",SUM('Forecasts Cardiovascular:Forecasts Other'!W65),\"\")","v":0.15945345185218351},{"$f":"IF($C65<>\"\",SUM('Forecasts Cardiovascular:Forecasts Other'!X65),\"\")","v":0.2940158476985949}]
[null,null,2024,{"$f":"IF($C66<>\"\",SUM('Forecasts Cardiovascular:Forecasts Other'!D66),\"\")","v":4.745884869235161E-3},{"$f":"IF($C66<>\"\",SUM('Forecasts Cardiovascular:Forecasts Other'!E66),\"\")","v":2.1798591148569358E-4},{"$f":"IF($C66<>\"\",SUM('Forecasts Cardiovascular:Forecasts Other'!F66),\"\")","v":1.0586712346778626E-4},{"$f":"IF($C66<>\"\",SUM('Forecasts Cardiovascular:Forecasts Other'!G66),\"\")","v":1.2102399855211907E-4},{"$f":"IF($C66<>\"\",SUM('Forecasts Cardiovascular:Forecasts Other'!H66),\"\")","v":2.9556421271437823E-4},{"$f":"IF($C66<>\"\",SUM('Forecasts Cardiovascular:Forecasts Other'!I66),\"\")","v":5.8217457078160099E-4},{"$f":"IF($C66<>\"\",SUM('Forecasts Cardiovascular:Forecasts Other'!J66),\"\")","v":8.6127095757254179E-4},{"$f":"IF($C66<>\"\",SUM('Forecasts Cardiovascular:Forecasts Other'!K66),\"\")","v":1.0975622203350161E-3},{"$f":"IF($C66<>\"\",SUM('Forecasts Cardiovascular:Forecasts Other'!L66),\"\")","v":1.2429472706208013E-3},{"$f":"IF($C66<>\"\",SUM('Forecasts Cardiovascular:Forecasts Other'!M66),\"\")","v":1.6396210849228569E-3},{"$f":"IF($C66<>\"\",SUM('Forecasts Cardiovascular:Forecasts Other'!N66),\"\")","v":2.5638011651846725E-3},{"$f":"IF($C66<>\"\",SUM('Forecasts Cardiovascular:Forecasts Other'!O66),\"\")","v":4.1306336450507479E-3},{"$f":"IF($C66<>\"\",SUM('Forecasts Cardiovascular:Forecasts Other'!P66),\"\")","v":5.716747055426968E-3},{"$f":"IF($C66<>\"\",SUM('Forecasts Cardiovascular:Forecasts Other'!Q66),\"\")","v":7.5789683798591035E-3},{"$f":"IF($C66<>\"\",SUM('Forecasts Cardiovascular:Forecasts Other'!R66),\"\")","v":1.0949865138874901E-2},{"$f":"IF($C66<>\"\",SUM('Forecasts Cardiovascular:Forecasts Other'!S66),\"\")","v":1.7751750211912103E-2},{"$f":"IF($C66<>\"\",SUM('Forecasts Cardiovascular:Forecasts Other'!T66),\"\")","v":2.9198008978424072E-2},{"$f":"IF($C66<>\"\",SUM('Forecasts Cardiovascular:Forecasts Other'!U66),\"\")","v":5.0436284787323996E-2},{"$f":"IF($C66<>\"\",SUM('Forecasts Cardiovascular:Forecasts Other'!V66),\"\")","v":8.8073419987619417E-2},{"$f":"IF($C66<>\"\",SUM('Forecasts Cardiovascular:Forecasts Other'!W66),\"\")","v":0.15922933988359234},{"$f":"IF($C66<>\"\",SUM('Forecasts Cardiovascular:Forecasts Other'!X66),\"\")","v":0.29429322911431843}]
[null,null,2025,{"$f":"IF($C67<>\"\",SUM('Forecasts Cardiovascular:Forecasts Other'!D67),\"\")","v":4.6909794443649993E-3},{"$f":"IF($C67<>\"\",SUM('Forecasts Cardiovascular:Forecasts Other'!E67),\"\")","v":2.1689700556488858E-4},{"$f":"IF($C67<>\"\",SUM('Forecasts Cardiovascular:Forecasts Other'!F67),\"\")","v":1.054896283163567E-4},{"$f":"IF($C67<>\"\",SUM('Forecasts Cardiovascular:Forecasts Other'!G67),\"\")","v":1.2047699082096683E-4},{"$f":"IF($C67<>\"\",SUM('Forecasts Cardiovascular:Forecasts Other'!H67),\"\")","v":2.9650371130943387E-4},{"$f":"IF($C67<>\"\",SUM('Forecasts Cardiovascular:Forecasts Other'!I67),\"\")","v":5.9958344377652236E-4},{"$f":"IF($C67<>\"\",SUM('Forecasts Cardiovascular:Forecasts Other'!J67),\"\")","v":9.0355411394611707E-4},{"$f":"IF($C67<>\"\",SUM('Forecasts Cardiovascular:Forecasts Other'!K67),\"\")","v":1.1388688593679927E-3},{"$f":"IF($C67<>\"\",SUM('Forecasts Cardiovascular:Forecasts Other'!L67),\"\")","v":1.2582071993789178E-3},{"$f":"IF($C67<>\"\",SUM('Forecasts Cardiovascular:Forecasts Other'!M67),\"\")","v":1.6462728236045551E-3},{"$f":"IF($C67<>\"\",SUM('Forecasts Cardiovascular:Forecasts Other'!N67),\"\")","v":2.5847293766778517E-3},{"$f":"IF($C67<>\"\",SUM('Forecasts Cardiovascular:Forecasts Other'!O67),\"\")","v":4.1881048885002601E-3},{"$f":"IF($C67<>\"\",SUM('Forecasts Cardiovascular:Forecasts Other'!P67),\"\")","v":5.7489914166023882E-3},{"$f":"IF($C67<>\"\",SUM('Forecasts Cardiovascular:Forecasts Other'!Q67),\"\")","v":7.5464263651158457E-3},{"$f":"IF($C67<>\"\",SUM('Forecasts Cardiovascular:Forecasts Other'!R67),\"\")","v":1.0873416544648525E-2},{"$f":"IF($C67<>\"\",SUM('Forecasts Cardiovascular:Forecasts Other'!S67),\"\")","v":1.7643174527223492E-2},{"$f":"IF($C67<>\"\",SUM('Forecasts Cardiovascular:Forecasts Other'!T67),\"\")","v":2.9068857520108696E-2},{"$f":"IF($C67<>\"\",SUM('Forecasts Cardiovascular:Forecasts Other'!U67),\"\")","v":5.0239089282791707E-2},{"$f":"IF($C67<>\"\",SUM('Forecasts Cardiovascular:Forecasts Other'!V67),\"\")","v":8.7797770686327117E-2},{"$f":"IF($C67<>\"\",SUM('Forecasts Cardiovascular:Forecasts Other'!W67),\"\")","v":0.15903534558870464},{"$f":"IF($C67<>\"\",SUM('Forecasts Cardiovascular:Forecasts Other'!X67),\"\")","v":0.29463506418749719}]
[null,null,2026,{"$f":"IF($C68<>\"\",SUM('Forecasts Cardiovascular:Forecasts Other'!D68),\"\")","v":4.6367790376678686E-3},{"$f":"IF($C68<>\"\",SUM('Forecasts Cardiovascular:Forecasts Other'!E68),\"\")","v":2.1582484520079616E-4},{"$f":"IF($C68<>\"\",SUM('Forecasts Cardiovascular:Forecasts Other'!F68),\"\")","v":1.0511953544954661E-4},{"$f":"IF($C68<>\"\",SUM('Forecasts Cardiovascular:Forecasts Other'!G68),\"\")","v":1.1993918140653649E-4},{"$f":"IF($C68<>\"\",SUM('Forecasts Cardiovascular:Forecasts Other'!H68),\"\")","v":2.9753278970120925E-4},{"$f":"IF($C68<>\"\",SUM('Forecasts Cardiovascular:Forecasts Other'!I68),\"\")","v":6.1871859459719741E-4},{"$f":"IF($C68<>\"\",SUM('Forecasts Cardiovascular:Forecasts Other'!J68),\"\")","v":9.5075364983950841E-4},{"$f":"IF($C68<>\"\",SUM('Forecasts Cardiovascular:Forecasts Other'!K68),\"\")","v":1.1843415012315669E-3},{"$f":"IF($C68<>\"\",SUM('Forecasts Cardiovascular:Forecasts Other'!L68),\"\")","v":1.2746082027271137E-3},{"$f":"IF($C68<>\"\",SUM('Forecasts Cardiovascular:Forecasts Other'!M68),\"\")","v":1.6536614043782274E-3},{"$f":"IF($C68<>\"\",SUM('Forecasts Cardiovascular:Forecasts Other'!N68),\"\")","v":2.6073873074148918E-3},{"$f":"IF($C68<>\"\",SUM('Forecasts Cardiovascular:Forecasts Other'!O68),\"\")","v":4.2508114871191022E-3},{"$f":"IF($C68<>\"\",SUM('Forecasts Cardiovascular:Forecasts Other'!P68),\"\")","v":5.7855802034787341E-3},{"$f":"IF($C68<>\"\",SUM('Forecasts Cardiovascular:Forecasts Other'!Q68),\"\")","v":7.5158000385953444E-3},{"$f":"IF($C68<>\"\",SUM('Forecasts Cardiovascular:Forecasts Other'!R68),\"\")","v":1.079831732856589E-2},{"$f":"IF($C68<>\"\",SUM('Forecasts Cardiovascular:Forecasts Other'!S68),\"\")","v":1.7536281824918738E-2},{"$f":"IF($C68<>\"\",SUM('Forecasts Cardiovascular:Forecasts Other'!T68),\"\")","v":2.8942704854396224E-2},{"$f":"IF($C68<>\"\",SUM('Forecasts Cardiovascular:Forecasts Other'!U68),\"\")","v":5.0048763039408091E-2},{"$f":"IF($C68<>\"\",SUM('Forecasts Cardiovascular:Forecasts Other'!V68),\"\")","v":8.7537172501571642E-2},{"$f":"IF($C68<>\"\",SUM('Forecasts Cardiovascular:Forecasts Other'!W68),\"\")","v":0.15887147928018272},{"$f":"IF($C68<>\"\",SUM('Forecasts Cardiovascular:Forecasts Other'!X68),\"\")","v":0.29504182087506087}]
[null,null,"",{"$f":"IF($C69<>\"\",SUM('Forecasts Cardiovascular:Forecasts Other'!D69),\"\")","v":""},{"$f":"IF($C69<>\"\",SUM('Forecasts Cardiovascular:Forecasts Other'!E69),\"\")","v":""},{"$f":"IF($C69<>\"\",SUM('Forecasts Cardiovascular:Forecasts Other'!F69),\"\")","v":""},{"$f":"IF($C69<>\"\",SUM('Forecasts Cardiovascular:Forecasts Other'!G69),\"\")","v":""},{"$f":"IF($C69<>\"\",SUM('Forecasts Cardiovascular:Forecasts Other'!H69),\"\")","v":""},{"$f":"IF($C69<>\"\",SUM('Forecasts Cardiovascular:Forecasts Other'!I69),\"\")","v":""},{"$f":"IF($C69<>\"\",SUM('Forecasts Cardiovascular:Forecasts Other'!J69),\"\")","v":""},{"$f":"IF($C69<>\"\",SUM('Forecasts Cardiovascular:Forecasts Other'!K69),\"\")","v":""},{"$f":"IF($C69<>\"\",SUM('Forecasts Cardiovascular:Forecasts Other'!L69),\"\")","v":""},{"$f":"IF($C69<>\"\",SUM('Forecasts Cardiovascular:Forecasts Other'!M69),\"\")","v":""},{"$f":"IF($C69<>\"\",SUM('Forecasts Cardiovascular:Forecasts Other'!N69),\"\")","v":""},{"$f":"IF($C69<>\"\",SUM('Forecasts Cardiovascular:Forecasts Other'!O69),\"\")","v":""},{"$f":"IF($C69<>\"\",SUM('Forecasts Cardiovascular:Forecasts Other'!P69),\"\")","v":""},{"$f":"IF($C69<>\"\",SUM('Forecasts Cardiovascular:Forecasts Other'!Q69),\"\")","v":""},{"$f":"IF($C69<>\"\",SUM('Forecasts Cardiovascular:Forecasts Other'!R69),\"\")","v":""},{"$f":"IF($C69<>\"\",SUM('Forecasts Cardiovascular:Forecasts Other'!S69),\"\")","v":""},{"$f":"IF($C69<>\"\",SUM('Forecasts Cardiovascular:Forecasts Other'!T69),\"\")","v":""},{"$f":"IF($C69<>\"\",SUM('Forecasts Cardiovascular:Forecasts Other'!U69),\"\")","v":""},{"$f":"IF($C69<>\"\",SUM('Forecasts Cardiovascular:Forecasts Other'!V69),\"\")","v":""},{"$f":"IF($C69<>\"\",SUM('Forecasts Cardiovascular:Forecasts Other'!W69),\"\")","v":""},{"$f":"IF($C69<>\"\",SUM('Forecasts Cardiovascular:Forecasts Other'!X69),\"\")","v":""}]
[null,null,"",{"$f":"IF($C70<>\"\",SUM('Forecasts Cardiovascular:Forecasts Other'!D70),\"\")","v":""},{"$f":"IF($C70<>\"\",SUM('Forecasts Cardiovascular:Forecasts Other'!E70),\"\")","v":""},{"$f":"IF($C70<>\"\",SUM('Forecasts Cardiovascular:Forecasts Other'!F70),\"\")","v":""},{"$f":"IF($C70<>\"\",SUM('Forecasts Cardiovascular:Forecasts Other'!G70),\"\")","v":""},{"$f":"IF($C70<>\"\",SUM('Forecasts Cardiovascular:Forecasts Other'!H70),\"\")","v":""},{"$f":"IF($C70<>\"\",SUM('Forecasts Cardiovascular:Forecasts Other'!I70),\"\")","v":""},{"$f":"IF($C70<>\"\",SUM('Forecasts Cardiovascular:Forecasts Other'!J70),\"\")","v":""},{"$f":"IF($C70<>\"\",SUM('Forecasts Cardiovascular:Forecasts Other'!K70),\"\")","v":""},{"$f":"IF($C70<>\"\",SUM('Forecasts Cardiovascular:Forecasts Other'!L70),\"\")","v":""},{"$f":"IF($C70<>\"\",SUM('Forecasts Cardiovascular:Forecasts Other'!M70),\"\")","v":""},{"$f":"IF($C70<>\"\",SUM('Forecasts Cardiovascular:Forecasts Other'!N70),\"\")","v":""},{"$f":"IF($C70<>\"\",SUM('Forecasts Cardiovascular:Forecasts Other'!O70),\"\")","v":""},{"$f":"IF($C70<>\"\",SUM('Forecasts Cardiovascular:Forecasts Other'!P70),\"\")","v":""},{"$f":"IF($C70<>\"\",SUM('Forecasts Cardiovascular:Forecasts Other'!Q70),\"\")","v":""},{"$f":"IF($C70<>\"\",SUM('Forecasts Cardiovascular:Forecasts Other'!R70),\"\")","v":""},{"$f":"IF($C70<>\"\",SUM('Forecasts Cardiovascular:Forecasts Other'!S70),\"\")","v":""},{"$f":"IF($C70<>\"\",SUM('Forecasts Cardiovascular:Forecasts Other'!T70),\"\")","v":""},{"$f":"IF($C70<>\"\",SUM('Forecasts Cardiovascular:Forecasts Other'!U70),\"\")","v":""},{"$f":"IF($C70<>\"\",SUM('Forecasts Cardiovascular:Forecasts Other'!V70),\"\")","v":""},{"$f":"IF($C70<>\"\",SUM('Forecasts Cardiovascular:Forecasts Other'!W70),\"\")","v":""},{"$f":"IF($C70<>\"\",SUM('Forecasts Cardiovascular:Forecasts Other'!X70),\"\")","v":""}]
[null,null,"",{"$f":"IF($C71<>\"\",SUM('Forecasts Cardiovascular:Forecasts Other'!D71),\"\")","v":""},{"$f":"IF($C71<>\"\",SUM('Forecasts Cardiovascular:Forecasts Other'!E71),\"\")","v":""},{"$f":"IF($C71<>\"\",SUM('Forecasts Cardiovascular:Forecasts Other'!F71),\"\")","v":""},{"$f":"IF($C71<>\"\",SUM('Forecasts Cardiovascular:Forecasts Other'!G71),\"\")","v":""},{"$f":"IF($C71<>\"\",SUM('Forecasts Cardiovascular:Forecasts Other'!H71),\"\")","v":""},{"$f":"IF($C71<>\"\",SUM('Forecasts Cardiovascular:Forecasts Other'!I71),\"\")","v":""},{"$f":"IF($C71<>\"\",SUM('Forecasts Cardiovascular:Forecasts Other'!J71),\"\")","v":""},{"$f":"IF($C71<>\"\",SUM('Forecasts Cardiovascular:Forecasts Other'!K71),\"\")","v":""},{"$f":"IF($C71<>\"\",SUM('Forecasts Cardiovascular:Forecasts Other'!L71),\"\")","v":""},{"$f":"IF($C71<>\"\",SUM('Forecasts Cardiovascular:Forecasts Other'!M71),\"\")","v":""},{"$f":"IF($C71<>\"\",SUM('Forecasts Cardiovascular:Forecasts Other'!N71),\"\")","v":""},{"$f":"IF($C71<>\"\",SUM('Forecasts Cardiovascular:Forecasts Other'!O71),\"\")","v":""},{"$f":"IF($C71<>\"\",SUM('Forecasts Cardiovascular:Forecasts Other'!P71),\"\")","v":""},{"$f":"IF($C71<>\"\",SUM('Forecasts Cardiovascular:Forecasts Other'!Q71),\"\")","v":""},{"$f":"IF($C71<>\"\",SUM('Forecasts Cardiovascular:Forecasts Other'!R71),\"\")","v":""},{"$f":"IF($C71<>\"\",SUM('Forecasts Cardiovascular:Forecasts Other'!S71),\"\")","v":""},{"$f":"IF($C71<>\"\",SUM('Forecasts Cardiovascular:Forecasts Other'!T71),\"\")","v":""},{"$f":"IF($C71<>\"\",SUM('Forecasts Cardiovascular:Forecasts Other'!U71),\"\")","v":""},{"$f":"IF($C71<>\"\",SUM('Forecasts Cardiovascular:Forecasts Other'!V71),\"\")","v":""},{"$f":"IF($C71<>\"\",SUM('Forecasts Cardiovascular:Forecasts Other'!W71),\"\")","v":""},{"$f":"IF($C71<>\"\",SUM('Forecasts Cardiovascular:Forecasts Other'!X71),\"\")","v":""}]
[null,null,"",{"$f":"IF($C72<>\"\",SUM('Forecasts Cardiovascular:Forecasts Other'!D72),\"\")","v":""},{"$f":"IF($C72<>\"\",SUM('Forecasts Cardiovascular:Forecasts Other'!E72),\"\")","v":""},{"$f":"IF($C72<>\"\",SUM('Forecasts Cardiovascular:Forecasts Other'!F72),\"\")","v":""},{"$f":"IF($C72<>\"\",SUM('Forecasts Cardiovascular:Forecasts Other'!G72),\"\")","v":""},{"$f":"IF($C72<>\"\",SUM('Forecasts Cardiovascular:Forecasts Other'!H72),\"\")","v":""},{"$f":"IF($C72<>\"\",SUM('Forecasts Cardiovascular:Forecasts Other'!I72),\"\")","v":""},{"$f":"IF($C72<>\"\",SUM('Forecasts Cardiovascular:Forecasts Other'!J72),\"\")","v":""},{"$f":"IF($C72<>\"\",SUM('Forecasts Cardiovascular:Forecasts Other'!K72),\"\")","v":""},{"$f":"IF($C72<>\"\",SUM('Forecasts Cardiovascular:Forecasts Other'!L72),\"\")","v":""},{"$f":"IF($C72<>\"\",SUM('Forecasts Cardiovascular:Forecasts Other'!M72),\"\")","v":""},{"$f":"IF($C72<>\"\",SUM('Forecasts Cardiovascular:Forecasts Other'!N72),\"\")","v":""},{"$f":"IF($C72<>\"\",SUM('Forecasts Cardiovascular:Forecasts Other'!O72),\"\")","v":""},{"$f":"IF($C72<>\"\",SUM('Forecasts Cardiovascular:Forecasts Other'!P72),\"\")","v":""},{"$f":"IF($C72<>\"\",SUM('Forecasts Cardiovascular:Forecasts Other'!Q72),\"\")","v":""},{"$f":"IF($C72<>\"\",SUM('Forecasts Cardiovascular:Forecasts Other'!R72),\"\")","v":""},{"$f":"IF($C72<>\"\",SUM('Forecasts Cardiovascular:Forecasts Other'!S72),\"\")","v":""},{"$f":"IF($C72<>\"\",SUM('Forecasts Cardiovascular:Forecasts Other'!T72),\"\")","v":""},{"$f":"IF($C72<>\"\",SUM('Forecasts Cardiovascular:Forecasts Other'!U72),\"\")","v":""},{"$f":"IF($C72<>\"\",SUM('Forecasts Cardiovascular:Forecasts Other'!V72),\"\")","v":""},{"$f":"IF($C72<>\"\",SUM('Forecasts Cardiovascular:Forecasts Other'!W72),\"\")","v":""},{"$f":"IF($C72<>\"\",SUM('Forecasts Cardiovascular:Forecasts Other'!X72),\"\")","v":""}]
[null,null,"",{"$f":"IF($C73<>\"\",SUM('Forecasts Cardiovascular:Forecasts Other'!D73),\"\")","v":""},{"$f":"IF($C73<>\"\",SUM('Forecasts Cardiovascular:Forecasts Other'!E73),\"\")","v":""},{"$f":"IF($C73<>\"\",SUM('Forecasts Cardiovascular:Forecasts Other'!F73),\"\")","v":""},{"$f":"IF($C73<>\"\",SUM('Forecasts Cardiovascular:Forecasts Other'!G73),\"\")","v":""},{"$f":"IF($C73<>\"\",SUM('Forecasts Cardiovascular:Forecasts Other'!H73),\"\")","v":""},{"$f":"IF($C73<>\"\",SUM('Forecasts Cardiovascular:Forecasts Other'!I73),\"\")","v":""},{"$f":"IF($C73<>\"\",SUM('Forecasts Cardiovascular:Forecasts Other'!J73),\"\")","v":""},{"$f":"IF($C73<>\"\",SUM('Forecasts Cardiovascular:Forecasts Other'!K73),\"\")","v":""},{"$f":"IF($C73<>\"\",SUM('Forecasts Cardiovascular:Forecasts Other'!L73),\"\")","v":""},{"$f":"IF($C73<>\"\",SUM('Forecasts Cardiovascular:Forecasts Other'!M73),\"\")","v":""},{"$f":"IF($C73<>\"\",SUM('Forecasts Cardiovascular:Forecasts Other'!N73),\"\")","v":""},{"$f":"IF($C73<>\"\",SUM('Forecasts Cardiovascular:Forecasts Other'!O73),\"\")","v":""},{"$f":"IF($C73<>\"\",SUM('Forecasts Cardiovascular:Forecasts Other'!P73),\"\")","v":""},{"$f":"IF($C73<>\"\",SUM('Forecasts Cardiovascular:Forecasts Other'!Q73),\"\")","v":""},{"$f":"IF($C73<>\"\",SUM('Forecasts Cardiovascular:Forecasts Other'!R73),\"\")","v":""},{"$f":"IF($C73<>\"\",SUM('Forecasts Cardiovascular:Forecasts Other'!S73),\"\")","v":""},{"$f":"IF($C73<>\"\",SUM('Forecasts Cardiovascular:Forecasts Other'!T73),\"\")","v":""},{"$f":"IF($C73<>\"\",SUM('Forecasts Cardiovascular:Forecasts Other'!U73),\"\")","v":""},{"$f":"IF($C73<>\"\",SUM('Forecasts Cardiovascular:Forecasts Other'!V73),\"\")","v":""},{"$f":"IF($C73<>\"\",SUM('Forecasts Cardiovascular:Forecasts Other'!W73),\"\")","v":""},{"$f":"IF($C73<>\"\",SUM('Forecasts Cardiovascular:Forecasts Other'!X73),\"\")","v":""}]
[null,null,"",{"$f":"IF($C74<>\"\",SUM('Forecasts Cardiovascular:Forecasts Other'!D74),\"\")","v":""},{"$f":"IF($C74<>\"\",SUM('Forecasts Cardiovascular:Forecasts Other'!E74),\"\")","v":""},{"$f":"IF($C74<>\"\",SUM('Forecasts Cardiovascular:Forecasts Other'!F74),\"\")","v":""},{"$f":"IF($C74<>\"\",SUM('Forecasts Cardiovascular:Forecasts Other'!G74),\"\")","v":""},{"$f":"IF($C74<>\"\",SUM('Forecasts Cardiovascular:Forecasts Other'!H74),\"\")","v":""},{"$f":"IF($C74<>\"\",SUM('Forecasts Cardiovascular:Forecasts Other'!I74),\"\")","v":""},{"$f":"IF($C74<>\"\",SUM('Forecasts Cardiovascular:Forecasts Other'!J74),\"\")","v":""},{"$f":"IF($C74<>\"\",SUM('Forecasts Cardiovascular:Forecasts Other'!K74),\"\")","v":""},{"$f":"IF($C74<>\"\",SUM('Forecasts Cardiovascular:Forecasts Other'!L74),\"\")","v":""},{"$f":"IF($C74<>\"\",SUM('Forecasts Cardiovascular:Forecasts Other'!M74),\"\")","v":""},{"$f":"IF($C74<>\"\",SUM('Forecasts Cardiovascular:Forecasts Other'!N74),\"\")","v":""},{"$f":"IF($C74<>\"\",SUM('Forecasts Cardiovascular:Forecasts Other'!O74),\"\")","v":""},{"$f":"IF($C74<>\"\",SUM('Forecasts Cardiovascular:Forecasts Other'!P74),\"\")","v":""},{"$f":"IF($C74<>\"\",SUM('Forecasts Cardiovascular:Forecasts Other'!Q74),\"\")","v":""},{"$f":"IF($C74<>\"\",SUM('Forecasts Cardiovascular:Forecasts Other'!R74),\"\")","v":""},{"$f":"IF($C74<>\"\",SUM('Forecasts Cardiovascular:Forecasts Other'!S74),\"\")","v":""},{"$f":"IF($C74<>\"\",SUM('Forecasts Cardiovascular:Forecasts Other'!T74),\"\")","v":""},{"$f":"IF($C74<>\"\",SUM('Forecasts Cardiovascular:Forecasts Other'!U74),\"\")","v":""},{"$f":"IF($C74<>\"\",SUM('Forecasts Cardiovascular:Forecasts Other'!V74),\"\")","v":""},{"$f":"IF($C74<>\"\",SUM('Forecasts Cardiovascular:Forecasts Other'!W74),\"\")","v":""},{"$f":"IF($C74<>\"\",SUM('Forecasts Cardiovascular:Forecasts Other'!X74),\"\")","v":""}]
[null,null,"",{"$f":"IF($C75<>\"\",SUM('Forecasts Cardiovascular:Forecasts Other'!D75),\"\")","v":""},{"$f":"IF($C75<>\"\",SUM('Forecasts Cardiovascular:Forecasts Other'!E75),\"\")","v":""},{"$f":"IF($C75<>\"\",SUM('Forecasts Cardiovascular:Forecasts Other'!F75),\"\")","v":""},{"$f":"IF($C75<>\"\",SUM('Forecasts Cardiovascular:Forecasts Other'!G75),\"\")","v":""},{"$f":"IF($C75<>\"\",SUM('Forecasts Cardiovascular:Forecasts Other'!H75),\"\")","v":""},{"$f":"IF($C75<>\"\",SUM('Forecasts Cardiovascular:Forecasts Other'!I75),\"\")","v":""},{"$f":"IF($C75<>\"\",SUM('Forecasts Cardiovascular:Forecasts Other'!J75),\"\")","v":""},{"$f":"IF($C75<>\"\",SUM('Forecasts Cardiovascular:Forecasts Other'!K75),\"\")","v":""},{"$f":"IF($C75<>\"\",SUM('Forecasts Cardiovascular:Forecasts Other'!L75),\"\")","v":""},{"$f":"IF($C75<>\"\",SUM('Forecasts Cardiovascular:Forecasts Other'!M75),\"\")","v":""},{"$f":"IF($C75<>\"\",SUM('Forecasts Cardiovascular:Forecasts Other'!N75),\"\")","v":""},{"$f":"IF($C75<>\"\",SUM('Forecasts Cardiovascular:Forecasts Other'!O75),\"\")","v":""},{"$f":"IF($C75<>\"\",SUM('Forecasts Cardiovascular:Forecasts Other'!P75),\"\")","v":""},{"$f":"IF($C75<>\"\",SUM('Forecasts Cardiovascular:Forecasts Other'!Q75),\"\")","v":""},{"$f":"IF($C75<>\"\",SUM('Forecasts Cardiovascular:Forecasts Other'!R75),\"\")","v":""},{"$f":"IF($C75<>\"\",SUM('Forecasts Cardiovascular:Forecasts Other'!S75),\"\")","v":""},{"$f":"IF($C75<>\"\",SUM('Forecasts Cardiovascular:Forecasts Other'!T75),\"\")","v":""},{"$f":"IF($C75<>\"\",SUM('Forecasts Cardiovascular:Forecasts Other'!U75),\"\")","v":""},{"$f":"IF($C75<>\"\",SUM('Forecasts Cardiovascular:Forecasts Other'!V75),\"\")","v":""},{"$f":"IF($C75<>\"\",SUM('Forecasts Cardiovascular:Forecasts Other'!W75),\"\")","v":""},{"$f":"IF($C75<>\"\",SUM('Forecasts Cardiovascular:Forecasts Other'!X75),\"\")","v":""}]
[null,null,"",{"$f":"IF($C76<>\"\",SUM('Forecasts Cardiovascular:Forecasts Other'!D76),\"\")","v":""},{"$f":"IF($C76<>\"\",SUM('Forecasts Cardiovascular:Forecasts Other'!E76),\"\")","v":""},{"$f":"IF($C76<>\"\",SUM('Forecasts Cardiovascular:Forecasts Other'!F76),\"\")","v":""},{"$f":"IF($C76<>\"\",SUM('Forecasts Cardiovascular:Forecasts Other'!G76),\"\")","v":""},{"$f":"IF($C76<>\"\",SUM('Forecasts Cardiovascular:Forecasts Other'!H76),\"\")","v":""},{"$f":"IF($C76<>\"\",SUM('Forecasts Cardiovascular:Forecasts Other'!I76),\"\")","v":""},{"$f":"IF($C76<>\"\",SUM('Forecasts Cardiovascular:Forecasts Other'!J76),\"\")","v":""},{"$f":"IF($C76<>\"\",SUM('Forecasts Cardiovascular:Forecasts Other'!K76),\"\")","v":""},{"$f":"IF($C76<>\"\",SUM('Forecasts Cardiovascular:Forecasts Other'!L76),\"\")","v":""},{"$f":"IF($C76<>\"\",SUM('Forecasts Cardiovascular:Forecasts Other'!M76),\"\")","v":""},{"$f":"IF($C76<>\"\",SUM('Forecasts Cardiovascular:Forecasts Other'!N76),\"\")","v":""},{"$f":"IF($C76<>\"\",SUM('Forecasts Cardiovascular:Forecasts Other'!O76),\"\")","v":""},{"$f":"IF($C76<>\"\",SUM('Forecasts Cardiovascular:Forecasts Other'!P76),\"\")","v":""},{"$f":"IF($C76<>\"\",SUM('Forecasts Cardiovascular:Forecasts Other'!Q76),\"\")","v":""},{"$f":"IF($C76<>\"\",SUM('Forecasts Cardiovascular:Forecasts Other'!R76),\"\")","v":""},{"$f":"IF($C76<>\"\",SUM('Forecasts Cardiovascular:Forecasts Other'!S76),\"\")","v":""},{"$f":"IF($C76<>\"\",SUM('Forecasts Cardiovascular:Forecasts Other'!T76),\"\")","v":""},{"$f":"IF($C76<>\"\",SUM('Forecasts Cardiovascular:Forecasts Other'!U76),\"\")","v":""},{"$f":"IF($C76<>\"\",SUM('Forecasts Cardiovascular:Forecasts Other'!V76),\"\")","v":""},{"$f":"IF($C76<>\"\",SUM('Forecasts Cardiovascular:Forecasts Other'!W76),\"\")","v":""},{"$f":"IF($C76<>\"\",SUM('Forecasts Cardiovascular:Forecasts Other'!X76),\"\")","v":""}]
[null,null,"",{"$f":"IF($C77<>\"\",SUM('Forecasts Cardiovascular:Forecasts Other'!D77),\"\")","v":""},{"$f":"IF($C77<>\"\",SUM('Forecasts Cardiovascular:Forecasts Other'!E77),\"\")","v":""},{"$f":"IF($C77<>\"\",SUM('Forecasts Cardiovascular:Forecasts Other'!F77),\"\")","v":""},{"$f":"IF($C77<>\"\",SUM('Forecasts Cardiovascular:Forecasts Other'!G77),\"\")","v":""},{"$f":"IF($C77<>\"\",SUM('Forecasts Cardiovascular:Forecasts Other'!H77),\"\")","v":""},{"$f":"IF($C77<>\"\",SUM('Forecasts Cardiovascular:Forecasts Other'!I77),\"\")","v":""},{"$f":"IF($C77<>\"\",SUM('Forecasts Cardiovascular:Forecasts Other'!J77),\"\")","v":""},{"$f":"IF($C77<>\"\",SUM('Forecasts Cardiovascular:Forecasts Other'!K77),\"\")","v":""},{"$f":"IF($C77<>\"\",SUM('Forecasts Cardiovascular:Forecasts Other'!L77),\"\")","v":""},{"$f":"IF($C77<>\"\",SUM('Forecasts Cardiovascular:Forecasts Other'!M77),\"\")","v":""},{"$f":"IF($C77<>\"\",SUM('Forecasts Cardiovascular:Forecasts Other'!N77),\"\")","v":""},{"$f":"IF($C77<>\"\",SUM('Forecasts Cardiovascular:Forecasts Other'!O77),\"\")","v":""},{"$f":"IF($C77<>\"\",SUM('Forecasts Cardiovascular:Forecasts Other'!P77),\"\")","v":""},{"$f":"IF($C77<>\"\",SUM('Forecasts Cardiovascular:Forecasts Other'!Q77),\"\")","v":""},{"$f":"IF($C77<>\"\",SUM('Forecasts Cardiovascular:Forecasts Other'!R77),\"\")","v":""},{"$f":"IF($C77<>\"\",SUM('Forecasts Cardiovascular:Forecasts Other'!S77),\"\")","v":""},{"$f":"IF($C77<>\"\",SUM('Forecasts Cardiovascular:Forecasts Other'!T77),\"\")","v":""},{"$f":"IF($C77<>\"\",SUM('Forecasts Cardiovascular:Forecasts Other'!U77),\"\")","v":""},{"$f":"IF($C77<>\"\",SUM('Forecasts Cardiovascular:Forecasts Other'!V77),\"\")","v":""},{"$f":"IF($C77<>\"\",SUM('Forecasts Cardiovascular:Forecasts Other'!W77),\"\")","v":""},{"$f":"IF($C77<>\"\",SUM('Forecasts Cardiovascular:Forecasts Other'!X77),\"\")","v":""}]
[null,null,"",{"$f":"IF($C78<>\"\",SUM('Forecasts Cardiovascular:Forecasts Other'!D78),\"\")","v":""},{"$f":"IF($C78<>\"\",SUM('Forecasts Cardiovascular:Forecasts Other'!E78),\"\")","v":""},{"$f":"IF($C78<>\"\",SUM('Forecasts Cardiovascular:Forecasts Other'!F78),\"\")","v":""},{"$f":"IF($C78<>\"\",SUM('Forecasts Cardiovascular:Forecasts Other'!G78),\"\")","v":""},{"$f":"IF($C78<>\"\",SUM('Forecasts Cardiovascular:Forecasts Other'!H78),\"\")","v":""},{"$f":"IF($C78<>\"\",SUM('Forecasts Cardiovascular:Forecasts Other'!I78),\"\")","v":""},{"$f":"IF($C78<>\"\",SUM('Forecasts Cardiovascular:Forecasts Other'!J78),\"\")","v":""},{"$f":"IF($C78<>\"\",SUM('Forecasts Cardiovascular:Forecasts Other'!K78),\"\")","v":""},{"$f":"IF($C78<>\"\",SUM('Forecasts Cardiovascular:Forecasts Other'!L78),\"\")","v":""},{"$f":"IF($C78<>\"\",SUM('Forecasts Cardiovascular:Forecasts Other'!M78),\"\")","v":""},{"$f":"IF($C78<>\"\",SUM('Forecasts Cardiovascular:Forecasts Other'!N78),\"\")","v":""},{"$f":"IF($C78<>\"\",SUM('Forecasts Cardiovascular:Forecasts Other'!O78),\"\")","v":""},{"$f":"IF($C78<>\"\",SUM('Forecasts Cardiovascular:Forecasts Other'!P78),\"\")","v":""},{"$f":"IF($C78<>\"\",SUM('Forecasts Cardiovascular:Forecasts Other'!Q78),\"\")","v":""},{"$f":"IF($C78<>\"\",SUM('Forecasts Cardiovascular:Forecasts Other'!R78),\"\")","v":""},{"$f":"IF($C78<>\"\",SUM('Forecasts Cardiovascular:Forecasts Other'!S78),\"\")","v":""},{"$f":"IF($C78<>\"\",SUM('Forecasts Cardiovascular:Forecasts Other'!T78),\"\")","v":""},{"$f":"IF($C78<>\"\",SUM('Forecasts Cardiovascular:Forecasts Other'!U78),\"\")","v":""},{"$f":"IF($C78<>\"\",SUM('Forecasts Cardiovascular:Forecasts Other'!V78),\"\")","v":""},{"$f":"IF($C78<>\"\",SUM('Forecasts Cardiovascular:Forecasts Other'!W78),\"\")","v":""},{"$f":"IF($C78<>\"\",SUM('Forecasts Cardiovascular:Forecasts Other'!X78),\"\")","v":""}]
[null,null,"",{"$f":"IF($C79<>\"\",SUM('Forecasts Cardiovascular:Forecasts Other'!D79),\"\")","v":""},{"$f":"IF($C79<>\"\",SUM('Forecasts Cardiovascular:Forecasts Other'!E79),\"\")","v":""},{"$f":"IF($C79<>\"\",SUM('Forecasts Cardiovascular:Forecasts Other'!F79),\"\")","v":""},{"$f":"IF($C79<>\"\",SUM('Forecasts Cardiovascular:Forecasts Other'!G79),\"\")","v":""},{"$f":"IF($C79<>\"\",SUM('Forecasts Cardiovascular:Forecasts Other'!H79),\"\")","v":""},{"$f":"IF($C79<>\"\",SUM('Forecasts Cardiovascular:Forecasts Other'!I79),\"\")","v":""},{"$f":"IF($C79<>\"\",SUM('Forecasts Cardiovascular:Forecasts Other'!J79),\"\")","v":""},{"$f":"IF($C79<>\"\",SUM('Forecasts Cardiovascular:Forecasts Other'!K79),\"\")","v":""},{"$f":"IF($C79<>\"\",SUM('Forecasts Cardiovascular:Forecasts Other'!L79),\"\")","v":""},{"$f":"IF($C79<>\"\",SUM('Forecasts Cardiovascular:Forecasts Other'!M79),\"\")","v":""},{"$f":"IF($C79<>\"\",SUM('Forecasts Cardiovascular:Forecasts Other'!N79),\"\")","v":""},{"$f":"IF($C79<>\"\",SUM('Forecasts Cardiovascular:Forecasts Other'!O79),\"\")","v":""},{"$f":"IF($C79<>\"\",SUM('Forecasts Cardiovascular:Forecasts Other'!P79),\"\")","v":""},{"$f":"IF($C79<>\"\",SUM('Forecasts Cardiovascular:Forecasts Other'!Q79),\"\")","v":""},{"$f":"IF($C79<>\"\",SUM('Forecasts Cardiovascular:Forecasts Other'!R79),\"\")","v":""},{"$f":"IF($C79<>\"\",SUM('Forecasts Cardiovascular:Forecasts Other'!S79),\"\")","v":""},{"$f":"IF($C79<>\"\",SUM('Forecasts Cardiovascular:Forecasts Other'!T79),\"\")","v":""},{"$f":"IF($C79<>\"\",SUM('Forecasts Cardiovascular:Forecasts Other'!U79),\"\")","v":""},{"$f":"IF($C79<>\"\",SUM('Forecasts Cardiovascular:Forecasts Other'!V79),\"\")","v":""},{"$f":"IF($C79<>\"\",SUM('Forecasts Cardiovascular:Forecasts Other'!W79),\"\")","v":""},{"$f":"IF($C79<>\"\",SUM('Forecasts Cardiovascular:Forecasts Other'!X79),\"\")","v":""}]
[null,null,"",{"$f":"IF($C80<>\"\",SUM('Forecasts Cardiovascular:Forecasts Other'!D80),\"\")","v":""},{"$f":"IF($C80<>\"\",SUM('Forecasts Cardiovascular:Forecasts Other'!E80),\"\")","v":""},{"$f":"IF($C80<>\"\",SUM('Forecasts Cardiovascular:Forecasts Other'!F80),\"\")","v":""},{"$f":"IF($C80<>\"\",SUM('Forecasts Cardiovascular:Forecasts Other'!G80),\"\")","v":""},{"$f":"IF($C80<>\"\",SUM('Forecasts Cardiovascular:Forecasts Other'!H80),\"\")","v":""},{"$f":"IF($C80<>\"\",SUM('Forecasts Cardiovascular:Forecasts Other'!I80),\"\")","v":""},{"$f":"IF($C80<>\"\",SUM('Forecasts Cardiovascular:Forecasts Other'!J80),\"\")","v":""},{"$f":"IF($C80<>\"\",SUM('Forecasts Cardiovascular:Forecasts Other'!K80),\"\")","v":""},{"$f":"IF($C80<>\"\",SUM('Forecasts Cardiovascular:Forecasts Other'!L80),\"\")","v":""},{"$f":"IF($C80<>\"\",SUM('Forecasts Cardiovascular:Forecasts Other'!M80),\"\")","v":""},{"$f":"IF($C80<>\"\",SUM('Forecasts Cardiovascular:Forecasts Other'!N80),\"\")","v":""},{"$f":"IF($C80<>\"\",SUM('Forecasts Cardiovascular:Forecasts Other'!O80),\"\")","v":""},{"$f":"IF($C80<>\"\",SUM('Forecasts Cardiovascular:Forecasts Other'!P80),\"\")","v":""},{"$f":"IF($C80<>\"\",SUM('Forecasts Cardiovascular:Forecasts Other'!Q80),\"\")","v":""},{"$f":"IF($C80<>\"\",SUM('Forecasts Cardiovascular:Forecasts Other'!R80),\"\")","v":""},{"$f":"IF($C80<>\"\",SUM('Forecasts Cardiovascular:Forecasts Other'!S80),\"\")","v":""},{"$f":"IF($C80<>\"\",SUM('Forecasts Cardiovascular:Forecasts Other'!T80),\"\")","v":""},{"$f":"IF($C80<>\"\",SUM('Forecasts Cardiovascular:Forecasts Other'!U80),\"\")","v":""},{"$f":"IF($C80<>\"\",SUM('Forecasts Cardiovascular:Forecasts Other'!V80),\"\")","v":""},{"$f":"IF($C80<>\"\",SUM('Forecasts Cardiovascular:Forecasts Other'!W80),\"\")","v":""},{"$f":"IF($C80<>\"\",SUM('Forecasts Cardiovascular:Forecasts Other'!X80),\"\")","v":""}]
[null,null,"",{"$f":"IF($C81<>\"\",SUM('Forecasts Cardiovascular:Forecasts Other'!D81),\"\")","v":""},{"$f":"IF($C81<>\"\",SUM('Forecasts Cardiovascular:Forecasts Other'!E81),\"\")","v":""},{"$f":"IF($C81<>\"\",SUM('Forecasts Cardiovascular:Forecasts Other'!F81),\"\")","v":""},{"$f":"IF($C81<>\"\",SUM('Forecasts Cardiovascular:Forecasts Other'!G81),\"\")","v":""},{"$f":"IF($C81<>\"\",SUM('Forecasts Cardiovascular:Forecasts Other'!H81),\"\")","v":""},{"$f":"IF($C81<>\"\",SUM('Forecasts Cardiovascular:Forecasts Other'!I81),\"\")","v":""},{"$f":"IF($C81<>\"\",SUM('Forecasts Cardiovascular:Forecasts Other'!J81),\"\")","v":""},{"$f":"IF($C81<>\"\",SUM('Forecasts Cardiovascular:Forecasts Other'!K81),\"\")","v":""},{"$f":"IF($C81<>\"\",SUM('Forecasts Cardiovascular:Forecasts Other'!L81),\"\")","v":""},{"$f":"IF($C81<>\"\",SUM('Forecasts Cardiovascular:Forecasts Other'!M81),\"\")","v":""},{"$f":"IF($C81<>\"\",SUM('Forecasts Cardiovascular:Forecasts Other'!N81),\"\")","v":""},{"$f":"IF($C81<>\"\",SUM('Forecasts Cardiovascular:Forecasts Other'!O81),\"\")","v":""},{"$f":"IF($C81<>\"\",SUM('Forecasts Cardiovascular:Forecasts Other'!P81),\"\")","v":""},{"$f":"IF($C81<>\"\",SUM('Forecasts Cardiovascular:Forecasts Other'!Q81),\"\")","v":""},{"$f":"IF($C81<>\"\",SUM('Forecasts Cardiovascular:Forecasts Other'!R81),\"\")","v":""},{"$f":"IF($C81<>\"\",SUM('Forecasts Cardiovascular:Forecasts Other'!S81),\"\")","v":""},{"$f":"IF($C81<>\"\",SUM('Forecasts Cardiovascular:Forecasts Other'!T81),\"\")","v":""},{"$f":"IF($C81<>\"\",SUM('Forecasts Cardiovascular:Forecasts Other'!U81),\"\")","v":""},{"$f":"IF($C81<>\"\",SUM('Forecasts Cardiovascular:Forecasts Other'!V81),\"\")","v":""},{"$f":"IF($C81<>\"\",SUM('Forecasts Cardiovascular:Forecasts Other'!W81),\"\")","v":""},{"$f":"IF($C81<>\"\",SUM('Forecasts Cardiovascular:Forecasts Other'!X81),\"\")","v":""}]
[null,null,"",{"$f":"IF($C82<>\"\",SUM('Forecasts Cardiovascular:Forecasts Other'!D82),\"\")","v":""},{"$f":"IF($C82<>\"\",SUM('Forecasts Cardiovascular:Forecasts Other'!E82),\"\")","v":""},{"$f":"IF($C82<>\"\",SUM('Forecasts Cardiovascular:Forecasts Other'!F82),\"\")","v":""},{"$f":"IF($C82<>\"\",SUM('Forecasts Cardiovascular:Forecasts Other'!G82),\"\")","v":""},{"$f":"IF($C82<>\"\",SUM('Forecasts Cardiovascular:Forecasts Other'!H82),\"\")","v":""},{"$f":"IF($C82<>\"\",SUM('Forecasts Cardiovascular:Forecasts Other'!I82),\"\")","v":""},{"$f":"IF($C82<>\"\",SUM('Forecasts Cardiovascular:Forecasts Other'!J82),\"\")","v":""},{"$f":"IF($C82<>\"\",SUM('Forecasts Cardiovascular:Forecasts Other'!K82),\"\")","v":""},{"$f":"IF($C82<>\"\",SUM('Forecasts Cardiovascular:Forecasts Other'!L82),\"\")","v":""},{"$f":"IF($C82<>\"\",SUM('Forecasts Cardiovascular:Forecasts Other'!M82),\"\")","v":""},{"$f":"IF($C82<>\"\",SUM('Forecasts Cardiovascular:Forecasts Other'!N82),\"\")","v":""},{"$f":"IF($C82<>\"\",SUM('Forecasts Cardiovascular:Forecasts Other'!O82),\"\")","v":""},{"$f":"IF($C82<>\"\",SUM('Forecasts Cardiovascular:Forecasts Other'!P82),\"\")","v":""},{"$f":"IF($C82<>\"\",SUM('Forecasts Cardiovascular:Forecasts Other'!Q82),\"\")","v":""},{"$f":"IF($C82<>\"\",SUM('Forecasts Cardiovascular:Forecasts Other'!R82),\"\")","v":""},{"$f":"IF($C82<>\"\",SUM('Forecasts Cardiovascular:Forecasts Other'!S82),\"\")","v":""},{"$f":"IF($C82<>\"\",SUM('Forecasts Cardiovascular:Forecasts Other'!T82),\"\")","v":""},{"$f":"IF($C82<>\"\",SUM('Forecasts Cardiovascular:Forecasts Other'!U82),\"\")","v":""},{"$f":"IF($C82<>\"\",SUM('Forecasts Cardiovascular:Forecasts Other'!V82),\"\")","v":""},{"$f":"IF($C82<>\"\",SUM('Forecasts Cardiovascular:Forecasts Other'!W82),\"\")","v":""},{"$f":"IF($C82<>\"\",SUM('Forecasts Cardiovascular:Forecasts Other'!X82),\"\")","v":""}]
[null,null,"",{"$f":"IF($C83<>\"\",SUM('Forecasts Cardiovascular:Forecasts Other'!D83),\"\")","v":""},{"$f":"IF($C83<>\"\",SUM('Forecasts Cardiovascular:Forecasts Other'!E83),\"\")","v":""},{"$f":"IF($C83<>\"\",SUM('Forecasts Cardiovascular:Forecasts Other'!F83),\"\")","v":""},{"$f":"IF($C83<>\"\",SUM('Forecasts Cardiovascular:Forecasts Other'!G83),\"\")","v":""},{"$f":"IF($C83<>\"\",SUM('Forecasts Cardiovascular:Forecasts Other'!H83),\"\")","v":""},{"$f":"IF($C83<>\"\",SUM('Forecasts Cardiovascular:Forecasts Other'!I83),\"\")","v":""},{"$f":"IF($C83<>\"\",SUM('Forecasts Cardiovascular:Forecasts Other'!J83),\"\")","v":""},{"$f":"IF($C83<>\"\",SUM('Forecasts Cardiovascular:Forecasts Other'!K83),\"\")","v":""},{"$f":"IF($C83<>\"\",SUM('Forecasts Cardiovascular:Forecasts Other'!L83),\"\")","v":""},{"$f":"IF($C83<>\"\",SUM('Forecasts Cardiovascular:Forecasts Other'!M83),\"\")","v":""},{"$f":"IF($C83<>\"\",SUM('Forecasts Cardiovascular:Forecasts Other'!N83),\"\")","v":""},{"$f":"IF($C83<>\"\",SUM('Forecasts Cardiovascular:Forecasts Other'!O83),\"\")","v":""},{"$f":"IF($C83<>\"\",SUM('Forecasts Cardiovascular:Forecasts Other'!P83),\"\")","v":""},{"$f":"IF($C83<>\"\",SUM('Forecasts Cardiovascular:Forecasts Other'!Q83),\"\")","v":""},{"$f":"IF($C83<>\"\",SUM('Forecasts Cardiovascular:Forecasts Other'!R83),\"\")","v":""},{"$f":"IF($C83<>\"\",SUM('Forecasts Cardiovascular:Forecasts Other'!S83),\"\")","v":""},{"$f":"IF($C83<>\"\",SUM('Forecasts Cardiovascular:Forecasts Other'!T83),\"\")","v":""},{"$f":"IF($C83<>\"\",SUM('Forecasts Cardiovascular:Forecasts Other'!U83),\"\")","v":""},{"$f":"IF($C83<>\"\",SUM('Forecasts Cardiovascular:Forecasts Other'!V83),\"\")","v":""},{"$f":"IF($C83<>\"\",SUM('Forecasts Cardiovascular:Forecasts Other'!W83),\"\")","v":""},{"$f":"IF($C83<>\"\",SUM('Forecasts Cardiovascular:Forecasts Other'!X83),\"\")","v":""}]
[null,null,"",{"$f":"IF($C84<>\"\",SUM('Forecasts Cardiovascular:Forecasts Other'!D84),\"\")","v":""},{"$f":"IF($C84<>\"\",SUM('Forecasts Cardiovascular:Forecasts Other'!E84),\"\")","v":""},{"$f":"IF($C84<>\"\",SUM('Forecasts Cardiovascular:Forecasts Other'!F84),\"\")","v":""},{"$f":"IF($C84<>\"\",SUM('Forecasts Cardiovascular:Forecasts Other'!G84),\"\")","v":""},{"$f":"IF($C84<>\"\",SUM('Forecasts Cardiovascular:Forecasts Other'!H84),\"\")","v":""},{"$f":"IF($C84<>\"\",SUM('Forecasts Cardiovascular:Forecasts Other'!I84),\"\")","v":""},{"$f":"IF($C84<>\"\",SUM('Forecasts Cardiovascular:Forecasts Other'!J84),\"\")","v":""},{"$f":"IF($C84<>\"\",SUM('Forecasts Cardiovascular:Forecasts Other'!K84),\"\")","v":""},{"$f":"IF($C84<>\"\",SUM('Forecasts Cardiovascular:Forecasts Other'!L84),\"\")","v":""},{"$f":"IF($C84<>\"\",SUM('Forecasts Cardiovascular:Forecasts Other'!M84),\"\")","v":""},{"$f":"IF($C84<>\"\",SUM('Forecasts Cardiovascular:Forecasts Other'!N84),\"\")","v":""},{"$f":"IF($C84<>\"\",SUM('Forecasts Cardiovascular:Forecasts Other'!O84),\"\")","v":""},{"$f":"IF($C84<>\"\",SUM('Forecasts Cardiovascular:Forecasts Other'!P84),\"\")","v":""},{"$f":"IF($C84<>\"\",SUM('Forecasts Cardiovascular:Forecasts Other'!Q84),\"\")","v":""},{"$f":"IF($C84<>\"\",SUM('Forecasts Cardiovascular:Forecasts Other'!R84),\"\")","v":""},{"$f":"IF($C84<>\"\",SUM('Forecasts Cardiovascular:Forecasts Other'!S84),\"\")","v":""},{"$f":"IF($C84<>\"\",SUM('Forecasts Cardiovascular:Forecasts Other'!T84),\"\")","v":""},{"$f":"IF($C84<>\"\",SUM('Forecasts Cardiovascular:Forecasts Other'!U84),\"\")","v":""},{"$f":"IF($C84<>\"\",SUM('Forecasts Cardiovascular:Forecasts Other'!V84),\"\")","v":""},{"$f":"IF($C84<>\"\",SUM('Forecasts Cardiovascular:Forecasts Other'!W84),\"\")","v":""},{"$f":"IF($C84<>\"\",SUM('Forecasts Cardiovascular:Forecasts Other'!X84),\"\")","v":""}]
[null,null,"",{"$f":"IF($C85<>\"\",SUM('Forecasts Cardiovascular:Forecasts Other'!D85),\"\")","v":""},{"$f":"IF($C85<>\"\",SUM('Forecasts Cardiovascular:Forecasts Other'!E85),\"\")","v":""},{"$f":"IF($C85<>\"\",SUM('Forecasts Cardiovascular:Forecasts Other'!F85),\"\")","v":""},{"$f":"IF($C85<>\"\",SUM('Forecasts Cardiovascular:Forecasts Other'!G85),\"\")","v":""},{"$f":"IF($C85<>\"\",SUM('Forecasts Cardiovascular:Forecasts Other'!H85),\"\")","v":""},{"$f":"IF($C85<>\"\",SUM('Forecasts Cardiovascular:Forecasts Other'!I85),\"\")","v":""},{"$f":"IF($C85<>\"\",SUM('Forecasts Cardiovascular:Forecasts Other'!J85),\"\")","v":""},{"$f":"IF($C85<>\"\",SUM('Forecasts Cardiovascular:Forecasts Other'!K85),\"\")","v":""},{"$f":"IF($C85<>\"\",SUM('Forecasts Cardiovascular:Forecasts Other'!L85),\"\")","v":""},{"$f":"IF($C85<>\"\",SUM('Forecasts Cardiovascular:Forecasts Other'!M85),\"\")","v":""},{"$f":"IF($C85<>\"\",SUM('Forecasts Cardiovascular:Forecasts Other'!N85),\"\")","v":""},{"$f":"IF($C85<>\"\",SUM('Forecasts Cardiovascular:Forecasts Other'!O85),\"\")","v":""},{"$f":"IF($C85<>\"\",SUM('Forecasts Cardiovascular:Forecasts Other'!P85),\"\")","v":""},{"$f":"IF($C85<>\"\",SUM('Forecasts Cardiovascular:Forecasts Other'!Q85),\"\")","v":""},{"$f":"IF($C85<>\"\",SUM('Forecasts Cardiovascular:Forecasts Other'!R85),\"\")","v":""},{"$f":"IF($C85<>\"\",SUM('Forecasts Cardiovascular:Forecasts Other'!S85),\"\")","v":""},{"$f":"IF($C85<>\"\",SUM('Forecasts Cardiovascular:Forecasts Other'!T85),\"\")","v":""},{"$f":"IF($C85<>\"\",SUM('Forecasts Cardiovascular:Forecasts Other'!U85),\"\")","v":""},{"$f":"IF($C85<>\"\",SUM('Forecasts Cardiovascular:Forecasts Other'!V85),\"\")","v":""},{"$f":"IF($C85<>\"\",SUM('Forecasts Cardiovascular:Forecasts Other'!W85),\"\")","v":""},{"$f":"IF($C85<>\"\",SUM('Forecasts Cardiovascular:Forecasts Other'!X85),\"\")","v":""}]
[null,null,"",{"$f":"IF($C86<>\"\",SUM('Forecasts Cardiovascular:Forecasts Other'!D86),\"\")","v":""},{"$f":"IF($C86<>\"\",SUM('Forecasts Cardiovascular:Forecasts Other'!E86),\"\")","v":""},{"$f":"IF($C86<>\"\",SUM('Forecasts Cardiovascular:Forecasts Other'!F86),\"\")","v":""},{"$f":"IF($C86<>\"\",SUM('Forecasts Cardiovascular:Forecasts Other'!G86),\"\")","v":""},{"$f":"IF($C86<>\"\",SUM('Forecasts Cardiovascular:Forecasts Other'!H86),\"\")","v":""},{"$f":"IF($C86<>\"\",SUM('Forecasts Cardiovascular:Forecasts Other'!I86),\"\")","v":""},{"$f":"IF($C86<>\"\",SUM('Forecasts Cardiovascular:Forecasts Other'!J86),\"\")","v":""},{"$f":"IF($C86<>\"\",SUM('Forecasts Cardiovascular:Forecasts Other'!K86),\"\")","v":""},{"$f":"IF($C86<>\"\",SUM('Forecasts Cardiovascular:Forecasts Other'!L86),\"\")","v":""},{"$f":"IF($C86<>\"\",SUM('Forecasts Cardiovascular:Forecasts Other'!M86),\"\")","v":""},{"$f":"IF($C86<>\"\",SUM('Forecasts Cardiovascular:Forecasts Other'!N86),\"\")","v":""},{"$f":"IF($C86<>\"\",SUM('Forecasts Cardiovascular:Forecasts Other'!O86),\"\")","v":""},{"$f":"IF($C86<>\"\",SUM('Forecasts Cardiovascular:Forecasts Other'!P86),\"\")","v":""},{"$f":"IF($C86<>\"\",SUM('Forecasts Cardiovascular:Forecasts Other'!Q86),\"\")","v":""},{"$f":"IF($C86<>\"\",SUM('Forecasts Cardiovascular:Forecasts Other'!R86),\"\")","v":""},{"$f":"IF($C86<>\"\",SUM('Forecasts Cardiovascular:Forecasts Other'!S86),\"\")","v":""},{"$f":"IF($C86<>\"\",SUM('Forecasts Cardiovascular:Forecasts Other'!T86),\"\")","v":""},{"$f":"IF($C86<>\"\",SUM('Forecasts Cardiovascular:Forecasts Other'!U86),\"\")","v":""},{"$f":"IF($C86<>\"\",SUM('Forecasts Cardiovascular:Forecasts Other'!V86),\"\")","v":""},{"$f":"IF($C86<>\"\",SUM('Forecasts Cardiovascular:Forecasts Other'!W86),\"\")","v":""},{"$f":"IF($C86<>\"\",SUM('Forecasts Cardiovascular:Forecasts Other'!X86),\"\")","v":""}]
[null,null,"",{"$f":"IF($C87<>\"\",SUM('Forecasts Cardiovascular:Forecasts Other'!D87),\"\")","v":""},{"$f":"IF($C87<>\"\",SUM('Forecasts Cardiovascular:Forecasts Other'!E87),\"\")","v":""},{"$f":"IF($C87<>\"\",SUM('Forecasts Cardiovascular:Forecasts Other'!F87),\"\")","v":""},{"$f":"IF($C87<>\"\",SUM('Forecasts Cardiovascular:Forecasts Other'!G87),\"\")","v":""},{"$f":"IF($C87<>\"\",SUM('Forecasts Cardiovascular:Forecasts Other'!H87),\"\")","v":""},{"$f":"IF($C87<>\"\",SUM('Forecasts Cardiovascular:Forecasts Other'!I87),\"\")","v":""},{"$f":"IF($C87<>\"\",SUM('Forecasts Cardiovascular:Forecasts Other'!J87),\"\")","v":""},{"$f":"IF($C87<>\"\",SUM('Forecasts Cardiovascular:Forecasts Other'!K87),\"\")","v":""},{"$f":"IF($C87<>\"\",SUM('Forecasts Cardiovascular:Forecasts Other'!L87),\"\")","v":""},{"$f":"IF($C87<>\"\",SUM('Forecasts Cardiovascular:Forecasts Other'!M87),\"\")","v":""},{"$f":"IF($C87<>\"\",SUM('Forecasts Cardiovascular:Forecasts Other'!N87),\"\")","v":""},{"$f":"IF($C87<>\"\",SUM('Forecasts Cardiovascular:Forecasts Other'!O87),\"\")","v":""},{"$f":"IF($C87<>\"\",SUM('Forecasts Cardiovascular:Forecasts Other'!P87),\"\")","v":""},{"$f":"IF($C87<>\"\",SUM('Forecasts Cardiovascular:Forecasts Other'!Q87),\"\")","v":""},{"$f":"IF($C87<>\"\",SUM('Forecasts Cardiovascular:Forecasts Other'!R87),\"\")","v":""},{"$f":"IF($C87<>\"\",SUM('Forecasts Cardiovascular:Forecasts Other'!S87),\"\")","v":""},{"$f":"IF($C87<>\"\",SUM('Forecasts Cardiovascular:Forecasts Other'!T87),\"\")","v":""},{"$f":"IF($C87<>\"\",SUM('Forecasts Cardiovascular:Forecasts Other'!U87),\"\")","v":""},{"$f":"IF($C87<>\"\",SUM('Forecasts Cardiovascular:Forecasts Other'!V87),\"\")","v":""},{"$f":"IF($C87<>\"\",SUM('Forecasts Cardiovascular:Forecasts Other'!W87),\"\")","v":""},{"$f":"IF($C87<>\"\",SUM('Forecasts Cardiovascular:Forecasts Other'!X87),\"\")","v":""}]
[null,null,"",{"$f":"IF($C88<>\"\",SUM('Forecasts Cardiovascular:Forecasts Other'!D88),\"\")","v":""},{"$f":"IF($C88<>\"\",SUM('Forecasts Cardiovascular:Forecasts Other'!E88),\"\")","v":""},{"$f":"IF($C88<>\"\",SUM('Forecasts Cardiovascular:Forecasts Other'!F88),\"\")","v":""},{"$f":"IF($C88<>\"\",SUM('Forecasts Cardiovascular:Forecasts Other'!G88),\"\")","v":""},{"$f":"IF($C88<>\"\",SUM('Forecasts Cardiovascular:Forecasts Other'!H88),\"\")","v":""},{"$f":"IF($C88<>\"\",SUM('Forecasts Cardiovascular:Forecasts Other'!I88),\"\")","v":""},{"$f":"IF($C88<>\"\",SUM('Forecasts Cardiovascular:Forecasts Other'!J88),\"\")","v":""},{"$f":"IF($C88<>\"\",SUM('Forecasts Cardiovascular:Forecasts Other'!K88),\"\")","v":""},{"$f":"IF($C88<>\"\",SUM('Forecasts Cardiovascular:Forecasts Other'!L88),\"\")","v":""},{"$f":"IF($C88<>\"\",SUM('Forecasts Cardiovascular:Forecasts Other'!M88),\"\")","v":""},{"$f":"IF($C88<>\"\",SUM('Forecasts Cardiovascular:Forecasts Other'!N88),\"\")","v":""},{"$f":"IF($C88<>\"\",SUM('Forecasts Cardiovascular:Forecasts Other'!O88),\"\")","v":""},{"$f":"IF($C88<>\"\",SUM('Forecasts Cardiovascular:Forecasts Other'!P88),\"\")","v":""},{"$f":"IF($C88<>\"\",SUM('Forecasts Cardiovascular:Forecasts Other'!Q88),\"\")","v":""},{"$f":"IF($C88<>\"\",SUM('Forecasts Cardiovascular:Forecasts Other'!R88),\"\")","v":""},{"$f":"IF($C88<>\"\",SUM('Forecasts Cardiovascular:Forecasts Other'!S88),\"\")","v":""},{"$f":"IF($C88<>\"\",SUM('Forecasts Cardiovascular:Forecasts Other'!T88),\"\")","v":""},{"$f":"IF($C88<>\"\",SUM('Forecasts Cardiovascular:Forecasts Other'!U88),\"\")","v":""},{"$f":"IF($C88<>\"\",SUM('Forecasts Cardiovascular:Forecasts Other'!V88),\"\")","v":""},{"$f":"IF($C88<>\"\",SUM('Forecasts Cardiovascular:Forecasts Other'!W88),\"\")","v":""},{"$f":"IF($C88<>\"\",SUM('Forecasts Cardiovascular:Forecasts Other'!X88),\"\")","v":""}]
[null,null,""]
[null,null,""]
[null,null,""]
[null,null,""]
[null,null,""]
[null,null,""]
[null,null,""]
[null,null,""]
[null,null,""]
[null,null,""]
[null,null,""]
[null,null,""]
[null,null,""]
[null,null,""]
[null,null,""]
[null,null,""]
[null,null,""]

{"sheet":"Adjustment Cardiovascular","index":20,"n_rows":72,"n_cols":24,"rows_kept":72,"cut":false,"hidden":false,"merged":[[0,2,3,9],[0,10,3,16]]}
[null,null,"Society of Actuaries - Cause of deaths forecasting tool",null,null,null,null,null,null,null,"Adjustment Cardiovascular"]
[]
[]
[]
[]
[null,null,null,"age"]
[null,"sex","M",{"$f":"TRANSPOSE(Ages_group)","v":0},"1 - 4","5 - 9","10 - 14","15 - 19","20 - 24","25 - 29","30 - 34","35 - 39","40 - 44","45 - 49","50 - 54","55 - 59","60 - 64","65 - 69","70 - 74","75 - 79","80 - 84","85 - 89","90 - 94","95+"]
[null,"time",{"$f":"Year_0","v":2016}]
[null,null,{"$f":"IF(C8<Year_max,C8+1,\"\")","v":2017}]
[null,null,{"$f":"IF(C9<Year_max,C9+1,\"\")","v":2018}]
[null,null,2019]
[null,null,2020]
[null,null,2021]
[null,null,2022]
[null,null,2023]
[null,null,2024]
[null,null,2025]
[null,null,2026]
[null,null,""]
[null,null,""]
[null,null,""]
[null,null,""]
[null,null,""]
[null,null,""]
[null,null,""]
[null,null,""]
[null,null,""]
[null,null,""]
[null,null,""]
[null,null,""]
[null,null,""]
[null,null,""]
[null,null,""]
[null,null,""]
[null,null,""]
[null,null,""]
[null,null,""]
[null,null,""]
[]
[null,null,null,"age"]
[null,"sex","F",{"$f":"TRANSPOSE(Ages_group)","v":0},"1 - 4","5 - 9","10 - 14","15 - 19","20 - 24","25 - 29","30 - 34","35 - 39","40 - 44","45 - 49","50 - 54","55 - 59","60 - 64","65 - 69","70 - 74","75 - 79","80 - 84","85 - 89","90 - 94","95+"]
[null,"time",{"$f":"Year_0","v":2016}]
[null,null,{"$f":"IF(C42<Year_max,C42+1,\"\")","v":2017}]
[null,null,{"$f":"IF(C43<Year_max,C43+1,\"\")","v":2018}]
[null,null,2019]
[null,null,2020]
[null,null,2021]
[null,null,2022]
[null,null,2023]
[null,null,2024]
[null,null,2025]
[null,null,2026]
[null,null,""]
[null,null,""]
[null,null,""]
[null,null,""]
[null,null,""]
[null,null,""]
[null,null,""]
[null,null,""]
[null,null,""]
[null,null,""]
[null,null,""]
[null,null,""]
[null,null,""]
[null,null,""]
[null,null,""]
[null,null,""]
[null,null,""]
[null,null,""]
[null,null,""]
[null,null,""]

{"sheet":"Adjustment Cerebrovascular","index":21,"n_rows":72,"n_cols":24,"rows_kept":72,"cut":false,"hidden":false,"merged":[[0,2,3,9],[0,10,3,16]]}
[null,null,"Society of Actuaries - Cause of deaths forecasting tool",null,null,null,null,null,null,null,"Adjustment Cerebrovascular"]
[]
[]
[]
[]
[null,null,null,"age"]
[null,"sex","M",{"$f":"TRANSPOSE(Ages_group)","v":0},"1 - 4","5 - 9","10 - 14","15 - 19","20 - 24","25 - 29","30 - 34","35 - 39","40 - 44","45 - 49","50 - 54","55 - 59","60 - 64","65 - 69","70 - 74","75 - 79","80 - 84","85 - 89","90 - 94","95+"]
[null,"time",{"$f":"Year_0","v":2016}]
[null,null,{"$f":"IF(C8<Year_max,C8+1,\"\")","v":2017}]
[null,null,{"$f":"IF(C9<Year_max,C9+1,\"\")","v":2018}]
[null,null,2019]
[null,null,2020]
[null,null,2021]
[null,null,2022]
[null,null,2023]
[null,null,2024]
[null,null,2025]
[null,null,2026]
[null,null,""]
[null,null,""]
[null,null,""]
[null,null,""]
[null,null,""]
[null,null,""]
[null,null,""]
[null,null,""]
[null,null,""]
[null,null,""]
[null,null,""]
[null,null,""]
[null,null,""]
[null,null,""]
[null,null,""]
[null,null,""]
[null,null,""]
[null,null,""]
[null,null,""]
[null,null,""]
[]
[null,null,null,"age"]
[null,"sex","F",{"$f":"TRANSPOSE(Ages_group)","v":0},"1 - 4","5 - 9","10 - 14","15 - 19","20 - 24","25 - 29","30 - 34","35 - 39","40 - 44","45 - 49","50 - 54","55 - 59","60 - 64","65 - 69","70 - 74","75 - 79","80 - 84","85 - 89","90 - 94","95+"]
[null,"time",{"$f":"Year_0","v":2016}]
[null,null,{"$f":"IF(C42<Year_max,C42+1,\"\")","v":2017}]
[null,null,{"$f":"IF(C43<Year_max,C43+1,\"\")","v":2018}]
[null,null,2019]
[null,null,2020]
[null,null,2021]
[null,null,2022]
[null,null,2023]
[null,null,2024]
[null,null,2025]
[null,null,2026]
[null,null,""]
[null,null,""]
[null,null,""]
[null,null,""]
[null,null,""]
[null,null,""]
[null,null,""]
[null,null,""]
[null,null,""]
[null,null,""]
[null,null,""]
[null,null,""]
[null,null,""]
[null,null,""]
[null,null,""]
[null,null,""]
[null,null,""]
[null,null,""]
[null,null,""]
[null,null,""]

{"sheet":"Adjustment NeoSmok","index":22,"n_rows":72,"n_cols":24,"rows_kept":72,"cut":false,"hidden":false,"merged":[[0,2,3,9],[0,10,3,16]]}
[null,null,"Society of Actuaries - Cause of deaths forecasting tool",null,null,null,null,null,null,null,"Adjustment Neosmok"]
[]
[]
[]
[]
[null,null,null,"age"]
[null,"sex","M",{"$f":"TRANSPOSE(Ages_group)","v":0},"1 - 4","5 - 9","10 - 14","15 - 19","20 - 24","25 - 29","30 - 34","35 - 39","40 - 44","45 - 49","50 - 54","55 - 59","60 - 64","65 - 69","70 - 74","75 - 79","80 - 84","85 - 89","90 - 94","95+"]
[null,"time",{"$f":"Year_0","v":2016}]
[null,null,{"$f":"IF(C8<Year_max,C8+1,\"\")","v":2017}]
[null,null,{"$f":"IF(C9<Year_max,C9+1,\"\")","v":2018}]
[null,null,2019]
[null,null,2020]
[null,null,2021]
[null,null,2022]
[null,null,2023]
[null,null,2024]
[null,null,2025]
[null,null,2026]
[null,null,""]
[null,null,""]
[null,null,""]
[null,null,""]
[null,null,""]
[null,null,""]
[null,null,""]
[null,null,""]
[null,null,""]
[null,null,""]
[null,null,""]
[null,null,""]
[null,null,""]
[null,null,""]
[null,null,""]
[null,null,""]
[null,null,""]
[null,null,""]
[null,null,""]
[null,null,""]
[]
[null,null,null,"age"]
[null,"sex","F",{"$f":"TRANSPOSE(Ages_group)","v":0},"1 - 4","5 - 9","10 - 14","15 - 19","20 - 24","25 - 29","30 - 34","35 - 39","40 - 44","45 - 49","50 - 54","55 - 59","60 - 64","65 - 69","70 - 74","75 - 79","80 - 84","85 - 89","90 - 94","95+"]
[null,"time",{"$f":"Year_0","v":2016}]
[null,null,{"$f":"IF(C42<Year_max,C42+1,\"\")","v":2017}]
[null,null,{"$f":"IF(C43<Year_max,C43+1,\"\")","v":2018}]
[null,null,2019]
[null,null,2020]
[null,null,2021]
[null,null,2022]
[null,null,2023]
[null,null,2024]
[null,null,2025]
[null,null,2026]
[null,null,""]
[null,null,""]
[null,null,""]
[null,null,""]
[null,null,""]
[null,null,""]
[null,null,""]
[null,null,""]
[null,null,""]
[null,null,""]
[null,null,""]
[null,null,""]
[null,null,""]
[null,null,""]
[null,null,""]
[null,null,""]
[null,null,""]
[null,null,""]
[null,null,""]
[null,null,""]

{"sheet":"Adjustment Neoplasm","index":23,"n_rows":72,"n_cols":24,"rows_kept":72,"cut":false,"hidden":false,"merged":[[0,2,3,9],[0,10,3,16]]}
[null,null,"Society of Actuaries - Cause of deaths forecasting tool",null,null,null,null,null,null,null,"Adjustment Neoplasm"]
[]
[]
[]
[]
[null,null,null,"age"]
[null,"sex","M",{"$f":"TRANSPOSE(Ages_group)","v":0},"1 - 4","5 - 9","10 - 14","15 - 19","20 - 24","25 - 29","30 - 34","35 - 39","40 - 44","45 - 49","50 - 54","55 - 59","60 - 64","65 - 69","70 - 74","75 - 79","80 - 84","85 - 89","90 - 94","95+"]
[null,"time",{"$f":"Year_0","v":2016}]
[null,null,{"$f":"IF(C8<Year_max,C8+1,\"\")","v":2017}]
[null,null,{"$f":"IF(C9<Year_max,C9+1,\"\")","v":2018}]
[null,null,2019]
[null,null,2020]
[null,null,2021]
[null,null,2022]
[null,null,2023]
[null,null,2024]
[null,null,2025]
[null,null,2026]
[null,null,""]
[null,null,""]
[null,null,""]
[null,null,""]
[null,null,""]
[null,null,""]
[null,null,""]
[null,null,""]
[null,null,""]
[null,null,""]
[null,null,""]
[null,null,""]
[null,null,""]
[null,null,""]
[null,null,""]
[null,null,""]
[null,null,""]
[null,null,""]
[null,null,""]
[null,null,""]
[]
[null,null,null,"age"]
[null,"sex","F",{"$f":"TRANSPOSE(Ages_group)","v":0},"1 - 4","5 - 9","10 - 14","15 - 19","20 - 24","25 - 29","30 - 34","35 - 39","40 - 44","45 - 49","50 - 54","55 - 59","60 - 64","65 - 69","70 - 74","75 - 79","80 - 84","85 - 89","90 - 94","95+"]
[null,"time",{"$f":"Year_0","v":2016}]
[null,null,{"$f":"IF(C42<Year_max,C42+1,\"\")","v":2017}]
[null,null,{"$f":"IF(C43<Year_max,C43+1,\"\")","v":2018}]
[null,null,2019]
[null,null,2020]
[null,null,2021]
[null,null,2022]
[null,null,2023]
[null,null,2024]
[null,null,2025]
[null,null,2026]
[null,null,""]
[null,null,""]
[null,null,""]
[null,null,""]
[null,null,""]
[null,null,""]
[null,null,""]
[null,null,""]
[null,null,""]
[null,null,""]
[null,null,""]
[null,null,""]
[null,null,""]
[null,null,""]
[null,null,""]
[null,null,""]
[null,null,""]
[null,null,""]
[null,null,""]
[null,null,""]

{"sheet":"Adjustment Dementia","index":24,"n_rows":72,"n_cols":24,"rows_kept":72,"cut":false,"hidden":false,"merged":[[0,2,3,9],[0,10,3,16]]}
[null,null,"Society of Actuaries - Cause of deaths forecasting tool",null,null,null,null,null,null,null,"Adjustment Dementia"]
[]
[]
[]
[]
[null,null,null,"age"]
[null,"sex","M",{"$f":"TRANSPOSE(Ages_group)","v":0},"1 - 4","5 - 9","10 - 14","15 - 19","20 - 24","25 - 29","30 - 34","35 - 39","40 - 44","45 - 49","50 - 54","55 - 59","60 - 64","65 - 69","70 - 74","75 - 79","80 - 84","85 - 89","90 - 94","95+"]
[null,"time",{"$f":"Year_0","v":2016}]
[null,null,{"$f":"IF(C8<Year_max,C8+1,\"\")","v":2017}]
[null,null,{"$f":"IF(C9<Year_max,C9+1,\"\")","v":2018}]
[null,null,2019]
[null,null,2020]
[null,null,2021]
[null,null,2022]
[null,null,2023]
[null,null,2024]
[null,null,2025]
[null,null,2026]
[null,null,""]
[null,null,""]
[null,null,""]
[null,null,""]
[null,null,""]
[null,null,""]
[null,null,""]
[null,null,""]
[null,null,""]
[null,null,""]
[null,null,""]
[null,null,""]
[null,null,""]
[null,null,""]
[null,null,""]
[null,null,""]
[null,null,""]
[null,null,""]
[null,null,""]
[null,null,""]
[]
[null,null,null,"age"]
[null,"sex","F",{"$f":"TRANSPOSE(Ages_group)","v":0},"1 - 4","5 - 9","10 - 14","15 - 19","20 - 24","25 - 29","30 - 34","35 - 39","40 - 44","45 - 49","50 - 54","55 - 59","60 - 64","65 - 69","70 - 74","75 - 79","80 - 84","85 - 89","90 - 94","95+"]
[null,"time",{"$f":"Year_0","v":2016}]
[null,null,{"$f":"IF(C42<Year_max,C42+1,\"\")","v":2017}]
[null,null,{"$f":"IF(C43<Year_max,C43+1,\"\")","v":2018}]
[null,null,2019]
[null,null,2020]
[null,null,2021]
[null,null,2022]
[null,null,2023]
[null,null,2024]
[null,null,2025]
[null,null,2026]
[null,null,""]
[null,null,""]
[null,null,""]
[null,null,""]
[null,null,""]
[null,null,""]
[null,null,""]
[null,null,""]
[null,null,""]
[null,null,""]
[null,null,""]
[null,null,""]
[null,null,""]
[null,null,""]
[null,null,""]
[null,null,""]
[null,null,""]
[null,null,""]
[null,null,""]
[null,null,""]

{"sheet":"Adjustment Diabetes","index":25,"n_rows":72,"n_cols":24,"rows_kept":72,"cut":false,"hidden":false,"merged":[[0,2,3,9],[0,10,3,16]]}
[null,null,"Society of Actuaries - Cause of deaths forecasting tool",null,null,null,null,null,null,null,"Adjustment Diabetes"]
[]
[]
[]
[]
[null,null,null,"age"]
[null,"sex","M",{"$f":"TRANSPOSE(Ages_group)","v":0},"1 - 4","5 - 9","10 - 14","15 - 19","20 - 24","25 - 29","30 - 34","35 - 39","40 - 44","45 - 49","50 - 54","55 - 59","60 - 64","65 - 69","70 - 74","75 - 79","80 - 84","85 - 89","90 - 94","95+"]
[null,"time",{"$f":"Year_0","v":2016}]
[null,null,{"$f":"IF(C8<Year_max,C8+1,\"\")","v":2017}]
[null,null,{"$f":"IF(C9<Year_max,C9+1,\"\")","v":2018}]
[null,null,2019]
[null,null,2020]
[null,null,2021]
[null,null,2022]
[null,null,2023]
[null,null,2024]
[null,null,2025]
[null,null,2026]
[null,null,""]
[null,null,""]
[null,null,""]
[null,null,""]
[null,null,""]
[null,null,""]
[null,null,""]
[null,null,""]
[null,null,""]
[null,null,""]
[null,null,""]
[null,null,""]
[null,null,""]
[null,null,""]
[null,null,""]
[null,null,""]
[null,null,""]
[null,null,""]
[null,null,""]
[null,null,""]
[]
[null,null,null,"age"]
[null,"sex","F",{"$f":"TRANSPOSE(Ages_group)","v":0},"1 - 4","5 - 9","10 - 14","15 - 19","20 - 24","25 - 29","30 - 34","35 - 39","40 - 44","45 - 49","50 - 54","55 - 59","60 - 64","65 - 69","70 - 74","75 - 79","80 - 84","85 - 89","90 - 94","95+"]
[null,"time",{"$f":"Year_0","v":2016}]
[null,null,{"$f":"IF(C42<Year_max,C42+1,\"\")","v":2017}]
[null,null,{"$f":"IF(C43<Year_max,C43+1,\"\")","v":2018}]
[null,null,2019]
[null,null,2020]
[null,null,2021]
[null,null,2022]
[null,null,2023]
[null,null,2024]
[null,null,2025]
[null,null,2026]
[null,null,""]
[null,null,""]
[null,null,""]
[null,null,""]
[null,null,""]
[null,null,""]
[null,null,""]
[null,null,""]
[null,null,""]
[null,null,""]
[null,null,""]
[null,null,""]
[null,null,""]
[null,null,""]
[null,null,""]
[null,null,""]
[null,null,""]
[null,null,""]
[null,null,""]
[null,null,""]

{"sheet":"Adjustment Influenza","index":26,"n_rows":72,"n_cols":24,"rows_kept":72,"cut":false,"hidden":false,"merged":[[0,2,3,9],[0,10,3,16]]}
[null,null,"Society of Actuaries - Cause of deaths forecasting tool",null,null,null,null,null,null,null,"Adjustment Influenza"]
[]
[]
[]
[]
[null,null,null,"age"]
[null,"sex","M",{"$f":"TRANSPOSE(Ages_group)","v":0},"1 - 4","5 - 9","10 - 14","15 - 19","20 - 24","25 - 29","30 - 34","35 - 39","40 - 44","45 - 49","50 - 54","55 - 59","60 - 64","65 - 69","70 - 74","75 - 79","80 - 84","85 - 89","90 - 94","95+"]
[null,"time",{"$f":"Year_0","v":2016}]
[null,null,{"$f":"IF(C8<Year_max,C8+1,\"\")","v":2017}]
[null,null,{"$f":"IF(C9<Year_max,C9+1,\"\")","v":2018}]
[null,null,2019]
[null,null,2020]
[null,null,2021]
[null,null,2022]
[null,null,2023]
[null,null,2024]
[null,null,2025]
[null,null,2026]
[null,null,""]
[null,null,""]
[null,null,""]
[null,null,""]
[null,null,""]
[null,null,""]
[null,null,""]
[null,null,""]
[null,null,""]
[null,null,""]
[null,null,""]
[null,null,""]
[null,null,""]
[null,null,""]
[null,null,""]
[null,null,""]
[null,null,""]
[null,null,""]
[null,null,""]
[null,null,""]
[]
[null,null,null,"age"]
[null,"sex","F",{"$f":"TRANSPOSE(Ages_group)","v":0},"1 - 4","5 - 9","10 - 14","15 - 19","20 - 24","25 - 29","30 - 34","35 - 39","40 - 44","45 - 49","50 - 54","55 - 59","60 - 64","65 - 69","70 - 74","75 - 79","80 - 84","85 - 89","90 - 94","95+"]
[null,"time",{"$f":"Year_0","v":2016}]
[null,null,{"$f":"IF(C42<Year_max,C42+1,\"\")","v":2017}]
[null,null,{"$f":"IF(C43<Year_max,C43+1,\"\")","v":2018}]
[null,null,2019]
[null,null,2020]
[null,null,2021]
[null,null,2022]
[null,null,2023]
[null,null,2024]
[null,null,2025]
[null,null,2026]
[null,null,""]
[null,null,""]
[null,null,""]
[null,null,""]
[null,null,""]
[null,null,""]
[null,null,""]
[null,null,""]
[null,null,""]
[null,null,""]
[null,null,""]
[null,null,""]
[null,null,""]
[null,null,""]
[null,null,""]
[null,null,""]
[null,null,""]
[null,null,""]
[null,null,""]
[null,null,""]

{"sheet":"Adjustment Respiratory","index":27,"n_rows":72,"n_cols":24,"rows_kept":72,"cut":false,"hidden":false,"merged":[[0,2,3,9],[0,10,3,16]]}
[null,null,"Society of Actuaries - Cause of deaths forecasting tool",null,null,null,null,null,null,null,"Adjustment Respiratory"]
[]
[]
[]
[]
[null,null,null,"age"]
[null,"sex","M",{"$f":"TRANSPOSE(Ages_group)","v":0},"1 - 4","5 - 9","10 - 14","15 - 19","20 - 24","25 - 29","30 - 34","35 - 39","40 - 44","45 - 49","50 - 54","55 - 59","60 - 64","65 - 69","70 - 74","75 - 79","80 - 84","85 - 89","90 - 94","95+"]
[null,"time",{"$f":"Year_0","v":2016}]
[null,null,{"$f":"IF(C8<Year_max,C8+1,\"\")","v":2017}]
[null,null,{"$f":"IF(C9<Year_max,C9+1,\"\")","v":2018}]
[null,null,2019]
[null,null,2020]
[null,null,2021]
[null,null,2022]
[null,null,2023]
[null,null,2024]
[null,null,2025]
[null,null,2026]
[null,null,""]
[null,null,""]
[null,null,""]
[null,null,""]
[null,null,""]
[null,null,""]
[null,null,""]
[null,null,""]
[null,null,""]
[null,null,""]
[null,null,""]
[null,null,""]
[null,null,""]
[null,null,""]
[null,null,""]
[null,null,""]
[null,null,""]
[null,null,""]
[null,null,""]
[null,null,""]
[]
[null,null,null,"age"]
[null,"sex","F",{"$f":"TRANSPOSE(Ages_group)","v":0},"1 - 4","5 - 9","10 - 14","15 - 19","20 - 24","25 - 29","30 - 34","35 - 39","40 - 44","45 - 49","50 - 54","55 - 59","60 - 64","65 - 69","70 - 74","75 - 79","80 - 84","85 - 89","90 - 94","95+"]
[null,"time",{"$f":"Year_0","v":2016}]
[null,null,{"$f":"IF(C42<Year_max,C42+1,\"\")","v":2017}]
[null,null,{"$f":"IF(C43<Year_max,C43+1,\"\")","v":2018}]
[null,null,2019]
[null,null,2020]
[null,null,2021]
[null,null,2022]
[null,null,2023]
[null,null,2024]
[null,null,2025]
[null,null,2026]
[null,null,""]
[null,null,""]
[null,null,""]
[null,null,""]
[null,null,""]
[null,null,""]
[null,null,""]
[null,null,""]
[null,null,""]
[null,null,""]
[null,null,""]
[null,null,""]
[null,null,""]
[null,null,""]
[null,null,""]
[null,null,""]
[null,null,""]
[null,null,""]
[null,null,""]
[null,null,""]

{"sheet":"Adjustment Drug","index":28,"n_rows":72,"n_cols":24,"rows_kept":72,"cut":false,"hidden":false,"merged":[[0,2,3,9],[0,10,3,16]]}
[null,null,"Society of Actuaries - Cause of deaths forecasting tool",null,null,null,null,null,null,null,"Adjustment Drug"]
[]
[]
[]
[]
[null,null,null,"age"]
[null,"sex","M",{"$f":"TRANSPOSE(Ages_group)","v":0},"1 - 4","5 - 9","10 - 14","15 - 19","20 - 24","25 - 29","30 - 34","35 - 39","40 - 44","45 - 49","50 - 54","55 - 59","60 - 64","65 - 69","70 - 74","75 - 79","80 - 84","85 - 89","90 - 94","95+"]
[null,"time",{"$f":"Year_0","v":2016}]
[null,null,{"$f":"IF(C8<Year_max,C8+1,\"\")","v":2017}]
[null,null,{"$f":"IF(C9<Year_max,C9+1,\"\")","v":2018}]
[null,null,2019]
[null,null,2020]
[null,null,2021]
[null,null,2022]
[null,null,2023]
[null,null,2024]
[null,null,2025]
[null,null,2026]
[null,null,""]
[null,null,""]
[null,null,""]
[null,null,""]
[null,null,""]
[null,null,""]
[null,null,""]
[null,null,""]
[null,null,""]
[null,null,""]
[null,null,""]
[null,null,""]
[null,null,""]
[null,null,""]
[null,null,""]
[null,null,""]
[null,null,""]
[null,null,""]
[null,null,""]
[null,null,""]
[]
[null,null,null,"age"]
[null,"sex","F",{"$f":"TRANSPOSE(Ages_group)","v":0},"1 - 4","5 - 9","10 - 14","15 - 19","20 - 24","25 - 29","30 - 34","35 - 39","40 - 44","45 - 49","50 - 54","55 - 59","60 - 64","65 - 69","70 - 74","75 - 79","80 - 84","85 - 89","90 - 94","95+"]
[null,"time",{"$f":"Year_0","v":2016}]
[null,null,{"$f":"IF(C42<Year_max,C42+1,\"\")","v":2017}]
[null,null,{"$f":"IF(C43<Year_max,C43+1,\"\")","v":2018}]
[null,null,2019]
[null,null,2020]
[null,null,2021]
[null,null,2022]
[null,null,2023]
[null,null,2024]
[null,null,2025]
[null,null,2026]
[null,null,""]
[null,null,""]
[null,null,""]
[null,null,""]
[null,null,""]
[null,null,""]
[null,null,""]
[null,null,""]
[null,null,""]
[null,null,""]
[null,null,""]
[null,null,""]
[null,null,""]
[null,null,""]
[null,null,""]
[null,null,""]
[null,null,""]
[null,null,""]
[null,null,""]
[null,null,""]

{"sheet":"Adjustment External","index":29,"n_rows":72,"n_cols":24,"rows_kept":72,"cut":false,"hidden":false,"merged":[[0,2,3,9],[0,10,3,16]]}
[null,null,"Society of Actuaries - Cause of deaths forecasting tool",null,null,null,null,null,null,null,"Adjustment External"]
[]
[]
[]
[]
[null,null,null,"age"]
[null,"sex","M",{"$f":"TRANSPOSE(Ages_group)","v":0},"1 - 4","5 - 9","10 - 14","15 - 19","20 - 24","25 - 29","30 - 34","35 - 39","40 - 44","45 - 49","50 - 54","55 - 59","60 - 64","65 - 69","70 - 74","75 - 79","80 - 84","85 - 89","90 - 94","95+"]
[null,"time",{"$f":"Year_0","v":2016}]
[null,null,{"$f":"IF(C8<Year_max,C8+1,\"\")","v":2017}]
[null,null,{"$f":"IF(C9<Year_max,C9+1,\"\")","v":2018}]
[null,null,2019]
[null,null,2020]
[null,null,2021]
[null,null,2022]
[null,null,2023]
[null,null,2024]
[null,null,2025]
[null,null,2026]
[null,null,""]
[null,null,""]
[null,null,""]
[null,null,""]
[null,null,""]
[null,null,""]
[null,null,""]
[null,null,""]
[null,null,""]
[null,null,""]
[null,null,""]
[null,null,""]
[null,null,""]
[null,null,""]
[null,null,""]
[null,null,""]
[null,null,""]
[null,null,""]
[null,null,""]
[null,null,""]
[]
[null,null,null,"age"]
[null,"sex","F",{"$f":"TRANSPOSE(Ages_group)","v":0},"1 - 4","5 - 9","10 - 14","15 - 19","20 - 24","25 - 29","30 - 34","35 - 39","40 - 44","45 - 49","50 - 54","55 - 59","60 - 64","65 - 69","70 - 74","75 - 79","80 - 84","85 - 89","90 - 94","95+"]
[null,"time",{"$f":"Year_0","v":2016}]
[null,null,{"$f":"IF(C42<Year_max,C42+1,\"\")","v":2017}]
[null,null,{"$f":"IF(C43<Year_max,C43+1,\"\")","v":2018}]
[null,null,2019]
[null,null,2020]
[null,null,2021]
[null,null,2022]
[null,null,2023]
[null,null,2024]
[null,null,2025]
[null,null,2026]
[null,null,""]
[null,null,""]
[null,null,""]
[null,null,""]
[null,null,""]
[null,null,""]
[null,null,""]
[null,null,""]
[null,null,""]
[null,null,""]
[null,null,""]
[null,null,""]
[null,null,""]
[null,null,""]
[null,null,""]
[null,null,""]
[null,null,""]
[null,null,""]
[null,null,""]
[null,null,""]

{"sheet":"Adjustment Other","index":30,"n_rows":72,"n_cols":24,"rows_kept":72,"cut":false,"hidden":false,"merged":[[0,2,3,9],[0,10,3,16]]}
[null,null,"Society of Actuaries - Cause of deaths forecasting tool",null,null,null,null,null,null,null,"Adjustment Other"]
[]
[]
[]
[]
[null,null,null,"age"]
[null,"sex","M",{"$f":"TRANSPOSE(Ages_group)","v":0},"1 - 4","5 - 9","10 - 14","15 - 19","20 - 24","25 - 29","30 - 34","35 - 39","40 - 44","45 - 49","50 - 54","55 - 59","60 - 64","65 - 69","70 - 74","75 - 79","80 - 84","85 - 89","90 - 94","95+"]
[null,"time",{"$f":"Year_0","v":2016}]
[null,null,{"$f":"IF(C8<Year_max,C8+1,\"\")","v":2017}]
[null,null,{"$f":"IF(C9<Year_max,C9+1,\"\")","v":2018}]
[null,null,2019]
[null,null,2020]
[null,null,2021]
[null,null,2022]
[null,null,2023]
[null,null,2024]
[null,null,2025]
[null,null,2026]
[null,null,""]
[null,null,""]
[null,null,""]
[null,null,""]
[null,null,""]
[null,null,""]
[null,null,""]
[null,null,""]
[null,null,""]
[null,null,""]
[null,null,""]
[null,null,""]
[null,null,""]
[null,null,""]
[null,null,""]
[null,null,""]
[null,null,""]
[null,null,""]
[null,null,""]
[null,null,""]
[]
[null,null,null,"age"]
[null,"sex","F",{"$f":"TRANSPOSE(Ages_group)","v":0},"1 - 4","5 - 9","10 - 14","15 - 19","20 - 24","25 - 29","30 - 34","35 - 39","40 - 44","45 - 49","50 - 54","55 - 59","60 - 64","65 - 69","70 - 74","75 - 79","80 - 84","85 - 89","90 - 94","95+"]
[null,"time",{"$f":"Year_0","v":2016}]
[null,null,{"$f":"IF(C42<Year_max,C42+1,\"\")","v":2017}]
[null,null,{"$f":"IF(C43<Year_max,C43+1,\"\")","v":2018}]
[null,null,2019]
[null,null,2020]
[null,null,2021]
[null,null,2022]
[null,null,2023]
[null,null,2024]
[null,null,2025]
[null,null,2026]
[null,null,""]
[null,null,""]
[null,null,""]
[null,null,""]
[null,null,""]
[null,null,""]
[null,null,""]
[null,null,""]
[null,null,""]
[null,null,""]
[null,null,""]
[null,null,""]
[null,null,""]
[null,null,""]
[null,null,""]
[null,null,""]
[null,null,""]
[null,null,""]
[null,null,""]
[null,null,""]

{"sheet":"LC parameters","index":31,"n_rows":47,"n_cols":25,"rows_kept":47,"cut":false,"hidden":false,"merged":[[0,10,3,16],[20,2,20,3],[5,4,5,5],[6,2,6,3],[19,4,19,5],[0,2,3,9],[35,2,35,3],[34,12,34,13],[34,4,34,5],[34,6,34,7],[34,8,34,9],[34,10,34,11]]}
[null,null,"Society of Actuaries - Cause of deaths forecasting tool",null,null,null,null,null,null,null,"LC Parameters"]
[]
[]
[]
[]
[null,"beta",null,null,"age"]
[null,"sex","M",null,{"$f":"TRANSPOSE(Ages_group)","v":0},"1 - 4","5 - 9","10 - 14","15 - 19","20 - 24","25 - 29","30 - 34","35 - 39","40 - 44","45 - 49","50 - 54","55 - 59","60 - 64","65 - 69","70 - 74","75 - 79","80 - 84","85 - 89","90 - 94","95+"]
[null,"cause",{"$f":"Causes","v":"Cardiovascular"},null,5.03803044996095E-2,2.3371617612420799E-2,5.2981042148931998E-2,7.1208432866637097E-2,3.92764754379685E-2,1.07074876718431E-2,-5.89832182721731E-3,5.6856534681222503E-4,2.3020871706685798E-2,4.0846645195418099E-2,4.4657248102331501E-2,4.0242706296215902E-2,4.6868770734312101E-2,5.8302471033685903E-2,7.3111895735961302E-2,8.28577337313499E-2,8.2951694304336396E-2,8.3925982837416202E-2,7.8000981045996301E-2,5.91284000097623E-2,4.3488995509522302E-2]
[null,null,"Cerebrovascular",null,1.3613165604250899E-2,-1.7619138548157999E-3,-1.84557149241674E-2,-3.4350902355970103E-2,2.6364602422149601E-2,3.9601323727482401E-2,2.9969900994380402E-2,1.04452222245612E-2,2.6810152953360498E-2,3.9140627897770001E-2,4.2440704255329302E-2,3.3559117486527699E-2,3.3317807013876002E-2,5.3769332430785202E-2,7.6437232431078805E-2,8.9315143543302902E-2,9.8126695308631495E-2,0.11338040428514699,0.12657154252783301,0.113113246984894,8.8592309043593304E-2]
[null,null,"NeoSmok",null,2.15388667914427E-2,0.24997254506591399,2.14165180095926E-2,3.1351304417510703E-2,6.7736111248976105E-2,5.3311686088198399E-3,1.6319682071574301E-2,2.5498440150362699E-2,6.8623133992107996E-2,9.67442586603105E-2,6.2741786347011094E-2,3.74132658673203E-2,3.9398274425518097E-2,5.1425055358338002E-2,4.8109181372652202E-2,4.1948167105495697E-2,3.3950039835727898E-2,2.5806458711341799E-2,2.2337538990502701E-2,1.7684448955104501E-2,1.4653754014376401E-2]
[null,null,"Neoplasm",null,3.6258041213466402E-2,6.1338670544853403E-2,4.2190546511801201E-2,5.5805621710997802E-2,5.8967106228776899E-2,6.7538030038822097E-2,1.46248646721223E-2,2.7202398721281301E-2,4.4380416216445E-2,6.2345346374935197E-2,6.1434231644963498E-2,3.4552729458500402E-2,2.08370098086289E-2,3.0470367173157101E-2,5.1082545102579299E-2,5.5692289397640198E-2,5.4316812951220102E-2,5.94497295545885E-2,6.5782833823513298E-2,5.1032820569323803E-2,4.4697588282383301E-2]
[null,null,"Dementia",null,-0.15175817344116599,-0.18247986628322899,-8.2864636725543506E-2,-6.9039106565151706E-2,-0.20689328881156099,-8.4624357562804703E-2,-7.8419038329509902E-3,0.113896678397716,-4.00145886876263E-2,3.8517913608661303E-2,8.9912740175554104E-2,0.13500816274894001,0.15202832805232799,0.167208810163578,0.13688632609544399,0.14030695206105301,0.146338107891446,0.14316024338132299,0.14930343901807699,0.184515819241343,0.228432401074571]
[null,null,"Diabetes",null,0.3609598421879,0.27233750276121199,0.29483027917189703,0.21097400935889399,9.8484529365939405E-2,-5.2966919259684102E-2,-8.7284380783566998E-2,-8.7374061224530106E-2,-9.4329707060712406E-2,-7.5368730119233396E-2,-5.6951987467548697E-2,-5.9126131367785301E-2,-5.15346562675996E-2,-2.1919333631608098E-2,3.8630600661379202E-2,6.6575904740145894E-2,7.6305873277578401E-2,8.91659332668161E-2,9.6880429766561402E-2,2.6655676189910701E-2,-4.4944673565964301E-2]
[null,null,"Influenza",null,0.12215801841026901,4.0543147606634897E-2,-5.9377939270911798E-2,-6.5184434133755895E-2,3.8245010107929101E-3,-1.8858623663333799E-2,-7.5201262486858003E-2,-5.7713344597232402E-2,2.2987939545981901E-2,4.7308177390415998E-2,4.3056764685322699E-2,3.0861922435696798E-3,-3.9271121695839399E-2,1.9594504143390899E-2,5.9068821767958198E-2,0.101289032560395,0.13543432033250399,0.17343068154129901,0.18929429988448401,0.18730968737642201,0.16722063734849099]
[null,null,"Respiratory",null,4.4042766369540097E-2,-6.3678076443121207E-2,-0.20746529373558401,0.11293723571433199,0.27910476789396998,6.7722937962567398E-3,-8.4724081549552493E-2,-1.37074872883185E-2,2.6878837191295302E-2,0.10798033736414001,6.3156392166096295E-2,-7.5219659617015294E-2,-3.71043760996378E-3,6.9564534576764994E-2,0.11862571406075501,0.114340482418022,0.111561531056249,0.123076929175332,0.13444371643764899,9.6450116243415498E-2,3.9569381779736498E-2]
[null,null,"Drug",null,-0.53942463846108402,-2.3477899332197998E-2,-0.13132538755784501,-0.160257990871012,0.144373378274256,0.30924597109549001,0.39129990116422397,0.37498520496232701,0.19235410068484499,7.4616855087818096E-2,8.5819950660861496E-2,0.181786708609426,0.246351455126506,0.213606416032151,8.6650250585480801E-2,2.8275078177382802E-2,2.5575588188731901E-2,-1.7489647775906701E-2,-3.58990886439048E-2,-0.14448268669384701,-0.30258351931370298]
[null,null,"External",null,-5.9930790281183602E-2,0.101492175012314,0.2355996344879,0.21624902136916299,0.21143944207705101,0.122232146741517,6.3889536342637193E-2,3.6841915450298503E-2,6.3228096667869702E-2,8.1475029311188496E-2,4.02211600470775E-2,-3.4081260081113202E-2,-6.4298527165408903E-2,-3.4818536310910697E-2,-1.1180363192977501E-2,9.9985719607263695E-3,2.5500586619262501E-2,1.80035573168629E-2,2.4060867550645099E-2,5.9978887808363301E-4,-4.65220528010028E-2]
[null,null,"Other",null,5.9621320203726798E-2,8.4714326443085505E-2,3.3523055138254598E-2,7.8641859132918907E-2,5.34043520413763E-2,1.5736640333992202E-2,3.4418331843413003E-2,0.10551961847909699,0.16585164492599,0.14024760793195901,8.8513815623005407E-2,1.62429845182544E-2,-4.9145226624265598E-2,-5.2393396719767803E-2,-1.0557765210712699E-2,1.1374163875537101E-2,2.1271305439292499E-2,3.9852393858650102E-2,5.6415385775908301E-2,5.4848016232984902E-2,5.1899566757300501E-2]
[]
[null,"beta",null,null,"age"]
[null,"sex","F",null,{"$f":"TRANSPOSE(Ages_group)","v":0},"1 - 4","5 - 9","10 - 14","15 - 19","20 - 24","25 - 29","30 - 34","35 - 39","40 - 44","45 - 49","50 - 54","55 - 59","60 - 64","65 - 69","70 - 74","75 - 79","80 - 84","85 - 89","90 - 94","95+"]
[null,"cause",{"$f":"Causes","v":"Cardiovascular"},null,6.8875528226812296E-2,2.1350224417471701E-2,3.4190050175346001E-2,5.8843109154813798E-2,4.8527848429829198E-2,3.8040108313953498E-2,1.6400955175505799E-2,8.1557203721023507E-3,1.7983150476289001E-2,2.44145072545301E-2,1.99355904846544E-2,2.5262493825054501E-2,4.4909298693491501E-2,6.5468326359457096E-2,7.6623171009501695E-2,7.8575797500061301E-2,7.7293974713835506E-2,7.8357892397357104E-2,7.5302079985473405E-2,6.5261571268893107E-2,5.6228601765566801E-2]
[null,null,"Cerebrovascular",null,-1.53662994511922E-2,5.1549948566399099E-2,-6.1578570216636999E-2,8.7658496207033507E-3,1.7674238196834099E-2,6.4238231949717506E-2,3.6296921261077898E-2,3.3190117181941897E-2,5.7848164062659198E-2,6.0776870704978697E-2,5.1112565557083302E-2,3.3699931245631101E-2,4.7985985196759E-2,6.0074915199817502E-2,7.1085005377280602E-2,7.6628816004103498E-2,7.6336608552751706E-2,8.4782055226979805E-2,8.8582362574983697E-2,8.2339596107179294E-2,7.3976687080948095E-2]
[null,null,"NeoSmok",null,-0.13844890156537501,0.367953618854655,-5.7708859522308899E-2,6.3707500992443003E-2,0.12186462535331199,4.8888542758960103E-2,-2.8739798912604999E-2,7.5438705596841293E-2,0.15487414129206001,0.13523198154198901,6.16368329717559E-2,1.6421782107491099E-2,4.6281233700054401E-2,8.3100943316986794E-2,5.8992593891296498E-2,3.5534503106871299E-2,1.6590253584708E-2,-2.53762789156835E-5,-1.12109923696787E-2,-1.7587145020346001E-2,-3.2796185400196E-2]
[null,null,"Neoplasm",null,5.36338682795637E-2,4.6672585928725002E-2,5.2807012186912999E-2,2.7676842271295899E-2,5.22656271412726E-2,6.0201303340671503E-2,5.039722529553E-2,3.9912777193601999E-2,5.1590736785954397E-2,5.0421226100538598E-2,5.2910157250771001E-2,4.8267741211394898E-2,5.1485724265154499E-2,5.2052294066258699E-2,5.4437824102365799E-2,5.0132984939852E-2,4.5038855570466399E-2,4.6643644325456098E-2,4.6483832888762601E-2,3.6590104443830603E-2,3.03776324116206E-2]
[null,null,"Dementia",null,-0.18782323476010199,-0.25345389171159499,-0.27999671059089398,-0.15828526671250401,-0.16582459859960599,-0.16636654421043001,0.107674482744505,9.7656551785868708E-3,0.112861258260001,6.1009415442084401E-2,0.123043140507967,0.188882275273658,0.16776350908398499,0.178812474238813,0.14937948267214901,0.15973618625234001,0.17400534655925101,0.17238064033080699,0.17941718952931399,0.19718244262651799,0.22983674788515199]
[null,null,"Diabetes",null,0.186523452803667,0.118381597550516,7.7757405867304896E-2,0.13213353090476099,8.2435856121031797E-2,3.8365603785518398E-2,-3.23000404343032E-3,-1.5482376978563899E-2,-2.1039615758586899E-2,-1.6628848508287102E-2,-1.53535042663927E-2,1.8772753075316599E-3,2.72441481287117E-2,5.2404472210873597E-2,8.0436965240609296E-2,6.9375885801140902E-2,6.5051750060266395E-2,5.7967417545803999E-2,4.9801894362905198E-2,3.10040079634211E-2,9.7308590119783798E-4]
[null,null,"Influenza",null,0.23210440428369999,7.5758315806583806E-2,-9.2345357652732094E-2,-4.3742136099131301E-2,4.4965886170431997E-3,-2.64933902428293E-2,-0.16557940840243801,-0.13392163545668201,-1.58129528687047E-3,-2.6260353352977699E-2,-2.31677579135438E-2,-7.8458345523057901E-2,-5.14782762633193E-2,2.2365793609352098E-2,4.5518970869134499E-2,0.11104203508131499,0.15879939665124199,0.21570166626454301,0.256636097029393,0.26285988712843,0.25774480085284601]
[null,null,"Respiratory",null,0.123279771463502,-0.58310055108832304,-1.1995132021025801,-0.25022650129984603,1.77531799310585,1.4955332047474099,1.0176393513689199,0.89143163049407403,0.17886182314058099,0.75528450419964799,-0.89879482896471996,-1.69787184873325,-0.46914868232776102,0.89019006063237505,0.67208761091100599,0.190284896775302,-2.5504229063260001E-2,-0.13854271709115801,-0.20889472826153099,-0.641354007627432,-0.87695955027879302]
[null,null,"Drug",null,-0.105389497413205,-2.2996955038327199E-2,-5.6341769605876002E-2,-2.89022543036127E-2,8.1627084959032994E-2,0.16012591912524399,0.19183401503660699,0.16411081115509299,9.4579085409865496E-2,7.1023923112785298E-2,9.8017757381601206E-2,0.144363234641225,0.14224471839840699,9.9134447388450106E-2,5.3643754736279303E-2,1.4245634352454999E-2,-3.7871721059351002E-3,-1.41035147302644E-2,-3.1006082371501199E-2,-2.4021465929757301E-2,-2.8401674198566301E-2]
[null,null,"External",null,-5.4428191664798099E-2,0.16595487261889399,0.30576799332348997,0.233399566433694,0.289535271217785,0.100364421121635,4.2254933720042999E-2,5.0008486175343599E-2,0.114694677012585,0.101940668603814,1.5679907563151799E-2,-5.6012467240628701E-2,-7.6032499831687902E-2,3.9683728781764998E-3,3.07316305323545E-2,3.9334458278747701E-2,8.47408770358077E-3,-2.1061053140816799E-2,-5.2689171345516102E-2,-9.1874037904820405E-2,-0.150011926055027]
[null,null,"Other",null,6.9663649635163194E-2,7.98060661662892E-2,6.8682760646384206E-2,8.97474301753729E-2,8.3381239492492099E-2,5.0136861543067401E-2,5.3633707803385798E-2,5.5344783858390402E-2,7.4557692865044906E-2,7.9309145374267004E-2,2.41841760789329E-2,-2.7844199442539401E-2,-4.4697175495860497E-2,-2.19829020152233E-2,-8.0681502706337095E-3,1.00630575567378E-2,2.0728188755822E-2,5.5919951854256703E-2,8.6255156726579199E-2,9.9379695138321206E-2,0.10179886355374999]
[]
[null,"drift"]
[null,null,null,null,"historical1",null,"historical2",null,"drift type",null,"Use of adjustemnt factors",null,"drift (trend parameter)"]
[null,"sex",null,null,"M","F","M","F","M","F","M","F","M","F"]
[null,"cause",{"$f":"Causes","v":"Cardiovascular"},null,-0.42789912753096798,-0.46051450226681401,-0.14299016395908501,-0.21355482716959101,{"$f":"drifts_type","v":"historical2"},"historical2",{"$f":"adjustment_use","v":"no"},"no",{"$f":"IF(K37=\"yes\",0,IF(I37=\"manual\",'Expert opinion'!O8,IF(I37=\"historical1\",E37,IF(I37=\"historical2\",G37,NA()))))","v":-0.14299016395908501},{"$f":"IF(L37=\"yes\",0,IF(J37=\"manual\",'Expert opinion'!P8,IF(J37=\"historical1\",F37,IF(J37=\"historical2\",H37,NA()))))","v":-0.21355482716959101}]
[null,null,"Cerebrovascular",null,-0.35185174311087097,-0.41527790787058499,-0.13677231392212599,-0.18803751553668099,"historical2","historical2","no","no",{"$f":"IF(K38=\"yes\",0,IF(I38=\"manual\",'Expert opinion'!O9,IF(I38=\"historical1\",E38,IF(I38=\"historical2\",G38,NA()))))","v":-0.13677231392212599},{"$f":"IF(L38=\"yes\",0,IF(J38=\"manual\",'Expert opinion'!P9,IF(J38=\"historical1\",F38,IF(J38=\"historical2\",H38,NA()))))","v":-0.18803751553668099}]
[null,null,"NeoSmok",null,-0.55464167658612595,-0.291519369255683,-0.55464167658612595,-0.291519369255683,"historical2","historical2","no","no",{"$f":"IF(K39=\"yes\",0,IF(I39=\"manual\",'Expert opinion'!O10,IF(I39=\"historical1\",E39,IF(I39=\"historical2\",G39,NA()))))","v":-0.55464167658612595},{"$f":"IF(L39=\"yes\",0,IF(J39=\"manual\",'Expert opinion'!P10,IF(J39=\"historical1\",F39,IF(J39=\"historical2\",H39,NA()))))","v":-0.291519369255683}]
[null,null,"Neoplasm",null,-0.24807253497946299,-0.246883313560572,-0.12882735571778001,-0.12729217311576099,"historical2","historical2","no","no",{"$f":"IF(K40=\"yes\",0,IF(I40=\"manual\",'Expert opinion'!O11,IF(I40=\"historical1\",E40,IF(I40=\"historical2\",G40,NA()))))","v":-0.12882735571778001},{"$f":"IF(L40=\"yes\",0,IF(J40=\"manual\",'Expert opinion'!P11,IF(J40=\"historical1\",F40,IF(J40=\"historical2\",H40,NA()))))","v":-0.12729217311576099}]
[null,null,"Dementia",null,0.24407161216343901,0.25302347884399301,9.6139443801791694E-2,8.7774292038229604E-2,"historical2","historical2","no","no",{"$f":"IF(K41=\"yes\",0,IF(I41=\"manual\",'Expert opinion'!O12,IF(I41=\"historical1\",E41,IF(I41=\"historical2\",G41,NA()))))","v":9.6139443801791694E-2},{"$f":"IF(L41=\"yes\",0,IF(J41=\"manual\",'Expert opinion'!P12,IF(J41=\"historical1\",F41,IF(J41=\"historical2\",H41,NA()))))","v":8.7774292038229604E-2}]
[null,null,"Diabetes",null,-0.103730738455228,-0.16738535867928001,-3.3145714371148598E-2,-7.80925294180531E-2,"historical2","historical2","no","no",{"$f":"IF(K42=\"yes\",0,IF(I42=\"manual\",'Expert opinion'!O13,IF(I42=\"historical1\",E42,IF(I42=\"historical2\",G42,NA()))))","v":-3.3145714371148598E-2},{"$f":"IF(L42=\"yes\",0,IF(J42=\"manual\",'Expert opinion'!P13,IF(J42=\"historical1\",F42,IF(J42=\"historical2\",H42,NA()))))","v":-7.80925294180531E-2}]
[null,null,"Influenza",null,-0.19918231270043599,-0.13353812331329701,-4.0386680960097898E-2,-2.3007339314683E-4,"historical2","historical2","no","no",{"$f":"IF(K43=\"yes\",0,IF(I43=\"manual\",'Expert opinion'!O14,IF(I43=\"historical1\",E43,IF(I43=\"historical2\",G43,NA()))))","v":-4.0386680960097898E-2},{"$f":"IF(L43=\"yes\",0,IF(J43=\"manual\",'Expert opinion'!P14,IF(J43=\"historical1\",F43,IF(J43=\"historical2\",H43,NA()))))","v":-2.3007339314683E-4}]
[null,null,"Respiratory",null,-0.118032599593973,-1.00507322902547E-2,-0.118032599593973,-1.00507322902547E-2,"historical2","historical2","no","no",{"$f":"IF(K44=\"yes\",0,IF(I44=\"manual\",'Expert opinion'!O15,IF(I44=\"historical1\",E44,IF(I44=\"historical2\",G44,NA()))))","v":-0.118032599593973},{"$f":"IF(L44=\"yes\",0,IF(J44=\"manual\",'Expert opinion'!P15,IF(J44=\"historical1\",F44,IF(J44=\"historical2\",H44,NA()))))","v":-1.00507322902547E-2}]
[null,null,"Drug",null,0.20062556683645499,0.55290581413293105,0.20062556683645499,0.55290581413293105,"historical2","historical2","no","no",{"$f":"IF(K45=\"yes\",0,IF(I45=\"manual\",'Expert opinion'!O16,IF(I45=\"historical1\",E45,IF(I45=\"historical2\",G45,NA()))))","v":0.20062556683645499},{"$f":"IF(L45=\"yes\",0,IF(J45=\"manual\",'Expert opinion'!P16,IF(J45=\"historical1\",F45,IF(J45=\"historical2\",H45,NA()))))","v":0.55290581413293105}]
[null,null,"External",null,-9.3858691143262604E-2,-9.8789748368091707E-2,4.2643773189522997E-2,5.8541209246970004E-3,"historical2","historical2","no","no",{"$f":"IF(K46=\"yes\",0,IF(I46=\"manual\",'Expert opinion'!O17,IF(I46=\"historical1\",E46,IF(I46=\"historical2\",G46,NA()))))","v":4.2643773189522997E-2},{"$f":"IF(L46=\"yes\",0,IF(J46=\"manual\",'Expert opinion'!P17,IF(J46=\"historical1\",F46,IF(J46=\"historical2\",H46,NA()))))","v":5.8541209246970004E-3}]
[null,null,"Other",null,-0.23544977249672,-0.185592368609685,-0.23544977249672,-0.18559236860963599,"historical2","historical2","no","no",{"$f":"IF(K47=\"yes\",0,IF(I47=\"manual\",'Expert opinion'!O18,IF(I47=\"historical1\",E47,IF(I47=\"historical2\",G47,NA()))))","v":-0.23544977249672},{"$f":"IF(L47=\"yes\",0,IF(J47=\"manual\",'Expert opinion'!P18,IF(J47=\"historical1\",F47,IF(J47=\"historical2\",H47,NA()))))","v":-0.18559236860963599}]

{"sheet":"Expert opinion","index":32,"n_rows":18,"n_cols":16,"rows_kept":18,"cut":false,"hidden":false,"merged":[[5,14,5,15],[5,10,5,11],[0,2,3,9],[0,10,3,16],[6,2,6,3],[5,4,5,5],[5,6,5,7],[5,8,5,9],[5,12,5,13]]}
[null,null,"Society of Actuaries - Cause of deaths forecasting tool",null,null,null,null,null,null,null,"Expert Opinion"]
[]
[]
[]
[]
[null,null,null,null,"Type of drift",null,"Target",null,"Reference age",null,"Target horizon",null,"b_x",null,"Calibrated drift"]
[null,"sex",null,null,"M","F","M","F","M","F","M","F","M","F","M","F"]
[null,"cause",{"$f":"Causes","v":"Cardiovascular"},null,{"$f":"drifts_type","v":"historical2"},"historical2",{"$f":"IF(E8=\"manual\",INDEX(drifts_target,MATCH($C8,Causes,0),MATCH(G$7,$G$7:$H$7,0)),\"\")","v":""},{"$f":"IF(F8=\"manual\",INDEX(drifts_target,MATCH($C8,Causes,0),MATCH(H$7,$G$7:$H$7,0)),\"\")","v":""},{"$f":"IF(E8=\"manual\",INDEX(drifts_age,MATCH($C8,Causes,0),MATCH(G$7,$G$7:$H$7,0)),\"\")","v":""},{"$f":"IF(F8=\"manual\",INDEX(drifts_age,MATCH($C8,Causes,0),MATCH(H$7,$G$7:$H$7,0)),\"\")","v":""},{"$f":"IF(E8=\"manual\",INDEX(drifts_horizon,MATCH($C8,Causes,0),MATCH(G$7,$G$7:$H$7,0)),\"\")","v":""},{"$f":"IF(F8=\"manual\",INDEX(drifts_horizon,MATCH($C8,Causes,0),MATCH(H$7,$G$7:$H$7,0)),\"\")","v":""},{"$f":"IF(E8=\"manual\",INDEX(beta_M,MATCH($C8,Causes,0),MATCH(I8,Ages_group,0)),\"\")","v":""},{"$f":"IF(F8=\"manual\",INDEX(beta_F,MATCH($C8,Causes,0),MATCH(J8,Ages_group,0)),\"\")","v":""},{"$f":"IF(E8=\"manual\",(LN(1+G8))/(M8*K8),\"\")","v":""},{"$f":"IF(F8=\"manual\",(LN(1+H8))/(N8*L8),\"\")","v":""}]
[null,null,"Cerebrovascular",null,"historical2","historical2","","","","","","","","","",""]
[null,null,"NeoSmok",null,"historical2","historical2","","","","","","","","","",""]
[null,null,"Neoplasm",null,"historical2","historical2","","","","","","","","","",""]
[null,null,"Dementia",null,"historical2","historical2","","","","","","","","","",""]
[null,null,"Diabetes",null,"historical2","historical2","","","","","","","","","",""]
[null,null,"Influenza",null,"historical2","historical2","","","","","","","","","",""]
[null,null,"Respiratory",null,"historical2","historical2","","","","","","","","","",""]
[null,null,"Drug",null,"historical2","historical2","","","","","","","","","",""]
[null,null,"External",null,"historical2","historical2","","","","","","","","","",""]
[null,null,"Other",null,"historical2","historical2","","","","","","","","","",""]

{"sheet":"Variables","index":33,"n_rows":36,"n_cols":12,"rows_kept":36,"cut":false,"hidden":true,"merged":[[0,2,3,9],[0,10,3,16]]}
[null,null,"Society of actuaries - Cause of deaths forecasting tool",null,null,null,null,null,null,null,"Variables"]
[]
[]
[]
[]
[null,"type of drift","years","adjustment","ages","ages group","causes of death",null,null,"gender",null,"Base population plot"]
[null,"historical1",2017,"yes",0,0,"Cardiovascular",null,null,"M",null,{"$f":"10^6","v":1000000}]
[null,"historical2",{"$f":"C7+1","v":2018},"no",1,"1 - 4","Cerebrovascular",null,null,"F"]
[null,"manual",{"$f":"C8+1","v":2019},null,5,"5 - 9","NeoSmok"]
[null,null,2020,null,10,"10 - 14","Neoplasm"]
[null,null,2021,null,15,"15 - 19","Dementia"]
[null,null,2022,null,20,"20 - 24","Diabetes"]
[null,null,2023,null,25,"25 - 29","Influenza"]
[null,null,2024,null,30,"30 - 34","Respiratory"]
[null,null,2025,null,35,"35 - 39","Drug"]
[null,null,2026,null,40,"40 - 44","External"]
[null,null,2027,null,45,"45 - 49","Other"]
[null,null,2028,null,50,"50 - 54"]
[null,null,2029,null,55,"55 - 59"]
[null,null,2030,null,60,"60 - 64"]
[null,null,2031,null,65,"65 - 69"]
[null,null,2032,null,70,"70 - 74"]
[null,null,2033,null,75,"75 - 79"]
[null,null,2034,null,80,"80 - 84"]
[null,null,2035,null,85,"85 - 89"]
[null,null,2036,null,90,"90 - 94"]
[null,null,2037,null,95,"95+"]
[null,null,2038]
[null,null,2039]
[null,null,2040]
[null,null,2041]
[null,null,2042]
[null,null,2043]
[null,null,2044]
[null,null,{"$f":"C34+1","v":2045}]
[null,null,2046]